{"text_format":"1","workbook":"xlsx","n_sheets":6,"sheets":["COVER SHEET","Incoming Remittances (Volume)","Outgoing Remittances (Volume)","Incoming Remittances (Value)","Outgoing Remittances (Value)","CSVMACRO"],"not_rendered":{"charts":0,"images":1,"macros":1,"external_links":2,"defined_names":268,"comments":0,"pivot_tables":0},"unopened":[],"bounds":{"document_bytes":16777216,"sheet_cells":100000,"rows_first":2000,"rows_last":500,"rows_between":2000,"halvings":0,"cell_chars":16384,"cell_head_chars":4096},"cells_cut":0,"cells_raw":0,"read":"whole","date_system":"1900"}

{"sheet":"COVER SHEET","index":0,"n_rows":61,"n_cols":19,"rows_kept":61,"cut":false,"hidden":false,"merged":[[30,6,30,14],[7,1,7,3],[8,1,8,3],[11,1,11,2],[13,1,13,2],[15,1,15,2],[17,1,17,2],[19,1,19,2],[21,1,21,2],[23,1,23,2],[25,1,25,2],[29,6,29,14]]}
[]
[]
[]
[]
[]
[]
[]
[null,"Remittances Survey"]
[null,"COVER SHEET"]
[]
[]
[1,"Entity ID:",null,null,null,null,null,null,null,null,null,null,null,null,null,null,"BRID",null,"Finanacial Institutions List"]
[null,null,null,{"$f":"IF((D12=\"\"),\"Insert Unit ID\",\"\")","v":"Insert Unit ID"},null,null,null,null,null,null,null,null,null,null,null,null,33510,null,"Fexserv Financial Services Ltd"]
[2,"Name of Licence Holder:",null,{"$f":"IF(ISERROR(VLOOKUP($D$12,Q13:S62,3,0))=TRUE,\"\",VLOOKUP($D$12,Q13:S62,3,0))","v":""},null,null,null,null,null,null,null,null,null,null,null,null,33407,null,"Western Union Business Solutions (Malta)"]
[null,null,null,{"$f":"IF((D14=\"\"),\"Insert Unit ID\",\"\")","v":"Insert Unit ID"},null,null,null,null,null,null,null,null,null,null,null,null,33547,null,"W&J Coppini & Co."]
[3,"Year:",null,2024,null,null,null,null,null,null,null,null,null,null,null,null,134819,null,"AWS (Malta) Ltd"]
[null,null,null,{"$f":"IF((D16=\"\"),\"Select Year\",\"\")","v":""},null,null,"Frequency + Period","Period Covered","Period Ending","Frequency + Period List","Period Covered List","Period Ending List",null,null,null,null,553300,null,"Valerio DeMinico"]
[4,"Frequency:",null,"H",null,null,{"$f":"D18&D20","v":"H2"},{"$f":"IF(ISERROR(VLOOKUP(G18,J18:K24,2,0))=TRUE,\"Incorrect period selection!\",VLOOKUP(G18,J18:K24,2,0))","v":"1st July -31st December"},{"$f":"IF(ISERROR(VLOOKUP(G18,J18:L24,3,0))=TRUE,\"\",VLOOKUP(G18,J18:L24,3,0))","v":"31st December"},"A1","1st Jan - 31st December","31st December",null,null,null,null,175884,null,"Daily Payments"]
[null,null,null,{"$f":"IF((D18=\"\"),\"Select Frequency\",\"\")","v":""},null,null,null,null,null,"H1","1st January - 30th June","30th June",null,null,null,null,172825,null,"AYN Ltd "]
[5,"Period:",null,2,null,null,{"$f":"IF(D20=\"\",0,VLOOKUP(D20,G21:H24,2,FALSE))","v":"02"},"Period",null,"H2","1st July -31st December","31st December"]
[null,null,null,{"$f":"IF((D20=\"\"),\"Select Period\",\"\")","v":""},null,null,1,"01",null,"Q1","1st January - 31st March","31st March"]
[6,"For the months:",null,{"$f":"H18","v":"1st July -31st December"},null,null,2,"02",null,"Q2","1st April - 30th June","30th June"]
[null,null,null,{"$f":"IF((D22=\"Incorrect period selection!\"),\"Select Frequency & Period\",\"\")","v":""},null,null,3,"03",null,"Q3","1st July - 30th September","30th September"]
[7,"Compiled by :",null,null,null,null,4,"04",null,"Q4","1st October - 31st December","31st December"]
[null,null,null,{"$f":"IF((D24=\"\"),\"Please detail name & surname of compiler\",\"\")","v":"Please detail name & surname of compiler"},null,null,null,null,null,"Frequency","Number of months covered"]
[8,"Contact No.:",null,null,null,null,null,null,null,"A",12]
[null,null,null,{"$f":"IF((D26=\"\"),\"Please input contact details\",\"\")","v":"Please input contact details"},null,null,null,null,null,"H",6]
[null,null,null,null,null,null,null,null,null,"Q",3]
[]
[null,"List of selectable Frequencies",null,"List of selecatble Years","List of selectable Periods",null,"Version 2/2012 - 10/04/2012\n-' InsAgBrok_Liabilities' P32:P33 unlocked cell and allow negative values\n- changed 'IFERROR' to 'ISERROR' due to incompatibity with MSOffice 97-2003\n- changed country lists in BOP returns (including CSV)"]
[null,null,null,null,null,null,"Version 1/2015 - 20/11/2015\n-'COVER SHEET' E32 changed month from text to number (\"1\" to 1)"]
[null,"A",null,2012,{"$f":"IF(D$18=\"A\",1,IF(D$18=\"H\",1,IF(D$18=\"Q\",1,\"\")))","v":1}]
[null,"H",null,2013,{"$f":"IF(D$18=\"A\",\"\",IF(D$18=\"H\",2,IF(D$18=\"Q\",2,\"\")))","v":2}]
[null,"Q",null,2014,{"$f":"IF(D$18=\"A\",\"\",IF(D$18=\"H\",\"\",IF(D$18=\"Q\",3,\"\")))","v":""}]
[null,null,null,2015,{"$f":"IF(D$18=\"A\",\"\",IF(D$18=\"H\",\"\",IF(D$18=\"Q\",4,\"\")))","v":""}]
[null,null,null,2016]
[null,null,null,2017]
[null,null,null,2018]
[null,null,null,2019]
[null,null,null,2020]
[null,null,null,2021]
[null,null,null,2022]
[null,null,null,2023]
[null,null,null,2024]
[null,null,null,2025]
[null,null,null,2026]
[null,null,null,2027]
[null,null,null,2028]
[null,null,null,2029]
[null,null,null,2030]
[null,null,null,2031]
[null,null,null,2032]
[]
[null,null,null,null,null,null,null,"Leap Days 2016 – 2032"]
[null,null,null,null,null,null,null,"Year","February 29 – Day of the Week"]
[]
[null,null,null,null,null,null,null,2016,"Monday"]
[null,null,null,null,null,null,null,2020,"Saturday"]
[null,null,null,null,null,null,null,2024,"Thursday"]
[null,null,null,null,null,null,null,2028,"Tuesday"]
[null,null,null,null,null,null,null,2032,"Sunday"]

{"sheet":"Incoming Remittances (Volume)","index":1,"n_rows":246,"n_cols":9,"rows_kept":246,"cut":false,"hidden":false,"merged":[[5,3,5,8],[1,2,1,8]]}
[]
[null,null,"Remittances Data - Incoming Volume of Transactions "]
[]
[null,null,null,{"$f":"IF('COVER SHEET'!$D20=1,\"January\",IF('COVER SHEET'!$D20=2,\"July\",\"\"))","v":"July"},{"$f":"IF('COVER SHEET'!$D20=1,\"February\",IF('COVER SHEET'!$D20=2,\"August\",\"\"))","v":"August"},{"$f":"IF('COVER SHEET'!$D20=1,\"March\",IF('COVER SHEET'!$D20=2,\"September\",\"\"))","v":"September"},{"$f":"IF('COVER SHEET'!$D20=1,\"April\",IF('COVER SHEET'!$D20=2,\"October\",\"\"))","v":"October"},{"$f":"IF('COVER SHEET'!$D20=1,\"May\",IF('COVER SHEET'!$D20=2,\"November\",\"\"))","v":"November"},{"$f":"IF('COVER SHEET'!$D20=1,\"June\",IF('COVER SHEET'!$D20=2,\"December\",\"\"))","v":"December"}]
[null,null,null,{"$f":"'COVER SHEET'!D16&IF('COVER SHEET'!$D20=1,\"0131\",IF('COVER SHEET'!$D20=2,\"0731\",\"\"))","v":"20240731"},{"$f":"'COVER SHEET'!D16&IF('COVER SHEET'!$D20=2,\"0831\",IF(OR('COVER SHEET'!D16=2016,'COVER SHEET'!D16=2020,'COVER SHEET'!D16=2024,'COVER SHEET'!D16=2028,'COVER SHEET'!D16=2032),IF('COVER SHEET'!$D20=1,\"0229\"),\"0228\"))","v":"20240831"},{"$f":"'COVER SHEET'!D16&IF('COVER SHEET'!$D20=1,\"0331\",IF('COVER SHEET'!$D20=2,\"0930\",\"\"))","v":"20240930"},{"$f":"'COVER SHEET'!D16&IF('COVER SHEET'!$D20=1,\"0430\",IF('COVER SHEET'!$D20=2,\"1031\",\"\"))","v":"20241031"},{"$f":"'COVER SHEET'!D16&IF('COVER SHEET'!$D20=1,\"0531\",IF('COVER SHEET'!$D20=2,\"1130\",\"\"))","v":"20241130"},{"$f":"'COVER SHEET'!D16&IF('COVER SHEET'!$D20=1,\"0630\",IF('COVER SHEET'!$D20=2,\"1231\",\"\"))","v":"20241231"}]
[null,null,null,"Please input data below "]
[]
[]
["AF","AF","Afghanistan"]
["AL","AL","Albania"]
["DZ","DZ","Algeria"]
["AS","AS","American Samoa"]
["AD","AD","Andorra"]
["AO","AO","Angola"]
["AI","AI","Anguilla"]
["AQ","AQ","Antarctica"]
["AG","AG","Antigua and Barbuda"]
["AR","AR","Argentina"]
["AM","AM","Armenia"]
["AW","AW","Aruba"]
["AU","AU","Australia"]
["AT","AT","Austria"]
["AZ","AZ","Azerbaijan"]
["BS","BS","Bahamas"]
["BH","BH","Bahrain"]
["BD","BD","Bangladesh"]
["BB","BB","Barbados"]
["BY","BY","Belarus"]
["BE","BE","Belgium"]
["BZ","BZ","Belize"]
["BJ","BJ","Benin"]
["BM","BM","Bermuda"]
["BQ","BQ","Bes islands"]
["BT","BT","Bhutan"]
["BO","BO","Bolivia"]
["BA","BA","Bosnia and Herzegovina"]
["BW","BW","Botswana"]
["BV","BV","Bouvet Island"]
["BR","BR","Brazil"]
["IO","IO","British indian ocean territory"]
["VG","VG","British Virgin islands"]
["BN","BN","Brunei"]
["BG","BG","Bulgaria"]
["BF","BF","Burkina Faso"]
["BI","BI","Burundi"]
["KH","KH","Cambodia"]
["CM","CM","Cameroon"]
["CA","CA","Canada"]
["CV","CV","Cape Verde"]
["KY","KY","Cayman islands"]
["CF","CF","Central African Republic"]
["TD","TD","Chad"]
["CL","CL","Chile"]
["CN","CN","China"]
["CX","CX","Christmas island"]
["CC","CC","Cocos (keeling) islands"]
["CO","CO","Colombia"]
["KM","KM","Comoros"]
["CG","CG","Congo"]
["CD","CD","Congo, the Democratic Republic of the"]
["CK","CK","Cook islands"]
["CR","CR","Costa Rica"]
["HR","HR","Croatia"]
["CU","CU","Cuba"]
["CW","CW","Curacao"]
["CY","CY","Cyprus"]
["CZ","CZ","Czech Republic"]
["DK","DK","Denmark"]
["DJ","DJ","Djibouti"]
["DM","DM","Dominica"]
["DO","DO","Dominican Republic"]
["TL","TL","East Timor"]
["EC","EC","Ecuador"]
["EG","EG","Egypt"]
["SV","SV","El Salvador"]
["GQ","GQ","Equatorial Guinea"]
["ER","ER","Eritrea"]
["EE","EE","Estonia"]
["ET","ET","Ethiopia"]
["FK","FK","Falkland islands (islas malvinas)"]
["FO","FO","Faroe islands"]
["FJ","FJ","Fiji"]
["FI","FI","Finland"]
["FR","FR","France"]
["PF","PF","French Polynesia"]
["TF","TF","French southern and antarctic lands"]
["GA","GA","Gabon"]
["GM","GM","Gambia"]
["GE","GE","Georgia"]
["DE","DE","Germany"]
["GH","GH","Ghana"]
["GI","GI","Gibraltar"]
["GR","GR","Greece"]
["GL","GL","Greenland"]
["GD","GD","Grenada"]
["GU","GU","Guam"]
["GT","GT","Guatemala"]
["GG","GG","Guernsey"]
["GN","GN","Guinea"]
["GW","GW","Guinea-Bissau"]
["GY","GY","Guyana"]
["HT","HT","Haiti"]
["HM","HM","Heard island and mcdonald islands"]
["VA","VA","Holy See (Vatican City)"]
["HN","HN","Honduras"]
["HK","HK","Hong Kong"]
["HU","HU","Hungary"]
["IS","IS","Iceland"]
["IN","IN","India"]
["ID","ID","Indonesia"]
["IR","IR","Iran"]
["IQ","IQ","Iraq"]
["IE","IE","Ireland"]
["IM","IM","Isle of Man"]
["IL","IL","Israel "]
["IT","IT","Italy"]
["CI","CI","Ivory coast (côte divoire)"]
["JM","JM","Jamaica"]
["JP","JP","Japan"]
["JE","JE","Jersey"]
["JO","JO","Jordan"]
["KZ","KZ","Kazakhstan"]
["KE","KE","Kenya"]
["KI","KI","Kiribati"]
["KP","KP","Korea, North"]
["KR","KR","Korea, south"]
["XK","XK","Kosovo"]
["KW","KW","Kuwait"]
["KG","KG","Kyrgyzstan"]
["LA","LA","Laos"]
["LV","LV","Latvia"]
["LB","LB","Lebanon"]
["LS","LS","Lesotho"]
["LR","LR","Liberia"]
["LY","LY","Libya"]
["LI","LI","Liechtenstein"]
["LT","LT","Lithuania"]
["LU","LU","Luxembourg"]
["MO","MO","Macau"]
["MK","MK","Macedonia"]
["MG","MG","Madagascar"]
["MW","MW","Malawi"]
["MY","MY","Malaysia"]
["MV","MV","Maldives"]
["ML","ML","Mali"]
["MH","MH","Marshall Islands"]
["MR","MR","Mauritania"]
["MU","MU","Mauritius"]
["MX","MX","Mexico"]
["FM","FM","Micronesia, Federated States of"]
["MD","MD","Moldova"]
["MN","MN","Mongolia"]
["ME","ME","Montenegro"]
["MS","MS","Montserrat"]
["MA","MA","Morocco"]
["MZ","MZ","Mozambique"]
["MM","MM","Myanmar"]
["NA","NA","Namibia"]
["NR","NR","Nauru"]
["NP","NP","Nepal"]
["NL","NL","Netherlands"]
["NC","NC","New Caledonia"]
["NZ","NZ","New Zealand"]
["NI","NI","Nicaragua"]
["NE","NE","Niger"]
["NG","NG","Nigeria"]
["NU","NU","Niue"]
["NF","NF","Norfolk island"]
["MP","MP","Northern Mariana Islands"]
["NO","NO","Norway"]
["OM","OM","Oman"]
["PK","PK","Pakistan"]
["PW","PW","Palau"]
["PS","PS","Palestine "]
["PA","PA","Panama"]
["PG","PG","Papua New Guinea"]
["PY","PY","Paraguay"]
["PE","PE","Peru"]
["PH","PH","Philippines"]
["PN","PN","Pitcairn Islands"]
["PL","PL","Poland"]
["PT","PT","Portugal"]
["QA","QA","Qatar"]
["RO","RO","Romania"]
["RU","RU","Russia"]
["RW","RW","Rwanda"]
["SH","SH","Saint Helena"]
["KN","KN","Saint Kitts and Nevis"]
["LC","LC","Saint Lucia"]
["VC","VC","Saint Vincent and the Grenadines"]
["WS","WS","Samoa"]
["SM","SM","San Marino"]
["ST","ST","Sao Tome and Principe"]
["SA","SA","Saudi Arabia"]
["SN","SN","Senegal"]
["RS","RS","Serbia"]
["SC","SC","Seychelles"]
["SL","SL","Sierra Leone"]
["SG","SG","Singapore"]
["SX","SX","Sint Maarten"]
["SK","SK","Slovakia"]
["SI","SI","Slovenia"]
["SB","SB","Solomon Islands"]
["SO","SO","Somalia"]
["ZA","ZA","South Africa"]
["GS","GS","South Georgia & the South Sandwich islands"]
["SS","SS","South Sudan "]
["ES","ES","Spain"]
["LK","LK","Sri Lanka"]
["SD","SD","Sudan"]
["SR","SR","Suriname"]
["SZ","SZ","Swaziland"]
["SE","SE","Sweden"]
["CH","CH","Switzerland"]
["SY","SY","Syria"]
["TW","TW","Taiwan"]
["TJ","TJ","Tajikistan"]
["TZ","TZ","Tanzania"]
["TH","TH","Thailand"]
["TG","TG","Togo"]
["TK","TK","Tokelau"]
["TO","TO","Tonga"]
["TT","TT","Trinidad and Tobago"]
["TN","TN","Tunisia"]
["TR","TR","Turkey"]
["TM","TM","Turkmenistan"]
["TC","TC","Turks and Caicos islands"]
["TV","TV","Tuvalu"]
["UG","UG","Uganda"]
["UA","UA","Ukraine"]
["AE","AE","United Arab Emirates"]
["GB","GB","United Kingdom"]
["US","US","United states"]
["UY","UY","Uruguay"]
["UM","UM","US minor outling islands"]
["UZ","UZ","Uzbekistan"]
["VU","VU","Vanuatu"]
["VE","VE","Venezuela"]
["VN","VN","Vietnam"]
["VI","VI","Virgin islands (US)"]
["WF","WF","Wallis and futuna"]
["YE","YE","Yemen"]
["ZM","ZM","Zambia"]
["ZW","ZW","Zimbabwe"]
[]
[null,null,"Total",{"$f":"SUM(D9:D244)","v":0},{"$f":"SUM(E9:E244)","v":0},0,0,0,0]

{"sheet":"Outgoing Remittances (Volume)","index":2,"n_rows":246,"n_cols":8,"rows_kept":246,"cut":false,"hidden":false,"merged":[[1,1,1,7],[5,2,5,7]]}
[]
[null,"Remittances Data - Outgoing Volume of Transactions "]
[]
[null,null,{"$f":"IF('COVER SHEET'!$D20=1,\"January\",IF('COVER SHEET'!$D20=2,\"July\",\"\"))","v":"July"},{"$f":"IF('COVER SHEET'!$D20=1,\"February\",IF('COVER SHEET'!$D20=2,\"August\",\"\"))","v":"August"},{"$f":"IF('COVER SHEET'!$D20=1,\"March\",IF('COVER SHEET'!$D20=2,\"September\",\"\"))","v":"September"},{"$f":"IF('COVER SHEET'!$D20=1,\"April\",IF('COVER SHEET'!$D20=2,\"October\",\"\"))","v":"October"},{"$f":"IF('COVER SHEET'!$D20=1,\"May\",IF('COVER SHEET'!$D20=2,\"November\",\"\"))","v":"November"},{"$f":"IF('COVER SHEET'!$D20=1,\"June\",IF('COVER SHEET'!$D20=2,\"December\",\"\"))","v":"December"}]
[null,null,{"$f":"'COVER SHEET'!D16&IF('COVER SHEET'!$D20=1,\"0131\",IF('COVER SHEET'!$D20=2,\"0731\",\"\"))","v":"20240731"},{"$f":"'COVER SHEET'!D16&IF('COVER SHEET'!$D20=2,\"0831\",IF(OR('COVER SHEET'!D16=2016,'COVER SHEET'!D16=2020,'COVER SHEET'!D16=2024,'COVER SHEET'!D16=2028,'COVER SHEET'!D16=2032),IF('COVER SHEET'!$D20=1,\"0229\"),\"0228\"))","v":"20240831"},{"$f":"'COVER SHEET'!D16&IF('COVER SHEET'!$D20=1,\"0331\",IF('COVER SHEET'!$D20=2,\"0930\",\"\"))","v":"20240930"},{"$f":"'COVER SHEET'!D16&IF('COVER SHEET'!$D20=1,\"0430\",IF('COVER SHEET'!$D20=2,\"1031\",\"\"))","v":"20241031"},{"$f":"'COVER SHEET'!D16&IF('COVER SHEET'!$D20=1,\"0531\",IF('COVER SHEET'!$D20=2,\"1130\",\"\"))","v":"20241130"},{"$f":"'COVER SHEET'!D16&IF('COVER SHEET'!$D20=1,\"0630\",IF('COVER SHEET'!$D20=2,\"1231\",\"\"))","v":"20241231"}]
[null,null,"Please input data below "]
[]
[]
["AF","Afghanistan"]
["AL","Albania"]
["DZ","Algeria"]
["AS","American Samoa"]
["AD","Andorra"]
["AO","Angola"]
["AI","Anguilla"]
["AQ","Antarctica"]
["AG","Antigua and Barbuda"]
["AR","Argentina"]
["AM","Armenia"]
["AW","Aruba"]
["AU","Australia"]
["AT","Austria"]
["AZ","Azerbaijan"]
["BS","Bahamas"]
["BH","Bahrain"]
["BD","Bangladesh"]
["BB","Barbados"]
["BY","Belarus"]
["BE","Belgium"]
["BZ","Belize"]
["BJ","Benin"]
["BM","Bermuda"]
["BQ","Bes islands"]
["BT","Bhutan"]
["BO","Bolivia"]
["BA","Bosnia and Herzegovina"]
["BW","Botswana"]
["BV","Bouvet Island"]
["BR","Brazil"]
["IO","British indian ocean territory"]
["VG","British Virgin islands"]
["BN","Brunei"]
["BG","Bulgaria"]
["BF","Burkina Faso"]
["BI","Burundi"]
["KH","Cambodia"]
["CM","Cameroon"]
["CA","Canada"]
["CV","Cape Verde"]
["KY","Cayman islands"]
["CF","Central African Republic"]
["TD","Chad"]
["CL","Chile"]
["CN","China"]
["CX","Christmas island"]
["CC","Cocos (keeling) islands"]
["CO","Colombia"]
["KM","Comoros"]
["CG","Congo"]
["CD","Congo, the Democratic Republic of the"]
["CK","Cook islands"]
["CR","Costa Rica"]
["HR","Croatia"]
["CU","Cuba"]
["CW","Curacao"]
["CY","Cyprus"]
["CZ","Czech Republic"]
["DK","Denmark"]
["DJ","Djibouti"]
["DM","Dominica"]
["DO","Dominican Republic"]
["TL","East Timor"]
["EC","Ecuador"]
["EG","Egypt"]
["SV","El Salvador"]
["GQ","Equatorial Guinea"]
["ER","Eritrea"]
["EE","Estonia"]
["ET","Ethiopia"]
["FK","Falkland islands (islas malvinas)"]
["FO","Faroe islands"]
["FJ","Fiji"]
["FI","Finland"]
["FR","France"]
["PF","French Polynesia"]
["TF","French southern and antarctic lands"]
["GA","Gabon"]
["GM","Gambia"]
["GE","Georgia"]
["DE","Germany"]
["GH","Ghana"]
["GI","Gibraltar"]
["GR","Greece"]
["GL","Greenland"]
["GD","Grenada"]
["GU","Guam"]
["GT","Guatemala"]
["GG","Guernsey"]
["GN","Guinea"]
["GW","Guinea-Bissau"]
["GY","Guyana"]
["HT","Haiti"]
["HM","Heard island and mcdonald islands"]
["VA","Holy See (Vatican City)"]
["HN","Honduras"]
["HK","Hong Kong"]
["HU","Hungary"]
["IS","Iceland"]
["IN","India"]
["ID","Indonesia"]
["IR","Iran"]
["IQ","Iraq"]
["IE","Ireland"]
["IM","Isle of Man"]
["IL","Israel "]
["IT","Italy"]
["CI","Ivory coast (côte divoire)"]
["JM","Jamaica"]
["JP","Japan"]
["JE","Jersey"]
["JO","Jordan"]
["KZ","Kazakhstan"]
["KE","Kenya"]
["KI","Kiribati"]
["KP","Korea, North"]
["KR","Korea, south"]
["XK","Kosovo"]
["KW","Kuwait"]
["KG","Kyrgyzstan"]
["LA","Laos"]
["LV","Latvia"]
["LB","Lebanon"]
["LS","Lesotho"]
["LR","Liberia"]
["LY","Libya"]
["LI","Liechtenstein"]
["LT","Lithuania"]
["LU","Luxembourg"]
["MO","Macau"]
["MK","Macedonia"]
["MG","Madagascar"]
["MW","Malawi"]
["MY","Malaysia"]
["MV","Maldives"]
["ML","Mali"]
["MH","Marshall Islands"]
["MR","Mauritania"]
["MU","Mauritius"]
["MX","Mexico"]
["FM","Micronesia, Federated States of"]
["MD","Moldova"]
["MN","Mongolia"]
["ME","Montenegro"]
["MS","Montserrat"]
["MA","Morocco"]
["MZ","Mozambique"]
["MM","Myanmar"]
["NA","Namibia"]
["NR","Nauru"]
["NP","Nepal"]
["NL","Netherlands"]
["NC","New Caledonia"]
["NZ","New Zealand"]
["NI","Nicaragua"]
["NE","Niger"]
["NG","Nigeria"]
["NU","Niue"]
["NF","Norfolk island"]
["MP","Northern Mariana Islands"]
["NO","Norway"]
["OM","Oman"]
["PK","Pakistan"]
["PW","Palau"]
["PS","Palestine "]
["PA","Panama"]
["PG","Papua New Guinea"]
["PY","Paraguay"]
["PE","Peru"]
["PH","Philippines"]
["PN","Pitcairn Islands"]
["PL","Poland"]
["PT","Portugal"]
["QA","Qatar"]
["RO","Romania"]
["RU","Russia"]
["RW","Rwanda"]
["SH","Saint Helena"]
["KN","Saint Kitts and Nevis"]
["LC","Saint Lucia"]
["VC","Saint Vincent and the Grenadines"]
["WS","Samoa"]
["SM","San Marino"]
["ST","Sao Tome and Principe"]
["SA","Saudi Arabia"]
["SN","Senegal"]
["RS","Serbia"]
["SC","Seychelles"]
["SL","Sierra Leone"]
["SG","Singapore"]
["SX","Sint Maarten"]
["SK","Slovakia"]
["SI","Slovenia"]
["SB","Solomon Islands"]
["SO","Somalia"]
["ZA","South Africa"]
["GS","South Georgia & the South Sandwich islands"]
["SS","South Sudan "]
["ES","Spain"]
["LK","Sri Lanka"]
["SD","Sudan"]
["SR","Suriname"]
["SZ","Swaziland"]
["SE","Sweden"]
["CH","Switzerland"]
["SY","Syria"]
["TW","Taiwan"]
["TJ","Tajikistan"]
["TZ","Tanzania"]
["TH","Thailand"]
["TG","Togo"]
["TK","Tokelau"]
["TO","Tonga"]
["TT","Trinidad and Tobago"]
["TN","Tunisia"]
["TR","Turkey"]
["TM","Turkmenistan"]
["TC","Turks and Caicos islands"]
["TV","Tuvalu"]
["UG","Uganda"]
["UA","Ukraine"]
["AE","United Arab Emirates"]
["GB","United Kingdom"]
["US","United states"]
["UY","Uruguay"]
["UM","US minor outling islands"]
["UZ","Uzbekistan"]
["VU","Vanuatu"]
["VE","Venezuela"]
["VN","Vietnam"]
["VI","Virgin islands (US)"]
["WF","Wallis and futuna"]
["YE","Yemen"]
["ZM","Zambia"]
["ZW","Zimbabwe"]
[]
[null,"Total",{"$f":"SUM(C9:C244)","v":0},0,0,0,0,0]

{"sheet":"Incoming Remittances (Value)","index":3,"n_rows":246,"n_cols":8,"rows_kept":246,"cut":false,"hidden":false,"merged":[[1,1,1,7],[5,2,5,7]]}
[]
[null,"Remittances Data - Incoming Value of Transactions "]
[]
[null,null,{"$f":"IF('COVER SHEET'!$D20=1,\"January\",IF('COVER SHEET'!$D20=2,\"July\",\"\"))","v":"July"},{"$f":"IF('COVER SHEET'!$D20=1,\"February\",IF('COVER SHEET'!$D20=2,\"August\",\"\"))","v":"August"},{"$f":"IF('COVER SHEET'!$D20=1,\"March\",IF('COVER SHEET'!$D20=2,\"September\",\"\"))","v":"September"},{"$f":"IF('COVER SHEET'!$D20=1,\"April\",IF('COVER SHEET'!$D20=2,\"October\",\"\"))","v":"October"},{"$f":"IF('COVER SHEET'!$D20=1,\"May\",IF('COVER SHEET'!$D20=2,\"November\",\"\"))","v":"November"},{"$f":"IF('COVER SHEET'!$D20=1,\"June\",IF('COVER SHEET'!$D20=2,\"December\",\"\"))","v":"December"}]
[null,null,{"$f":"'COVER SHEET'!D16&IF('COVER SHEET'!$D20=1,\"0131\",IF('COVER SHEET'!$D20=2,\"0731\",\"\"))","v":"20240731"},{"$f":"'COVER SHEET'!D16&IF('COVER SHEET'!$D20=2,\"0831\",IF(OR('COVER SHEET'!D16=2016,'COVER SHEET'!D16=2020,'COVER SHEET'!D16=2024,'COVER SHEET'!D16=2028,'COVER SHEET'!D16=2032),IF('COVER SHEET'!$D20=1,\"0229\"),\"0228\"))","v":"20240831"},{"$f":"'COVER SHEET'!D16&IF('COVER SHEET'!$D20=1,\"0331\",IF('COVER SHEET'!$D20=2,\"0930\",\"\"))","v":"20240930"},{"$f":"'COVER SHEET'!D16&IF('COVER SHEET'!$D20=1,\"0430\",IF('COVER SHEET'!$D20=2,\"1031\",\"\"))","v":"20241031"},{"$f":"'COVER SHEET'!D16&IF('COVER SHEET'!$D20=1,\"0531\",IF('COVER SHEET'!$D20=2,\"1130\",\"\"))","v":"20241130"},{"$f":"'COVER SHEET'!D16&IF('COVER SHEET'!$D20=1,\"0630\",IF('COVER SHEET'!$D20=2,\"1231\",\"\"))","v":"20241231"}]
[null,null,"Please input data below "]
[]
[]
["AF","Afghanistan"]
["AL","Albania"]
["DZ","Algeria"]
["AS","American Samoa"]
["AD","Andorra"]
["AO","Angola"]
["AI","Anguilla"]
["AQ","Antarctica"]
["AG","Antigua and Barbuda"]
["AR","Argentina"]
["AM","Armenia"]
["AW","Aruba"]
["AU","Australia"]
["AT","Austria"]
["AZ","Azerbaijan"]
["BS","Bahamas"]
["BH","Bahrain"]
["BD","Bangladesh"]
["BB","Barbados"]
["BY","Belarus"]
["BE","Belgium"]
["BZ","Belize"]
["BJ","Benin"]
["BM","Bermuda"]
["BQ","Bes islands"]
["BT","Bhutan"]
["BO","Bolivia"]
["BA","Bosnia and Herzegovina"]
["BW","Botswana"]
["BV","Bouvet Island"]
["BR","Brazil"]
["IO","British indian ocean territory"]
["VG","British Virgin islands"]
["BN","Brunei"]
["BG","Bulgaria"]
["BF","Burkina Faso"]
["BI","Burundi"]
["KH","Cambodia"]
["CM","Cameroon"]
["CA","Canada"]
["CV","Cape Verde"]
["KY","Cayman islands"]
["CF","Central African Republic"]
["TD","Chad"]
["CL","Chile"]
["CN","China"]
["CX","Christmas island"]
["CC","Cocos (keeling) islands"]
["CO","Colombia"]
["KM","Comoros"]
["CG","Congo"]
["CD","Congo, the Democratic Republic of the"]
["CK","Cook islands"]
["CR","Costa Rica"]
["HR","Croatia"]
["CU","Cuba"]
["CW","Curacao"]
["CY","Cyprus"]
["CZ","Czech Republic"]
["DK","Denmark"]
["DJ","Djibouti"]
["DM","Dominica"]
["DO","Dominican Republic"]
["TL","East Timor"]
["EC","Ecuador"]
["EG","Egypt"]
["SV","El Salvador"]
["GQ","Equatorial Guinea"]
["ER","Eritrea"]
["EE","Estonia"]
["ET","Ethiopia"]
["FK","Falkland islands (islas malvinas)"]
["FO","Faroe islands"]
["FJ","Fiji"]
["FI","Finland"]
["FR","France"]
["PF","French Polynesia"]
["TF","French southern and antarctic lands"]
["GA","Gabon"]
["GM","Gambia"]
["GE","Georgia"]
["DE","Germany"]
["GH","Ghana"]
["GI","Gibraltar"]
["GR","Greece"]
["GL","Greenland"]
["GD","Grenada"]
["GU","Guam"]
["GT","Guatemala"]
["GG","Guernsey"]
["GN","Guinea"]
["GW","Guinea-Bissau"]
["GY","Guyana"]
["HT","Haiti"]
["HM","Heard island and mcdonald islands"]
["VA","Holy See (Vatican City)"]
["HN","Honduras"]
["HK","Hong Kong"]
["HU","Hungary"]
["IS","Iceland"]
["IN","India"]
["ID","Indonesia"]
["IR","Iran"]
["IQ","Iraq"]
["IE","Ireland"]
["IM","Isle of Man"]
["IL","Israel "]
["IT","Italy"]
["CI","Ivory coast (côte divoire)"]
["JM","Jamaica"]
["JP","Japan"]
["JE","Jersey"]
["JO","Jordan"]
["KZ","Kazakhstan"]
["KE","Kenya"]
["KI","Kiribati"]
["KP","Korea, North"]
["KR","Korea, south"]
["XK","Kosovo"]
["KW","Kuwait"]
["KG","Kyrgyzstan"]
["LA","Laos"]
["LV","Latvia"]
["LB","Lebanon"]
["LS","Lesotho"]
["LR","Liberia"]
["LY","Libya"]
["LI","Liechtenstein"]
["LT","Lithuania"]
["LU","Luxembourg"]
["MO","Macau"]
["MK","Macedonia"]
["MG","Madagascar"]
["MW","Malawi"]
["MY","Malaysia"]
["MV","Maldives"]
["ML","Mali"]
["MH","Marshall Islands"]
["MR","Mauritania"]
["MU","Mauritius"]
["MX","Mexico"]
["FM","Micronesia, Federated States of"]
["MD","Moldova"]
["MN","Mongolia"]
["ME","Montenegro"]
["MS","Montserrat"]
["MA","Morocco"]
["MZ","Mozambique"]
["MM","Myanmar"]
["NA","Namibia"]
["NR","Nauru"]
["NP","Nepal"]
["NL","Netherlands"]
["NC","New Caledonia"]
["NZ","New Zealand"]
["NI","Nicaragua"]
["NE","Niger"]
["NG","Nigeria"]
["NU","Niue"]
["NF","Norfolk island"]
["MP","Northern Mariana Islands"]
["NO","Norway"]
["OM","Oman"]
["PK","Pakistan"]
["PW","Palau"]
["PS","Palestine "]
["PA","Panama"]
["PG","Papua New Guinea"]
["PY","Paraguay"]
["PE","Peru"]
["PH","Philippines"]
["PN","Pitcairn Islands"]
["PL","Poland"]
["PT","Portugal"]
["QA","Qatar"]
["RO","Romania"]
["RU","Russia"]
["RW","Rwanda"]
["SH","Saint Helena"]
["KN","Saint Kitts and Nevis"]
["LC","Saint Lucia"]
["VC","Saint Vincent and the Grenadines"]
["WS","Samoa"]
["SM","San Marino"]
["ST","Sao Tome and Principe"]
["SA","Saudi Arabia"]
["SN","Senegal"]
["RS","Serbia"]
["SC","Seychelles"]
["SL","Sierra Leone"]
["SG","Singapore"]
["SX","Sint Maarten"]
["SK","Slovakia"]
["SI","Slovenia"]
["SB","Solomon Islands"]
["SO","Somalia"]
["ZA","South Africa"]
["GS","South Georgia & the South Sandwich islands"]
["SS","South Sudan "]
["ES","Spain"]
["LK","Sri Lanka"]
["SD","Sudan"]
["SR","Suriname"]
["SZ","Swaziland"]
["SE","Sweden"]
["CH","Switzerland"]
["SY","Syria"]
["TW","Taiwan"]
["TJ","Tajikistan"]
["TZ","Tanzania"]
["TH","Thailand"]
["TG","Togo"]
["TK","Tokelau"]
["TO","Tonga"]
["TT","Trinidad and Tobago"]
["TN","Tunisia"]
["TR","Turkey"]
["TM","Turkmenistan"]
["TC","Turks and Caicos islands"]
["TV","Tuvalu"]
["UG","Uganda"]
["UA","Ukraine"]
["AE","United Arab Emirates"]
["GB","United Kingdom"]
["US","United states"]
["UY","Uruguay"]
["UM","US minor outling islands"]
["UZ","Uzbekistan"]
["VU","Vanuatu"]
["VE","Venezuela"]
["VN","Vietnam"]
["VI","Virgin islands (US)"]
["WF","Wallis and futuna"]
["YE","Yemen"]
["ZM","Zambia"]
["ZW","Zimbabwe"]
[]
[null,"Total",{"$f":"SUM(C9:C244)","v":0},0,0,{"$f":"SUM(F9:F244)","v":0},0,0]

{"sheet":"Outgoing Remittances (Value)","index":4,"n_rows":246,"n_cols":8,"rows_kept":246,"cut":false,"hidden":false,"merged":[[1,1,1,7],[5,2,5,7]]}
[]
[null,"Remittances Data - Outgoing Value of Transactions "]
[]
[null,null,{"$f":"IF('COVER SHEET'!$D20=1,\"January\",IF('COVER SHEET'!$D20=2,\"July\",\"\"))","v":"July"},{"$f":"IF('COVER SHEET'!$D20=1,\"February\",IF('COVER SHEET'!$D20=2,\"August\",\"\"))","v":"August"},{"$f":"IF('COVER SHEET'!$D20=1,\"March\",IF('COVER SHEET'!$D20=2,\"September\",\"\"))","v":"September"},{"$f":"IF('COVER SHEET'!$D20=1,\"April\",IF('COVER SHEET'!$D20=2,\"October\",\"\"))","v":"October"},{"$f":"IF('COVER SHEET'!$D20=1,\"May\",IF('COVER SHEET'!$D20=2,\"November\",\"\"))","v":"November"},{"$f":"IF('COVER SHEET'!$D20=1,\"June\",IF('COVER SHEET'!$D20=2,\"December\",\"\"))","v":"December"}]
[null,null,{"$f":"'COVER SHEET'!D16&IF('COVER SHEET'!$D20=1,\"0131\",IF('COVER SHEET'!$D20=2,\"0731\",\"\"))","v":"20240731"},{"$f":"'COVER SHEET'!D16&IF('COVER SHEET'!$D20=2,\"0831\",IF(OR('COVER SHEET'!D16=2016,'COVER SHEET'!D16=2020,'COVER SHEET'!D16=2024,'COVER SHEET'!D16=2028,'COVER SHEET'!D16=2032),IF('COVER SHEET'!$D20=1,\"0229\"),\"0228\"))","v":"20240831"},{"$f":"'COVER SHEET'!D16&IF('COVER SHEET'!$D20=1,\"0331\",IF('COVER SHEET'!$D20=2,\"0930\",\"\"))","v":"20240930"},{"$f":"'COVER SHEET'!D16&IF('COVER SHEET'!$D20=1,\"0430\",IF('COVER SHEET'!$D20=2,\"1031\",\"\"))","v":"20241031"},{"$f":"'COVER SHEET'!D16&IF('COVER SHEET'!$D20=1,\"0531\",IF('COVER SHEET'!$D20=2,\"1130\",\"\"))","v":"20241130"},{"$f":"'COVER SHEET'!D16&IF('COVER SHEET'!$D20=1,\"0630\",IF('COVER SHEET'!$D20=2,\"1231\",\"\"))","v":"20241231"}]
[null,null,"Please input data below "]
[]
[]
["AF","Afghanistan"]
["AL","Albania"]
["DZ","Algeria"]
["AS","American Samoa"]
["AD","Andorra"]
["AO","Angola"]
["AI","Anguilla"]
["AQ","Antarctica"]
["AG","Antigua and Barbuda"]
["AR","Argentina"]
["AM","Armenia"]
["AW","Aruba"]
["AU","Australia"]
["AT","Austria"]
["AZ","Azerbaijan"]
["BS","Bahamas"]
["BH","Bahrain"]
["BD","Bangladesh"]
["BB","Barbados"]
["BY","Belarus"]
["BE","Belgium"]
["BZ","Belize"]
["BJ","Benin"]
["BM","Bermuda"]
["BQ","Bes islands"]
["BT","Bhutan"]
["BO","Bolivia"]
["BA","Bosnia and Herzegovina"]
["BW","Botswana"]
["BV","Bouvet Island"]
["BR","Brazil"]
["IO","British indian ocean territory"]
["VG","British Virgin islands"]
["BN","Brunei"]
["BG","Bulgaria"]
["BF","Burkina Faso"]
["BI","Burundi"]
["KH","Cambodia"]
["CM","Cameroon"]
["CA","Canada"]
["CV","Cape Verde"]
["KY","Cayman islands"]
["CF","Central African Republic"]
["TD","Chad"]
["CL","Chile"]
["CN","China"]
["CX","Christmas island"]
["CC","Cocos (keeling) islands"]
["CO","Colombia"]
["KM","Comoros"]
["CG","Congo"]
["CD","Congo, the Democratic Republic of the"]
["CK","Cook islands"]
["CR","Costa Rica"]
["HR","Croatia"]
["CU","Cuba"]
["CW","Curacao"]
["CY","Cyprus"]
["CZ","Czech Republic"]
["DK","Denmark"]
["DJ","Djibouti"]
["DM","Dominica"]
["DO","Dominican Republic"]
["TL","East Timor"]
["EC","Ecuador"]
["EG","Egypt"]
["SV","El Salvador"]
["GQ","Equatorial Guinea"]
["ER","Eritrea"]
["EE","Estonia"]
["ET","Ethiopia"]
["FK","Falkland islands (islas malvinas)"]
["FO","Faroe islands"]
["FJ","Fiji"]
["FI","Finland"]
["FR","France"]
["PF","French Polynesia"]
["TF","French southern and antarctic lands"]
["GA","Gabon"]
["GM","Gambia"]
["GE","Georgia"]
["DE","Germany"]
["GH","Ghana"]
["GI","Gibraltar"]
["GR","Greece"]
["GL","Greenland"]
["GD","Grenada"]
["GU","Guam"]
["GT","Guatemala"]
["GG","Guernsey"]
["GN","Guinea"]
["GW","Guinea-Bissau"]
["GY","Guyana"]
["HT","Haiti"]
["HM","Heard island and mcdonald islands"]
["VA","Holy See (Vatican City)"]
["HN","Honduras"]
["HK","Hong Kong"]
["HU","Hungary"]
["IS","Iceland"]
["IN","India"]
["ID","Indonesia"]
["IR","Iran"]
["IQ","Iraq"]
["IE","Ireland"]
["IM","Isle of Man"]
["IL","Israel "]
["IT","Italy"]
["CI","Ivory coast (côte divoire)"]
["JM","Jamaica"]
["JP","Japan"]
["JE","Jersey"]
["JO","Jordan"]
["KZ","Kazakhstan"]
["KE","Kenya"]
["KI","Kiribati"]
["KP","Korea, North"]
["KR","Korea, south"]
["XK","Kosovo"]
["KW","Kuwait"]
["KG","Kyrgyzstan"]
["LA","Laos"]
["LV","Latvia"]
["LB","Lebanon"]
["LS","Lesotho"]
["LR","Liberia"]
["LY","Libya"]
["LI","Liechtenstein"]
["LT","Lithuania"]
["LU","Luxembourg"]
["MO","Macau"]
["MK","Macedonia"]
["MG","Madagascar"]
["MW","Malawi"]
["MY","Malaysia"]
["MV","Maldives"]
["ML","Mali"]
["MH","Marshall Islands"]
["MR","Mauritania"]
["MU","Mauritius"]
["MX","Mexico"]
["FM","Micronesia, Federated States of"]
["MD","Moldova"]
["MN","Mongolia"]
["ME","Montenegro"]
["MS","Montserrat"]
["MA","Morocco"]
["MZ","Mozambique"]
["MM","Myanmar"]
["NA","Namibia"]
["NR","Nauru"]
["NP","Nepal"]
["NL","Netherlands"]
["NC","New Caledonia"]
["NZ","New Zealand"]
["NI","Nicaragua"]
["NE","Niger"]
["NG","Nigeria"]
["NU","Niue"]
["NF","Norfolk island"]
["MP","Northern Mariana Islands"]
["NO","Norway"]
["OM","Oman"]
["PK","Pakistan"]
["PW","Palau"]
["PS","Palestine "]
["PA","Panama"]
["PG","Papua New Guinea"]
["PY","Paraguay"]
["PE","Peru"]
["PH","Philippines"]
["PN","Pitcairn Islands"]
["PL","Poland"]
["PT","Portugal"]
["QA","Qatar"]
["RO","Romania"]
["RU","Russia"]
["RW","Rwanda"]
["SH","Saint Helena"]
["KN","Saint Kitts and Nevis"]
["LC","Saint Lucia"]
["VC","Saint Vincent and the Grenadines"]
["WS","Samoa"]
["SM","San Marino"]
["ST","Sao Tome and Principe"]
["SA","Saudi Arabia"]
["SN","Senegal"]
["RS","Serbia"]
["SC","Seychelles"]
["SL","Sierra Leone"]
["SG","Singapore"]
["SX","Sint Maarten"]
["SK","Slovakia"]
["SI","Slovenia"]
["SB","Solomon Islands"]
["SO","Somalia"]
["ZA","South Africa"]
["GS","South Georgia & the South Sandwich islands"]
["SS","South Sudan "]
["ES","Spain"]
["LK","Sri Lanka"]
["SD","Sudan"]
["SR","Suriname"]
["SZ","Swaziland"]
["SE","Sweden"]
["CH","Switzerland"]
["SY","Syria"]
["TW","Taiwan"]
["TJ","Tajikistan"]
["TZ","Tanzania"]
["TH","Thailand"]
["TG","Togo"]
["TK","Tokelau"]
["TO","Tonga"]
["TT","Trinidad and Tobago"]
["TN","Tunisia"]
["TR","Turkey"]
["TM","Turkmenistan"]
["TC","Turks and Caicos islands"]
["TV","Tuvalu"]
["UG","Uganda"]
["UA","Ukraine"]
["AE","United Arab Emirates"]
["GB","United Kingdom"]
["US","United states"]
["UY","Uruguay"]
["UM","US minor outling islands"]
["UZ","Uzbekistan"]
["VU","Vanuatu"]
["VE","Venezuela"]
["VN","Vietnam"]
["VI","Virgin islands (US)"]
["WF","Wallis and futuna"]
["YE","Yemen"]
["ZM","Zambia"]
["ZW","Zimbabwe"]
[]
[null,"Total",{"$f":"SUM(C9:C244)","v":0},0,0,0,0,0]

{"sheet":"CSVMACRO","index":5,"n_rows":5665,"n_cols":7,"rows_kept":5665,"cut":false,"hidden":true,"merged":[]}
["CUBEID","COUNTRY","DATEDATA","ENTITYID","ITEM","REFERENCE_DATE","AMOUNT"]
["CMREM_11500","AF",{"$f":"+'Incoming Remittances (Volume)'!$D$5","v":"20240731"},{"$f":"+'COVER SHEET'!$D$12","v":0},11500,{"$f":"'COVER SHEET'!$D$16&IF(MID('COVER SHEET'!$I$18,6,10)=\"december\",\"1231\",IF(MID('COVER SHEET'!$I$18,6,10)=\"june\",\"0630\"))","v":"20241231"},{"$f":"+'Incoming Remittances (Volume)'!D9","v":0}]
["CMREM_11500","AL",{"$f":"+'Incoming Remittances (Volume)'!$D$5","v":"20240731"},{"$f":"+'COVER SHEET'!$D$12","v":0},11500,{"$f":"'COVER SHEET'!$D$16&IF(MID('COVER SHEET'!$I$18,6,10)=\"december\",\"1231\",IF(MID('COVER SHEET'!$I$18,6,10)=\"june\",\"0630\"))","v":"20241231"},{"$f":"+'Incoming Remittances (Volume)'!D10","v":0}]
["CMREM_11500","DZ",{"$f":"+'Incoming Remittances (Volume)'!$D$5","v":"20240731"},{"$f":"+'COVER SHEET'!$D$12","v":0},11500,{"$f":"'COVER SHEET'!$D$16&IF(MID('COVER SHEET'!$I$18,6,10)=\"december\",\"1231\",IF(MID('COVER SHEET'!$I$18,6,10)=\"june\",\"0630\"))","v":"20241231"},{"$f":"+'Incoming Remittances (Volume)'!D11","v":0}]
["CMREM_11500","AS",{"$f":"+'Incoming Remittances (Volume)'!$D$5","v":"20240731"},{"$f":"+'COVER SHEET'!$D$12","v":0},11500,{"$f":"'COVER SHEET'!$D$16&IF(MID('COVER SHEET'!$I$18,6,10)=\"december\",\"1231\",IF(MID('COVER SHEET'!$I$18,6,10)=\"june\",\"0630\"))","v":"20241231"},{"$f":"+'Incoming Remittances (Volume)'!D12","v":0}]
["CMREM_11500","AD",{"$f":"+'Incoming Remittances (Volume)'!$D$5","v":"20240731"},{"$f":"+'COVER SHEET'!$D$12","v":0},11500,{"$f":"'COVER SHEET'!$D$16&IF(MID('COVER SHEET'!$I$18,6,10)=\"december\",\"1231\",IF(MID('COVER SHEET'!$I$18,6,10)=\"june\",\"0630\"))","v":"20241231"},{"$f":"+'Incoming Remittances (Volume)'!D13","v":0}]
["CMREM_11500","AO",{"$f":"+'Incoming Remittances (Volume)'!$D$5","v":"20240731"},{"$f":"+'COVER SHEET'!$D$12","v":0},11500,{"$f":"'COVER SHEET'!$D$16&IF(MID('COVER SHEET'!$I$18,6,10)=\"december\",\"1231\",IF(MID('COVER SHEET'!$I$18,6,10)=\"june\",\"0630\"))","v":"20241231"},{"$f":"+'Incoming Remittances (Volume)'!D14","v":0}]
["CMREM_11500","AI",{"$f":"+'Incoming Remittances (Volume)'!$D$5","v":"20240731"},{"$f":"+'COVER SHEET'!$D$12","v":0},11500,{"$f":"'COVER SHEET'!$D$16&IF(MID('COVER SHEET'!$I$18,6,10)=\"december\",\"1231\",IF(MID('COVER SHEET'!$I$18,6,10)=\"june\",\"0630\"))","v":"20241231"},{"$f":"+'Incoming Remittances (Volume)'!D15","v":0}]
["CMREM_11500","AQ",{"$f":"+'Incoming Remittances (Volume)'!$D$5","v":"20240731"},{"$f":"+'COVER SHEET'!$D$12","v":0},11500,{"$f":"'COVER SHEET'!$D$16&IF(MID('COVER SHEET'!$I$18,6,10)=\"december\",\"1231\",IF(MID('COVER SHEET'!$I$18,6,10)=\"june\",\"0630\"))","v":"20241231"},{"$f":"+'Incoming Remittances (Volume)'!D16","v":0}]
["CMREM_11500","AG",{"$f":"+'Incoming Remittances (Volume)'!$D$5","v":"20240731"},{"$f":"+'COVER SHEET'!$D$12","v":0},11500,{"$f":"'COVER SHEET'!$D$16&IF(MID('COVER SHEET'!$I$18,6,10)=\"december\",\"1231\",IF(MID('COVER SHEET'!$I$18,6,10)=\"june\",\"0630\"))","v":"20241231"},{"$f":"+'Incoming Remittances (Volume)'!D17","v":0}]
["CMREM_11500","AR",{"$f":"+'Incoming Remittances (Volume)'!$D$5","v":"20240731"},{"$f":"+'COVER SHEET'!$D$12","v":0},11500,{"$f":"'COVER SHEET'!$D$16&IF(MID('COVER SHEET'!$I$18,6,10)=\"december\",\"1231\",IF(MID('COVER SHEET'!$I$18,6,10)=\"june\",\"0630\"))","v":"20241231"},{"$f":"+'Incoming Remittances (Volume)'!D18","v":0}]
["CMREM_11500","AM",{"$f":"+'Incoming Remittances (Volume)'!$D$5","v":"20240731"},{"$f":"+'COVER SHEET'!$D$12","v":0},11500,{"$f":"'COVER SHEET'!$D$16&IF(MID('COVER SHEET'!$I$18,6,10)=\"december\",\"1231\",IF(MID('COVER SHEET'!$I$18,6,10)=\"june\",\"0630\"))","v":"20241231"},{"$f":"+'Incoming Remittances (Volume)'!D19","v":0}]
["CMREM_11500","AW",{"$f":"+'Incoming Remittances (Volume)'!$D$5","v":"20240731"},{"$f":"+'COVER SHEET'!$D$12","v":0},11500,{"$f":"'COVER SHEET'!$D$16&IF(MID('COVER SHEET'!$I$18,6,10)=\"december\",\"1231\",IF(MID('COVER SHEET'!$I$18,6,10)=\"june\",\"0630\"))","v":"20241231"},{"$f":"+'Incoming Remittances (Volume)'!D20","v":0}]
["CMREM_11500","AU",{"$f":"+'Incoming Remittances (Volume)'!$D$5","v":"20240731"},{"$f":"+'COVER SHEET'!$D$12","v":0},11500,{"$f":"'COVER SHEET'!$D$16&IF(MID('COVER SHEET'!$I$18,6,10)=\"december\",\"1231\",IF(MID('COVER SHEET'!$I$18,6,10)=\"june\",\"0630\"))","v":"20241231"},{"$f":"+'Incoming Remittances (Volume)'!D21","v":0}]
["CMREM_11500","AT",{"$f":"+'Incoming Remittances (Volume)'!$D$5","v":"20240731"},{"$f":"+'COVER SHEET'!$D$12","v":0},11500,{"$f":"'COVER SHEET'!$D$16&IF(MID('COVER SHEET'!$I$18,6,10)=\"december\",\"1231\",IF(MID('COVER SHEET'!$I$18,6,10)=\"june\",\"0630\"))","v":"20241231"},{"$f":"+'Incoming Remittances (Volume)'!D22","v":0}]
["CMREM_11500","AZ",{"$f":"+'Incoming Remittances (Volume)'!$D$5","v":"20240731"},{"$f":"+'COVER SHEET'!$D$12","v":0},11500,{"$f":"'COVER SHEET'!$D$16&IF(MID('COVER SHEET'!$I$18,6,10)=\"december\",\"1231\",IF(MID('COVER SHEET'!$I$18,6,10)=\"june\",\"0630\"))","v":"20241231"},{"$f":"+'Incoming Remittances (Volume)'!D23","v":0}]
["CMREM_11500","BS",{"$f":"+'Incoming Remittances (Volume)'!$D$5","v":"20240731"},{"$f":"+'COVER SHEET'!$D$12","v":0},11500,{"$f":"'COVER SHEET'!$D$16&IF(MID('COVER SHEET'!$I$18,6,10)=\"december\",\"1231\",IF(MID('COVER SHEET'!$I$18,6,10)=\"june\",\"0630\"))","v":"20241231"},{"$f":"+'Incoming Remittances (Volume)'!D24","v":0}]
["CMREM_11500","BH",{"$f":"+'Incoming Remittances (Volume)'!$D$5","v":"20240731"},{"$f":"+'COVER SHEET'!$D$12","v":0},11500,{"$f":"'COVER SHEET'!$D$16&IF(MID('COVER SHEET'!$I$18,6,10)=\"december\",\"1231\",IF(MID('COVER SHEET'!$I$18,6,10)=\"june\",\"0630\"))","v":"20241231"},{"$f":"+'Incoming Remittances (Volume)'!D25","v":0}]
["CMREM_11500","BD",{"$f":"+'Incoming Remittances (Volume)'!$D$5","v":"20240731"},{"$f":"+'COVER SHEET'!$D$12","v":0},11500,{"$f":"'COVER SHEET'!$D$16&IF(MID('COVER SHEET'!$I$18,6,10)=\"december\",\"1231\",IF(MID('COVER SHEET'!$I$18,6,10)=\"june\",\"0630\"))","v":"20241231"},{"$f":"+'Incoming Remittances (Volume)'!D26","v":0}]
["CMREM_11500","BB",{"$f":"+'Incoming Remittances (Volume)'!$D$5","v":"20240731"},{"$f":"+'COVER SHEET'!$D$12","v":0},11500,{"$f":"'COVER SHEET'!$D$16&IF(MID('COVER SHEET'!$I$18,6,10)=\"december\",\"1231\",IF(MID('COVER SHEET'!$I$18,6,10)=\"june\",\"0630\"))","v":"20241231"},{"$f":"+'Incoming Remittances (Volume)'!D27","v":0}]
["CMREM_11500","BY",{"$f":"+'Incoming Remittances (Volume)'!$D$5","v":"20240731"},{"$f":"+'COVER SHEET'!$D$12","v":0},11500,{"$f":"'COVER SHEET'!$D$16&IF(MID('COVER SHEET'!$I$18,6,10)=\"december\",\"1231\",IF(MID('COVER SHEET'!$I$18,6,10)=\"june\",\"0630\"))","v":"20241231"},{"$f":"+'Incoming Remittances (Volume)'!D28","v":0}]
["CMREM_11500","BE",{"$f":"+'Incoming Remittances (Volume)'!$D$5","v":"20240731"},{"$f":"+'COVER SHEET'!$D$12","v":0},11500,{"$f":"'COVER SHEET'!$D$16&IF(MID('COVER SHEET'!$I$18,6,10)=\"december\",\"1231\",IF(MID('COVER SHEET'!$I$18,6,10)=\"june\",\"0630\"))","v":"20241231"},{"$f":"+'Incoming Remittances (Volume)'!D29","v":0}]
["CMREM_11500","BZ",{"$f":"+'Incoming Remittances (Volume)'!$D$5","v":"20240731"},{"$f":"+'COVER SHEET'!$D$12","v":0},11500,{"$f":"'COVER SHEET'!$D$16&IF(MID('COVER SHEET'!$I$18,6,10)=\"december\",\"1231\",IF(MID('COVER SHEET'!$I$18,6,10)=\"june\",\"0630\"))","v":"20241231"},{"$f":"+'Incoming Remittances (Volume)'!D30","v":0}]
["CMREM_11500","BJ",{"$f":"+'Incoming Remittances (Volume)'!$D$5","v":"20240731"},{"$f":"+'COVER SHEET'!$D$12","v":0},11500,{"$f":"'COVER SHEET'!$D$16&IF(MID('COVER SHEET'!$I$18,6,10)=\"december\",\"1231\",IF(MID('COVER SHEET'!$I$18,6,10)=\"june\",\"0630\"))","v":"20241231"},{"$f":"+'Incoming Remittances (Volume)'!D31","v":0}]
["CMREM_11500","BM",{"$f":"+'Incoming Remittances (Volume)'!$D$5","v":"20240731"},{"$f":"+'COVER SHEET'!$D$12","v":0},11500,{"$f":"'COVER SHEET'!$D$16&IF(MID('COVER SHEET'!$I$18,6,10)=\"december\",\"1231\",IF(MID('COVER SHEET'!$I$18,6,10)=\"june\",\"0630\"))","v":"20241231"},{"$f":"+'Incoming Remittances (Volume)'!D32","v":0}]
["CMREM_11500","BQ",{"$f":"+'Incoming Remittances (Volume)'!$D$5","v":"20240731"},{"$f":"+'COVER SHEET'!$D$12","v":0},11500,{"$f":"'COVER SHEET'!$D$16&IF(MID('COVER SHEET'!$I$18,6,10)=\"december\",\"1231\",IF(MID('COVER SHEET'!$I$18,6,10)=\"june\",\"0630\"))","v":"20241231"},{"$f":"+'Incoming Remittances (Volume)'!D33","v":0}]
["CMREM_11500","BT",{"$f":"+'Incoming Remittances (Volume)'!$D$5","v":"20240731"},{"$f":"+'COVER SHEET'!$D$12","v":0},11500,{"$f":"'COVER SHEET'!$D$16&IF(MID('COVER SHEET'!$I$18,6,10)=\"december\",\"1231\",IF(MID('COVER SHEET'!$I$18,6,10)=\"june\",\"0630\"))","v":"20241231"},{"$f":"+'Incoming Remittances (Volume)'!D34","v":0}]
["CMREM_11500","BO",{"$f":"+'Incoming Remittances (Volume)'!$D$5","v":"20240731"},{"$f":"+'COVER SHEET'!$D$12","v":0},11500,{"$f":"'COVER SHEET'!$D$16&IF(MID('COVER SHEET'!$I$18,6,10)=\"december\",\"1231\",IF(MID('COVER SHEET'!$I$18,6,10)=\"june\",\"0630\"))","v":"20241231"},{"$f":"+'Incoming Remittances (Volume)'!D35","v":0}]
["CMREM_11500","BA",{"$f":"+'Incoming Remittances (Volume)'!$D$5","v":"20240731"},{"$f":"+'COVER SHEET'!$D$12","v":0},11500,{"$f":"'COVER SHEET'!$D$16&IF(MID('COVER SHEET'!$I$18,6,10)=\"december\",\"1231\",IF(MID('COVER SHEET'!$I$18,6,10)=\"june\",\"0630\"))","v":"20241231"},{"$f":"+'Incoming Remittances (Volume)'!D36","v":0}]
["CMREM_11500","BW",{"$f":"+'Incoming Remittances (Volume)'!$D$5","v":"20240731"},{"$f":"+'COVER SHEET'!$D$12","v":0},11500,{"$f":"'COVER SHEET'!$D$16&IF(MID('COVER SHEET'!$I$18,6,10)=\"december\",\"1231\",IF(MID('COVER SHEET'!$I$18,6,10)=\"june\",\"0630\"))","v":"20241231"},{"$f":"+'Incoming Remittances (Volume)'!D37","v":0}]
["CMREM_11500","BV",{"$f":"+'Incoming Remittances (Volume)'!$D$5","v":"20240731"},{"$f":"+'COVER SHEET'!$D$12","v":0},11500,{"$f":"'COVER SHEET'!$D$16&IF(MID('COVER SHEET'!$I$18,6,10)=\"december\",\"1231\",IF(MID('COVER SHEET'!$I$18,6,10)=\"june\",\"0630\"))","v":"20241231"},{"$f":"+'Incoming Remittances (Volume)'!D38","v":0}]
["CMREM_11500","BR",{"$f":"+'Incoming Remittances (Volume)'!$D$5","v":"20240731"},{"$f":"+'COVER SHEET'!$D$12","v":0},11500,{"$f":"'COVER SHEET'!$D$16&IF(MID('COVER SHEET'!$I$18,6,10)=\"december\",\"1231\",IF(MID('COVER SHEET'!$I$18,6,10)=\"june\",\"0630\"))","v":"20241231"},{"$f":"+'Incoming Remittances (Volume)'!D39","v":0}]
["CMREM_11500","IO",{"$f":"+'Incoming Remittances (Volume)'!$D$5","v":"20240731"},{"$f":"+'COVER SHEET'!$D$12","v":0},11500,{"$f":"'COVER SHEET'!$D$16&IF(MID('COVER SHEET'!$I$18,6,10)=\"december\",\"1231\",IF(MID('COVER SHEET'!$I$18,6,10)=\"june\",\"0630\"))","v":"20241231"},{"$f":"+'Incoming Remittances (Volume)'!D40","v":0}]
["CMREM_11500","VG",{"$f":"+'Incoming Remittances (Volume)'!$D$5","v":"20240731"},{"$f":"+'COVER SHEET'!$D$12","v":0},11500,{"$f":"'COVER SHEET'!$D$16&IF(MID('COVER SHEET'!$I$18,6,10)=\"december\",\"1231\",IF(MID('COVER SHEET'!$I$18,6,10)=\"june\",\"0630\"))","v":"20241231"},{"$f":"+'Incoming Remittances (Volume)'!D41","v":0}]
["CMREM_11500","BN",{"$f":"+'Incoming Remittances (Volume)'!$D$5","v":"20240731"},{"$f":"+'COVER SHEET'!$D$12","v":0},11500,{"$f":"'COVER SHEET'!$D$16&IF(MID('COVER SHEET'!$I$18,6,10)=\"december\",\"1231\",IF(MID('COVER SHEET'!$I$18,6,10)=\"june\",\"0630\"))","v":"20241231"},{"$f":"+'Incoming Remittances (Volume)'!D42","v":0}]
["CMREM_11500","BG",{"$f":"+'Incoming Remittances (Volume)'!$D$5","v":"20240731"},{"$f":"+'COVER SHEET'!$D$12","v":0},11500,{"$f":"'COVER SHEET'!$D$16&IF(MID('COVER SHEET'!$I$18,6,10)=\"december\",\"1231\",IF(MID('COVER SHEET'!$I$18,6,10)=\"june\",\"0630\"))","v":"20241231"},{"$f":"+'Incoming Remittances (Volume)'!D43","v":0}]
["CMREM_11500","BF",{"$f":"+'Incoming Remittances (Volume)'!$D$5","v":"20240731"},{"$f":"+'COVER SHEET'!$D$12","v":0},11500,{"$f":"'COVER SHEET'!$D$16&IF(MID('COVER SHEET'!$I$18,6,10)=\"december\",\"1231\",IF(MID('COVER SHEET'!$I$18,6,10)=\"june\",\"0630\"))","v":"20241231"},{"$f":"+'Incoming Remittances (Volume)'!D44","v":0}]
["CMREM_11500","BI",{"$f":"+'Incoming Remittances (Volume)'!$D$5","v":"20240731"},{"$f":"+'COVER SHEET'!$D$12","v":0},11500,{"$f":"'COVER SHEET'!$D$16&IF(MID('COVER SHEET'!$I$18,6,10)=\"december\",\"1231\",IF(MID('COVER SHEET'!$I$18,6,10)=\"june\",\"0630\"))","v":"20241231"},{"$f":"+'Incoming Remittances (Volume)'!D45","v":0}]
["CMREM_11500","KH",{"$f":"+'Incoming Remittances (Volume)'!$D$5","v":"20240731"},{"$f":"+'COVER SHEET'!$D$12","v":0},11500,{"$f":"'COVER SHEET'!$D$16&IF(MID('COVER SHEET'!$I$18,6,10)=\"december\",\"1231\",IF(MID('COVER SHEET'!$I$18,6,10)=\"june\",\"0630\"))","v":"20241231"},{"$f":"+'Incoming Remittances (Volume)'!D46","v":0}]
["CMREM_11500","CM",{"$f":"+'Incoming Remittances (Volume)'!$D$5","v":"20240731"},{"$f":"+'COVER SHEET'!$D$12","v":0},11500,{"$f":"'COVER SHEET'!$D$16&IF(MID('COVER SHEET'!$I$18,6,10)=\"december\",\"1231\",IF(MID('COVER SHEET'!$I$18,6,10)=\"june\",\"0630\"))","v":"20241231"},{"$f":"+'Incoming Remittances (Volume)'!D47","v":0}]
["CMREM_11500","CA",{"$f":"+'Incoming Remittances (Volume)'!$D$5","v":"20240731"},{"$f":"+'COVER SHEET'!$D$12","v":0},11500,{"$f":"'COVER SHEET'!$D$16&IF(MID('COVER SHEET'!$I$18,6,10)=\"december\",\"1231\",IF(MID('COVER SHEET'!$I$18,6,10)=\"june\",\"0630\"))","v":"20241231"},{"$f":"+'Incoming Remittances (Volume)'!D48","v":0}]
["CMREM_11500","CV",{"$f":"+'Incoming Remittances (Volume)'!$D$5","v":"20240731"},{"$f":"+'COVER SHEET'!$D$12","v":0},11500,{"$f":"'COVER SHEET'!$D$16&IF(MID('COVER SHEET'!$I$18,6,10)=\"december\",\"1231\",IF(MID('COVER SHEET'!$I$18,6,10)=\"june\",\"0630\"))","v":"20241231"},{"$f":"+'Incoming Remittances (Volume)'!D49","v":0}]
["CMREM_11500","KY",{"$f":"+'Incoming Remittances (Volume)'!$D$5","v":"20240731"},{"$f":"+'COVER SHEET'!$D$12","v":0},11500,{"$f":"'COVER SHEET'!$D$16&IF(MID('COVER SHEET'!$I$18,6,10)=\"december\",\"1231\",IF(MID('COVER SHEET'!$I$18,6,10)=\"june\",\"0630\"))","v":"20241231"},{"$f":"+'Incoming Remittances (Volume)'!D50","v":0}]
["CMREM_11500","CF",{"$f":"+'Incoming Remittances (Volume)'!$D$5","v":"20240731"},{"$f":"+'COVER SHEET'!$D$12","v":0},11500,{"$f":"'COVER SHEET'!$D$16&IF(MID('COVER SHEET'!$I$18,6,10)=\"december\",\"1231\",IF(MID('COVER SHEET'!$I$18,6,10)=\"june\",\"0630\"))","v":"20241231"},{"$f":"+'Incoming Remittances (Volume)'!D51","v":0}]
["CMREM_11500","TD",{"$f":"+'Incoming Remittances (Volume)'!$D$5","v":"20240731"},{"$f":"+'COVER SHEET'!$D$12","v":0},11500,{"$f":"'COVER SHEET'!$D$16&IF(MID('COVER SHEET'!$I$18,6,10)=\"december\",\"1231\",IF(MID('COVER SHEET'!$I$18,6,10)=\"june\",\"0630\"))","v":"20241231"},{"$f":"+'Incoming Remittances (Volume)'!D52","v":0}]
["CMREM_11500","CL",{"$f":"+'Incoming Remittances (Volume)'!$D$5","v":"20240731"},{"$f":"+'COVER SHEET'!$D$12","v":0},11500,{"$f":"'COVER SHEET'!$D$16&IF(MID('COVER SHEET'!$I$18,6,10)=\"december\",\"1231\",IF(MID('COVER SHEET'!$I$18,6,10)=\"june\",\"0630\"))","v":"20241231"},{"$f":"+'Incoming Remittances (Volume)'!D53","v":0}]
["CMREM_11500","CN",{"$f":"+'Incoming Remittances (Volume)'!$D$5","v":"20240731"},{"$f":"+'COVER SHEET'!$D$12","v":0},11500,{"$f":"'COVER SHEET'!$D$16&IF(MID('COVER SHEET'!$I$18,6,10)=\"december\",\"1231\",IF(MID('COVER SHEET'!$I$18,6,10)=\"june\",\"0630\"))","v":"20241231"},{"$f":"+'Incoming Remittances (Volume)'!D54","v":0}]
["CMREM_11500","CX",{"$f":"+'Incoming Remittances (Volume)'!$D$5","v":"20240731"},{"$f":"+'COVER SHEET'!$D$12","v":0},11500,{"$f":"'COVER SHEET'!$D$16&IF(MID('COVER SHEET'!$I$18,6,10)=\"december\",\"1231\",IF(MID('COVER SHEET'!$I$18,6,10)=\"june\",\"0630\"))","v":"20241231"},{"$f":"+'Incoming Remittances (Volume)'!D55","v":0}]
["CMREM_11500","CC",{"$f":"+'Incoming Remittances (Volume)'!$D$5","v":"20240731"},{"$f":"+'COVER SHEET'!$D$12","v":0},11500,{"$f":"'COVER SHEET'!$D$16&IF(MID('COVER SHEET'!$I$18,6,10)=\"december\",\"1231\",IF(MID('COVER SHEET'!$I$18,6,10)=\"june\",\"0630\"))","v":"20241231"},{"$f":"+'Incoming Remittances (Volume)'!D56","v":0}]
["CMREM_11500","CO",{"$f":"+'Incoming Remittances (Volume)'!$D$5","v":"20240731"},{"$f":"+'COVER SHEET'!$D$12","v":0},11500,{"$f":"'COVER SHEET'!$D$16&IF(MID('COVER SHEET'!$I$18,6,10)=\"december\",\"1231\",IF(MID('COVER SHEET'!$I$18,6,10)=\"june\",\"0630\"))","v":"20241231"},{"$f":"+'Incoming Remittances (Volume)'!D57","v":0}]
["CMREM_11500","KM",{"$f":"+'Incoming Remittances (Volume)'!$D$5","v":"20240731"},{"$f":"+'COVER SHEET'!$D$12","v":0},11500,{"$f":"'COVER SHEET'!$D$16&IF(MID('COVER SHEET'!$I$18,6,10)=\"december\",\"1231\",IF(MID('COVER SHEET'!$I$18,6,10)=\"june\",\"0630\"))","v":"20241231"},{"$f":"+'Incoming Remittances (Volume)'!D58","v":0}]
["CMREM_11500","CG",{"$f":"+'Incoming Remittances (Volume)'!$D$5","v":"20240731"},{"$f":"+'COVER SHEET'!$D$12","v":0},11500,{"$f":"'COVER SHEET'!$D$16&IF(MID('COVER SHEET'!$I$18,6,10)=\"december\",\"1231\",IF(MID('COVER SHEET'!$I$18,6,10)=\"june\",\"0630\"))","v":"20241231"},{"$f":"+'Incoming Remittances (Volume)'!D59","v":0}]
["CMREM_11500","CD",{"$f":"+'Incoming Remittances (Volume)'!$D$5","v":"20240731"},{"$f":"+'COVER SHEET'!$D$12","v":0},11500,{"$f":"'COVER SHEET'!$D$16&IF(MID('COVER SHEET'!$I$18,6,10)=\"december\",\"1231\",IF(MID('COVER SHEET'!$I$18,6,10)=\"june\",\"0630\"))","v":"20241231"},{"$f":"+'Incoming Remittances (Volume)'!D60","v":0}]
["CMREM_11500","CK",{"$f":"+'Incoming Remittances (Volume)'!$D$5","v":"20240731"},{"$f":"+'COVER SHEET'!$D$12","v":0},11500,{"$f":"'COVER SHEET'!$D$16&IF(MID('COVER SHEET'!$I$18,6,10)=\"december\",\"1231\",IF(MID('COVER SHEET'!$I$18,6,10)=\"june\",\"0630\"))","v":"20241231"},{"$f":"+'Incoming Remittances (Volume)'!D61","v":0}]
["CMREM_11500","CR",{"$f":"+'Incoming Remittances (Volume)'!$D$5","v":"20240731"},{"$f":"+'COVER SHEET'!$D$12","v":0},11500,{"$f":"'COVER SHEET'!$D$16&IF(MID('COVER SHEET'!$I$18,6,10)=\"december\",\"1231\",IF(MID('COVER SHEET'!$I$18,6,10)=\"june\",\"0630\"))","v":"20241231"},{"$f":"+'Incoming Remittances (Volume)'!D62","v":0}]
["CMREM_11500","HR",{"$f":"+'Incoming Remittances (Volume)'!$D$5","v":"20240731"},{"$f":"+'COVER SHEET'!$D$12","v":0},11500,{"$f":"'COVER SHEET'!$D$16&IF(MID('COVER SHEET'!$I$18,6,10)=\"december\",\"1231\",IF(MID('COVER SHEET'!$I$18,6,10)=\"june\",\"0630\"))","v":"20241231"},{"$f":"+'Incoming Remittances (Volume)'!D63","v":0}]
["CMREM_11500","CU",{"$f":"+'Incoming Remittances (Volume)'!$D$5","v":"20240731"},{"$f":"+'COVER SHEET'!$D$12","v":0},11500,{"$f":"'COVER SHEET'!$D$16&IF(MID('COVER SHEET'!$I$18,6,10)=\"december\",\"1231\",IF(MID('COVER SHEET'!$I$18,6,10)=\"june\",\"0630\"))","v":"20241231"},{"$f":"+'Incoming Remittances (Volume)'!D64","v":0}]
["CMREM_11500","CW",{"$f":"+'Incoming Remittances (Volume)'!$D$5","v":"20240731"},{"$f":"+'COVER SHEET'!$D$12","v":0},11500,{"$f":"'COVER SHEET'!$D$16&IF(MID('COVER SHEET'!$I$18,6,10)=\"december\",\"1231\",IF(MID('COVER SHEET'!$I$18,6,10)=\"june\",\"0630\"))","v":"20241231"},{"$f":"+'Incoming Remittances (Volume)'!D65","v":0}]
["CMREM_11500","CY",{"$f":"+'Incoming Remittances (Volume)'!$D$5","v":"20240731"},{"$f":"+'COVER SHEET'!$D$12","v":0},11500,{"$f":"'COVER SHEET'!$D$16&IF(MID('COVER SHEET'!$I$18,6,10)=\"december\",\"1231\",IF(MID('COVER SHEET'!$I$18,6,10)=\"june\",\"0630\"))","v":"20241231"},{"$f":"+'Incoming Remittances (Volume)'!D66","v":0}]
["CMREM_11500","CZ",{"$f":"+'Incoming Remittances (Volume)'!$D$5","v":"20240731"},{"$f":"+'COVER SHEET'!$D$12","v":0},11500,{"$f":"'COVER SHEET'!$D$16&IF(MID('COVER SHEET'!$I$18,6,10)=\"december\",\"1231\",IF(MID('COVER SHEET'!$I$18,6,10)=\"june\",\"0630\"))","v":"20241231"},{"$f":"+'Incoming Remittances (Volume)'!D67","v":0}]
["CMREM_11500","DK",{"$f":"+'Incoming Remittances (Volume)'!$D$5","v":"20240731"},{"$f":"+'COVER SHEET'!$D$12","v":0},11500,{"$f":"'COVER SHEET'!$D$16&IF(MID('COVER SHEET'!$I$18,6,10)=\"december\",\"1231\",IF(MID('COVER SHEET'!$I$18,6,10)=\"june\",\"0630\"))","v":"20241231"},{"$f":"+'Incoming Remittances (Volume)'!D68","v":0}]
["CMREM_11500","DJ",{"$f":"+'Incoming Remittances (Volume)'!$D$5","v":"20240731"},{"$f":"+'COVER SHEET'!$D$12","v":0},11500,{"$f":"'COVER SHEET'!$D$16&IF(MID('COVER SHEET'!$I$18,6,10)=\"december\",\"1231\",IF(MID('COVER SHEET'!$I$18,6,10)=\"june\",\"0630\"))","v":"20241231"},{"$f":"+'Incoming Remittances (Volume)'!D69","v":0}]
["CMREM_11500","DM",{"$f":"+'Incoming Remittances (Volume)'!$D$5","v":"20240731"},{"$f":"+'COVER SHEET'!$D$12","v":0},11500,{"$f":"'COVER SHEET'!$D$16&IF(MID('COVER SHEET'!$I$18,6,10)=\"december\",\"1231\",IF(MID('COVER SHEET'!$I$18,6,10)=\"june\",\"0630\"))","v":"20241231"},{"$f":"+'Incoming Remittances (Volume)'!D70","v":0}]
["CMREM_11500","DO",{"$f":"+'Incoming Remittances (Volume)'!$D$5","v":"20240731"},{"$f":"+'COVER SHEET'!$D$12","v":0},11500,{"$f":"'COVER SHEET'!$D$16&IF(MID('COVER SHEET'!$I$18,6,10)=\"december\",\"1231\",IF(MID('COVER SHEET'!$I$18,6,10)=\"june\",\"0630\"))","v":"20241231"},{"$f":"+'Incoming Remittances (Volume)'!D71","v":0}]
["CMREM_11500","TL",{"$f":"+'Incoming Remittances (Volume)'!$D$5","v":"20240731"},{"$f":"+'COVER SHEET'!$D$12","v":0},11500,{"$f":"'COVER SHEET'!$D$16&IF(MID('COVER SHEET'!$I$18,6,10)=\"december\",\"1231\",IF(MID('COVER SHEET'!$I$18,6,10)=\"june\",\"0630\"))","v":"20241231"},{"$f":"+'Incoming Remittances (Volume)'!D72","v":0}]
["CMREM_11500","EC",{"$f":"+'Incoming Remittances (Volume)'!$D$5","v":"20240731"},{"$f":"+'COVER SHEET'!$D$12","v":0},11500,{"$f":"'COVER SHEET'!$D$16&IF(MID('COVER SHEET'!$I$18,6,10)=\"december\",\"1231\",IF(MID('COVER SHEET'!$I$18,6,10)=\"june\",\"0630\"))","v":"20241231"},{"$f":"+'Incoming Remittances (Volume)'!D73","v":0}]
["CMREM_11500","EG",{"$f":"+'Incoming Remittances (Volume)'!$D$5","v":"20240731"},{"$f":"+'COVER SHEET'!$D$12","v":0},11500,{"$f":"'COVER SHEET'!$D$16&IF(MID('COVER SHEET'!$I$18,6,10)=\"december\",\"1231\",IF(MID('COVER SHEET'!$I$18,6,10)=\"june\",\"0630\"))","v":"20241231"},{"$f":"+'Incoming Remittances (Volume)'!D74","v":0}]
["CMREM_11500","SV",{"$f":"+'Incoming Remittances (Volume)'!$D$5","v":"20240731"},{"$f":"+'COVER SHEET'!$D$12","v":0},11500,{"$f":"'COVER SHEET'!$D$16&IF(MID('COVER SHEET'!$I$18,6,10)=\"december\",\"1231\",IF(MID('COVER SHEET'!$I$18,6,10)=\"june\",\"0630\"))","v":"20241231"},{"$f":"+'Incoming Remittances (Volume)'!D75","v":0}]
["CMREM_11500","GQ",{"$f":"+'Incoming Remittances (Volume)'!$D$5","v":"20240731"},{"$f":"+'COVER SHEET'!$D$12","v":0},11500,{"$f":"'COVER SHEET'!$D$16&IF(MID('COVER SHEET'!$I$18,6,10)=\"december\",\"1231\",IF(MID('COVER SHEET'!$I$18,6,10)=\"june\",\"0630\"))","v":"20241231"},{"$f":"+'Incoming Remittances (Volume)'!D76","v":0}]
["CMREM_11500","ER",{"$f":"+'Incoming Remittances (Volume)'!$D$5","v":"20240731"},{"$f":"+'COVER SHEET'!$D$12","v":0},11500,{"$f":"'COVER SHEET'!$D$16&IF(MID('COVER SHEET'!$I$18,6,10)=\"december\",\"1231\",IF(MID('COVER SHEET'!$I$18,6,10)=\"june\",\"0630\"))","v":"20241231"},{"$f":"+'Incoming Remittances (Volume)'!D77","v":0}]
["CMREM_11500","EE",{"$f":"+'Incoming Remittances (Volume)'!$D$5","v":"20240731"},{"$f":"+'COVER SHEET'!$D$12","v":0},11500,{"$f":"'COVER SHEET'!$D$16&IF(MID('COVER SHEET'!$I$18,6,10)=\"december\",\"1231\",IF(MID('COVER SHEET'!$I$18,6,10)=\"june\",\"0630\"))","v":"20241231"},{"$f":"+'Incoming Remittances (Volume)'!D78","v":0}]
["CMREM_11500","ET",{"$f":"+'Incoming Remittances (Volume)'!$D$5","v":"20240731"},{"$f":"+'COVER SHEET'!$D$12","v":0},11500,{"$f":"'COVER SHEET'!$D$16&IF(MID('COVER SHEET'!$I$18,6,10)=\"december\",\"1231\",IF(MID('COVER SHEET'!$I$18,6,10)=\"june\",\"0630\"))","v":"20241231"},{"$f":"+'Incoming Remittances (Volume)'!D79","v":0}]
["CMREM_11500","FK",{"$f":"+'Incoming Remittances (Volume)'!$D$5","v":"20240731"},{"$f":"+'COVER SHEET'!$D$12","v":0},11500,{"$f":"'COVER SHEET'!$D$16&IF(MID('COVER SHEET'!$I$18,6,10)=\"december\",\"1231\",IF(MID('COVER SHEET'!$I$18,6,10)=\"june\",\"0630\"))","v":"20241231"},{"$f":"+'Incoming Remittances (Volume)'!D80","v":0}]
["CMREM_11500","FO",{"$f":"+'Incoming Remittances (Volume)'!$D$5","v":"20240731"},{"$f":"+'COVER SHEET'!$D$12","v":0},11500,{"$f":"'COVER SHEET'!$D$16&IF(MID('COVER SHEET'!$I$18,6,10)=\"december\",\"1231\",IF(MID('COVER SHEET'!$I$18,6,10)=\"june\",\"0630\"))","v":"20241231"},{"$f":"+'Incoming Remittances (Volume)'!D81","v":0}]
["CMREM_11500","FJ",{"$f":"+'Incoming Remittances (Volume)'!$D$5","v":"20240731"},{"$f":"+'COVER SHEET'!$D$12","v":0},11500,{"$f":"'COVER SHEET'!$D$16&IF(MID('COVER SHEET'!$I$18,6,10)=\"december\",\"1231\",IF(MID('COVER SHEET'!$I$18,6,10)=\"june\",\"0630\"))","v":"20241231"},{"$f":"+'Incoming Remittances (Volume)'!D82","v":0}]
["CMREM_11500","FI",{"$f":"+'Incoming Remittances (Volume)'!$D$5","v":"20240731"},{"$f":"+'COVER SHEET'!$D$12","v":0},11500,{"$f":"'COVER SHEET'!$D$16&IF(MID('COVER SHEET'!$I$18,6,10)=\"december\",\"1231\",IF(MID('COVER SHEET'!$I$18,6,10)=\"june\",\"0630\"))","v":"20241231"},{"$f":"+'Incoming Remittances (Volume)'!D83","v":0}]
["CMREM_11500","FR",{"$f":"+'Incoming Remittances (Volume)'!$D$5","v":"20240731"},{"$f":"+'COVER SHEET'!$D$12","v":0},11500,{"$f":"'COVER SHEET'!$D$16&IF(MID('COVER SHEET'!$I$18,6,10)=\"december\",\"1231\",IF(MID('COVER SHEET'!$I$18,6,10)=\"june\",\"0630\"))","v":"20241231"},{"$f":"+'Incoming Remittances (Volume)'!D84","v":0}]
["CMREM_11500","PF",{"$f":"+'Incoming Remittances (Volume)'!$D$5","v":"20240731"},{"$f":"+'COVER SHEET'!$D$12","v":0},11500,{"$f":"'COVER SHEET'!$D$16&IF(MID('COVER SHEET'!$I$18,6,10)=\"december\",\"1231\",IF(MID('COVER SHEET'!$I$18,6,10)=\"june\",\"0630\"))","v":"20241231"},{"$f":"+'Incoming Remittances (Volume)'!D85","v":0}]
["CMREM_11500","TF",{"$f":"+'Incoming Remittances (Volume)'!$D$5","v":"20240731"},{"$f":"+'COVER SHEET'!$D$12","v":0},11500,{"$f":"'COVER SHEET'!$D$16&IF(MID('COVER SHEET'!$I$18,6,10)=\"december\",\"1231\",IF(MID('COVER SHEET'!$I$18,6,10)=\"june\",\"0630\"))","v":"20241231"},{"$f":"+'Incoming Remittances (Volume)'!D86","v":0}]
["CMREM_11500","GA",{"$f":"+'Incoming Remittances (Volume)'!$D$5","v":"20240731"},{"$f":"+'COVER SHEET'!$D$12","v":0},11500,{"$f":"'COVER SHEET'!$D$16&IF(MID('COVER SHEET'!$I$18,6,10)=\"december\",\"1231\",IF(MID('COVER SHEET'!$I$18,6,10)=\"june\",\"0630\"))","v":"20241231"},{"$f":"+'Incoming Remittances (Volume)'!D87","v":0}]
["CMREM_11500","GM",{"$f":"+'Incoming Remittances (Volume)'!$D$5","v":"20240731"},{"$f":"+'COVER SHEET'!$D$12","v":0},11500,{"$f":"'COVER SHEET'!$D$16&IF(MID('COVER SHEET'!$I$18,6,10)=\"december\",\"1231\",IF(MID('COVER SHEET'!$I$18,6,10)=\"june\",\"0630\"))","v":"20241231"},{"$f":"+'Incoming Remittances (Volume)'!D88","v":0}]
["CMREM_11500","GE",{"$f":"+'Incoming Remittances (Volume)'!$D$5","v":"20240731"},{"$f":"+'COVER SHEET'!$D$12","v":0},11500,{"$f":"'COVER SHEET'!$D$16&IF(MID('COVER SHEET'!$I$18,6,10)=\"december\",\"1231\",IF(MID('COVER SHEET'!$I$18,6,10)=\"june\",\"0630\"))","v":"20241231"},{"$f":"+'Incoming Remittances (Volume)'!D89","v":0}]
["CMREM_11500","DE",{"$f":"+'Incoming Remittances (Volume)'!$D$5","v":"20240731"},{"$f":"+'COVER SHEET'!$D$12","v":0},11500,{"$f":"'COVER SHEET'!$D$16&IF(MID('COVER SHEET'!$I$18,6,10)=\"december\",\"1231\",IF(MID('COVER SHEET'!$I$18,6,10)=\"june\",\"0630\"))","v":"20241231"},{"$f":"+'Incoming Remittances (Volume)'!D90","v":0}]
["CMREM_11500","GH",{"$f":"+'Incoming Remittances (Volume)'!$D$5","v":"20240731"},{"$f":"+'COVER SHEET'!$D$12","v":0},11500,{"$f":"'COVER SHEET'!$D$16&IF(MID('COVER SHEET'!$I$18,6,10)=\"december\",\"1231\",IF(MID('COVER SHEET'!$I$18,6,10)=\"june\",\"0630\"))","v":"20241231"},{"$f":"+'Incoming Remittances (Volume)'!D91","v":0}]
["CMREM_11500","GI",{"$f":"+'Incoming Remittances (Volume)'!$D$5","v":"20240731"},{"$f":"+'COVER SHEET'!$D$12","v":0},11500,{"$f":"'COVER SHEET'!$D$16&IF(MID('COVER SHEET'!$I$18,6,10)=\"december\",\"1231\",IF(MID('COVER SHEET'!$I$18,6,10)=\"june\",\"0630\"))","v":"20241231"},{"$f":"+'Incoming Remittances (Volume)'!D92","v":0}]
["CMREM_11500","GR",{"$f":"+'Incoming Remittances (Volume)'!$D$5","v":"20240731"},{"$f":"+'COVER SHEET'!$D$12","v":0},11500,{"$f":"'COVER SHEET'!$D$16&IF(MID('COVER SHEET'!$I$18,6,10)=\"december\",\"1231\",IF(MID('COVER SHEET'!$I$18,6,10)=\"june\",\"0630\"))","v":"20241231"},{"$f":"+'Incoming Remittances (Volume)'!D93","v":0}]
["CMREM_11500","GL",{"$f":"+'Incoming Remittances (Volume)'!$D$5","v":"20240731"},{"$f":"+'COVER SHEET'!$D$12","v":0},11500,{"$f":"'COVER SHEET'!$D$16&IF(MID('COVER SHEET'!$I$18,6,10)=\"december\",\"1231\",IF(MID('COVER SHEET'!$I$18,6,10)=\"june\",\"0630\"))","v":"20241231"},{"$f":"+'Incoming Remittances (Volume)'!D94","v":0}]
["CMREM_11500","GD",{"$f":"+'Incoming Remittances (Volume)'!$D$5","v":"20240731"},{"$f":"+'COVER SHEET'!$D$12","v":0},11500,{"$f":"'COVER SHEET'!$D$16&IF(MID('COVER SHEET'!$I$18,6,10)=\"december\",\"1231\",IF(MID('COVER SHEET'!$I$18,6,10)=\"june\",\"0630\"))","v":"20241231"},{"$f":"+'Incoming Remittances (Volume)'!D95","v":0}]
["CMREM_11500","GU",{"$f":"+'Incoming Remittances (Volume)'!$D$5","v":"20240731"},{"$f":"+'COVER SHEET'!$D$12","v":0},11500,{"$f":"'COVER SHEET'!$D$16&IF(MID('COVER SHEET'!$I$18,6,10)=\"december\",\"1231\",IF(MID('COVER SHEET'!$I$18,6,10)=\"june\",\"0630\"))","v":"20241231"},{"$f":"+'Incoming Remittances (Volume)'!D96","v":0}]
["CMREM_11500","GT",{"$f":"+'Incoming Remittances (Volume)'!$D$5","v":"20240731"},{"$f":"+'COVER SHEET'!$D$12","v":0},11500,{"$f":"'COVER SHEET'!$D$16&IF(MID('COVER SHEET'!$I$18,6,10)=\"december\",\"1231\",IF(MID('COVER SHEET'!$I$18,6,10)=\"june\",\"0630\"))","v":"20241231"},{"$f":"+'Incoming Remittances (Volume)'!D97","v":0}]
["CMREM_11500","GG",{"$f":"+'Incoming Remittances (Volume)'!$D$5","v":"20240731"},{"$f":"+'COVER SHEET'!$D$12","v":0},11500,{"$f":"'COVER SHEET'!$D$16&IF(MID('COVER SHEET'!$I$18,6,10)=\"december\",\"1231\",IF(MID('COVER SHEET'!$I$18,6,10)=\"june\",\"0630\"))","v":"20241231"},{"$f":"+'Incoming Remittances (Volume)'!D98","v":0}]
["CMREM_11500","GN",{"$f":"+'Incoming Remittances (Volume)'!$D$5","v":"20240731"},{"$f":"+'COVER SHEET'!$D$12","v":0},11500,{"$f":"'COVER SHEET'!$D$16&IF(MID('COVER SHEET'!$I$18,6,10)=\"december\",\"1231\",IF(MID('COVER SHEET'!$I$18,6,10)=\"june\",\"0630\"))","v":"20241231"},{"$f":"+'Incoming Remittances (Volume)'!D99","v":0}]
["CMREM_11500","GW",{"$f":"+'Incoming Remittances (Volume)'!$D$5","v":"20240731"},{"$f":"+'COVER SHEET'!$D$12","v":0},11500,{"$f":"'COVER SHEET'!$D$16&IF(MID('COVER SHEET'!$I$18,6,10)=\"december\",\"1231\",IF(MID('COVER SHEET'!$I$18,6,10)=\"june\",\"0630\"))","v":"20241231"},{"$f":"+'Incoming Remittances (Volume)'!D100","v":0}]
["CMREM_11500","GY",{"$f":"+'Incoming Remittances (Volume)'!$D$5","v":"20240731"},{"$f":"+'COVER SHEET'!$D$12","v":0},11500,{"$f":"'COVER SHEET'!$D$16&IF(MID('COVER SHEET'!$I$18,6,10)=\"december\",\"1231\",IF(MID('COVER SHEET'!$I$18,6,10)=\"june\",\"0630\"))","v":"20241231"},{"$f":"+'Incoming Remittances (Volume)'!D101","v":0}]
["CMREM_11500","HT",{"$f":"+'Incoming Remittances (Volume)'!$D$5","v":"20240731"},{"$f":"+'COVER SHEET'!$D$12","v":0},11500,{"$f":"'COVER SHEET'!$D$16&IF(MID('COVER SHEET'!$I$18,6,10)=\"december\",\"1231\",IF(MID('COVER SHEET'!$I$18,6,10)=\"june\",\"0630\"))","v":"20241231"},{"$f":"+'Incoming Remittances (Volume)'!D102","v":0}]
["CMREM_11500","HM",{"$f":"+'Incoming Remittances (Volume)'!$D$5","v":"20240731"},{"$f":"+'COVER SHEET'!$D$12","v":0},11500,{"$f":"'COVER SHEET'!$D$16&IF(MID('COVER SHEET'!$I$18,6,10)=\"december\",\"1231\",IF(MID('COVER SHEET'!$I$18,6,10)=\"june\",\"0630\"))","v":"20241231"},{"$f":"+'Incoming Remittances (Volume)'!D103","v":0}]
["CMREM_11500","VA",{"$f":"+'Incoming Remittances (Volume)'!$D$5","v":"20240731"},{"$f":"+'COVER SHEET'!$D$12","v":0},11500,{"$f":"'COVER SHEET'!$D$16&IF(MID('COVER SHEET'!$I$18,6,10)=\"december\",\"1231\",IF(MID('COVER SHEET'!$I$18,6,10)=\"june\",\"0630\"))","v":"20241231"},{"$f":"+'Incoming Remittances (Volume)'!D104","v":0}]
["CMREM_11500","HN",{"$f":"+'Incoming Remittances (Volume)'!$D$5","v":"20240731"},{"$f":"+'COVER SHEET'!$D$12","v":0},11500,{"$f":"'COVER SHEET'!$D$16&IF(MID('COVER SHEET'!$I$18,6,10)=\"december\",\"1231\",IF(MID('COVER SHEET'!$I$18,6,10)=\"june\",\"0630\"))","v":"20241231"},{"$f":"+'Incoming Remittances (Volume)'!D105","v":0}]
["CMREM_11500","HK",{"$f":"+'Incoming Remittances (Volume)'!$D$5","v":"20240731"},{"$f":"+'COVER SHEET'!$D$12","v":0},11500,{"$f":"'COVER SHEET'!$D$16&IF(MID('COVER SHEET'!$I$18,6,10)=\"december\",\"1231\",IF(MID('COVER SHEET'!$I$18,6,10)=\"june\",\"0630\"))","v":"20241231"},{"$f":"+'Incoming Remittances (Volume)'!D106","v":0}]
["CMREM_11500","HU",{"$f":"+'Incoming Remittances (Volume)'!$D$5","v":"20240731"},{"$f":"+'COVER SHEET'!$D$12","v":0},11500,{"$f":"'COVER SHEET'!$D$16&IF(MID('COVER SHEET'!$I$18,6,10)=\"december\",\"1231\",IF(MID('COVER SHEET'!$I$18,6,10)=\"june\",\"0630\"))","v":"20241231"},{"$f":"+'Incoming Remittances (Volume)'!D107","v":0}]
["CMREM_11500","IS",{"$f":"+'Incoming Remittances (Volume)'!$D$5","v":"20240731"},{"$f":"+'COVER SHEET'!$D$12","v":0},11500,{"$f":"'COVER SHEET'!$D$16&IF(MID('COVER SHEET'!$I$18,6,10)=\"december\",\"1231\",IF(MID('COVER SHEET'!$I$18,6,10)=\"june\",\"0630\"))","v":"20241231"},{"$f":"+'Incoming Remittances (Volume)'!D108","v":0}]
["CMREM_11500","IN",{"$f":"+'Incoming Remittances (Volume)'!$D$5","v":"20240731"},{"$f":"+'COVER SHEET'!$D$12","v":0},11500,{"$f":"'COVER SHEET'!$D$16&IF(MID('COVER SHEET'!$I$18,6,10)=\"december\",\"1231\",IF(MID('COVER SHEET'!$I$18,6,10)=\"june\",\"0630\"))","v":"20241231"},{"$f":"+'Incoming Remittances (Volume)'!D109","v":0}]
["CMREM_11500","ID",{"$f":"+'Incoming Remittances (Volume)'!$D$5","v":"20240731"},{"$f":"+'COVER SHEET'!$D$12","v":0},11500,{"$f":"'COVER SHEET'!$D$16&IF(MID('COVER SHEET'!$I$18,6,10)=\"december\",\"1231\",IF(MID('COVER SHEET'!$I$18,6,10)=\"june\",\"0630\"))","v":"20241231"},{"$f":"+'Incoming Remittances (Volume)'!D110","v":0}]
["CMREM_11500","IR",{"$f":"+'Incoming Remittances (Volume)'!$D$5","v":"20240731"},{"$f":"+'COVER SHEET'!$D$12","v":0},11500,{"$f":"'COVER SHEET'!$D$16&IF(MID('COVER SHEET'!$I$18,6,10)=\"december\",\"1231\",IF(MID('COVER SHEET'!$I$18,6,10)=\"june\",\"0630\"))","v":"20241231"},{"$f":"+'Incoming Remittances (Volume)'!D111","v":0}]
["CMREM_11500","IQ",{"$f":"+'Incoming Remittances (Volume)'!$D$5","v":"20240731"},{"$f":"+'COVER SHEET'!$D$12","v":0},11500,{"$f":"'COVER SHEET'!$D$16&IF(MID('COVER SHEET'!$I$18,6,10)=\"december\",\"1231\",IF(MID('COVER SHEET'!$I$18,6,10)=\"june\",\"0630\"))","v":"20241231"},{"$f":"+'Incoming Remittances (Volume)'!D112","v":0}]
["CMREM_11500","IE",{"$f":"+'Incoming Remittances (Volume)'!$D$5","v":"20240731"},{"$f":"+'COVER SHEET'!$D$12","v":0},11500,{"$f":"'COVER SHEET'!$D$16&IF(MID('COVER SHEET'!$I$18,6,10)=\"december\",\"1231\",IF(MID('COVER SHEET'!$I$18,6,10)=\"june\",\"0630\"))","v":"20241231"},{"$f":"+'Incoming Remittances (Volume)'!D113","v":0}]
["CMREM_11500","IM",{"$f":"+'Incoming Remittances (Volume)'!$D$5","v":"20240731"},{"$f":"+'COVER SHEET'!$D$12","v":0},11500,{"$f":"'COVER SHEET'!$D$16&IF(MID('COVER SHEET'!$I$18,6,10)=\"december\",\"1231\",IF(MID('COVER SHEET'!$I$18,6,10)=\"june\",\"0630\"))","v":"20241231"},{"$f":"+'Incoming Remittances (Volume)'!D114","v":0}]
["CMREM_11500","IL",{"$f":"+'Incoming Remittances (Volume)'!$D$5","v":"20240731"},{"$f":"+'COVER SHEET'!$D$12","v":0},11500,{"$f":"'COVER SHEET'!$D$16&IF(MID('COVER SHEET'!$I$18,6,10)=\"december\",\"1231\",IF(MID('COVER SHEET'!$I$18,6,10)=\"june\",\"0630\"))","v":"20241231"},{"$f":"+'Incoming Remittances (Volume)'!D115","v":0}]
["CMREM_11500","IT",{"$f":"+'Incoming Remittances (Volume)'!$D$5","v":"20240731"},{"$f":"+'COVER SHEET'!$D$12","v":0},11500,{"$f":"'COVER SHEET'!$D$16&IF(MID('COVER SHEET'!$I$18,6,10)=\"december\",\"1231\",IF(MID('COVER SHEET'!$I$18,6,10)=\"june\",\"0630\"))","v":"20241231"},{"$f":"+'Incoming Remittances (Volume)'!D116","v":0}]
["CMREM_11500","CI",{"$f":"+'Incoming Remittances (Volume)'!$D$5","v":"20240731"},{"$f":"+'COVER SHEET'!$D$12","v":0},11500,{"$f":"'COVER SHEET'!$D$16&IF(MID('COVER SHEET'!$I$18,6,10)=\"december\",\"1231\",IF(MID('COVER SHEET'!$I$18,6,10)=\"june\",\"0630\"))","v":"20241231"},{"$f":"+'Incoming Remittances (Volume)'!D117","v":0}]
["CMREM_11500","JM",{"$f":"+'Incoming Remittances (Volume)'!$D$5","v":"20240731"},{"$f":"+'COVER SHEET'!$D$12","v":0},11500,{"$f":"'COVER SHEET'!$D$16&IF(MID('COVER SHEET'!$I$18,6,10)=\"december\",\"1231\",IF(MID('COVER SHEET'!$I$18,6,10)=\"june\",\"0630\"))","v":"20241231"},{"$f":"+'Incoming Remittances (Volume)'!D118","v":0}]
["CMREM_11500","JP",{"$f":"+'Incoming Remittances (Volume)'!$D$5","v":"20240731"},{"$f":"+'COVER SHEET'!$D$12","v":0},11500,{"$f":"'COVER SHEET'!$D$16&IF(MID('COVER SHEET'!$I$18,6,10)=\"december\",\"1231\",IF(MID('COVER SHEET'!$I$18,6,10)=\"june\",\"0630\"))","v":"20241231"},{"$f":"+'Incoming Remittances (Volume)'!D119","v":0}]
["CMREM_11500","JE",{"$f":"+'Incoming Remittances (Volume)'!$D$5","v":"20240731"},{"$f":"+'COVER SHEET'!$D$12","v":0},11500,{"$f":"'COVER SHEET'!$D$16&IF(MID('COVER SHEET'!$I$18,6,10)=\"december\",\"1231\",IF(MID('COVER SHEET'!$I$18,6,10)=\"june\",\"0630\"))","v":"20241231"},{"$f":"+'Incoming Remittances (Volume)'!D120","v":0}]
["CMREM_11500","JO",{"$f":"+'Incoming Remittances (Volume)'!$D$5","v":"20240731"},{"$f":"+'COVER SHEET'!$D$12","v":0},11500,{"$f":"'COVER SHEET'!$D$16&IF(MID('COVER SHEET'!$I$18,6,10)=\"december\",\"1231\",IF(MID('COVER SHEET'!$I$18,6,10)=\"june\",\"0630\"))","v":"20241231"},{"$f":"+'Incoming Remittances (Volume)'!D121","v":0}]
["CMREM_11500","KZ",{"$f":"+'Incoming Remittances (Volume)'!$D$5","v":"20240731"},{"$f":"+'COVER SHEET'!$D$12","v":0},11500,{"$f":"'COVER SHEET'!$D$16&IF(MID('COVER SHEET'!$I$18,6,10)=\"december\",\"1231\",IF(MID('COVER SHEET'!$I$18,6,10)=\"june\",\"0630\"))","v":"20241231"},{"$f":"+'Incoming Remittances (Volume)'!D122","v":0}]
["CMREM_11500","KE",{"$f":"+'Incoming Remittances (Volume)'!$D$5","v":"20240731"},{"$f":"+'COVER SHEET'!$D$12","v":0},11500,{"$f":"'COVER SHEET'!$D$16&IF(MID('COVER SHEET'!$I$18,6,10)=\"december\",\"1231\",IF(MID('COVER SHEET'!$I$18,6,10)=\"june\",\"0630\"))","v":"20241231"},{"$f":"+'Incoming Remittances (Volume)'!D123","v":0}]
["CMREM_11500","KI",{"$f":"+'Incoming Remittances (Volume)'!$D$5","v":"20240731"},{"$f":"+'COVER SHEET'!$D$12","v":0},11500,{"$f":"'COVER SHEET'!$D$16&IF(MID('COVER SHEET'!$I$18,6,10)=\"december\",\"1231\",IF(MID('COVER SHEET'!$I$18,6,10)=\"june\",\"0630\"))","v":"20241231"},{"$f":"+'Incoming Remittances (Volume)'!D124","v":0}]
["CMREM_11500","KP",{"$f":"+'Incoming Remittances (Volume)'!$D$5","v":"20240731"},{"$f":"+'COVER SHEET'!$D$12","v":0},11500,{"$f":"'COVER SHEET'!$D$16&IF(MID('COVER SHEET'!$I$18,6,10)=\"december\",\"1231\",IF(MID('COVER SHEET'!$I$18,6,10)=\"june\",\"0630\"))","v":"20241231"},{"$f":"+'Incoming Remittances (Volume)'!D125","v":0}]
["CMREM_11500","KR",{"$f":"+'Incoming Remittances (Volume)'!$D$5","v":"20240731"},{"$f":"+'COVER SHEET'!$D$12","v":0},11500,{"$f":"'COVER SHEET'!$D$16&IF(MID('COVER SHEET'!$I$18,6,10)=\"december\",\"1231\",IF(MID('COVER SHEET'!$I$18,6,10)=\"june\",\"0630\"))","v":"20241231"},{"$f":"+'Incoming Remittances (Volume)'!D126","v":0}]
["CMREM_11500","XK",{"$f":"+'Incoming Remittances (Volume)'!$D$5","v":"20240731"},{"$f":"+'COVER SHEET'!$D$12","v":0},11500,{"$f":"'COVER SHEET'!$D$16&IF(MID('COVER SHEET'!$I$18,6,10)=\"december\",\"1231\",IF(MID('COVER SHEET'!$I$18,6,10)=\"june\",\"0630\"))","v":"20241231"},{"$f":"+'Incoming Remittances (Volume)'!D127","v":0}]
["CMREM_11500","KW",{"$f":"+'Incoming Remittances (Volume)'!$D$5","v":"20240731"},{"$f":"+'COVER SHEET'!$D$12","v":0},11500,{"$f":"'COVER SHEET'!$D$16&IF(MID('COVER SHEET'!$I$18,6,10)=\"december\",\"1231\",IF(MID('COVER SHEET'!$I$18,6,10)=\"june\",\"0630\"))","v":"20241231"},{"$f":"+'Incoming Remittances (Volume)'!D128","v":0}]
["CMREM_11500","KG",{"$f":"+'Incoming Remittances (Volume)'!$D$5","v":"20240731"},{"$f":"+'COVER SHEET'!$D$12","v":0},11500,{"$f":"'COVER SHEET'!$D$16&IF(MID('COVER SHEET'!$I$18,6,10)=\"december\",\"1231\",IF(MID('COVER SHEET'!$I$18,6,10)=\"june\",\"0630\"))","v":"20241231"},{"$f":"+'Incoming Remittances (Volume)'!D129","v":0}]
["CMREM_11500","LA",{"$f":"+'Incoming Remittances (Volume)'!$D$5","v":"20240731"},{"$f":"+'COVER SHEET'!$D$12","v":0},11500,{"$f":"'COVER SHEET'!$D$16&IF(MID('COVER SHEET'!$I$18,6,10)=\"december\",\"1231\",IF(MID('COVER SHEET'!$I$18,6,10)=\"june\",\"0630\"))","v":"20241231"},{"$f":"+'Incoming Remittances (Volume)'!D130","v":0}]
["CMREM_11500","LV",{"$f":"+'Incoming Remittances (Volume)'!$D$5","v":"20240731"},{"$f":"+'COVER SHEET'!$D$12","v":0},11500,{"$f":"'COVER SHEET'!$D$16&IF(MID('COVER SHEET'!$I$18,6,10)=\"december\",\"1231\",IF(MID('COVER SHEET'!$I$18,6,10)=\"june\",\"0630\"))","v":"20241231"},{"$f":"+'Incoming Remittances (Volume)'!D131","v":0}]
["CMREM_11500","LB",{"$f":"+'Incoming Remittances (Volume)'!$D$5","v":"20240731"},{"$f":"+'COVER SHEET'!$D$12","v":0},11500,{"$f":"'COVER SHEET'!$D$16&IF(MID('COVER SHEET'!$I$18,6,10)=\"december\",\"1231\",IF(MID('COVER SHEET'!$I$18,6,10)=\"june\",\"0630\"))","v":"20241231"},{"$f":"+'Incoming Remittances (Volume)'!D132","v":0}]
["CMREM_11500","LS",{"$f":"+'Incoming Remittances (Volume)'!$D$5","v":"20240731"},{"$f":"+'COVER SHEET'!$D$12","v":0},11500,{"$f":"'COVER SHEET'!$D$16&IF(MID('COVER SHEET'!$I$18,6,10)=\"december\",\"1231\",IF(MID('COVER SHEET'!$I$18,6,10)=\"june\",\"0630\"))","v":"20241231"},{"$f":"+'Incoming Remittances (Volume)'!D133","v":0}]
["CMREM_11500","LR",{"$f":"+'Incoming Remittances (Volume)'!$D$5","v":"20240731"},{"$f":"+'COVER SHEET'!$D$12","v":0},11500,{"$f":"'COVER SHEET'!$D$16&IF(MID('COVER SHEET'!$I$18,6,10)=\"december\",\"1231\",IF(MID('COVER SHEET'!$I$18,6,10)=\"june\",\"0630\"))","v":"20241231"},{"$f":"+'Incoming Remittances (Volume)'!D134","v":0}]
["CMREM_11500","LY",{"$f":"+'Incoming Remittances (Volume)'!$D$5","v":"20240731"},{"$f":"+'COVER SHEET'!$D$12","v":0},11500,{"$f":"'COVER SHEET'!$D$16&IF(MID('COVER SHEET'!$I$18,6,10)=\"december\",\"1231\",IF(MID('COVER SHEET'!$I$18,6,10)=\"june\",\"0630\"))","v":"20241231"},{"$f":"+'Incoming Remittances (Volume)'!D135","v":0}]
["CMREM_11500","LI",{"$f":"+'Incoming Remittances (Volume)'!$D$5","v":"20240731"},{"$f":"+'COVER SHEET'!$D$12","v":0},11500,{"$f":"'COVER SHEET'!$D$16&IF(MID('COVER SHEET'!$I$18,6,10)=\"december\",\"1231\",IF(MID('COVER SHEET'!$I$18,6,10)=\"june\",\"0630\"))","v":"20241231"},{"$f":"+'Incoming Remittances (Volume)'!D136","v":0}]
["CMREM_11500","LT",{"$f":"+'Incoming Remittances (Volume)'!$D$5","v":"20240731"},{"$f":"+'COVER SHEET'!$D$12","v":0},11500,{"$f":"'COVER SHEET'!$D$16&IF(MID('COVER SHEET'!$I$18,6,10)=\"december\",\"1231\",IF(MID('COVER SHEET'!$I$18,6,10)=\"june\",\"0630\"))","v":"20241231"},{"$f":"+'Incoming Remittances (Volume)'!D137","v":0}]
["CMREM_11500","LU",{"$f":"+'Incoming Remittances (Volume)'!$D$5","v":"20240731"},{"$f":"+'COVER SHEET'!$D$12","v":0},11500,{"$f":"'COVER SHEET'!$D$16&IF(MID('COVER SHEET'!$I$18,6,10)=\"december\",\"1231\",IF(MID('COVER SHEET'!$I$18,6,10)=\"june\",\"0630\"))","v":"20241231"},{"$f":"+'Incoming Remittances (Volume)'!D138","v":0}]
["CMREM_11500","MO",{"$f":"+'Incoming Remittances (Volume)'!$D$5","v":"20240731"},{"$f":"+'COVER SHEET'!$D$12","v":0},11500,{"$f":"'COVER SHEET'!$D$16&IF(MID('COVER SHEET'!$I$18,6,10)=\"december\",\"1231\",IF(MID('COVER SHEET'!$I$18,6,10)=\"june\",\"0630\"))","v":"20241231"},{"$f":"+'Incoming Remittances (Volume)'!D139","v":0}]
["CMREM_11500","MK",{"$f":"+'Incoming Remittances (Volume)'!$D$5","v":"20240731"},{"$f":"+'COVER SHEET'!$D$12","v":0},11500,{"$f":"'COVER SHEET'!$D$16&IF(MID('COVER SHEET'!$I$18,6,10)=\"december\",\"1231\",IF(MID('COVER SHEET'!$I$18,6,10)=\"june\",\"0630\"))","v":"20241231"},{"$f":"+'Incoming Remittances (Volume)'!D140","v":0}]
["CMREM_11500","MG",{"$f":"+'Incoming Remittances (Volume)'!$D$5","v":"20240731"},{"$f":"+'COVER SHEET'!$D$12","v":0},11500,{"$f":"'COVER SHEET'!$D$16&IF(MID('COVER SHEET'!$I$18,6,10)=\"december\",\"1231\",IF(MID('COVER SHEET'!$I$18,6,10)=\"june\",\"0630\"))","v":"20241231"},{"$f":"+'Incoming Remittances (Volume)'!D141","v":0}]
["CMREM_11500","MW",{"$f":"+'Incoming Remittances (Volume)'!$D$5","v":"20240731"},{"$f":"+'COVER SHEET'!$D$12","v":0},11500,{"$f":"'COVER SHEET'!$D$16&IF(MID('COVER SHEET'!$I$18,6,10)=\"december\",\"1231\",IF(MID('COVER SHEET'!$I$18,6,10)=\"june\",\"0630\"))","v":"20241231"},{"$f":"+'Incoming Remittances (Volume)'!D142","v":0}]
["CMREM_11500","MY",{"$f":"+'Incoming Remittances (Volume)'!$D$5","v":"20240731"},{"$f":"+'COVER SHEET'!$D$12","v":0},11500,{"$f":"'COVER SHEET'!$D$16&IF(MID('COVER SHEET'!$I$18,6,10)=\"december\",\"1231\",IF(MID('COVER SHEET'!$I$18,6,10)=\"june\",\"0630\"))","v":"20241231"},{"$f":"+'Incoming Remittances (Volume)'!D143","v":0}]
["CMREM_11500","MV",{"$f":"+'Incoming Remittances (Volume)'!$D$5","v":"20240731"},{"$f":"+'COVER SHEET'!$D$12","v":0},11500,{"$f":"'COVER SHEET'!$D$16&IF(MID('COVER SHEET'!$I$18,6,10)=\"december\",\"1231\",IF(MID('COVER SHEET'!$I$18,6,10)=\"june\",\"0630\"))","v":"20241231"},{"$f":"+'Incoming Remittances (Volume)'!D144","v":0}]
["CMREM_11500","ML",{"$f":"+'Incoming Remittances (Volume)'!$D$5","v":"20240731"},{"$f":"+'COVER SHEET'!$D$12","v":0},11500,{"$f":"'COVER SHEET'!$D$16&IF(MID('COVER SHEET'!$I$18,6,10)=\"december\",\"1231\",IF(MID('COVER SHEET'!$I$18,6,10)=\"june\",\"0630\"))","v":"20241231"},{"$f":"+'Incoming Remittances (Volume)'!D145","v":0}]
["CMREM_11500","MH",{"$f":"+'Incoming Remittances (Volume)'!$D$5","v":"20240731"},{"$f":"+'COVER SHEET'!$D$12","v":0},11500,{"$f":"'COVER SHEET'!$D$16&IF(MID('COVER SHEET'!$I$18,6,10)=\"december\",\"1231\",IF(MID('COVER SHEET'!$I$18,6,10)=\"june\",\"0630\"))","v":"20241231"},{"$f":"+'Incoming Remittances (Volume)'!D146","v":0}]
["CMREM_11500","MR",{"$f":"+'Incoming Remittances (Volume)'!$D$5","v":"20240731"},{"$f":"+'COVER SHEET'!$D$12","v":0},11500,{"$f":"'COVER SHEET'!$D$16&IF(MID('COVER SHEET'!$I$18,6,10)=\"december\",\"1231\",IF(MID('COVER SHEET'!$I$18,6,10)=\"june\",\"0630\"))","v":"20241231"},{"$f":"+'Incoming Remittances (Volume)'!D147","v":0}]
["CMREM_11500","MU",{"$f":"+'Incoming Remittances (Volume)'!$D$5","v":"20240731"},{"$f":"+'COVER SHEET'!$D$12","v":0},11500,{"$f":"'COVER SHEET'!$D$16&IF(MID('COVER SHEET'!$I$18,6,10)=\"december\",\"1231\",IF(MID('COVER SHEET'!$I$18,6,10)=\"june\",\"0630\"))","v":"20241231"},{"$f":"+'Incoming Remittances (Volume)'!D148","v":0}]
["CMREM_11500","MX",{"$f":"+'Incoming Remittances (Volume)'!$D$5","v":"20240731"},{"$f":"+'COVER SHEET'!$D$12","v":0},11500,{"$f":"'COVER SHEET'!$D$16&IF(MID('COVER SHEET'!$I$18,6,10)=\"december\",\"1231\",IF(MID('COVER SHEET'!$I$18,6,10)=\"june\",\"0630\"))","v":"20241231"},{"$f":"+'Incoming Remittances (Volume)'!D149","v":0}]
["CMREM_11500","FM",{"$f":"+'Incoming Remittances (Volume)'!$D$5","v":"20240731"},{"$f":"+'COVER SHEET'!$D$12","v":0},11500,{"$f":"'COVER SHEET'!$D$16&IF(MID('COVER SHEET'!$I$18,6,10)=\"december\",\"1231\",IF(MID('COVER SHEET'!$I$18,6,10)=\"june\",\"0630\"))","v":"20241231"},{"$f":"+'Incoming Remittances (Volume)'!D150","v":0}]
["CMREM_11500","MD",{"$f":"+'Incoming Remittances (Volume)'!$D$5","v":"20240731"},{"$f":"+'COVER SHEET'!$D$12","v":0},11500,{"$f":"'COVER SHEET'!$D$16&IF(MID('COVER SHEET'!$I$18,6,10)=\"december\",\"1231\",IF(MID('COVER SHEET'!$I$18,6,10)=\"june\",\"0630\"))","v":"20241231"},{"$f":"+'Incoming Remittances (Volume)'!D151","v":0}]
["CMREM_11500","MN",{"$f":"+'Incoming Remittances (Volume)'!$D$5","v":"20240731"},{"$f":"+'COVER SHEET'!$D$12","v":0},11500,{"$f":"'COVER SHEET'!$D$16&IF(MID('COVER SHEET'!$I$18,6,10)=\"december\",\"1231\",IF(MID('COVER SHEET'!$I$18,6,10)=\"june\",\"0630\"))","v":"20241231"},{"$f":"+'Incoming Remittances (Volume)'!D152","v":0}]
["CMREM_11500","ME",{"$f":"+'Incoming Remittances (Volume)'!$D$5","v":"20240731"},{"$f":"+'COVER SHEET'!$D$12","v":0},11500,{"$f":"'COVER SHEET'!$D$16&IF(MID('COVER SHEET'!$I$18,6,10)=\"december\",\"1231\",IF(MID('COVER SHEET'!$I$18,6,10)=\"june\",\"0630\"))","v":"20241231"},{"$f":"+'Incoming Remittances (Volume)'!D153","v":0}]
["CMREM_11500","MS",{"$f":"+'Incoming Remittances (Volume)'!$D$5","v":"20240731"},{"$f":"+'COVER SHEET'!$D$12","v":0},11500,{"$f":"'COVER SHEET'!$D$16&IF(MID('COVER SHEET'!$I$18,6,10)=\"december\",\"1231\",IF(MID('COVER SHEET'!$I$18,6,10)=\"june\",\"0630\"))","v":"20241231"},{"$f":"+'Incoming Remittances (Volume)'!D154","v":0}]
["CMREM_11500","MA",{"$f":"+'Incoming Remittances (Volume)'!$D$5","v":"20240731"},{"$f":"+'COVER SHEET'!$D$12","v":0},11500,{"$f":"'COVER SHEET'!$D$16&IF(MID('COVER SHEET'!$I$18,6,10)=\"december\",\"1231\",IF(MID('COVER SHEET'!$I$18,6,10)=\"june\",\"0630\"))","v":"20241231"},{"$f":"+'Incoming Remittances (Volume)'!D155","v":0}]
["CMREM_11500","MZ",{"$f":"+'Incoming Remittances (Volume)'!$D$5","v":"20240731"},{"$f":"+'COVER SHEET'!$D$12","v":0},11500,{"$f":"'COVER SHEET'!$D$16&IF(MID('COVER SHEET'!$I$18,6,10)=\"december\",\"1231\",IF(MID('COVER SHEET'!$I$18,6,10)=\"june\",\"0630\"))","v":"20241231"},{"$f":"+'Incoming Remittances (Volume)'!D156","v":0}]
["CMREM_11500","MM",{"$f":"+'Incoming Remittances (Volume)'!$D$5","v":"20240731"},{"$f":"+'COVER SHEET'!$D$12","v":0},11500,{"$f":"'COVER SHEET'!$D$16&IF(MID('COVER SHEET'!$I$18,6,10)=\"december\",\"1231\",IF(MID('COVER SHEET'!$I$18,6,10)=\"june\",\"0630\"))","v":"20241231"},{"$f":"+'Incoming Remittances (Volume)'!D157","v":0}]
["CMREM_11500","NA",{"$f":"+'Incoming Remittances (Volume)'!$D$5","v":"20240731"},{"$f":"+'COVER SHEET'!$D$12","v":0},11500,{"$f":"'COVER SHEET'!$D$16&IF(MID('COVER SHEET'!$I$18,6,10)=\"december\",\"1231\",IF(MID('COVER SHEET'!$I$18,6,10)=\"june\",\"0630\"))","v":"20241231"},{"$f":"+'Incoming Remittances (Volume)'!D158","v":0}]
["CMREM_11500","NR",{"$f":"+'Incoming Remittances (Volume)'!$D$5","v":"20240731"},{"$f":"+'COVER SHEET'!$D$12","v":0},11500,{"$f":"'COVER SHEET'!$D$16&IF(MID('COVER SHEET'!$I$18,6,10)=\"december\",\"1231\",IF(MID('COVER SHEET'!$I$18,6,10)=\"june\",\"0630\"))","v":"20241231"},{"$f":"+'Incoming Remittances (Volume)'!D159","v":0}]
["CMREM_11500","NP",{"$f":"+'Incoming Remittances (Volume)'!$D$5","v":"20240731"},{"$f":"+'COVER SHEET'!$D$12","v":0},11500,{"$f":"'COVER SHEET'!$D$16&IF(MID('COVER SHEET'!$I$18,6,10)=\"december\",\"1231\",IF(MID('COVER SHEET'!$I$18,6,10)=\"june\",\"0630\"))","v":"20241231"},{"$f":"+'Incoming Remittances (Volume)'!D160","v":0}]
["CMREM_11500","NL",{"$f":"+'Incoming Remittances (Volume)'!$D$5","v":"20240731"},{"$f":"+'COVER SHEET'!$D$12","v":0},11500,{"$f":"'COVER SHEET'!$D$16&IF(MID('COVER SHEET'!$I$18,6,10)=\"december\",\"1231\",IF(MID('COVER SHEET'!$I$18,6,10)=\"june\",\"0630\"))","v":"20241231"},{"$f":"+'Incoming Remittances (Volume)'!D161","v":0}]
["CMREM_11500","NC",{"$f":"+'Incoming Remittances (Volume)'!$D$5","v":"20240731"},{"$f":"+'COVER SHEET'!$D$12","v":0},11500,{"$f":"'COVER SHEET'!$D$16&IF(MID('COVER SHEET'!$I$18,6,10)=\"december\",\"1231\",IF(MID('COVER SHEET'!$I$18,6,10)=\"june\",\"0630\"))","v":"20241231"},{"$f":"+'Incoming Remittances (Volume)'!D162","v":0}]
["CMREM_11500","NZ",{"$f":"+'Incoming Remittances (Volume)'!$D$5","v":"20240731"},{"$f":"+'COVER SHEET'!$D$12","v":0},11500,{"$f":"'COVER SHEET'!$D$16&IF(MID('COVER SHEET'!$I$18,6,10)=\"december\",\"1231\",IF(MID('COVER SHEET'!$I$18,6,10)=\"june\",\"0630\"))","v":"20241231"},{"$f":"+'Incoming Remittances (Volume)'!D163","v":0}]
["CMREM_11500","NI",{"$f":"+'Incoming Remittances (Volume)'!$D$5","v":"20240731"},{"$f":"+'COVER SHEET'!$D$12","v":0},11500,{"$f":"'COVER SHEET'!$D$16&IF(MID('COVER SHEET'!$I$18,6,10)=\"december\",\"1231\",IF(MID('COVER SHEET'!$I$18,6,10)=\"june\",\"0630\"))","v":"20241231"},{"$f":"+'Incoming Remittances (Volume)'!D164","v":0}]
["CMREM_11500","NE",{"$f":"+'Incoming Remittances (Volume)'!$D$5","v":"20240731"},{"$f":"+'COVER SHEET'!$D$12","v":0},11500,{"$f":"'COVER SHEET'!$D$16&IF(MID('COVER SHEET'!$I$18,6,10)=\"december\",\"1231\",IF(MID('COVER SHEET'!$I$18,6,10)=\"june\",\"0630\"))","v":"20241231"},{"$f":"+'Incoming Remittances (Volume)'!D165","v":0}]
["CMREM_11500","NG",{"$f":"+'Incoming Remittances (Volume)'!$D$5","v":"20240731"},{"$f":"+'COVER SHEET'!$D$12","v":0},11500,{"$f":"'COVER SHEET'!$D$16&IF(MID('COVER SHEET'!$I$18,6,10)=\"december\",\"1231\",IF(MID('COVER SHEET'!$I$18,6,10)=\"june\",\"0630\"))","v":"20241231"},{"$f":"+'Incoming Remittances (Volume)'!D166","v":0}]
["CMREM_11500","NU",{"$f":"+'Incoming Remittances (Volume)'!$D$5","v":"20240731"},{"$f":"+'COVER SHEET'!$D$12","v":0},11500,{"$f":"'COVER SHEET'!$D$16&IF(MID('COVER SHEET'!$I$18,6,10)=\"december\",\"1231\",IF(MID('COVER SHEET'!$I$18,6,10)=\"june\",\"0630\"))","v":"20241231"},{"$f":"+'Incoming Remittances (Volume)'!D167","v":0}]
["CMREM_11500","NF",{"$f":"+'Incoming Remittances (Volume)'!$D$5","v":"20240731"},{"$f":"+'COVER SHEET'!$D$12","v":0},11500,{"$f":"'COVER SHEET'!$D$16&IF(MID('COVER SHEET'!$I$18,6,10)=\"december\",\"1231\",IF(MID('COVER SHEET'!$I$18,6,10)=\"june\",\"0630\"))","v":"20241231"},{"$f":"+'Incoming Remittances (Volume)'!D168","v":0}]
["CMREM_11500","MP",{"$f":"+'Incoming Remittances (Volume)'!$D$5","v":"20240731"},{"$f":"+'COVER SHEET'!$D$12","v":0},11500,{"$f":"'COVER SHEET'!$D$16&IF(MID('COVER SHEET'!$I$18,6,10)=\"december\",\"1231\",IF(MID('COVER SHEET'!$I$18,6,10)=\"june\",\"0630\"))","v":"20241231"},{"$f":"+'Incoming Remittances (Volume)'!D169","v":0}]
["CMREM_11500","NO",{"$f":"+'Incoming Remittances (Volume)'!$D$5","v":"20240731"},{"$f":"+'COVER SHEET'!$D$12","v":0},11500,{"$f":"'COVER SHEET'!$D$16&IF(MID('COVER SHEET'!$I$18,6,10)=\"december\",\"1231\",IF(MID('COVER SHEET'!$I$18,6,10)=\"june\",\"0630\"))","v":"20241231"},{"$f":"+'Incoming Remittances (Volume)'!D170","v":0}]
["CMREM_11500","OM",{"$f":"+'Incoming Remittances (Volume)'!$D$5","v":"20240731"},{"$f":"+'COVER SHEET'!$D$12","v":0},11500,{"$f":"'COVER SHEET'!$D$16&IF(MID('COVER SHEET'!$I$18,6,10)=\"december\",\"1231\",IF(MID('COVER SHEET'!$I$18,6,10)=\"june\",\"0630\"))","v":"20241231"},{"$f":"+'Incoming Remittances (Volume)'!D171","v":0}]
["CMREM_11500","PK",{"$f":"+'Incoming Remittances (Volume)'!$D$5","v":"20240731"},{"$f":"+'COVER SHEET'!$D$12","v":0},11500,{"$f":"'COVER SHEET'!$D$16&IF(MID('COVER SHEET'!$I$18,6,10)=\"december\",\"1231\",IF(MID('COVER SHEET'!$I$18,6,10)=\"june\",\"0630\"))","v":"20241231"},{"$f":"+'Incoming Remittances (Volume)'!D172","v":0}]
["CMREM_11500","PW",{"$f":"+'Incoming Remittances (Volume)'!$D$5","v":"20240731"},{"$f":"+'COVER SHEET'!$D$12","v":0},11500,{"$f":"'COVER SHEET'!$D$16&IF(MID('COVER SHEET'!$I$18,6,10)=\"december\",\"1231\",IF(MID('COVER SHEET'!$I$18,6,10)=\"june\",\"0630\"))","v":"20241231"},{"$f":"+'Incoming Remittances (Volume)'!D173","v":0}]
["CMREM_11500","PS",{"$f":"+'Incoming Remittances (Volume)'!$D$5","v":"20240731"},{"$f":"+'COVER SHEET'!$D$12","v":0},11500,{"$f":"'COVER SHEET'!$D$16&IF(MID('COVER SHEET'!$I$18,6,10)=\"december\",\"1231\",IF(MID('COVER SHEET'!$I$18,6,10)=\"june\",\"0630\"))","v":"20241231"},{"$f":"+'Incoming Remittances (Volume)'!D174","v":0}]
["CMREM_11500","PA",{"$f":"+'Incoming Remittances (Volume)'!$D$5","v":"20240731"},{"$f":"+'COVER SHEET'!$D$12","v":0},11500,{"$f":"'COVER SHEET'!$D$16&IF(MID('COVER SHEET'!$I$18,6,10)=\"december\",\"1231\",IF(MID('COVER SHEET'!$I$18,6,10)=\"june\",\"0630\"))","v":"20241231"},{"$f":"+'Incoming Remittances (Volume)'!D175","v":0}]
["CMREM_11500","PG",{"$f":"+'Incoming Remittances (Volume)'!$D$5","v":"20240731"},{"$f":"+'COVER SHEET'!$D$12","v":0},11500,{"$f":"'COVER SHEET'!$D$16&IF(MID('COVER SHEET'!$I$18,6,10)=\"december\",\"1231\",IF(MID('COVER SHEET'!$I$18,6,10)=\"june\",\"0630\"))","v":"20241231"},{"$f":"+'Incoming Remittances (Volume)'!D176","v":0}]
["CMREM_11500","PY",{"$f":"+'Incoming Remittances (Volume)'!$D$5","v":"20240731"},{"$f":"+'COVER SHEET'!$D$12","v":0},11500,{"$f":"'COVER SHEET'!$D$16&IF(MID('COVER SHEET'!$I$18,6,10)=\"december\",\"1231\",IF(MID('COVER SHEET'!$I$18,6,10)=\"june\",\"0630\"))","v":"20241231"},{"$f":"+'Incoming Remittances (Volume)'!D177","v":0}]
["CMREM_11500","PE",{"$f":"+'Incoming Remittances (Volume)'!$D$5","v":"20240731"},{"$f":"+'COVER SHEET'!$D$12","v":0},11500,{"$f":"'COVER SHEET'!$D$16&IF(MID('COVER SHEET'!$I$18,6,10)=\"december\",\"1231\",IF(MID('COVER SHEET'!$I$18,6,10)=\"june\",\"0630\"))","v":"20241231"},{"$f":"+'Incoming Remittances (Volume)'!D178","v":0}]
["CMREM_11500","PH",{"$f":"+'Incoming Remittances (Volume)'!$D$5","v":"20240731"},{"$f":"+'COVER SHEET'!$D$12","v":0},11500,{"$f":"'COVER SHEET'!$D$16&IF(MID('COVER SHEET'!$I$18,6,10)=\"december\",\"1231\",IF(MID('COVER SHEET'!$I$18,6,10)=\"june\",\"0630\"))","v":"20241231"},{"$f":"+'Incoming Remittances (Volume)'!D179","v":0}]
["CMREM_11500","PN",{"$f":"+'Incoming Remittances (Volume)'!$D$5","v":"20240731"},{"$f":"+'COVER SHEET'!$D$12","v":0},11500,{"$f":"'COVER SHEET'!$D$16&IF(MID('COVER SHEET'!$I$18,6,10)=\"december\",\"1231\",IF(MID('COVER SHEET'!$I$18,6,10)=\"june\",\"0630\"))","v":"20241231"},{"$f":"+'Incoming Remittances (Volume)'!D180","v":0}]
["CMREM_11500","PL",{"$f":"+'Incoming Remittances (Volume)'!$D$5","v":"20240731"},{"$f":"+'COVER SHEET'!$D$12","v":0},11500,{"$f":"'COVER SHEET'!$D$16&IF(MID('COVER SHEET'!$I$18,6,10)=\"december\",\"1231\",IF(MID('COVER SHEET'!$I$18,6,10)=\"june\",\"0630\"))","v":"20241231"},{"$f":"+'Incoming Remittances (Volume)'!D181","v":0}]
["CMREM_11500","PT",{"$f":"+'Incoming Remittances (Volume)'!$D$5","v":"20240731"},{"$f":"+'COVER SHEET'!$D$12","v":0},11500,{"$f":"'COVER SHEET'!$D$16&IF(MID('COVER SHEET'!$I$18,6,10)=\"december\",\"1231\",IF(MID('COVER SHEET'!$I$18,6,10)=\"june\",\"0630\"))","v":"20241231"},{"$f":"+'Incoming Remittances (Volume)'!D182","v":0}]
["CMREM_11500","QA",{"$f":"+'Incoming Remittances (Volume)'!$D$5","v":"20240731"},{"$f":"+'COVER SHEET'!$D$12","v":0},11500,{"$f":"'COVER SHEET'!$D$16&IF(MID('COVER SHEET'!$I$18,6,10)=\"december\",\"1231\",IF(MID('COVER SHEET'!$I$18,6,10)=\"june\",\"0630\"))","v":"20241231"},{"$f":"+'Incoming Remittances (Volume)'!D183","v":0}]
["CMREM_11500","RO",{"$f":"+'Incoming Remittances (Volume)'!$D$5","v":"20240731"},{"$f":"+'COVER SHEET'!$D$12","v":0},11500,{"$f":"'COVER SHEET'!$D$16&IF(MID('COVER SHEET'!$I$18,6,10)=\"december\",\"1231\",IF(MID('COVER SHEET'!$I$18,6,10)=\"june\",\"0630\"))","v":"20241231"},{"$f":"+'Incoming Remittances (Volume)'!D184","v":0}]
["CMREM_11500","RU",{"$f":"+'Incoming Remittances (Volume)'!$D$5","v":"20240731"},{"$f":"+'COVER SHEET'!$D$12","v":0},11500,{"$f":"'COVER SHEET'!$D$16&IF(MID('COVER SHEET'!$I$18,6,10)=\"december\",\"1231\",IF(MID('COVER SHEET'!$I$18,6,10)=\"june\",\"0630\"))","v":"20241231"},{"$f":"+'Incoming Remittances (Volume)'!D185","v":0}]
["CMREM_11500","RW",{"$f":"+'Incoming Remittances (Volume)'!$D$5","v":"20240731"},{"$f":"+'COVER SHEET'!$D$12","v":0},11500,{"$f":"'COVER SHEET'!$D$16&IF(MID('COVER SHEET'!$I$18,6,10)=\"december\",\"1231\",IF(MID('COVER SHEET'!$I$18,6,10)=\"june\",\"0630\"))","v":"20241231"},{"$f":"+'Incoming Remittances (Volume)'!D186","v":0}]
["CMREM_11500","SH",{"$f":"+'Incoming Remittances (Volume)'!$D$5","v":"20240731"},{"$f":"+'COVER SHEET'!$D$12","v":0},11500,{"$f":"'COVER SHEET'!$D$16&IF(MID('COVER SHEET'!$I$18,6,10)=\"december\",\"1231\",IF(MID('COVER SHEET'!$I$18,6,10)=\"june\",\"0630\"))","v":"20241231"},{"$f":"+'Incoming Remittances (Volume)'!D187","v":0}]
["CMREM_11500","KN",{"$f":"+'Incoming Remittances (Volume)'!$D$5","v":"20240731"},{"$f":"+'COVER SHEET'!$D$12","v":0},11500,{"$f":"'COVER SHEET'!$D$16&IF(MID('COVER SHEET'!$I$18,6,10)=\"december\",\"1231\",IF(MID('COVER SHEET'!$I$18,6,10)=\"june\",\"0630\"))","v":"20241231"},{"$f":"+'Incoming Remittances (Volume)'!D188","v":0}]
["CMREM_11500","LC",{"$f":"+'Incoming Remittances (Volume)'!$D$5","v":"20240731"},{"$f":"+'COVER SHEET'!$D$12","v":0},11500,{"$f":"'COVER SHEET'!$D$16&IF(MID('COVER SHEET'!$I$18,6,10)=\"december\",\"1231\",IF(MID('COVER SHEET'!$I$18,6,10)=\"june\",\"0630\"))","v":"20241231"},{"$f":"+'Incoming Remittances (Volume)'!D189","v":0}]
["CMREM_11500","VC",{"$f":"+'Incoming Remittances (Volume)'!$D$5","v":"20240731"},{"$f":"+'COVER SHEET'!$D$12","v":0},11500,{"$f":"'COVER SHEET'!$D$16&IF(MID('COVER SHEET'!$I$18,6,10)=\"december\",\"1231\",IF(MID('COVER SHEET'!$I$18,6,10)=\"june\",\"0630\"))","v":"20241231"},{"$f":"+'Incoming Remittances (Volume)'!D190","v":0}]
["CMREM_11500","WS",{"$f":"+'Incoming Remittances (Volume)'!$D$5","v":"20240731"},{"$f":"+'COVER SHEET'!$D$12","v":0},11500,{"$f":"'COVER SHEET'!$D$16&IF(MID('COVER SHEET'!$I$18,6,10)=\"december\",\"1231\",IF(MID('COVER SHEET'!$I$18,6,10)=\"june\",\"0630\"))","v":"20241231"},{"$f":"+'Incoming Remittances (Volume)'!D191","v":0}]
["CMREM_11500","SM",{"$f":"+'Incoming Remittances (Volume)'!$D$5","v":"20240731"},{"$f":"+'COVER SHEET'!$D$12","v":0},11500,{"$f":"'COVER SHEET'!$D$16&IF(MID('COVER SHEET'!$I$18,6,10)=\"december\",\"1231\",IF(MID('COVER SHEET'!$I$18,6,10)=\"june\",\"0630\"))","v":"20241231"},{"$f":"+'Incoming Remittances (Volume)'!D192","v":0}]
["CMREM_11500","ST",{"$f":"+'Incoming Remittances (Volume)'!$D$5","v":"20240731"},{"$f":"+'COVER SHEET'!$D$12","v":0},11500,{"$f":"'COVER SHEET'!$D$16&IF(MID('COVER SHEET'!$I$18,6,10)=\"december\",\"1231\",IF(MID('COVER SHEET'!$I$18,6,10)=\"june\",\"0630\"))","v":"20241231"},{"$f":"+'Incoming Remittances (Volume)'!D193","v":0}]
["CMREM_11500","SA",{"$f":"+'Incoming Remittances (Volume)'!$D$5","v":"20240731"},{"$f":"+'COVER SHEET'!$D$12","v":0},11500,{"$f":"'COVER SHEET'!$D$16&IF(MID('COVER SHEET'!$I$18,6,10)=\"december\",\"1231\",IF(MID('COVER SHEET'!$I$18,6,10)=\"june\",\"0630\"))","v":"20241231"},{"$f":"+'Incoming Remittances (Volume)'!D194","v":0}]
["CMREM_11500","SN",{"$f":"+'Incoming Remittances (Volume)'!$D$5","v":"20240731"},{"$f":"+'COVER SHEET'!$D$12","v":0},11500,{"$f":"'COVER SHEET'!$D$16&IF(MID('COVER SHEET'!$I$18,6,10)=\"december\",\"1231\",IF(MID('COVER SHEET'!$I$18,6,10)=\"june\",\"0630\"))","v":"20241231"},{"$f":"+'Incoming Remittances (Volume)'!D195","v":0}]
["CMREM_11500","RS",{"$f":"+'Incoming Remittances (Volume)'!$D$5","v":"20240731"},{"$f":"+'COVER SHEET'!$D$12","v":0},11500,{"$f":"'COVER SHEET'!$D$16&IF(MID('COVER SHEET'!$I$18,6,10)=\"december\",\"1231\",IF(MID('COVER SHEET'!$I$18,6,10)=\"june\",\"0630\"))","v":"20241231"},{"$f":"+'Incoming Remittances (Volume)'!D196","v":0}]
["CMREM_11500","SC",{"$f":"+'Incoming Remittances (Volume)'!$D$5","v":"20240731"},{"$f":"+'COVER SHEET'!$D$12","v":0},11500,{"$f":"'COVER SHEET'!$D$16&IF(MID('COVER SHEET'!$I$18,6,10)=\"december\",\"1231\",IF(MID('COVER SHEET'!$I$18,6,10)=\"june\",\"0630\"))","v":"20241231"},{"$f":"+'Incoming Remittances (Volume)'!D197","v":0}]
["CMREM_11500","SL",{"$f":"+'Incoming Remittances (Volume)'!$D$5","v":"20240731"},{"$f":"+'COVER SHEET'!$D$12","v":0},11500,{"$f":"'COVER SHEET'!$D$16&IF(MID('COVER SHEET'!$I$18,6,10)=\"december\",\"1231\",IF(MID('COVER SHEET'!$I$18,6,10)=\"june\",\"0630\"))","v":"20241231"},{"$f":"+'Incoming Remittances (Volume)'!D198","v":0}]
["CMREM_11500","SG",{"$f":"+'Incoming Remittances (Volume)'!$D$5","v":"20240731"},{"$f":"+'COVER SHEET'!$D$12","v":0},11500,{"$f":"'COVER SHEET'!$D$16&IF(MID('COVER SHEET'!$I$18,6,10)=\"december\",\"1231\",IF(MID('COVER SHEET'!$I$18,6,10)=\"june\",\"0630\"))","v":"20241231"},{"$f":"+'Incoming Remittances (Volume)'!D199","v":0}]
["CMREM_11500","SX",{"$f":"+'Incoming Remittances (Volume)'!$D$5","v":"20240731"},{"$f":"+'COVER SHEET'!$D$12","v":0},11500,{"$f":"'COVER SHEET'!$D$16&IF(MID('COVER SHEET'!$I$18,6,10)=\"december\",\"1231\",IF(MID('COVER SHEET'!$I$18,6,10)=\"june\",\"0630\"))","v":"20241231"},{"$f":"+'Incoming Remittances (Volume)'!D200","v":0}]
["CMREM_11500","SK",{"$f":"+'Incoming Remittances (Volume)'!$D$5","v":"20240731"},{"$f":"+'COVER SHEET'!$D$12","v":0},11500,{"$f":"'COVER SHEET'!$D$16&IF(MID('COVER SHEET'!$I$18,6,10)=\"december\",\"1231\",IF(MID('COVER SHEET'!$I$18,6,10)=\"june\",\"0630\"))","v":"20241231"},{"$f":"+'Incoming Remittances (Volume)'!D201","v":0}]
["CMREM_11500","SI",{"$f":"+'Incoming Remittances (Volume)'!$D$5","v":"20240731"},{"$f":"+'COVER SHEET'!$D$12","v":0},11500,{"$f":"'COVER SHEET'!$D$16&IF(MID('COVER SHEET'!$I$18,6,10)=\"december\",\"1231\",IF(MID('COVER SHEET'!$I$18,6,10)=\"june\",\"0630\"))","v":"20241231"},{"$f":"+'Incoming Remittances (Volume)'!D202","v":0}]
["CMREM_11500","SB",{"$f":"+'Incoming Remittances (Volume)'!$D$5","v":"20240731"},{"$f":"+'COVER SHEET'!$D$12","v":0},11500,{"$f":"'COVER SHEET'!$D$16&IF(MID('COVER SHEET'!$I$18,6,10)=\"december\",\"1231\",IF(MID('COVER SHEET'!$I$18,6,10)=\"june\",\"0630\"))","v":"20241231"},{"$f":"+'Incoming Remittances (Volume)'!D203","v":0}]
["CMREM_11500","SO",{"$f":"+'Incoming Remittances (Volume)'!$D$5","v":"20240731"},{"$f":"+'COVER SHEET'!$D$12","v":0},11500,{"$f":"'COVER SHEET'!$D$16&IF(MID('COVER SHEET'!$I$18,6,10)=\"december\",\"1231\",IF(MID('COVER SHEET'!$I$18,6,10)=\"june\",\"0630\"))","v":"20241231"},{"$f":"+'Incoming Remittances (Volume)'!D204","v":0}]
["CMREM_11500","ZA",{"$f":"+'Incoming Remittances (Volume)'!$D$5","v":"20240731"},{"$f":"+'COVER SHEET'!$D$12","v":0},11500,{"$f":"'COVER SHEET'!$D$16&IF(MID('COVER SHEET'!$I$18,6,10)=\"december\",\"1231\",IF(MID('COVER SHEET'!$I$18,6,10)=\"june\",\"0630\"))","v":"20241231"},{"$f":"+'Incoming Remittances (Volume)'!D205","v":0}]
["CMREM_11500","GS",{"$f":"+'Incoming Remittances (Volume)'!$D$5","v":"20240731"},{"$f":"+'COVER SHEET'!$D$12","v":0},11500,{"$f":"'COVER SHEET'!$D$16&IF(MID('COVER SHEET'!$I$18,6,10)=\"december\",\"1231\",IF(MID('COVER SHEET'!$I$18,6,10)=\"june\",\"0630\"))","v":"20241231"},{"$f":"+'Incoming Remittances (Volume)'!D206","v":0}]
["CMREM_11500","SS",{"$f":"+'Incoming Remittances (Volume)'!$D$5","v":"20240731"},{"$f":"+'COVER SHEET'!$D$12","v":0},11500,{"$f":"'COVER SHEET'!$D$16&IF(MID('COVER SHEET'!$I$18,6,10)=\"december\",\"1231\",IF(MID('COVER SHEET'!$I$18,6,10)=\"june\",\"0630\"))","v":"20241231"},{"$f":"+'Incoming Remittances (Volume)'!D207","v":0}]
["CMREM_11500","ES",{"$f":"+'Incoming Remittances (Volume)'!$D$5","v":"20240731"},{"$f":"+'COVER SHEET'!$D$12","v":0},11500,{"$f":"'COVER SHEET'!$D$16&IF(MID('COVER SHEET'!$I$18,6,10)=\"december\",\"1231\",IF(MID('COVER SHEET'!$I$18,6,10)=\"june\",\"0630\"))","v":"20241231"},{"$f":"+'Incoming Remittances (Volume)'!D208","v":0}]
["CMREM_11500","LK",{"$f":"+'Incoming Remittances (Volume)'!$D$5","v":"20240731"},{"$f":"+'COVER SHEET'!$D$12","v":0},11500,{"$f":"'COVER SHEET'!$D$16&IF(MID('COVER SHEET'!$I$18,6,10)=\"december\",\"1231\",IF(MID('COVER SHEET'!$I$18,6,10)=\"june\",\"0630\"))","v":"20241231"},{"$f":"+'Incoming Remittances (Volume)'!D209","v":0}]
["CMREM_11500","SD",{"$f":"+'Incoming Remittances (Volume)'!$D$5","v":"20240731"},{"$f":"+'COVER SHEET'!$D$12","v":0},11500,{"$f":"'COVER SHEET'!$D$16&IF(MID('COVER SHEET'!$I$18,6,10)=\"december\",\"1231\",IF(MID('COVER SHEET'!$I$18,6,10)=\"june\",\"0630\"))","v":"20241231"},{"$f":"+'Incoming Remittances (Volume)'!D210","v":0}]
["CMREM_11500","SR",{"$f":"+'Incoming Remittances (Volume)'!$D$5","v":"20240731"},{"$f":"+'COVER SHEET'!$D$12","v":0},11500,{"$f":"'COVER SHEET'!$D$16&IF(MID('COVER SHEET'!$I$18,6,10)=\"december\",\"1231\",IF(MID('COVER SHEET'!$I$18,6,10)=\"june\",\"0630\"))","v":"20241231"},{"$f":"+'Incoming Remittances (Volume)'!D211","v":0}]
["CMREM_11500","SZ",{"$f":"+'Incoming Remittances (Volume)'!$D$5","v":"20240731"},{"$f":"+'COVER SHEET'!$D$12","v":0},11500,{"$f":"'COVER SHEET'!$D$16&IF(MID('COVER SHEET'!$I$18,6,10)=\"december\",\"1231\",IF(MID('COVER SHEET'!$I$18,6,10)=\"june\",\"0630\"))","v":"20241231"},{"$f":"+'Incoming Remittances (Volume)'!D212","v":0}]
["CMREM_11500","SE",{"$f":"+'Incoming Remittances (Volume)'!$D$5","v":"20240731"},{"$f":"+'COVER SHEET'!$D$12","v":0},11500,{"$f":"'COVER SHEET'!$D$16&IF(MID('COVER SHEET'!$I$18,6,10)=\"december\",\"1231\",IF(MID('COVER SHEET'!$I$18,6,10)=\"june\",\"0630\"))","v":"20241231"},{"$f":"+'Incoming Remittances (Volume)'!D213","v":0}]
["CMREM_11500","CH",{"$f":"+'Incoming Remittances (Volume)'!$D$5","v":"20240731"},{"$f":"+'COVER SHEET'!$D$12","v":0},11500,{"$f":"'COVER SHEET'!$D$16&IF(MID('COVER SHEET'!$I$18,6,10)=\"december\",\"1231\",IF(MID('COVER SHEET'!$I$18,6,10)=\"june\",\"0630\"))","v":"20241231"},{"$f":"+'Incoming Remittances (Volume)'!D214","v":0}]
["CMREM_11500","SY",{"$f":"+'Incoming Remittances (Volume)'!$D$5","v":"20240731"},{"$f":"+'COVER SHEET'!$D$12","v":0},11500,{"$f":"'COVER SHEET'!$D$16&IF(MID('COVER SHEET'!$I$18,6,10)=\"december\",\"1231\",IF(MID('COVER SHEET'!$I$18,6,10)=\"june\",\"0630\"))","v":"20241231"},{"$f":"+'Incoming Remittances (Volume)'!D215","v":0}]
["CMREM_11500","TW",{"$f":"+'Incoming Remittances (Volume)'!$D$5","v":"20240731"},{"$f":"+'COVER SHEET'!$D$12","v":0},11500,{"$f":"'COVER SHEET'!$D$16&IF(MID('COVER SHEET'!$I$18,6,10)=\"december\",\"1231\",IF(MID('COVER SHEET'!$I$18,6,10)=\"june\",\"0630\"))","v":"20241231"},{"$f":"+'Incoming Remittances (Volume)'!D216","v":0}]
["CMREM_11500","TJ",{"$f":"+'Incoming Remittances (Volume)'!$D$5","v":"20240731"},{"$f":"+'COVER SHEET'!$D$12","v":0},11500,{"$f":"'COVER SHEET'!$D$16&IF(MID('COVER SHEET'!$I$18,6,10)=\"december\",\"1231\",IF(MID('COVER SHEET'!$I$18,6,10)=\"june\",\"0630\"))","v":"20241231"},{"$f":"+'Incoming Remittances (Volume)'!D217","v":0}]
["CMREM_11500","TZ",{"$f":"+'Incoming Remittances (Volume)'!$D$5","v":"20240731"},{"$f":"+'COVER SHEET'!$D$12","v":0},11500,{"$f":"'COVER SHEET'!$D$16&IF(MID('COVER SHEET'!$I$18,6,10)=\"december\",\"1231\",IF(MID('COVER SHEET'!$I$18,6,10)=\"june\",\"0630\"))","v":"20241231"},{"$f":"+'Incoming Remittances (Volume)'!D218","v":0}]
["CMREM_11500","TH",{"$f":"+'Incoming Remittances (Volume)'!$D$5","v":"20240731"},{"$f":"+'COVER SHEET'!$D$12","v":0},11500,{"$f":"'COVER SHEET'!$D$16&IF(MID('COVER SHEET'!$I$18,6,10)=\"december\",\"1231\",IF(MID('COVER SHEET'!$I$18,6,10)=\"june\",\"0630\"))","v":"20241231"},{"$f":"+'Incoming Remittances (Volume)'!D219","v":0}]
["CMREM_11500","TG",{"$f":"+'Incoming Remittances (Volume)'!$D$5","v":"20240731"},{"$f":"+'COVER SHEET'!$D$12","v":0},11500,{"$f":"'COVER SHEET'!$D$16&IF(MID('COVER SHEET'!$I$18,6,10)=\"december\",\"1231\",IF(MID('COVER SHEET'!$I$18,6,10)=\"june\",\"0630\"))","v":"20241231"},{"$f":"+'Incoming Remittances (Volume)'!D220","v":0}]
["CMREM_11500","TK",{"$f":"+'Incoming Remittances (Volume)'!$D$5","v":"20240731"},{"$f":"+'COVER SHEET'!$D$12","v":0},11500,{"$f":"'COVER SHEET'!$D$16&IF(MID('COVER SHEET'!$I$18,6,10)=\"december\",\"1231\",IF(MID('COVER SHEET'!$I$18,6,10)=\"june\",\"0630\"))","v":"20241231"},{"$f":"+'Incoming Remittances (Volume)'!D221","v":0}]
["CMREM_11500","TO",{"$f":"+'Incoming Remittances (Volume)'!$D$5","v":"20240731"},{"$f":"+'COVER SHEET'!$D$12","v":0},11500,{"$f":"'COVER SHEET'!$D$16&IF(MID('COVER SHEET'!$I$18,6,10)=\"december\",\"1231\",IF(MID('COVER SHEET'!$I$18,6,10)=\"june\",\"0630\"))","v":"20241231"},{"$f":"+'Incoming Remittances (Volume)'!D222","v":0}]
["CMREM_11500","TT",{"$f":"+'Incoming Remittances (Volume)'!$D$5","v":"20240731"},{"$f":"+'COVER SHEET'!$D$12","v":0},11500,{"$f":"'COVER SHEET'!$D$16&IF(MID('COVER SHEET'!$I$18,6,10)=\"december\",\"1231\",IF(MID('COVER SHEET'!$I$18,6,10)=\"june\",\"0630\"))","v":"20241231"},{"$f":"+'Incoming Remittances (Volume)'!D223","v":0}]
["CMREM_11500","TN",{"$f":"+'Incoming Remittances (Volume)'!$D$5","v":"20240731"},{"$f":"+'COVER SHEET'!$D$12","v":0},11500,{"$f":"'COVER SHEET'!$D$16&IF(MID('COVER SHEET'!$I$18,6,10)=\"december\",\"1231\",IF(MID('COVER SHEET'!$I$18,6,10)=\"june\",\"0630\"))","v":"20241231"},{"$f":"+'Incoming Remittances (Volume)'!D224","v":0}]
["CMREM_11500","TR",{"$f":"+'Incoming Remittances (Volume)'!$D$5","v":"20240731"},{"$f":"+'COVER SHEET'!$D$12","v":0},11500,{"$f":"'COVER SHEET'!$D$16&IF(MID('COVER SHEET'!$I$18,6,10)=\"december\",\"1231\",IF(MID('COVER SHEET'!$I$18,6,10)=\"june\",\"0630\"))","v":"20241231"},{"$f":"+'Incoming Remittances (Volume)'!D225","v":0}]
["CMREM_11500","TM",{"$f":"+'Incoming Remittances (Volume)'!$D$5","v":"20240731"},{"$f":"+'COVER SHEET'!$D$12","v":0},11500,{"$f":"'COVER SHEET'!$D$16&IF(MID('COVER SHEET'!$I$18,6,10)=\"december\",\"1231\",IF(MID('COVER SHEET'!$I$18,6,10)=\"june\",\"0630\"))","v":"20241231"},{"$f":"+'Incoming Remittances (Volume)'!D226","v":0}]
["CMREM_11500","TC",{"$f":"+'Incoming Remittances (Volume)'!$D$5","v":"20240731"},{"$f":"+'COVER SHEET'!$D$12","v":0},11500,{"$f":"'COVER SHEET'!$D$16&IF(MID('COVER SHEET'!$I$18,6,10)=\"december\",\"1231\",IF(MID('COVER SHEET'!$I$18,6,10)=\"june\",\"0630\"))","v":"20241231"},{"$f":"+'Incoming Remittances (Volume)'!D227","v":0}]
["CMREM_11500","TV",{"$f":"+'Incoming Remittances (Volume)'!$D$5","v":"20240731"},{"$f":"+'COVER SHEET'!$D$12","v":0},11500,{"$f":"'COVER SHEET'!$D$16&IF(MID('COVER SHEET'!$I$18,6,10)=\"december\",\"1231\",IF(MID('COVER SHEET'!$I$18,6,10)=\"june\",\"0630\"))","v":"20241231"},{"$f":"+'Incoming Remittances (Volume)'!D228","v":0}]
["CMREM_11500","UG",{"$f":"+'Incoming Remittances (Volume)'!$D$5","v":"20240731"},{"$f":"+'COVER SHEET'!$D$12","v":0},11500,{"$f":"'COVER SHEET'!$D$16&IF(MID('COVER SHEET'!$I$18,6,10)=\"december\",\"1231\",IF(MID('COVER SHEET'!$I$18,6,10)=\"june\",\"0630\"))","v":"20241231"},{"$f":"+'Incoming Remittances (Volume)'!D229","v":0}]
["CMREM_11500","UA",{"$f":"+'Incoming Remittances (Volume)'!$D$5","v":"20240731"},{"$f":"+'COVER SHEET'!$D$12","v":0},11500,{"$f":"'COVER SHEET'!$D$16&IF(MID('COVER SHEET'!$I$18,6,10)=\"december\",\"1231\",IF(MID('COVER SHEET'!$I$18,6,10)=\"june\",\"0630\"))","v":"20241231"},{"$f":"+'Incoming Remittances (Volume)'!D230","v":0}]
["CMREM_11500","AE",{"$f":"+'Incoming Remittances (Volume)'!$D$5","v":"20240731"},{"$f":"+'COVER SHEET'!$D$12","v":0},11500,{"$f":"'COVER SHEET'!$D$16&IF(MID('COVER SHEET'!$I$18,6,10)=\"december\",\"1231\",IF(MID('COVER SHEET'!$I$18,6,10)=\"june\",\"0630\"))","v":"20241231"},{"$f":"+'Incoming Remittances (Volume)'!D231","v":0}]
["CMREM_11500","GB",{"$f":"+'Incoming Remittances (Volume)'!$D$5","v":"20240731"},{"$f":"+'COVER SHEET'!$D$12","v":0},11500,{"$f":"'COVER SHEET'!$D$16&IF(MID('COVER SHEET'!$I$18,6,10)=\"december\",\"1231\",IF(MID('COVER SHEET'!$I$18,6,10)=\"june\",\"0630\"))","v":"20241231"},{"$f":"+'Incoming Remittances (Volume)'!D232","v":0}]
["CMREM_11500","US",{"$f":"+'Incoming Remittances (Volume)'!$D$5","v":"20240731"},{"$f":"+'COVER SHEET'!$D$12","v":0},11500,{"$f":"'COVER SHEET'!$D$16&IF(MID('COVER SHEET'!$I$18,6,10)=\"december\",\"1231\",IF(MID('COVER SHEET'!$I$18,6,10)=\"june\",\"0630\"))","v":"20241231"},{"$f":"+'Incoming Remittances (Volume)'!D233","v":0}]
["CMREM_11500","UY",{"$f":"+'Incoming Remittances (Volume)'!$D$5","v":"20240731"},{"$f":"+'COVER SHEET'!$D$12","v":0},11500,{"$f":"'COVER SHEET'!$D$16&IF(MID('COVER SHEET'!$I$18,6,10)=\"december\",\"1231\",IF(MID('COVER SHEET'!$I$18,6,10)=\"june\",\"0630\"))","v":"20241231"},{"$f":"+'Incoming Remittances (Volume)'!D234","v":0}]
["CMREM_11500","UM",{"$f":"+'Incoming Remittances (Volume)'!$D$5","v":"20240731"},{"$f":"+'COVER SHEET'!$D$12","v":0},11500,{"$f":"'COVER SHEET'!$D$16&IF(MID('COVER SHEET'!$I$18,6,10)=\"december\",\"1231\",IF(MID('COVER SHEET'!$I$18,6,10)=\"june\",\"0630\"))","v":"20241231"},{"$f":"+'Incoming Remittances (Volume)'!D235","v":0}]
["CMREM_11500","UZ",{"$f":"+'Incoming Remittances (Volume)'!$D$5","v":"20240731"},{"$f":"+'COVER SHEET'!$D$12","v":0},11500,{"$f":"'COVER SHEET'!$D$16&IF(MID('COVER SHEET'!$I$18,6,10)=\"december\",\"1231\",IF(MID('COVER SHEET'!$I$18,6,10)=\"june\",\"0630\"))","v":"20241231"},{"$f":"+'Incoming Remittances (Volume)'!D236","v":0}]
["CMREM_11500","VU",{"$f":"+'Incoming Remittances (Volume)'!$D$5","v":"20240731"},{"$f":"+'COVER SHEET'!$D$12","v":0},11500,{"$f":"'COVER SHEET'!$D$16&IF(MID('COVER SHEET'!$I$18,6,10)=\"december\",\"1231\",IF(MID('COVER SHEET'!$I$18,6,10)=\"june\",\"0630\"))","v":"20241231"},{"$f":"+'Incoming Remittances (Volume)'!D237","v":0}]
["CMREM_11500","VE",{"$f":"+'Incoming Remittances (Volume)'!$D$5","v":"20240731"},{"$f":"+'COVER SHEET'!$D$12","v":0},11500,{"$f":"'COVER SHEET'!$D$16&IF(MID('COVER SHEET'!$I$18,6,10)=\"december\",\"1231\",IF(MID('COVER SHEET'!$I$18,6,10)=\"june\",\"0630\"))","v":"20241231"},{"$f":"+'Incoming Remittances (Volume)'!D238","v":0}]
["CMREM_11500","VN",{"$f":"+'Incoming Remittances (Volume)'!$D$5","v":"20240731"},{"$f":"+'COVER SHEET'!$D$12","v":0},11500,{"$f":"'COVER SHEET'!$D$16&IF(MID('COVER SHEET'!$I$18,6,10)=\"december\",\"1231\",IF(MID('COVER SHEET'!$I$18,6,10)=\"june\",\"0630\"))","v":"20241231"},{"$f":"+'Incoming Remittances (Volume)'!D239","v":0}]
["CMREM_11500","VI",{"$f":"+'Incoming Remittances (Volume)'!$D$5","v":"20240731"},{"$f":"+'COVER SHEET'!$D$12","v":0},11500,{"$f":"'COVER SHEET'!$D$16&IF(MID('COVER SHEET'!$I$18,6,10)=\"december\",\"1231\",IF(MID('COVER SHEET'!$I$18,6,10)=\"june\",\"0630\"))","v":"20241231"},{"$f":"+'Incoming Remittances (Volume)'!D240","v":0}]
["CMREM_11500","WF",{"$f":"+'Incoming Remittances (Volume)'!$D$5","v":"20240731"},{"$f":"+'COVER SHEET'!$D$12","v":0},11500,{"$f":"'COVER SHEET'!$D$16&IF(MID('COVER SHEET'!$I$18,6,10)=\"december\",\"1231\",IF(MID('COVER SHEET'!$I$18,6,10)=\"june\",\"0630\"))","v":"20241231"},{"$f":"+'Incoming Remittances (Volume)'!D241","v":0}]
["CMREM_11500","YE",{"$f":"+'Incoming Remittances (Volume)'!$D$5","v":"20240731"},{"$f":"+'COVER SHEET'!$D$12","v":0},11500,{"$f":"'COVER SHEET'!$D$16&IF(MID('COVER SHEET'!$I$18,6,10)=\"december\",\"1231\",IF(MID('COVER SHEET'!$I$18,6,10)=\"june\",\"0630\"))","v":"20241231"},{"$f":"+'Incoming Remittances (Volume)'!D242","v":0}]
["CMREM_11500","ZM",{"$f":"+'Incoming Remittances (Volume)'!$D$5","v":"20240731"},{"$f":"+'COVER SHEET'!$D$12","v":0},11500,{"$f":"'COVER SHEET'!$D$16&IF(MID('COVER SHEET'!$I$18,6,10)=\"december\",\"1231\",IF(MID('COVER SHEET'!$I$18,6,10)=\"june\",\"0630\"))","v":"20241231"},{"$f":"+'Incoming Remittances (Volume)'!D243","v":0}]
["CMREM_11500","ZW",{"$f":"+'Incoming Remittances (Volume)'!$D$5","v":"20240731"},{"$f":"+'COVER SHEET'!$D$12","v":0},11500,{"$f":"'COVER SHEET'!$D$16&IF(MID('COVER SHEET'!$I$18,6,10)=\"december\",\"1231\",IF(MID('COVER SHEET'!$I$18,6,10)=\"june\",\"0630\"))","v":"20241231"},{"$f":"+'Incoming Remittances (Volume)'!D244","v":0}]
["CMREM_11510","AF",{"$f":"+'Outgoing Remittances (Volume)'!$C$5","v":"20240731"},{"$f":"+'COVER SHEET'!$D$12","v":0},11510,{"$f":"'COVER SHEET'!$D$16&IF(MID('COVER SHEET'!$I$18,6,10)=\"december\",\"1231\",IF(MID('COVER SHEET'!$I$18,6,10)=\"june\",\"0630\"))","v":"20241231"},{"$f":"+'Outgoing Remittances (Volume)'!C9","v":0}]
["CMREM_11510","AL",{"$f":"+'Outgoing Remittances (Volume)'!$C$5","v":"20240731"},{"$f":"+'COVER SHEET'!$D$12","v":0},11510,{"$f":"'COVER SHEET'!$D$16&IF(MID('COVER SHEET'!$I$18,6,10)=\"december\",\"1231\",IF(MID('COVER SHEET'!$I$18,6,10)=\"june\",\"0630\"))","v":"20241231"},{"$f":"+'Outgoing Remittances (Volume)'!C10","v":0}]
["CMREM_11510","DZ",{"$f":"+'Outgoing Remittances (Volume)'!$C$5","v":"20240731"},{"$f":"+'COVER SHEET'!$D$12","v":0},11510,{"$f":"'COVER SHEET'!$D$16&IF(MID('COVER SHEET'!$I$18,6,10)=\"december\",\"1231\",IF(MID('COVER SHEET'!$I$18,6,10)=\"june\",\"0630\"))","v":"20241231"},{"$f":"+'Outgoing Remittances (Volume)'!C11","v":0}]
["CMREM_11510","AS",{"$f":"+'Outgoing Remittances (Volume)'!$C$5","v":"20240731"},{"$f":"+'COVER SHEET'!$D$12","v":0},11510,{"$f":"'COVER SHEET'!$D$16&IF(MID('COVER SHEET'!$I$18,6,10)=\"december\",\"1231\",IF(MID('COVER SHEET'!$I$18,6,10)=\"june\",\"0630\"))","v":"20241231"},{"$f":"+'Outgoing Remittances (Volume)'!C12","v":0}]
["CMREM_11510","AD",{"$f":"+'Outgoing Remittances (Volume)'!$C$5","v":"20240731"},{"$f":"+'COVER SHEET'!$D$12","v":0},11510,{"$f":"'COVER SHEET'!$D$16&IF(MID('COVER SHEET'!$I$18,6,10)=\"december\",\"1231\",IF(MID('COVER SHEET'!$I$18,6,10)=\"june\",\"0630\"))","v":"20241231"},{"$f":"+'Outgoing Remittances (Volume)'!C13","v":0}]
["CMREM_11510","AO",{"$f":"+'Outgoing Remittances (Volume)'!$C$5","v":"20240731"},{"$f":"+'COVER SHEET'!$D$12","v":0},11510,{"$f":"'COVER SHEET'!$D$16&IF(MID('COVER SHEET'!$I$18,6,10)=\"december\",\"1231\",IF(MID('COVER SHEET'!$I$18,6,10)=\"june\",\"0630\"))","v":"20241231"},{"$f":"+'Outgoing Remittances (Volume)'!C14","v":0}]
["CMREM_11510","AI",{"$f":"+'Outgoing Remittances (Volume)'!$C$5","v":"20240731"},{"$f":"+'COVER SHEET'!$D$12","v":0},11510,{"$f":"'COVER SHEET'!$D$16&IF(MID('COVER SHEET'!$I$18,6,10)=\"december\",\"1231\",IF(MID('COVER SHEET'!$I$18,6,10)=\"june\",\"0630\"))","v":"20241231"},{"$f":"+'Outgoing Remittances (Volume)'!C15","v":0}]
["CMREM_11510","AQ",{"$f":"+'Outgoing Remittances (Volume)'!$C$5","v":"20240731"},{"$f":"+'COVER SHEET'!$D$12","v":0},11510,{"$f":"'COVER SHEET'!$D$16&IF(MID('COVER SHEET'!$I$18,6,10)=\"december\",\"1231\",IF(MID('COVER SHEET'!$I$18,6,10)=\"june\",\"0630\"))","v":"20241231"},{"$f":"+'Outgoing Remittances (Volume)'!C16","v":0}]
["CMREM_11510","AG",{"$f":"+'Outgoing Remittances (Volume)'!$C$5","v":"20240731"},{"$f":"+'COVER SHEET'!$D$12","v":0},11510,{"$f":"'COVER SHEET'!$D$16&IF(MID('COVER SHEET'!$I$18,6,10)=\"december\",\"1231\",IF(MID('COVER SHEET'!$I$18,6,10)=\"june\",\"0630\"))","v":"20241231"},{"$f":"+'Outgoing Remittances (Volume)'!C17","v":0}]
["CMREM_11510","AR",{"$f":"+'Outgoing Remittances (Volume)'!$C$5","v":"20240731"},{"$f":"+'COVER SHEET'!$D$12","v":0},11510,{"$f":"'COVER SHEET'!$D$16&IF(MID('COVER SHEET'!$I$18,6,10)=\"december\",\"1231\",IF(MID('COVER SHEET'!$I$18,6,10)=\"june\",\"0630\"))","v":"20241231"},{"$f":"+'Outgoing Remittances (Volume)'!C18","v":0}]
["CMREM_11510","AM",{"$f":"+'Outgoing Remittances (Volume)'!$C$5","v":"20240731"},{"$f":"+'COVER SHEET'!$D$12","v":0},11510,{"$f":"'COVER SHEET'!$D$16&IF(MID('COVER SHEET'!$I$18,6,10)=\"december\",\"1231\",IF(MID('COVER SHEET'!$I$18,6,10)=\"june\",\"0630\"))","v":"20241231"},{"$f":"+'Outgoing Remittances (Volume)'!C19","v":0}]
["CMREM_11510","AW",{"$f":"+'Outgoing Remittances (Volume)'!$C$5","v":"20240731"},{"$f":"+'COVER SHEET'!$D$12","v":0},11510,{"$f":"'COVER SHEET'!$D$16&IF(MID('COVER SHEET'!$I$18,6,10)=\"december\",\"1231\",IF(MID('COVER SHEET'!$I$18,6,10)=\"june\",\"0630\"))","v":"20241231"},{"$f":"+'Outgoing Remittances (Volume)'!C20","v":0}]
["CMREM_11510","AU",{"$f":"+'Outgoing Remittances (Volume)'!$C$5","v":"20240731"},{"$f":"+'COVER SHEET'!$D$12","v":0},11510,{"$f":"'COVER SHEET'!$D$16&IF(MID('COVER SHEET'!$I$18,6,10)=\"december\",\"1231\",IF(MID('COVER SHEET'!$I$18,6,10)=\"june\",\"0630\"))","v":"20241231"},{"$f":"+'Outgoing Remittances (Volume)'!C21","v":0}]
["CMREM_11510","AT",{"$f":"+'Outgoing Remittances (Volume)'!$C$5","v":"20240731"},{"$f":"+'COVER SHEET'!$D$12","v":0},11510,{"$f":"'COVER SHEET'!$D$16&IF(MID('COVER SHEET'!$I$18,6,10)=\"december\",\"1231\",IF(MID('COVER SHEET'!$I$18,6,10)=\"june\",\"0630\"))","v":"20241231"},{"$f":"+'Outgoing Remittances (Volume)'!C22","v":0}]
["CMREM_11510","AZ",{"$f":"+'Outgoing Remittances (Volume)'!$C$5","v":"20240731"},{"$f":"+'COVER SHEET'!$D$12","v":0},11510,{"$f":"'COVER SHEET'!$D$16&IF(MID('COVER SHEET'!$I$18,6,10)=\"december\",\"1231\",IF(MID('COVER SHEET'!$I$18,6,10)=\"june\",\"0630\"))","v":"20241231"},{"$f":"+'Outgoing Remittances (Volume)'!C23","v":0}]
["CMREM_11510","BS",{"$f":"+'Outgoing Remittances (Volume)'!$C$5","v":"20240731"},{"$f":"+'COVER SHEET'!$D$12","v":0},11510,{"$f":"'COVER SHEET'!$D$16&IF(MID('COVER SHEET'!$I$18,6,10)=\"december\",\"1231\",IF(MID('COVER SHEET'!$I$18,6,10)=\"june\",\"0630\"))","v":"20241231"},{"$f":"+'Outgoing Remittances (Volume)'!C24","v":0}]
["CMREM_11510","BH",{"$f":"+'Outgoing Remittances (Volume)'!$C$5","v":"20240731"},{"$f":"+'COVER SHEET'!$D$12","v":0},11510,{"$f":"'COVER SHEET'!$D$16&IF(MID('COVER SHEET'!$I$18,6,10)=\"december\",\"1231\",IF(MID('COVER SHEET'!$I$18,6,10)=\"june\",\"0630\"))","v":"20241231"},{"$f":"+'Outgoing Remittances (Volume)'!C25","v":0}]
["CMREM_11510","BD",{"$f":"+'Outgoing Remittances (Volume)'!$C$5","v":"20240731"},{"$f":"+'COVER SHEET'!$D$12","v":0},11510,{"$f":"'COVER SHEET'!$D$16&IF(MID('COVER SHEET'!$I$18,6,10)=\"december\",\"1231\",IF(MID('COVER SHEET'!$I$18,6,10)=\"june\",\"0630\"))","v":"20241231"},{"$f":"+'Outgoing Remittances (Volume)'!C26","v":0}]
["CMREM_11510","BB",{"$f":"+'Outgoing Remittances (Volume)'!$C$5","v":"20240731"},{"$f":"+'COVER SHEET'!$D$12","v":0},11510,{"$f":"'COVER SHEET'!$D$16&IF(MID('COVER SHEET'!$I$18,6,10)=\"december\",\"1231\",IF(MID('COVER SHEET'!$I$18,6,10)=\"june\",\"0630\"))","v":"20241231"},{"$f":"+'Outgoing Remittances (Volume)'!C27","v":0}]
["CMREM_11510","BY",{"$f":"+'Outgoing Remittances (Volume)'!$C$5","v":"20240731"},{"$f":"+'COVER SHEET'!$D$12","v":0},11510,{"$f":"'COVER SHEET'!$D$16&IF(MID('COVER SHEET'!$I$18,6,10)=\"december\",\"1231\",IF(MID('COVER SHEET'!$I$18,6,10)=\"june\",\"0630\"))","v":"20241231"},{"$f":"+'Outgoing Remittances (Volume)'!C28","v":0}]
["CMREM_11510","BE",{"$f":"+'Outgoing Remittances (Volume)'!$C$5","v":"20240731"},{"$f":"+'COVER SHEET'!$D$12","v":0},11510,{"$f":"'COVER SHEET'!$D$16&IF(MID('COVER SHEET'!$I$18,6,10)=\"december\",\"1231\",IF(MID('COVER SHEET'!$I$18,6,10)=\"june\",\"0630\"))","v":"20241231"},{"$f":"+'Outgoing Remittances (Volume)'!C29","v":0}]
["CMREM_11510","BZ",{"$f":"+'Outgoing Remittances (Volume)'!$C$5","v":"20240731"},{"$f":"+'COVER SHEET'!$D$12","v":0},11510,{"$f":"'COVER SHEET'!$D$16&IF(MID('COVER SHEET'!$I$18,6,10)=\"december\",\"1231\",IF(MID('COVER SHEET'!$I$18,6,10)=\"june\",\"0630\"))","v":"20241231"},{"$f":"+'Outgoing Remittances (Volume)'!C30","v":0}]
["CMREM_11510","BJ",{"$f":"+'Outgoing Remittances (Volume)'!$C$5","v":"20240731"},{"$f":"+'COVER SHEET'!$D$12","v":0},11510,{"$f":"'COVER SHEET'!$D$16&IF(MID('COVER SHEET'!$I$18,6,10)=\"december\",\"1231\",IF(MID('COVER SHEET'!$I$18,6,10)=\"june\",\"0630\"))","v":"20241231"},{"$f":"+'Outgoing Remittances (Volume)'!C31","v":0}]
["CMREM_11510","BM",{"$f":"+'Outgoing Remittances (Volume)'!$C$5","v":"20240731"},{"$f":"+'COVER SHEET'!$D$12","v":0},11510,{"$f":"'COVER SHEET'!$D$16&IF(MID('COVER SHEET'!$I$18,6,10)=\"december\",\"1231\",IF(MID('COVER SHEET'!$I$18,6,10)=\"june\",\"0630\"))","v":"20241231"},{"$f":"+'Outgoing Remittances (Volume)'!C32","v":0}]
["CMREM_11510","BQ",{"$f":"+'Outgoing Remittances (Volume)'!$C$5","v":"20240731"},{"$f":"+'COVER SHEET'!$D$12","v":0},11510,{"$f":"'COVER SHEET'!$D$16&IF(MID('COVER SHEET'!$I$18,6,10)=\"december\",\"1231\",IF(MID('COVER SHEET'!$I$18,6,10)=\"june\",\"0630\"))","v":"20241231"},{"$f":"+'Outgoing Remittances (Volume)'!C33","v":0}]
["CMREM_11510","BT",{"$f":"+'Outgoing Remittances (Volume)'!$C$5","v":"20240731"},{"$f":"+'COVER SHEET'!$D$12","v":0},11510,{"$f":"'COVER SHEET'!$D$16&IF(MID('COVER SHEET'!$I$18,6,10)=\"december\",\"1231\",IF(MID('COVER SHEET'!$I$18,6,10)=\"june\",\"0630\"))","v":"20241231"},{"$f":"+'Outgoing Remittances (Volume)'!C34","v":0}]
["CMREM_11510","BO",{"$f":"+'Outgoing Remittances (Volume)'!$C$5","v":"20240731"},{"$f":"+'COVER SHEET'!$D$12","v":0},11510,{"$f":"'COVER SHEET'!$D$16&IF(MID('COVER SHEET'!$I$18,6,10)=\"december\",\"1231\",IF(MID('COVER SHEET'!$I$18,6,10)=\"june\",\"0630\"))","v":"20241231"},{"$f":"+'Outgoing Remittances (Volume)'!C35","v":0}]
["CMREM_11510","BA",{"$f":"+'Outgoing Remittances (Volume)'!$C$5","v":"20240731"},{"$f":"+'COVER SHEET'!$D$12","v":0},11510,{"$f":"'COVER SHEET'!$D$16&IF(MID('COVER SHEET'!$I$18,6,10)=\"december\",\"1231\",IF(MID('COVER SHEET'!$I$18,6,10)=\"june\",\"0630\"))","v":"20241231"},{"$f":"+'Outgoing Remittances (Volume)'!C36","v":0}]
["CMREM_11510","BW",{"$f":"+'Outgoing Remittances (Volume)'!$C$5","v":"20240731"},{"$f":"+'COVER SHEET'!$D$12","v":0},11510,{"$f":"'COVER SHEET'!$D$16&IF(MID('COVER SHEET'!$I$18,6,10)=\"december\",\"1231\",IF(MID('COVER SHEET'!$I$18,6,10)=\"june\",\"0630\"))","v":"20241231"},{"$f":"+'Outgoing Remittances (Volume)'!C37","v":0}]
["CMREM_11510","BV",{"$f":"+'Outgoing Remittances (Volume)'!$C$5","v":"20240731"},{"$f":"+'COVER SHEET'!$D$12","v":0},11510,{"$f":"'COVER SHEET'!$D$16&IF(MID('COVER SHEET'!$I$18,6,10)=\"december\",\"1231\",IF(MID('COVER SHEET'!$I$18,6,10)=\"june\",\"0630\"))","v":"20241231"},{"$f":"+'Outgoing Remittances (Volume)'!C38","v":0}]
["CMREM_11510","BR",{"$f":"+'Outgoing Remittances (Volume)'!$C$5","v":"20240731"},{"$f":"+'COVER SHEET'!$D$12","v":0},11510,{"$f":"'COVER SHEET'!$D$16&IF(MID('COVER SHEET'!$I$18,6,10)=\"december\",\"1231\",IF(MID('COVER SHEET'!$I$18,6,10)=\"june\",\"0630\"))","v":"20241231"},{"$f":"+'Outgoing Remittances (Volume)'!C39","v":0}]
["CMREM_11510","IO",{"$f":"+'Outgoing Remittances (Volume)'!$C$5","v":"20240731"},{"$f":"+'COVER SHEET'!$D$12","v":0},11510,{"$f":"'COVER SHEET'!$D$16&IF(MID('COVER SHEET'!$I$18,6,10)=\"december\",\"1231\",IF(MID('COVER SHEET'!$I$18,6,10)=\"june\",\"0630\"))","v":"20241231"},{"$f":"+'Outgoing Remittances (Volume)'!C40","v":0}]
["CMREM_11510","VG",{"$f":"+'Outgoing Remittances (Volume)'!$C$5","v":"20240731"},{"$f":"+'COVER SHEET'!$D$12","v":0},11510,{"$f":"'COVER SHEET'!$D$16&IF(MID('COVER SHEET'!$I$18,6,10)=\"december\",\"1231\",IF(MID('COVER SHEET'!$I$18,6,10)=\"june\",\"0630\"))","v":"20241231"},{"$f":"+'Outgoing Remittances (Volume)'!C41","v":0}]
["CMREM_11510","BN",{"$f":"+'Outgoing Remittances (Volume)'!$C$5","v":"20240731"},{"$f":"+'COVER SHEET'!$D$12","v":0},11510,{"$f":"'COVER SHEET'!$D$16&IF(MID('COVER SHEET'!$I$18,6,10)=\"december\",\"1231\",IF(MID('COVER SHEET'!$I$18,6,10)=\"june\",\"0630\"))","v":"20241231"},{"$f":"+'Outgoing Remittances (Volume)'!C42","v":0}]
["CMREM_11510","BG",{"$f":"+'Outgoing Remittances (Volume)'!$C$5","v":"20240731"},{"$f":"+'COVER SHEET'!$D$12","v":0},11510,{"$f":"'COVER SHEET'!$D$16&IF(MID('COVER SHEET'!$I$18,6,10)=\"december\",\"1231\",IF(MID('COVER SHEET'!$I$18,6,10)=\"june\",\"0630\"))","v":"20241231"},{"$f":"+'Outgoing Remittances (Volume)'!C43","v":0}]
["CMREM_11510","BF",{"$f":"+'Outgoing Remittances (Volume)'!$C$5","v":"20240731"},{"$f":"+'COVER SHEET'!$D$12","v":0},11510,{"$f":"'COVER SHEET'!$D$16&IF(MID('COVER SHEET'!$I$18,6,10)=\"december\",\"1231\",IF(MID('COVER SHEET'!$I$18,6,10)=\"june\",\"0630\"))","v":"20241231"},{"$f":"+'Outgoing Remittances (Volume)'!C44","v":0}]
["CMREM_11510","BI",{"$f":"+'Outgoing Remittances (Volume)'!$C$5","v":"20240731"},{"$f":"+'COVER SHEET'!$D$12","v":0},11510,{"$f":"'COVER SHEET'!$D$16&IF(MID('COVER SHEET'!$I$18,6,10)=\"december\",\"1231\",IF(MID('COVER SHEET'!$I$18,6,10)=\"june\",\"0630\"))","v":"20241231"},{"$f":"+'Outgoing Remittances (Volume)'!C45","v":0}]
["CMREM_11510","KH",{"$f":"+'Outgoing Remittances (Volume)'!$C$5","v":"20240731"},{"$f":"+'COVER SHEET'!$D$12","v":0},11510,{"$f":"'COVER SHEET'!$D$16&IF(MID('COVER SHEET'!$I$18,6,10)=\"december\",\"1231\",IF(MID('COVER SHEET'!$I$18,6,10)=\"june\",\"0630\"))","v":"20241231"},{"$f":"+'Outgoing Remittances (Volume)'!C46","v":0}]
["CMREM_11510","CM",{"$f":"+'Outgoing Remittances (Volume)'!$C$5","v":"20240731"},{"$f":"+'COVER SHEET'!$D$12","v":0},11510,{"$f":"'COVER SHEET'!$D$16&IF(MID('COVER SHEET'!$I$18,6,10)=\"december\",\"1231\",IF(MID('COVER SHEET'!$I$18,6,10)=\"june\",\"0630\"))","v":"20241231"},{"$f":"+'Outgoing Remittances (Volume)'!C47","v":0}]
["CMREM_11510","CA",{"$f":"+'Outgoing Remittances (Volume)'!$C$5","v":"20240731"},{"$f":"+'COVER SHEET'!$D$12","v":0},11510,{"$f":"'COVER SHEET'!$D$16&IF(MID('COVER SHEET'!$I$18,6,10)=\"december\",\"1231\",IF(MID('COVER SHEET'!$I$18,6,10)=\"june\",\"0630\"))","v":"20241231"},{"$f":"+'Outgoing Remittances (Volume)'!C48","v":0}]
["CMREM_11510","CV",{"$f":"+'Outgoing Remittances (Volume)'!$C$5","v":"20240731"},{"$f":"+'COVER SHEET'!$D$12","v":0},11510,{"$f":"'COVER SHEET'!$D$16&IF(MID('COVER SHEET'!$I$18,6,10)=\"december\",\"1231\",IF(MID('COVER SHEET'!$I$18,6,10)=\"june\",\"0630\"))","v":"20241231"},{"$f":"+'Outgoing Remittances (Volume)'!C49","v":0}]
["CMREM_11510","KY",{"$f":"+'Outgoing Remittances (Volume)'!$C$5","v":"20240731"},{"$f":"+'COVER SHEET'!$D$12","v":0},11510,{"$f":"'COVER SHEET'!$D$16&IF(MID('COVER SHEET'!$I$18,6,10)=\"december\",\"1231\",IF(MID('COVER SHEET'!$I$18,6,10)=\"june\",\"0630\"))","v":"20241231"},{"$f":"+'Outgoing Remittances (Volume)'!C50","v":0}]
["CMREM_11510","CF",{"$f":"+'Outgoing Remittances (Volume)'!$C$5","v":"20240731"},{"$f":"+'COVER SHEET'!$D$12","v":0},11510,{"$f":"'COVER SHEET'!$D$16&IF(MID('COVER SHEET'!$I$18,6,10)=\"december\",\"1231\",IF(MID('COVER SHEET'!$I$18,6,10)=\"june\",\"0630\"))","v":"20241231"},{"$f":"+'Outgoing Remittances (Volume)'!C51","v":0}]
["CMREM_11510","TD",{"$f":"+'Outgoing Remittances (Volume)'!$C$5","v":"20240731"},{"$f":"+'COVER SHEET'!$D$12","v":0},11510,{"$f":"'COVER SHEET'!$D$16&IF(MID('COVER SHEET'!$I$18,6,10)=\"december\",\"1231\",IF(MID('COVER SHEET'!$I$18,6,10)=\"june\",\"0630\"))","v":"20241231"},{"$f":"+'Outgoing Remittances (Volume)'!C52","v":0}]
["CMREM_11510","CL",{"$f":"+'Outgoing Remittances (Volume)'!$C$5","v":"20240731"},{"$f":"+'COVER SHEET'!$D$12","v":0},11510,{"$f":"'COVER SHEET'!$D$16&IF(MID('COVER SHEET'!$I$18,6,10)=\"december\",\"1231\",IF(MID('COVER SHEET'!$I$18,6,10)=\"june\",\"0630\"))","v":"20241231"},{"$f":"+'Outgoing Remittances (Volume)'!C53","v":0}]
["CMREM_11510","CN",{"$f":"+'Outgoing Remittances (Volume)'!$C$5","v":"20240731"},{"$f":"+'COVER SHEET'!$D$12","v":0},11510,{"$f":"'COVER SHEET'!$D$16&IF(MID('COVER SHEET'!$I$18,6,10)=\"december\",\"1231\",IF(MID('COVER SHEET'!$I$18,6,10)=\"june\",\"0630\"))","v":"20241231"},{"$f":"+'Outgoing Remittances (Volume)'!C54","v":0}]
["CMREM_11510","CX",{"$f":"+'Outgoing Remittances (Volume)'!$C$5","v":"20240731"},{"$f":"+'COVER SHEET'!$D$12","v":0},11510,{"$f":"'COVER SHEET'!$D$16&IF(MID('COVER SHEET'!$I$18,6,10)=\"december\",\"1231\",IF(MID('COVER SHEET'!$I$18,6,10)=\"june\",\"0630\"))","v":"20241231"},{"$f":"+'Outgoing Remittances (Volume)'!C55","v":0}]
["CMREM_11510","CC",{"$f":"+'Outgoing Remittances (Volume)'!$C$5","v":"20240731"},{"$f":"+'COVER SHEET'!$D$12","v":0},11510,{"$f":"'COVER SHEET'!$D$16&IF(MID('COVER SHEET'!$I$18,6,10)=\"december\",\"1231\",IF(MID('COVER SHEET'!$I$18,6,10)=\"june\",\"0630\"))","v":"20241231"},{"$f":"+'Outgoing Remittances (Volume)'!C56","v":0}]
["CMREM_11510","CO",{"$f":"+'Outgoing Remittances (Volume)'!$C$5","v":"20240731"},{"$f":"+'COVER SHEET'!$D$12","v":0},11510,{"$f":"'COVER SHEET'!$D$16&IF(MID('COVER SHEET'!$I$18,6,10)=\"december\",\"1231\",IF(MID('COVER SHEET'!$I$18,6,10)=\"june\",\"0630\"))","v":"20241231"},{"$f":"+'Outgoing Remittances (Volume)'!C57","v":0}]
["CMREM_11510","KM",{"$f":"+'Outgoing Remittances (Volume)'!$C$5","v":"20240731"},{"$f":"+'COVER SHEET'!$D$12","v":0},11510,{"$f":"'COVER SHEET'!$D$16&IF(MID('COVER SHEET'!$I$18,6,10)=\"december\",\"1231\",IF(MID('COVER SHEET'!$I$18,6,10)=\"june\",\"0630\"))","v":"20241231"},{"$f":"+'Outgoing Remittances (Volume)'!C58","v":0}]
["CMREM_11510","CG",{"$f":"+'Outgoing Remittances (Volume)'!$C$5","v":"20240731"},{"$f":"+'COVER SHEET'!$D$12","v":0},11510,{"$f":"'COVER SHEET'!$D$16&IF(MID('COVER SHEET'!$I$18,6,10)=\"december\",\"1231\",IF(MID('COVER SHEET'!$I$18,6,10)=\"june\",\"0630\"))","v":"20241231"},{"$f":"+'Outgoing Remittances (Volume)'!C59","v":0}]
["CMREM_11510","CD",{"$f":"+'Outgoing Remittances (Volume)'!$C$5","v":"20240731"},{"$f":"+'COVER SHEET'!$D$12","v":0},11510,{"$f":"'COVER SHEET'!$D$16&IF(MID('COVER SHEET'!$I$18,6,10)=\"december\",\"1231\",IF(MID('COVER SHEET'!$I$18,6,10)=\"june\",\"0630\"))","v":"20241231"},{"$f":"+'Outgoing Remittances (Volume)'!C60","v":0}]
["CMREM_11510","CK",{"$f":"+'Outgoing Remittances (Volume)'!$C$5","v":"20240731"},{"$f":"+'COVER SHEET'!$D$12","v":0},11510,{"$f":"'COVER SHEET'!$D$16&IF(MID('COVER SHEET'!$I$18,6,10)=\"december\",\"1231\",IF(MID('COVER SHEET'!$I$18,6,10)=\"june\",\"0630\"))","v":"20241231"},{"$f":"+'Outgoing Remittances (Volume)'!C61","v":0}]
["CMREM_11510","CR",{"$f":"+'Outgoing Remittances (Volume)'!$C$5","v":"20240731"},{"$f":"+'COVER SHEET'!$D$12","v":0},11510,{"$f":"'COVER SHEET'!$D$16&IF(MID('COVER SHEET'!$I$18,6,10)=\"december\",\"1231\",IF(MID('COVER SHEET'!$I$18,6,10)=\"june\",\"0630\"))","v":"20241231"},{"$f":"+'Outgoing Remittances (Volume)'!C62","v":0}]
["CMREM_11510","HR",{"$f":"+'Outgoing Remittances (Volume)'!$C$5","v":"20240731"},{"$f":"+'COVER SHEET'!$D$12","v":0},11510,{"$f":"'COVER SHEET'!$D$16&IF(MID('COVER SHEET'!$I$18,6,10)=\"december\",\"1231\",IF(MID('COVER SHEET'!$I$18,6,10)=\"june\",\"0630\"))","v":"20241231"},{"$f":"+'Outgoing Remittances (Volume)'!C63","v":0}]
["CMREM_11510","CU",{"$f":"+'Outgoing Remittances (Volume)'!$C$5","v":"20240731"},{"$f":"+'COVER SHEET'!$D$12","v":0},11510,{"$f":"'COVER SHEET'!$D$16&IF(MID('COVER SHEET'!$I$18,6,10)=\"december\",\"1231\",IF(MID('COVER SHEET'!$I$18,6,10)=\"june\",\"0630\"))","v":"20241231"},{"$f":"+'Outgoing Remittances (Volume)'!C64","v":0}]
["CMREM_11510","CW",{"$f":"+'Outgoing Remittances (Volume)'!$C$5","v":"20240731"},{"$f":"+'COVER SHEET'!$D$12","v":0},11510,{"$f":"'COVER SHEET'!$D$16&IF(MID('COVER SHEET'!$I$18,6,10)=\"december\",\"1231\",IF(MID('COVER SHEET'!$I$18,6,10)=\"june\",\"0630\"))","v":"20241231"},{"$f":"+'Outgoing Remittances (Volume)'!C65","v":0}]
["CMREM_11510","CY",{"$f":"+'Outgoing Remittances (Volume)'!$C$5","v":"20240731"},{"$f":"+'COVER SHEET'!$D$12","v":0},11510,{"$f":"'COVER SHEET'!$D$16&IF(MID('COVER SHEET'!$I$18,6,10)=\"december\",\"1231\",IF(MID('COVER SHEET'!$I$18,6,10)=\"june\",\"0630\"))","v":"20241231"},{"$f":"+'Outgoing Remittances (Volume)'!C66","v":0}]
["CMREM_11510","CZ",{"$f":"+'Outgoing Remittances (Volume)'!$C$5","v":"20240731"},{"$f":"+'COVER SHEET'!$D$12","v":0},11510,{"$f":"'COVER SHEET'!$D$16&IF(MID('COVER SHEET'!$I$18,6,10)=\"december\",\"1231\",IF(MID('COVER SHEET'!$I$18,6,10)=\"june\",\"0630\"))","v":"20241231"},{"$f":"+'Outgoing Remittances (Volume)'!C67","v":0}]
["CMREM_11510","DK",{"$f":"+'Outgoing Remittances (Volume)'!$C$5","v":"20240731"},{"$f":"+'COVER SHEET'!$D$12","v":0},11510,{"$f":"'COVER SHEET'!$D$16&IF(MID('COVER SHEET'!$I$18,6,10)=\"december\",\"1231\",IF(MID('COVER SHEET'!$I$18,6,10)=\"june\",\"0630\"))","v":"20241231"},{"$f":"+'Outgoing Remittances (Volume)'!C68","v":0}]
["CMREM_11510","DJ",{"$f":"+'Outgoing Remittances (Volume)'!$C$5","v":"20240731"},{"$f":"+'COVER SHEET'!$D$12","v":0},11510,{"$f":"'COVER SHEET'!$D$16&IF(MID('COVER SHEET'!$I$18,6,10)=\"december\",\"1231\",IF(MID('COVER SHEET'!$I$18,6,10)=\"june\",\"0630\"))","v":"20241231"},{"$f":"+'Outgoing Remittances (Volume)'!C69","v":0}]
["CMREM_11510","DM",{"$f":"+'Outgoing Remittances (Volume)'!$C$5","v":"20240731"},{"$f":"+'COVER SHEET'!$D$12","v":0},11510,{"$f":"'COVER SHEET'!$D$16&IF(MID('COVER SHEET'!$I$18,6,10)=\"december\",\"1231\",IF(MID('COVER SHEET'!$I$18,6,10)=\"june\",\"0630\"))","v":"20241231"},{"$f":"+'Outgoing Remittances (Volume)'!C70","v":0}]
["CMREM_11510","DO",{"$f":"+'Outgoing Remittances (Volume)'!$C$5","v":"20240731"},{"$f":"+'COVER SHEET'!$D$12","v":0},11510,{"$f":"'COVER SHEET'!$D$16&IF(MID('COVER SHEET'!$I$18,6,10)=\"december\",\"1231\",IF(MID('COVER SHEET'!$I$18,6,10)=\"june\",\"0630\"))","v":"20241231"},{"$f":"+'Outgoing Remittances (Volume)'!C71","v":0}]
["CMREM_11510","TL",{"$f":"+'Outgoing Remittances (Volume)'!$C$5","v":"20240731"},{"$f":"+'COVER SHEET'!$D$12","v":0},11510,{"$f":"'COVER SHEET'!$D$16&IF(MID('COVER SHEET'!$I$18,6,10)=\"december\",\"1231\",IF(MID('COVER SHEET'!$I$18,6,10)=\"june\",\"0630\"))","v":"20241231"},{"$f":"+'Outgoing Remittances (Volume)'!C72","v":0}]
["CMREM_11510","EC",{"$f":"+'Outgoing Remittances (Volume)'!$C$5","v":"20240731"},{"$f":"+'COVER SHEET'!$D$12","v":0},11510,{"$f":"'COVER SHEET'!$D$16&IF(MID('COVER SHEET'!$I$18,6,10)=\"december\",\"1231\",IF(MID('COVER SHEET'!$I$18,6,10)=\"june\",\"0630\"))","v":"20241231"},{"$f":"+'Outgoing Remittances (Volume)'!C73","v":0}]
["CMREM_11510","EG",{"$f":"+'Outgoing Remittances (Volume)'!$C$5","v":"20240731"},{"$f":"+'COVER SHEET'!$D$12","v":0},11510,{"$f":"'COVER SHEET'!$D$16&IF(MID('COVER SHEET'!$I$18,6,10)=\"december\",\"1231\",IF(MID('COVER SHEET'!$I$18,6,10)=\"june\",\"0630\"))","v":"20241231"},{"$f":"+'Outgoing Remittances (Volume)'!C74","v":0}]
["CMREM_11510","SV",{"$f":"+'Outgoing Remittances (Volume)'!$C$5","v":"20240731"},{"$f":"+'COVER SHEET'!$D$12","v":0},11510,{"$f":"'COVER SHEET'!$D$16&IF(MID('COVER SHEET'!$I$18,6,10)=\"december\",\"1231\",IF(MID('COVER SHEET'!$I$18,6,10)=\"june\",\"0630\"))","v":"20241231"},{"$f":"+'Outgoing Remittances (Volume)'!C75","v":0}]
["CMREM_11510","GQ",{"$f":"+'Outgoing Remittances (Volume)'!$C$5","v":"20240731"},{"$f":"+'COVER SHEET'!$D$12","v":0},11510,{"$f":"'COVER SHEET'!$D$16&IF(MID('COVER SHEET'!$I$18,6,10)=\"december\",\"1231\",IF(MID('COVER SHEET'!$I$18,6,10)=\"june\",\"0630\"))","v":"20241231"},{"$f":"+'Outgoing Remittances (Volume)'!C76","v":0}]
["CMREM_11510","ER",{"$f":"+'Outgoing Remittances (Volume)'!$C$5","v":"20240731"},{"$f":"+'COVER SHEET'!$D$12","v":0},11510,{"$f":"'COVER SHEET'!$D$16&IF(MID('COVER SHEET'!$I$18,6,10)=\"december\",\"1231\",IF(MID('COVER SHEET'!$I$18,6,10)=\"june\",\"0630\"))","v":"20241231"},{"$f":"+'Outgoing Remittances (Volume)'!C77","v":0}]
["CMREM_11510","EE",{"$f":"+'Outgoing Remittances (Volume)'!$C$5","v":"20240731"},{"$f":"+'COVER SHEET'!$D$12","v":0},11510,{"$f":"'COVER SHEET'!$D$16&IF(MID('COVER SHEET'!$I$18,6,10)=\"december\",\"1231\",IF(MID('COVER SHEET'!$I$18,6,10)=\"june\",\"0630\"))","v":"20241231"},{"$f":"+'Outgoing Remittances (Volume)'!C78","v":0}]
["CMREM_11510","ET",{"$f":"+'Outgoing Remittances (Volume)'!$C$5","v":"20240731"},{"$f":"+'COVER SHEET'!$D$12","v":0},11510,{"$f":"'COVER SHEET'!$D$16&IF(MID('COVER SHEET'!$I$18,6,10)=\"december\",\"1231\",IF(MID('COVER SHEET'!$I$18,6,10)=\"june\",\"0630\"))","v":"20241231"},{"$f":"+'Outgoing Remittances (Volume)'!C79","v":0}]
["CMREM_11510","FK",{"$f":"+'Outgoing Remittances (Volume)'!$C$5","v":"20240731"},{"$f":"+'COVER SHEET'!$D$12","v":0},11510,{"$f":"'COVER SHEET'!$D$16&IF(MID('COVER SHEET'!$I$18,6,10)=\"december\",\"1231\",IF(MID('COVER SHEET'!$I$18,6,10)=\"june\",\"0630\"))","v":"20241231"},{"$f":"+'Outgoing Remittances (Volume)'!C80","v":0}]
["CMREM_11510","FO",{"$f":"+'Outgoing Remittances (Volume)'!$C$5","v":"20240731"},{"$f":"+'COVER SHEET'!$D$12","v":0},11510,{"$f":"'COVER SHEET'!$D$16&IF(MID('COVER SHEET'!$I$18,6,10)=\"december\",\"1231\",IF(MID('COVER SHEET'!$I$18,6,10)=\"june\",\"0630\"))","v":"20241231"},{"$f":"+'Outgoing Remittances (Volume)'!C81","v":0}]
["CMREM_11510","FJ",{"$f":"+'Outgoing Remittances (Volume)'!$C$5","v":"20240731"},{"$f":"+'COVER SHEET'!$D$12","v":0},11510,{"$f":"'COVER SHEET'!$D$16&IF(MID('COVER SHEET'!$I$18,6,10)=\"december\",\"1231\",IF(MID('COVER SHEET'!$I$18,6,10)=\"june\",\"0630\"))","v":"20241231"},{"$f":"+'Outgoing Remittances (Volume)'!C82","v":0}]
["CMREM_11510","FI",{"$f":"+'Outgoing Remittances (Volume)'!$C$5","v":"20240731"},{"$f":"+'COVER SHEET'!$D$12","v":0},11510,{"$f":"'COVER SHEET'!$D$16&IF(MID('COVER SHEET'!$I$18,6,10)=\"december\",\"1231\",IF(MID('COVER SHEET'!$I$18,6,10)=\"june\",\"0630\"))","v":"20241231"},{"$f":"+'Outgoing Remittances (Volume)'!C83","v":0}]
["CMREM_11510","FR",{"$f":"+'Outgoing Remittances (Volume)'!$C$5","v":"20240731"},{"$f":"+'COVER SHEET'!$D$12","v":0},11510,{"$f":"'COVER SHEET'!$D$16&IF(MID('COVER SHEET'!$I$18,6,10)=\"december\",\"1231\",IF(MID('COVER SHEET'!$I$18,6,10)=\"june\",\"0630\"))","v":"20241231"},{"$f":"+'Outgoing Remittances (Volume)'!C84","v":0}]
["CMREM_11510","PF",{"$f":"+'Outgoing Remittances (Volume)'!$C$5","v":"20240731"},{"$f":"+'COVER SHEET'!$D$12","v":0},11510,{"$f":"'COVER SHEET'!$D$16&IF(MID('COVER SHEET'!$I$18,6,10)=\"december\",\"1231\",IF(MID('COVER SHEET'!$I$18,6,10)=\"june\",\"0630\"))","v":"20241231"},{"$f":"+'Outgoing Remittances (Volume)'!C85","v":0}]
["CMREM_11510","TF",{"$f":"+'Outgoing Remittances (Volume)'!$C$5","v":"20240731"},{"$f":"+'COVER SHEET'!$D$12","v":0},11510,{"$f":"'COVER SHEET'!$D$16&IF(MID('COVER SHEET'!$I$18,6,10)=\"december\",\"1231\",IF(MID('COVER SHEET'!$I$18,6,10)=\"june\",\"0630\"))","v":"20241231"},{"$f":"+'Outgoing Remittances (Volume)'!C86","v":0}]
["CMREM_11510","GA",{"$f":"+'Outgoing Remittances (Volume)'!$C$5","v":"20240731"},{"$f":"+'COVER SHEET'!$D$12","v":0},11510,{"$f":"'COVER SHEET'!$D$16&IF(MID('COVER SHEET'!$I$18,6,10)=\"december\",\"1231\",IF(MID('COVER SHEET'!$I$18,6,10)=\"june\",\"0630\"))","v":"20241231"},{"$f":"+'Outgoing Remittances (Volume)'!C87","v":0}]
["CMREM_11510","GM",{"$f":"+'Outgoing Remittances (Volume)'!$C$5","v":"20240731"},{"$f":"+'COVER SHEET'!$D$12","v":0},11510,{"$f":"'COVER SHEET'!$D$16&IF(MID('COVER SHEET'!$I$18,6,10)=\"december\",\"1231\",IF(MID('COVER SHEET'!$I$18,6,10)=\"june\",\"0630\"))","v":"20241231"},{"$f":"+'Outgoing Remittances (Volume)'!C88","v":0}]
["CMREM_11510","GE",{"$f":"+'Outgoing Remittances (Volume)'!$C$5","v":"20240731"},{"$f":"+'COVER SHEET'!$D$12","v":0},11510,{"$f":"'COVER SHEET'!$D$16&IF(MID('COVER SHEET'!$I$18,6,10)=\"december\",\"1231\",IF(MID('COVER SHEET'!$I$18,6,10)=\"june\",\"0630\"))","v":"20241231"},{"$f":"+'Outgoing Remittances (Volume)'!C89","v":0}]
["CMREM_11510","DE",{"$f":"+'Outgoing Remittances (Volume)'!$C$5","v":"20240731"},{"$f":"+'COVER SHEET'!$D$12","v":0},11510,{"$f":"'COVER SHEET'!$D$16&IF(MID('COVER SHEET'!$I$18,6,10)=\"december\",\"1231\",IF(MID('COVER SHEET'!$I$18,6,10)=\"june\",\"0630\"))","v":"20241231"},{"$f":"+'Outgoing Remittances (Volume)'!C90","v":0}]
["CMREM_11510","GH",{"$f":"+'Outgoing Remittances (Volume)'!$C$5","v":"20240731"},{"$f":"+'COVER SHEET'!$D$12","v":0},11510,{"$f":"'COVER SHEET'!$D$16&IF(MID('COVER SHEET'!$I$18,6,10)=\"december\",\"1231\",IF(MID('COVER SHEET'!$I$18,6,10)=\"june\",\"0630\"))","v":"20241231"},{"$f":"+'Outgoing Remittances (Volume)'!C91","v":0}]
["CMREM_11510","GI",{"$f":"+'Outgoing Remittances (Volume)'!$C$5","v":"20240731"},{"$f":"+'COVER SHEET'!$D$12","v":0},11510,{"$f":"'COVER SHEET'!$D$16&IF(MID('COVER SHEET'!$I$18,6,10)=\"december\",\"1231\",IF(MID('COVER SHEET'!$I$18,6,10)=\"june\",\"0630\"))","v":"20241231"},{"$f":"+'Outgoing Remittances (Volume)'!C92","v":0}]
["CMREM_11510","GR",{"$f":"+'Outgoing Remittances (Volume)'!$C$5","v":"20240731"},{"$f":"+'COVER SHEET'!$D$12","v":0},11510,{"$f":"'COVER SHEET'!$D$16&IF(MID('COVER SHEET'!$I$18,6,10)=\"december\",\"1231\",IF(MID('COVER SHEET'!$I$18,6,10)=\"june\",\"0630\"))","v":"20241231"},{"$f":"+'Outgoing Remittances (Volume)'!C93","v":0}]
["CMREM_11510","GL",{"$f":"+'Outgoing Remittances (Volume)'!$C$5","v":"20240731"},{"$f":"+'COVER SHEET'!$D$12","v":0},11510,{"$f":"'COVER SHEET'!$D$16&IF(MID('COVER SHEET'!$I$18,6,10)=\"december\",\"1231\",IF(MID('COVER SHEET'!$I$18,6,10)=\"june\",\"0630\"))","v":"20241231"},{"$f":"+'Outgoing Remittances (Volume)'!C94","v":0}]
["CMREM_11510","GD",{"$f":"+'Outgoing Remittances (Volume)'!$C$5","v":"20240731"},{"$f":"+'COVER SHEET'!$D$12","v":0},11510,{"$f":"'COVER SHEET'!$D$16&IF(MID('COVER SHEET'!$I$18,6,10)=\"december\",\"1231\",IF(MID('COVER SHEET'!$I$18,6,10)=\"june\",\"0630\"))","v":"20241231"},{"$f":"+'Outgoing Remittances (Volume)'!C95","v":0}]
["CMREM_11510","GU",{"$f":"+'Outgoing Remittances (Volume)'!$C$5","v":"20240731"},{"$f":"+'COVER SHEET'!$D$12","v":0},11510,{"$f":"'COVER SHEET'!$D$16&IF(MID('COVER SHEET'!$I$18,6,10)=\"december\",\"1231\",IF(MID('COVER SHEET'!$I$18,6,10)=\"june\",\"0630\"))","v":"20241231"},{"$f":"+'Outgoing Remittances (Volume)'!C96","v":0}]
["CMREM_11510","GT",{"$f":"+'Outgoing Remittances (Volume)'!$C$5","v":"20240731"},{"$f":"+'COVER SHEET'!$D$12","v":0},11510,{"$f":"'COVER SHEET'!$D$16&IF(MID('COVER SHEET'!$I$18,6,10)=\"december\",\"1231\",IF(MID('COVER SHEET'!$I$18,6,10)=\"june\",\"0630\"))","v":"20241231"},{"$f":"+'Outgoing Remittances (Volume)'!C97","v":0}]
["CMREM_11510","GG",{"$f":"+'Outgoing Remittances (Volume)'!$C$5","v":"20240731"},{"$f":"+'COVER SHEET'!$D$12","v":0},11510,{"$f":"'COVER SHEET'!$D$16&IF(MID('COVER SHEET'!$I$18,6,10)=\"december\",\"1231\",IF(MID('COVER SHEET'!$I$18,6,10)=\"june\",\"0630\"))","v":"20241231"},{"$f":"+'Outgoing Remittances (Volume)'!C98","v":0}]
["CMREM_11510","GN",{"$f":"+'Outgoing Remittances (Volume)'!$C$5","v":"20240731"},{"$f":"+'COVER SHEET'!$D$12","v":0},11510,{"$f":"'COVER SHEET'!$D$16&IF(MID('COVER SHEET'!$I$18,6,10)=\"december\",\"1231\",IF(MID('COVER SHEET'!$I$18,6,10)=\"june\",\"0630\"))","v":"20241231"},{"$f":"+'Outgoing Remittances (Volume)'!C99","v":0}]
["CMREM_11510","GW",{"$f":"+'Outgoing Remittances (Volume)'!$C$5","v":"20240731"},{"$f":"+'COVER SHEET'!$D$12","v":0},11510,{"$f":"'COVER SHEET'!$D$16&IF(MID('COVER SHEET'!$I$18,6,10)=\"december\",\"1231\",IF(MID('COVER SHEET'!$I$18,6,10)=\"june\",\"0630\"))","v":"20241231"},{"$f":"+'Outgoing Remittances (Volume)'!C100","v":0}]
["CMREM_11510","GY",{"$f":"+'Outgoing Remittances (Volume)'!$C$5","v":"20240731"},{"$f":"+'COVER SHEET'!$D$12","v":0},11510,{"$f":"'COVER SHEET'!$D$16&IF(MID('COVER SHEET'!$I$18,6,10)=\"december\",\"1231\",IF(MID('COVER SHEET'!$I$18,6,10)=\"june\",\"0630\"))","v":"20241231"},{"$f":"+'Outgoing Remittances (Volume)'!C101","v":0}]
["CMREM_11510","HT",{"$f":"+'Outgoing Remittances (Volume)'!$C$5","v":"20240731"},{"$f":"+'COVER SHEET'!$D$12","v":0},11510,{"$f":"'COVER SHEET'!$D$16&IF(MID('COVER SHEET'!$I$18,6,10)=\"december\",\"1231\",IF(MID('COVER SHEET'!$I$18,6,10)=\"june\",\"0630\"))","v":"20241231"},{"$f":"+'Outgoing Remittances (Volume)'!C102","v":0}]
["CMREM_11510","HM",{"$f":"+'Outgoing Remittances (Volume)'!$C$5","v":"20240731"},{"$f":"+'COVER SHEET'!$D$12","v":0},11510,{"$f":"'COVER SHEET'!$D$16&IF(MID('COVER SHEET'!$I$18,6,10)=\"december\",\"1231\",IF(MID('COVER SHEET'!$I$18,6,10)=\"june\",\"0630\"))","v":"20241231"},{"$f":"+'Outgoing Remittances (Volume)'!C103","v":0}]
["CMREM_11510","VA",{"$f":"+'Outgoing Remittances (Volume)'!$C$5","v":"20240731"},{"$f":"+'COVER SHEET'!$D$12","v":0},11510,{"$f":"'COVER SHEET'!$D$16&IF(MID('COVER SHEET'!$I$18,6,10)=\"december\",\"1231\",IF(MID('COVER SHEET'!$I$18,6,10)=\"june\",\"0630\"))","v":"20241231"},{"$f":"+'Outgoing Remittances (Volume)'!C104","v":0}]
["CMREM_11510","HN",{"$f":"+'Outgoing Remittances (Volume)'!$C$5","v":"20240731"},{"$f":"+'COVER SHEET'!$D$12","v":0},11510,{"$f":"'COVER SHEET'!$D$16&IF(MID('COVER SHEET'!$I$18,6,10)=\"december\",\"1231\",IF(MID('COVER SHEET'!$I$18,6,10)=\"june\",\"0630\"))","v":"20241231"},{"$f":"+'Outgoing Remittances (Volume)'!C105","v":0}]
["CMREM_11510","HK",{"$f":"+'Outgoing Remittances (Volume)'!$C$5","v":"20240731"},{"$f":"+'COVER SHEET'!$D$12","v":0},11510,{"$f":"'COVER SHEET'!$D$16&IF(MID('COVER SHEET'!$I$18,6,10)=\"december\",\"1231\",IF(MID('COVER SHEET'!$I$18,6,10)=\"june\",\"0630\"))","v":"20241231"},{"$f":"+'Outgoing Remittances (Volume)'!C106","v":0}]
["CMREM_11510","HU",{"$f":"+'Outgoing Remittances (Volume)'!$C$5","v":"20240731"},{"$f":"+'COVER SHEET'!$D$12","v":0},11510,{"$f":"'COVER SHEET'!$D$16&IF(MID('COVER SHEET'!$I$18,6,10)=\"december\",\"1231\",IF(MID('COVER SHEET'!$I$18,6,10)=\"june\",\"0630\"))","v":"20241231"},{"$f":"+'Outgoing Remittances (Volume)'!C107","v":0}]
["CMREM_11510","IS",{"$f":"+'Outgoing Remittances (Volume)'!$C$5","v":"20240731"},{"$f":"+'COVER SHEET'!$D$12","v":0},11510,{"$f":"'COVER SHEET'!$D$16&IF(MID('COVER SHEET'!$I$18,6,10)=\"december\",\"1231\",IF(MID('COVER SHEET'!$I$18,6,10)=\"june\",\"0630\"))","v":"20241231"},{"$f":"+'Outgoing Remittances (Volume)'!C108","v":0}]
["CMREM_11510","IN",{"$f":"+'Outgoing Remittances (Volume)'!$C$5","v":"20240731"},{"$f":"+'COVER SHEET'!$D$12","v":0},11510,{"$f":"'COVER SHEET'!$D$16&IF(MID('COVER SHEET'!$I$18,6,10)=\"december\",\"1231\",IF(MID('COVER SHEET'!$I$18,6,10)=\"june\",\"0630\"))","v":"20241231"},{"$f":"+'Outgoing Remittances (Volume)'!C109","v":0}]
["CMREM_11510","ID",{"$f":"+'Outgoing Remittances (Volume)'!$C$5","v":"20240731"},{"$f":"+'COVER SHEET'!$D$12","v":0},11510,{"$f":"'COVER SHEET'!$D$16&IF(MID('COVER SHEET'!$I$18,6,10)=\"december\",\"1231\",IF(MID('COVER SHEET'!$I$18,6,10)=\"june\",\"0630\"))","v":"20241231"},{"$f":"+'Outgoing Remittances (Volume)'!C110","v":0}]
["CMREM_11510","IR",{"$f":"+'Outgoing Remittances (Volume)'!$C$5","v":"20240731"},{"$f":"+'COVER SHEET'!$D$12","v":0},11510,{"$f":"'COVER SHEET'!$D$16&IF(MID('COVER SHEET'!$I$18,6,10)=\"december\",\"1231\",IF(MID('COVER SHEET'!$I$18,6,10)=\"june\",\"0630\"))","v":"20241231"},{"$f":"+'Outgoing Remittances (Volume)'!C111","v":0}]
["CMREM_11510","IQ",{"$f":"+'Outgoing Remittances (Volume)'!$C$5","v":"20240731"},{"$f":"+'COVER SHEET'!$D$12","v":0},11510,{"$f":"'COVER SHEET'!$D$16&IF(MID('COVER SHEET'!$I$18,6,10)=\"december\",\"1231\",IF(MID('COVER SHEET'!$I$18,6,10)=\"june\",\"0630\"))","v":"20241231"},{"$f":"+'Outgoing Remittances (Volume)'!C112","v":0}]
["CMREM_11510","IE",{"$f":"+'Outgoing Remittances (Volume)'!$C$5","v":"20240731"},{"$f":"+'COVER SHEET'!$D$12","v":0},11510,{"$f":"'COVER SHEET'!$D$16&IF(MID('COVER SHEET'!$I$18,6,10)=\"december\",\"1231\",IF(MID('COVER SHEET'!$I$18,6,10)=\"june\",\"0630\"))","v":"20241231"},{"$f":"+'Outgoing Remittances (Volume)'!C113","v":0}]
["CMREM_11510","IM",{"$f":"+'Outgoing Remittances (Volume)'!$C$5","v":"20240731"},{"$f":"+'COVER SHEET'!$D$12","v":0},11510,{"$f":"'COVER SHEET'!$D$16&IF(MID('COVER SHEET'!$I$18,6,10)=\"december\",\"1231\",IF(MID('COVER SHEET'!$I$18,6,10)=\"june\",\"0630\"))","v":"20241231"},{"$f":"+'Outgoing Remittances (Volume)'!C114","v":0}]
["CMREM_11510","IL",{"$f":"+'Outgoing Remittances (Volume)'!$C$5","v":"20240731"},{"$f":"+'COVER SHEET'!$D$12","v":0},11510,{"$f":"'COVER SHEET'!$D$16&IF(MID('COVER SHEET'!$I$18,6,10)=\"december\",\"1231\",IF(MID('COVER SHEET'!$I$18,6,10)=\"june\",\"0630\"))","v":"20241231"},{"$f":"+'Outgoing Remittances (Volume)'!C115","v":0}]
["CMREM_11510","IT",{"$f":"+'Outgoing Remittances (Volume)'!$C$5","v":"20240731"},{"$f":"+'COVER SHEET'!$D$12","v":0},11510,{"$f":"'COVER SHEET'!$D$16&IF(MID('COVER SHEET'!$I$18,6,10)=\"december\",\"1231\",IF(MID('COVER SHEET'!$I$18,6,10)=\"june\",\"0630\"))","v":"20241231"},{"$f":"+'Outgoing Remittances (Volume)'!C116","v":0}]
["CMREM_11510","CI",{"$f":"+'Outgoing Remittances (Volume)'!$C$5","v":"20240731"},{"$f":"+'COVER SHEET'!$D$12","v":0},11510,{"$f":"'COVER SHEET'!$D$16&IF(MID('COVER SHEET'!$I$18,6,10)=\"december\",\"1231\",IF(MID('COVER SHEET'!$I$18,6,10)=\"june\",\"0630\"))","v":"20241231"},{"$f":"+'Outgoing Remittances (Volume)'!C117","v":0}]
["CMREM_11510","JM",{"$f":"+'Outgoing Remittances (Volume)'!$C$5","v":"20240731"},{"$f":"+'COVER SHEET'!$D$12","v":0},11510,{"$f":"'COVER SHEET'!$D$16&IF(MID('COVER SHEET'!$I$18,6,10)=\"december\",\"1231\",IF(MID('COVER SHEET'!$I$18,6,10)=\"june\",\"0630\"))","v":"20241231"},{"$f":"+'Outgoing Remittances (Volume)'!C118","v":0}]
["CMREM_11510","JP",{"$f":"+'Outgoing Remittances (Volume)'!$C$5","v":"20240731"},{"$f":"+'COVER SHEET'!$D$12","v":0},11510,{"$f":"'COVER SHEET'!$D$16&IF(MID('COVER SHEET'!$I$18,6,10)=\"december\",\"1231\",IF(MID('COVER SHEET'!$I$18,6,10)=\"june\",\"0630\"))","v":"20241231"},{"$f":"+'Outgoing Remittances (Volume)'!C119","v":0}]
["CMREM_11510","JE",{"$f":"+'Outgoing Remittances (Volume)'!$C$5","v":"20240731"},{"$f":"+'COVER SHEET'!$D$12","v":0},11510,{"$f":"'COVER SHEET'!$D$16&IF(MID('COVER SHEET'!$I$18,6,10)=\"december\",\"1231\",IF(MID('COVER SHEET'!$I$18,6,10)=\"june\",\"0630\"))","v":"20241231"},{"$f":"+'Outgoing Remittances (Volume)'!C120","v":0}]
["CMREM_11510","JO",{"$f":"+'Outgoing Remittances (Volume)'!$C$5","v":"20240731"},{"$f":"+'COVER SHEET'!$D$12","v":0},11510,{"$f":"'COVER SHEET'!$D$16&IF(MID('COVER SHEET'!$I$18,6,10)=\"december\",\"1231\",IF(MID('COVER SHEET'!$I$18,6,10)=\"june\",\"0630\"))","v":"20241231"},{"$f":"+'Outgoing Remittances (Volume)'!C121","v":0}]
["CMREM_11510","KZ",{"$f":"+'Outgoing Remittances (Volume)'!$C$5","v":"20240731"},{"$f":"+'COVER SHEET'!$D$12","v":0},11510,{"$f":"'COVER SHEET'!$D$16&IF(MID('COVER SHEET'!$I$18,6,10)=\"december\",\"1231\",IF(MID('COVER SHEET'!$I$18,6,10)=\"june\",\"0630\"))","v":"20241231"},{"$f":"+'Outgoing Remittances (Volume)'!C122","v":0}]
["CMREM_11510","KE",{"$f":"+'Outgoing Remittances (Volume)'!$C$5","v":"20240731"},{"$f":"+'COVER SHEET'!$D$12","v":0},11510,{"$f":"'COVER SHEET'!$D$16&IF(MID('COVER SHEET'!$I$18,6,10)=\"december\",\"1231\",IF(MID('COVER SHEET'!$I$18,6,10)=\"june\",\"0630\"))","v":"20241231"},{"$f":"+'Outgoing Remittances (Volume)'!C123","v":0}]
["CMREM_11510","KI",{"$f":"+'Outgoing Remittances (Volume)'!$C$5","v":"20240731"},{"$f":"+'COVER SHEET'!$D$12","v":0},11510,{"$f":"'COVER SHEET'!$D$16&IF(MID('COVER SHEET'!$I$18,6,10)=\"december\",\"1231\",IF(MID('COVER SHEET'!$I$18,6,10)=\"june\",\"0630\"))","v":"20241231"},{"$f":"+'Outgoing Remittances (Volume)'!C124","v":0}]
["CMREM_11510","KP",{"$f":"+'Outgoing Remittances (Volume)'!$C$5","v":"20240731"},{"$f":"+'COVER SHEET'!$D$12","v":0},11510,{"$f":"'COVER SHEET'!$D$16&IF(MID('COVER SHEET'!$I$18,6,10)=\"december\",\"1231\",IF(MID('COVER SHEET'!$I$18,6,10)=\"june\",\"0630\"))","v":"20241231"},{"$f":"+'Outgoing Remittances (Volume)'!C125","v":0}]
["CMREM_11510","KR",{"$f":"+'Outgoing Remittances (Volume)'!$C$5","v":"20240731"},{"$f":"+'COVER SHEET'!$D$12","v":0},11510,{"$f":"'COVER SHEET'!$D$16&IF(MID('COVER SHEET'!$I$18,6,10)=\"december\",\"1231\",IF(MID('COVER SHEET'!$I$18,6,10)=\"june\",\"0630\"))","v":"20241231"},{"$f":"+'Outgoing Remittances (Volume)'!C126","v":0}]
["CMREM_11510","XK",{"$f":"+'Outgoing Remittances (Volume)'!$C$5","v":"20240731"},{"$f":"+'COVER SHEET'!$D$12","v":0},11510,{"$f":"'COVER SHEET'!$D$16&IF(MID('COVER SHEET'!$I$18,6,10)=\"december\",\"1231\",IF(MID('COVER SHEET'!$I$18,6,10)=\"june\",\"0630\"))","v":"20241231"},{"$f":"+'Outgoing Remittances (Volume)'!C127","v":0}]
["CMREM_11510","KW",{"$f":"+'Outgoing Remittances (Volume)'!$C$5","v":"20240731"},{"$f":"+'COVER SHEET'!$D$12","v":0},11510,{"$f":"'COVER SHEET'!$D$16&IF(MID('COVER SHEET'!$I$18,6,10)=\"december\",\"1231\",IF(MID('COVER SHEET'!$I$18,6,10)=\"june\",\"0630\"))","v":"20241231"},{"$f":"+'Outgoing Remittances (Volume)'!C128","v":0}]
["CMREM_11510","KG",{"$f":"+'Outgoing Remittances (Volume)'!$C$5","v":"20240731"},{"$f":"+'COVER SHEET'!$D$12","v":0},11510,{"$f":"'COVER SHEET'!$D$16&IF(MID('COVER SHEET'!$I$18,6,10)=\"december\",\"1231\",IF(MID('COVER SHEET'!$I$18,6,10)=\"june\",\"0630\"))","v":"20241231"},{"$f":"+'Outgoing Remittances (Volume)'!C129","v":0}]
["CMREM_11510","LA",{"$f":"+'Outgoing Remittances (Volume)'!$C$5","v":"20240731"},{"$f":"+'COVER SHEET'!$D$12","v":0},11510,{"$f":"'COVER SHEET'!$D$16&IF(MID('COVER SHEET'!$I$18,6,10)=\"december\",\"1231\",IF(MID('COVER SHEET'!$I$18,6,10)=\"june\",\"0630\"))","v":"20241231"},{"$f":"+'Outgoing Remittances (Volume)'!C130","v":0}]
["CMREM_11510","LV",{"$f":"+'Outgoing Remittances (Volume)'!$C$5","v":"20240731"},{"$f":"+'COVER SHEET'!$D$12","v":0},11510,{"$f":"'COVER SHEET'!$D$16&IF(MID('COVER SHEET'!$I$18,6,10)=\"december\",\"1231\",IF(MID('COVER SHEET'!$I$18,6,10)=\"june\",\"0630\"))","v":"20241231"},{"$f":"+'Outgoing Remittances (Volume)'!C131","v":0}]
["CMREM_11510","LB",{"$f":"+'Outgoing Remittances (Volume)'!$C$5","v":"20240731"},{"$f":"+'COVER SHEET'!$D$12","v":0},11510,{"$f":"'COVER SHEET'!$D$16&IF(MID('COVER SHEET'!$I$18,6,10)=\"december\",\"1231\",IF(MID('COVER SHEET'!$I$18,6,10)=\"june\",\"0630\"))","v":"20241231"},{"$f":"+'Outgoing Remittances (Volume)'!C132","v":0}]
["CMREM_11510","LS",{"$f":"+'Outgoing Remittances (Volume)'!$C$5","v":"20240731"},{"$f":"+'COVER SHEET'!$D$12","v":0},11510,{"$f":"'COVER SHEET'!$D$16&IF(MID('COVER SHEET'!$I$18,6,10)=\"december\",\"1231\",IF(MID('COVER SHEET'!$I$18,6,10)=\"june\",\"0630\"))","v":"20241231"},{"$f":"+'Outgoing Remittances (Volume)'!C133","v":0}]
["CMREM_11510","LR",{"$f":"+'Outgoing Remittances (Volume)'!$C$5","v":"20240731"},{"$f":"+'COVER SHEET'!$D$12","v":0},11510,{"$f":"'COVER SHEET'!$D$16&IF(MID('COVER SHEET'!$I$18,6,10)=\"december\",\"1231\",IF(MID('COVER SHEET'!$I$18,6,10)=\"june\",\"0630\"))","v":"20241231"},{"$f":"+'Outgoing Remittances (Volume)'!C134","v":0}]
["CMREM_11510","LY",{"$f":"+'Outgoing Remittances (Volume)'!$C$5","v":"20240731"},{"$f":"+'COVER SHEET'!$D$12","v":0},11510,{"$f":"'COVER SHEET'!$D$16&IF(MID('COVER SHEET'!$I$18,6,10)=\"december\",\"1231\",IF(MID('COVER SHEET'!$I$18,6,10)=\"june\",\"0630\"))","v":"20241231"},{"$f":"+'Outgoing Remittances (Volume)'!C135","v":0}]
["CMREM_11510","LI",{"$f":"+'Outgoing Remittances (Volume)'!$C$5","v":"20240731"},{"$f":"+'COVER SHEET'!$D$12","v":0},11510,{"$f":"'COVER SHEET'!$D$16&IF(MID('COVER SHEET'!$I$18,6,10)=\"december\",\"1231\",IF(MID('COVER SHEET'!$I$18,6,10)=\"june\",\"0630\"))","v":"20241231"},{"$f":"+'Outgoing Remittances (Volume)'!C136","v":0}]
["CMREM_11510","LT",{"$f":"+'Outgoing Remittances (Volume)'!$C$5","v":"20240731"},{"$f":"+'COVER SHEET'!$D$12","v":0},11510,{"$f":"'COVER SHEET'!$D$16&IF(MID('COVER SHEET'!$I$18,6,10)=\"december\",\"1231\",IF(MID('COVER SHEET'!$I$18,6,10)=\"june\",\"0630\"))","v":"20241231"},{"$f":"+'Outgoing Remittances (Volume)'!C137","v":0}]
["CMREM_11510","LU",{"$f":"+'Outgoing Remittances (Volume)'!$C$5","v":"20240731"},{"$f":"+'COVER SHEET'!$D$12","v":0},11510,{"$f":"'COVER SHEET'!$D$16&IF(MID('COVER SHEET'!$I$18,6,10)=\"december\",\"1231\",IF(MID('COVER SHEET'!$I$18,6,10)=\"june\",\"0630\"))","v":"20241231"},{"$f":"+'Outgoing Remittances (Volume)'!C138","v":0}]
["CMREM_11510","MO",{"$f":"+'Outgoing Remittances (Volume)'!$C$5","v":"20240731"},{"$f":"+'COVER SHEET'!$D$12","v":0},11510,{"$f":"'COVER SHEET'!$D$16&IF(MID('COVER SHEET'!$I$18,6,10)=\"december\",\"1231\",IF(MID('COVER SHEET'!$I$18,6,10)=\"june\",\"0630\"))","v":"20241231"},{"$f":"+'Outgoing Remittances (Volume)'!C139","v":0}]
["CMREM_11510","MK",{"$f":"+'Outgoing Remittances (Volume)'!$C$5","v":"20240731"},{"$f":"+'COVER SHEET'!$D$12","v":0},11510,{"$f":"'COVER SHEET'!$D$16&IF(MID('COVER SHEET'!$I$18,6,10)=\"december\",\"1231\",IF(MID('COVER SHEET'!$I$18,6,10)=\"june\",\"0630\"))","v":"20241231"},{"$f":"+'Outgoing Remittances (Volume)'!C140","v":0}]
["CMREM_11510","MG",{"$f":"+'Outgoing Remittances (Volume)'!$C$5","v":"20240731"},{"$f":"+'COVER SHEET'!$D$12","v":0},11510,{"$f":"'COVER SHEET'!$D$16&IF(MID('COVER SHEET'!$I$18,6,10)=\"december\",\"1231\",IF(MID('COVER SHEET'!$I$18,6,10)=\"june\",\"0630\"))","v":"20241231"},{"$f":"+'Outgoing Remittances (Volume)'!C141","v":0}]
["CMREM_11510","MW",{"$f":"+'Outgoing Remittances (Volume)'!$C$5","v":"20240731"},{"$f":"+'COVER SHEET'!$D$12","v":0},11510,{"$f":"'COVER SHEET'!$D$16&IF(MID('COVER SHEET'!$I$18,6,10)=\"december\",\"1231\",IF(MID('COVER SHEET'!$I$18,6,10)=\"june\",\"0630\"))","v":"20241231"},{"$f":"+'Outgoing Remittances (Volume)'!C142","v":0}]
["CMREM_11510","MY",{"$f":"+'Outgoing Remittances (Volume)'!$C$5","v":"20240731"},{"$f":"+'COVER SHEET'!$D$12","v":0},11510,{"$f":"'COVER SHEET'!$D$16&IF(MID('COVER SHEET'!$I$18,6,10)=\"december\",\"1231\",IF(MID('COVER SHEET'!$I$18,6,10)=\"june\",\"0630\"))","v":"20241231"},{"$f":"+'Outgoing Remittances (Volume)'!C143","v":0}]
["CMREM_11510","MV",{"$f":"+'Outgoing Remittances (Volume)'!$C$5","v":"20240731"},{"$f":"+'COVER SHEET'!$D$12","v":0},11510,{"$f":"'COVER SHEET'!$D$16&IF(MID('COVER SHEET'!$I$18,6,10)=\"december\",\"1231\",IF(MID('COVER SHEET'!$I$18,6,10)=\"june\",\"0630\"))","v":"20241231"},{"$f":"+'Outgoing Remittances (Volume)'!C144","v":0}]
["CMREM_11510","ML",{"$f":"+'Outgoing Remittances (Volume)'!$C$5","v":"20240731"},{"$f":"+'COVER SHEET'!$D$12","v":0},11510,{"$f":"'COVER SHEET'!$D$16&IF(MID('COVER SHEET'!$I$18,6,10)=\"december\",\"1231\",IF(MID('COVER SHEET'!$I$18,6,10)=\"june\",\"0630\"))","v":"20241231"},{"$f":"+'Outgoing Remittances (Volume)'!C145","v":0}]
["CMREM_11510","MH",{"$f":"+'Outgoing Remittances (Volume)'!$C$5","v":"20240731"},{"$f":"+'COVER SHEET'!$D$12","v":0},11510,{"$f":"'COVER SHEET'!$D$16&IF(MID('COVER SHEET'!$I$18,6,10)=\"december\",\"1231\",IF(MID('COVER SHEET'!$I$18,6,10)=\"june\",\"0630\"))","v":"20241231"},{"$f":"+'Outgoing Remittances (Volume)'!C146","v":0}]
["CMREM_11510","MR",{"$f":"+'Outgoing Remittances (Volume)'!$C$5","v":"20240731"},{"$f":"+'COVER SHEET'!$D$12","v":0},11510,{"$f":"'COVER SHEET'!$D$16&IF(MID('COVER SHEET'!$I$18,6,10)=\"december\",\"1231\",IF(MID('COVER SHEET'!$I$18,6,10)=\"june\",\"0630\"))","v":"20241231"},{"$f":"+'Outgoing Remittances (Volume)'!C147","v":0}]
["CMREM_11510","MU",{"$f":"+'Outgoing Remittances (Volume)'!$C$5","v":"20240731"},{"$f":"+'COVER SHEET'!$D$12","v":0},11510,{"$f":"'COVER SHEET'!$D$16&IF(MID('COVER SHEET'!$I$18,6,10)=\"december\",\"1231\",IF(MID('COVER SHEET'!$I$18,6,10)=\"june\",\"0630\"))","v":"20241231"},{"$f":"+'Outgoing Remittances (Volume)'!C148","v":0}]
["CMREM_11510","MX",{"$f":"+'Outgoing Remittances (Volume)'!$C$5","v":"20240731"},{"$f":"+'COVER SHEET'!$D$12","v":0},11510,{"$f":"'COVER SHEET'!$D$16&IF(MID('COVER SHEET'!$I$18,6,10)=\"december\",\"1231\",IF(MID('COVER SHEET'!$I$18,6,10)=\"june\",\"0630\"))","v":"20241231"},{"$f":"+'Outgoing Remittances (Volume)'!C149","v":0}]
["CMREM_11510","FM",{"$f":"+'Outgoing Remittances (Volume)'!$C$5","v":"20240731"},{"$f":"+'COVER SHEET'!$D$12","v":0},11510,{"$f":"'COVER SHEET'!$D$16&IF(MID('COVER SHEET'!$I$18,6,10)=\"december\",\"1231\",IF(MID('COVER SHEET'!$I$18,6,10)=\"june\",\"0630\"))","v":"20241231"},{"$f":"+'Outgoing Remittances (Volume)'!C150","v":0}]
["CMREM_11510","MD",{"$f":"+'Outgoing Remittances (Volume)'!$C$5","v":"20240731"},{"$f":"+'COVER SHEET'!$D$12","v":0},11510,{"$f":"'COVER SHEET'!$D$16&IF(MID('COVER SHEET'!$I$18,6,10)=\"december\",\"1231\",IF(MID('COVER SHEET'!$I$18,6,10)=\"june\",\"0630\"))","v":"20241231"},{"$f":"+'Outgoing Remittances (Volume)'!C151","v":0}]
["CMREM_11510","MN",{"$f":"+'Outgoing Remittances (Volume)'!$C$5","v":"20240731"},{"$f":"+'COVER SHEET'!$D$12","v":0},11510,{"$f":"'COVER SHEET'!$D$16&IF(MID('COVER SHEET'!$I$18,6,10)=\"december\",\"1231\",IF(MID('COVER SHEET'!$I$18,6,10)=\"june\",\"0630\"))","v":"20241231"},{"$f":"+'Outgoing Remittances (Volume)'!C152","v":0}]
["CMREM_11510","ME",{"$f":"+'Outgoing Remittances (Volume)'!$C$5","v":"20240731"},{"$f":"+'COVER SHEET'!$D$12","v":0},11510,{"$f":"'COVER SHEET'!$D$16&IF(MID('COVER SHEET'!$I$18,6,10)=\"december\",\"1231\",IF(MID('COVER SHEET'!$I$18,6,10)=\"june\",\"0630\"))","v":"20241231"},{"$f":"+'Outgoing Remittances (Volume)'!C153","v":0}]
["CMREM_11510","MS",{"$f":"+'Outgoing Remittances (Volume)'!$C$5","v":"20240731"},{"$f":"+'COVER SHEET'!$D$12","v":0},11510,{"$f":"'COVER SHEET'!$D$16&IF(MID('COVER SHEET'!$I$18,6,10)=\"december\",\"1231\",IF(MID('COVER SHEET'!$I$18,6,10)=\"june\",\"0630\"))","v":"20241231"},{"$f":"+'Outgoing Remittances (Volume)'!C154","v":0}]
["CMREM_11510","MA",{"$f":"+'Outgoing Remittances (Volume)'!$C$5","v":"20240731"},{"$f":"+'COVER SHEET'!$D$12","v":0},11510,{"$f":"'COVER SHEET'!$D$16&IF(MID('COVER SHEET'!$I$18,6,10)=\"december\",\"1231\",IF(MID('COVER SHEET'!$I$18,6,10)=\"june\",\"0630\"))","v":"20241231"},{"$f":"+'Outgoing Remittances (Volume)'!C155","v":0}]
["CMREM_11510","MZ",{"$f":"+'Outgoing Remittances (Volume)'!$C$5","v":"20240731"},{"$f":"+'COVER SHEET'!$D$12","v":0},11510,{"$f":"'COVER SHEET'!$D$16&IF(MID('COVER SHEET'!$I$18,6,10)=\"december\",\"1231\",IF(MID('COVER SHEET'!$I$18,6,10)=\"june\",\"0630\"))","v":"20241231"},{"$f":"+'Outgoing Remittances (Volume)'!C156","v":0}]
["CMREM_11510","MM",{"$f":"+'Outgoing Remittances (Volume)'!$C$5","v":"20240731"},{"$f":"+'COVER SHEET'!$D$12","v":0},11510,{"$f":"'COVER SHEET'!$D$16&IF(MID('COVER SHEET'!$I$18,6,10)=\"december\",\"1231\",IF(MID('COVER SHEET'!$I$18,6,10)=\"june\",\"0630\"))","v":"20241231"},{"$f":"+'Outgoing Remittances (Volume)'!C157","v":0}]
["CMREM_11510","NA",{"$f":"+'Outgoing Remittances (Volume)'!$C$5","v":"20240731"},{"$f":"+'COVER SHEET'!$D$12","v":0},11510,{"$f":"'COVER SHEET'!$D$16&IF(MID('COVER SHEET'!$I$18,6,10)=\"december\",\"1231\",IF(MID('COVER SHEET'!$I$18,6,10)=\"june\",\"0630\"))","v":"20241231"},{"$f":"+'Outgoing Remittances (Volume)'!C158","v":0}]
["CMREM_11510","NR",{"$f":"+'Outgoing Remittances (Volume)'!$C$5","v":"20240731"},{"$f":"+'COVER SHEET'!$D$12","v":0},11510,{"$f":"'COVER SHEET'!$D$16&IF(MID('COVER SHEET'!$I$18,6,10)=\"december\",\"1231\",IF(MID('COVER SHEET'!$I$18,6,10)=\"june\",\"0630\"))","v":"20241231"},{"$f":"+'Outgoing Remittances (Volume)'!C159","v":0}]
["CMREM_11510","NP",{"$f":"+'Outgoing Remittances (Volume)'!$C$5","v":"20240731"},{"$f":"+'COVER SHEET'!$D$12","v":0},11510,{"$f":"'COVER SHEET'!$D$16&IF(MID('COVER SHEET'!$I$18,6,10)=\"december\",\"1231\",IF(MID('COVER SHEET'!$I$18,6,10)=\"june\",\"0630\"))","v":"20241231"},{"$f":"+'Outgoing Remittances (Volume)'!C160","v":0}]
["CMREM_11510","NL",{"$f":"+'Outgoing Remittances (Volume)'!$C$5","v":"20240731"},{"$f":"+'COVER SHEET'!$D$12","v":0},11510,{"$f":"'COVER SHEET'!$D$16&IF(MID('COVER SHEET'!$I$18,6,10)=\"december\",\"1231\",IF(MID('COVER SHEET'!$I$18,6,10)=\"june\",\"0630\"))","v":"20241231"},{"$f":"+'Outgoing Remittances (Volume)'!C161","v":0}]
["CMREM_11510","NC",{"$f":"+'Outgoing Remittances (Volume)'!$C$5","v":"20240731"},{"$f":"+'COVER SHEET'!$D$12","v":0},11510,{"$f":"'COVER SHEET'!$D$16&IF(MID('COVER SHEET'!$I$18,6,10)=\"december\",\"1231\",IF(MID('COVER SHEET'!$I$18,6,10)=\"june\",\"0630\"))","v":"20241231"},{"$f":"+'Outgoing Remittances (Volume)'!C162","v":0}]
["CMREM_11510","NZ",{"$f":"+'Outgoing Remittances (Volume)'!$C$5","v":"20240731"},{"$f":"+'COVER SHEET'!$D$12","v":0},11510,{"$f":"'COVER SHEET'!$D$16&IF(MID('COVER SHEET'!$I$18,6,10)=\"december\",\"1231\",IF(MID('COVER SHEET'!$I$18,6,10)=\"june\",\"0630\"))","v":"20241231"},{"$f":"+'Outgoing Remittances (Volume)'!C163","v":0}]
["CMREM_11510","NI",{"$f":"+'Outgoing Remittances (Volume)'!$C$5","v":"20240731"},{"$f":"+'COVER SHEET'!$D$12","v":0},11510,{"$f":"'COVER SHEET'!$D$16&IF(MID('COVER SHEET'!$I$18,6,10)=\"december\",\"1231\",IF(MID('COVER SHEET'!$I$18,6,10)=\"june\",\"0630\"))","v":"20241231"},{"$f":"+'Outgoing Remittances (Volume)'!C164","v":0}]
["CMREM_11510","NE",{"$f":"+'Outgoing Remittances (Volume)'!$C$5","v":"20240731"},{"$f":"+'COVER SHEET'!$D$12","v":0},11510,{"$f":"'COVER SHEET'!$D$16&IF(MID('COVER SHEET'!$I$18,6,10)=\"december\",\"1231\",IF(MID('COVER SHEET'!$I$18,6,10)=\"june\",\"0630\"))","v":"20241231"},{"$f":"+'Outgoing Remittances (Volume)'!C165","v":0}]
["CMREM_11510","NG",{"$f":"+'Outgoing Remittances (Volume)'!$C$5","v":"20240731"},{"$f":"+'COVER SHEET'!$D$12","v":0},11510,{"$f":"'COVER SHEET'!$D$16&IF(MID('COVER SHEET'!$I$18,6,10)=\"december\",\"1231\",IF(MID('COVER SHEET'!$I$18,6,10)=\"june\",\"0630\"))","v":"20241231"},{"$f":"+'Outgoing Remittances (Volume)'!C166","v":0}]
["CMREM_11510","NU",{"$f":"+'Outgoing Remittances (Volume)'!$C$5","v":"20240731"},{"$f":"+'COVER SHEET'!$D$12","v":0},11510,{"$f":"'COVER SHEET'!$D$16&IF(MID('COVER SHEET'!$I$18,6,10)=\"december\",\"1231\",IF(MID('COVER SHEET'!$I$18,6,10)=\"june\",\"0630\"))","v":"20241231"},{"$f":"+'Outgoing Remittances (Volume)'!C167","v":0}]
["CMREM_11510","NF",{"$f":"+'Outgoing Remittances (Volume)'!$C$5","v":"20240731"},{"$f":"+'COVER SHEET'!$D$12","v":0},11510,{"$f":"'COVER SHEET'!$D$16&IF(MID('COVER SHEET'!$I$18,6,10)=\"december\",\"1231\",IF(MID('COVER SHEET'!$I$18,6,10)=\"june\",\"0630\"))","v":"20241231"},{"$f":"+'Outgoing Remittances (Volume)'!C168","v":0}]
["CMREM_11510","MP",{"$f":"+'Outgoing Remittances (Volume)'!$C$5","v":"20240731"},{"$f":"+'COVER SHEET'!$D$12","v":0},11510,{"$f":"'COVER SHEET'!$D$16&IF(MID('COVER SHEET'!$I$18,6,10)=\"december\",\"1231\",IF(MID('COVER SHEET'!$I$18,6,10)=\"june\",\"0630\"))","v":"20241231"},{"$f":"+'Outgoing Remittances (Volume)'!C169","v":0}]
["CMREM_11510","NO",{"$f":"+'Outgoing Remittances (Volume)'!$C$5","v":"20240731"},{"$f":"+'COVER SHEET'!$D$12","v":0},11510,{"$f":"'COVER SHEET'!$D$16&IF(MID('COVER SHEET'!$I$18,6,10)=\"december\",\"1231\",IF(MID('COVER SHEET'!$I$18,6,10)=\"june\",\"0630\"))","v":"20241231"},{"$f":"+'Outgoing Remittances (Volume)'!C170","v":0}]
["CMREM_11510","OM",{"$f":"+'Outgoing Remittances (Volume)'!$C$5","v":"20240731"},{"$f":"+'COVER SHEET'!$D$12","v":0},11510,{"$f":"'COVER SHEET'!$D$16&IF(MID('COVER SHEET'!$I$18,6,10)=\"december\",\"1231\",IF(MID('COVER SHEET'!$I$18,6,10)=\"june\",\"0630\"))","v":"20241231"},{"$f":"+'Outgoing Remittances (Volume)'!C171","v":0}]
["CMREM_11510","PK",{"$f":"+'Outgoing Remittances (Volume)'!$C$5","v":"20240731"},{"$f":"+'COVER SHEET'!$D$12","v":0},11510,{"$f":"'COVER SHEET'!$D$16&IF(MID('COVER SHEET'!$I$18,6,10)=\"december\",\"1231\",IF(MID('COVER SHEET'!$I$18,6,10)=\"june\",\"0630\"))","v":"20241231"},{"$f":"+'Outgoing Remittances (Volume)'!C172","v":0}]
["CMREM_11510","PW",{"$f":"+'Outgoing Remittances (Volume)'!$C$5","v":"20240731"},{"$f":"+'COVER SHEET'!$D$12","v":0},11510,{"$f":"'COVER SHEET'!$D$16&IF(MID('COVER SHEET'!$I$18,6,10)=\"december\",\"1231\",IF(MID('COVER SHEET'!$I$18,6,10)=\"june\",\"0630\"))","v":"20241231"},{"$f":"+'Outgoing Remittances (Volume)'!C173","v":0}]
["CMREM_11510","PS",{"$f":"+'Outgoing Remittances (Volume)'!$C$5","v":"20240731"},{"$f":"+'COVER SHEET'!$D$12","v":0},11510,{"$f":"'COVER SHEET'!$D$16&IF(MID('COVER SHEET'!$I$18,6,10)=\"december\",\"1231\",IF(MID('COVER SHEET'!$I$18,6,10)=\"june\",\"0630\"))","v":"20241231"},{"$f":"+'Outgoing Remittances (Volume)'!C174","v":0}]
["CMREM_11510","PA",{"$f":"+'Outgoing Remittances (Volume)'!$C$5","v":"20240731"},{"$f":"+'COVER SHEET'!$D$12","v":0},11510,{"$f":"'COVER SHEET'!$D$16&IF(MID('COVER SHEET'!$I$18,6,10)=\"december\",\"1231\",IF(MID('COVER SHEET'!$I$18,6,10)=\"june\",\"0630\"))","v":"20241231"},{"$f":"+'Outgoing Remittances (Volume)'!C175","v":0}]
["CMREM_11510","PG",{"$f":"+'Outgoing Remittances (Volume)'!$C$5","v":"20240731"},{"$f":"+'COVER SHEET'!$D$12","v":0},11510,{"$f":"'COVER SHEET'!$D$16&IF(MID('COVER SHEET'!$I$18,6,10)=\"december\",\"1231\",IF(MID('COVER SHEET'!$I$18,6,10)=\"june\",\"0630\"))","v":"20241231"},{"$f":"+'Outgoing Remittances (Volume)'!C176","v":0}]
["CMREM_11510","PY",{"$f":"+'Outgoing Remittances (Volume)'!$C$5","v":"20240731"},{"$f":"+'COVER SHEET'!$D$12","v":0},11510,{"$f":"'COVER SHEET'!$D$16&IF(MID('COVER SHEET'!$I$18,6,10)=\"december\",\"1231\",IF(MID('COVER SHEET'!$I$18,6,10)=\"june\",\"0630\"))","v":"20241231"},{"$f":"+'Outgoing Remittances (Volume)'!C177","v":0}]
["CMREM_11510","PE",{"$f":"+'Outgoing Remittances (Volume)'!$C$5","v":"20240731"},{"$f":"+'COVER SHEET'!$D$12","v":0},11510,{"$f":"'COVER SHEET'!$D$16&IF(MID('COVER SHEET'!$I$18,6,10)=\"december\",\"1231\",IF(MID('COVER SHEET'!$I$18,6,10)=\"june\",\"0630\"))","v":"20241231"},{"$f":"+'Outgoing Remittances (Volume)'!C178","v":0}]
["CMREM_11510","PH",{"$f":"+'Outgoing Remittances (Volume)'!$C$5","v":"20240731"},{"$f":"+'COVER SHEET'!$D$12","v":0},11510,{"$f":"'COVER SHEET'!$D$16&IF(MID('COVER SHEET'!$I$18,6,10)=\"december\",\"1231\",IF(MID('COVER SHEET'!$I$18,6,10)=\"june\",\"0630\"))","v":"20241231"},{"$f":"+'Outgoing Remittances (Volume)'!C179","v":0}]
["CMREM_11510","PN",{"$f":"+'Outgoing Remittances (Volume)'!$C$5","v":"20240731"},{"$f":"+'COVER SHEET'!$D$12","v":0},11510,{"$f":"'COVER SHEET'!$D$16&IF(MID('COVER SHEET'!$I$18,6,10)=\"december\",\"1231\",IF(MID('COVER SHEET'!$I$18,6,10)=\"june\",\"0630\"))","v":"20241231"},{"$f":"+'Outgoing Remittances (Volume)'!C180","v":0}]
["CMREM_11510","PL",{"$f":"+'Outgoing Remittances (Volume)'!$C$5","v":"20240731"},{"$f":"+'COVER SHEET'!$D$12","v":0},11510,{"$f":"'COVER SHEET'!$D$16&IF(MID('COVER SHEET'!$I$18,6,10)=\"december\",\"1231\",IF(MID('COVER SHEET'!$I$18,6,10)=\"june\",\"0630\"))","v":"20241231"},{"$f":"+'Outgoing Remittances (Volume)'!C181","v":0}]
["CMREM_11510","PT",{"$f":"+'Outgoing Remittances (Volume)'!$C$5","v":"20240731"},{"$f":"+'COVER SHEET'!$D$12","v":0},11510,{"$f":"'COVER SHEET'!$D$16&IF(MID('COVER SHEET'!$I$18,6,10)=\"december\",\"1231\",IF(MID('COVER SHEET'!$I$18,6,10)=\"june\",\"0630\"))","v":"20241231"},{"$f":"+'Outgoing Remittances (Volume)'!C182","v":0}]
["CMREM_11510","QA",{"$f":"+'Outgoing Remittances (Volume)'!$C$5","v":"20240731"},{"$f":"+'COVER SHEET'!$D$12","v":0},11510,{"$f":"'COVER SHEET'!$D$16&IF(MID('COVER SHEET'!$I$18,6,10)=\"december\",\"1231\",IF(MID('COVER SHEET'!$I$18,6,10)=\"june\",\"0630\"))","v":"20241231"},{"$f":"+'Outgoing Remittances (Volume)'!C183","v":0}]
["CMREM_11510","RO",{"$f":"+'Outgoing Remittances (Volume)'!$C$5","v":"20240731"},{"$f":"+'COVER SHEET'!$D$12","v":0},11510,{"$f":"'COVER SHEET'!$D$16&IF(MID('COVER SHEET'!$I$18,6,10)=\"december\",\"1231\",IF(MID('COVER SHEET'!$I$18,6,10)=\"june\",\"0630\"))","v":"20241231"},{"$f":"+'Outgoing Remittances (Volume)'!C184","v":0}]
["CMREM_11510","RU",{"$f":"+'Outgoing Remittances (Volume)'!$C$5","v":"20240731"},{"$f":"+'COVER SHEET'!$D$12","v":0},11510,{"$f":"'COVER SHEET'!$D$16&IF(MID('COVER SHEET'!$I$18,6,10)=\"december\",\"1231\",IF(MID('COVER SHEET'!$I$18,6,10)=\"june\",\"0630\"))","v":"20241231"},{"$f":"+'Outgoing Remittances (Volume)'!C185","v":0}]
["CMREM_11510","RW",{"$f":"+'Outgoing Remittances (Volume)'!$C$5","v":"20240731"},{"$f":"+'COVER SHEET'!$D$12","v":0},11510,{"$f":"'COVER SHEET'!$D$16&IF(MID('COVER SHEET'!$I$18,6,10)=\"december\",\"1231\",IF(MID('COVER SHEET'!$I$18,6,10)=\"june\",\"0630\"))","v":"20241231"},{"$f":"+'Outgoing Remittances (Volume)'!C186","v":0}]
["CMREM_11510","SH",{"$f":"+'Outgoing Remittances (Volume)'!$C$5","v":"20240731"},{"$f":"+'COVER SHEET'!$D$12","v":0},11510,{"$f":"'COVER SHEET'!$D$16&IF(MID('COVER SHEET'!$I$18,6,10)=\"december\",\"1231\",IF(MID('COVER SHEET'!$I$18,6,10)=\"june\",\"0630\"))","v":"20241231"},{"$f":"+'Outgoing Remittances (Volume)'!C187","v":0}]
["CMREM_11510","KN",{"$f":"+'Outgoing Remittances (Volume)'!$C$5","v":"20240731"},{"$f":"+'COVER SHEET'!$D$12","v":0},11510,{"$f":"'COVER SHEET'!$D$16&IF(MID('COVER SHEET'!$I$18,6,10)=\"december\",\"1231\",IF(MID('COVER SHEET'!$I$18,6,10)=\"june\",\"0630\"))","v":"20241231"},{"$f":"+'Outgoing Remittances (Volume)'!C188","v":0}]
["CMREM_11510","LC",{"$f":"+'Outgoing Remittances (Volume)'!$C$5","v":"20240731"},{"$f":"+'COVER SHEET'!$D$12","v":0},11510,{"$f":"'COVER SHEET'!$D$16&IF(MID('COVER SHEET'!$I$18,6,10)=\"december\",\"1231\",IF(MID('COVER SHEET'!$I$18,6,10)=\"june\",\"0630\"))","v":"20241231"},{"$f":"+'Outgoing Remittances (Volume)'!C189","v":0}]
["CMREM_11510","VC",{"$f":"+'Outgoing Remittances (Volume)'!$C$5","v":"20240731"},{"$f":"+'COVER SHEET'!$D$12","v":0},11510,{"$f":"'COVER SHEET'!$D$16&IF(MID('COVER SHEET'!$I$18,6,10)=\"december\",\"1231\",IF(MID('COVER SHEET'!$I$18,6,10)=\"june\",\"0630\"))","v":"20241231"},{"$f":"+'Outgoing Remittances (Volume)'!C190","v":0}]
["CMREM_11510","WS",{"$f":"+'Outgoing Remittances (Volume)'!$C$5","v":"20240731"},{"$f":"+'COVER SHEET'!$D$12","v":0},11510,{"$f":"'COVER SHEET'!$D$16&IF(MID('COVER SHEET'!$I$18,6,10)=\"december\",\"1231\",IF(MID('COVER SHEET'!$I$18,6,10)=\"june\",\"0630\"))","v":"20241231"},{"$f":"+'Outgoing Remittances (Volume)'!C191","v":0}]
["CMREM_11510","SM",{"$f":"+'Outgoing Remittances (Volume)'!$C$5","v":"20240731"},{"$f":"+'COVER SHEET'!$D$12","v":0},11510,{"$f":"'COVER SHEET'!$D$16&IF(MID('COVER SHEET'!$I$18,6,10)=\"december\",\"1231\",IF(MID('COVER SHEET'!$I$18,6,10)=\"june\",\"0630\"))","v":"20241231"},{"$f":"+'Outgoing Remittances (Volume)'!C192","v":0}]
["CMREM_11510","ST",{"$f":"+'Outgoing Remittances (Volume)'!$C$5","v":"20240731"},{"$f":"+'COVER SHEET'!$D$12","v":0},11510,{"$f":"'COVER SHEET'!$D$16&IF(MID('COVER SHEET'!$I$18,6,10)=\"december\",\"1231\",IF(MID('COVER SHEET'!$I$18,6,10)=\"june\",\"0630\"))","v":"20241231"},{"$f":"+'Outgoing Remittances (Volume)'!C193","v":0}]
["CMREM_11510","SA",{"$f":"+'Outgoing Remittances (Volume)'!$C$5","v":"20240731"},{"$f":"+'COVER SHEET'!$D$12","v":0},11510,{"$f":"'COVER SHEET'!$D$16&IF(MID('COVER SHEET'!$I$18,6,10)=\"december\",\"1231\",IF(MID('COVER SHEET'!$I$18,6,10)=\"june\",\"0630\"))","v":"20241231"},{"$f":"+'Outgoing Remittances (Volume)'!C194","v":0}]
["CMREM_11510","SN",{"$f":"+'Outgoing Remittances (Volume)'!$C$5","v":"20240731"},{"$f":"+'COVER SHEET'!$D$12","v":0},11510,{"$f":"'COVER SHEET'!$D$16&IF(MID('COVER SHEET'!$I$18,6,10)=\"december\",\"1231\",IF(MID('COVER SHEET'!$I$18,6,10)=\"june\",\"0630\"))","v":"20241231"},{"$f":"+'Outgoing Remittances (Volume)'!C195","v":0}]
["CMREM_11510","RS",{"$f":"+'Outgoing Remittances (Volume)'!$C$5","v":"20240731"},{"$f":"+'COVER SHEET'!$D$12","v":0},11510,{"$f":"'COVER SHEET'!$D$16&IF(MID('COVER SHEET'!$I$18,6,10)=\"december\",\"1231\",IF(MID('COVER SHEET'!$I$18,6,10)=\"june\",\"0630\"))","v":"20241231"},{"$f":"+'Outgoing Remittances (Volume)'!C196","v":0}]
["CMREM_11510","SC",{"$f":"+'Outgoing Remittances (Volume)'!$C$5","v":"20240731"},{"$f":"+'COVER SHEET'!$D$12","v":0},11510,{"$f":"'COVER SHEET'!$D$16&IF(MID('COVER SHEET'!$I$18,6,10)=\"december\",\"1231\",IF(MID('COVER SHEET'!$I$18,6,10)=\"june\",\"0630\"))","v":"20241231"},{"$f":"+'Outgoing Remittances (Volume)'!C197","v":0}]
["CMREM_11510","SL",{"$f":"+'Outgoing Remittances (Volume)'!$C$5","v":"20240731"},{"$f":"+'COVER SHEET'!$D$12","v":0},11510,{"$f":"'COVER SHEET'!$D$16&IF(MID('COVER SHEET'!$I$18,6,10)=\"december\",\"1231\",IF(MID('COVER SHEET'!$I$18,6,10)=\"june\",\"0630\"))","v":"20241231"},{"$f":"+'Outgoing Remittances (Volume)'!C198","v":0}]
["CMREM_11510","SG",{"$f":"+'Outgoing Remittances (Volume)'!$C$5","v":"20240731"},{"$f":"+'COVER SHEET'!$D$12","v":0},11510,{"$f":"'COVER SHEET'!$D$16&IF(MID('COVER SHEET'!$I$18,6,10)=\"december\",\"1231\",IF(MID('COVER SHEET'!$I$18,6,10)=\"june\",\"0630\"))","v":"20241231"},{"$f":"+'Outgoing Remittances (Volume)'!C199","v":0}]
["CMREM_11510","SX",{"$f":"+'Outgoing Remittances (Volume)'!$C$5","v":"20240731"},{"$f":"+'COVER SHEET'!$D$12","v":0},11510,{"$f":"'COVER SHEET'!$D$16&IF(MID('COVER SHEET'!$I$18,6,10)=\"december\",\"1231\",IF(MID('COVER SHEET'!$I$18,6,10)=\"june\",\"0630\"))","v":"20241231"},{"$f":"+'Outgoing Remittances (Volume)'!C200","v":0}]
["CMREM_11510","SK",{"$f":"+'Outgoing Remittances (Volume)'!$C$5","v":"20240731"},{"$f":"+'COVER SHEET'!$D$12","v":0},11510,{"$f":"'COVER SHEET'!$D$16&IF(MID('COVER SHEET'!$I$18,6,10)=\"december\",\"1231\",IF(MID('COVER SHEET'!$I$18,6,10)=\"june\",\"0630\"))","v":"20241231"},{"$f":"+'Outgoing Remittances (Volume)'!C201","v":0}]
["CMREM_11510","SI",{"$f":"+'Outgoing Remittances (Volume)'!$C$5","v":"20240731"},{"$f":"+'COVER SHEET'!$D$12","v":0},11510,{"$f":"'COVER SHEET'!$D$16&IF(MID('COVER SHEET'!$I$18,6,10)=\"december\",\"1231\",IF(MID('COVER SHEET'!$I$18,6,10)=\"june\",\"0630\"))","v":"20241231"},{"$f":"+'Outgoing Remittances (Volume)'!C202","v":0}]
["CMREM_11510","SB",{"$f":"+'Outgoing Remittances (Volume)'!$C$5","v":"20240731"},{"$f":"+'COVER SHEET'!$D$12","v":0},11510,{"$f":"'COVER SHEET'!$D$16&IF(MID('COVER SHEET'!$I$18,6,10)=\"december\",\"1231\",IF(MID('COVER SHEET'!$I$18,6,10)=\"june\",\"0630\"))","v":"20241231"},{"$f":"+'Outgoing Remittances (Volume)'!C203","v":0}]
["CMREM_11510","SO",{"$f":"+'Outgoing Remittances (Volume)'!$C$5","v":"20240731"},{"$f":"+'COVER SHEET'!$D$12","v":0},11510,{"$f":"'COVER SHEET'!$D$16&IF(MID('COVER SHEET'!$I$18,6,10)=\"december\",\"1231\",IF(MID('COVER SHEET'!$I$18,6,10)=\"june\",\"0630\"))","v":"20241231"},{"$f":"+'Outgoing Remittances (Volume)'!C204","v":0}]
["CMREM_11510","ZA",{"$f":"+'Outgoing Remittances (Volume)'!$C$5","v":"20240731"},{"$f":"+'COVER SHEET'!$D$12","v":0},11510,{"$f":"'COVER SHEET'!$D$16&IF(MID('COVER SHEET'!$I$18,6,10)=\"december\",\"1231\",IF(MID('COVER SHEET'!$I$18,6,10)=\"june\",\"0630\"))","v":"20241231"},{"$f":"+'Outgoing Remittances (Volume)'!C205","v":0}]
["CMREM_11510","GS",{"$f":"+'Outgoing Remittances (Volume)'!$C$5","v":"20240731"},{"$f":"+'COVER SHEET'!$D$12","v":0},11510,{"$f":"'COVER SHEET'!$D$16&IF(MID('COVER SHEET'!$I$18,6,10)=\"december\",\"1231\",IF(MID('COVER SHEET'!$I$18,6,10)=\"june\",\"0630\"))","v":"20241231"},{"$f":"+'Outgoing Remittances (Volume)'!C206","v":0}]
["CMREM_11510","SS",{"$f":"+'Outgoing Remittances (Volume)'!$C$5","v":"20240731"},{"$f":"+'COVER SHEET'!$D$12","v":0},11510,{"$f":"'COVER SHEET'!$D$16&IF(MID('COVER SHEET'!$I$18,6,10)=\"december\",\"1231\",IF(MID('COVER SHEET'!$I$18,6,10)=\"june\",\"0630\"))","v":"20241231"},{"$f":"+'Outgoing Remittances (Volume)'!C207","v":0}]
["CMREM_11510","ES",{"$f":"+'Outgoing Remittances (Volume)'!$C$5","v":"20240731"},{"$f":"+'COVER SHEET'!$D$12","v":0},11510,{"$f":"'COVER SHEET'!$D$16&IF(MID('COVER SHEET'!$I$18,6,10)=\"december\",\"1231\",IF(MID('COVER SHEET'!$I$18,6,10)=\"june\",\"0630\"))","v":"20241231"},{"$f":"+'Outgoing Remittances (Volume)'!C208","v":0}]
["CMREM_11510","LK",{"$f":"+'Outgoing Remittances (Volume)'!$C$5","v":"20240731"},{"$f":"+'COVER SHEET'!$D$12","v":0},11510,{"$f":"'COVER SHEET'!$D$16&IF(MID('COVER SHEET'!$I$18,6,10)=\"december\",\"1231\",IF(MID('COVER SHEET'!$I$18,6,10)=\"june\",\"0630\"))","v":"20241231"},{"$f":"+'Outgoing Remittances (Volume)'!C209","v":0}]
["CMREM_11510","SD",{"$f":"+'Outgoing Remittances (Volume)'!$C$5","v":"20240731"},{"$f":"+'COVER SHEET'!$D$12","v":0},11510,{"$f":"'COVER SHEET'!$D$16&IF(MID('COVER SHEET'!$I$18,6,10)=\"december\",\"1231\",IF(MID('COVER SHEET'!$I$18,6,10)=\"june\",\"0630\"))","v":"20241231"},{"$f":"+'Outgoing Remittances (Volume)'!C210","v":0}]
["CMREM_11510","SR",{"$f":"+'Outgoing Remittances (Volume)'!$C$5","v":"20240731"},{"$f":"+'COVER SHEET'!$D$12","v":0},11510,{"$f":"'COVER SHEET'!$D$16&IF(MID('COVER SHEET'!$I$18,6,10)=\"december\",\"1231\",IF(MID('COVER SHEET'!$I$18,6,10)=\"june\",\"0630\"))","v":"20241231"},{"$f":"+'Outgoing Remittances (Volume)'!C211","v":0}]
["CMREM_11510","SZ",{"$f":"+'Outgoing Remittances (Volume)'!$C$5","v":"20240731"},{"$f":"+'COVER SHEET'!$D$12","v":0},11510,{"$f":"'COVER SHEET'!$D$16&IF(MID('COVER SHEET'!$I$18,6,10)=\"december\",\"1231\",IF(MID('COVER SHEET'!$I$18,6,10)=\"june\",\"0630\"))","v":"20241231"},{"$f":"+'Outgoing Remittances (Volume)'!C212","v":0}]
["CMREM_11510","SE",{"$f":"+'Outgoing Remittances (Volume)'!$C$5","v":"20240731"},{"$f":"+'COVER SHEET'!$D$12","v":0},11510,{"$f":"'COVER SHEET'!$D$16&IF(MID('COVER SHEET'!$I$18,6,10)=\"december\",\"1231\",IF(MID('COVER SHEET'!$I$18,6,10)=\"june\",\"0630\"))","v":"20241231"},{"$f":"+'Outgoing Remittances (Volume)'!C213","v":0}]
["CMREM_11510","CH",{"$f":"+'Outgoing Remittances (Volume)'!$C$5","v":"20240731"},{"$f":"+'COVER SHEET'!$D$12","v":0},11510,{"$f":"'COVER SHEET'!$D$16&IF(MID('COVER SHEET'!$I$18,6,10)=\"december\",\"1231\",IF(MID('COVER SHEET'!$I$18,6,10)=\"june\",\"0630\"))","v":"20241231"},{"$f":"+'Outgoing Remittances (Volume)'!C214","v":0}]
["CMREM_11510","SY",{"$f":"+'Outgoing Remittances (Volume)'!$C$5","v":"20240731"},{"$f":"+'COVER SHEET'!$D$12","v":0},11510,{"$f":"'COVER SHEET'!$D$16&IF(MID('COVER SHEET'!$I$18,6,10)=\"december\",\"1231\",IF(MID('COVER SHEET'!$I$18,6,10)=\"june\",\"0630\"))","v":"20241231"},{"$f":"+'Outgoing Remittances (Volume)'!C215","v":0}]
["CMREM_11510","TW",{"$f":"+'Outgoing Remittances (Volume)'!$C$5","v":"20240731"},{"$f":"+'COVER SHEET'!$D$12","v":0},11510,{"$f":"'COVER SHEET'!$D$16&IF(MID('COVER SHEET'!$I$18,6,10)=\"december\",\"1231\",IF(MID('COVER SHEET'!$I$18,6,10)=\"june\",\"0630\"))","v":"20241231"},{"$f":"+'Outgoing Remittances (Volume)'!C216","v":0}]
["CMREM_11510","TJ",{"$f":"+'Outgoing Remittances (Volume)'!$C$5","v":"20240731"},{"$f":"+'COVER SHEET'!$D$12","v":0},11510,{"$f":"'COVER SHEET'!$D$16&IF(MID('COVER SHEET'!$I$18,6,10)=\"december\",\"1231\",IF(MID('COVER SHEET'!$I$18,6,10)=\"june\",\"0630\"))","v":"20241231"},{"$f":"+'Outgoing Remittances (Volume)'!C217","v":0}]
["CMREM_11510","TZ",{"$f":"+'Outgoing Remittances (Volume)'!$C$5","v":"20240731"},{"$f":"+'COVER SHEET'!$D$12","v":0},11510,{"$f":"'COVER SHEET'!$D$16&IF(MID('COVER SHEET'!$I$18,6,10)=\"december\",\"1231\",IF(MID('COVER SHEET'!$I$18,6,10)=\"june\",\"0630\"))","v":"20241231"},{"$f":"+'Outgoing Remittances (Volume)'!C218","v":0}]
["CMREM_11510","TH",{"$f":"+'Outgoing Remittances (Volume)'!$C$5","v":"20240731"},{"$f":"+'COVER SHEET'!$D$12","v":0},11510,{"$f":"'COVER SHEET'!$D$16&IF(MID('COVER SHEET'!$I$18,6,10)=\"december\",\"1231\",IF(MID('COVER SHEET'!$I$18,6,10)=\"june\",\"0630\"))","v":"20241231"},{"$f":"+'Outgoing Remittances (Volume)'!C219","v":0}]
["CMREM_11510","TG",{"$f":"+'Outgoing Remittances (Volume)'!$C$5","v":"20240731"},{"$f":"+'COVER SHEET'!$D$12","v":0},11510,{"$f":"'COVER SHEET'!$D$16&IF(MID('COVER SHEET'!$I$18,6,10)=\"december\",\"1231\",IF(MID('COVER SHEET'!$I$18,6,10)=\"june\",\"0630\"))","v":"20241231"},{"$f":"+'Outgoing Remittances (Volume)'!C220","v":0}]
["CMREM_11510","TK",{"$f":"+'Outgoing Remittances (Volume)'!$C$5","v":"20240731"},{"$f":"+'COVER SHEET'!$D$12","v":0},11510,{"$f":"'COVER SHEET'!$D$16&IF(MID('COVER SHEET'!$I$18,6,10)=\"december\",\"1231\",IF(MID('COVER SHEET'!$I$18,6,10)=\"june\",\"0630\"))","v":"20241231"},{"$f":"+'Outgoing Remittances (Volume)'!C221","v":0}]
["CMREM_11510","TO",{"$f":"+'Outgoing Remittances (Volume)'!$C$5","v":"20240731"},{"$f":"+'COVER SHEET'!$D$12","v":0},11510,{"$f":"'COVER SHEET'!$D$16&IF(MID('COVER SHEET'!$I$18,6,10)=\"december\",\"1231\",IF(MID('COVER SHEET'!$I$18,6,10)=\"june\",\"0630\"))","v":"20241231"},{"$f":"+'Outgoing Remittances (Volume)'!C222","v":0}]
["CMREM_11510","TT",{"$f":"+'Outgoing Remittances (Volume)'!$C$5","v":"20240731"},{"$f":"+'COVER SHEET'!$D$12","v":0},11510,{"$f":"'COVER SHEET'!$D$16&IF(MID('COVER SHEET'!$I$18,6,10)=\"december\",\"1231\",IF(MID('COVER SHEET'!$I$18,6,10)=\"june\",\"0630\"))","v":"20241231"},{"$f":"+'Outgoing Remittances (Volume)'!C223","v":0}]
["CMREM_11510","TN",{"$f":"+'Outgoing Remittances (Volume)'!$C$5","v":"20240731"},{"$f":"+'COVER SHEET'!$D$12","v":0},11510,{"$f":"'COVER SHEET'!$D$16&IF(MID('COVER SHEET'!$I$18,6,10)=\"december\",\"1231\",IF(MID('COVER SHEET'!$I$18,6,10)=\"june\",\"0630\"))","v":"20241231"},{"$f":"+'Outgoing Remittances (Volume)'!C224","v":0}]
["CMREM_11510","TR",{"$f":"+'Outgoing Remittances (Volume)'!$C$5","v":"20240731"},{"$f":"+'COVER SHEET'!$D$12","v":0},11510,{"$f":"'COVER SHEET'!$D$16&IF(MID('COVER SHEET'!$I$18,6,10)=\"december\",\"1231\",IF(MID('COVER SHEET'!$I$18,6,10)=\"june\",\"0630\"))","v":"20241231"},{"$f":"+'Outgoing Remittances (Volume)'!C225","v":0}]
["CMREM_11510","TM",{"$f":"+'Outgoing Remittances (Volume)'!$C$5","v":"20240731"},{"$f":"+'COVER SHEET'!$D$12","v":0},11510,{"$f":"'COVER SHEET'!$D$16&IF(MID('COVER SHEET'!$I$18,6,10)=\"december\",\"1231\",IF(MID('COVER SHEET'!$I$18,6,10)=\"june\",\"0630\"))","v":"20241231"},{"$f":"+'Outgoing Remittances (Volume)'!C226","v":0}]
["CMREM_11510","TC",{"$f":"+'Outgoing Remittances (Volume)'!$C$5","v":"20240731"},{"$f":"+'COVER SHEET'!$D$12","v":0},11510,{"$f":"'COVER SHEET'!$D$16&IF(MID('COVER SHEET'!$I$18,6,10)=\"december\",\"1231\",IF(MID('COVER SHEET'!$I$18,6,10)=\"june\",\"0630\"))","v":"20241231"},{"$f":"+'Outgoing Remittances (Volume)'!C227","v":0}]
["CMREM_11510","TV",{"$f":"+'Outgoing Remittances (Volume)'!$C$5","v":"20240731"},{"$f":"+'COVER SHEET'!$D$12","v":0},11510,{"$f":"'COVER SHEET'!$D$16&IF(MID('COVER SHEET'!$I$18,6,10)=\"december\",\"1231\",IF(MID('COVER SHEET'!$I$18,6,10)=\"june\",\"0630\"))","v":"20241231"},{"$f":"+'Outgoing Remittances (Volume)'!C228","v":0}]
["CMREM_11510","UG",{"$f":"+'Outgoing Remittances (Volume)'!$C$5","v":"20240731"},{"$f":"+'COVER SHEET'!$D$12","v":0},11510,{"$f":"'COVER SHEET'!$D$16&IF(MID('COVER SHEET'!$I$18,6,10)=\"december\",\"1231\",IF(MID('COVER SHEET'!$I$18,6,10)=\"june\",\"0630\"))","v":"20241231"},{"$f":"+'Outgoing Remittances (Volume)'!C229","v":0}]
["CMREM_11510","UA",{"$f":"+'Outgoing Remittances (Volume)'!$C$5","v":"20240731"},{"$f":"+'COVER SHEET'!$D$12","v":0},11510,{"$f":"'COVER SHEET'!$D$16&IF(MID('COVER SHEET'!$I$18,6,10)=\"december\",\"1231\",IF(MID('COVER SHEET'!$I$18,6,10)=\"june\",\"0630\"))","v":"20241231"},{"$f":"+'Outgoing Remittances (Volume)'!C230","v":0}]
["CMREM_11510","AE",{"$f":"+'Outgoing Remittances (Volume)'!$C$5","v":"20240731"},{"$f":"+'COVER SHEET'!$D$12","v":0},11510,{"$f":"'COVER SHEET'!$D$16&IF(MID('COVER SHEET'!$I$18,6,10)=\"december\",\"1231\",IF(MID('COVER SHEET'!$I$18,6,10)=\"june\",\"0630\"))","v":"20241231"},{"$f":"+'Outgoing Remittances (Volume)'!C231","v":0}]
["CMREM_11510","GB",{"$f":"+'Outgoing Remittances (Volume)'!$C$5","v":"20240731"},{"$f":"+'COVER SHEET'!$D$12","v":0},11510,{"$f":"'COVER SHEET'!$D$16&IF(MID('COVER SHEET'!$I$18,6,10)=\"december\",\"1231\",IF(MID('COVER SHEET'!$I$18,6,10)=\"june\",\"0630\"))","v":"20241231"},{"$f":"+'Outgoing Remittances (Volume)'!C232","v":0}]
["CMREM_11510","US",{"$f":"+'Outgoing Remittances (Volume)'!$C$5","v":"20240731"},{"$f":"+'COVER SHEET'!$D$12","v":0},11510,{"$f":"'COVER SHEET'!$D$16&IF(MID('COVER SHEET'!$I$18,6,10)=\"december\",\"1231\",IF(MID('COVER SHEET'!$I$18,6,10)=\"june\",\"0630\"))","v":"20241231"},{"$f":"+'Outgoing Remittances (Volume)'!C233","v":0}]
["CMREM_11510","UY",{"$f":"+'Outgoing Remittances (Volume)'!$C$5","v":"20240731"},{"$f":"+'COVER SHEET'!$D$12","v":0},11510,{"$f":"'COVER SHEET'!$D$16&IF(MID('COVER SHEET'!$I$18,6,10)=\"december\",\"1231\",IF(MID('COVER SHEET'!$I$18,6,10)=\"june\",\"0630\"))","v":"20241231"},{"$f":"+'Outgoing Remittances (Volume)'!C234","v":0}]
["CMREM_11510","UM",{"$f":"+'Outgoing Remittances (Volume)'!$C$5","v":"20240731"},{"$f":"+'COVER SHEET'!$D$12","v":0},11510,{"$f":"'COVER SHEET'!$D$16&IF(MID('COVER SHEET'!$I$18,6,10)=\"december\",\"1231\",IF(MID('COVER SHEET'!$I$18,6,10)=\"june\",\"0630\"))","v":"20241231"},{"$f":"+'Outgoing Remittances (Volume)'!C235","v":0}]
["CMREM_11510","UZ",{"$f":"+'Outgoing Remittances (Volume)'!$C$5","v":"20240731"},{"$f":"+'COVER SHEET'!$D$12","v":0},11510,{"$f":"'COVER SHEET'!$D$16&IF(MID('COVER SHEET'!$I$18,6,10)=\"december\",\"1231\",IF(MID('COVER SHEET'!$I$18,6,10)=\"june\",\"0630\"))","v":"20241231"},{"$f":"+'Outgoing Remittances (Volume)'!C236","v":0}]
["CMREM_11510","VU",{"$f":"+'Outgoing Remittances (Volume)'!$C$5","v":"20240731"},{"$f":"+'COVER SHEET'!$D$12","v":0},11510,{"$f":"'COVER SHEET'!$D$16&IF(MID('COVER SHEET'!$I$18,6,10)=\"december\",\"1231\",IF(MID('COVER SHEET'!$I$18,6,10)=\"june\",\"0630\"))","v":"20241231"},{"$f":"+'Outgoing Remittances (Volume)'!C237","v":0}]
["CMREM_11510","VE",{"$f":"+'Outgoing Remittances (Volume)'!$C$5","v":"20240731"},{"$f":"+'COVER SHEET'!$D$12","v":0},11510,{"$f":"'COVER SHEET'!$D$16&IF(MID('COVER SHEET'!$I$18,6,10)=\"december\",\"1231\",IF(MID('COVER SHEET'!$I$18,6,10)=\"june\",\"0630\"))","v":"20241231"},{"$f":"+'Outgoing Remittances (Volume)'!C238","v":0}]
["CMREM_11510","VN",{"$f":"+'Outgoing Remittances (Volume)'!$C$5","v":"20240731"},{"$f":"+'COVER SHEET'!$D$12","v":0},11510,{"$f":"'COVER SHEET'!$D$16&IF(MID('COVER SHEET'!$I$18,6,10)=\"december\",\"1231\",IF(MID('COVER SHEET'!$I$18,6,10)=\"june\",\"0630\"))","v":"20241231"},{"$f":"+'Outgoing Remittances (Volume)'!C239","v":0}]
["CMREM_11510","VI",{"$f":"+'Outgoing Remittances (Volume)'!$C$5","v":"20240731"},{"$f":"+'COVER SHEET'!$D$12","v":0},11510,{"$f":"'COVER SHEET'!$D$16&IF(MID('COVER SHEET'!$I$18,6,10)=\"december\",\"1231\",IF(MID('COVER SHEET'!$I$18,6,10)=\"june\",\"0630\"))","v":"20241231"},{"$f":"+'Outgoing Remittances (Volume)'!C240","v":0}]
["CMREM_11510","WF",{"$f":"+'Outgoing Remittances (Volume)'!$C$5","v":"20240731"},{"$f":"+'COVER SHEET'!$D$12","v":0},11510,{"$f":"'COVER SHEET'!$D$16&IF(MID('COVER SHEET'!$I$18,6,10)=\"december\",\"1231\",IF(MID('COVER SHEET'!$I$18,6,10)=\"june\",\"0630\"))","v":"20241231"},{"$f":"+'Outgoing Remittances (Volume)'!C241","v":0}]
["CMREM_11510","YE",{"$f":"+'Outgoing Remittances (Volume)'!$C$5","v":"20240731"},{"$f":"+'COVER SHEET'!$D$12","v":0},11510,{"$f":"'COVER SHEET'!$D$16&IF(MID('COVER SHEET'!$I$18,6,10)=\"december\",\"1231\",IF(MID('COVER SHEET'!$I$18,6,10)=\"june\",\"0630\"))","v":"20241231"},{"$f":"+'Outgoing Remittances (Volume)'!C242","v":0}]
["CMREM_11510","ZM",{"$f":"+'Outgoing Remittances (Volume)'!$C$5","v":"20240731"},{"$f":"+'COVER SHEET'!$D$12","v":0},11510,{"$f":"'COVER SHEET'!$D$16&IF(MID('COVER SHEET'!$I$18,6,10)=\"december\",\"1231\",IF(MID('COVER SHEET'!$I$18,6,10)=\"june\",\"0630\"))","v":"20241231"},{"$f":"+'Outgoing Remittances (Volume)'!C243","v":0}]
["CMREM_11510","ZW",{"$f":"+'Outgoing Remittances (Volume)'!$C$5","v":"20240731"},{"$f":"+'COVER SHEET'!$D$12","v":0},11510,{"$f":"'COVER SHEET'!$D$16&IF(MID('COVER SHEET'!$I$18,6,10)=\"december\",\"1231\",IF(MID('COVER SHEET'!$I$18,6,10)=\"june\",\"0630\"))","v":"20241231"},{"$f":"+'Outgoing Remittances (Volume)'!C244","v":0}]
["CMREM_11520","AF",{"$f":"+'Incoming Remittances (Value)'!$C$5","v":"20240731"},{"$f":"+'COVER SHEET'!$D$12","v":0},11520,{"$f":"'COVER SHEET'!$D$16&IF(MID('COVER SHEET'!$I$18,6,10)=\"december\",\"1231\",IF(MID('COVER SHEET'!$I$18,6,10)=\"june\",\"0630\"))","v":"20241231"},{"$f":"+'Incoming Remittances (Value)'!C9","v":0}]
["CMREM_11520","AL",{"$f":"+'Incoming Remittances (Value)'!$C$5","v":"20240731"},{"$f":"+'COVER SHEET'!$D$12","v":0},11520,{"$f":"'COVER SHEET'!$D$16&IF(MID('COVER SHEET'!$I$18,6,10)=\"december\",\"1231\",IF(MID('COVER SHEET'!$I$18,6,10)=\"june\",\"0630\"))","v":"20241231"},{"$f":"+'Incoming Remittances (Value)'!C10","v":0}]
["CMREM_11520","DZ",{"$f":"+'Incoming Remittances (Value)'!$C$5","v":"20240731"},{"$f":"+'COVER SHEET'!$D$12","v":0},11520,{"$f":"'COVER SHEET'!$D$16&IF(MID('COVER SHEET'!$I$18,6,10)=\"december\",\"1231\",IF(MID('COVER SHEET'!$I$18,6,10)=\"june\",\"0630\"))","v":"20241231"},{"$f":"+'Incoming Remittances (Value)'!C11","v":0}]
["CMREM_11520","AS",{"$f":"+'Incoming Remittances (Value)'!$C$5","v":"20240731"},{"$f":"+'COVER SHEET'!$D$12","v":0},11520,{"$f":"'COVER SHEET'!$D$16&IF(MID('COVER SHEET'!$I$18,6,10)=\"december\",\"1231\",IF(MID('COVER SHEET'!$I$18,6,10)=\"june\",\"0630\"))","v":"20241231"},{"$f":"+'Incoming Remittances (Value)'!C12","v":0}]
["CMREM_11520","AD",{"$f":"+'Incoming Remittances (Value)'!$C$5","v":"20240731"},{"$f":"+'COVER SHEET'!$D$12","v":0},11520,{"$f":"'COVER SHEET'!$D$16&IF(MID('COVER SHEET'!$I$18,6,10)=\"december\",\"1231\",IF(MID('COVER SHEET'!$I$18,6,10)=\"june\",\"0630\"))","v":"20241231"},{"$f":"+'Incoming Remittances (Value)'!C13","v":0}]
["CMREM_11520","AO",{"$f":"+'Incoming Remittances (Value)'!$C$5","v":"20240731"},{"$f":"+'COVER SHEET'!$D$12","v":0},11520,{"$f":"'COVER SHEET'!$D$16&IF(MID('COVER SHEET'!$I$18,6,10)=\"december\",\"1231\",IF(MID('COVER SHEET'!$I$18,6,10)=\"june\",\"0630\"))","v":"20241231"},{"$f":"+'Incoming Remittances (Value)'!C14","v":0}]
["CMREM_11520","AI",{"$f":"+'Incoming Remittances (Value)'!$C$5","v":"20240731"},{"$f":"+'COVER SHEET'!$D$12","v":0},11520,{"$f":"'COVER SHEET'!$D$16&IF(MID('COVER SHEET'!$I$18,6,10)=\"december\",\"1231\",IF(MID('COVER SHEET'!$I$18,6,10)=\"june\",\"0630\"))","v":"20241231"},{"$f":"+'Incoming Remittances (Value)'!C15","v":0}]
["CMREM_11520","AQ",{"$f":"+'Incoming Remittances (Value)'!$C$5","v":"20240731"},{"$f":"+'COVER SHEET'!$D$12","v":0},11520,{"$f":"'COVER SHEET'!$D$16&IF(MID('COVER SHEET'!$I$18,6,10)=\"december\",\"1231\",IF(MID('COVER SHEET'!$I$18,6,10)=\"june\",\"0630\"))","v":"20241231"},{"$f":"+'Incoming Remittances (Value)'!C16","v":0}]
["CMREM_11520","AG",{"$f":"+'Incoming Remittances (Value)'!$C$5","v":"20240731"},{"$f":"+'COVER SHEET'!$D$12","v":0},11520,{"$f":"'COVER SHEET'!$D$16&IF(MID('COVER SHEET'!$I$18,6,10)=\"december\",\"1231\",IF(MID('COVER SHEET'!$I$18,6,10)=\"june\",\"0630\"))","v":"20241231"},{"$f":"+'Incoming Remittances (Value)'!C17","v":0}]
["CMREM_11520","AR",{"$f":"+'Incoming Remittances (Value)'!$C$5","v":"20240731"},{"$f":"+'COVER SHEET'!$D$12","v":0},11520,{"$f":"'COVER SHEET'!$D$16&IF(MID('COVER SHEET'!$I$18,6,10)=\"december\",\"1231\",IF(MID('COVER SHEET'!$I$18,6,10)=\"june\",\"0630\"))","v":"20241231"},{"$f":"+'Incoming Remittances (Value)'!C18","v":0}]
["CMREM_11520","AM",{"$f":"+'Incoming Remittances (Value)'!$C$5","v":"20240731"},{"$f":"+'COVER SHEET'!$D$12","v":0},11520,{"$f":"'COVER SHEET'!$D$16&IF(MID('COVER SHEET'!$I$18,6,10)=\"december\",\"1231\",IF(MID('COVER SHEET'!$I$18,6,10)=\"june\",\"0630\"))","v":"20241231"},{"$f":"+'Incoming Remittances (Value)'!C19","v":0}]
["CMREM_11520","AW",{"$f":"+'Incoming Remittances (Value)'!$C$5","v":"20240731"},{"$f":"+'COVER SHEET'!$D$12","v":0},11520,{"$f":"'COVER SHEET'!$D$16&IF(MID('COVER SHEET'!$I$18,6,10)=\"december\",\"1231\",IF(MID('COVER SHEET'!$I$18,6,10)=\"june\",\"0630\"))","v":"20241231"},{"$f":"+'Incoming Remittances (Value)'!C20","v":0}]
["CMREM_11520","AU",{"$f":"+'Incoming Remittances (Value)'!$C$5","v":"20240731"},{"$f":"+'COVER SHEET'!$D$12","v":0},11520,{"$f":"'COVER SHEET'!$D$16&IF(MID('COVER SHEET'!$I$18,6,10)=\"december\",\"1231\",IF(MID('COVER SHEET'!$I$18,6,10)=\"june\",\"0630\"))","v":"20241231"},{"$f":"+'Incoming Remittances (Value)'!C21","v":0}]
["CMREM_11520","AT",{"$f":"+'Incoming Remittances (Value)'!$C$5","v":"20240731"},{"$f":"+'COVER SHEET'!$D$12","v":0},11520,{"$f":"'COVER SHEET'!$D$16&IF(MID('COVER SHEET'!$I$18,6,10)=\"december\",\"1231\",IF(MID('COVER SHEET'!$I$18,6,10)=\"june\",\"0630\"))","v":"20241231"},{"$f":"+'Incoming Remittances (Value)'!C22","v":0}]
["CMREM_11520","AZ",{"$f":"+'Incoming Remittances (Value)'!$C$5","v":"20240731"},{"$f":"+'COVER SHEET'!$D$12","v":0},11520,{"$f":"'COVER SHEET'!$D$16&IF(MID('COVER SHEET'!$I$18,6,10)=\"december\",\"1231\",IF(MID('COVER SHEET'!$I$18,6,10)=\"june\",\"0630\"))","v":"20241231"},{"$f":"+'Incoming Remittances (Value)'!C23","v":0}]
["CMREM_11520","BS",{"$f":"+'Incoming Remittances (Value)'!$C$5","v":"20240731"},{"$f":"+'COVER SHEET'!$D$12","v":0},11520,{"$f":"'COVER SHEET'!$D$16&IF(MID('COVER SHEET'!$I$18,6,10)=\"december\",\"1231\",IF(MID('COVER SHEET'!$I$18,6,10)=\"june\",\"0630\"))","v":"20241231"},{"$f":"+'Incoming Remittances (Value)'!C24","v":0}]
["CMREM_11520","BH",{"$f":"+'Incoming Remittances (Value)'!$C$5","v":"20240731"},{"$f":"+'COVER SHEET'!$D$12","v":0},11520,{"$f":"'COVER SHEET'!$D$16&IF(MID('COVER SHEET'!$I$18,6,10)=\"december\",\"1231\",IF(MID('COVER SHEET'!$I$18,6,10)=\"june\",\"0630\"))","v":"20241231"},{"$f":"+'Incoming Remittances (Value)'!C25","v":0}]
["CMREM_11520","BD",{"$f":"+'Incoming Remittances (Value)'!$C$5","v":"20240731"},{"$f":"+'COVER SHEET'!$D$12","v":0},11520,{"$f":"'COVER SHEET'!$D$16&IF(MID('COVER SHEET'!$I$18,6,10)=\"december\",\"1231\",IF(MID('COVER SHEET'!$I$18,6,10)=\"june\",\"0630\"))","v":"20241231"},{"$f":"+'Incoming Remittances (Value)'!C26","v":0}]
["CMREM_11520","BB",{"$f":"+'Incoming Remittances (Value)'!$C$5","v":"20240731"},{"$f":"+'COVER SHEET'!$D$12","v":0},11520,{"$f":"'COVER SHEET'!$D$16&IF(MID('COVER SHEET'!$I$18,6,10)=\"december\",\"1231\",IF(MID('COVER SHEET'!$I$18,6,10)=\"june\",\"0630\"))","v":"20241231"},{"$f":"+'Incoming Remittances (Value)'!C27","v":0}]
["CMREM_11520","BY",{"$f":"+'Incoming Remittances (Value)'!$C$5","v":"20240731"},{"$f":"+'COVER SHEET'!$D$12","v":0},11520,{"$f":"'COVER SHEET'!$D$16&IF(MID('COVER SHEET'!$I$18,6,10)=\"december\",\"1231\",IF(MID('COVER SHEET'!$I$18,6,10)=\"june\",\"0630\"))","v":"20241231"},{"$f":"+'Incoming Remittances (Value)'!C28","v":0}]
["CMREM_11520","BE",{"$f":"+'Incoming Remittances (Value)'!$C$5","v":"20240731"},{"$f":"+'COVER SHEET'!$D$12","v":0},11520,{"$f":"'COVER SHEET'!$D$16&IF(MID('COVER SHEET'!$I$18,6,10)=\"december\",\"1231\",IF(MID('COVER SHEET'!$I$18,6,10)=\"june\",\"0630\"))","v":"20241231"},{"$f":"+'Incoming Remittances (Value)'!C29","v":0}]
["CMREM_11520","BZ",{"$f":"+'Incoming Remittances (Value)'!$C$5","v":"20240731"},{"$f":"+'COVER SHEET'!$D$12","v":0},11520,{"$f":"'COVER SHEET'!$D$16&IF(MID('COVER SHEET'!$I$18,6,10)=\"december\",\"1231\",IF(MID('COVER SHEET'!$I$18,6,10)=\"june\",\"0630\"))","v":"20241231"},{"$f":"+'Incoming Remittances (Value)'!C30","v":0}]
["CMREM_11520","BJ",{"$f":"+'Incoming Remittances (Value)'!$C$5","v":"20240731"},{"$f":"+'COVER SHEET'!$D$12","v":0},11520,{"$f":"'COVER SHEET'!$D$16&IF(MID('COVER SHEET'!$I$18,6,10)=\"december\",\"1231\",IF(MID('COVER SHEET'!$I$18,6,10)=\"june\",\"0630\"))","v":"20241231"},{"$f":"+'Incoming Remittances (Value)'!C31","v":0}]
["CMREM_11520","BM",{"$f":"+'Incoming Remittances (Value)'!$C$5","v":"20240731"},{"$f":"+'COVER SHEET'!$D$12","v":0},11520,{"$f":"'COVER SHEET'!$D$16&IF(MID('COVER SHEET'!$I$18,6,10)=\"december\",\"1231\",IF(MID('COVER SHEET'!$I$18,6,10)=\"june\",\"0630\"))","v":"20241231"},{"$f":"+'Incoming Remittances (Value)'!C32","v":0}]
["CMREM_11520","BQ",{"$f":"+'Incoming Remittances (Value)'!$C$5","v":"20240731"},{"$f":"+'COVER SHEET'!$D$12","v":0},11520,{"$f":"'COVER SHEET'!$D$16&IF(MID('COVER SHEET'!$I$18,6,10)=\"december\",\"1231\",IF(MID('COVER SHEET'!$I$18,6,10)=\"june\",\"0630\"))","v":"20241231"},{"$f":"+'Incoming Remittances (Value)'!C33","v":0}]
["CMREM_11520","BT",{"$f":"+'Incoming Remittances (Value)'!$C$5","v":"20240731"},{"$f":"+'COVER SHEET'!$D$12","v":0},11520,{"$f":"'COVER SHEET'!$D$16&IF(MID('COVER SHEET'!$I$18,6,10)=\"december\",\"1231\",IF(MID('COVER SHEET'!$I$18,6,10)=\"june\",\"0630\"))","v":"20241231"},{"$f":"+'Incoming Remittances (Value)'!C34","v":0}]
["CMREM_11520","BO",{"$f":"+'Incoming Remittances (Value)'!$C$5","v":"20240731"},{"$f":"+'COVER SHEET'!$D$12","v":0},11520,{"$f":"'COVER SHEET'!$D$16&IF(MID('COVER SHEET'!$I$18,6,10)=\"december\",\"1231\",IF(MID('COVER SHEET'!$I$18,6,10)=\"june\",\"0630\"))","v":"20241231"},{"$f":"+'Incoming Remittances (Value)'!C35","v":0}]
["CMREM_11520","BA",{"$f":"+'Incoming Remittances (Value)'!$C$5","v":"20240731"},{"$f":"+'COVER SHEET'!$D$12","v":0},11520,{"$f":"'COVER SHEET'!$D$16&IF(MID('COVER SHEET'!$I$18,6,10)=\"december\",\"1231\",IF(MID('COVER SHEET'!$I$18,6,10)=\"june\",\"0630\"))","v":"20241231"},{"$f":"+'Incoming Remittances (Value)'!C36","v":0}]
["CMREM_11520","BW",{"$f":"+'Incoming Remittances (Value)'!$C$5","v":"20240731"},{"$f":"+'COVER SHEET'!$D$12","v":0},11520,{"$f":"'COVER SHEET'!$D$16&IF(MID('COVER SHEET'!$I$18,6,10)=\"december\",\"1231\",IF(MID('COVER SHEET'!$I$18,6,10)=\"june\",\"0630\"))","v":"20241231"},{"$f":"+'Incoming Remittances (Value)'!C37","v":0}]
["CMREM_11520","BV",{"$f":"+'Incoming Remittances (Value)'!$C$5","v":"20240731"},{"$f":"+'COVER SHEET'!$D$12","v":0},11520,{"$f":"'COVER SHEET'!$D$16&IF(MID('COVER SHEET'!$I$18,6,10)=\"december\",\"1231\",IF(MID('COVER SHEET'!$I$18,6,10)=\"june\",\"0630\"))","v":"20241231"},{"$f":"+'Incoming Remittances (Value)'!C38","v":0}]
["CMREM_11520","BR",{"$f":"+'Incoming Remittances (Value)'!$C$5","v":"20240731"},{"$f":"+'COVER SHEET'!$D$12","v":0},11520,{"$f":"'COVER SHEET'!$D$16&IF(MID('COVER SHEET'!$I$18,6,10)=\"december\",\"1231\",IF(MID('COVER SHEET'!$I$18,6,10)=\"june\",\"0630\"))","v":"20241231"},{"$f":"+'Incoming Remittances (Value)'!C39","v":0}]
["CMREM_11520","IO",{"$f":"+'Incoming Remittances (Value)'!$C$5","v":"20240731"},{"$f":"+'COVER SHEET'!$D$12","v":0},11520,{"$f":"'COVER SHEET'!$D$16&IF(MID('COVER SHEET'!$I$18,6,10)=\"december\",\"1231\",IF(MID('COVER SHEET'!$I$18,6,10)=\"june\",\"0630\"))","v":"20241231"},{"$f":"+'Incoming Remittances (Value)'!C40","v":0}]
["CMREM_11520","VG",{"$f":"+'Incoming Remittances (Value)'!$C$5","v":"20240731"},{"$f":"+'COVER SHEET'!$D$12","v":0},11520,{"$f":"'COVER SHEET'!$D$16&IF(MID('COVER SHEET'!$I$18,6,10)=\"december\",\"1231\",IF(MID('COVER SHEET'!$I$18,6,10)=\"june\",\"0630\"))","v":"20241231"},{"$f":"+'Incoming Remittances (Value)'!C41","v":0}]
["CMREM_11520","BN",{"$f":"+'Incoming Remittances (Value)'!$C$5","v":"20240731"},{"$f":"+'COVER SHEET'!$D$12","v":0},11520,{"$f":"'COVER SHEET'!$D$16&IF(MID('COVER SHEET'!$I$18,6,10)=\"december\",\"1231\",IF(MID('COVER SHEET'!$I$18,6,10)=\"june\",\"0630\"))","v":"20241231"},{"$f":"+'Incoming Remittances (Value)'!C42","v":0}]
["CMREM_11520","BG",{"$f":"+'Incoming Remittances (Value)'!$C$5","v":"20240731"},{"$f":"+'COVER SHEET'!$D$12","v":0},11520,{"$f":"'COVER SHEET'!$D$16&IF(MID('COVER SHEET'!$I$18,6,10)=\"december\",\"1231\",IF(MID('COVER SHEET'!$I$18,6,10)=\"june\",\"0630\"))","v":"20241231"},{"$f":"+'Incoming Remittances (Value)'!C43","v":0}]
["CMREM_11520","BF",{"$f":"+'Incoming Remittances (Value)'!$C$5","v":"20240731"},{"$f":"+'COVER SHEET'!$D$12","v":0},11520,{"$f":"'COVER SHEET'!$D$16&IF(MID('COVER SHEET'!$I$18,6,10)=\"december\",\"1231\",IF(MID('COVER SHEET'!$I$18,6,10)=\"june\",\"0630\"))","v":"20241231"},{"$f":"+'Incoming Remittances (Value)'!C44","v":0}]
["CMREM_11520","BI",{"$f":"+'Incoming Remittances (Value)'!$C$5","v":"20240731"},{"$f":"+'COVER SHEET'!$D$12","v":0},11520,{"$f":"'COVER SHEET'!$D$16&IF(MID('COVER SHEET'!$I$18,6,10)=\"december\",\"1231\",IF(MID('COVER SHEET'!$I$18,6,10)=\"june\",\"0630\"))","v":"20241231"},{"$f":"+'Incoming Remittances (Value)'!C45","v":0}]
["CMREM_11520","KH",{"$f":"+'Incoming Remittances (Value)'!$C$5","v":"20240731"},{"$f":"+'COVER SHEET'!$D$12","v":0},11520,{"$f":"'COVER SHEET'!$D$16&IF(MID('COVER SHEET'!$I$18,6,10)=\"december\",\"1231\",IF(MID('COVER SHEET'!$I$18,6,10)=\"june\",\"0630\"))","v":"20241231"},{"$f":"+'Incoming Remittances (Value)'!C46","v":0}]
["CMREM_11520","CM",{"$f":"+'Incoming Remittances (Value)'!$C$5","v":"20240731"},{"$f":"+'COVER SHEET'!$D$12","v":0},11520,{"$f":"'COVER SHEET'!$D$16&IF(MID('COVER SHEET'!$I$18,6,10)=\"december\",\"1231\",IF(MID('COVER SHEET'!$I$18,6,10)=\"june\",\"0630\"))","v":"20241231"},{"$f":"+'Incoming Remittances (Value)'!C47","v":0}]
["CMREM_11520","CA",{"$f":"+'Incoming Remittances (Value)'!$C$5","v":"20240731"},{"$f":"+'COVER SHEET'!$D$12","v":0},11520,{"$f":"'COVER SHEET'!$D$16&IF(MID('COVER SHEET'!$I$18,6,10)=\"december\",\"1231\",IF(MID('COVER SHEET'!$I$18,6,10)=\"june\",\"0630\"))","v":"20241231"},{"$f":"+'Incoming Remittances (Value)'!C48","v":0}]
["CMREM_11520","CV",{"$f":"+'Incoming Remittances (Value)'!$C$5","v":"20240731"},{"$f":"+'COVER SHEET'!$D$12","v":0},11520,{"$f":"'COVER SHEET'!$D$16&IF(MID('COVER SHEET'!$I$18,6,10)=\"december\",\"1231\",IF(MID('COVER SHEET'!$I$18,6,10)=\"june\",\"0630\"))","v":"20241231"},{"$f":"+'Incoming Remittances (Value)'!C49","v":0}]
["CMREM_11520","KY",{"$f":"+'Incoming Remittances (Value)'!$C$5","v":"20240731"},{"$f":"+'COVER SHEET'!$D$12","v":0},11520,{"$f":"'COVER SHEET'!$D$16&IF(MID('COVER SHEET'!$I$18,6,10)=\"december\",\"1231\",IF(MID('COVER SHEET'!$I$18,6,10)=\"june\",\"0630\"))","v":"20241231"},{"$f":"+'Incoming Remittances (Value)'!C50","v":0}]
["CMREM_11520","CF",{"$f":"+'Incoming Remittances (Value)'!$C$5","v":"20240731"},{"$f":"+'COVER SHEET'!$D$12","v":0},11520,{"$f":"'COVER SHEET'!$D$16&IF(MID('COVER SHEET'!$I$18,6,10)=\"december\",\"1231\",IF(MID('COVER SHEET'!$I$18,6,10)=\"june\",\"0630\"))","v":"20241231"},{"$f":"+'Incoming Remittances (Value)'!C51","v":0}]
["CMREM_11520","TD",{"$f":"+'Incoming Remittances (Value)'!$C$5","v":"20240731"},{"$f":"+'COVER SHEET'!$D$12","v":0},11520,{"$f":"'COVER SHEET'!$D$16&IF(MID('COVER SHEET'!$I$18,6,10)=\"december\",\"1231\",IF(MID('COVER SHEET'!$I$18,6,10)=\"june\",\"0630\"))","v":"20241231"},{"$f":"+'Incoming Remittances (Value)'!C52","v":0}]
["CMREM_11520","CL",{"$f":"+'Incoming Remittances (Value)'!$C$5","v":"20240731"},{"$f":"+'COVER SHEET'!$D$12","v":0},11520,{"$f":"'COVER SHEET'!$D$16&IF(MID('COVER SHEET'!$I$18,6,10)=\"december\",\"1231\",IF(MID('COVER SHEET'!$I$18,6,10)=\"june\",\"0630\"))","v":"20241231"},{"$f":"+'Incoming Remittances (Value)'!C53","v":0}]
["CMREM_11520","CN",{"$f":"+'Incoming Remittances (Value)'!$C$5","v":"20240731"},{"$f":"+'COVER SHEET'!$D$12","v":0},11520,{"$f":"'COVER SHEET'!$D$16&IF(MID('COVER SHEET'!$I$18,6,10)=\"december\",\"1231\",IF(MID('COVER SHEET'!$I$18,6,10)=\"june\",\"0630\"))","v":"20241231"},{"$f":"+'Incoming Remittances (Value)'!C54","v":0}]
["CMREM_11520","CX",{"$f":"+'Incoming Remittances (Value)'!$C$5","v":"20240731"},{"$f":"+'COVER SHEET'!$D$12","v":0},11520,{"$f":"'COVER SHEET'!$D$16&IF(MID('COVER SHEET'!$I$18,6,10)=\"december\",\"1231\",IF(MID('COVER SHEET'!$I$18,6,10)=\"june\",\"0630\"))","v":"20241231"},{"$f":"+'Incoming Remittances (Value)'!C55","v":0}]
["CMREM_11520","CC",{"$f":"+'Incoming Remittances (Value)'!$C$5","v":"20240731"},{"$f":"+'COVER SHEET'!$D$12","v":0},11520,{"$f":"'COVER SHEET'!$D$16&IF(MID('COVER SHEET'!$I$18,6,10)=\"december\",\"1231\",IF(MID('COVER SHEET'!$I$18,6,10)=\"june\",\"0630\"))","v":"20241231"},{"$f":"+'Incoming Remittances (Value)'!C56","v":0}]
["CMREM_11520","CO",{"$f":"+'Incoming Remittances (Value)'!$C$5","v":"20240731"},{"$f":"+'COVER SHEET'!$D$12","v":0},11520,{"$f":"'COVER SHEET'!$D$16&IF(MID('COVER SHEET'!$I$18,6,10)=\"december\",\"1231\",IF(MID('COVER SHEET'!$I$18,6,10)=\"june\",\"0630\"))","v":"20241231"},{"$f":"+'Incoming Remittances (Value)'!C57","v":0}]
["CMREM_11520","KM",{"$f":"+'Incoming Remittances (Value)'!$C$5","v":"20240731"},{"$f":"+'COVER SHEET'!$D$12","v":0},11520,{"$f":"'COVER SHEET'!$D$16&IF(MID('COVER SHEET'!$I$18,6,10)=\"december\",\"1231\",IF(MID('COVER SHEET'!$I$18,6,10)=\"june\",\"0630\"))","v":"20241231"},{"$f":"+'Incoming Remittances (Value)'!C58","v":0}]
["CMREM_11520","CG",{"$f":"+'Incoming Remittances (Value)'!$C$5","v":"20240731"},{"$f":"+'COVER SHEET'!$D$12","v":0},11520,{"$f":"'COVER SHEET'!$D$16&IF(MID('COVER SHEET'!$I$18,6,10)=\"december\",\"1231\",IF(MID('COVER SHEET'!$I$18,6,10)=\"june\",\"0630\"))","v":"20241231"},{"$f":"+'Incoming Remittances (Value)'!C59","v":0}]
["CMREM_11520","CD",{"$f":"+'Incoming Remittances (Value)'!$C$5","v":"20240731"},{"$f":"+'COVER SHEET'!$D$12","v":0},11520,{"$f":"'COVER SHEET'!$D$16&IF(MID('COVER SHEET'!$I$18,6,10)=\"december\",\"1231\",IF(MID('COVER SHEET'!$I$18,6,10)=\"june\",\"0630\"))","v":"20241231"},{"$f":"+'Incoming Remittances (Value)'!C60","v":0}]
["CMREM_11520","CK",{"$f":"+'Incoming Remittances (Value)'!$C$5","v":"20240731"},{"$f":"+'COVER SHEET'!$D$12","v":0},11520,{"$f":"'COVER SHEET'!$D$16&IF(MID('COVER SHEET'!$I$18,6,10)=\"december\",\"1231\",IF(MID('COVER SHEET'!$I$18,6,10)=\"june\",\"0630\"))","v":"20241231"},{"$f":"+'Incoming Remittances (Value)'!C61","v":0}]
["CMREM_11520","CR",{"$f":"+'Incoming Remittances (Value)'!$C$5","v":"20240731"},{"$f":"+'COVER SHEET'!$D$12","v":0},11520,{"$f":"'COVER SHEET'!$D$16&IF(MID('COVER SHEET'!$I$18,6,10)=\"december\",\"1231\",IF(MID('COVER SHEET'!$I$18,6,10)=\"june\",\"0630\"))","v":"20241231"},{"$f":"+'Incoming Remittances (Value)'!C62","v":0}]
["CMREM_11520","HR",{"$f":"+'Incoming Remittances (Value)'!$C$5","v":"20240731"},{"$f":"+'COVER SHEET'!$D$12","v":0},11520,{"$f":"'COVER SHEET'!$D$16&IF(MID('COVER SHEET'!$I$18,6,10)=\"december\",\"1231\",IF(MID('COVER SHEET'!$I$18,6,10)=\"june\",\"0630\"))","v":"20241231"},{"$f":"+'Incoming Remittances (Value)'!C63","v":0}]
["CMREM_11520","CU",{"$f":"+'Incoming Remittances (Value)'!$C$5","v":"20240731"},{"$f":"+'COVER SHEET'!$D$12","v":0},11520,{"$f":"'COVER SHEET'!$D$16&IF(MID('COVER SHEET'!$I$18,6,10)=\"december\",\"1231\",IF(MID('COVER SHEET'!$I$18,6,10)=\"june\",\"0630\"))","v":"20241231"},{"$f":"+'Incoming Remittances (Value)'!C64","v":0}]
["CMREM_11520","CW",{"$f":"+'Incoming Remittances (Value)'!$C$5","v":"20240731"},{"$f":"+'COVER SHEET'!$D$12","v":0},11520,{"$f":"'COVER SHEET'!$D$16&IF(MID('COVER SHEET'!$I$18,6,10)=\"december\",\"1231\",IF(MID('COVER SHEET'!$I$18,6,10)=\"june\",\"0630\"))","v":"20241231"},{"$f":"+'Incoming Remittances (Value)'!C65","v":0}]
["CMREM_11520","CY",{"$f":"+'Incoming Remittances (Value)'!$C$5","v":"20240731"},{"$f":"+'COVER SHEET'!$D$12","v":0},11520,{"$f":"'COVER SHEET'!$D$16&IF(MID('COVER SHEET'!$I$18,6,10)=\"december\",\"1231\",IF(MID('COVER SHEET'!$I$18,6,10)=\"june\",\"0630\"))","v":"20241231"},{"$f":"+'Incoming Remittances (Value)'!C66","v":0}]
["CMREM_11520","CZ",{"$f":"+'Incoming Remittances (Value)'!$C$5","v":"20240731"},{"$f":"+'COVER SHEET'!$D$12","v":0},11520,{"$f":"'COVER SHEET'!$D$16&IF(MID('COVER SHEET'!$I$18,6,10)=\"december\",\"1231\",IF(MID('COVER SHEET'!$I$18,6,10)=\"june\",\"0630\"))","v":"20241231"},{"$f":"+'Incoming Remittances (Value)'!C67","v":0}]
["CMREM_11520","DK",{"$f":"+'Incoming Remittances (Value)'!$C$5","v":"20240731"},{"$f":"+'COVER SHEET'!$D$12","v":0},11520,{"$f":"'COVER SHEET'!$D$16&IF(MID('COVER SHEET'!$I$18,6,10)=\"december\",\"1231\",IF(MID('COVER SHEET'!$I$18,6,10)=\"june\",\"0630\"))","v":"20241231"},{"$f":"+'Incoming Remittances (Value)'!C68","v":0}]
["CMREM_11520","DJ",{"$f":"+'Incoming Remittances (Value)'!$C$5","v":"20240731"},{"$f":"+'COVER SHEET'!$D$12","v":0},11520,{"$f":"'COVER SHEET'!$D$16&IF(MID('COVER SHEET'!$I$18,6,10)=\"december\",\"1231\",IF(MID('COVER SHEET'!$I$18,6,10)=\"june\",\"0630\"))","v":"20241231"},{"$f":"+'Incoming Remittances (Value)'!C69","v":0}]
["CMREM_11520","DM",{"$f":"+'Incoming Remittances (Value)'!$C$5","v":"20240731"},{"$f":"+'COVER SHEET'!$D$12","v":0},11520,{"$f":"'COVER SHEET'!$D$16&IF(MID('COVER SHEET'!$I$18,6,10)=\"december\",\"1231\",IF(MID('COVER SHEET'!$I$18,6,10)=\"june\",\"0630\"))","v":"20241231"},{"$f":"+'Incoming Remittances (Value)'!C70","v":0}]
["CMREM_11520","DO",{"$f":"+'Incoming Remittances (Value)'!$C$5","v":"20240731"},{"$f":"+'COVER SHEET'!$D$12","v":0},11520,{"$f":"'COVER SHEET'!$D$16&IF(MID('COVER SHEET'!$I$18,6,10)=\"december\",\"1231\",IF(MID('COVER SHEET'!$I$18,6,10)=\"june\",\"0630\"))","v":"20241231"},{"$f":"+'Incoming Remittances (Value)'!C71","v":0}]
["CMREM_11520","TL",{"$f":"+'Incoming Remittances (Value)'!$C$5","v":"20240731"},{"$f":"+'COVER SHEET'!$D$12","v":0},11520,{"$f":"'COVER SHEET'!$D$16&IF(MID('COVER SHEET'!$I$18,6,10)=\"december\",\"1231\",IF(MID('COVER SHEET'!$I$18,6,10)=\"june\",\"0630\"))","v":"20241231"},{"$f":"+'Incoming Remittances (Value)'!C72","v":0}]
["CMREM_11520","EC",{"$f":"+'Incoming Remittances (Value)'!$C$5","v":"20240731"},{"$f":"+'COVER SHEET'!$D$12","v":0},11520,{"$f":"'COVER SHEET'!$D$16&IF(MID('COVER SHEET'!$I$18,6,10)=\"december\",\"1231\",IF(MID('COVER SHEET'!$I$18,6,10)=\"june\",\"0630\"))","v":"20241231"},{"$f":"+'Incoming Remittances (Value)'!C73","v":0}]
["CMREM_11520","EG",{"$f":"+'Incoming Remittances (Value)'!$C$5","v":"20240731"},{"$f":"+'COVER SHEET'!$D$12","v":0},11520,{"$f":"'COVER SHEET'!$D$16&IF(MID('COVER SHEET'!$I$18,6,10)=\"december\",\"1231\",IF(MID('COVER SHEET'!$I$18,6,10)=\"june\",\"0630\"))","v":"20241231"},{"$f":"+'Incoming Remittances (Value)'!C74","v":0}]
["CMREM_11520","SV",{"$f":"+'Incoming Remittances (Value)'!$C$5","v":"20240731"},{"$f":"+'COVER SHEET'!$D$12","v":0},11520,{"$f":"'COVER SHEET'!$D$16&IF(MID('COVER SHEET'!$I$18,6,10)=\"december\",\"1231\",IF(MID('COVER SHEET'!$I$18,6,10)=\"june\",\"0630\"))","v":"20241231"},{"$f":"+'Incoming Remittances (Value)'!C75","v":0}]
["CMREM_11520","GQ",{"$f":"+'Incoming Remittances (Value)'!$C$5","v":"20240731"},{"$f":"+'COVER SHEET'!$D$12","v":0},11520,{"$f":"'COVER SHEET'!$D$16&IF(MID('COVER SHEET'!$I$18,6,10)=\"december\",\"1231\",IF(MID('COVER SHEET'!$I$18,6,10)=\"june\",\"0630\"))","v":"20241231"},{"$f":"+'Incoming Remittances (Value)'!C76","v":0}]
["CMREM_11520","ER",{"$f":"+'Incoming Remittances (Value)'!$C$5","v":"20240731"},{"$f":"+'COVER SHEET'!$D$12","v":0},11520,{"$f":"'COVER SHEET'!$D$16&IF(MID('COVER SHEET'!$I$18,6,10)=\"december\",\"1231\",IF(MID('COVER SHEET'!$I$18,6,10)=\"june\",\"0630\"))","v":"20241231"},{"$f":"+'Incoming Remittances (Value)'!C77","v":0}]
["CMREM_11520","EE",{"$f":"+'Incoming Remittances (Value)'!$C$5","v":"20240731"},{"$f":"+'COVER SHEET'!$D$12","v":0},11520,{"$f":"'COVER SHEET'!$D$16&IF(MID('COVER SHEET'!$I$18,6,10)=\"december\",\"1231\",IF(MID('COVER SHEET'!$I$18,6,10)=\"june\",\"0630\"))","v":"20241231"},{"$f":"+'Incoming Remittances (Value)'!C78","v":0}]
["CMREM_11520","ET",{"$f":"+'Incoming Remittances (Value)'!$C$5","v":"20240731"},{"$f":"+'COVER SHEET'!$D$12","v":0},11520,{"$f":"'COVER SHEET'!$D$16&IF(MID('COVER SHEET'!$I$18,6,10)=\"december\",\"1231\",IF(MID('COVER SHEET'!$I$18,6,10)=\"june\",\"0630\"))","v":"20241231"},{"$f":"+'Incoming Remittances (Value)'!C79","v":0}]
["CMREM_11520","FK",{"$f":"+'Incoming Remittances (Value)'!$C$5","v":"20240731"},{"$f":"+'COVER SHEET'!$D$12","v":0},11520,{"$f":"'COVER SHEET'!$D$16&IF(MID('COVER SHEET'!$I$18,6,10)=\"december\",\"1231\",IF(MID('COVER SHEET'!$I$18,6,10)=\"june\",\"0630\"))","v":"20241231"},{"$f":"+'Incoming Remittances (Value)'!C80","v":0}]
["CMREM_11520","FO",{"$f":"+'Incoming Remittances (Value)'!$C$5","v":"20240731"},{"$f":"+'COVER SHEET'!$D$12","v":0},11520,{"$f":"'COVER SHEET'!$D$16&IF(MID('COVER SHEET'!$I$18,6,10)=\"december\",\"1231\",IF(MID('COVER SHEET'!$I$18,6,10)=\"june\",\"0630\"))","v":"20241231"},{"$f":"+'Incoming Remittances (Value)'!C81","v":0}]
["CMREM_11520","FJ",{"$f":"+'Incoming Remittances (Value)'!$C$5","v":"20240731"},{"$f":"+'COVER SHEET'!$D$12","v":0},11520,{"$f":"'COVER SHEET'!$D$16&IF(MID('COVER SHEET'!$I$18,6,10)=\"december\",\"1231\",IF(MID('COVER SHEET'!$I$18,6,10)=\"june\",\"0630\"))","v":"20241231"},{"$f":"+'Incoming Remittances (Value)'!C82","v":0}]
["CMREM_11520","FI",{"$f":"+'Incoming Remittances (Value)'!$C$5","v":"20240731"},{"$f":"+'COVER SHEET'!$D$12","v":0},11520,{"$f":"'COVER SHEET'!$D$16&IF(MID('COVER SHEET'!$I$18,6,10)=\"december\",\"1231\",IF(MID('COVER SHEET'!$I$18,6,10)=\"june\",\"0630\"))","v":"20241231"},{"$f":"+'Incoming Remittances (Value)'!C83","v":0}]
["CMREM_11520","FR",{"$f":"+'Incoming Remittances (Value)'!$C$5","v":"20240731"},{"$f":"+'COVER SHEET'!$D$12","v":0},11520,{"$f":"'COVER SHEET'!$D$16&IF(MID('COVER SHEET'!$I$18,6,10)=\"december\",\"1231\",IF(MID('COVER SHEET'!$I$18,6,10)=\"june\",\"0630\"))","v":"20241231"},{"$f":"+'Incoming Remittances (Value)'!C84","v":0}]
["CMREM_11520","PF",{"$f":"+'Incoming Remittances (Value)'!$C$5","v":"20240731"},{"$f":"+'COVER SHEET'!$D$12","v":0},11520,{"$f":"'COVER SHEET'!$D$16&IF(MID('COVER SHEET'!$I$18,6,10)=\"december\",\"1231\",IF(MID('COVER SHEET'!$I$18,6,10)=\"june\",\"0630\"))","v":"20241231"},{"$f":"+'Incoming Remittances (Value)'!C85","v":0}]
["CMREM_11520","TF",{"$f":"+'Incoming Remittances (Value)'!$C$5","v":"20240731"},{"$f":"+'COVER SHEET'!$D$12","v":0},11520,{"$f":"'COVER SHEET'!$D$16&IF(MID('COVER SHEET'!$I$18,6,10)=\"december\",\"1231\",IF(MID('COVER SHEET'!$I$18,6,10)=\"june\",\"0630\"))","v":"20241231"},{"$f":"+'Incoming Remittances (Value)'!C86","v":0}]
["CMREM_11520","GA",{"$f":"+'Incoming Remittances (Value)'!$C$5","v":"20240731"},{"$f":"+'COVER SHEET'!$D$12","v":0},11520,{"$f":"'COVER SHEET'!$D$16&IF(MID('COVER SHEET'!$I$18,6,10)=\"december\",\"1231\",IF(MID('COVER SHEET'!$I$18,6,10)=\"june\",\"0630\"))","v":"20241231"},{"$f":"+'Incoming Remittances (Value)'!C87","v":0}]
["CMREM_11520","GM",{"$f":"+'Incoming Remittances (Value)'!$C$5","v":"20240731"},{"$f":"+'COVER SHEET'!$D$12","v":0},11520,{"$f":"'COVER SHEET'!$D$16&IF(MID('COVER SHEET'!$I$18,6,10)=\"december\",\"1231\",IF(MID('COVER SHEET'!$I$18,6,10)=\"june\",\"0630\"))","v":"20241231"},{"$f":"+'Incoming Remittances (Value)'!C88","v":0}]
["CMREM_11520","GE",{"$f":"+'Incoming Remittances (Value)'!$C$5","v":"20240731"},{"$f":"+'COVER SHEET'!$D$12","v":0},11520,{"$f":"'COVER SHEET'!$D$16&IF(MID('COVER SHEET'!$I$18,6,10)=\"december\",\"1231\",IF(MID('COVER SHEET'!$I$18,6,10)=\"june\",\"0630\"))","v":"20241231"},{"$f":"+'Incoming Remittances (Value)'!C89","v":0}]
["CMREM_11520","DE",{"$f":"+'Incoming Remittances (Value)'!$C$5","v":"20240731"},{"$f":"+'COVER SHEET'!$D$12","v":0},11520,{"$f":"'COVER SHEET'!$D$16&IF(MID('COVER SHEET'!$I$18,6,10)=\"december\",\"1231\",IF(MID('COVER SHEET'!$I$18,6,10)=\"june\",\"0630\"))","v":"20241231"},{"$f":"+'Incoming Remittances (Value)'!C90","v":0}]
["CMREM_11520","GH",{"$f":"+'Incoming Remittances (Value)'!$C$5","v":"20240731"},{"$f":"+'COVER SHEET'!$D$12","v":0},11520,{"$f":"'COVER SHEET'!$D$16&IF(MID('COVER SHEET'!$I$18,6,10)=\"december\",\"1231\",IF(MID('COVER SHEET'!$I$18,6,10)=\"june\",\"0630\"))","v":"20241231"},{"$f":"+'Incoming Remittances (Value)'!C91","v":0}]
["CMREM_11520","GI",{"$f":"+'Incoming Remittances (Value)'!$C$5","v":"20240731"},{"$f":"+'COVER SHEET'!$D$12","v":0},11520,{"$f":"'COVER SHEET'!$D$16&IF(MID('COVER SHEET'!$I$18,6,10)=\"december\",\"1231\",IF(MID('COVER SHEET'!$I$18,6,10)=\"june\",\"0630\"))","v":"20241231"},{"$f":"+'Incoming Remittances (Value)'!C92","v":0}]
["CMREM_11520","GR",{"$f":"+'Incoming Remittances (Value)'!$C$5","v":"20240731"},{"$f":"+'COVER SHEET'!$D$12","v":0},11520,{"$f":"'COVER SHEET'!$D$16&IF(MID('COVER SHEET'!$I$18,6,10)=\"december\",\"1231\",IF(MID('COVER SHEET'!$I$18,6,10)=\"june\",\"0630\"))","v":"20241231"},{"$f":"+'Incoming Remittances (Value)'!C93","v":0}]
["CMREM_11520","GL",{"$f":"+'Incoming Remittances (Value)'!$C$5","v":"20240731"},{"$f":"+'COVER SHEET'!$D$12","v":0},11520,{"$f":"'COVER SHEET'!$D$16&IF(MID('COVER SHEET'!$I$18,6,10)=\"december\",\"1231\",IF(MID('COVER SHEET'!$I$18,6,10)=\"june\",\"0630\"))","v":"20241231"},{"$f":"+'Incoming Remittances (Value)'!C94","v":0}]
["CMREM_11520","GD",{"$f":"+'Incoming Remittances (Value)'!$C$5","v":"20240731"},{"$f":"+'COVER SHEET'!$D$12","v":0},11520,{"$f":"'COVER SHEET'!$D$16&IF(MID('COVER SHEET'!$I$18,6,10)=\"december\",\"1231\",IF(MID('COVER SHEET'!$I$18,6,10)=\"june\",\"0630\"))","v":"20241231"},{"$f":"+'Incoming Remittances (Value)'!C95","v":0}]
["CMREM_11520","GU",{"$f":"+'Incoming Remittances (Value)'!$C$5","v":"20240731"},{"$f":"+'COVER SHEET'!$D$12","v":0},11520,{"$f":"'COVER SHEET'!$D$16&IF(MID('COVER SHEET'!$I$18,6,10)=\"december\",\"1231\",IF(MID('COVER SHEET'!$I$18,6,10)=\"june\",\"0630\"))","v":"20241231"},{"$f":"+'Incoming Remittances (Value)'!C96","v":0}]
["CMREM_11520","GT",{"$f":"+'Incoming Remittances (Value)'!$C$5","v":"20240731"},{"$f":"+'COVER SHEET'!$D$12","v":0},11520,{"$f":"'COVER SHEET'!$D$16&IF(MID('COVER SHEET'!$I$18,6,10)=\"december\",\"1231\",IF(MID('COVER SHEET'!$I$18,6,10)=\"june\",\"0630\"))","v":"20241231"},{"$f":"+'Incoming Remittances (Value)'!C97","v":0}]
["CMREM_11520","GG",{"$f":"+'Incoming Remittances (Value)'!$C$5","v":"20240731"},{"$f":"+'COVER SHEET'!$D$12","v":0},11520,{"$f":"'COVER SHEET'!$D$16&IF(MID('COVER SHEET'!$I$18,6,10)=\"december\",\"1231\",IF(MID('COVER SHEET'!$I$18,6,10)=\"june\",\"0630\"))","v":"20241231"},{"$f":"+'Incoming Remittances (Value)'!C98","v":0}]
["CMREM_11520","GN",{"$f":"+'Incoming Remittances (Value)'!$C$5","v":"20240731"},{"$f":"+'COVER SHEET'!$D$12","v":0},11520,{"$f":"'COVER SHEET'!$D$16&IF(MID('COVER SHEET'!$I$18,6,10)=\"december\",\"1231\",IF(MID('COVER SHEET'!$I$18,6,10)=\"june\",\"0630\"))","v":"20241231"},{"$f":"+'Incoming Remittances (Value)'!C99","v":0}]
["CMREM_11520","GW",{"$f":"+'Incoming Remittances (Value)'!$C$5","v":"20240731"},{"$f":"+'COVER SHEET'!$D$12","v":0},11520,{"$f":"'COVER SHEET'!$D$16&IF(MID('COVER SHEET'!$I$18,6,10)=\"december\",\"1231\",IF(MID('COVER SHEET'!$I$18,6,10)=\"june\",\"0630\"))","v":"20241231"},{"$f":"+'Incoming Remittances (Value)'!C100","v":0}]
["CMREM_11520","GY",{"$f":"+'Incoming Remittances (Value)'!$C$5","v":"20240731"},{"$f":"+'COVER SHEET'!$D$12","v":0},11520,{"$f":"'COVER SHEET'!$D$16&IF(MID('COVER SHEET'!$I$18,6,10)=\"december\",\"1231\",IF(MID('COVER SHEET'!$I$18,6,10)=\"june\",\"0630\"))","v":"20241231"},{"$f":"+'Incoming Remittances (Value)'!C101","v":0}]
["CMREM_11520","HT",{"$f":"+'Incoming Remittances (Value)'!$C$5","v":"20240731"},{"$f":"+'COVER SHEET'!$D$12","v":0},11520,{"$f":"'COVER SHEET'!$D$16&IF(MID('COVER SHEET'!$I$18,6,10)=\"december\",\"1231\",IF(MID('COVER SHEET'!$I$18,6,10)=\"june\",\"0630\"))","v":"20241231"},{"$f":"+'Incoming Remittances (Value)'!C102","v":0}]
["CMREM_11520","HM",{"$f":"+'Incoming Remittances (Value)'!$C$5","v":"20240731"},{"$f":"+'COVER SHEET'!$D$12","v":0},11520,{"$f":"'COVER SHEET'!$D$16&IF(MID('COVER SHEET'!$I$18,6,10)=\"december\",\"1231\",IF(MID('COVER SHEET'!$I$18,6,10)=\"june\",\"0630\"))","v":"20241231"},{"$f":"+'Incoming Remittances (Value)'!C103","v":0}]
["CMREM_11520","VA",{"$f":"+'Incoming Remittances (Value)'!$C$5","v":"20240731"},{"$f":"+'COVER SHEET'!$D$12","v":0},11520,{"$f":"'COVER SHEET'!$D$16&IF(MID('COVER SHEET'!$I$18,6,10)=\"december\",\"1231\",IF(MID('COVER SHEET'!$I$18,6,10)=\"june\",\"0630\"))","v":"20241231"},{"$f":"+'Incoming Remittances (Value)'!C104","v":0}]
["CMREM_11520","HN",{"$f":"+'Incoming Remittances (Value)'!$C$5","v":"20240731"},{"$f":"+'COVER SHEET'!$D$12","v":0},11520,{"$f":"'COVER SHEET'!$D$16&IF(MID('COVER SHEET'!$I$18,6,10)=\"december\",\"1231\",IF(MID('COVER SHEET'!$I$18,6,10)=\"june\",\"0630\"))","v":"20241231"},{"$f":"+'Incoming Remittances (Value)'!C105","v":0}]
["CMREM_11520","HK",{"$f":"+'Incoming Remittances (Value)'!$C$5","v":"20240731"},{"$f":"+'COVER SHEET'!$D$12","v":0},11520,{"$f":"'COVER SHEET'!$D$16&IF(MID('COVER SHEET'!$I$18,6,10)=\"december\",\"1231\",IF(MID('COVER SHEET'!$I$18,6,10)=\"june\",\"0630\"))","v":"20241231"},{"$f":"+'Incoming Remittances (Value)'!C106","v":0}]
["CMREM_11520","HU",{"$f":"+'Incoming Remittances (Value)'!$C$5","v":"20240731"},{"$f":"+'COVER SHEET'!$D$12","v":0},11520,{"$f":"'COVER SHEET'!$D$16&IF(MID('COVER SHEET'!$I$18,6,10)=\"december\",\"1231\",IF(MID('COVER SHEET'!$I$18,6,10)=\"june\",\"0630\"))","v":"20241231"},{"$f":"+'Incoming Remittances (Value)'!C107","v":0}]
["CMREM_11520","IS",{"$f":"+'Incoming Remittances (Value)'!$C$5","v":"20240731"},{"$f":"+'COVER SHEET'!$D$12","v":0},11520,{"$f":"'COVER SHEET'!$D$16&IF(MID('COVER SHEET'!$I$18,6,10)=\"december\",\"1231\",IF(MID('COVER SHEET'!$I$18,6,10)=\"june\",\"0630\"))","v":"20241231"},{"$f":"+'Incoming Remittances (Value)'!C108","v":0}]
["CMREM_11520","IN",{"$f":"+'Incoming Remittances (Value)'!$C$5","v":"20240731"},{"$f":"+'COVER SHEET'!$D$12","v":0},11520,{"$f":"'COVER SHEET'!$D$16&IF(MID('COVER SHEET'!$I$18,6,10)=\"december\",\"1231\",IF(MID('COVER SHEET'!$I$18,6,10)=\"june\",\"0630\"))","v":"20241231"},{"$f":"+'Incoming Remittances (Value)'!C109","v":0}]
["CMREM_11520","ID",{"$f":"+'Incoming Remittances (Value)'!$C$5","v":"20240731"},{"$f":"+'COVER SHEET'!$D$12","v":0},11520,{"$f":"'COVER SHEET'!$D$16&IF(MID('COVER SHEET'!$I$18,6,10)=\"december\",\"1231\",IF(MID('COVER SHEET'!$I$18,6,10)=\"june\",\"0630\"))","v":"20241231"},{"$f":"+'Incoming Remittances (Value)'!C110","v":0}]
["CMREM_11520","IR",{"$f":"+'Incoming Remittances (Value)'!$C$5","v":"20240731"},{"$f":"+'COVER SHEET'!$D$12","v":0},11520,{"$f":"'COVER SHEET'!$D$16&IF(MID('COVER SHEET'!$I$18,6,10)=\"december\",\"1231\",IF(MID('COVER SHEET'!$I$18,6,10)=\"june\",\"0630\"))","v":"20241231"},{"$f":"+'Incoming Remittances (Value)'!C111","v":0}]
["CMREM_11520","IQ",{"$f":"+'Incoming Remittances (Value)'!$C$5","v":"20240731"},{"$f":"+'COVER SHEET'!$D$12","v":0},11520,{"$f":"'COVER SHEET'!$D$16&IF(MID('COVER SHEET'!$I$18,6,10)=\"december\",\"1231\",IF(MID('COVER SHEET'!$I$18,6,10)=\"june\",\"0630\"))","v":"20241231"},{"$f":"+'Incoming Remittances (Value)'!C112","v":0}]
["CMREM_11520","IE",{"$f":"+'Incoming Remittances (Value)'!$C$5","v":"20240731"},{"$f":"+'COVER SHEET'!$D$12","v":0},11520,{"$f":"'COVER SHEET'!$D$16&IF(MID('COVER SHEET'!$I$18,6,10)=\"december\",\"1231\",IF(MID('COVER SHEET'!$I$18,6,10)=\"june\",\"0630\"))","v":"20241231"},{"$f":"+'Incoming Remittances (Value)'!C113","v":0}]
["CMREM_11520","IM",{"$f":"+'Incoming Remittances (Value)'!$C$5","v":"20240731"},{"$f":"+'COVER SHEET'!$D$12","v":0},11520,{"$f":"'COVER SHEET'!$D$16&IF(MID('COVER SHEET'!$I$18,6,10)=\"december\",\"1231\",IF(MID('COVER SHEET'!$I$18,6,10)=\"june\",\"0630\"))","v":"20241231"},{"$f":"+'Incoming Remittances (Value)'!C114","v":0}]
["CMREM_11520","IL",{"$f":"+'Incoming Remittances (Value)'!$C$5","v":"20240731"},{"$f":"+'COVER SHEET'!$D$12","v":0},11520,{"$f":"'COVER SHEET'!$D$16&IF(MID('COVER SHEET'!$I$18,6,10)=\"december\",\"1231\",IF(MID('COVER SHEET'!$I$18,6,10)=\"june\",\"0630\"))","v":"20241231"},{"$f":"+'Incoming Remittances (Value)'!C115","v":0}]
["CMREM_11520","IT",{"$f":"+'Incoming Remittances (Value)'!$C$5","v":"20240731"},{"$f":"+'COVER SHEET'!$D$12","v":0},11520,{"$f":"'COVER SHEET'!$D$16&IF(MID('COVER SHEET'!$I$18,6,10)=\"december\",\"1231\",IF(MID('COVER SHEET'!$I$18,6,10)=\"june\",\"0630\"))","v":"20241231"},{"$f":"+'Incoming Remittances (Value)'!C116","v":0}]
["CMREM_11520","CI",{"$f":"+'Incoming Remittances (Value)'!$C$5","v":"20240731"},{"$f":"+'COVER SHEET'!$D$12","v":0},11520,{"$f":"'COVER SHEET'!$D$16&IF(MID('COVER SHEET'!$I$18,6,10)=\"december\",\"1231\",IF(MID('COVER SHEET'!$I$18,6,10)=\"june\",\"0630\"))","v":"20241231"},{"$f":"+'Incoming Remittances (Value)'!C117","v":0}]
["CMREM_11520","JM",{"$f":"+'Incoming Remittances (Value)'!$C$5","v":"20240731"},{"$f":"+'COVER SHEET'!$D$12","v":0},11520,{"$f":"'COVER SHEET'!$D$16&IF(MID('COVER SHEET'!$I$18,6,10)=\"december\",\"1231\",IF(MID('COVER SHEET'!$I$18,6,10)=\"june\",\"0630\"))","v":"20241231"},{"$f":"+'Incoming Remittances (Value)'!C118","v":0}]
["CMREM_11520","JP",{"$f":"+'Incoming Remittances (Value)'!$C$5","v":"20240731"},{"$f":"+'COVER SHEET'!$D$12","v":0},11520,{"$f":"'COVER SHEET'!$D$16&IF(MID('COVER SHEET'!$I$18,6,10)=\"december\",\"1231\",IF(MID('COVER SHEET'!$I$18,6,10)=\"june\",\"0630\"))","v":"20241231"},{"$f":"+'Incoming Remittances (Value)'!C119","v":0}]
["CMREM_11520","JE",{"$f":"+'Incoming Remittances (Value)'!$C$5","v":"20240731"},{"$f":"+'COVER SHEET'!$D$12","v":0},11520,{"$f":"'COVER SHEET'!$D$16&IF(MID('COVER SHEET'!$I$18,6,10)=\"december\",\"1231\",IF(MID('COVER SHEET'!$I$18,6,10)=\"june\",\"0630\"))","v":"20241231"},{"$f":"+'Incoming Remittances (Value)'!C120","v":0}]
["CMREM_11520","JO",{"$f":"+'Incoming Remittances (Value)'!$C$5","v":"20240731"},{"$f":"+'COVER SHEET'!$D$12","v":0},11520,{"$f":"'COVER SHEET'!$D$16&IF(MID('COVER SHEET'!$I$18,6,10)=\"december\",\"1231\",IF(MID('COVER SHEET'!$I$18,6,10)=\"june\",\"0630\"))","v":"20241231"},{"$f":"+'Incoming Remittances (Value)'!C121","v":0}]
["CMREM_11520","KZ",{"$f":"+'Incoming Remittances (Value)'!$C$5","v":"20240731"},{"$f":"+'COVER SHEET'!$D$12","v":0},11520,{"$f":"'COVER SHEET'!$D$16&IF(MID('COVER SHEET'!$I$18,6,10)=\"december\",\"1231\",IF(MID('COVER SHEET'!$I$18,6,10)=\"june\",\"0630\"))","v":"20241231"},{"$f":"+'Incoming Remittances (Value)'!C122","v":0}]
["CMREM_11520","KE",{"$f":"+'Incoming Remittances (Value)'!$C$5","v":"20240731"},{"$f":"+'COVER SHEET'!$D$12","v":0},11520,{"$f":"'COVER SHEET'!$D$16&IF(MID('COVER SHEET'!$I$18,6,10)=\"december\",\"1231\",IF(MID('COVER SHEET'!$I$18,6,10)=\"june\",\"0630\"))","v":"20241231"},{"$f":"+'Incoming Remittances (Value)'!C123","v":0}]
["CMREM_11520","KI",{"$f":"+'Incoming Remittances (Value)'!$C$5","v":"20240731"},{"$f":"+'COVER SHEET'!$D$12","v":0},11520,{"$f":"'COVER SHEET'!$D$16&IF(MID('COVER SHEET'!$I$18,6,10)=\"december\",\"1231\",IF(MID('COVER SHEET'!$I$18,6,10)=\"june\",\"0630\"))","v":"20241231"},{"$f":"+'Incoming Remittances (Value)'!C124","v":0}]
["CMREM_11520","KP",{"$f":"+'Incoming Remittances (Value)'!$C$5","v":"20240731"},{"$f":"+'COVER SHEET'!$D$12","v":0},11520,{"$f":"'COVER SHEET'!$D$16&IF(MID('COVER SHEET'!$I$18,6,10)=\"december\",\"1231\",IF(MID('COVER SHEET'!$I$18,6,10)=\"june\",\"0630\"))","v":"20241231"},{"$f":"+'Incoming Remittances (Value)'!C125","v":0}]
["CMREM_11520","KR",{"$f":"+'Incoming Remittances (Value)'!$C$5","v":"20240731"},{"$f":"+'COVER SHEET'!$D$12","v":0},11520,{"$f":"'COVER SHEET'!$D$16&IF(MID('COVER SHEET'!$I$18,6,10)=\"december\",\"1231\",IF(MID('COVER SHEET'!$I$18,6,10)=\"june\",\"0630\"))","v":"20241231"},{"$f":"+'Incoming Remittances (Value)'!C126","v":0}]
["CMREM_11520","XK",{"$f":"+'Incoming Remittances (Value)'!$C$5","v":"20240731"},{"$f":"+'COVER SHEET'!$D$12","v":0},11520,{"$f":"'COVER SHEET'!$D$16&IF(MID('COVER SHEET'!$I$18,6,10)=\"december\",\"1231\",IF(MID('COVER SHEET'!$I$18,6,10)=\"june\",\"0630\"))","v":"20241231"},{"$f":"+'Incoming Remittances (Value)'!C127","v":0}]
["CMREM_11520","KW",{"$f":"+'Incoming Remittances (Value)'!$C$5","v":"20240731"},{"$f":"+'COVER SHEET'!$D$12","v":0},11520,{"$f":"'COVER SHEET'!$D$16&IF(MID('COVER SHEET'!$I$18,6,10)=\"december\",\"1231\",IF(MID('COVER SHEET'!$I$18,6,10)=\"june\",\"0630\"))","v":"20241231"},{"$f":"+'Incoming Remittances (Value)'!C128","v":0}]
["CMREM_11520","KG",{"$f":"+'Incoming Remittances (Value)'!$C$5","v":"20240731"},{"$f":"+'COVER SHEET'!$D$12","v":0},11520,{"$f":"'COVER SHEET'!$D$16&IF(MID('COVER SHEET'!$I$18,6,10)=\"december\",\"1231\",IF(MID('COVER SHEET'!$I$18,6,10)=\"june\",\"0630\"))","v":"20241231"},{"$f":"+'Incoming Remittances (Value)'!C129","v":0}]
["CMREM_11520","LA",{"$f":"+'Incoming Remittances (Value)'!$C$5","v":"20240731"},{"$f":"+'COVER SHEET'!$D$12","v":0},11520,{"$f":"'COVER SHEET'!$D$16&IF(MID('COVER SHEET'!$I$18,6,10)=\"december\",\"1231\",IF(MID('COVER SHEET'!$I$18,6,10)=\"june\",\"0630\"))","v":"20241231"},{"$f":"+'Incoming Remittances (Value)'!C130","v":0}]
["CMREM_11520","LV",{"$f":"+'Incoming Remittances (Value)'!$C$5","v":"20240731"},{"$f":"+'COVER SHEET'!$D$12","v":0},11520,{"$f":"'COVER SHEET'!$D$16&IF(MID('COVER SHEET'!$I$18,6,10)=\"december\",\"1231\",IF(MID('COVER SHEET'!$I$18,6,10)=\"june\",\"0630\"))","v":"20241231"},{"$f":"+'Incoming Remittances (Value)'!C131","v":0}]
["CMREM_11520","LB",{"$f":"+'Incoming Remittances (Value)'!$C$5","v":"20240731"},{"$f":"+'COVER SHEET'!$D$12","v":0},11520,{"$f":"'COVER SHEET'!$D$16&IF(MID('COVER SHEET'!$I$18,6,10)=\"december\",\"1231\",IF(MID('COVER SHEET'!$I$18,6,10)=\"june\",\"0630\"))","v":"20241231"},{"$f":"+'Incoming Remittances (Value)'!C132","v":0}]
["CMREM_11520","LS",{"$f":"+'Incoming Remittances (Value)'!$C$5","v":"20240731"},{"$f":"+'COVER SHEET'!$D$12","v":0},11520,{"$f":"'COVER SHEET'!$D$16&IF(MID('COVER SHEET'!$I$18,6,10)=\"december\",\"1231\",IF(MID('COVER SHEET'!$I$18,6,10)=\"june\",\"0630\"))","v":"20241231"},{"$f":"+'Incoming Remittances (Value)'!C133","v":0}]
["CMREM_11520","LR",{"$f":"+'Incoming Remittances (Value)'!$C$5","v":"20240731"},{"$f":"+'COVER SHEET'!$D$12","v":0},11520,{"$f":"'COVER SHEET'!$D$16&IF(MID('COVER SHEET'!$I$18,6,10)=\"december\",\"1231\",IF(MID('COVER SHEET'!$I$18,6,10)=\"june\",\"0630\"))","v":"20241231"},{"$f":"+'Incoming Remittances (Value)'!C134","v":0}]
["CMREM_11520","LY",{"$f":"+'Incoming Remittances (Value)'!$C$5","v":"20240731"},{"$f":"+'COVER SHEET'!$D$12","v":0},11520,{"$f":"'COVER SHEET'!$D$16&IF(MID('COVER SHEET'!$I$18,6,10)=\"december\",\"1231\",IF(MID('COVER SHEET'!$I$18,6,10)=\"june\",\"0630\"))","v":"20241231"},{"$f":"+'Incoming Remittances (Value)'!C135","v":0}]
["CMREM_11520","LI",{"$f":"+'Incoming Remittances (Value)'!$C$5","v":"20240731"},{"$f":"+'COVER SHEET'!$D$12","v":0},11520,{"$f":"'COVER SHEET'!$D$16&IF(MID('COVER SHEET'!$I$18,6,10)=\"december\",\"1231\",IF(MID('COVER SHEET'!$I$18,6,10)=\"june\",\"0630\"))","v":"20241231"},{"$f":"+'Incoming Remittances (Value)'!C136","v":0}]
["CMREM_11520","LT",{"$f":"+'Incoming Remittances (Value)'!$C$5","v":"20240731"},{"$f":"+'COVER SHEET'!$D$12","v":0},11520,{"$f":"'COVER SHEET'!$D$16&IF(MID('COVER SHEET'!$I$18,6,10)=\"december\",\"1231\",IF(MID('COVER SHEET'!$I$18,6,10)=\"june\",\"0630\"))","v":"20241231"},{"$f":"+'Incoming Remittances (Value)'!C137","v":0}]
["CMREM_11520","LU",{"$f":"+'Incoming Remittances (Value)'!$C$5","v":"20240731"},{"$f":"+'COVER SHEET'!$D$12","v":0},11520,{"$f":"'COVER SHEET'!$D$16&IF(MID('COVER SHEET'!$I$18,6,10)=\"december\",\"1231\",IF(MID('COVER SHEET'!$I$18,6,10)=\"june\",\"0630\"))","v":"20241231"},{"$f":"+'Incoming Remittances (Value)'!C138","v":0}]
["CMREM_11520","MO",{"$f":"+'Incoming Remittances (Value)'!$C$5","v":"20240731"},{"$f":"+'COVER SHEET'!$D$12","v":0},11520,{"$f":"'COVER SHEET'!$D$16&IF(MID('COVER SHEET'!$I$18,6,10)=\"december\",\"1231\",IF(MID('COVER SHEET'!$I$18,6,10)=\"june\",\"0630\"))","v":"20241231"},{"$f":"+'Incoming Remittances (Value)'!C139","v":0}]
["CMREM_11520","MK",{"$f":"+'Incoming Remittances (Value)'!$C$5","v":"20240731"},{"$f":"+'COVER SHEET'!$D$12","v":0},11520,{"$f":"'COVER SHEET'!$D$16&IF(MID('COVER SHEET'!$I$18,6,10)=\"december\",\"1231\",IF(MID('COVER SHEET'!$I$18,6,10)=\"june\",\"0630\"))","v":"20241231"},{"$f":"+'Incoming Remittances (Value)'!C140","v":0}]
["CMREM_11520","MG",{"$f":"+'Incoming Remittances (Value)'!$C$5","v":"20240731"},{"$f":"+'COVER SHEET'!$D$12","v":0},11520,{"$f":"'COVER SHEET'!$D$16&IF(MID('COVER SHEET'!$I$18,6,10)=\"december\",\"1231\",IF(MID('COVER SHEET'!$I$18,6,10)=\"june\",\"0630\"))","v":"20241231"},{"$f":"+'Incoming Remittances (Value)'!C141","v":0}]
["CMREM_11520","MW",{"$f":"+'Incoming Remittances (Value)'!$C$5","v":"20240731"},{"$f":"+'COVER SHEET'!$D$12","v":0},11520,{"$f":"'COVER SHEET'!$D$16&IF(MID('COVER SHEET'!$I$18,6,10)=\"december\",\"1231\",IF(MID('COVER SHEET'!$I$18,6,10)=\"june\",\"0630\"))","v":"20241231"},{"$f":"+'Incoming Remittances (Value)'!C142","v":0}]
["CMREM_11520","MY",{"$f":"+'Incoming Remittances (Value)'!$C$5","v":"20240731"},{"$f":"+'COVER SHEET'!$D$12","v":0},11520,{"$f":"'COVER SHEET'!$D$16&IF(MID('COVER SHEET'!$I$18,6,10)=\"december\",\"1231\",IF(MID('COVER SHEET'!$I$18,6,10)=\"june\",\"0630\"))","v":"20241231"},{"$f":"+'Incoming Remittances (Value)'!C143","v":0}]
["CMREM_11520","MV",{"$f":"+'Incoming Remittances (Value)'!$C$5","v":"20240731"},{"$f":"+'COVER SHEET'!$D$12","v":0},11520,{"$f":"'COVER SHEET'!$D$16&IF(MID('COVER SHEET'!$I$18,6,10)=\"december\",\"1231\",IF(MID('COVER SHEET'!$I$18,6,10)=\"june\",\"0630\"))","v":"20241231"},{"$f":"+'Incoming Remittances (Value)'!C144","v":0}]
["CMREM_11520","ML",{"$f":"+'Incoming Remittances (Value)'!$C$5","v":"20240731"},{"$f":"+'COVER SHEET'!$D$12","v":0},11520,{"$f":"'COVER SHEET'!$D$16&IF(MID('COVER SHEET'!$I$18,6,10)=\"december\",\"1231\",IF(MID('COVER SHEET'!$I$18,6,10)=\"june\",\"0630\"))","v":"20241231"},{"$f":"+'Incoming Remittances (Value)'!C145","v":0}]
["CMREM_11520","MH",{"$f":"+'Incoming Remittances (Value)'!$C$5","v":"20240731"},{"$f":"+'COVER SHEET'!$D$12","v":0},11520,{"$f":"'COVER SHEET'!$D$16&IF(MID('COVER SHEET'!$I$18,6,10)=\"december\",\"1231\",IF(MID('COVER SHEET'!$I$18,6,10)=\"june\",\"0630\"))","v":"20241231"},{"$f":"+'Incoming Remittances (Value)'!C146","v":0}]
["CMREM_11520","MR",{"$f":"+'Incoming Remittances (Value)'!$C$5","v":"20240731"},{"$f":"+'COVER SHEET'!$D$12","v":0},11520,{"$f":"'COVER SHEET'!$D$16&IF(MID('COVER SHEET'!$I$18,6,10)=\"december\",\"1231\",IF(MID('COVER SHEET'!$I$18,6,10)=\"june\",\"0630\"))","v":"20241231"},{"$f":"+'Incoming Remittances (Value)'!C147","v":0}]
["CMREM_11520","MU",{"$f":"+'Incoming Remittances (Value)'!$C$5","v":"20240731"},{"$f":"+'COVER SHEET'!$D$12","v":0},11520,{"$f":"'COVER SHEET'!$D$16&IF(MID('COVER SHEET'!$I$18,6,10)=\"december\",\"1231\",IF(MID('COVER SHEET'!$I$18,6,10)=\"june\",\"0630\"))","v":"20241231"},{"$f":"+'Incoming Remittances (Value)'!C148","v":0}]
["CMREM_11520","MX",{"$f":"+'Incoming Remittances (Value)'!$C$5","v":"20240731"},{"$f":"+'COVER SHEET'!$D$12","v":0},11520,{"$f":"'COVER SHEET'!$D$16&IF(MID('COVER SHEET'!$I$18,6,10)=\"december\",\"1231\",IF(MID('COVER SHEET'!$I$18,6,10)=\"june\",\"0630\"))","v":"20241231"},{"$f":"+'Incoming Remittances (Value)'!C149","v":0}]
["CMREM_11520","FM",{"$f":"+'Incoming Remittances (Value)'!$C$5","v":"20240731"},{"$f":"+'COVER SHEET'!$D$12","v":0},11520,{"$f":"'COVER SHEET'!$D$16&IF(MID('COVER SHEET'!$I$18,6,10)=\"december\",\"1231\",IF(MID('COVER SHEET'!$I$18,6,10)=\"june\",\"0630\"))","v":"20241231"},{"$f":"+'Incoming Remittances (Value)'!C150","v":0}]
["CMREM_11520","MD",{"$f":"+'Incoming Remittances (Value)'!$C$5","v":"20240731"},{"$f":"+'COVER SHEET'!$D$12","v":0},11520,{"$f":"'COVER SHEET'!$D$16&IF(MID('COVER SHEET'!$I$18,6,10)=\"december\",\"1231\",IF(MID('COVER SHEET'!$I$18,6,10)=\"june\",\"0630\"))","v":"20241231"},{"$f":"+'Incoming Remittances (Value)'!C151","v":0}]
["CMREM_11520","MN",{"$f":"+'Incoming Remittances (Value)'!$C$5","v":"20240731"},{"$f":"+'COVER SHEET'!$D$12","v":0},11520,{"$f":"'COVER SHEET'!$D$16&IF(MID('COVER SHEET'!$I$18,6,10)=\"december\",\"1231\",IF(MID('COVER SHEET'!$I$18,6,10)=\"june\",\"0630\"))","v":"20241231"},{"$f":"+'Incoming Remittances (Value)'!C152","v":0}]
["CMREM_11520","ME",{"$f":"+'Incoming Remittances (Value)'!$C$5","v":"20240731"},{"$f":"+'COVER SHEET'!$D$12","v":0},11520,{"$f":"'COVER SHEET'!$D$16&IF(MID('COVER SHEET'!$I$18,6,10)=\"december\",\"1231\",IF(MID('COVER SHEET'!$I$18,6,10)=\"june\",\"0630\"))","v":"20241231"},{"$f":"+'Incoming Remittances (Value)'!C153","v":0}]
["CMREM_11520","MS",{"$f":"+'Incoming Remittances (Value)'!$C$5","v":"20240731"},{"$f":"+'COVER SHEET'!$D$12","v":0},11520,{"$f":"'COVER SHEET'!$D$16&IF(MID('COVER SHEET'!$I$18,6,10)=\"december\",\"1231\",IF(MID('COVER SHEET'!$I$18,6,10)=\"june\",\"0630\"))","v":"20241231"},{"$f":"+'Incoming Remittances (Value)'!C154","v":0}]
["CMREM_11520","MA",{"$f":"+'Incoming Remittances (Value)'!$C$5","v":"20240731"},{"$f":"+'COVER SHEET'!$D$12","v":0},11520,{"$f":"'COVER SHEET'!$D$16&IF(MID('COVER SHEET'!$I$18,6,10)=\"december\",\"1231\",IF(MID('COVER SHEET'!$I$18,6,10)=\"june\",\"0630\"))","v":"20241231"},{"$f":"+'Incoming Remittances (Value)'!C155","v":0}]
["CMREM_11520","MZ",{"$f":"+'Incoming Remittances (Value)'!$C$5","v":"20240731"},{"$f":"+'COVER SHEET'!$D$12","v":0},11520,{"$f":"'COVER SHEET'!$D$16&IF(MID('COVER SHEET'!$I$18,6,10)=\"december\",\"1231\",IF(MID('COVER SHEET'!$I$18,6,10)=\"june\",\"0630\"))","v":"20241231"},{"$f":"+'Incoming Remittances (Value)'!C156","v":0}]
["CMREM_11520","MM",{"$f":"+'Incoming Remittances (Value)'!$C$5","v":"20240731"},{"$f":"+'COVER SHEET'!$D$12","v":0},11520,{"$f":"'COVER SHEET'!$D$16&IF(MID('COVER SHEET'!$I$18,6,10)=\"december\",\"1231\",IF(MID('COVER SHEET'!$I$18,6,10)=\"june\",\"0630\"))","v":"20241231"},{"$f":"+'Incoming Remittances (Value)'!C157","v":0}]
["CMREM_11520","NA",{"$f":"+'Incoming Remittances (Value)'!$C$5","v":"20240731"},{"$f":"+'COVER SHEET'!$D$12","v":0},11520,{"$f":"'COVER SHEET'!$D$16&IF(MID('COVER SHEET'!$I$18,6,10)=\"december\",\"1231\",IF(MID('COVER SHEET'!$I$18,6,10)=\"june\",\"0630\"))","v":"20241231"},{"$f":"+'Incoming Remittances (Value)'!C158","v":0}]
["CMREM_11520","NR",{"$f":"+'Incoming Remittances (Value)'!$C$5","v":"20240731"},{"$f":"+'COVER SHEET'!$D$12","v":0},11520,{"$f":"'COVER SHEET'!$D$16&IF(MID('COVER SHEET'!$I$18,6,10)=\"december\",\"1231\",IF(MID('COVER SHEET'!$I$18,6,10)=\"june\",\"0630\"))","v":"20241231"},{"$f":"+'Incoming Remittances (Value)'!C159","v":0}]
["CMREM_11520","NP",{"$f":"+'Incoming Remittances (Value)'!$C$5","v":"20240731"},{"$f":"+'COVER SHEET'!$D$12","v":0},11520,{"$f":"'COVER SHEET'!$D$16&IF(MID('COVER SHEET'!$I$18,6,10)=\"december\",\"1231\",IF(MID('COVER SHEET'!$I$18,6,10)=\"june\",\"0630\"))","v":"20241231"},{"$f":"+'Incoming Remittances (Value)'!C160","v":0}]
["CMREM_11520","NL",{"$f":"+'Incoming Remittances (Value)'!$C$5","v":"20240731"},{"$f":"+'COVER SHEET'!$D$12","v":0},11520,{"$f":"'COVER SHEET'!$D$16&IF(MID('COVER SHEET'!$I$18,6,10)=\"december\",\"1231\",IF(MID('COVER SHEET'!$I$18,6,10)=\"june\",\"0630\"))","v":"20241231"},{"$f":"+'Incoming Remittances (Value)'!C161","v":0}]
["CMREM_11520","NC",{"$f":"+'Incoming Remittances (Value)'!$C$5","v":"20240731"},{"$f":"+'COVER SHEET'!$D$12","v":0},11520,{"$f":"'COVER SHEET'!$D$16&IF(MID('COVER SHEET'!$I$18,6,10)=\"december\",\"1231\",IF(MID('COVER SHEET'!$I$18,6,10)=\"june\",\"0630\"))","v":"20241231"},{"$f":"+'Incoming Remittances (Value)'!C162","v":0}]
["CMREM_11520","NZ",{"$f":"+'Incoming Remittances (Value)'!$C$5","v":"20240731"},{"$f":"+'COVER SHEET'!$D$12","v":0},11520,{"$f":"'COVER SHEET'!$D$16&IF(MID('COVER SHEET'!$I$18,6,10)=\"december\",\"1231\",IF(MID('COVER SHEET'!$I$18,6,10)=\"june\",\"0630\"))","v":"20241231"},{"$f":"+'Incoming Remittances (Value)'!C163","v":0}]
["CMREM_11520","NI",{"$f":"+'Incoming Remittances (Value)'!$C$5","v":"20240731"},{"$f":"+'COVER SHEET'!$D$12","v":0},11520,{"$f":"'COVER SHEET'!$D$16&IF(MID('COVER SHEET'!$I$18,6,10)=\"december\",\"1231\",IF(MID('COVER SHEET'!$I$18,6,10)=\"june\",\"0630\"))","v":"20241231"},{"$f":"+'Incoming Remittances (Value)'!C164","v":0}]
["CMREM_11520","NE",{"$f":"+'Incoming Remittances (Value)'!$C$5","v":"20240731"},{"$f":"+'COVER SHEET'!$D$12","v":0},11520,{"$f":"'COVER SHEET'!$D$16&IF(MID('COVER SHEET'!$I$18,6,10)=\"december\",\"1231\",IF(MID('COVER SHEET'!$I$18,6,10)=\"june\",\"0630\"))","v":"20241231"},{"$f":"+'Incoming Remittances (Value)'!C165","v":0}]
["CMREM_11520","NG",{"$f":"+'Incoming Remittances (Value)'!$C$5","v":"20240731"},{"$f":"+'COVER SHEET'!$D$12","v":0},11520,{"$f":"'COVER SHEET'!$D$16&IF(MID('COVER SHEET'!$I$18,6,10)=\"december\",\"1231\",IF(MID('COVER SHEET'!$I$18,6,10)=\"june\",\"0630\"))","v":"20241231"},{"$f":"+'Incoming Remittances (Value)'!C166","v":0}]
["CMREM_11520","NU",{"$f":"+'Incoming Remittances (Value)'!$C$5","v":"20240731"},{"$f":"+'COVER SHEET'!$D$12","v":0},11520,{"$f":"'COVER SHEET'!$D$16&IF(MID('COVER SHEET'!$I$18,6,10)=\"december\",\"1231\",IF(MID('COVER SHEET'!$I$18,6,10)=\"june\",\"0630\"))","v":"20241231"},{"$f":"+'Incoming Remittances (Value)'!C167","v":0}]
["CMREM_11520","NF",{"$f":"+'Incoming Remittances (Value)'!$C$5","v":"20240731"},{"$f":"+'COVER SHEET'!$D$12","v":0},11520,{"$f":"'COVER SHEET'!$D$16&IF(MID('COVER SHEET'!$I$18,6,10)=\"december\",\"1231\",IF(MID('COVER SHEET'!$I$18,6,10)=\"june\",\"0630\"))","v":"20241231"},{"$f":"+'Incoming Remittances (Value)'!C168","v":0}]
["CMREM_11520","MP",{"$f":"+'Incoming Remittances (Value)'!$C$5","v":"20240731"},{"$f":"+'COVER SHEET'!$D$12","v":0},11520,{"$f":"'COVER SHEET'!$D$16&IF(MID('COVER SHEET'!$I$18,6,10)=\"december\",\"1231\",IF(MID('COVER SHEET'!$I$18,6,10)=\"june\",\"0630\"))","v":"20241231"},{"$f":"+'Incoming Remittances (Value)'!C169","v":0}]
["CMREM_11520","NO",{"$f":"+'Incoming Remittances (Value)'!$C$5","v":"20240731"},{"$f":"+'COVER SHEET'!$D$12","v":0},11520,{"$f":"'COVER SHEET'!$D$16&IF(MID('COVER SHEET'!$I$18,6,10)=\"december\",\"1231\",IF(MID('COVER SHEET'!$I$18,6,10)=\"june\",\"0630\"))","v":"20241231"},{"$f":"+'Incoming Remittances (Value)'!C170","v":0}]
["CMREM_11520","OM",{"$f":"+'Incoming Remittances (Value)'!$C$5","v":"20240731"},{"$f":"+'COVER SHEET'!$D$12","v":0},11520,{"$f":"'COVER SHEET'!$D$16&IF(MID('COVER SHEET'!$I$18,6,10)=\"december\",\"1231\",IF(MID('COVER SHEET'!$I$18,6,10)=\"june\",\"0630\"))","v":"20241231"},{"$f":"+'Incoming Remittances (Value)'!C171","v":0}]
["CMREM_11520","PK",{"$f":"+'Incoming Remittances (Value)'!$C$5","v":"20240731"},{"$f":"+'COVER SHEET'!$D$12","v":0},11520,{"$f":"'COVER SHEET'!$D$16&IF(MID('COVER SHEET'!$I$18,6,10)=\"december\",\"1231\",IF(MID('COVER SHEET'!$I$18,6,10)=\"june\",\"0630\"))","v":"20241231"},{"$f":"+'Incoming Remittances (Value)'!C172","v":0}]
["CMREM_11520","PW",{"$f":"+'Incoming Remittances (Value)'!$C$5","v":"20240731"},{"$f":"+'COVER SHEET'!$D$12","v":0},11520,{"$f":"'COVER SHEET'!$D$16&IF(MID('COVER SHEET'!$I$18,6,10)=\"december\",\"1231\",IF(MID('COVER SHEET'!$I$18,6,10)=\"june\",\"0630\"))","v":"20241231"},{"$f":"+'Incoming Remittances (Value)'!C173","v":0}]
["CMREM_11520","PS",{"$f":"+'Incoming Remittances (Value)'!$C$5","v":"20240731"},{"$f":"+'COVER SHEET'!$D$12","v":0},11520,{"$f":"'COVER SHEET'!$D$16&IF(MID('COVER SHEET'!$I$18,6,10)=\"december\",\"1231\",IF(MID('COVER SHEET'!$I$18,6,10)=\"june\",\"0630\"))","v":"20241231"},{"$f":"+'Incoming Remittances (Value)'!C174","v":0}]
["CMREM_11520","PA",{"$f":"+'Incoming Remittances (Value)'!$C$5","v":"20240731"},{"$f":"+'COVER SHEET'!$D$12","v":0},11520,{"$f":"'COVER SHEET'!$D$16&IF(MID('COVER SHEET'!$I$18,6,10)=\"december\",\"1231\",IF(MID('COVER SHEET'!$I$18,6,10)=\"june\",\"0630\"))","v":"20241231"},{"$f":"+'Incoming Remittances (Value)'!C175","v":0}]
["CMREM_11520","PG",{"$f":"+'Incoming Remittances (Value)'!$C$5","v":"20240731"},{"$f":"+'COVER SHEET'!$D$12","v":0},11520,{"$f":"'COVER SHEET'!$D$16&IF(MID('COVER SHEET'!$I$18,6,10)=\"december\",\"1231\",IF(MID('COVER SHEET'!$I$18,6,10)=\"june\",\"0630\"))","v":"20241231"},{"$f":"+'Incoming Remittances (Value)'!C176","v":0}]
["CMREM_11520","PY",{"$f":"+'Incoming Remittances (Value)'!$C$5","v":"20240731"},{"$f":"+'COVER SHEET'!$D$12","v":0},11520,{"$f":"'COVER SHEET'!$D$16&IF(MID('COVER SHEET'!$I$18,6,10)=\"december\",\"1231\",IF(MID('COVER SHEET'!$I$18,6,10)=\"june\",\"0630\"))","v":"20241231"},{"$f":"+'Incoming Remittances (Value)'!C177","v":0}]
["CMREM_11520","PE",{"$f":"+'Incoming Remittances (Value)'!$C$5","v":"20240731"},{"$f":"+'COVER SHEET'!$D$12","v":0},11520,{"$f":"'COVER SHEET'!$D$16&IF(MID('COVER SHEET'!$I$18,6,10)=\"december\",\"1231\",IF(MID('COVER SHEET'!$I$18,6,10)=\"june\",\"0630\"))","v":"20241231"},{"$f":"+'Incoming Remittances (Value)'!C178","v":0}]
["CMREM_11520","PH",{"$f":"+'Incoming Remittances (Value)'!$C$5","v":"20240731"},{"$f":"+'COVER SHEET'!$D$12","v":0},11520,{"$f":"'COVER SHEET'!$D$16&IF(MID('COVER SHEET'!$I$18,6,10)=\"december\",\"1231\",IF(MID('COVER SHEET'!$I$18,6,10)=\"june\",\"0630\"))","v":"20241231"},{"$f":"+'Incoming Remittances (Value)'!C179","v":0}]
["CMREM_11520","PN",{"$f":"+'Incoming Remittances (Value)'!$C$5","v":"20240731"},{"$f":"+'COVER SHEET'!$D$12","v":0},11520,{"$f":"'COVER SHEET'!$D$16&IF(MID('COVER SHEET'!$I$18,6,10)=\"december\",\"1231\",IF(MID('COVER SHEET'!$I$18,6,10)=\"june\",\"0630\"))","v":"20241231"},{"$f":"+'Incoming Remittances (Value)'!C180","v":0}]
["CMREM_11520","PL",{"$f":"+'Incoming Remittances (Value)'!$C$5","v":"20240731"},{"$f":"+'COVER SHEET'!$D$12","v":0},11520,{"$f":"'COVER SHEET'!$D$16&IF(MID('COVER SHEET'!$I$18,6,10)=\"december\",\"1231\",IF(MID('COVER SHEET'!$I$18,6,10)=\"june\",\"0630\"))","v":"20241231"},{"$f":"+'Incoming Remittances (Value)'!C181","v":0}]
["CMREM_11520","PT",{"$f":"+'Incoming Remittances (Value)'!$C$5","v":"20240731"},{"$f":"+'COVER SHEET'!$D$12","v":0},11520,{"$f":"'COVER SHEET'!$D$16&IF(MID('COVER SHEET'!$I$18,6,10)=\"december\",\"1231\",IF(MID('COVER SHEET'!$I$18,6,10)=\"june\",\"0630\"))","v":"20241231"},{"$f":"+'Incoming Remittances (Value)'!C182","v":0}]
["CMREM_11520","QA",{"$f":"+'Incoming Remittances (Value)'!$C$5","v":"20240731"},{"$f":"+'COVER SHEET'!$D$12","v":0},11520,{"$f":"'COVER SHEET'!$D$16&IF(MID('COVER SHEET'!$I$18,6,10)=\"december\",\"1231\",IF(MID('COVER SHEET'!$I$18,6,10)=\"june\",\"0630\"))","v":"20241231"},{"$f":"+'Incoming Remittances (Value)'!C183","v":0}]
["CMREM_11520","RO",{"$f":"+'Incoming Remittances (Value)'!$C$5","v":"20240731"},{"$f":"+'COVER SHEET'!$D$12","v":0},11520,{"$f":"'COVER SHEET'!$D$16&IF(MID('COVER SHEET'!$I$18,6,10)=\"december\",\"1231\",IF(MID('COVER SHEET'!$I$18,6,10)=\"june\",\"0630\"))","v":"20241231"},{"$f":"+'Incoming Remittances (Value)'!C184","v":0}]
["CMREM_11520","RU",{"$f":"+'Incoming Remittances (Value)'!$C$5","v":"20240731"},{"$f":"+'COVER SHEET'!$D$12","v":0},11520,{"$f":"'COVER SHEET'!$D$16&IF(MID('COVER SHEET'!$I$18,6,10)=\"december\",\"1231\",IF(MID('COVER SHEET'!$I$18,6,10)=\"june\",\"0630\"))","v":"20241231"},{"$f":"+'Incoming Remittances (Value)'!C185","v":0}]
["CMREM_11520","RW",{"$f":"+'Incoming Remittances (Value)'!$C$5","v":"20240731"},{"$f":"+'COVER SHEET'!$D$12","v":0},11520,{"$f":"'COVER SHEET'!$D$16&IF(MID('COVER SHEET'!$I$18,6,10)=\"december\",\"1231\",IF(MID('COVER SHEET'!$I$18,6,10)=\"june\",\"0630\"))","v":"20241231"},{"$f":"+'Incoming Remittances (Value)'!C186","v":0}]
["CMREM_11520","SH",{"$f":"+'Incoming Remittances (Value)'!$C$5","v":"20240731"},{"$f":"+'COVER SHEET'!$D$12","v":0},11520,{"$f":"'COVER SHEET'!$D$16&IF(MID('COVER SHEET'!$I$18,6,10)=\"december\",\"1231\",IF(MID('COVER SHEET'!$I$18,6,10)=\"june\",\"0630\"))","v":"20241231"},{"$f":"+'Incoming Remittances (Value)'!C187","v":0}]
["CMREM_11520","KN",{"$f":"+'Incoming Remittances (Value)'!$C$5","v":"20240731"},{"$f":"+'COVER SHEET'!$D$12","v":0},11520,{"$f":"'COVER SHEET'!$D$16&IF(MID('COVER SHEET'!$I$18,6,10)=\"december\",\"1231\",IF(MID('COVER SHEET'!$I$18,6,10)=\"june\",\"0630\"))","v":"20241231"},{"$f":"+'Incoming Remittances (Value)'!C188","v":0}]
["CMREM_11520","LC",{"$f":"+'Incoming Remittances (Value)'!$C$5","v":"20240731"},{"$f":"+'COVER SHEET'!$D$12","v":0},11520,{"$f":"'COVER SHEET'!$D$16&IF(MID('COVER SHEET'!$I$18,6,10)=\"december\",\"1231\",IF(MID('COVER SHEET'!$I$18,6,10)=\"june\",\"0630\"))","v":"20241231"},{"$f":"+'Incoming Remittances (Value)'!C189","v":0}]
["CMREM_11520","VC",{"$f":"+'Incoming Remittances (Value)'!$C$5","v":"20240731"},{"$f":"+'COVER SHEET'!$D$12","v":0},11520,{"$f":"'COVER SHEET'!$D$16&IF(MID('COVER SHEET'!$I$18,6,10)=\"december\",\"1231\",IF(MID('COVER SHEET'!$I$18,6,10)=\"june\",\"0630\"))","v":"20241231"},{"$f":"+'Incoming Remittances (Value)'!C190","v":0}]
["CMREM_11520","WS",{"$f":"+'Incoming Remittances (Value)'!$C$5","v":"20240731"},{"$f":"+'COVER SHEET'!$D$12","v":0},11520,{"$f":"'COVER SHEET'!$D$16&IF(MID('COVER SHEET'!$I$18,6,10)=\"december\",\"1231\",IF(MID('COVER SHEET'!$I$18,6,10)=\"june\",\"0630\"))","v":"20241231"},{"$f":"+'Incoming Remittances (Value)'!C191","v":0}]
["CMREM_11520","SM",{"$f":"+'Incoming Remittances (Value)'!$C$5","v":"20240731"},{"$f":"+'COVER SHEET'!$D$12","v":0},11520,{"$f":"'COVER SHEET'!$D$16&IF(MID('COVER SHEET'!$I$18,6,10)=\"december\",\"1231\",IF(MID('COVER SHEET'!$I$18,6,10)=\"june\",\"0630\"))","v":"20241231"},{"$f":"+'Incoming Remittances (Value)'!C192","v":0}]
["CMREM_11520","ST",{"$f":"+'Incoming Remittances (Value)'!$C$5","v":"20240731"},{"$f":"+'COVER SHEET'!$D$12","v":0},11520,{"$f":"'COVER SHEET'!$D$16&IF(MID('COVER SHEET'!$I$18,6,10)=\"december\",\"1231\",IF(MID('COVER SHEET'!$I$18,6,10)=\"june\",\"0630\"))","v":"20241231"},{"$f":"+'Incoming Remittances (Value)'!C193","v":0}]
["CMREM_11520","SA",{"$f":"+'Incoming Remittances (Value)'!$C$5","v":"20240731"},{"$f":"+'COVER SHEET'!$D$12","v":0},11520,{"$f":"'COVER SHEET'!$D$16&IF(MID('COVER SHEET'!$I$18,6,10)=\"december\",\"1231\",IF(MID('COVER SHEET'!$I$18,6,10)=\"june\",\"0630\"))","v":"20241231"},{"$f":"+'Incoming Remittances (Value)'!C194","v":0}]
["CMREM_11520","SN",{"$f":"+'Incoming Remittances (Value)'!$C$5","v":"20240731"},{"$f":"+'COVER SHEET'!$D$12","v":0},11520,{"$f":"'COVER SHEET'!$D$16&IF(MID('COVER SHEET'!$I$18,6,10)=\"december\",\"1231\",IF(MID('COVER SHEET'!$I$18,6,10)=\"june\",\"0630\"))","v":"20241231"},{"$f":"+'Incoming Remittances (Value)'!C195","v":0}]
["CMREM_11520","RS",{"$f":"+'Incoming Remittances (Value)'!$C$5","v":"20240731"},{"$f":"+'COVER SHEET'!$D$12","v":0},11520,{"$f":"'COVER SHEET'!$D$16&IF(MID('COVER SHEET'!$I$18,6,10)=\"december\",\"1231\",IF(MID('COVER SHEET'!$I$18,6,10)=\"june\",\"0630\"))","v":"20241231"},{"$f":"+'Incoming Remittances (Value)'!C196","v":0}]
["CMREM_11520","SC",{"$f":"+'Incoming Remittances (Value)'!$C$5","v":"20240731"},{"$f":"+'COVER SHEET'!$D$12","v":0},11520,{"$f":"'COVER SHEET'!$D$16&IF(MID('COVER SHEET'!$I$18,6,10)=\"december\",\"1231\",IF(MID('COVER SHEET'!$I$18,6,10)=\"june\",\"0630\"))","v":"20241231"},{"$f":"+'Incoming Remittances (Value)'!C197","v":0}]
["CMREM_11520","SL",{"$f":"+'Incoming Remittances (Value)'!$C$5","v":"20240731"},{"$f":"+'COVER SHEET'!$D$12","v":0},11520,{"$f":"'COVER SHEET'!$D$16&IF(MID('COVER SHEET'!$I$18,6,10)=\"december\",\"1231\",IF(MID('COVER SHEET'!$I$18,6,10)=\"june\",\"0630\"))","v":"20241231"},{"$f":"+'Incoming Remittances (Value)'!C198","v":0}]
["CMREM_11520","SG",{"$f":"+'Incoming Remittances (Value)'!$C$5","v":"20240731"},{"$f":"+'COVER SHEET'!$D$12","v":0},11520,{"$f":"'COVER SHEET'!$D$16&IF(MID('COVER SHEET'!$I$18,6,10)=\"december\",\"1231\",IF(MID('COVER SHEET'!$I$18,6,10)=\"june\",\"0630\"))","v":"20241231"},{"$f":"+'Incoming Remittances (Value)'!C199","v":0}]
["CMREM_11520","SX",{"$f":"+'Incoming Remittances (Value)'!$C$5","v":"20240731"},{"$f":"+'COVER SHEET'!$D$12","v":0},11520,{"$f":"'COVER SHEET'!$D$16&IF(MID('COVER SHEET'!$I$18,6,10)=\"december\",\"1231\",IF(MID('COVER SHEET'!$I$18,6,10)=\"june\",\"0630\"))","v":"20241231"},{"$f":"+'Incoming Remittances (Value)'!C200","v":0}]
["CMREM_11520","SK",{"$f":"+'Incoming Remittances (Value)'!$C$5","v":"20240731"},{"$f":"+'COVER SHEET'!$D$12","v":0},11520,{"$f":"'COVER SHEET'!$D$16&IF(MID('COVER SHEET'!$I$18,6,10)=\"december\",\"1231\",IF(MID('COVER SHEET'!$I$18,6,10)=\"june\",\"0630\"))","v":"20241231"},{"$f":"+'Incoming Remittances (Value)'!C201","v":0}]
["CMREM_11520","SI",{"$f":"+'Incoming Remittances (Value)'!$C$5","v":"20240731"},{"$f":"+'COVER SHEET'!$D$12","v":0},11520,{"$f":"'COVER SHEET'!$D$16&IF(MID('COVER SHEET'!$I$18,6,10)=\"december\",\"1231\",IF(MID('COVER SHEET'!$I$18,6,10)=\"june\",\"0630\"))","v":"20241231"},{"$f":"+'Incoming Remittances (Value)'!C202","v":0}]
["CMREM_11520","SB",{"$f":"+'Incoming Remittances (Value)'!$C$5","v":"20240731"},{"$f":"+'COVER SHEET'!$D$12","v":0},11520,{"$f":"'COVER SHEET'!$D$16&IF(MID('COVER SHEET'!$I$18,6,10)=\"december\",\"1231\",IF(MID('COVER SHEET'!$I$18,6,10)=\"june\",\"0630\"))","v":"20241231"},{"$f":"+'Incoming Remittances (Value)'!C203","v":0}]
["CMREM_11520","SO",{"$f":"+'Incoming Remittances (Value)'!$C$5","v":"20240731"},{"$f":"+'COVER SHEET'!$D$12","v":0},11520,{"$f":"'COVER SHEET'!$D$16&IF(MID('COVER SHEET'!$I$18,6,10)=\"december\",\"1231\",IF(MID('COVER SHEET'!$I$18,6,10)=\"june\",\"0630\"))","v":"20241231"},{"$f":"+'Incoming Remittances (Value)'!C204","v":0}]
["CMREM_11520","ZA",{"$f":"+'Incoming Remittances (Value)'!$C$5","v":"20240731"},{"$f":"+'COVER SHEET'!$D$12","v":0},11520,{"$f":"'COVER SHEET'!$D$16&IF(MID('COVER SHEET'!$I$18,6,10)=\"december\",\"1231\",IF(MID('COVER SHEET'!$I$18,6,10)=\"june\",\"0630\"))","v":"20241231"},{"$f":"+'Incoming Remittances (Value)'!C205","v":0}]
["CMREM_11520","GS",{"$f":"+'Incoming Remittances (Value)'!$C$5","v":"20240731"},{"$f":"+'COVER SHEET'!$D$12","v":0},11520,{"$f":"'COVER SHEET'!$D$16&IF(MID('COVER SHEET'!$I$18,6,10)=\"december\",\"1231\",IF(MID('COVER SHEET'!$I$18,6,10)=\"june\",\"0630\"))","v":"20241231"},{"$f":"+'Incoming Remittances (Value)'!C206","v":0}]
["CMREM_11520","SS",{"$f":"+'Incoming Remittances (Value)'!$C$5","v":"20240731"},{"$f":"+'COVER SHEET'!$D$12","v":0},11520,{"$f":"'COVER SHEET'!$D$16&IF(MID('COVER SHEET'!$I$18,6,10)=\"december\",\"1231\",IF(MID('COVER SHEET'!$I$18,6,10)=\"june\",\"0630\"))","v":"20241231"},{"$f":"+'Incoming Remittances (Value)'!C207","v":0}]
["CMREM_11520","ES",{"$f":"+'Incoming Remittances (Value)'!$C$5","v":"20240731"},{"$f":"+'COVER SHEET'!$D$12","v":0},11520,{"$f":"'COVER SHEET'!$D$16&IF(MID('COVER SHEET'!$I$18,6,10)=\"december\",\"1231\",IF(MID('COVER SHEET'!$I$18,6,10)=\"june\",\"0630\"))","v":"20241231"},{"$f":"+'Incoming Remittances (Value)'!C208","v":0}]
["CMREM_11520","LK",{"$f":"+'Incoming Remittances (Value)'!$C$5","v":"20240731"},{"$f":"+'COVER SHEET'!$D$12","v":0},11520,{"$f":"'COVER SHEET'!$D$16&IF(MID('COVER SHEET'!$I$18,6,10)=\"december\",\"1231\",IF(MID('COVER SHEET'!$I$18,6,10)=\"june\",\"0630\"))","v":"20241231"},{"$f":"+'Incoming Remittances (Value)'!C209","v":0}]
["CMREM_11520","SD",{"$f":"+'Incoming Remittances (Value)'!$C$5","v":"20240731"},{"$f":"+'COVER SHEET'!$D$12","v":0},11520,{"$f":"'COVER SHEET'!$D$16&IF(MID('COVER SHEET'!$I$18,6,10)=\"december\",\"1231\",IF(MID('COVER SHEET'!$I$18,6,10)=\"june\",\"0630\"))","v":"20241231"},{"$f":"+'Incoming Remittances (Value)'!C210","v":0}]
["CMREM_11520","SR",{"$f":"+'Incoming Remittances (Value)'!$C$5","v":"20240731"},{"$f":"+'COVER SHEET'!$D$12","v":0},11520,{"$f":"'COVER SHEET'!$D$16&IF(MID('COVER SHEET'!$I$18,6,10)=\"december\",\"1231\",IF(MID('COVER SHEET'!$I$18,6,10)=\"june\",\"0630\"))","v":"20241231"},{"$f":"+'Incoming Remittances (Value)'!C211","v":0}]
["CMREM_11520","SZ",{"$f":"+'Incoming Remittances (Value)'!$C$5","v":"20240731"},{"$f":"+'COVER SHEET'!$D$12","v":0},11520,{"$f":"'COVER SHEET'!$D$16&IF(MID('COVER SHEET'!$I$18,6,10)=\"december\",\"1231\",IF(MID('COVER SHEET'!$I$18,6,10)=\"june\",\"0630\"))","v":"20241231"},{"$f":"+'Incoming Remittances (Value)'!C212","v":0}]
["CMREM_11520","SE",{"$f":"+'Incoming Remittances (Value)'!$C$5","v":"20240731"},{"$f":"+'COVER SHEET'!$D$12","v":0},11520,{"$f":"'COVER SHEET'!$D$16&IF(MID('COVER SHEET'!$I$18,6,10)=\"december\",\"1231\",IF(MID('COVER SHEET'!$I$18,6,10)=\"june\",\"0630\"))","v":"20241231"},{"$f":"+'Incoming Remittances (Value)'!C213","v":0}]
["CMREM_11520","CH",{"$f":"+'Incoming Remittances (Value)'!$C$5","v":"20240731"},{"$f":"+'COVER SHEET'!$D$12","v":0},11520,{"$f":"'COVER SHEET'!$D$16&IF(MID('COVER SHEET'!$I$18,6,10)=\"december\",\"1231\",IF(MID('COVER SHEET'!$I$18,6,10)=\"june\",\"0630\"))","v":"20241231"},{"$f":"+'Incoming Remittances (Value)'!C214","v":0}]
["CMREM_11520","SY",{"$f":"+'Incoming Remittances (Value)'!$C$5","v":"20240731"},{"$f":"+'COVER SHEET'!$D$12","v":0},11520,{"$f":"'COVER SHEET'!$D$16&IF(MID('COVER SHEET'!$I$18,6,10)=\"december\",\"1231\",IF(MID('COVER SHEET'!$I$18,6,10)=\"june\",\"0630\"))","v":"20241231"},{"$f":"+'Incoming Remittances (Value)'!C215","v":0}]
["CMREM_11520","TW",{"$f":"+'Incoming Remittances (Value)'!$C$5","v":"20240731"},{"$f":"+'COVER SHEET'!$D$12","v":0},11520,{"$f":"'COVER SHEET'!$D$16&IF(MID('COVER SHEET'!$I$18,6,10)=\"december\",\"1231\",IF(MID('COVER SHEET'!$I$18,6,10)=\"june\",\"0630\"))","v":"20241231"},{"$f":"+'Incoming Remittances (Value)'!C216","v":0}]
["CMREM_11520","TJ",{"$f":"+'Incoming Remittances (Value)'!$C$5","v":"20240731"},{"$f":"+'COVER SHEET'!$D$12","v":0},11520,{"$f":"'COVER SHEET'!$D$16&IF(MID('COVER SHEET'!$I$18,6,10)=\"december\",\"1231\",IF(MID('COVER SHEET'!$I$18,6,10)=\"june\",\"0630\"))","v":"20241231"},{"$f":"+'Incoming Remittances (Value)'!C217","v":0}]
["CMREM_11520","TZ",{"$f":"+'Incoming Remittances (Value)'!$C$5","v":"20240731"},{"$f":"+'COVER SHEET'!$D$12","v":0},11520,{"$f":"'COVER SHEET'!$D$16&IF(MID('COVER SHEET'!$I$18,6,10)=\"december\",\"1231\",IF(MID('COVER SHEET'!$I$18,6,10)=\"june\",\"0630\"))","v":"20241231"},{"$f":"+'Incoming Remittances (Value)'!C218","v":0}]
["CMREM_11520","TH",{"$f":"+'Incoming Remittances (Value)'!$C$5","v":"20240731"},{"$f":"+'COVER SHEET'!$D$12","v":0},11520,{"$f":"'COVER SHEET'!$D$16&IF(MID('COVER SHEET'!$I$18,6,10)=\"december\",\"1231\",IF(MID('COVER SHEET'!$I$18,6,10)=\"june\",\"0630\"))","v":"20241231"},{"$f":"+'Incoming Remittances (Value)'!C219","v":0}]
["CMREM_11520","TG",{"$f":"+'Incoming Remittances (Value)'!$C$5","v":"20240731"},{"$f":"+'COVER SHEET'!$D$12","v":0},11520,{"$f":"'COVER SHEET'!$D$16&IF(MID('COVER SHEET'!$I$18,6,10)=\"december\",\"1231\",IF(MID('COVER SHEET'!$I$18,6,10)=\"june\",\"0630\"))","v":"20241231"},{"$f":"+'Incoming Remittances (Value)'!C220","v":0}]
["CMREM_11520","TK",{"$f":"+'Incoming Remittances (Value)'!$C$5","v":"20240731"},{"$f":"+'COVER SHEET'!$D$12","v":0},11520,{"$f":"'COVER SHEET'!$D$16&IF(MID('COVER SHEET'!$I$18,6,10)=\"december\",\"1231\",IF(MID('COVER SHEET'!$I$18,6,10)=\"june\",\"0630\"))","v":"20241231"},{"$f":"+'Incoming Remittances (Value)'!C221","v":0}]
["CMREM_11520","TO",{"$f":"+'Incoming Remittances (Value)'!$C$5","v":"20240731"},{"$f":"+'COVER SHEET'!$D$12","v":0},11520,{"$f":"'COVER SHEET'!$D$16&IF(MID('COVER SHEET'!$I$18,6,10)=\"december\",\"1231\",IF(MID('COVER SHEET'!$I$18,6,10)=\"june\",\"0630\"))","v":"20241231"},{"$f":"+'Incoming Remittances (Value)'!C222","v":0}]
["CMREM_11520","TT",{"$f":"+'Incoming Remittances (Value)'!$C$5","v":"20240731"},{"$f":"+'COVER SHEET'!$D$12","v":0},11520,{"$f":"'COVER SHEET'!$D$16&IF(MID('COVER SHEET'!$I$18,6,10)=\"december\",\"1231\",IF(MID('COVER SHEET'!$I$18,6,10)=\"june\",\"0630\"))","v":"20241231"},{"$f":"+'Incoming Remittances (Value)'!C223","v":0}]
["CMREM_11520","TN",{"$f":"+'Incoming Remittances (Value)'!$C$5","v":"20240731"},{"$f":"+'COVER SHEET'!$D$12","v":0},11520,{"$f":"'COVER SHEET'!$D$16&IF(MID('COVER SHEET'!$I$18,6,10)=\"december\",\"1231\",IF(MID('COVER SHEET'!$I$18,6,10)=\"june\",\"0630\"))","v":"20241231"},{"$f":"+'Incoming Remittances (Value)'!C224","v":0}]
["CMREM_11520","TR",{"$f":"+'Incoming Remittances (Value)'!$C$5","v":"20240731"},{"$f":"+'COVER SHEET'!$D$12","v":0},11520,{"$f":"'COVER SHEET'!$D$16&IF(MID('COVER SHEET'!$I$18,6,10)=\"december\",\"1231\",IF(MID('COVER SHEET'!$I$18,6,10)=\"june\",\"0630\"))","v":"20241231"},{"$f":"+'Incoming Remittances (Value)'!C225","v":0}]
["CMREM_11520","TM",{"$f":"+'Incoming Remittances (Value)'!$C$5","v":"20240731"},{"$f":"+'COVER SHEET'!$D$12","v":0},11520,{"$f":"'COVER SHEET'!$D$16&IF(MID('COVER SHEET'!$I$18,6,10)=\"december\",\"1231\",IF(MID('COVER SHEET'!$I$18,6,10)=\"june\",\"0630\"))","v":"20241231"},{"$f":"+'Incoming Remittances (Value)'!C226","v":0}]
["CMREM_11520","TC",{"$f":"+'Incoming Remittances (Value)'!$C$5","v":"20240731"},{"$f":"+'COVER SHEET'!$D$12","v":0},11520,{"$f":"'COVER SHEET'!$D$16&IF(MID('COVER SHEET'!$I$18,6,10)=\"december\",\"1231\",IF(MID('COVER SHEET'!$I$18,6,10)=\"june\",\"0630\"))","v":"20241231"},{"$f":"+'Incoming Remittances (Value)'!C227","v":0}]
["CMREM_11520","TV",{"$f":"+'Incoming Remittances (Value)'!$C$5","v":"20240731"},{"$f":"+'COVER SHEET'!$D$12","v":0},11520,{"$f":"'COVER SHEET'!$D$16&IF(MID('COVER SHEET'!$I$18,6,10)=\"december\",\"1231\",IF(MID('COVER SHEET'!$I$18,6,10)=\"june\",\"0630\"))","v":"20241231"},{"$f":"+'Incoming Remittances (Value)'!C228","v":0}]
["CMREM_11520","UG",{"$f":"+'Incoming Remittances (Value)'!$C$5","v":"20240731"},{"$f":"+'COVER SHEET'!$D$12","v":0},11520,{"$f":"'COVER SHEET'!$D$16&IF(MID('COVER SHEET'!$I$18,6,10)=\"december\",\"1231\",IF(MID('COVER SHEET'!$I$18,6,10)=\"june\",\"0630\"))","v":"20241231"},{"$f":"+'Incoming Remittances (Value)'!C229","v":0}]
["CMREM_11520","UA",{"$f":"+'Incoming Remittances (Value)'!$C$5","v":"20240731"},{"$f":"+'COVER SHEET'!$D$12","v":0},11520,{"$f":"'COVER SHEET'!$D$16&IF(MID('COVER SHEET'!$I$18,6,10)=\"december\",\"1231\",IF(MID('COVER SHEET'!$I$18,6,10)=\"june\",\"0630\"))","v":"20241231"},{"$f":"+'Incoming Remittances (Value)'!C230","v":0}]
["CMREM_11520","AE",{"$f":"+'Incoming Remittances (Value)'!$C$5","v":"20240731"},{"$f":"+'COVER SHEET'!$D$12","v":0},11520,{"$f":"'COVER SHEET'!$D$16&IF(MID('COVER SHEET'!$I$18,6,10)=\"december\",\"1231\",IF(MID('COVER SHEET'!$I$18,6,10)=\"june\",\"0630\"))","v":"20241231"},{"$f":"+'Incoming Remittances (Value)'!C231","v":0}]
["CMREM_11520","GB",{"$f":"+'Incoming Remittances (Value)'!$C$5","v":"20240731"},{"$f":"+'COVER SHEET'!$D$12","v":0},11520,{"$f":"'COVER SHEET'!$D$16&IF(MID('COVER SHEET'!$I$18,6,10)=\"december\",\"1231\",IF(MID('COVER SHEET'!$I$18,6,10)=\"june\",\"0630\"))","v":"20241231"},{"$f":"+'Incoming Remittances (Value)'!C232","v":0}]
["CMREM_11520","US",{"$f":"+'Incoming Remittances (Value)'!$C$5","v":"20240731"},{"$f":"+'COVER SHEET'!$D$12","v":0},11520,{"$f":"'COVER SHEET'!$D$16&IF(MID('COVER SHEET'!$I$18,6,10)=\"december\",\"1231\",IF(MID('COVER SHEET'!$I$18,6,10)=\"june\",\"0630\"))","v":"20241231"},{"$f":"+'Incoming Remittances (Value)'!C233","v":0}]
["CMREM_11520","UY",{"$f":"+'Incoming Remittances (Value)'!$C$5","v":"20240731"},{"$f":"+'COVER SHEET'!$D$12","v":0},11520,{"$f":"'COVER SHEET'!$D$16&IF(MID('COVER SHEET'!$I$18,6,10)=\"december\",\"1231\",IF(MID('COVER SHEET'!$I$18,6,10)=\"june\",\"0630\"))","v":"20241231"},{"$f":"+'Incoming Remittances (Value)'!C234","v":0}]
["CMREM_11520","UM",{"$f":"+'Incoming Remittances (Value)'!$C$5","v":"20240731"},{"$f":"+'COVER SHEET'!$D$12","v":0},11520,{"$f":"'COVER SHEET'!$D$16&IF(MID('COVER SHEET'!$I$18,6,10)=\"december\",\"1231\",IF(MID('COVER SHEET'!$I$18,6,10)=\"june\",\"0630\"))","v":"20241231"},{"$f":"+'Incoming Remittances (Value)'!C235","v":0}]
["CMREM_11520","UZ",{"$f":"+'Incoming Remittances (Value)'!$C$5","v":"20240731"},{"$f":"+'COVER SHEET'!$D$12","v":0},11520,{"$f":"'COVER SHEET'!$D$16&IF(MID('COVER SHEET'!$I$18,6,10)=\"december\",\"1231\",IF(MID('COVER SHEET'!$I$18,6,10)=\"june\",\"0630\"))","v":"20241231"},{"$f":"+'Incoming Remittances (Value)'!C236","v":0}]
["CMREM_11520","VU",{"$f":"+'Incoming Remittances (Value)'!$C$5","v":"20240731"},{"$f":"+'COVER SHEET'!$D$12","v":0},11520,{"$f":"'COVER SHEET'!$D$16&IF(MID('COVER SHEET'!$I$18,6,10)=\"december\",\"1231\",IF(MID('COVER SHEET'!$I$18,6,10)=\"june\",\"0630\"))","v":"20241231"},{"$f":"+'Incoming Remittances (Value)'!C237","v":0}]
["CMREM_11520","VE",{"$f":"+'Incoming Remittances (Value)'!$C$5","v":"20240731"},{"$f":"+'COVER SHEET'!$D$12","v":0},11520,{"$f":"'COVER SHEET'!$D$16&IF(MID('COVER SHEET'!$I$18,6,10)=\"december\",\"1231\",IF(MID('COVER SHEET'!$I$18,6,10)=\"june\",\"0630\"))","v":"20241231"},{"$f":"+'Incoming Remittances (Value)'!C238","v":0}]
["CMREM_11520","VN",{"$f":"+'Incoming Remittances (Value)'!$C$5","v":"20240731"},{"$f":"+'COVER SHEET'!$D$12","v":0},11520,{"$f":"'COVER SHEET'!$D$16&IF(MID('COVER SHEET'!$I$18,6,10)=\"december\",\"1231\",IF(MID('COVER SHEET'!$I$18,6,10)=\"june\",\"0630\"))","v":"20241231"},{"$f":"+'Incoming Remittances (Value)'!C239","v":0}]
["CMREM_11520","VI",{"$f":"+'Incoming Remittances (Value)'!$C$5","v":"20240731"},{"$f":"+'COVER SHEET'!$D$12","v":0},11520,{"$f":"'COVER SHEET'!$D$16&IF(MID('COVER SHEET'!$I$18,6,10)=\"december\",\"1231\",IF(MID('COVER SHEET'!$I$18,6,10)=\"june\",\"0630\"))","v":"20241231"},{"$f":"+'Incoming Remittances (Value)'!C240","v":0}]
["CMREM_11520","WF",{"$f":"+'Incoming Remittances (Value)'!$C$5","v":"20240731"},{"$f":"+'COVER SHEET'!$D$12","v":0},11520,{"$f":"'COVER SHEET'!$D$16&IF(MID('COVER SHEET'!$I$18,6,10)=\"december\",\"1231\",IF(MID('COVER SHEET'!$I$18,6,10)=\"june\",\"0630\"))","v":"20241231"},{"$f":"+'Incoming Remittances (Value)'!C241","v":0}]
["CMREM_11520","YE",{"$f":"+'Incoming Remittances (Value)'!$C$5","v":"20240731"},{"$f":"+'COVER SHEET'!$D$12","v":0},11520,{"$f":"'COVER SHEET'!$D$16&IF(MID('COVER SHEET'!$I$18,6,10)=\"december\",\"1231\",IF(MID('COVER SHEET'!$I$18,6,10)=\"june\",\"0630\"))","v":"20241231"},{"$f":"+'Incoming Remittances (Value)'!C242","v":0}]
["CMREM_11520","ZM",{"$f":"+'Incoming Remittances (Value)'!$C$5","v":"20240731"},{"$f":"+'COVER SHEET'!$D$12","v":0},11520,{"$f":"'COVER SHEET'!$D$16&IF(MID('COVER SHEET'!$I$18,6,10)=\"december\",\"1231\",IF(MID('COVER SHEET'!$I$18,6,10)=\"june\",\"0630\"))","v":"20241231"},{"$f":"+'Incoming Remittances (Value)'!C243","v":0}]
["CMREM_11520","ZW",{"$f":"+'Incoming Remittances (Value)'!$C$5","v":"20240731"},{"$f":"+'COVER SHEET'!$D$12","v":0},11520,{"$f":"'COVER SHEET'!$D$16&IF(MID('COVER SHEET'!$I$18,6,10)=\"december\",\"1231\",IF(MID('COVER SHEET'!$I$18,6,10)=\"june\",\"0630\"))","v":"20241231"},{"$f":"+'Incoming Remittances (Value)'!C244","v":0}]
["CMREM_11530","AF",{"$f":"+'Outgoing Remittances (Value)'!$C$5","v":"20240731"},{"$f":"+'COVER SHEET'!$D$12","v":0},11530,{"$f":"'COVER SHEET'!$D$16&IF(MID('COVER SHEET'!$I$18,6,10)=\"december\",\"1231\",IF(MID('COVER SHEET'!$I$18,6,10)=\"june\",\"0630\"))","v":"20241231"},{"$f":"+'Outgoing Remittances (Value)'!C9","v":0}]
["CMREM_11530","AL",{"$f":"+'Outgoing Remittances (Value)'!$C$5","v":"20240731"},{"$f":"+'COVER SHEET'!$D$12","v":0},11530,{"$f":"'COVER SHEET'!$D$16&IF(MID('COVER SHEET'!$I$18,6,10)=\"december\",\"1231\",IF(MID('COVER SHEET'!$I$18,6,10)=\"june\",\"0630\"))","v":"20241231"},{"$f":"+'Outgoing Remittances (Value)'!C10","v":0}]
["CMREM_11530","DZ",{"$f":"+'Outgoing Remittances (Value)'!$C$5","v":"20240731"},{"$f":"+'COVER SHEET'!$D$12","v":0},11530,{"$f":"'COVER SHEET'!$D$16&IF(MID('COVER SHEET'!$I$18,6,10)=\"december\",\"1231\",IF(MID('COVER SHEET'!$I$18,6,10)=\"june\",\"0630\"))","v":"20241231"},{"$f":"+'Outgoing Remittances (Value)'!C11","v":0}]
["CMREM_11530","AS",{"$f":"+'Outgoing Remittances (Value)'!$C$5","v":"20240731"},{"$f":"+'COVER SHEET'!$D$12","v":0},11530,{"$f":"'COVER SHEET'!$D$16&IF(MID('COVER SHEET'!$I$18,6,10)=\"december\",\"1231\",IF(MID('COVER SHEET'!$I$18,6,10)=\"june\",\"0630\"))","v":"20241231"},{"$f":"+'Outgoing Remittances (Value)'!C12","v":0}]
["CMREM_11530","AD",{"$f":"+'Outgoing Remittances (Value)'!$C$5","v":"20240731"},{"$f":"+'COVER SHEET'!$D$12","v":0},11530,{"$f":"'COVER SHEET'!$D$16&IF(MID('COVER SHEET'!$I$18,6,10)=\"december\",\"1231\",IF(MID('COVER SHEET'!$I$18,6,10)=\"june\",\"0630\"))","v":"20241231"},{"$f":"+'Outgoing Remittances (Value)'!C13","v":0}]
["CMREM_11530","AO",{"$f":"+'Outgoing Remittances (Value)'!$C$5","v":"20240731"},{"$f":"+'COVER SHEET'!$D$12","v":0},11530,{"$f":"'COVER SHEET'!$D$16&IF(MID('COVER SHEET'!$I$18,6,10)=\"december\",\"1231\",IF(MID('COVER SHEET'!$I$18,6,10)=\"june\",\"0630\"))","v":"20241231"},{"$f":"+'Outgoing Remittances (Value)'!C14","v":0}]
["CMREM_11530","AI",{"$f":"+'Outgoing Remittances (Value)'!$C$5","v":"20240731"},{"$f":"+'COVER SHEET'!$D$12","v":0},11530,{"$f":"'COVER SHEET'!$D$16&IF(MID('COVER SHEET'!$I$18,6,10)=\"december\",\"1231\",IF(MID('COVER SHEET'!$I$18,6,10)=\"june\",\"0630\"))","v":"20241231"},{"$f":"+'Outgoing Remittances (Value)'!C15","v":0}]
["CMREM_11530","AQ",{"$f":"+'Outgoing Remittances (Value)'!$C$5","v":"20240731"},{"$f":"+'COVER SHEET'!$D$12","v":0},11530,{"$f":"'COVER SHEET'!$D$16&IF(MID('COVER SHEET'!$I$18,6,10)=\"december\",\"1231\",IF(MID('COVER SHEET'!$I$18,6,10)=\"june\",\"0630\"))","v":"20241231"},{"$f":"+'Outgoing Remittances (Value)'!C16","v":0}]
["CMREM_11530","AG",{"$f":"+'Outgoing Remittances (Value)'!$C$5","v":"20240731"},{"$f":"+'COVER SHEET'!$D$12","v":0},11530,{"$f":"'COVER SHEET'!$D$16&IF(MID('COVER SHEET'!$I$18,6,10)=\"december\",\"1231\",IF(MID('COVER SHEET'!$I$18,6,10)=\"june\",\"0630\"))","v":"20241231"},{"$f":"+'Outgoing Remittances (Value)'!C17","v":0}]
["CMREM_11530","AR",{"$f":"+'Outgoing Remittances (Value)'!$C$5","v":"20240731"},{"$f":"+'COVER SHEET'!$D$12","v":0},11530,{"$f":"'COVER SHEET'!$D$16&IF(MID('COVER SHEET'!$I$18,6,10)=\"december\",\"1231\",IF(MID('COVER SHEET'!$I$18,6,10)=\"june\",\"0630\"))","v":"20241231"},{"$f":"+'Outgoing Remittances (Value)'!C18","v":0}]
["CMREM_11530","AM",{"$f":"+'Outgoing Remittances (Value)'!$C$5","v":"20240731"},{"$f":"+'COVER SHEET'!$D$12","v":0},11530,{"$f":"'COVER SHEET'!$D$16&IF(MID('COVER SHEET'!$I$18,6,10)=\"december\",\"1231\",IF(MID('COVER SHEET'!$I$18,6,10)=\"june\",\"0630\"))","v":"20241231"},{"$f":"+'Outgoing Remittances (Value)'!C19","v":0}]
["CMREM_11530","AW",{"$f":"+'Outgoing Remittances (Value)'!$C$5","v":"20240731"},{"$f":"+'COVER SHEET'!$D$12","v":0},11530,{"$f":"'COVER SHEET'!$D$16&IF(MID('COVER SHEET'!$I$18,6,10)=\"december\",\"1231\",IF(MID('COVER SHEET'!$I$18,6,10)=\"june\",\"0630\"))","v":"20241231"},{"$f":"+'Outgoing Remittances (Value)'!C20","v":0}]
["CMREM_11530","AU",{"$f":"+'Outgoing Remittances (Value)'!$C$5","v":"20240731"},{"$f":"+'COVER SHEET'!$D$12","v":0},11530,{"$f":"'COVER SHEET'!$D$16&IF(MID('COVER SHEET'!$I$18,6,10)=\"december\",\"1231\",IF(MID('COVER SHEET'!$I$18,6,10)=\"june\",\"0630\"))","v":"20241231"},{"$f":"+'Outgoing Remittances (Value)'!C21","v":0}]
["CMREM_11530","AT",{"$f":"+'Outgoing Remittances (Value)'!$C$5","v":"20240731"},{"$f":"+'COVER SHEET'!$D$12","v":0},11530,{"$f":"'COVER SHEET'!$D$16&IF(MID('COVER SHEET'!$I$18,6,10)=\"december\",\"1231\",IF(MID('COVER SHEET'!$I$18,6,10)=\"june\",\"0630\"))","v":"20241231"},{"$f":"+'Outgoing Remittances (Value)'!C22","v":0}]
["CMREM_11530","AZ",{"$f":"+'Outgoing Remittances (Value)'!$C$5","v":"20240731"},{"$f":"+'COVER SHEET'!$D$12","v":0},11530,{"$f":"'COVER SHEET'!$D$16&IF(MID('COVER SHEET'!$I$18,6,10)=\"december\",\"1231\",IF(MID('COVER SHEET'!$I$18,6,10)=\"june\",\"0630\"))","v":"20241231"},{"$f":"+'Outgoing Remittances (Value)'!C23","v":0}]
["CMREM_11530","BS",{"$f":"+'Outgoing Remittances (Value)'!$C$5","v":"20240731"},{"$f":"+'COVER SHEET'!$D$12","v":0},11530,{"$f":"'COVER SHEET'!$D$16&IF(MID('COVER SHEET'!$I$18,6,10)=\"december\",\"1231\",IF(MID('COVER SHEET'!$I$18,6,10)=\"june\",\"0630\"))","v":"20241231"},{"$f":"+'Outgoing Remittances (Value)'!C24","v":0}]
["CMREM_11530","BH",{"$f":"+'Outgoing Remittances (Value)'!$C$5","v":"20240731"},{"$f":"+'COVER SHEET'!$D$12","v":0},11530,{"$f":"'COVER SHEET'!$D$16&IF(MID('COVER SHEET'!$I$18,6,10)=\"december\",\"1231\",IF(MID('COVER SHEET'!$I$18,6,10)=\"june\",\"0630\"))","v":"20241231"},{"$f":"+'Outgoing Remittances (Value)'!C25","v":0}]
["CMREM_11530","BD",{"$f":"+'Outgoing Remittances (Value)'!$C$5","v":"20240731"},{"$f":"+'COVER SHEET'!$D$12","v":0},11530,{"$f":"'COVER SHEET'!$D$16&IF(MID('COVER SHEET'!$I$18,6,10)=\"december\",\"1231\",IF(MID('COVER SHEET'!$I$18,6,10)=\"june\",\"0630\"))","v":"20241231"},{"$f":"+'Outgoing Remittances (Value)'!C26","v":0}]
["CMREM_11530","BB",{"$f":"+'Outgoing Remittances (Value)'!$C$5","v":"20240731"},{"$f":"+'COVER SHEET'!$D$12","v":0},11530,{"$f":"'COVER SHEET'!$D$16&IF(MID('COVER SHEET'!$I$18,6,10)=\"december\",\"1231\",IF(MID('COVER SHEET'!$I$18,6,10)=\"june\",\"0630\"))","v":"20241231"},{"$f":"+'Outgoing Remittances (Value)'!C27","v":0}]
["CMREM_11530","BY",{"$f":"+'Outgoing Remittances (Value)'!$C$5","v":"20240731"},{"$f":"+'COVER SHEET'!$D$12","v":0},11530,{"$f":"'COVER SHEET'!$D$16&IF(MID('COVER SHEET'!$I$18,6,10)=\"december\",\"1231\",IF(MID('COVER SHEET'!$I$18,6,10)=\"june\",\"0630\"))","v":"20241231"},{"$f":"+'Outgoing Remittances (Value)'!C28","v":0}]
["CMREM_11530","BE",{"$f":"+'Outgoing Remittances (Value)'!$C$5","v":"20240731"},{"$f":"+'COVER SHEET'!$D$12","v":0},11530,{"$f":"'COVER SHEET'!$D$16&IF(MID('COVER SHEET'!$I$18,6,10)=\"december\",\"1231\",IF(MID('COVER SHEET'!$I$18,6,10)=\"june\",\"0630\"))","v":"20241231"},{"$f":"+'Outgoing Remittances (Value)'!C29","v":0}]
["CMREM_11530","BZ",{"$f":"+'Outgoing Remittances (Value)'!$C$5","v":"20240731"},{"$f":"+'COVER SHEET'!$D$12","v":0},11530,{"$f":"'COVER SHEET'!$D$16&IF(MID('COVER SHEET'!$I$18,6,10)=\"december\",\"1231\",IF(MID('COVER SHEET'!$I$18,6,10)=\"june\",\"0630\"))","v":"20241231"},{"$f":"+'Outgoing Remittances (Value)'!C30","v":0}]
["CMREM_11530","BJ",{"$f":"+'Outgoing Remittances (Value)'!$C$5","v":"20240731"},{"$f":"+'COVER SHEET'!$D$12","v":0},11530,{"$f":"'COVER SHEET'!$D$16&IF(MID('COVER SHEET'!$I$18,6,10)=\"december\",\"1231\",IF(MID('COVER SHEET'!$I$18,6,10)=\"june\",\"0630\"))","v":"20241231"},{"$f":"+'Outgoing Remittances (Value)'!C31","v":0}]
["CMREM_11530","BM",{"$f":"+'Outgoing Remittances (Value)'!$C$5","v":"20240731"},{"$f":"+'COVER SHEET'!$D$12","v":0},11530,{"$f":"'COVER SHEET'!$D$16&IF(MID('COVER SHEET'!$I$18,6,10)=\"december\",\"1231\",IF(MID('COVER SHEET'!$I$18,6,10)=\"june\",\"0630\"))","v":"20241231"},{"$f":"+'Outgoing Remittances (Value)'!C32","v":0}]
["CMREM_11530","BQ",{"$f":"+'Outgoing Remittances (Value)'!$C$5","v":"20240731"},{"$f":"+'COVER SHEET'!$D$12","v":0},11530,{"$f":"'COVER SHEET'!$D$16&IF(MID('COVER SHEET'!$I$18,6,10)=\"december\",\"1231\",IF(MID('COVER SHEET'!$I$18,6,10)=\"june\",\"0630\"))","v":"20241231"},{"$f":"+'Outgoing Remittances (Value)'!C33","v":0}]
["CMREM_11530","BT",{"$f":"+'Outgoing Remittances (Value)'!$C$5","v":"20240731"},{"$f":"+'COVER SHEET'!$D$12","v":0},11530,{"$f":"'COVER SHEET'!$D$16&IF(MID('COVER SHEET'!$I$18,6,10)=\"december\",\"1231\",IF(MID('COVER SHEET'!$I$18,6,10)=\"june\",\"0630\"))","v":"20241231"},{"$f":"+'Outgoing Remittances (Value)'!C34","v":0}]
["CMREM_11530","BO",{"$f":"+'Outgoing Remittances (Value)'!$C$5","v":"20240731"},{"$f":"+'COVER SHEET'!$D$12","v":0},11530,{"$f":"'COVER SHEET'!$D$16&IF(MID('COVER SHEET'!$I$18,6,10)=\"december\",\"1231\",IF(MID('COVER SHEET'!$I$18,6,10)=\"june\",\"0630\"))","v":"20241231"},{"$f":"+'Outgoing Remittances (Value)'!C35","v":0}]
["CMREM_11530","BA",{"$f":"+'Outgoing Remittances (Value)'!$C$5","v":"20240731"},{"$f":"+'COVER SHEET'!$D$12","v":0},11530,{"$f":"'COVER SHEET'!$D$16&IF(MID('COVER SHEET'!$I$18,6,10)=\"december\",\"1231\",IF(MID('COVER SHEET'!$I$18,6,10)=\"june\",\"0630\"))","v":"20241231"},{"$f":"+'Outgoing Remittances (Value)'!C36","v":0}]
["CMREM_11530","BW",{"$f":"+'Outgoing Remittances (Value)'!$C$5","v":"20240731"},{"$f":"+'COVER SHEET'!$D$12","v":0},11530,{"$f":"'COVER SHEET'!$D$16&IF(MID('COVER SHEET'!$I$18,6,10)=\"december\",\"1231\",IF(MID('COVER SHEET'!$I$18,6,10)=\"june\",\"0630\"))","v":"20241231"},{"$f":"+'Outgoing Remittances (Value)'!C37","v":0}]
["CMREM_11530","BV",{"$f":"+'Outgoing Remittances (Value)'!$C$5","v":"20240731"},{"$f":"+'COVER SHEET'!$D$12","v":0},11530,{"$f":"'COVER SHEET'!$D$16&IF(MID('COVER SHEET'!$I$18,6,10)=\"december\",\"1231\",IF(MID('COVER SHEET'!$I$18,6,10)=\"june\",\"0630\"))","v":"20241231"},{"$f":"+'Outgoing Remittances (Value)'!C38","v":0}]
["CMREM_11530","BR",{"$f":"+'Outgoing Remittances (Value)'!$C$5","v":"20240731"},{"$f":"+'COVER SHEET'!$D$12","v":0},11530,{"$f":"'COVER SHEET'!$D$16&IF(MID('COVER SHEET'!$I$18,6,10)=\"december\",\"1231\",IF(MID('COVER SHEET'!$I$18,6,10)=\"june\",\"0630\"))","v":"20241231"},{"$f":"+'Outgoing Remittances (Value)'!C39","v":0}]
["CMREM_11530","IO",{"$f":"+'Outgoing Remittances (Value)'!$C$5","v":"20240731"},{"$f":"+'COVER SHEET'!$D$12","v":0},11530,{"$f":"'COVER SHEET'!$D$16&IF(MID('COVER SHEET'!$I$18,6,10)=\"december\",\"1231\",IF(MID('COVER SHEET'!$I$18,6,10)=\"june\",\"0630\"))","v":"20241231"},{"$f":"+'Outgoing Remittances (Value)'!C40","v":0}]
["CMREM_11530","VG",{"$f":"+'Outgoing Remittances (Value)'!$C$5","v":"20240731"},{"$f":"+'COVER SHEET'!$D$12","v":0},11530,{"$f":"'COVER SHEET'!$D$16&IF(MID('COVER SHEET'!$I$18,6,10)=\"december\",\"1231\",IF(MID('COVER SHEET'!$I$18,6,10)=\"june\",\"0630\"))","v":"20241231"},{"$f":"+'Outgoing Remittances (Value)'!C41","v":0}]
["CMREM_11530","BN",{"$f":"+'Outgoing Remittances (Value)'!$C$5","v":"20240731"},{"$f":"+'COVER SHEET'!$D$12","v":0},11530,{"$f":"'COVER SHEET'!$D$16&IF(MID('COVER SHEET'!$I$18,6,10)=\"december\",\"1231\",IF(MID('COVER SHEET'!$I$18,6,10)=\"june\",\"0630\"))","v":"20241231"},{"$f":"+'Outgoing Remittances (Value)'!C42","v":0}]
["CMREM_11530","BG",{"$f":"+'Outgoing Remittances (Value)'!$C$5","v":"20240731"},{"$f":"+'COVER SHEET'!$D$12","v":0},11530,{"$f":"'COVER SHEET'!$D$16&IF(MID('COVER SHEET'!$I$18,6,10)=\"december\",\"1231\",IF(MID('COVER SHEET'!$I$18,6,10)=\"june\",\"0630\"))","v":"20241231"},{"$f":"+'Outgoing Remittances (Value)'!C43","v":0}]
["CMREM_11530","BF",{"$f":"+'Outgoing Remittances (Value)'!$C$5","v":"20240731"},{"$f":"+'COVER SHEET'!$D$12","v":0},11530,{"$f":"'COVER SHEET'!$D$16&IF(MID('COVER SHEET'!$I$18,6,10)=\"december\",\"1231\",IF(MID('COVER SHEET'!$I$18,6,10)=\"june\",\"0630\"))","v":"20241231"},{"$f":"+'Outgoing Remittances (Value)'!C44","v":0}]
["CMREM_11530","BI",{"$f":"+'Outgoing Remittances (Value)'!$C$5","v":"20240731"},{"$f":"+'COVER SHEET'!$D$12","v":0},11530,{"$f":"'COVER SHEET'!$D$16&IF(MID('COVER SHEET'!$I$18,6,10)=\"december\",\"1231\",IF(MID('COVER SHEET'!$I$18,6,10)=\"june\",\"0630\"))","v":"20241231"},{"$f":"+'Outgoing Remittances (Value)'!C45","v":0}]
["CMREM_11530","KH",{"$f":"+'Outgoing Remittances (Value)'!$C$5","v":"20240731"},{"$f":"+'COVER SHEET'!$D$12","v":0},11530,{"$f":"'COVER SHEET'!$D$16&IF(MID('COVER SHEET'!$I$18,6,10)=\"december\",\"1231\",IF(MID('COVER SHEET'!$I$18,6,10)=\"june\",\"0630\"))","v":"20241231"},{"$f":"+'Outgoing Remittances (Value)'!C46","v":0}]
["CMREM_11530","CM",{"$f":"+'Outgoing Remittances (Value)'!$C$5","v":"20240731"},{"$f":"+'COVER SHEET'!$D$12","v":0},11530,{"$f":"'COVER SHEET'!$D$16&IF(MID('COVER SHEET'!$I$18,6,10)=\"december\",\"1231\",IF(MID('COVER SHEET'!$I$18,6,10)=\"june\",\"0630\"))","v":"20241231"},{"$f":"+'Outgoing Remittances (Value)'!C47","v":0}]
["CMREM_11530","CA",{"$f":"+'Outgoing Remittances (Value)'!$C$5","v":"20240731"},{"$f":"+'COVER SHEET'!$D$12","v":0},11530,{"$f":"'COVER SHEET'!$D$16&IF(MID('COVER SHEET'!$I$18,6,10)=\"december\",\"1231\",IF(MID('COVER SHEET'!$I$18,6,10)=\"june\",\"0630\"))","v":"20241231"},{"$f":"+'Outgoing Remittances (Value)'!C48","v":0}]
["CMREM_11530","CV",{"$f":"+'Outgoing Remittances (Value)'!$C$5","v":"20240731"},{"$f":"+'COVER SHEET'!$D$12","v":0},11530,{"$f":"'COVER SHEET'!$D$16&IF(MID('COVER SHEET'!$I$18,6,10)=\"december\",\"1231\",IF(MID('COVER SHEET'!$I$18,6,10)=\"june\",\"0630\"))","v":"20241231"},{"$f":"+'Outgoing Remittances (Value)'!C49","v":0}]
["CMREM_11530","KY",{"$f":"+'Outgoing Remittances (Value)'!$C$5","v":"20240731"},{"$f":"+'COVER SHEET'!$D$12","v":0},11530,{"$f":"'COVER SHEET'!$D$16&IF(MID('COVER SHEET'!$I$18,6,10)=\"december\",\"1231\",IF(MID('COVER SHEET'!$I$18,6,10)=\"june\",\"0630\"))","v":"20241231"},{"$f":"+'Outgoing Remittances (Value)'!C50","v":0}]
["CMREM_11530","CF",{"$f":"+'Outgoing Remittances (Value)'!$C$5","v":"20240731"},{"$f":"+'COVER SHEET'!$D$12","v":0},11530,{"$f":"'COVER SHEET'!$D$16&IF(MID('COVER SHEET'!$I$18,6,10)=\"december\",\"1231\",IF(MID('COVER SHEET'!$I$18,6,10)=\"june\",\"0630\"))","v":"20241231"},{"$f":"+'Outgoing Remittances (Value)'!C51","v":0}]
["CMREM_11530","TD",{"$f":"+'Outgoing Remittances (Value)'!$C$5","v":"20240731"},{"$f":"+'COVER SHEET'!$D$12","v":0},11530,{"$f":"'COVER SHEET'!$D$16&IF(MID('COVER SHEET'!$I$18,6,10)=\"december\",\"1231\",IF(MID('COVER SHEET'!$I$18,6,10)=\"june\",\"0630\"))","v":"20241231"},{"$f":"+'Outgoing Remittances (Value)'!C52","v":0}]
["CMREM_11530","CL",{"$f":"+'Outgoing Remittances (Value)'!$C$5","v":"20240731"},{"$f":"+'COVER SHEET'!$D$12","v":0},11530,{"$f":"'COVER SHEET'!$D$16&IF(MID('COVER SHEET'!$I$18,6,10)=\"december\",\"1231\",IF(MID('COVER SHEET'!$I$18,6,10)=\"june\",\"0630\"))","v":"20241231"},{"$f":"+'Outgoing Remittances (Value)'!C53","v":0}]
["CMREM_11530","CN",{"$f":"+'Outgoing Remittances (Value)'!$C$5","v":"20240731"},{"$f":"+'COVER SHEET'!$D$12","v":0},11530,{"$f":"'COVER SHEET'!$D$16&IF(MID('COVER SHEET'!$I$18,6,10)=\"december\",\"1231\",IF(MID('COVER SHEET'!$I$18,6,10)=\"june\",\"0630\"))","v":"20241231"},{"$f":"+'Outgoing Remittances (Value)'!C54","v":0}]
["CMREM_11530","CX",{"$f":"+'Outgoing Remittances (Value)'!$C$5","v":"20240731"},{"$f":"+'COVER SHEET'!$D$12","v":0},11530,{"$f":"'COVER SHEET'!$D$16&IF(MID('COVER SHEET'!$I$18,6,10)=\"december\",\"1231\",IF(MID('COVER SHEET'!$I$18,6,10)=\"june\",\"0630\"))","v":"20241231"},{"$f":"+'Outgoing Remittances (Value)'!C55","v":0}]
["CMREM_11530","CC",{"$f":"+'Outgoing Remittances (Value)'!$C$5","v":"20240731"},{"$f":"+'COVER SHEET'!$D$12","v":0},11530,{"$f":"'COVER SHEET'!$D$16&IF(MID('COVER SHEET'!$I$18,6,10)=\"december\",\"1231\",IF(MID('COVER SHEET'!$I$18,6,10)=\"june\",\"0630\"))","v":"20241231"},{"$f":"+'Outgoing Remittances (Value)'!C56","v":0}]
["CMREM_11530","CO",{"$f":"+'Outgoing Remittances (Value)'!$C$5","v":"20240731"},{"$f":"+'COVER SHEET'!$D$12","v":0},11530,{"$f":"'COVER SHEET'!$D$16&IF(MID('COVER SHEET'!$I$18,6,10)=\"december\",\"1231\",IF(MID('COVER SHEET'!$I$18,6,10)=\"june\",\"0630\"))","v":"20241231"},{"$f":"+'Outgoing Remittances (Value)'!C57","v":0}]
["CMREM_11530","KM",{"$f":"+'Outgoing Remittances (Value)'!$C$5","v":"20240731"},{"$f":"+'COVER SHEET'!$D$12","v":0},11530,{"$f":"'COVER SHEET'!$D$16&IF(MID('COVER SHEET'!$I$18,6,10)=\"december\",\"1231\",IF(MID('COVER SHEET'!$I$18,6,10)=\"june\",\"0630\"))","v":"20241231"},{"$f":"+'Outgoing Remittances (Value)'!C58","v":0}]
["CMREM_11530","CG",{"$f":"+'Outgoing Remittances (Value)'!$C$5","v":"20240731"},{"$f":"+'COVER SHEET'!$D$12","v":0},11530,{"$f":"'COVER SHEET'!$D$16&IF(MID('COVER SHEET'!$I$18,6,10)=\"december\",\"1231\",IF(MID('COVER SHEET'!$I$18,6,10)=\"june\",\"0630\"))","v":"20241231"},{"$f":"+'Outgoing Remittances (Value)'!C59","v":0}]
["CMREM_11530","CD",{"$f":"+'Outgoing Remittances (Value)'!$C$5","v":"20240731"},{"$f":"+'COVER SHEET'!$D$12","v":0},11530,{"$f":"'COVER SHEET'!$D$16&IF(MID('COVER SHEET'!$I$18,6,10)=\"december\",\"1231\",IF(MID('COVER SHEET'!$I$18,6,10)=\"june\",\"0630\"))","v":"20241231"},{"$f":"+'Outgoing Remittances (Value)'!C60","v":0}]
["CMREM_11530","CK",{"$f":"+'Outgoing Remittances (Value)'!$C$5","v":"20240731"},{"$f":"+'COVER SHEET'!$D$12","v":0},11530,{"$f":"'COVER SHEET'!$D$16&IF(MID('COVER SHEET'!$I$18,6,10)=\"december\",\"1231\",IF(MID('COVER SHEET'!$I$18,6,10)=\"june\",\"0630\"))","v":"20241231"},{"$f":"+'Outgoing Remittances (Value)'!C61","v":0}]
["CMREM_11530","CR",{"$f":"+'Outgoing Remittances (Value)'!$C$5","v":"20240731"},{"$f":"+'COVER SHEET'!$D$12","v":0},11530,{"$f":"'COVER SHEET'!$D$16&IF(MID('COVER SHEET'!$I$18,6,10)=\"december\",\"1231\",IF(MID('COVER SHEET'!$I$18,6,10)=\"june\",\"0630\"))","v":"20241231"},{"$f":"+'Outgoing Remittances (Value)'!C62","v":0}]
["CMREM_11530","HR",{"$f":"+'Outgoing Remittances (Value)'!$C$5","v":"20240731"},{"$f":"+'COVER SHEET'!$D$12","v":0},11530,{"$f":"'COVER SHEET'!$D$16&IF(MID('COVER SHEET'!$I$18,6,10)=\"december\",\"1231\",IF(MID('COVER SHEET'!$I$18,6,10)=\"june\",\"0630\"))","v":"20241231"},{"$f":"+'Outgoing Remittances (Value)'!C63","v":0}]
["CMREM_11530","CU",{"$f":"+'Outgoing Remittances (Value)'!$C$5","v":"20240731"},{"$f":"+'COVER SHEET'!$D$12","v":0},11530,{"$f":"'COVER SHEET'!$D$16&IF(MID('COVER SHEET'!$I$18,6,10)=\"december\",\"1231\",IF(MID('COVER SHEET'!$I$18,6,10)=\"june\",\"0630\"))","v":"20241231"},{"$f":"+'Outgoing Remittances (Value)'!C64","v":0}]
["CMREM_11530","CW",{"$f":"+'Outgoing Remittances (Value)'!$C$5","v":"20240731"},{"$f":"+'COVER SHEET'!$D$12","v":0},11530,{"$f":"'COVER SHEET'!$D$16&IF(MID('COVER SHEET'!$I$18,6,10)=\"december\",\"1231\",IF(MID('COVER SHEET'!$I$18,6,10)=\"june\",\"0630\"))","v":"20241231"},{"$f":"+'Outgoing Remittances (Value)'!C65","v":0}]
["CMREM_11530","CY",{"$f":"+'Outgoing Remittances (Value)'!$C$5","v":"20240731"},{"$f":"+'COVER SHEET'!$D$12","v":0},11530,{"$f":"'COVER SHEET'!$D$16&IF(MID('COVER SHEET'!$I$18,6,10)=\"december\",\"1231\",IF(MID('COVER SHEET'!$I$18,6,10)=\"june\",\"0630\"))","v":"20241231"},{"$f":"+'Outgoing Remittances (Value)'!C66","v":0}]
["CMREM_11530","CZ",{"$f":"+'Outgoing Remittances (Value)'!$C$5","v":"20240731"},{"$f":"+'COVER SHEET'!$D$12","v":0},11530,{"$f":"'COVER SHEET'!$D$16&IF(MID('COVER SHEET'!$I$18,6,10)=\"december\",\"1231\",IF(MID('COVER SHEET'!$I$18,6,10)=\"june\",\"0630\"))","v":"20241231"},{"$f":"+'Outgoing Remittances (Value)'!C67","v":0}]
["CMREM_11530","DK",{"$f":"+'Outgoing Remittances (Value)'!$C$5","v":"20240731"},{"$f":"+'COVER SHEET'!$D$12","v":0},11530,{"$f":"'COVER SHEET'!$D$16&IF(MID('COVER SHEET'!$I$18,6,10)=\"december\",\"1231\",IF(MID('COVER SHEET'!$I$18,6,10)=\"june\",\"0630\"))","v":"20241231"},{"$f":"+'Outgoing Remittances (Value)'!C68","v":0}]
["CMREM_11530","DJ",{"$f":"+'Outgoing Remittances (Value)'!$C$5","v":"20240731"},{"$f":"+'COVER SHEET'!$D$12","v":0},11530,{"$f":"'COVER SHEET'!$D$16&IF(MID('COVER SHEET'!$I$18,6,10)=\"december\",\"1231\",IF(MID('COVER SHEET'!$I$18,6,10)=\"june\",\"0630\"))","v":"20241231"},{"$f":"+'Outgoing Remittances (Value)'!C69","v":0}]
["CMREM_11530","DM",{"$f":"+'Outgoing Remittances (Value)'!$C$5","v":"20240731"},{"$f":"+'COVER SHEET'!$D$12","v":0},11530,{"$f":"'COVER SHEET'!$D$16&IF(MID('COVER SHEET'!$I$18,6,10)=\"december\",\"1231\",IF(MID('COVER SHEET'!$I$18,6,10)=\"june\",\"0630\"))","v":"20241231"},{"$f":"+'Outgoing Remittances (Value)'!C70","v":0}]
["CMREM_11530","DO",{"$f":"+'Outgoing Remittances (Value)'!$C$5","v":"20240731"},{"$f":"+'COVER SHEET'!$D$12","v":0},11530,{"$f":"'COVER SHEET'!$D$16&IF(MID('COVER SHEET'!$I$18,6,10)=\"december\",\"1231\",IF(MID('COVER SHEET'!$I$18,6,10)=\"june\",\"0630\"))","v":"20241231"},{"$f":"+'Outgoing Remittances (Value)'!C71","v":0}]
["CMREM_11530","TL",{"$f":"+'Outgoing Remittances (Value)'!$C$5","v":"20240731"},{"$f":"+'COVER SHEET'!$D$12","v":0},11530,{"$f":"'COVER SHEET'!$D$16&IF(MID('COVER SHEET'!$I$18,6,10)=\"december\",\"1231\",IF(MID('COVER SHEET'!$I$18,6,10)=\"june\",\"0630\"))","v":"20241231"},{"$f":"+'Outgoing Remittances (Value)'!C72","v":0}]
["CMREM_11530","EC",{"$f":"+'Outgoing Remittances (Value)'!$C$5","v":"20240731"},{"$f":"+'COVER SHEET'!$D$12","v":0},11530,{"$f":"'COVER SHEET'!$D$16&IF(MID('COVER SHEET'!$I$18,6,10)=\"december\",\"1231\",IF(MID('COVER SHEET'!$I$18,6,10)=\"june\",\"0630\"))","v":"20241231"},{"$f":"+'Outgoing Remittances (Value)'!C73","v":0}]
["CMREM_11530","EG",{"$f":"+'Outgoing Remittances (Value)'!$C$5","v":"20240731"},{"$f":"+'COVER SHEET'!$D$12","v":0},11530,{"$f":"'COVER SHEET'!$D$16&IF(MID('COVER SHEET'!$I$18,6,10)=\"december\",\"1231\",IF(MID('COVER SHEET'!$I$18,6,10)=\"june\",\"0630\"))","v":"20241231"},{"$f":"+'Outgoing Remittances (Value)'!C74","v":0}]
["CMREM_11530","SV",{"$f":"+'Outgoing Remittances (Value)'!$C$5","v":"20240731"},{"$f":"+'COVER SHEET'!$D$12","v":0},11530,{"$f":"'COVER SHEET'!$D$16&IF(MID('COVER SHEET'!$I$18,6,10)=\"december\",\"1231\",IF(MID('COVER SHEET'!$I$18,6,10)=\"june\",\"0630\"))","v":"20241231"},{"$f":"+'Outgoing Remittances (Value)'!C75","v":0}]
["CMREM_11530","GQ",{"$f":"+'Outgoing Remittances (Value)'!$C$5","v":"20240731"},{"$f":"+'COVER SHEET'!$D$12","v":0},11530,{"$f":"'COVER SHEET'!$D$16&IF(MID('COVER SHEET'!$I$18,6,10)=\"december\",\"1231\",IF(MID('COVER SHEET'!$I$18,6,10)=\"june\",\"0630\"))","v":"20241231"},{"$f":"+'Outgoing Remittances (Value)'!C76","v":0}]
["CMREM_11530","ER",{"$f":"+'Outgoing Remittances (Value)'!$C$5","v":"20240731"},{"$f":"+'COVER SHEET'!$D$12","v":0},11530,{"$f":"'COVER SHEET'!$D$16&IF(MID('COVER SHEET'!$I$18,6,10)=\"december\",\"1231\",IF(MID('COVER SHEET'!$I$18,6,10)=\"june\",\"0630\"))","v":"20241231"},{"$f":"+'Outgoing Remittances (Value)'!C77","v":0}]
["CMREM_11530","EE",{"$f":"+'Outgoing Remittances (Value)'!$C$5","v":"20240731"},{"$f":"+'COVER SHEET'!$D$12","v":0},11530,{"$f":"'COVER SHEET'!$D$16&IF(MID('COVER SHEET'!$I$18,6,10)=\"december\",\"1231\",IF(MID('COVER SHEET'!$I$18,6,10)=\"june\",\"0630\"))","v":"20241231"},{"$f":"+'Outgoing Remittances (Value)'!C78","v":0}]
["CMREM_11530","ET",{"$f":"+'Outgoing Remittances (Value)'!$C$5","v":"20240731"},{"$f":"+'COVER SHEET'!$D$12","v":0},11530,{"$f":"'COVER SHEET'!$D$16&IF(MID('COVER SHEET'!$I$18,6,10)=\"december\",\"1231\",IF(MID('COVER SHEET'!$I$18,6,10)=\"june\",\"0630\"))","v":"20241231"},{"$f":"+'Outgoing Remittances (Value)'!C79","v":0}]
["CMREM_11530","FK",{"$f":"+'Outgoing Remittances (Value)'!$C$5","v":"20240731"},{"$f":"+'COVER SHEET'!$D$12","v":0},11530,{"$f":"'COVER SHEET'!$D$16&IF(MID('COVER SHEET'!$I$18,6,10)=\"december\",\"1231\",IF(MID('COVER SHEET'!$I$18,6,10)=\"june\",\"0630\"))","v":"20241231"},{"$f":"+'Outgoing Remittances (Value)'!C80","v":0}]
["CMREM_11530","FO",{"$f":"+'Outgoing Remittances (Value)'!$C$5","v":"20240731"},{"$f":"+'COVER SHEET'!$D$12","v":0},11530,{"$f":"'COVER SHEET'!$D$16&IF(MID('COVER SHEET'!$I$18,6,10)=\"december\",\"1231\",IF(MID('COVER SHEET'!$I$18,6,10)=\"june\",\"0630\"))","v":"20241231"},{"$f":"+'Outgoing Remittances (Value)'!C81","v":0}]
["CMREM_11530","FJ",{"$f":"+'Outgoing Remittances (Value)'!$C$5","v":"20240731"},{"$f":"+'COVER SHEET'!$D$12","v":0},11530,{"$f":"'COVER SHEET'!$D$16&IF(MID('COVER SHEET'!$I$18,6,10)=\"december\",\"1231\",IF(MID('COVER SHEET'!$I$18,6,10)=\"june\",\"0630\"))","v":"20241231"},{"$f":"+'Outgoing Remittances (Value)'!C82","v":0}]
["CMREM_11530","FI",{"$f":"+'Outgoing Remittances (Value)'!$C$5","v":"20240731"},{"$f":"+'COVER SHEET'!$D$12","v":0},11530,{"$f":"'COVER SHEET'!$D$16&IF(MID('COVER SHEET'!$I$18,6,10)=\"december\",\"1231\",IF(MID('COVER SHEET'!$I$18,6,10)=\"june\",\"0630\"))","v":"20241231"},{"$f":"+'Outgoing Remittances (Value)'!C83","v":0}]
["CMREM_11530","FR",{"$f":"+'Outgoing Remittances (Value)'!$C$5","v":"20240731"},{"$f":"+'COVER SHEET'!$D$12","v":0},11530,{"$f":"'COVER SHEET'!$D$16&IF(MID('COVER SHEET'!$I$18,6,10)=\"december\",\"1231\",IF(MID('COVER SHEET'!$I$18,6,10)=\"june\",\"0630\"))","v":"20241231"},{"$f":"+'Outgoing Remittances (Value)'!C84","v":0}]
["CMREM_11530","PF",{"$f":"+'Outgoing Remittances (Value)'!$C$5","v":"20240731"},{"$f":"+'COVER SHEET'!$D$12","v":0},11530,{"$f":"'COVER SHEET'!$D$16&IF(MID('COVER SHEET'!$I$18,6,10)=\"december\",\"1231\",IF(MID('COVER SHEET'!$I$18,6,10)=\"june\",\"0630\"))","v":"20241231"},{"$f":"+'Outgoing Remittances (Value)'!C85","v":0}]
["CMREM_11530","TF",{"$f":"+'Outgoing Remittances (Value)'!$C$5","v":"20240731"},{"$f":"+'COVER SHEET'!$D$12","v":0},11530,{"$f":"'COVER SHEET'!$D$16&IF(MID('COVER SHEET'!$I$18,6,10)=\"december\",\"1231\",IF(MID('COVER SHEET'!$I$18,6,10)=\"june\",\"0630\"))","v":"20241231"},{"$f":"+'Outgoing Remittances (Value)'!C86","v":0}]
["CMREM_11530","GA",{"$f":"+'Outgoing Remittances (Value)'!$C$5","v":"20240731"},{"$f":"+'COVER SHEET'!$D$12","v":0},11530,{"$f":"'COVER SHEET'!$D$16&IF(MID('COVER SHEET'!$I$18,6,10)=\"december\",\"1231\",IF(MID('COVER SHEET'!$I$18,6,10)=\"june\",\"0630\"))","v":"20241231"},{"$f":"+'Outgoing Remittances (Value)'!C87","v":0}]
["CMREM_11530","GM",{"$f":"+'Outgoing Remittances (Value)'!$C$5","v":"20240731"},{"$f":"+'COVER SHEET'!$D$12","v":0},11530,{"$f":"'COVER SHEET'!$D$16&IF(MID('COVER SHEET'!$I$18,6,10)=\"december\",\"1231\",IF(MID('COVER SHEET'!$I$18,6,10)=\"june\",\"0630\"))","v":"20241231"},{"$f":"+'Outgoing Remittances (Value)'!C88","v":0}]
["CMREM_11530","GE",{"$f":"+'Outgoing Remittances (Value)'!$C$5","v":"20240731"},{"$f":"+'COVER SHEET'!$D$12","v":0},11530,{"$f":"'COVER SHEET'!$D$16&IF(MID('COVER SHEET'!$I$18,6,10)=\"december\",\"1231\",IF(MID('COVER SHEET'!$I$18,6,10)=\"june\",\"0630\"))","v":"20241231"},{"$f":"+'Outgoing Remittances (Value)'!C89","v":0}]
["CMREM_11530","DE",{"$f":"+'Outgoing Remittances (Value)'!$C$5","v":"20240731"},{"$f":"+'COVER SHEET'!$D$12","v":0},11530,{"$f":"'COVER SHEET'!$D$16&IF(MID('COVER SHEET'!$I$18,6,10)=\"december\",\"1231\",IF(MID('COVER SHEET'!$I$18,6,10)=\"june\",\"0630\"))","v":"20241231"},{"$f":"+'Outgoing Remittances (Value)'!C90","v":0}]
["CMREM_11530","GH",{"$f":"+'Outgoing Remittances (Value)'!$C$5","v":"20240731"},{"$f":"+'COVER SHEET'!$D$12","v":0},11530,{"$f":"'COVER SHEET'!$D$16&IF(MID('COVER SHEET'!$I$18,6,10)=\"december\",\"1231\",IF(MID('COVER SHEET'!$I$18,6,10)=\"june\",\"0630\"))","v":"20241231"},{"$f":"+'Outgoing Remittances (Value)'!C91","v":0}]
["CMREM_11530","GI",{"$f":"+'Outgoing Remittances (Value)'!$C$5","v":"20240731"},{"$f":"+'COVER SHEET'!$D$12","v":0},11530,{"$f":"'COVER SHEET'!$D$16&IF(MID('COVER SHEET'!$I$18,6,10)=\"december\",\"1231\",IF(MID('COVER SHEET'!$I$18,6,10)=\"june\",\"0630\"))","v":"20241231"},{"$f":"+'Outgoing Remittances (Value)'!C92","v":0}]
["CMREM_11530","GR",{"$f":"+'Outgoing Remittances (Value)'!$C$5","v":"20240731"},{"$f":"+'COVER SHEET'!$D$12","v":0},11530,{"$f":"'COVER SHEET'!$D$16&IF(MID('COVER SHEET'!$I$18,6,10)=\"december\",\"1231\",IF(MID('COVER SHEET'!$I$18,6,10)=\"june\",\"0630\"))","v":"20241231"},{"$f":"+'Outgoing Remittances (Value)'!C93","v":0}]
["CMREM_11530","GL",{"$f":"+'Outgoing Remittances (Value)'!$C$5","v":"20240731"},{"$f":"+'COVER SHEET'!$D$12","v":0},11530,{"$f":"'COVER SHEET'!$D$16&IF(MID('COVER SHEET'!$I$18,6,10)=\"december\",\"1231\",IF(MID('COVER SHEET'!$I$18,6,10)=\"june\",\"0630\"))","v":"20241231"},{"$f":"+'Outgoing Remittances (Value)'!C94","v":0}]
["CMREM_11530","GD",{"$f":"+'Outgoing Remittances (Value)'!$C$5","v":"20240731"},{"$f":"+'COVER SHEET'!$D$12","v":0},11530,{"$f":"'COVER SHEET'!$D$16&IF(MID('COVER SHEET'!$I$18,6,10)=\"december\",\"1231\",IF(MID('COVER SHEET'!$I$18,6,10)=\"june\",\"0630\"))","v":"20241231"},{"$f":"+'Outgoing Remittances (Value)'!C95","v":0}]
["CMREM_11530","GU",{"$f":"+'Outgoing Remittances (Value)'!$C$5","v":"20240731"},{"$f":"+'COVER SHEET'!$D$12","v":0},11530,{"$f":"'COVER SHEET'!$D$16&IF(MID('COVER SHEET'!$I$18,6,10)=\"december\",\"1231\",IF(MID('COVER SHEET'!$I$18,6,10)=\"june\",\"0630\"))","v":"20241231"},{"$f":"+'Outgoing Remittances (Value)'!C96","v":0}]
["CMREM_11530","GT",{"$f":"+'Outgoing Remittances (Value)'!$C$5","v":"20240731"},{"$f":"+'COVER SHEET'!$D$12","v":0},11530,{"$f":"'COVER SHEET'!$D$16&IF(MID('COVER SHEET'!$I$18,6,10)=\"december\",\"1231\",IF(MID('COVER SHEET'!$I$18,6,10)=\"june\",\"0630\"))","v":"20241231"},{"$f":"+'Outgoing Remittances (Value)'!C97","v":0}]
["CMREM_11530","GG",{"$f":"+'Outgoing Remittances (Value)'!$C$5","v":"20240731"},{"$f":"+'COVER SHEET'!$D$12","v":0},11530,{"$f":"'COVER SHEET'!$D$16&IF(MID('COVER SHEET'!$I$18,6,10)=\"december\",\"1231\",IF(MID('COVER SHEET'!$I$18,6,10)=\"june\",\"0630\"))","v":"20241231"},{"$f":"+'Outgoing Remittances (Value)'!C98","v":0}]
["CMREM_11530","GN",{"$f":"+'Outgoing Remittances (Value)'!$C$5","v":"20240731"},{"$f":"+'COVER SHEET'!$D$12","v":0},11530,{"$f":"'COVER SHEET'!$D$16&IF(MID('COVER SHEET'!$I$18,6,10)=\"december\",\"1231\",IF(MID('COVER SHEET'!$I$18,6,10)=\"june\",\"0630\"))","v":"20241231"},{"$f":"+'Outgoing Remittances (Value)'!C99","v":0}]
["CMREM_11530","GW",{"$f":"+'Outgoing Remittances (Value)'!$C$5","v":"20240731"},{"$f":"+'COVER SHEET'!$D$12","v":0},11530,{"$f":"'COVER SHEET'!$D$16&IF(MID('COVER SHEET'!$I$18,6,10)=\"december\",\"1231\",IF(MID('COVER SHEET'!$I$18,6,10)=\"june\",\"0630\"))","v":"20241231"},{"$f":"+'Outgoing Remittances (Value)'!C100","v":0}]
["CMREM_11530","GY",{"$f":"+'Outgoing Remittances (Value)'!$C$5","v":"20240731"},{"$f":"+'COVER SHEET'!$D$12","v":0},11530,{"$f":"'COVER SHEET'!$D$16&IF(MID('COVER SHEET'!$I$18,6,10)=\"december\",\"1231\",IF(MID('COVER SHEET'!$I$18,6,10)=\"june\",\"0630\"))","v":"20241231"},{"$f":"+'Outgoing Remittances (Value)'!C101","v":0}]
["CMREM_11530","HT",{"$f":"+'Outgoing Remittances (Value)'!$C$5","v":"20240731"},{"$f":"+'COVER SHEET'!$D$12","v":0},11530,{"$f":"'COVER SHEET'!$D$16&IF(MID('COVER SHEET'!$I$18,6,10)=\"december\",\"1231\",IF(MID('COVER SHEET'!$I$18,6,10)=\"june\",\"0630\"))","v":"20241231"},{"$f":"+'Outgoing Remittances (Value)'!C102","v":0}]
["CMREM_11530","HM",{"$f":"+'Outgoing Remittances (Value)'!$C$5","v":"20240731"},{"$f":"+'COVER SHEET'!$D$12","v":0},11530,{"$f":"'COVER SHEET'!$D$16&IF(MID('COVER SHEET'!$I$18,6,10)=\"december\",\"1231\",IF(MID('COVER SHEET'!$I$18,6,10)=\"june\",\"0630\"))","v":"20241231"},{"$f":"+'Outgoing Remittances (Value)'!C103","v":0}]
["CMREM_11530","VA",{"$f":"+'Outgoing Remittances (Value)'!$C$5","v":"20240731"},{"$f":"+'COVER SHEET'!$D$12","v":0},11530,{"$f":"'COVER SHEET'!$D$16&IF(MID('COVER SHEET'!$I$18,6,10)=\"december\",\"1231\",IF(MID('COVER SHEET'!$I$18,6,10)=\"june\",\"0630\"))","v":"20241231"},{"$f":"+'Outgoing Remittances (Value)'!C104","v":0}]
["CMREM_11530","HN",{"$f":"+'Outgoing Remittances (Value)'!$C$5","v":"20240731"},{"$f":"+'COVER SHEET'!$D$12","v":0},11530,{"$f":"'COVER SHEET'!$D$16&IF(MID('COVER SHEET'!$I$18,6,10)=\"december\",\"1231\",IF(MID('COVER SHEET'!$I$18,6,10)=\"june\",\"0630\"))","v":"20241231"},{"$f":"+'Outgoing Remittances (Value)'!C105","v":0}]
["CMREM_11530","HK",{"$f":"+'Outgoing Remittances (Value)'!$C$5","v":"20240731"},{"$f":"+'COVER SHEET'!$D$12","v":0},11530,{"$f":"'COVER SHEET'!$D$16&IF(MID('COVER SHEET'!$I$18,6,10)=\"december\",\"1231\",IF(MID('COVER SHEET'!$I$18,6,10)=\"june\",\"0630\"))","v":"20241231"},{"$f":"+'Outgoing Remittances (Value)'!C106","v":0}]
["CMREM_11530","HU",{"$f":"+'Outgoing Remittances (Value)'!$C$5","v":"20240731"},{"$f":"+'COVER SHEET'!$D$12","v":0},11530,{"$f":"'COVER SHEET'!$D$16&IF(MID('COVER SHEET'!$I$18,6,10)=\"december\",\"1231\",IF(MID('COVER SHEET'!$I$18,6,10)=\"june\",\"0630\"))","v":"20241231"},{"$f":"+'Outgoing Remittances (Value)'!C107","v":0}]
["CMREM_11530","IS",{"$f":"+'Outgoing Remittances (Value)'!$C$5","v":"20240731"},{"$f":"+'COVER SHEET'!$D$12","v":0},11530,{"$f":"'COVER SHEET'!$D$16&IF(MID('COVER SHEET'!$I$18,6,10)=\"december\",\"1231\",IF(MID('COVER SHEET'!$I$18,6,10)=\"june\",\"0630\"))","v":"20241231"},{"$f":"+'Outgoing Remittances (Value)'!C108","v":0}]
["CMREM_11530","IN",{"$f":"+'Outgoing Remittances (Value)'!$C$5","v":"20240731"},{"$f":"+'COVER SHEET'!$D$12","v":0},11530,{"$f":"'COVER SHEET'!$D$16&IF(MID('COVER SHEET'!$I$18,6,10)=\"december\",\"1231\",IF(MID('COVER SHEET'!$I$18,6,10)=\"june\",\"0630\"))","v":"20241231"},{"$f":"+'Outgoing Remittances (Value)'!C109","v":0}]
["CMREM_11530","ID",{"$f":"+'Outgoing Remittances (Value)'!$C$5","v":"20240731"},{"$f":"+'COVER SHEET'!$D$12","v":0},11530,{"$f":"'COVER SHEET'!$D$16&IF(MID('COVER SHEET'!$I$18,6,10)=\"december\",\"1231\",IF(MID('COVER SHEET'!$I$18,6,10)=\"june\",\"0630\"))","v":"20241231"},{"$f":"+'Outgoing Remittances (Value)'!C110","v":0}]
["CMREM_11530","IR",{"$f":"+'Outgoing Remittances (Value)'!$C$5","v":"20240731"},{"$f":"+'COVER SHEET'!$D$12","v":0},11530,{"$f":"'COVER SHEET'!$D$16&IF(MID('COVER SHEET'!$I$18,6,10)=\"december\",\"1231\",IF(MID('COVER SHEET'!$I$18,6,10)=\"june\",\"0630\"))","v":"20241231"},{"$f":"+'Outgoing Remittances (Value)'!C111","v":0}]
["CMREM_11530","IQ",{"$f":"+'Outgoing Remittances (Value)'!$C$5","v":"20240731"},{"$f":"+'COVER SHEET'!$D$12","v":0},11530,{"$f":"'COVER SHEET'!$D$16&IF(MID('COVER SHEET'!$I$18,6,10)=\"december\",\"1231\",IF(MID('COVER SHEET'!$I$18,6,10)=\"june\",\"0630\"))","v":"20241231"},{"$f":"+'Outgoing Remittances (Value)'!C112","v":0}]
["CMREM_11530","IE",{"$f":"+'Outgoing Remittances (Value)'!$C$5","v":"20240731"},{"$f":"+'COVER SHEET'!$D$12","v":0},11530,{"$f":"'COVER SHEET'!$D$16&IF(MID('COVER SHEET'!$I$18,6,10)=\"december\",\"1231\",IF(MID('COVER SHEET'!$I$18,6,10)=\"june\",\"0630\"))","v":"20241231"},{"$f":"+'Outgoing Remittances (Value)'!C113","v":0}]
["CMREM_11530","IM",{"$f":"+'Outgoing Remittances (Value)'!$C$5","v":"20240731"},{"$f":"+'COVER SHEET'!$D$12","v":0},11530,{"$f":"'COVER SHEET'!$D$16&IF(MID('COVER SHEET'!$I$18,6,10)=\"december\",\"1231\",IF(MID('COVER SHEET'!$I$18,6,10)=\"june\",\"0630\"))","v":"20241231"},{"$f":"+'Outgoing Remittances (Value)'!C114","v":0}]
["CMREM_11530","IL",{"$f":"+'Outgoing Remittances (Value)'!$C$5","v":"20240731"},{"$f":"+'COVER SHEET'!$D$12","v":0},11530,{"$f":"'COVER SHEET'!$D$16&IF(MID('COVER SHEET'!$I$18,6,10)=\"december\",\"1231\",IF(MID('COVER SHEET'!$I$18,6,10)=\"june\",\"0630\"))","v":"20241231"},{"$f":"+'Outgoing Remittances (Value)'!C115","v":0}]
["CMREM_11530","IT",{"$f":"+'Outgoing Remittances (Value)'!$C$5","v":"20240731"},{"$f":"+'COVER SHEET'!$D$12","v":0},11530,{"$f":"'COVER SHEET'!$D$16&IF(MID('COVER SHEET'!$I$18,6,10)=\"december\",\"1231\",IF(MID('COVER SHEET'!$I$18,6,10)=\"june\",\"0630\"))","v":"20241231"},{"$f":"+'Outgoing Remittances (Value)'!C116","v":0}]
["CMREM_11530","CI",{"$f":"+'Outgoing Remittances (Value)'!$C$5","v":"20240731"},{"$f":"+'COVER SHEET'!$D$12","v":0},11530,{"$f":"'COVER SHEET'!$D$16&IF(MID('COVER SHEET'!$I$18,6,10)=\"december\",\"1231\",IF(MID('COVER SHEET'!$I$18,6,10)=\"june\",\"0630\"))","v":"20241231"},{"$f":"+'Outgoing Remittances (Value)'!C117","v":0}]
["CMREM_11530","JM",{"$f":"+'Outgoing Remittances (Value)'!$C$5","v":"20240731"},{"$f":"+'COVER SHEET'!$D$12","v":0},11530,{"$f":"'COVER SHEET'!$D$16&IF(MID('COVER SHEET'!$I$18,6,10)=\"december\",\"1231\",IF(MID('COVER SHEET'!$I$18,6,10)=\"june\",\"0630\"))","v":"20241231"},{"$f":"+'Outgoing Remittances (Value)'!C118","v":0}]
["CMREM_11530","JP",{"$f":"+'Outgoing Remittances (Value)'!$C$5","v":"20240731"},{"$f":"+'COVER SHEET'!$D$12","v":0},11530,{"$f":"'COVER SHEET'!$D$16&IF(MID('COVER SHEET'!$I$18,6,10)=\"december\",\"1231\",IF(MID('COVER SHEET'!$I$18,6,10)=\"june\",\"0630\"))","v":"20241231"},{"$f":"+'Outgoing Remittances (Value)'!C119","v":0}]
["CMREM_11530","JE",{"$f":"+'Outgoing Remittances (Value)'!$C$5","v":"20240731"},{"$f":"+'COVER SHEET'!$D$12","v":0},11530,{"$f":"'COVER SHEET'!$D$16&IF(MID('COVER SHEET'!$I$18,6,10)=\"december\",\"1231\",IF(MID('COVER SHEET'!$I$18,6,10)=\"june\",\"0630\"))","v":"20241231"},{"$f":"+'Outgoing Remittances (Value)'!C120","v":0}]
["CMREM_11530","JO",{"$f":"+'Outgoing Remittances (Value)'!$C$5","v":"20240731"},{"$f":"+'COVER SHEET'!$D$12","v":0},11530,{"$f":"'COVER SHEET'!$D$16&IF(MID('COVER SHEET'!$I$18,6,10)=\"december\",\"1231\",IF(MID('COVER SHEET'!$I$18,6,10)=\"june\",\"0630\"))","v":"20241231"},{"$f":"+'Outgoing Remittances (Value)'!C121","v":0}]
["CMREM_11530","KZ",{"$f":"+'Outgoing Remittances (Value)'!$C$5","v":"20240731"},{"$f":"+'COVER SHEET'!$D$12","v":0},11530,{"$f":"'COVER SHEET'!$D$16&IF(MID('COVER SHEET'!$I$18,6,10)=\"december\",\"1231\",IF(MID('COVER SHEET'!$I$18,6,10)=\"june\",\"0630\"))","v":"20241231"},{"$f":"+'Outgoing Remittances (Value)'!C122","v":0}]
["CMREM_11530","KE",{"$f":"+'Outgoing Remittances (Value)'!$C$5","v":"20240731"},{"$f":"+'COVER SHEET'!$D$12","v":0},11530,{"$f":"'COVER SHEET'!$D$16&IF(MID('COVER SHEET'!$I$18,6,10)=\"december\",\"1231\",IF(MID('COVER SHEET'!$I$18,6,10)=\"june\",\"0630\"))","v":"20241231"},{"$f":"+'Outgoing Remittances (Value)'!C123","v":0}]
["CMREM_11530","KI",{"$f":"+'Outgoing Remittances (Value)'!$C$5","v":"20240731"},{"$f":"+'COVER SHEET'!$D$12","v":0},11530,{"$f":"'COVER SHEET'!$D$16&IF(MID('COVER SHEET'!$I$18,6,10)=\"december\",\"1231\",IF(MID('COVER SHEET'!$I$18,6,10)=\"june\",\"0630\"))","v":"20241231"},{"$f":"+'Outgoing Remittances (Value)'!C124","v":0}]
["CMREM_11530","KP",{"$f":"+'Outgoing Remittances (Value)'!$C$5","v":"20240731"},{"$f":"+'COVER SHEET'!$D$12","v":0},11530,{"$f":"'COVER SHEET'!$D$16&IF(MID('COVER SHEET'!$I$18,6,10)=\"december\",\"1231\",IF(MID('COVER SHEET'!$I$18,6,10)=\"june\",\"0630\"))","v":"20241231"},{"$f":"+'Outgoing Remittances (Value)'!C125","v":0}]
["CMREM_11530","KR",{"$f":"+'Outgoing Remittances (Value)'!$C$5","v":"20240731"},{"$f":"+'COVER SHEET'!$D$12","v":0},11530,{"$f":"'COVER SHEET'!$D$16&IF(MID('COVER SHEET'!$I$18,6,10)=\"december\",\"1231\",IF(MID('COVER SHEET'!$I$18,6,10)=\"june\",\"0630\"))","v":"20241231"},{"$f":"+'Outgoing Remittances (Value)'!C126","v":0}]
["CMREM_11530","XK",{"$f":"+'Outgoing Remittances (Value)'!$C$5","v":"20240731"},{"$f":"+'COVER SHEET'!$D$12","v":0},11530,{"$f":"'COVER SHEET'!$D$16&IF(MID('COVER SHEET'!$I$18,6,10)=\"december\",\"1231\",IF(MID('COVER SHEET'!$I$18,6,10)=\"june\",\"0630\"))","v":"20241231"},{"$f":"+'Outgoing Remittances (Value)'!C127","v":0}]
["CMREM_11530","KW",{"$f":"+'Outgoing Remittances (Value)'!$C$5","v":"20240731"},{"$f":"+'COVER SHEET'!$D$12","v":0},11530,{"$f":"'COVER SHEET'!$D$16&IF(MID('COVER SHEET'!$I$18,6,10)=\"december\",\"1231\",IF(MID('COVER SHEET'!$I$18,6,10)=\"june\",\"0630\"))","v":"20241231"},{"$f":"+'Outgoing Remittances (Value)'!C128","v":0}]
["CMREM_11530","KG",{"$f":"+'Outgoing Remittances (Value)'!$C$5","v":"20240731"},{"$f":"+'COVER SHEET'!$D$12","v":0},11530,{"$f":"'COVER SHEET'!$D$16&IF(MID('COVER SHEET'!$I$18,6,10)=\"december\",\"1231\",IF(MID('COVER SHEET'!$I$18,6,10)=\"june\",\"0630\"))","v":"20241231"},{"$f":"+'Outgoing Remittances (Value)'!C129","v":0}]
["CMREM_11530","LA",{"$f":"+'Outgoing Remittances (Value)'!$C$5","v":"20240731"},{"$f":"+'COVER SHEET'!$D$12","v":0},11530,{"$f":"'COVER SHEET'!$D$16&IF(MID('COVER SHEET'!$I$18,6,10)=\"december\",\"1231\",IF(MID('COVER SHEET'!$I$18,6,10)=\"june\",\"0630\"))","v":"20241231"},{"$f":"+'Outgoing Remittances (Value)'!C130","v":0}]
["CMREM_11530","LV",{"$f":"+'Outgoing Remittances (Value)'!$C$5","v":"20240731"},{"$f":"+'COVER SHEET'!$D$12","v":0},11530,{"$f":"'COVER SHEET'!$D$16&IF(MID('COVER SHEET'!$I$18,6,10)=\"december\",\"1231\",IF(MID('COVER SHEET'!$I$18,6,10)=\"june\",\"0630\"))","v":"20241231"},{"$f":"+'Outgoing Remittances (Value)'!C131","v":0}]
["CMREM_11530","LB",{"$f":"+'Outgoing Remittances (Value)'!$C$5","v":"20240731"},{"$f":"+'COVER SHEET'!$D$12","v":0},11530,{"$f":"'COVER SHEET'!$D$16&IF(MID('COVER SHEET'!$I$18,6,10)=\"december\",\"1231\",IF(MID('COVER SHEET'!$I$18,6,10)=\"june\",\"0630\"))","v":"20241231"},{"$f":"+'Outgoing Remittances (Value)'!C132","v":0}]
["CMREM_11530","LS",{"$f":"+'Outgoing Remittances (Value)'!$C$5","v":"20240731"},{"$f":"+'COVER SHEET'!$D$12","v":0},11530,{"$f":"'COVER SHEET'!$D$16&IF(MID('COVER SHEET'!$I$18,6,10)=\"december\",\"1231\",IF(MID('COVER SHEET'!$I$18,6,10)=\"june\",\"0630\"))","v":"20241231"},{"$f":"+'Outgoing Remittances (Value)'!C133","v":0}]
["CMREM_11530","LR",{"$f":"+'Outgoing Remittances (Value)'!$C$5","v":"20240731"},{"$f":"+'COVER SHEET'!$D$12","v":0},11530,{"$f":"'COVER SHEET'!$D$16&IF(MID('COVER SHEET'!$I$18,6,10)=\"december\",\"1231\",IF(MID('COVER SHEET'!$I$18,6,10)=\"june\",\"0630\"))","v":"20241231"},{"$f":"+'Outgoing Remittances (Value)'!C134","v":0}]
["CMREM_11530","LY",{"$f":"+'Outgoing Remittances (Value)'!$C$5","v":"20240731"},{"$f":"+'COVER SHEET'!$D$12","v":0},11530,{"$f":"'COVER SHEET'!$D$16&IF(MID('COVER SHEET'!$I$18,6,10)=\"december\",\"1231\",IF(MID('COVER SHEET'!$I$18,6,10)=\"june\",\"0630\"))","v":"20241231"},{"$f":"+'Outgoing Remittances (Value)'!C135","v":0}]
["CMREM_11530","LI",{"$f":"+'Outgoing Remittances (Value)'!$C$5","v":"20240731"},{"$f":"+'COVER SHEET'!$D$12","v":0},11530,{"$f":"'COVER SHEET'!$D$16&IF(MID('COVER SHEET'!$I$18,6,10)=\"december\",\"1231\",IF(MID('COVER SHEET'!$I$18,6,10)=\"june\",\"0630\"))","v":"20241231"},{"$f":"+'Outgoing Remittances (Value)'!C136","v":0}]
["CMREM_11530","LT",{"$f":"+'Outgoing Remittances (Value)'!$C$5","v":"20240731"},{"$f":"+'COVER SHEET'!$D$12","v":0},11530,{"$f":"'COVER SHEET'!$D$16&IF(MID('COVER SHEET'!$I$18,6,10)=\"december\",\"1231\",IF(MID('COVER SHEET'!$I$18,6,10)=\"june\",\"0630\"))","v":"20241231"},{"$f":"+'Outgoing Remittances (Value)'!C137","v":0}]
["CMREM_11530","LU",{"$f":"+'Outgoing Remittances (Value)'!$C$5","v":"20240731"},{"$f":"+'COVER SHEET'!$D$12","v":0},11530,{"$f":"'COVER SHEET'!$D$16&IF(MID('COVER SHEET'!$I$18,6,10)=\"december\",\"1231\",IF(MID('COVER SHEET'!$I$18,6,10)=\"june\",\"0630\"))","v":"20241231"},{"$f":"+'Outgoing Remittances (Value)'!C138","v":0}]
["CMREM_11530","MO",{"$f":"+'Outgoing Remittances (Value)'!$C$5","v":"20240731"},{"$f":"+'COVER SHEET'!$D$12","v":0},11530,{"$f":"'COVER SHEET'!$D$16&IF(MID('COVER SHEET'!$I$18,6,10)=\"december\",\"1231\",IF(MID('COVER SHEET'!$I$18,6,10)=\"june\",\"0630\"))","v":"20241231"},{"$f":"+'Outgoing Remittances (Value)'!C139","v":0}]
["CMREM_11530","MK",{"$f":"+'Outgoing Remittances (Value)'!$C$5","v":"20240731"},{"$f":"+'COVER SHEET'!$D$12","v":0},11530,{"$f":"'COVER SHEET'!$D$16&IF(MID('COVER SHEET'!$I$18,6,10)=\"december\",\"1231\",IF(MID('COVER SHEET'!$I$18,6,10)=\"june\",\"0630\"))","v":"20241231"},{"$f":"+'Outgoing Remittances (Value)'!C140","v":0}]
["CMREM_11530","MG",{"$f":"+'Outgoing Remittances (Value)'!$C$5","v":"20240731"},{"$f":"+'COVER SHEET'!$D$12","v":0},11530,{"$f":"'COVER SHEET'!$D$16&IF(MID('COVER SHEET'!$I$18,6,10)=\"december\",\"1231\",IF(MID('COVER SHEET'!$I$18,6,10)=\"june\",\"0630\"))","v":"20241231"},{"$f":"+'Outgoing Remittances (Value)'!C141","v":0}]
["CMREM_11530","MW",{"$f":"+'Outgoing Remittances (Value)'!$C$5","v":"20240731"},{"$f":"+'COVER SHEET'!$D$12","v":0},11530,{"$f":"'COVER SHEET'!$D$16&IF(MID('COVER SHEET'!$I$18,6,10)=\"december\",\"1231\",IF(MID('COVER SHEET'!$I$18,6,10)=\"june\",\"0630\"))","v":"20241231"},{"$f":"+'Outgoing Remittances (Value)'!C142","v":0}]
["CMREM_11530","MY",{"$f":"+'Outgoing Remittances (Value)'!$C$5","v":"20240731"},{"$f":"+'COVER SHEET'!$D$12","v":0},11530,{"$f":"'COVER SHEET'!$D$16&IF(MID('COVER SHEET'!$I$18,6,10)=\"december\",\"1231\",IF(MID('COVER SHEET'!$I$18,6,10)=\"june\",\"0630\"))","v":"20241231"},{"$f":"+'Outgoing Remittances (Value)'!C143","v":0}]
["CMREM_11530","MV",{"$f":"+'Outgoing Remittances (Value)'!$C$5","v":"20240731"},{"$f":"+'COVER SHEET'!$D$12","v":0},11530,{"$f":"'COVER SHEET'!$D$16&IF(MID('COVER SHEET'!$I$18,6,10)=\"december\",\"1231\",IF(MID('COVER SHEET'!$I$18,6,10)=\"june\",\"0630\"))","v":"20241231"},{"$f":"+'Outgoing Remittances (Value)'!C144","v":0}]
["CMREM_11530","ML",{"$f":"+'Outgoing Remittances (Value)'!$C$5","v":"20240731"},{"$f":"+'COVER SHEET'!$D$12","v":0},11530,{"$f":"'COVER SHEET'!$D$16&IF(MID('COVER SHEET'!$I$18,6,10)=\"december\",\"1231\",IF(MID('COVER SHEET'!$I$18,6,10)=\"june\",\"0630\"))","v":"20241231"},{"$f":"+'Outgoing Remittances (Value)'!C145","v":0}]
["CMREM_11530","MH",{"$f":"+'Outgoing Remittances (Value)'!$C$5","v":"20240731"},{"$f":"+'COVER SHEET'!$D$12","v":0},11530,{"$f":"'COVER SHEET'!$D$16&IF(MID('COVER SHEET'!$I$18,6,10)=\"december\",\"1231\",IF(MID('COVER SHEET'!$I$18,6,10)=\"june\",\"0630\"))","v":"20241231"},{"$f":"+'Outgoing Remittances (Value)'!C146","v":0}]
["CMREM_11530","MR",{"$f":"+'Outgoing Remittances (Value)'!$C$5","v":"20240731"},{"$f":"+'COVER SHEET'!$D$12","v":0},11530,{"$f":"'COVER SHEET'!$D$16&IF(MID('COVER SHEET'!$I$18,6,10)=\"december\",\"1231\",IF(MID('COVER SHEET'!$I$18,6,10)=\"june\",\"0630\"))","v":"20241231"},{"$f":"+'Outgoing Remittances (Value)'!C147","v":0}]
["CMREM_11530","MU",{"$f":"+'Outgoing Remittances (Value)'!$C$5","v":"20240731"},{"$f":"+'COVER SHEET'!$D$12","v":0},11530,{"$f":"'COVER SHEET'!$D$16&IF(MID('COVER SHEET'!$I$18,6,10)=\"december\",\"1231\",IF(MID('COVER SHEET'!$I$18,6,10)=\"june\",\"0630\"))","v":"20241231"},{"$f":"+'Outgoing Remittances (Value)'!C148","v":0}]
["CMREM_11530","MX",{"$f":"+'Outgoing Remittances (Value)'!$C$5","v":"20240731"},{"$f":"+'COVER SHEET'!$D$12","v":0},11530,{"$f":"'COVER SHEET'!$D$16&IF(MID('COVER SHEET'!$I$18,6,10)=\"december\",\"1231\",IF(MID('COVER SHEET'!$I$18,6,10)=\"june\",\"0630\"))","v":"20241231"},{"$f":"+'Outgoing Remittances (Value)'!C149","v":0}]
["CMREM_11530","FM",{"$f":"+'Outgoing Remittances (Value)'!$C$5","v":"20240731"},{"$f":"+'COVER SHEET'!$D$12","v":0},11530,{"$f":"'COVER SHEET'!$D$16&IF(MID('COVER SHEET'!$I$18,6,10)=\"december\",\"1231\",IF(MID('COVER SHEET'!$I$18,6,10)=\"june\",\"0630\"))","v":"20241231"},{"$f":"+'Outgoing Remittances (Value)'!C150","v":0}]
["CMREM_11530","MD",{"$f":"+'Outgoing Remittances (Value)'!$C$5","v":"20240731"},{"$f":"+'COVER SHEET'!$D$12","v":0},11530,{"$f":"'COVER SHEET'!$D$16&IF(MID('COVER SHEET'!$I$18,6,10)=\"december\",\"1231\",IF(MID('COVER SHEET'!$I$18,6,10)=\"june\",\"0630\"))","v":"20241231"},{"$f":"+'Outgoing Remittances (Value)'!C151","v":0}]
["CMREM_11530","MN",{"$f":"+'Outgoing Remittances (Value)'!$C$5","v":"20240731"},{"$f":"+'COVER SHEET'!$D$12","v":0},11530,{"$f":"'COVER SHEET'!$D$16&IF(MID('COVER SHEET'!$I$18,6,10)=\"december\",\"1231\",IF(MID('COVER SHEET'!$I$18,6,10)=\"june\",\"0630\"))","v":"20241231"},{"$f":"+'Outgoing Remittances (Value)'!C152","v":0}]
["CMREM_11530","ME",{"$f":"+'Outgoing Remittances (Value)'!$C$5","v":"20240731"},{"$f":"+'COVER SHEET'!$D$12","v":0},11530,{"$f":"'COVER SHEET'!$D$16&IF(MID('COVER SHEET'!$I$18,6,10)=\"december\",\"1231\",IF(MID('COVER SHEET'!$I$18,6,10)=\"june\",\"0630\"))","v":"20241231"},{"$f":"+'Outgoing Remittances (Value)'!C153","v":0}]
["CMREM_11530","MS",{"$f":"+'Outgoing Remittances (Value)'!$C$5","v":"20240731"},{"$f":"+'COVER SHEET'!$D$12","v":0},11530,{"$f":"'COVER SHEET'!$D$16&IF(MID('COVER SHEET'!$I$18,6,10)=\"december\",\"1231\",IF(MID('COVER SHEET'!$I$18,6,10)=\"june\",\"0630\"))","v":"20241231"},{"$f":"+'Outgoing Remittances (Value)'!C154","v":0}]
["CMREM_11530","MA",{"$f":"+'Outgoing Remittances (Value)'!$C$5","v":"20240731"},{"$f":"+'COVER SHEET'!$D$12","v":0},11530,{"$f":"'COVER SHEET'!$D$16&IF(MID('COVER SHEET'!$I$18,6,10)=\"december\",\"1231\",IF(MID('COVER SHEET'!$I$18,6,10)=\"june\",\"0630\"))","v":"20241231"},{"$f":"+'Outgoing Remittances (Value)'!C155","v":0}]
["CMREM_11530","MZ",{"$f":"+'Outgoing Remittances (Value)'!$C$5","v":"20240731"},{"$f":"+'COVER SHEET'!$D$12","v":0},11530,{"$f":"'COVER SHEET'!$D$16&IF(MID('COVER SHEET'!$I$18,6,10)=\"december\",\"1231\",IF(MID('COVER SHEET'!$I$18,6,10)=\"june\",\"0630\"))","v":"20241231"},{"$f":"+'Outgoing Remittances (Value)'!C156","v":0}]
["CMREM_11530","MM",{"$f":"+'Outgoing Remittances (Value)'!$C$5","v":"20240731"},{"$f":"+'COVER SHEET'!$D$12","v":0},11530,{"$f":"'COVER SHEET'!$D$16&IF(MID('COVER SHEET'!$I$18,6,10)=\"december\",\"1231\",IF(MID('COVER SHEET'!$I$18,6,10)=\"june\",\"0630\"))","v":"20241231"},{"$f":"+'Outgoing Remittances (Value)'!C157","v":0}]
["CMREM_11530","NA",{"$f":"+'Outgoing Remittances (Value)'!$C$5","v":"20240731"},{"$f":"+'COVER SHEET'!$D$12","v":0},11530,{"$f":"'COVER SHEET'!$D$16&IF(MID('COVER SHEET'!$I$18,6,10)=\"december\",\"1231\",IF(MID('COVER SHEET'!$I$18,6,10)=\"june\",\"0630\"))","v":"20241231"},{"$f":"+'Outgoing Remittances (Value)'!C158","v":0}]
["CMREM_11530","NR",{"$f":"+'Outgoing Remittances (Value)'!$C$5","v":"20240731"},{"$f":"+'COVER SHEET'!$D$12","v":0},11530,{"$f":"'COVER SHEET'!$D$16&IF(MID('COVER SHEET'!$I$18,6,10)=\"december\",\"1231\",IF(MID('COVER SHEET'!$I$18,6,10)=\"june\",\"0630\"))","v":"20241231"},{"$f":"+'Outgoing Remittances (Value)'!C159","v":0}]
["CMREM_11530","NP",{"$f":"+'Outgoing Remittances (Value)'!$C$5","v":"20240731"},{"$f":"+'COVER SHEET'!$D$12","v":0},11530,{"$f":"'COVER SHEET'!$D$16&IF(MID('COVER SHEET'!$I$18,6,10)=\"december\",\"1231\",IF(MID('COVER SHEET'!$I$18,6,10)=\"june\",\"0630\"))","v":"20241231"},{"$f":"+'Outgoing Remittances (Value)'!C160","v":0}]
["CMREM_11530","NL",{"$f":"+'Outgoing Remittances (Value)'!$C$5","v":"20240731"},{"$f":"+'COVER SHEET'!$D$12","v":0},11530,{"$f":"'COVER SHEET'!$D$16&IF(MID('COVER SHEET'!$I$18,6,10)=\"december\",\"1231\",IF(MID('COVER SHEET'!$I$18,6,10)=\"june\",\"0630\"))","v":"20241231"},{"$f":"+'Outgoing Remittances (Value)'!C161","v":0}]
["CMREM_11530","NC",{"$f":"+'Outgoing Remittances (Value)'!$C$5","v":"20240731"},{"$f":"+'COVER SHEET'!$D$12","v":0},11530,{"$f":"'COVER SHEET'!$D$16&IF(MID('COVER SHEET'!$I$18,6,10)=\"december\",\"1231\",IF(MID('COVER SHEET'!$I$18,6,10)=\"june\",\"0630\"))","v":"20241231"},{"$f":"+'Outgoing Remittances (Value)'!C162","v":0}]
["CMREM_11530","NZ",{"$f":"+'Outgoing Remittances (Value)'!$C$5","v":"20240731"},{"$f":"+'COVER SHEET'!$D$12","v":0},11530,{"$f":"'COVER SHEET'!$D$16&IF(MID('COVER SHEET'!$I$18,6,10)=\"december\",\"1231\",IF(MID('COVER SHEET'!$I$18,6,10)=\"june\",\"0630\"))","v":"20241231"},{"$f":"+'Outgoing Remittances (Value)'!C163","v":0}]
["CMREM_11530","NI",{"$f":"+'Outgoing Remittances (Value)'!$C$5","v":"20240731"},{"$f":"+'COVER SHEET'!$D$12","v":0},11530,{"$f":"'COVER SHEET'!$D$16&IF(MID('COVER SHEET'!$I$18,6,10)=\"december\",\"1231\",IF(MID('COVER SHEET'!$I$18,6,10)=\"june\",\"0630\"))","v":"20241231"},{"$f":"+'Outgoing Remittances (Value)'!C164","v":0}]
["CMREM_11530","NE",{"$f":"+'Outgoing Remittances (Value)'!$C$5","v":"20240731"},{"$f":"+'COVER SHEET'!$D$12","v":0},11530,{"$f":"'COVER SHEET'!$D$16&IF(MID('COVER SHEET'!$I$18,6,10)=\"december\",\"1231\",IF(MID('COVER SHEET'!$I$18,6,10)=\"june\",\"0630\"))","v":"20241231"},{"$f":"+'Outgoing Remittances (Value)'!C165","v":0}]
["CMREM_11530","NG",{"$f":"+'Outgoing Remittances (Value)'!$C$5","v":"20240731"},{"$f":"+'COVER SHEET'!$D$12","v":0},11530,{"$f":"'COVER SHEET'!$D$16&IF(MID('COVER SHEET'!$I$18,6,10)=\"december\",\"1231\",IF(MID('COVER SHEET'!$I$18,6,10)=\"june\",\"0630\"))","v":"20241231"},{"$f":"+'Outgoing Remittances (Value)'!C166","v":0}]
["CMREM_11530","NU",{"$f":"+'Outgoing Remittances (Value)'!$C$5","v":"20240731"},{"$f":"+'COVER SHEET'!$D$12","v":0},11530,{"$f":"'COVER SHEET'!$D$16&IF(MID('COVER SHEET'!$I$18,6,10)=\"december\",\"1231\",IF(MID('COVER SHEET'!$I$18,6,10)=\"june\",\"0630\"))","v":"20241231"},{"$f":"+'Outgoing Remittances (Value)'!C167","v":0}]
["CMREM_11530","NF",{"$f":"+'Outgoing Remittances (Value)'!$C$5","v":"20240731"},{"$f":"+'COVER SHEET'!$D$12","v":0},11530,{"$f":"'COVER SHEET'!$D$16&IF(MID('COVER SHEET'!$I$18,6,10)=\"december\",\"1231\",IF(MID('COVER SHEET'!$I$18,6,10)=\"june\",\"0630\"))","v":"20241231"},{"$f":"+'Outgoing Remittances (Value)'!C168","v":0}]
["CMREM_11530","MP",{"$f":"+'Outgoing Remittances (Value)'!$C$5","v":"20240731"},{"$f":"+'COVER SHEET'!$D$12","v":0},11530,{"$f":"'COVER SHEET'!$D$16&IF(MID('COVER SHEET'!$I$18,6,10)=\"december\",\"1231\",IF(MID('COVER SHEET'!$I$18,6,10)=\"june\",\"0630\"))","v":"20241231"},{"$f":"+'Outgoing Remittances (Value)'!C169","v":0}]
["CMREM_11530","NO",{"$f":"+'Outgoing Remittances (Value)'!$C$5","v":"20240731"},{"$f":"+'COVER SHEET'!$D$12","v":0},11530,{"$f":"'COVER SHEET'!$D$16&IF(MID('COVER SHEET'!$I$18,6,10)=\"december\",\"1231\",IF(MID('COVER SHEET'!$I$18,6,10)=\"june\",\"0630\"))","v":"20241231"},{"$f":"+'Outgoing Remittances (Value)'!C170","v":0}]
["CMREM_11530","OM",{"$f":"+'Outgoing Remittances (Value)'!$C$5","v":"20240731"},{"$f":"+'COVER SHEET'!$D$12","v":0},11530,{"$f":"'COVER SHEET'!$D$16&IF(MID('COVER SHEET'!$I$18,6,10)=\"december\",\"1231\",IF(MID('COVER SHEET'!$I$18,6,10)=\"june\",\"0630\"))","v":"20241231"},{"$f":"+'Outgoing Remittances (Value)'!C171","v":0}]
["CMREM_11530","PK",{"$f":"+'Outgoing Remittances (Value)'!$C$5","v":"20240731"},{"$f":"+'COVER SHEET'!$D$12","v":0},11530,{"$f":"'COVER SHEET'!$D$16&IF(MID('COVER SHEET'!$I$18,6,10)=\"december\",\"1231\",IF(MID('COVER SHEET'!$I$18,6,10)=\"june\",\"0630\"))","v":"20241231"},{"$f":"+'Outgoing Remittances (Value)'!C172","v":0}]
["CMREM_11530","PW",{"$f":"+'Outgoing Remittances (Value)'!$C$5","v":"20240731"},{"$f":"+'COVER SHEET'!$D$12","v":0},11530,{"$f":"'COVER SHEET'!$D$16&IF(MID('COVER SHEET'!$I$18,6,10)=\"december\",\"1231\",IF(MID('COVER SHEET'!$I$18,6,10)=\"june\",\"0630\"))","v":"20241231"},{"$f":"+'Outgoing Remittances (Value)'!C173","v":0}]
["CMREM_11530","PS",{"$f":"+'Outgoing Remittances (Value)'!$C$5","v":"20240731"},{"$f":"+'COVER SHEET'!$D$12","v":0},11530,{"$f":"'COVER SHEET'!$D$16&IF(MID('COVER SHEET'!$I$18,6,10)=\"december\",\"1231\",IF(MID('COVER SHEET'!$I$18,6,10)=\"june\",\"0630\"))","v":"20241231"},{"$f":"+'Outgoing Remittances (Value)'!C174","v":0}]
["CMREM_11530","PA",{"$f":"+'Outgoing Remittances (Value)'!$C$5","v":"20240731"},{"$f":"+'COVER SHEET'!$D$12","v":0},11530,{"$f":"'COVER SHEET'!$D$16&IF(MID('COVER SHEET'!$I$18,6,10)=\"december\",\"1231\",IF(MID('COVER SHEET'!$I$18,6,10)=\"june\",\"0630\"))","v":"20241231"},{"$f":"+'Outgoing Remittances (Value)'!C175","v":0}]
["CMREM_11530","PG",{"$f":"+'Outgoing Remittances (Value)'!$C$5","v":"20240731"},{"$f":"+'COVER SHEET'!$D$12","v":0},11530,{"$f":"'COVER SHEET'!$D$16&IF(MID('COVER SHEET'!$I$18,6,10)=\"december\",\"1231\",IF(MID('COVER SHEET'!$I$18,6,10)=\"june\",\"0630\"))","v":"20241231"},{"$f":"+'Outgoing Remittances (Value)'!C176","v":0}]
["CMREM_11530","PY",{"$f":"+'Outgoing Remittances (Value)'!$C$5","v":"20240731"},{"$f":"+'COVER SHEET'!$D$12","v":0},11530,{"$f":"'COVER SHEET'!$D$16&IF(MID('COVER SHEET'!$I$18,6,10)=\"december\",\"1231\",IF(MID('COVER SHEET'!$I$18,6,10)=\"june\",\"0630\"))","v":"20241231"},{"$f":"+'Outgoing Remittances (Value)'!C177","v":0}]
["CMREM_11530","PE",{"$f":"+'Outgoing Remittances (Value)'!$C$5","v":"20240731"},{"$f":"+'COVER SHEET'!$D$12","v":0},11530,{"$f":"'COVER SHEET'!$D$16&IF(MID('COVER SHEET'!$I$18,6,10)=\"december\",\"1231\",IF(MID('COVER SHEET'!$I$18,6,10)=\"june\",\"0630\"))","v":"20241231"},{"$f":"+'Outgoing Remittances (Value)'!C178","v":0}]
["CMREM_11530","PH",{"$f":"+'Outgoing Remittances (Value)'!$C$5","v":"20240731"},{"$f":"+'COVER SHEET'!$D$12","v":0},11530,{"$f":"'COVER SHEET'!$D$16&IF(MID('COVER SHEET'!$I$18,6,10)=\"december\",\"1231\",IF(MID('COVER SHEET'!$I$18,6,10)=\"june\",\"0630\"))","v":"20241231"},{"$f":"+'Outgoing Remittances (Value)'!C179","v":0}]
["CMREM_11530","PN",{"$f":"+'Outgoing Remittances (Value)'!$C$5","v":"20240731"},{"$f":"+'COVER SHEET'!$D$12","v":0},11530,{"$f":"'COVER SHEET'!$D$16&IF(MID('COVER SHEET'!$I$18,6,10)=\"december\",\"1231\",IF(MID('COVER SHEET'!$I$18,6,10)=\"june\",\"0630\"))","v":"20241231"},{"$f":"+'Outgoing Remittances (Value)'!C180","v":0}]
["CMREM_11530","PL",{"$f":"+'Outgoing Remittances (Value)'!$C$5","v":"20240731"},{"$f":"+'COVER SHEET'!$D$12","v":0},11530,{"$f":"'COVER SHEET'!$D$16&IF(MID('COVER SHEET'!$I$18,6,10)=\"december\",\"1231\",IF(MID('COVER SHEET'!$I$18,6,10)=\"june\",\"0630\"))","v":"20241231"},{"$f":"+'Outgoing Remittances (Value)'!C181","v":0}]
["CMREM_11530","PT",{"$f":"+'Outgoing Remittances (Value)'!$C$5","v":"20240731"},{"$f":"+'COVER SHEET'!$D$12","v":0},11530,{"$f":"'COVER SHEET'!$D$16&IF(MID('COVER SHEET'!$I$18,6,10)=\"december\",\"1231\",IF(MID('COVER SHEET'!$I$18,6,10)=\"june\",\"0630\"))","v":"20241231"},{"$f":"+'Outgoing Remittances (Value)'!C182","v":0}]
["CMREM_11530","QA",{"$f":"+'Outgoing Remittances (Value)'!$C$5","v":"20240731"},{"$f":"+'COVER SHEET'!$D$12","v":0},11530,{"$f":"'COVER SHEET'!$D$16&IF(MID('COVER SHEET'!$I$18,6,10)=\"december\",\"1231\",IF(MID('COVER SHEET'!$I$18,6,10)=\"june\",\"0630\"))","v":"20241231"},{"$f":"+'Outgoing Remittances (Value)'!C183","v":0}]
["CMREM_11530","RO",{"$f":"+'Outgoing Remittances (Value)'!$C$5","v":"20240731"},{"$f":"+'COVER SHEET'!$D$12","v":0},11530,{"$f":"'COVER SHEET'!$D$16&IF(MID('COVER SHEET'!$I$18,6,10)=\"december\",\"1231\",IF(MID('COVER SHEET'!$I$18,6,10)=\"june\",\"0630\"))","v":"20241231"},{"$f":"+'Outgoing Remittances (Value)'!C184","v":0}]
["CMREM_11530","RU",{"$f":"+'Outgoing Remittances (Value)'!$C$5","v":"20240731"},{"$f":"+'COVER SHEET'!$D$12","v":0},11530,{"$f":"'COVER SHEET'!$D$16&IF(MID('COVER SHEET'!$I$18,6,10)=\"december\",\"1231\",IF(MID('COVER SHEET'!$I$18,6,10)=\"june\",\"0630\"))","v":"20241231"},{"$f":"+'Outgoing Remittances (Value)'!C185","v":0}]
["CMREM_11530","RW",{"$f":"+'Outgoing Remittances (Value)'!$C$5","v":"20240731"},{"$f":"+'COVER SHEET'!$D$12","v":0},11530,{"$f":"'COVER SHEET'!$D$16&IF(MID('COVER SHEET'!$I$18,6,10)=\"december\",\"1231\",IF(MID('COVER SHEET'!$I$18,6,10)=\"june\",\"0630\"))","v":"20241231"},{"$f":"+'Outgoing Remittances (Value)'!C186","v":0}]
["CMREM_11530","SH",{"$f":"+'Outgoing Remittances (Value)'!$C$5","v":"20240731"},{"$f":"+'COVER SHEET'!$D$12","v":0},11530,{"$f":"'COVER SHEET'!$D$16&IF(MID('COVER SHEET'!$I$18,6,10)=\"december\",\"1231\",IF(MID('COVER SHEET'!$I$18,6,10)=\"june\",\"0630\"))","v":"20241231"},{"$f":"+'Outgoing Remittances (Value)'!C187","v":0}]
["CMREM_11530","KN",{"$f":"+'Outgoing Remittances (Value)'!$C$5","v":"20240731"},{"$f":"+'COVER SHEET'!$D$12","v":0},11530,{"$f":"'COVER SHEET'!$D$16&IF(MID('COVER SHEET'!$I$18,6,10)=\"december\",\"1231\",IF(MID('COVER SHEET'!$I$18,6,10)=\"june\",\"0630\"))","v":"20241231"},{"$f":"+'Outgoing Remittances (Value)'!C188","v":0}]
["CMREM_11530","LC",{"$f":"+'Outgoing Remittances (Value)'!$C$5","v":"20240731"},{"$f":"+'COVER SHEET'!$D$12","v":0},11530,{"$f":"'COVER SHEET'!$D$16&IF(MID('COVER SHEET'!$I$18,6,10)=\"december\",\"1231\",IF(MID('COVER SHEET'!$I$18,6,10)=\"june\",\"0630\"))","v":"20241231"},{"$f":"+'Outgoing Remittances (Value)'!C189","v":0}]
["CMREM_11530","VC",{"$f":"+'Outgoing Remittances (Value)'!$C$5","v":"20240731"},{"$f":"+'COVER SHEET'!$D$12","v":0},11530,{"$f":"'COVER SHEET'!$D$16&IF(MID('COVER SHEET'!$I$18,6,10)=\"december\",\"1231\",IF(MID('COVER SHEET'!$I$18,6,10)=\"june\",\"0630\"))","v":"20241231"},{"$f":"+'Outgoing Remittances (Value)'!C190","v":0}]
["CMREM_11530","WS",{"$f":"+'Outgoing Remittances (Value)'!$C$5","v":"20240731"},{"$f":"+'COVER SHEET'!$D$12","v":0},11530,{"$f":"'COVER SHEET'!$D$16&IF(MID('COVER SHEET'!$I$18,6,10)=\"december\",\"1231\",IF(MID('COVER SHEET'!$I$18,6,10)=\"june\",\"0630\"))","v":"20241231"},{"$f":"+'Outgoing Remittances (Value)'!C191","v":0}]
["CMREM_11530","SM",{"$f":"+'Outgoing Remittances (Value)'!$C$5","v":"20240731"},{"$f":"+'COVER SHEET'!$D$12","v":0},11530,{"$f":"'COVER SHEET'!$D$16&IF(MID('COVER SHEET'!$I$18,6,10)=\"december\",\"1231\",IF(MID('COVER SHEET'!$I$18,6,10)=\"june\",\"0630\"))","v":"20241231"},{"$f":"+'Outgoing Remittances (Value)'!C192","v":0}]
["CMREM_11530","ST",{"$f":"+'Outgoing Remittances (Value)'!$C$5","v":"20240731"},{"$f":"+'COVER SHEET'!$D$12","v":0},11530,{"$f":"'COVER SHEET'!$D$16&IF(MID('COVER SHEET'!$I$18,6,10)=\"december\",\"1231\",IF(MID('COVER SHEET'!$I$18,6,10)=\"june\",\"0630\"))","v":"20241231"},{"$f":"+'Outgoing Remittances (Value)'!C193","v":0}]
["CMREM_11530","SA",{"$f":"+'Outgoing Remittances (Value)'!$C$5","v":"20240731"},{"$f":"+'COVER SHEET'!$D$12","v":0},11530,{"$f":"'COVER SHEET'!$D$16&IF(MID('COVER SHEET'!$I$18,6,10)=\"december\",\"1231\",IF(MID('COVER SHEET'!$I$18,6,10)=\"june\",\"0630\"))","v":"20241231"},{"$f":"+'Outgoing Remittances (Value)'!C194","v":0}]
["CMREM_11530","SN",{"$f":"+'Outgoing Remittances (Value)'!$C$5","v":"20240731"},{"$f":"+'COVER SHEET'!$D$12","v":0},11530,{"$f":"'COVER SHEET'!$D$16&IF(MID('COVER SHEET'!$I$18,6,10)=\"december\",\"1231\",IF(MID('COVER SHEET'!$I$18,6,10)=\"june\",\"0630\"))","v":"20241231"},{"$f":"+'Outgoing Remittances (Value)'!C195","v":0}]
["CMREM_11530","RS",{"$f":"+'Outgoing Remittances (Value)'!$C$5","v":"20240731"},{"$f":"+'COVER SHEET'!$D$12","v":0},11530,{"$f":"'COVER SHEET'!$D$16&IF(MID('COVER SHEET'!$I$18,6,10)=\"december\",\"1231\",IF(MID('COVER SHEET'!$I$18,6,10)=\"june\",\"0630\"))","v":"20241231"},{"$f":"+'Outgoing Remittances (Value)'!C196","v":0}]
["CMREM_11530","SC",{"$f":"+'Outgoing Remittances (Value)'!$C$5","v":"20240731"},{"$f":"+'COVER SHEET'!$D$12","v":0},11530,{"$f":"'COVER SHEET'!$D$16&IF(MID('COVER SHEET'!$I$18,6,10)=\"december\",\"1231\",IF(MID('COVER SHEET'!$I$18,6,10)=\"june\",\"0630\"))","v":"20241231"},{"$f":"+'Outgoing Remittances (Value)'!C197","v":0}]
["CMREM_11530","SL",{"$f":"+'Outgoing Remittances (Value)'!$C$5","v":"20240731"},{"$f":"+'COVER SHEET'!$D$12","v":0},11530,{"$f":"'COVER SHEET'!$D$16&IF(MID('COVER SHEET'!$I$18,6,10)=\"december\",\"1231\",IF(MID('COVER SHEET'!$I$18,6,10)=\"june\",\"0630\"))","v":"20241231"},{"$f":"+'Outgoing Remittances (Value)'!C198","v":0}]
["CMREM_11530","SG",{"$f":"+'Outgoing Remittances (Value)'!$C$5","v":"20240731"},{"$f":"+'COVER SHEET'!$D$12","v":0},11530,{"$f":"'COVER SHEET'!$D$16&IF(MID('COVER SHEET'!$I$18,6,10)=\"december\",\"1231\",IF(MID('COVER SHEET'!$I$18,6,10)=\"june\",\"0630\"))","v":"20241231"},{"$f":"+'Outgoing Remittances (Value)'!C199","v":0}]
["CMREM_11530","SX",{"$f":"+'Outgoing Remittances (Value)'!$C$5","v":"20240731"},{"$f":"+'COVER SHEET'!$D$12","v":0},11530,{"$f":"'COVER SHEET'!$D$16&IF(MID('COVER SHEET'!$I$18,6,10)=\"december\",\"1231\",IF(MID('COVER SHEET'!$I$18,6,10)=\"june\",\"0630\"))","v":"20241231"},{"$f":"+'Outgoing Remittances (Value)'!C200","v":0}]
["CMREM_11530","SK",{"$f":"+'Outgoing Remittances (Value)'!$C$5","v":"20240731"},{"$f":"+'COVER SHEET'!$D$12","v":0},11530,{"$f":"'COVER SHEET'!$D$16&IF(MID('COVER SHEET'!$I$18,6,10)=\"december\",\"1231\",IF(MID('COVER SHEET'!$I$18,6,10)=\"june\",\"0630\"))","v":"20241231"},{"$f":"+'Outgoing Remittances (Value)'!C201","v":0}]
["CMREM_11530","SI",{"$f":"+'Outgoing Remittances (Value)'!$C$5","v":"20240731"},{"$f":"+'COVER SHEET'!$D$12","v":0},11530,{"$f":"'COVER SHEET'!$D$16&IF(MID('COVER SHEET'!$I$18,6,10)=\"december\",\"1231\",IF(MID('COVER SHEET'!$I$18,6,10)=\"june\",\"0630\"))","v":"20241231"},{"$f":"+'Outgoing Remittances (Value)'!C202","v":0}]
["CMREM_11530","SB",{"$f":"+'Outgoing Remittances (Value)'!$C$5","v":"20240731"},{"$f":"+'COVER SHEET'!$D$12","v":0},11530,{"$f":"'COVER SHEET'!$D$16&IF(MID('COVER SHEET'!$I$18,6,10)=\"december\",\"1231\",IF(MID('COVER SHEET'!$I$18,6,10)=\"june\",\"0630\"))","v":"20241231"},{"$f":"+'Outgoing Remittances (Value)'!C203","v":0}]
["CMREM_11530","SO",{"$f":"+'Outgoing Remittances (Value)'!$C$5","v":"20240731"},{"$f":"+'COVER SHEET'!$D$12","v":0},11530,{"$f":"'COVER SHEET'!$D$16&IF(MID('COVER SHEET'!$I$18,6,10)=\"december\",\"1231\",IF(MID('COVER SHEET'!$I$18,6,10)=\"june\",\"0630\"))","v":"20241231"},{"$f":"+'Outgoing Remittances (Value)'!C204","v":0}]
["CMREM_11530","ZA",{"$f":"+'Outgoing Remittances (Value)'!$C$5","v":"20240731"},{"$f":"+'COVER SHEET'!$D$12","v":0},11530,{"$f":"'COVER SHEET'!$D$16&IF(MID('COVER SHEET'!$I$18,6,10)=\"december\",\"1231\",IF(MID('COVER SHEET'!$I$18,6,10)=\"june\",\"0630\"))","v":"20241231"},{"$f":"+'Outgoing Remittances (Value)'!C205","v":0}]
["CMREM_11530","GS",{"$f":"+'Outgoing Remittances (Value)'!$C$5","v":"20240731"},{"$f":"+'COVER SHEET'!$D$12","v":0},11530,{"$f":"'COVER SHEET'!$D$16&IF(MID('COVER SHEET'!$I$18,6,10)=\"december\",\"1231\",IF(MID('COVER SHEET'!$I$18,6,10)=\"june\",\"0630\"))","v":"20241231"},{"$f":"+'Outgoing Remittances (Value)'!C206","v":0}]
["CMREM_11530","SS",{"$f":"+'Outgoing Remittances (Value)'!$C$5","v":"20240731"},{"$f":"+'COVER SHEET'!$D$12","v":0},11530,{"$f":"'COVER SHEET'!$D$16&IF(MID('COVER SHEET'!$I$18,6,10)=\"december\",\"1231\",IF(MID('COVER SHEET'!$I$18,6,10)=\"june\",\"0630\"))","v":"20241231"},{"$f":"+'Outgoing Remittances (Value)'!C207","v":0}]
["CMREM_11530","ES",{"$f":"+'Outgoing Remittances (Value)'!$C$5","v":"20240731"},{"$f":"+'COVER SHEET'!$D$12","v":0},11530,{"$f":"'COVER SHEET'!$D$16&IF(MID('COVER SHEET'!$I$18,6,10)=\"december\",\"1231\",IF(MID('COVER SHEET'!$I$18,6,10)=\"june\",\"0630\"))","v":"20241231"},{"$f":"+'Outgoing Remittances (Value)'!C208","v":0}]
["CMREM_11530","LK",{"$f":"+'Outgoing Remittances (Value)'!$C$5","v":"20240731"},{"$f":"+'COVER SHEET'!$D$12","v":0},11530,{"$f":"'COVER SHEET'!$D$16&IF(MID('COVER SHEET'!$I$18,6,10)=\"december\",\"1231\",IF(MID('COVER SHEET'!$I$18,6,10)=\"june\",\"0630\"))","v":"20241231"},{"$f":"+'Outgoing Remittances (Value)'!C209","v":0}]
["CMREM_11530","SD",{"$f":"+'Outgoing Remittances (Value)'!$C$5","v":"20240731"},{"$f":"+'COVER SHEET'!$D$12","v":0},11530,{"$f":"'COVER SHEET'!$D$16&IF(MID('COVER SHEET'!$I$18,6,10)=\"december\",\"1231\",IF(MID('COVER SHEET'!$I$18,6,10)=\"june\",\"0630\"))","v":"20241231"},{"$f":"+'Outgoing Remittances (Value)'!C210","v":0}]
["CMREM_11530","SR",{"$f":"+'Outgoing Remittances (Value)'!$C$5","v":"20240731"},{"$f":"+'COVER SHEET'!$D$12","v":0},11530,{"$f":"'COVER SHEET'!$D$16&IF(MID('COVER SHEET'!$I$18,6,10)=\"december\",\"1231\",IF(MID('COVER SHEET'!$I$18,6,10)=\"june\",\"0630\"))","v":"20241231"},{"$f":"+'Outgoing Remittances (Value)'!C211","v":0}]
["CMREM_11530","SZ",{"$f":"+'Outgoing Remittances (Value)'!$C$5","v":"20240731"},{"$f":"+'COVER SHEET'!$D$12","v":0},11530,{"$f":"'COVER SHEET'!$D$16&IF(MID('COVER SHEET'!$I$18,6,10)=\"december\",\"1231\",IF(MID('COVER SHEET'!$I$18,6,10)=\"june\",\"0630\"))","v":"20241231"},{"$f":"+'Outgoing Remittances (Value)'!C212","v":0}]
["CMREM_11530","SE",{"$f":"+'Outgoing Remittances (Value)'!$C$5","v":"20240731"},{"$f":"+'COVER SHEET'!$D$12","v":0},11530,{"$f":"'COVER SHEET'!$D$16&IF(MID('COVER SHEET'!$I$18,6,10)=\"december\",\"1231\",IF(MID('COVER SHEET'!$I$18,6,10)=\"june\",\"0630\"))","v":"20241231"},{"$f":"+'Outgoing Remittances (Value)'!C213","v":0}]
["CMREM_11530","CH",{"$f":"+'Outgoing Remittances (Value)'!$C$5","v":"20240731"},{"$f":"+'COVER SHEET'!$D$12","v":0},11530,{"$f":"'COVER SHEET'!$D$16&IF(MID('COVER SHEET'!$I$18,6,10)=\"december\",\"1231\",IF(MID('COVER SHEET'!$I$18,6,10)=\"june\",\"0630\"))","v":"20241231"},{"$f":"+'Outgoing Remittances (Value)'!C214","v":0}]
["CMREM_11530","SY",{"$f":"+'Outgoing Remittances (Value)'!$C$5","v":"20240731"},{"$f":"+'COVER SHEET'!$D$12","v":0},11530,{"$f":"'COVER SHEET'!$D$16&IF(MID('COVER SHEET'!$I$18,6,10)=\"december\",\"1231\",IF(MID('COVER SHEET'!$I$18,6,10)=\"june\",\"0630\"))","v":"20241231"},{"$f":"+'Outgoing Remittances (Value)'!C215","v":0}]
["CMREM_11530","TW",{"$f":"+'Outgoing Remittances (Value)'!$C$5","v":"20240731"},{"$f":"+'COVER SHEET'!$D$12","v":0},11530,{"$f":"'COVER SHEET'!$D$16&IF(MID('COVER SHEET'!$I$18,6,10)=\"december\",\"1231\",IF(MID('COVER SHEET'!$I$18,6,10)=\"june\",\"0630\"))","v":"20241231"},{"$f":"+'Outgoing Remittances (Value)'!C216","v":0}]
["CMREM_11530","TJ",{"$f":"+'Outgoing Remittances (Value)'!$C$5","v":"20240731"},{"$f":"+'COVER SHEET'!$D$12","v":0},11530,{"$f":"'COVER SHEET'!$D$16&IF(MID('COVER SHEET'!$I$18,6,10)=\"december\",\"1231\",IF(MID('COVER SHEET'!$I$18,6,10)=\"june\",\"0630\"))","v":"20241231"},{"$f":"+'Outgoing Remittances (Value)'!C217","v":0}]
["CMREM_11530","TZ",{"$f":"+'Outgoing Remittances (Value)'!$C$5","v":"20240731"},{"$f":"+'COVER SHEET'!$D$12","v":0},11530,{"$f":"'COVER SHEET'!$D$16&IF(MID('COVER SHEET'!$I$18,6,10)=\"december\",\"1231\",IF(MID('COVER SHEET'!$I$18,6,10)=\"june\",\"0630\"))","v":"20241231"},{"$f":"+'Outgoing Remittances (Value)'!C218","v":0}]
["CMREM_11530","TH",{"$f":"+'Outgoing Remittances (Value)'!$C$5","v":"20240731"},{"$f":"+'COVER SHEET'!$D$12","v":0},11530,{"$f":"'COVER SHEET'!$D$16&IF(MID('COVER SHEET'!$I$18,6,10)=\"december\",\"1231\",IF(MID('COVER SHEET'!$I$18,6,10)=\"june\",\"0630\"))","v":"20241231"},{"$f":"+'Outgoing Remittances (Value)'!C219","v":0}]
["CMREM_11530","TG",{"$f":"+'Outgoing Remittances (Value)'!$C$5","v":"20240731"},{"$f":"+'COVER SHEET'!$D$12","v":0},11530,{"$f":"'COVER SHEET'!$D$16&IF(MID('COVER SHEET'!$I$18,6,10)=\"december\",\"1231\",IF(MID('COVER SHEET'!$I$18,6,10)=\"june\",\"0630\"))","v":"20241231"},{"$f":"+'Outgoing Remittances (Value)'!C220","v":0}]
["CMREM_11530","TK",{"$f":"+'Outgoing Remittances (Value)'!$C$5","v":"20240731"},{"$f":"+'COVER SHEET'!$D$12","v":0},11530,{"$f":"'COVER SHEET'!$D$16&IF(MID('COVER SHEET'!$I$18,6,10)=\"december\",\"1231\",IF(MID('COVER SHEET'!$I$18,6,10)=\"june\",\"0630\"))","v":"20241231"},{"$f":"+'Outgoing Remittances (Value)'!C221","v":0}]
["CMREM_11530","TO",{"$f":"+'Outgoing Remittances (Value)'!$C$5","v":"20240731"},{"$f":"+'COVER SHEET'!$D$12","v":0},11530,{"$f":"'COVER SHEET'!$D$16&IF(MID('COVER SHEET'!$I$18,6,10)=\"december\",\"1231\",IF(MID('COVER SHEET'!$I$18,6,10)=\"june\",\"0630\"))","v":"20241231"},{"$f":"+'Outgoing Remittances (Value)'!C222","v":0}]
["CMREM_11530","TT",{"$f":"+'Outgoing Remittances (Value)'!$C$5","v":"20240731"},{"$f":"+'COVER SHEET'!$D$12","v":0},11530,{"$f":"'COVER SHEET'!$D$16&IF(MID('COVER SHEET'!$I$18,6,10)=\"december\",\"1231\",IF(MID('COVER SHEET'!$I$18,6,10)=\"june\",\"0630\"))","v":"20241231"},{"$f":"+'Outgoing Remittances (Value)'!C223","v":0}]
["CMREM_11530","TN",{"$f":"+'Outgoing Remittances (Value)'!$C$5","v":"20240731"},{"$f":"+'COVER SHEET'!$D$12","v":0},11530,{"$f":"'COVER SHEET'!$D$16&IF(MID('COVER SHEET'!$I$18,6,10)=\"december\",\"1231\",IF(MID('COVER SHEET'!$I$18,6,10)=\"june\",\"0630\"))","v":"20241231"},{"$f":"+'Outgoing Remittances (Value)'!C224","v":0}]
["CMREM_11530","TR",{"$f":"+'Outgoing Remittances (Value)'!$C$5","v":"20240731"},{"$f":"+'COVER SHEET'!$D$12","v":0},11530,{"$f":"'COVER SHEET'!$D$16&IF(MID('COVER SHEET'!$I$18,6,10)=\"december\",\"1231\",IF(MID('COVER SHEET'!$I$18,6,10)=\"june\",\"0630\"))","v":"20241231"},{"$f":"+'Outgoing Remittances (Value)'!C225","v":0}]
["CMREM_11530","TM",{"$f":"+'Outgoing Remittances (Value)'!$C$5","v":"20240731"},{"$f":"+'COVER SHEET'!$D$12","v":0},11530,{"$f":"'COVER SHEET'!$D$16&IF(MID('COVER SHEET'!$I$18,6,10)=\"december\",\"1231\",IF(MID('COVER SHEET'!$I$18,6,10)=\"june\",\"0630\"))","v":"20241231"},{"$f":"+'Outgoing Remittances (Value)'!C226","v":0}]
["CMREM_11530","TC",{"$f":"+'Outgoing Remittances (Value)'!$C$5","v":"20240731"},{"$f":"+'COVER SHEET'!$D$12","v":0},11530,{"$f":"'COVER SHEET'!$D$16&IF(MID('COVER SHEET'!$I$18,6,10)=\"december\",\"1231\",IF(MID('COVER SHEET'!$I$18,6,10)=\"june\",\"0630\"))","v":"20241231"},{"$f":"+'Outgoing Remittances (Value)'!C227","v":0}]
["CMREM_11530","TV",{"$f":"+'Outgoing Remittances (Value)'!$C$5","v":"20240731"},{"$f":"+'COVER SHEET'!$D$12","v":0},11530,{"$f":"'COVER SHEET'!$D$16&IF(MID('COVER SHEET'!$I$18,6,10)=\"december\",\"1231\",IF(MID('COVER SHEET'!$I$18,6,10)=\"june\",\"0630\"))","v":"20241231"},{"$f":"+'Outgoing Remittances (Value)'!C228","v":0}]
["CMREM_11530","UG",{"$f":"+'Outgoing Remittances (Value)'!$C$5","v":"20240731"},{"$f":"+'COVER SHEET'!$D$12","v":0},11530,{"$f":"'COVER SHEET'!$D$16&IF(MID('COVER SHEET'!$I$18,6,10)=\"december\",\"1231\",IF(MID('COVER SHEET'!$I$18,6,10)=\"june\",\"0630\"))","v":"20241231"},{"$f":"+'Outgoing Remittances (Value)'!C229","v":0}]
["CMREM_11530","UA",{"$f":"+'Outgoing Remittances (Value)'!$C$5","v":"20240731"},{"$f":"+'COVER SHEET'!$D$12","v":0},11530,{"$f":"'COVER SHEET'!$D$16&IF(MID('COVER SHEET'!$I$18,6,10)=\"december\",\"1231\",IF(MID('COVER SHEET'!$I$18,6,10)=\"june\",\"0630\"))","v":"20241231"},{"$f":"+'Outgoing Remittances (Value)'!C230","v":0}]
["CMREM_11530","AE",{"$f":"+'Outgoing Remittances (Value)'!$C$5","v":"20240731"},{"$f":"+'COVER SHEET'!$D$12","v":0},11530,{"$f":"'COVER SHEET'!$D$16&IF(MID('COVER SHEET'!$I$18,6,10)=\"december\",\"1231\",IF(MID('COVER SHEET'!$I$18,6,10)=\"june\",\"0630\"))","v":"20241231"},{"$f":"+'Outgoing Remittances (Value)'!C231","v":0}]
["CMREM_11530","GB",{"$f":"+'Outgoing Remittances (Value)'!$C$5","v":"20240731"},{"$f":"+'COVER SHEET'!$D$12","v":0},11530,{"$f":"'COVER SHEET'!$D$16&IF(MID('COVER SHEET'!$I$18,6,10)=\"december\",\"1231\",IF(MID('COVER SHEET'!$I$18,6,10)=\"june\",\"0630\"))","v":"20241231"},{"$f":"+'Outgoing Remittances (Value)'!C232","v":0}]
["CMREM_11530","US",{"$f":"+'Outgoing Remittances (Value)'!$C$5","v":"20240731"},{"$f":"+'COVER SHEET'!$D$12","v":0},11530,{"$f":"'COVER SHEET'!$D$16&IF(MID('COVER SHEET'!$I$18,6,10)=\"december\",\"1231\",IF(MID('COVER SHEET'!$I$18,6,10)=\"june\",\"0630\"))","v":"20241231"},{"$f":"+'Outgoing Remittances (Value)'!C233","v":0}]
["CMREM_11530","UY",{"$f":"+'Outgoing Remittances (Value)'!$C$5","v":"20240731"},{"$f":"+'COVER SHEET'!$D$12","v":0},11530,{"$f":"'COVER SHEET'!$D$16&IF(MID('COVER SHEET'!$I$18,6,10)=\"december\",\"1231\",IF(MID('COVER SHEET'!$I$18,6,10)=\"june\",\"0630\"))","v":"20241231"},{"$f":"+'Outgoing Remittances (Value)'!C234","v":0}]
["CMREM_11530","UM",{"$f":"+'Outgoing Remittances (Value)'!$C$5","v":"20240731"},{"$f":"+'COVER SHEET'!$D$12","v":0},11530,{"$f":"'COVER SHEET'!$D$16&IF(MID('COVER SHEET'!$I$18,6,10)=\"december\",\"1231\",IF(MID('COVER SHEET'!$I$18,6,10)=\"june\",\"0630\"))","v":"20241231"},{"$f":"+'Outgoing Remittances (Value)'!C235","v":0}]
["CMREM_11530","UZ",{"$f":"+'Outgoing Remittances (Value)'!$C$5","v":"20240731"},{"$f":"+'COVER SHEET'!$D$12","v":0},11530,{"$f":"'COVER SHEET'!$D$16&IF(MID('COVER SHEET'!$I$18,6,10)=\"december\",\"1231\",IF(MID('COVER SHEET'!$I$18,6,10)=\"june\",\"0630\"))","v":"20241231"},{"$f":"+'Outgoing Remittances (Value)'!C236","v":0}]
["CMREM_11530","VU",{"$f":"+'Outgoing Remittances (Value)'!$C$5","v":"20240731"},{"$f":"+'COVER SHEET'!$D$12","v":0},11530,{"$f":"'COVER SHEET'!$D$16&IF(MID('COVER SHEET'!$I$18,6,10)=\"december\",\"1231\",IF(MID('COVER SHEET'!$I$18,6,10)=\"june\",\"0630\"))","v":"20241231"},{"$f":"+'Outgoing Remittances (Value)'!C237","v":0}]
["CMREM_11530","VE",{"$f":"+'Outgoing Remittances (Value)'!$C$5","v":"20240731"},{"$f":"+'COVER SHEET'!$D$12","v":0},11530,{"$f":"'COVER SHEET'!$D$16&IF(MID('COVER SHEET'!$I$18,6,10)=\"december\",\"1231\",IF(MID('COVER SHEET'!$I$18,6,10)=\"june\",\"0630\"))","v":"20241231"},{"$f":"+'Outgoing Remittances (Value)'!C238","v":0}]
["CMREM_11530","VN",{"$f":"+'Outgoing Remittances (Value)'!$C$5","v":"20240731"},{"$f":"+'COVER SHEET'!$D$12","v":0},11530,{"$f":"'COVER SHEET'!$D$16&IF(MID('COVER SHEET'!$I$18,6,10)=\"december\",\"1231\",IF(MID('COVER SHEET'!$I$18,6,10)=\"june\",\"0630\"))","v":"20241231"},{"$f":"+'Outgoing Remittances (Value)'!C239","v":0}]
["CMREM_11530","VI",{"$f":"+'Outgoing Remittances (Value)'!$C$5","v":"20240731"},{"$f":"+'COVER SHEET'!$D$12","v":0},11530,{"$f":"'COVER SHEET'!$D$16&IF(MID('COVER SHEET'!$I$18,6,10)=\"december\",\"1231\",IF(MID('COVER SHEET'!$I$18,6,10)=\"june\",\"0630\"))","v":"20241231"},{"$f":"+'Outgoing Remittances (Value)'!C240","v":0}]
["CMREM_11530","WF",{"$f":"+'Outgoing Remittances (Value)'!$C$5","v":"20240731"},{"$f":"+'COVER SHEET'!$D$12","v":0},11530,{"$f":"'COVER SHEET'!$D$16&IF(MID('COVER SHEET'!$I$18,6,10)=\"december\",\"1231\",IF(MID('COVER SHEET'!$I$18,6,10)=\"june\",\"0630\"))","v":"20241231"},{"$f":"+'Outgoing Remittances (Value)'!C241","v":0}]
["CMREM_11530","YE",{"$f":"+'Outgoing Remittances (Value)'!$C$5","v":"20240731"},{"$f":"+'COVER SHEET'!$D$12","v":0},11530,{"$f":"'COVER SHEET'!$D$16&IF(MID('COVER SHEET'!$I$18,6,10)=\"december\",\"1231\",IF(MID('COVER SHEET'!$I$18,6,10)=\"june\",\"0630\"))","v":"20241231"},{"$f":"+'Outgoing Remittances (Value)'!C242","v":0}]
["CMREM_11530","ZM",{"$f":"+'Outgoing Remittances (Value)'!$C$5","v":"20240731"},{"$f":"+'COVER SHEET'!$D$12","v":0},11530,{"$f":"'COVER SHEET'!$D$16&IF(MID('COVER SHEET'!$I$18,6,10)=\"december\",\"1231\",IF(MID('COVER SHEET'!$I$18,6,10)=\"june\",\"0630\"))","v":"20241231"},{"$f":"+'Outgoing Remittances (Value)'!C243","v":0}]
["CMREM_11530","ZW",{"$f":"+'Outgoing Remittances (Value)'!$C$5","v":"20240731"},{"$f":"+'COVER SHEET'!$D$12","v":0},11530,{"$f":"'COVER SHEET'!$D$16&IF(MID('COVER SHEET'!$I$18,6,10)=\"december\",\"1231\",IF(MID('COVER SHEET'!$I$18,6,10)=\"june\",\"0630\"))","v":"20241231"},{"$f":"+'Outgoing Remittances (Value)'!C244","v":0}]
["CMREM_11500","AF",{"$f":"+'Outgoing Remittances (Value)'!$D$5","v":"20240831"},{"$f":"+'COVER SHEET'!$D$12","v":0},11500,{"$f":"'COVER SHEET'!$D$16&IF(MID('COVER SHEET'!$I$18,6,10)=\"december\",\"1231\",IF(MID('COVER SHEET'!$I$18,6,10)=\"june\",\"0630\"))","v":"20241231"},{"$f":"+'Incoming Remittances (Volume)'!E9","v":0}]
["CMREM_11500","AL",{"$f":"+'Outgoing Remittances (Value)'!$D$5","v":"20240831"},{"$f":"+'COVER SHEET'!$D$12","v":0},11500,{"$f":"'COVER SHEET'!$D$16&IF(MID('COVER SHEET'!$I$18,6,10)=\"december\",\"1231\",IF(MID('COVER SHEET'!$I$18,6,10)=\"june\",\"0630\"))","v":"20241231"},{"$f":"+'Incoming Remittances (Volume)'!E10","v":0}]
["CMREM_11500","DZ",{"$f":"+'Outgoing Remittances (Value)'!$D$5","v":"20240831"},{"$f":"+'COVER SHEET'!$D$12","v":0},11500,{"$f":"'COVER SHEET'!$D$16&IF(MID('COVER SHEET'!$I$18,6,10)=\"december\",\"1231\",IF(MID('COVER SHEET'!$I$18,6,10)=\"june\",\"0630\"))","v":"20241231"},{"$f":"+'Incoming Remittances (Volume)'!E11","v":0}]
["CMREM_11500","AS",{"$f":"+'Outgoing Remittances (Value)'!$D$5","v":"20240831"},{"$f":"+'COVER SHEET'!$D$12","v":0},11500,{"$f":"'COVER SHEET'!$D$16&IF(MID('COVER SHEET'!$I$18,6,10)=\"december\",\"1231\",IF(MID('COVER SHEET'!$I$18,6,10)=\"june\",\"0630\"))","v":"20241231"},{"$f":"+'Incoming Remittances (Volume)'!E12","v":0}]
["CMREM_11500","AD",{"$f":"+'Outgoing Remittances (Value)'!$D$5","v":"20240831"},{"$f":"+'COVER SHEET'!$D$12","v":0},11500,{"$f":"'COVER SHEET'!$D$16&IF(MID('COVER SHEET'!$I$18,6,10)=\"december\",\"1231\",IF(MID('COVER SHEET'!$I$18,6,10)=\"june\",\"0630\"))","v":"20241231"},{"$f":"+'Incoming Remittances (Volume)'!E13","v":0}]
["CMREM_11500","AO",{"$f":"+'Outgoing Remittances (Value)'!$D$5","v":"20240831"},{"$f":"+'COVER SHEET'!$D$12","v":0},11500,{"$f":"'COVER SHEET'!$D$16&IF(MID('COVER SHEET'!$I$18,6,10)=\"december\",\"1231\",IF(MID('COVER SHEET'!$I$18,6,10)=\"june\",\"0630\"))","v":"20241231"},{"$f":"+'Incoming Remittances (Volume)'!E14","v":0}]
["CMREM_11500","AI",{"$f":"+'Outgoing Remittances (Value)'!$D$5","v":"20240831"},{"$f":"+'COVER SHEET'!$D$12","v":0},11500,{"$f":"'COVER SHEET'!$D$16&IF(MID('COVER SHEET'!$I$18,6,10)=\"december\",\"1231\",IF(MID('COVER SHEET'!$I$18,6,10)=\"june\",\"0630\"))","v":"20241231"},{"$f":"+'Incoming Remittances (Volume)'!E15","v":0}]
["CMREM_11500","AQ",{"$f":"+'Outgoing Remittances (Value)'!$D$5","v":"20240831"},{"$f":"+'COVER SHEET'!$D$12","v":0},11500,{"$f":"'COVER SHEET'!$D$16&IF(MID('COVER SHEET'!$I$18,6,10)=\"december\",\"1231\",IF(MID('COVER SHEET'!$I$18,6,10)=\"june\",\"0630\"))","v":"20241231"},{"$f":"+'Incoming Remittances (Volume)'!E16","v":0}]
["CMREM_11500","AG",{"$f":"+'Outgoing Remittances (Value)'!$D$5","v":"20240831"},{"$f":"+'COVER SHEET'!$D$12","v":0},11500,{"$f":"'COVER SHEET'!$D$16&IF(MID('COVER SHEET'!$I$18,6,10)=\"december\",\"1231\",IF(MID('COVER SHEET'!$I$18,6,10)=\"june\",\"0630\"))","v":"20241231"},{"$f":"+'Incoming Remittances (Volume)'!E17","v":0}]
["CMREM_11500","AR",{"$f":"+'Outgoing Remittances (Value)'!$D$5","v":"20240831"},{"$f":"+'COVER SHEET'!$D$12","v":0},11500,{"$f":"'COVER SHEET'!$D$16&IF(MID('COVER SHEET'!$I$18,6,10)=\"december\",\"1231\",IF(MID('COVER SHEET'!$I$18,6,10)=\"june\",\"0630\"))","v":"20241231"},{"$f":"+'Incoming Remittances (Volume)'!E18","v":0}]
["CMREM_11500","AM",{"$f":"+'Outgoing Remittances (Value)'!$D$5","v":"20240831"},{"$f":"+'COVER SHEET'!$D$12","v":0},11500,{"$f":"'COVER SHEET'!$D$16&IF(MID('COVER SHEET'!$I$18,6,10)=\"december\",\"1231\",IF(MID('COVER SHEET'!$I$18,6,10)=\"june\",\"0630\"))","v":"20241231"},{"$f":"+'Incoming Remittances (Volume)'!E19","v":0}]
["CMREM_11500","AW",{"$f":"+'Outgoing Remittances (Value)'!$D$5","v":"20240831"},{"$f":"+'COVER SHEET'!$D$12","v":0},11500,{"$f":"'COVER SHEET'!$D$16&IF(MID('COVER SHEET'!$I$18,6,10)=\"december\",\"1231\",IF(MID('COVER SHEET'!$I$18,6,10)=\"june\",\"0630\"))","v":"20241231"},{"$f":"+'Incoming Remittances (Volume)'!E20","v":0}]
["CMREM_11500","AU",{"$f":"+'Outgoing Remittances (Value)'!$D$5","v":"20240831"},{"$f":"+'COVER SHEET'!$D$12","v":0},11500,{"$f":"'COVER SHEET'!$D$16&IF(MID('COVER SHEET'!$I$18,6,10)=\"december\",\"1231\",IF(MID('COVER SHEET'!$I$18,6,10)=\"june\",\"0630\"))","v":"20241231"},{"$f":"+'Incoming Remittances (Volume)'!E21","v":0}]
["CMREM_11500","AT",{"$f":"+'Outgoing Remittances (Value)'!$D$5","v":"20240831"},{"$f":"+'COVER SHEET'!$D$12","v":0},11500,{"$f":"'COVER SHEET'!$D$16&IF(MID('COVER SHEET'!$I$18,6,10)=\"december\",\"1231\",IF(MID('COVER SHEET'!$I$18,6,10)=\"june\",\"0630\"))","v":"20241231"},{"$f":"+'Incoming Remittances (Volume)'!E22","v":0}]
["CMREM_11500","AZ",{"$f":"+'Outgoing Remittances (Value)'!$D$5","v":"20240831"},{"$f":"+'COVER SHEET'!$D$12","v":0},11500,{"$f":"'COVER SHEET'!$D$16&IF(MID('COVER SHEET'!$I$18,6,10)=\"december\",\"1231\",IF(MID('COVER SHEET'!$I$18,6,10)=\"june\",\"0630\"))","v":"20241231"},{"$f":"+'Incoming Remittances (Volume)'!E23","v":0}]
["CMREM_11500","BS",{"$f":"+'Outgoing Remittances (Value)'!$D$5","v":"20240831"},{"$f":"+'COVER SHEET'!$D$12","v":0},11500,{"$f":"'COVER SHEET'!$D$16&IF(MID('COVER SHEET'!$I$18,6,10)=\"december\",\"1231\",IF(MID('COVER SHEET'!$I$18,6,10)=\"june\",\"0630\"))","v":"20241231"},{"$f":"+'Incoming Remittances (Volume)'!E24","v":0}]
["CMREM_11500","BH",{"$f":"+'Outgoing Remittances (Value)'!$D$5","v":"20240831"},{"$f":"+'COVER SHEET'!$D$12","v":0},11500,{"$f":"'COVER SHEET'!$D$16&IF(MID('COVER SHEET'!$I$18,6,10)=\"december\",\"1231\",IF(MID('COVER SHEET'!$I$18,6,10)=\"june\",\"0630\"))","v":"20241231"},{"$f":"+'Incoming Remittances (Volume)'!E25","v":0}]
["CMREM_11500","BD",{"$f":"+'Outgoing Remittances (Value)'!$D$5","v":"20240831"},{"$f":"+'COVER SHEET'!$D$12","v":0},11500,{"$f":"'COVER SHEET'!$D$16&IF(MID('COVER SHEET'!$I$18,6,10)=\"december\",\"1231\",IF(MID('COVER SHEET'!$I$18,6,10)=\"june\",\"0630\"))","v":"20241231"},{"$f":"+'Incoming Remittances (Volume)'!E26","v":0}]
["CMREM_11500","BB",{"$f":"+'Outgoing Remittances (Value)'!$D$5","v":"20240831"},{"$f":"+'COVER SHEET'!$D$12","v":0},11500,{"$f":"'COVER SHEET'!$D$16&IF(MID('COVER SHEET'!$I$18,6,10)=\"december\",\"1231\",IF(MID('COVER SHEET'!$I$18,6,10)=\"june\",\"0630\"))","v":"20241231"},{"$f":"+'Incoming Remittances (Volume)'!E27","v":0}]
["CMREM_11500","BY",{"$f":"+'Outgoing Remittances (Value)'!$D$5","v":"20240831"},{"$f":"+'COVER SHEET'!$D$12","v":0},11500,{"$f":"'COVER SHEET'!$D$16&IF(MID('COVER SHEET'!$I$18,6,10)=\"december\",\"1231\",IF(MID('COVER SHEET'!$I$18,6,10)=\"june\",\"0630\"))","v":"20241231"},{"$f":"+'Incoming Remittances (Volume)'!E28","v":0}]
["CMREM_11500","BE",{"$f":"+'Outgoing Remittances (Value)'!$D$5","v":"20240831"},{"$f":"+'COVER SHEET'!$D$12","v":0},11500,{"$f":"'COVER SHEET'!$D$16&IF(MID('COVER SHEET'!$I$18,6,10)=\"december\",\"1231\",IF(MID('COVER SHEET'!$I$18,6,10)=\"june\",\"0630\"))","v":"20241231"},{"$f":"+'Incoming Remittances (Volume)'!E29","v":0}]
["CMREM_11500","BZ",{"$f":"+'Outgoing Remittances (Value)'!$D$5","v":"20240831"},{"$f":"+'COVER SHEET'!$D$12","v":0},11500,{"$f":"'COVER SHEET'!$D$16&IF(MID('COVER SHEET'!$I$18,6,10)=\"december\",\"1231\",IF(MID('COVER SHEET'!$I$18,6,10)=\"june\",\"0630\"))","v":"20241231"},{"$f":"+'Incoming Remittances (Volume)'!E30","v":0}]
["CMREM_11500","BJ",{"$f":"+'Outgoing Remittances (Value)'!$D$5","v":"20240831"},{"$f":"+'COVER SHEET'!$D$12","v":0},11500,{"$f":"'COVER SHEET'!$D$16&IF(MID('COVER SHEET'!$I$18,6,10)=\"december\",\"1231\",IF(MID('COVER SHEET'!$I$18,6,10)=\"june\",\"0630\"))","v":"20241231"},{"$f":"+'Incoming Remittances (Volume)'!E31","v":0}]
["CMREM_11500","BM",{"$f":"+'Outgoing Remittances (Value)'!$D$5","v":"20240831"},{"$f":"+'COVER SHEET'!$D$12","v":0},11500,{"$f":"'COVER SHEET'!$D$16&IF(MID('COVER SHEET'!$I$18,6,10)=\"december\",\"1231\",IF(MID('COVER SHEET'!$I$18,6,10)=\"june\",\"0630\"))","v":"20241231"},{"$f":"+'Incoming Remittances (Volume)'!E32","v":0}]
["CMREM_11500","BQ",{"$f":"+'Outgoing Remittances (Value)'!$D$5","v":"20240831"},{"$f":"+'COVER SHEET'!$D$12","v":0},11500,{"$f":"'COVER SHEET'!$D$16&IF(MID('COVER SHEET'!$I$18,6,10)=\"december\",\"1231\",IF(MID('COVER SHEET'!$I$18,6,10)=\"june\",\"0630\"))","v":"20241231"},{"$f":"+'Incoming Remittances (Volume)'!E33","v":0}]
["CMREM_11500","BT",{"$f":"+'Outgoing Remittances (Value)'!$D$5","v":"20240831"},{"$f":"+'COVER SHEET'!$D$12","v":0},11500,{"$f":"'COVER SHEET'!$D$16&IF(MID('COVER SHEET'!$I$18,6,10)=\"december\",\"1231\",IF(MID('COVER SHEET'!$I$18,6,10)=\"june\",\"0630\"))","v":"20241231"},{"$f":"+'Incoming Remittances (Volume)'!E34","v":0}]
["CMREM_11500","BO",{"$f":"+'Outgoing Remittances (Value)'!$D$5","v":"20240831"},{"$f":"+'COVER SHEET'!$D$12","v":0},11500,{"$f":"'COVER SHEET'!$D$16&IF(MID('COVER SHEET'!$I$18,6,10)=\"december\",\"1231\",IF(MID('COVER SHEET'!$I$18,6,10)=\"june\",\"0630\"))","v":"20241231"},{"$f":"+'Incoming Remittances (Volume)'!E35","v":0}]
["CMREM_11500","BA",{"$f":"+'Outgoing Remittances (Value)'!$D$5","v":"20240831"},{"$f":"+'COVER SHEET'!$D$12","v":0},11500,{"$f":"'COVER SHEET'!$D$16&IF(MID('COVER SHEET'!$I$18,6,10)=\"december\",\"1231\",IF(MID('COVER SHEET'!$I$18,6,10)=\"june\",\"0630\"))","v":"20241231"},{"$f":"+'Incoming Remittances (Volume)'!E36","v":0}]
["CMREM_11500","BW",{"$f":"+'Outgoing Remittances (Value)'!$D$5","v":"20240831"},{"$f":"+'COVER SHEET'!$D$12","v":0},11500,{"$f":"'COVER SHEET'!$D$16&IF(MID('COVER SHEET'!$I$18,6,10)=\"december\",\"1231\",IF(MID('COVER SHEET'!$I$18,6,10)=\"june\",\"0630\"))","v":"20241231"},{"$f":"+'Incoming Remittances (Volume)'!E37","v":0}]
["CMREM_11500","BV",{"$f":"+'Outgoing Remittances (Value)'!$D$5","v":"20240831"},{"$f":"+'COVER SHEET'!$D$12","v":0},11500,{"$f":"'COVER SHEET'!$D$16&IF(MID('COVER SHEET'!$I$18,6,10)=\"december\",\"1231\",IF(MID('COVER SHEET'!$I$18,6,10)=\"june\",\"0630\"))","v":"20241231"},{"$f":"+'Incoming Remittances (Volume)'!E38","v":0}]
["CMREM_11500","BR",{"$f":"+'Outgoing Remittances (Value)'!$D$5","v":"20240831"},{"$f":"+'COVER SHEET'!$D$12","v":0},11500,{"$f":"'COVER SHEET'!$D$16&IF(MID('COVER SHEET'!$I$18,6,10)=\"december\",\"1231\",IF(MID('COVER SHEET'!$I$18,6,10)=\"june\",\"0630\"))","v":"20241231"},{"$f":"+'Incoming Remittances (Volume)'!E39","v":0}]
["CMREM_11500","IO",{"$f":"+'Outgoing Remittances (Value)'!$D$5","v":"20240831"},{"$f":"+'COVER SHEET'!$D$12","v":0},11500,{"$f":"'COVER SHEET'!$D$16&IF(MID('COVER SHEET'!$I$18,6,10)=\"december\",\"1231\",IF(MID('COVER SHEET'!$I$18,6,10)=\"june\",\"0630\"))","v":"20241231"},{"$f":"+'Incoming Remittances (Volume)'!E40","v":0}]
["CMREM_11500","VG",{"$f":"+'Outgoing Remittances (Value)'!$D$5","v":"20240831"},{"$f":"+'COVER SHEET'!$D$12","v":0},11500,{"$f":"'COVER SHEET'!$D$16&IF(MID('COVER SHEET'!$I$18,6,10)=\"december\",\"1231\",IF(MID('COVER SHEET'!$I$18,6,10)=\"june\",\"0630\"))","v":"20241231"},{"$f":"+'Incoming Remittances (Volume)'!E41","v":0}]
["CMREM_11500","BN",{"$f":"+'Outgoing Remittances (Value)'!$D$5","v":"20240831"},{"$f":"+'COVER SHEET'!$D$12","v":0},11500,{"$f":"'COVER SHEET'!$D$16&IF(MID('COVER SHEET'!$I$18,6,10)=\"december\",\"1231\",IF(MID('COVER SHEET'!$I$18,6,10)=\"june\",\"0630\"))","v":"20241231"},{"$f":"+'Incoming Remittances (Volume)'!E42","v":0}]
["CMREM_11500","BG",{"$f":"+'Outgoing Remittances (Value)'!$D$5","v":"20240831"},{"$f":"+'COVER SHEET'!$D$12","v":0},11500,{"$f":"'COVER SHEET'!$D$16&IF(MID('COVER SHEET'!$I$18,6,10)=\"december\",\"1231\",IF(MID('COVER SHEET'!$I$18,6,10)=\"june\",\"0630\"))","v":"20241231"},{"$f":"+'Incoming Remittances (Volume)'!E43","v":0}]
["CMREM_11500","BF",{"$f":"+'Outgoing Remittances (Value)'!$D$5","v":"20240831"},{"$f":"+'COVER SHEET'!$D$12","v":0},11500,{"$f":"'COVER SHEET'!$D$16&IF(MID('COVER SHEET'!$I$18,6,10)=\"december\",\"1231\",IF(MID('COVER SHEET'!$I$18,6,10)=\"june\",\"0630\"))","v":"20241231"},{"$f":"+'Incoming Remittances (Volume)'!E44","v":0}]
["CMREM_11500","BI",{"$f":"+'Outgoing Remittances (Value)'!$D$5","v":"20240831"},{"$f":"+'COVER SHEET'!$D$12","v":0},11500,{"$f":"'COVER SHEET'!$D$16&IF(MID('COVER SHEET'!$I$18,6,10)=\"december\",\"1231\",IF(MID('COVER SHEET'!$I$18,6,10)=\"june\",\"0630\"))","v":"20241231"},{"$f":"+'Incoming Remittances (Volume)'!E45","v":0}]
["CMREM_11500","KH",{"$f":"+'Outgoing Remittances (Value)'!$D$5","v":"20240831"},{"$f":"+'COVER SHEET'!$D$12","v":0},11500,{"$f":"'COVER SHEET'!$D$16&IF(MID('COVER SHEET'!$I$18,6,10)=\"december\",\"1231\",IF(MID('COVER SHEET'!$I$18,6,10)=\"june\",\"0630\"))","v":"20241231"},{"$f":"+'Incoming Remittances (Volume)'!E46","v":0}]
["CMREM_11500","CM",{"$f":"+'Outgoing Remittances (Value)'!$D$5","v":"20240831"},{"$f":"+'COVER SHEET'!$D$12","v":0},11500,{"$f":"'COVER SHEET'!$D$16&IF(MID('COVER SHEET'!$I$18,6,10)=\"december\",\"1231\",IF(MID('COVER SHEET'!$I$18,6,10)=\"june\",\"0630\"))","v":"20241231"},{"$f":"+'Incoming Remittances (Volume)'!E47","v":0}]
["CMREM_11500","CA",{"$f":"+'Outgoing Remittances (Value)'!$D$5","v":"20240831"},{"$f":"+'COVER SHEET'!$D$12","v":0},11500,{"$f":"'COVER SHEET'!$D$16&IF(MID('COVER SHEET'!$I$18,6,10)=\"december\",\"1231\",IF(MID('COVER SHEET'!$I$18,6,10)=\"june\",\"0630\"))","v":"20241231"},{"$f":"+'Incoming Remittances (Volume)'!E48","v":0}]
["CMREM_11500","CV",{"$f":"+'Outgoing Remittances (Value)'!$D$5","v":"20240831"},{"$f":"+'COVER SHEET'!$D$12","v":0},11500,{"$f":"'COVER SHEET'!$D$16&IF(MID('COVER SHEET'!$I$18,6,10)=\"december\",\"1231\",IF(MID('COVER SHEET'!$I$18,6,10)=\"june\",\"0630\"))","v":"20241231"},{"$f":"+'Incoming Remittances (Volume)'!E49","v":0}]
["CMREM_11500","KY",{"$f":"+'Outgoing Remittances (Value)'!$D$5","v":"20240831"},{"$f":"+'COVER SHEET'!$D$12","v":0},11500,{"$f":"'COVER SHEET'!$D$16&IF(MID('COVER SHEET'!$I$18,6,10)=\"december\",\"1231\",IF(MID('COVER SHEET'!$I$18,6,10)=\"june\",\"0630\"))","v":"20241231"},{"$f":"+'Incoming Remittances (Volume)'!E50","v":0}]
["CMREM_11500","CF",{"$f":"+'Outgoing Remittances (Value)'!$D$5","v":"20240831"},{"$f":"+'COVER SHEET'!$D$12","v":0},11500,{"$f":"'COVER SHEET'!$D$16&IF(MID('COVER SHEET'!$I$18,6,10)=\"december\",\"1231\",IF(MID('COVER SHEET'!$I$18,6,10)=\"june\",\"0630\"))","v":"20241231"},{"$f":"+'Incoming Remittances (Volume)'!E51","v":0}]
["CMREM_11500","TD",{"$f":"+'Outgoing Remittances (Value)'!$D$5","v":"20240831"},{"$f":"+'COVER SHEET'!$D$12","v":0},11500,{"$f":"'COVER SHEET'!$D$16&IF(MID('COVER SHEET'!$I$18,6,10)=\"december\",\"1231\",IF(MID('COVER SHEET'!$I$18,6,10)=\"june\",\"0630\"))","v":"20241231"},{"$f":"+'Incoming Remittances (Volume)'!E52","v":0}]
["CMREM_11500","CL",{"$f":"+'Outgoing Remittances (Value)'!$D$5","v":"20240831"},{"$f":"+'COVER SHEET'!$D$12","v":0},11500,{"$f":"'COVER SHEET'!$D$16&IF(MID('COVER SHEET'!$I$18,6,10)=\"december\",\"1231\",IF(MID('COVER SHEET'!$I$18,6,10)=\"june\",\"0630\"))","v":"20241231"},{"$f":"+'Incoming Remittances (Volume)'!E53","v":0}]
["CMREM_11500","CN",{"$f":"+'Outgoing Remittances (Value)'!$D$5","v":"20240831"},{"$f":"+'COVER SHEET'!$D$12","v":0},11500,{"$f":"'COVER SHEET'!$D$16&IF(MID('COVER SHEET'!$I$18,6,10)=\"december\",\"1231\",IF(MID('COVER SHEET'!$I$18,6,10)=\"june\",\"0630\"))","v":"20241231"},{"$f":"+'Incoming Remittances (Volume)'!E54","v":0}]
["CMREM_11500","CX",{"$f":"+'Outgoing Remittances (Value)'!$D$5","v":"20240831"},{"$f":"+'COVER SHEET'!$D$12","v":0},11500,{"$f":"'COVER SHEET'!$D$16&IF(MID('COVER SHEET'!$I$18,6,10)=\"december\",\"1231\",IF(MID('COVER SHEET'!$I$18,6,10)=\"june\",\"0630\"))","v":"20241231"},{"$f":"+'Incoming Remittances (Volume)'!E55","v":0}]
["CMREM_11500","CC",{"$f":"+'Outgoing Remittances (Value)'!$D$5","v":"20240831"},{"$f":"+'COVER SHEET'!$D$12","v":0},11500,{"$f":"'COVER SHEET'!$D$16&IF(MID('COVER SHEET'!$I$18,6,10)=\"december\",\"1231\",IF(MID('COVER SHEET'!$I$18,6,10)=\"june\",\"0630\"))","v":"20241231"},{"$f":"+'Incoming Remittances (Volume)'!E56","v":0}]
["CMREM_11500","CO",{"$f":"+'Outgoing Remittances (Value)'!$D$5","v":"20240831"},{"$f":"+'COVER SHEET'!$D$12","v":0},11500,{"$f":"'COVER SHEET'!$D$16&IF(MID('COVER SHEET'!$I$18,6,10)=\"december\",\"1231\",IF(MID('COVER SHEET'!$I$18,6,10)=\"june\",\"0630\"))","v":"20241231"},{"$f":"+'Incoming Remittances (Volume)'!E57","v":0}]
["CMREM_11500","KM",{"$f":"+'Outgoing Remittances (Value)'!$D$5","v":"20240831"},{"$f":"+'COVER SHEET'!$D$12","v":0},11500,{"$f":"'COVER SHEET'!$D$16&IF(MID('COVER SHEET'!$I$18,6,10)=\"december\",\"1231\",IF(MID('COVER SHEET'!$I$18,6,10)=\"june\",\"0630\"))","v":"20241231"},{"$f":"+'Incoming Remittances (Volume)'!E58","v":0}]
["CMREM_11500","CG",{"$f":"+'Outgoing Remittances (Value)'!$D$5","v":"20240831"},{"$f":"+'COVER SHEET'!$D$12","v":0},11500,{"$f":"'COVER SHEET'!$D$16&IF(MID('COVER SHEET'!$I$18,6,10)=\"december\",\"1231\",IF(MID('COVER SHEET'!$I$18,6,10)=\"june\",\"0630\"))","v":"20241231"},{"$f":"+'Incoming Remittances (Volume)'!E59","v":0}]
["CMREM_11500","CD",{"$f":"+'Outgoing Remittances (Value)'!$D$5","v":"20240831"},{"$f":"+'COVER SHEET'!$D$12","v":0},11500,{"$f":"'COVER SHEET'!$D$16&IF(MID('COVER SHEET'!$I$18,6,10)=\"december\",\"1231\",IF(MID('COVER SHEET'!$I$18,6,10)=\"june\",\"0630\"))","v":"20241231"},{"$f":"+'Incoming Remittances (Volume)'!E60","v":0}]
["CMREM_11500","CK",{"$f":"+'Outgoing Remittances (Value)'!$D$5","v":"20240831"},{"$f":"+'COVER SHEET'!$D$12","v":0},11500,{"$f":"'COVER SHEET'!$D$16&IF(MID('COVER SHEET'!$I$18,6,10)=\"december\",\"1231\",IF(MID('COVER SHEET'!$I$18,6,10)=\"june\",\"0630\"))","v":"20241231"},{"$f":"+'Incoming Remittances (Volume)'!E61","v":0}]
["CMREM_11500","CR",{"$f":"+'Outgoing Remittances (Value)'!$D$5","v":"20240831"},{"$f":"+'COVER SHEET'!$D$12","v":0},11500,{"$f":"'COVER SHEET'!$D$16&IF(MID('COVER SHEET'!$I$18,6,10)=\"december\",\"1231\",IF(MID('COVER SHEET'!$I$18,6,10)=\"june\",\"0630\"))","v":"20241231"},{"$f":"+'Incoming Remittances (Volume)'!E62","v":0}]
["CMREM_11500","HR",{"$f":"+'Outgoing Remittances (Value)'!$D$5","v":"20240831"},{"$f":"+'COVER SHEET'!$D$12","v":0},11500,{"$f":"'COVER SHEET'!$D$16&IF(MID('COVER SHEET'!$I$18,6,10)=\"december\",\"1231\",IF(MID('COVER SHEET'!$I$18,6,10)=\"june\",\"0630\"))","v":"20241231"},{"$f":"+'Incoming Remittances (Volume)'!E63","v":0}]
["CMREM_11500","CU",{"$f":"+'Outgoing Remittances (Value)'!$D$5","v":"20240831"},{"$f":"+'COVER SHEET'!$D$12","v":0},11500,{"$f":"'COVER SHEET'!$D$16&IF(MID('COVER SHEET'!$I$18,6,10)=\"december\",\"1231\",IF(MID('COVER SHEET'!$I$18,6,10)=\"june\",\"0630\"))","v":"20241231"},{"$f":"+'Incoming Remittances (Volume)'!E64","v":0}]
["CMREM_11500","CW",{"$f":"+'Outgoing Remittances (Value)'!$D$5","v":"20240831"},{"$f":"+'COVER SHEET'!$D$12","v":0},11500,{"$f":"'COVER SHEET'!$D$16&IF(MID('COVER SHEET'!$I$18,6,10)=\"december\",\"1231\",IF(MID('COVER SHEET'!$I$18,6,10)=\"june\",\"0630\"))","v":"20241231"},{"$f":"+'Incoming Remittances (Volume)'!E65","v":0}]
["CMREM_11500","CY",{"$f":"+'Outgoing Remittances (Value)'!$D$5","v":"20240831"},{"$f":"+'COVER SHEET'!$D$12","v":0},11500,{"$f":"'COVER SHEET'!$D$16&IF(MID('COVER SHEET'!$I$18,6,10)=\"december\",\"1231\",IF(MID('COVER SHEET'!$I$18,6,10)=\"june\",\"0630\"))","v":"20241231"},{"$f":"+'Incoming Remittances (Volume)'!E66","v":0}]
["CMREM_11500","CZ",{"$f":"+'Outgoing Remittances (Value)'!$D$5","v":"20240831"},{"$f":"+'COVER SHEET'!$D$12","v":0},11500,{"$f":"'COVER SHEET'!$D$16&IF(MID('COVER SHEET'!$I$18,6,10)=\"december\",\"1231\",IF(MID('COVER SHEET'!$I$18,6,10)=\"june\",\"0630\"))","v":"20241231"},{"$f":"+'Incoming Remittances (Volume)'!E67","v":0}]
["CMREM_11500","DK",{"$f":"+'Outgoing Remittances (Value)'!$D$5","v":"20240831"},{"$f":"+'COVER SHEET'!$D$12","v":0},11500,{"$f":"'COVER SHEET'!$D$16&IF(MID('COVER SHEET'!$I$18,6,10)=\"december\",\"1231\",IF(MID('COVER SHEET'!$I$18,6,10)=\"june\",\"0630\"))","v":"20241231"},{"$f":"+'Incoming Remittances (Volume)'!E68","v":0}]
["CMREM_11500","DJ",{"$f":"+'Outgoing Remittances (Value)'!$D$5","v":"20240831"},{"$f":"+'COVER SHEET'!$D$12","v":0},11500,{"$f":"'COVER SHEET'!$D$16&IF(MID('COVER SHEET'!$I$18,6,10)=\"december\",\"1231\",IF(MID('COVER SHEET'!$I$18,6,10)=\"june\",\"0630\"))","v":"20241231"},{"$f":"+'Incoming Remittances (Volume)'!E69","v":0}]
["CMREM_11500","DM",{"$f":"+'Outgoing Remittances (Value)'!$D$5","v":"20240831"},{"$f":"+'COVER SHEET'!$D$12","v":0},11500,{"$f":"'COVER SHEET'!$D$16&IF(MID('COVER SHEET'!$I$18,6,10)=\"december\",\"1231\",IF(MID('COVER SHEET'!$I$18,6,10)=\"june\",\"0630\"))","v":"20241231"},{"$f":"+'Incoming Remittances (Volume)'!E70","v":0}]
["CMREM_11500","DO",{"$f":"+'Outgoing Remittances (Value)'!$D$5","v":"20240831"},{"$f":"+'COVER SHEET'!$D$12","v":0},11500,{"$f":"'COVER SHEET'!$D$16&IF(MID('COVER SHEET'!$I$18,6,10)=\"december\",\"1231\",IF(MID('COVER SHEET'!$I$18,6,10)=\"june\",\"0630\"))","v":"20241231"},{"$f":"+'Incoming Remittances (Volume)'!E71","v":0}]
["CMREM_11500","TL",{"$f":"+'Outgoing Remittances (Value)'!$D$5","v":"20240831"},{"$f":"+'COVER SHEET'!$D$12","v":0},11500,{"$f":"'COVER SHEET'!$D$16&IF(MID('COVER SHEET'!$I$18,6,10)=\"december\",\"1231\",IF(MID('COVER SHEET'!$I$18,6,10)=\"june\",\"0630\"))","v":"20241231"},{"$f":"+'Incoming Remittances (Volume)'!E72","v":0}]
["CMREM_11500","EC",{"$f":"+'Outgoing Remittances (Value)'!$D$5","v":"20240831"},{"$f":"+'COVER SHEET'!$D$12","v":0},11500,{"$f":"'COVER SHEET'!$D$16&IF(MID('COVER SHEET'!$I$18,6,10)=\"december\",\"1231\",IF(MID('COVER SHEET'!$I$18,6,10)=\"june\",\"0630\"))","v":"20241231"},{"$f":"+'Incoming Remittances (Volume)'!E73","v":0}]
["CMREM_11500","EG",{"$f":"+'Outgoing Remittances (Value)'!$D$5","v":"20240831"},{"$f":"+'COVER SHEET'!$D$12","v":0},11500,{"$f":"'COVER SHEET'!$D$16&IF(MID('COVER SHEET'!$I$18,6,10)=\"december\",\"1231\",IF(MID('COVER SHEET'!$I$18,6,10)=\"june\",\"0630\"))","v":"20241231"},{"$f":"+'Incoming Remittances (Volume)'!E74","v":0}]
["CMREM_11500","SV",{"$f":"+'Outgoing Remittances (Value)'!$D$5","v":"20240831"},{"$f":"+'COVER SHEET'!$D$12","v":0},11500,{"$f":"'COVER SHEET'!$D$16&IF(MID('COVER SHEET'!$I$18,6,10)=\"december\",\"1231\",IF(MID('COVER SHEET'!$I$18,6,10)=\"june\",\"0630\"))","v":"20241231"},{"$f":"+'Incoming Remittances (Volume)'!E75","v":0}]
["CMREM_11500","GQ",{"$f":"+'Outgoing Remittances (Value)'!$D$5","v":"20240831"},{"$f":"+'COVER SHEET'!$D$12","v":0},11500,{"$f":"'COVER SHEET'!$D$16&IF(MID('COVER SHEET'!$I$18,6,10)=\"december\",\"1231\",IF(MID('COVER SHEET'!$I$18,6,10)=\"june\",\"0630\"))","v":"20241231"},{"$f":"+'Incoming Remittances (Volume)'!E76","v":0}]
["CMREM_11500","ER",{"$f":"+'Outgoing Remittances (Value)'!$D$5","v":"20240831"},{"$f":"+'COVER SHEET'!$D$12","v":0},11500,{"$f":"'COVER SHEET'!$D$16&IF(MID('COVER SHEET'!$I$18,6,10)=\"december\",\"1231\",IF(MID('COVER SHEET'!$I$18,6,10)=\"june\",\"0630\"))","v":"20241231"},{"$f":"+'Incoming Remittances (Volume)'!E77","v":0}]
["CMREM_11500","EE",{"$f":"+'Outgoing Remittances (Value)'!$D$5","v":"20240831"},{"$f":"+'COVER SHEET'!$D$12","v":0},11500,{"$f":"'COVER SHEET'!$D$16&IF(MID('COVER SHEET'!$I$18,6,10)=\"december\",\"1231\",IF(MID('COVER SHEET'!$I$18,6,10)=\"june\",\"0630\"))","v":"20241231"},{"$f":"+'Incoming Remittances (Volume)'!E78","v":0}]
["CMREM_11500","ET",{"$f":"+'Outgoing Remittances (Value)'!$D$5","v":"20240831"},{"$f":"+'COVER SHEET'!$D$12","v":0},11500,{"$f":"'COVER SHEET'!$D$16&IF(MID('COVER SHEET'!$I$18,6,10)=\"december\",\"1231\",IF(MID('COVER SHEET'!$I$18,6,10)=\"june\",\"0630\"))","v":"20241231"},{"$f":"+'Incoming Remittances (Volume)'!E79","v":0}]
["CMREM_11500","FK",{"$f":"+'Outgoing Remittances (Value)'!$D$5","v":"20240831"},{"$f":"+'COVER SHEET'!$D$12","v":0},11500,{"$f":"'COVER SHEET'!$D$16&IF(MID('COVER SHEET'!$I$18,6,10)=\"december\",\"1231\",IF(MID('COVER SHEET'!$I$18,6,10)=\"june\",\"0630\"))","v":"20241231"},{"$f":"+'Incoming Remittances (Volume)'!E80","v":0}]
["CMREM_11500","FO",{"$f":"+'Outgoing Remittances (Value)'!$D$5","v":"20240831"},{"$f":"+'COVER SHEET'!$D$12","v":0},11500,{"$f":"'COVER SHEET'!$D$16&IF(MID('COVER SHEET'!$I$18,6,10)=\"december\",\"1231\",IF(MID('COVER SHEET'!$I$18,6,10)=\"june\",\"0630\"))","v":"20241231"},{"$f":"+'Incoming Remittances (Volume)'!E81","v":0}]
["CMREM_11500","FJ",{"$f":"+'Outgoing Remittances (Value)'!$D$5","v":"20240831"},{"$f":"+'COVER SHEET'!$D$12","v":0},11500,{"$f":"'COVER SHEET'!$D$16&IF(MID('COVER SHEET'!$I$18,6,10)=\"december\",\"1231\",IF(MID('COVER SHEET'!$I$18,6,10)=\"june\",\"0630\"))","v":"20241231"},{"$f":"+'Incoming Remittances (Volume)'!E82","v":0}]
["CMREM_11500","FI",{"$f":"+'Outgoing Remittances (Value)'!$D$5","v":"20240831"},{"$f":"+'COVER SHEET'!$D$12","v":0},11500,{"$f":"'COVER SHEET'!$D$16&IF(MID('COVER SHEET'!$I$18,6,10)=\"december\",\"1231\",IF(MID('COVER SHEET'!$I$18,6,10)=\"june\",\"0630\"))","v":"20241231"},{"$f":"+'Incoming Remittances (Volume)'!E83","v":0}]
["CMREM_11500","FR",{"$f":"+'Outgoing Remittances (Value)'!$D$5","v":"20240831"},{"$f":"+'COVER SHEET'!$D$12","v":0},11500,{"$f":"'COVER SHEET'!$D$16&IF(MID('COVER SHEET'!$I$18,6,10)=\"december\",\"1231\",IF(MID('COVER SHEET'!$I$18,6,10)=\"june\",\"0630\"))","v":"20241231"},{"$f":"+'Incoming Remittances (Volume)'!E84","v":0}]
["CMREM_11500","PF",{"$f":"+'Outgoing Remittances (Value)'!$D$5","v":"20240831"},{"$f":"+'COVER SHEET'!$D$12","v":0},11500,{"$f":"'COVER SHEET'!$D$16&IF(MID('COVER SHEET'!$I$18,6,10)=\"december\",\"1231\",IF(MID('COVER SHEET'!$I$18,6,10)=\"june\",\"0630\"))","v":"20241231"},{"$f":"+'Incoming Remittances (Volume)'!E85","v":0}]
["CMREM_11500","TF",{"$f":"+'Outgoing Remittances (Value)'!$D$5","v":"20240831"},{"$f":"+'COVER SHEET'!$D$12","v":0},11500,{"$f":"'COVER SHEET'!$D$16&IF(MID('COVER SHEET'!$I$18,6,10)=\"december\",\"1231\",IF(MID('COVER SHEET'!$I$18,6,10)=\"june\",\"0630\"))","v":"20241231"},{"$f":"+'Incoming Remittances (Volume)'!E86","v":0}]
["CMREM_11500","GA",{"$f":"+'Outgoing Remittances (Value)'!$D$5","v":"20240831"},{"$f":"+'COVER SHEET'!$D$12","v":0},11500,{"$f":"'COVER SHEET'!$D$16&IF(MID('COVER SHEET'!$I$18,6,10)=\"december\",\"1231\",IF(MID('COVER SHEET'!$I$18,6,10)=\"june\",\"0630\"))","v":"20241231"},{"$f":"+'Incoming Remittances (Volume)'!E87","v":0}]
["CMREM_11500","GM",{"$f":"+'Outgoing Remittances (Value)'!$D$5","v":"20240831"},{"$f":"+'COVER SHEET'!$D$12","v":0},11500,{"$f":"'COVER SHEET'!$D$16&IF(MID('COVER SHEET'!$I$18,6,10)=\"december\",\"1231\",IF(MID('COVER SHEET'!$I$18,6,10)=\"june\",\"0630\"))","v":"20241231"},{"$f":"+'Incoming Remittances (Volume)'!E88","v":0}]
["CMREM_11500","GE",{"$f":"+'Outgoing Remittances (Value)'!$D$5","v":"20240831"},{"$f":"+'COVER SHEET'!$D$12","v":0},11500,{"$f":"'COVER SHEET'!$D$16&IF(MID('COVER SHEET'!$I$18,6,10)=\"december\",\"1231\",IF(MID('COVER SHEET'!$I$18,6,10)=\"june\",\"0630\"))","v":"20241231"},{"$f":"+'Incoming Remittances (Volume)'!E89","v":0}]
["CMREM_11500","DE",{"$f":"+'Outgoing Remittances (Value)'!$D$5","v":"20240831"},{"$f":"+'COVER SHEET'!$D$12","v":0},11500,{"$f":"'COVER SHEET'!$D$16&IF(MID('COVER SHEET'!$I$18,6,10)=\"december\",\"1231\",IF(MID('COVER SHEET'!$I$18,6,10)=\"june\",\"0630\"))","v":"20241231"},{"$f":"+'Incoming Remittances (Volume)'!E90","v":0}]
["CMREM_11500","GH",{"$f":"+'Outgoing Remittances (Value)'!$D$5","v":"20240831"},{"$f":"+'COVER SHEET'!$D$12","v":0},11500,{"$f":"'COVER SHEET'!$D$16&IF(MID('COVER SHEET'!$I$18,6,10)=\"december\",\"1231\",IF(MID('COVER SHEET'!$I$18,6,10)=\"june\",\"0630\"))","v":"20241231"},{"$f":"+'Incoming Remittances (Volume)'!E91","v":0}]
["CMREM_11500","GI",{"$f":"+'Outgoing Remittances (Value)'!$D$5","v":"20240831"},{"$f":"+'COVER SHEET'!$D$12","v":0},11500,{"$f":"'COVER SHEET'!$D$16&IF(MID('COVER SHEET'!$I$18,6,10)=\"december\",\"1231\",IF(MID('COVER SHEET'!$I$18,6,10)=\"june\",\"0630\"))","v":"20241231"},{"$f":"+'Incoming Remittances (Volume)'!E92","v":0}]
["CMREM_11500","GR",{"$f":"+'Outgoing Remittances (Value)'!$D$5","v":"20240831"},{"$f":"+'COVER SHEET'!$D$12","v":0},11500,{"$f":"'COVER SHEET'!$D$16&IF(MID('COVER SHEET'!$I$18,6,10)=\"december\",\"1231\",IF(MID('COVER SHEET'!$I$18,6,10)=\"june\",\"0630\"))","v":"20241231"},{"$f":"+'Incoming Remittances (Volume)'!E93","v":0}]
["CMREM_11500","GL",{"$f":"+'Outgoing Remittances (Value)'!$D$5","v":"20240831"},{"$f":"+'COVER SHEET'!$D$12","v":0},11500,{"$f":"'COVER SHEET'!$D$16&IF(MID('COVER SHEET'!$I$18,6,10)=\"december\",\"1231\",IF(MID('COVER SHEET'!$I$18,6,10)=\"june\",\"0630\"))","v":"20241231"},{"$f":"+'Incoming Remittances (Volume)'!E94","v":0}]
["CMREM_11500","GD",{"$f":"+'Outgoing Remittances (Value)'!$D$5","v":"20240831"},{"$f":"+'COVER SHEET'!$D$12","v":0},11500,{"$f":"'COVER SHEET'!$D$16&IF(MID('COVER SHEET'!$I$18,6,10)=\"december\",\"1231\",IF(MID('COVER SHEET'!$I$18,6,10)=\"june\",\"0630\"))","v":"20241231"},{"$f":"+'Incoming Remittances (Volume)'!E95","v":0}]
["CMREM_11500","GU",{"$f":"+'Outgoing Remittances (Value)'!$D$5","v":"20240831"},{"$f":"+'COVER SHEET'!$D$12","v":0},11500,{"$f":"'COVER SHEET'!$D$16&IF(MID('COVER SHEET'!$I$18,6,10)=\"december\",\"1231\",IF(MID('COVER SHEET'!$I$18,6,10)=\"june\",\"0630\"))","v":"20241231"},{"$f":"+'Incoming Remittances (Volume)'!E96","v":0}]
["CMREM_11500","GT",{"$f":"+'Outgoing Remittances (Value)'!$D$5","v":"20240831"},{"$f":"+'COVER SHEET'!$D$12","v":0},11500,{"$f":"'COVER SHEET'!$D$16&IF(MID('COVER SHEET'!$I$18,6,10)=\"december\",\"1231\",IF(MID('COVER SHEET'!$I$18,6,10)=\"june\",\"0630\"))","v":"20241231"},{"$f":"+'Incoming Remittances (Volume)'!E97","v":0}]
["CMREM_11500","GG",{"$f":"+'Outgoing Remittances (Value)'!$D$5","v":"20240831"},{"$f":"+'COVER SHEET'!$D$12","v":0},11500,{"$f":"'COVER SHEET'!$D$16&IF(MID('COVER SHEET'!$I$18,6,10)=\"december\",\"1231\",IF(MID('COVER SHEET'!$I$18,6,10)=\"june\",\"0630\"))","v":"20241231"},{"$f":"+'Incoming Remittances (Volume)'!E98","v":0}]
["CMREM_11500","GN",{"$f":"+'Outgoing Remittances (Value)'!$D$5","v":"20240831"},{"$f":"+'COVER SHEET'!$D$12","v":0},11500,{"$f":"'COVER SHEET'!$D$16&IF(MID('COVER SHEET'!$I$18,6,10)=\"december\",\"1231\",IF(MID('COVER SHEET'!$I$18,6,10)=\"june\",\"0630\"))","v":"20241231"},{"$f":"+'Incoming Remittances (Volume)'!E99","v":0}]
["CMREM_11500","GW",{"$f":"+'Outgoing Remittances (Value)'!$D$5","v":"20240831"},{"$f":"+'COVER SHEET'!$D$12","v":0},11500,{"$f":"'COVER SHEET'!$D$16&IF(MID('COVER SHEET'!$I$18,6,10)=\"december\",\"1231\",IF(MID('COVER SHEET'!$I$18,6,10)=\"june\",\"0630\"))","v":"20241231"},{"$f":"+'Incoming Remittances (Volume)'!E100","v":0}]
["CMREM_11500","GY",{"$f":"+'Outgoing Remittances (Value)'!$D$5","v":"20240831"},{"$f":"+'COVER SHEET'!$D$12","v":0},11500,{"$f":"'COVER SHEET'!$D$16&IF(MID('COVER SHEET'!$I$18,6,10)=\"december\",\"1231\",IF(MID('COVER SHEET'!$I$18,6,10)=\"june\",\"0630\"))","v":"20241231"},{"$f":"+'Incoming Remittances (Volume)'!E101","v":0}]
["CMREM_11500","HT",{"$f":"+'Outgoing Remittances (Value)'!$D$5","v":"20240831"},{"$f":"+'COVER SHEET'!$D$12","v":0},11500,{"$f":"'COVER SHEET'!$D$16&IF(MID('COVER SHEET'!$I$18,6,10)=\"december\",\"1231\",IF(MID('COVER SHEET'!$I$18,6,10)=\"june\",\"0630\"))","v":"20241231"},{"$f":"+'Incoming Remittances (Volume)'!E102","v":0}]
["CMREM_11500","HM",{"$f":"+'Outgoing Remittances (Value)'!$D$5","v":"20240831"},{"$f":"+'COVER SHEET'!$D$12","v":0},11500,{"$f":"'COVER SHEET'!$D$16&IF(MID('COVER SHEET'!$I$18,6,10)=\"december\",\"1231\",IF(MID('COVER SHEET'!$I$18,6,10)=\"june\",\"0630\"))","v":"20241231"},{"$f":"+'Incoming Remittances (Volume)'!E103","v":0}]
["CMREM_11500","VA",{"$f":"+'Outgoing Remittances (Value)'!$D$5","v":"20240831"},{"$f":"+'COVER SHEET'!$D$12","v":0},11500,{"$f":"'COVER SHEET'!$D$16&IF(MID('COVER SHEET'!$I$18,6,10)=\"december\",\"1231\",IF(MID('COVER SHEET'!$I$18,6,10)=\"june\",\"0630\"))","v":"20241231"},{"$f":"+'Incoming Remittances (Volume)'!E104","v":0}]
["CMREM_11500","HN",{"$f":"+'Outgoing Remittances (Value)'!$D$5","v":"20240831"},{"$f":"+'COVER SHEET'!$D$12","v":0},11500,{"$f":"'COVER SHEET'!$D$16&IF(MID('COVER SHEET'!$I$18,6,10)=\"december\",\"1231\",IF(MID('COVER SHEET'!$I$18,6,10)=\"june\",\"0630\"))","v":"20241231"},{"$f":"+'Incoming Remittances (Volume)'!E105","v":0}]
["CMREM_11500","HK",{"$f":"+'Outgoing Remittances (Value)'!$D$5","v":"20240831"},{"$f":"+'COVER SHEET'!$D$12","v":0},11500,{"$f":"'COVER SHEET'!$D$16&IF(MID('COVER SHEET'!$I$18,6,10)=\"december\",\"1231\",IF(MID('COVER SHEET'!$I$18,6,10)=\"june\",\"0630\"))","v":"20241231"},{"$f":"+'Incoming Remittances (Volume)'!E106","v":0}]
["CMREM_11500","HU",{"$f":"+'Outgoing Remittances (Value)'!$D$5","v":"20240831"},{"$f":"+'COVER SHEET'!$D$12","v":0},11500,{"$f":"'COVER SHEET'!$D$16&IF(MID('COVER SHEET'!$I$18,6,10)=\"december\",\"1231\",IF(MID('COVER SHEET'!$I$18,6,10)=\"june\",\"0630\"))","v":"20241231"},{"$f":"+'Incoming Remittances (Volume)'!E107","v":0}]
["CMREM_11500","IS",{"$f":"+'Outgoing Remittances (Value)'!$D$5","v":"20240831"},{"$f":"+'COVER SHEET'!$D$12","v":0},11500,{"$f":"'COVER SHEET'!$D$16&IF(MID('COVER SHEET'!$I$18,6,10)=\"december\",\"1231\",IF(MID('COVER SHEET'!$I$18,6,10)=\"june\",\"0630\"))","v":"20241231"},{"$f":"+'Incoming Remittances (Volume)'!E108","v":0}]
["CMREM_11500","IN",{"$f":"+'Outgoing Remittances (Value)'!$D$5","v":"20240831"},{"$f":"+'COVER SHEET'!$D$12","v":0},11500,{"$f":"'COVER SHEET'!$D$16&IF(MID('COVER SHEET'!$I$18,6,10)=\"december\",\"1231\",IF(MID('COVER SHEET'!$I$18,6,10)=\"june\",\"0630\"))","v":"20241231"},{"$f":"+'Incoming Remittances (Volume)'!E109","v":0}]
["CMREM_11500","ID",{"$f":"+'Outgoing Remittances (Value)'!$D$5","v":"20240831"},{"$f":"+'COVER SHEET'!$D$12","v":0},11500,{"$f":"'COVER SHEET'!$D$16&IF(MID('COVER SHEET'!$I$18,6,10)=\"december\",\"1231\",IF(MID('COVER SHEET'!$I$18,6,10)=\"june\",\"0630\"))","v":"20241231"},{"$f":"+'Incoming Remittances (Volume)'!E110","v":0}]
["CMREM_11500","IR",{"$f":"+'Outgoing Remittances (Value)'!$D$5","v":"20240831"},{"$f":"+'COVER SHEET'!$D$12","v":0},11500,{"$f":"'COVER SHEET'!$D$16&IF(MID('COVER SHEET'!$I$18,6,10)=\"december\",\"1231\",IF(MID('COVER SHEET'!$I$18,6,10)=\"june\",\"0630\"))","v":"20241231"},{"$f":"+'Incoming Remittances (Volume)'!E111","v":0}]
["CMREM_11500","IQ",{"$f":"+'Outgoing Remittances (Value)'!$D$5","v":"20240831"},{"$f":"+'COVER SHEET'!$D$12","v":0},11500,{"$f":"'COVER SHEET'!$D$16&IF(MID('COVER SHEET'!$I$18,6,10)=\"december\",\"1231\",IF(MID('COVER SHEET'!$I$18,6,10)=\"june\",\"0630\"))","v":"20241231"},{"$f":"+'Incoming Remittances (Volume)'!E112","v":0}]
["CMREM_11500","IE",{"$f":"+'Outgoing Remittances (Value)'!$D$5","v":"20240831"},{"$f":"+'COVER SHEET'!$D$12","v":0},11500,{"$f":"'COVER SHEET'!$D$16&IF(MID('COVER SHEET'!$I$18,6,10)=\"december\",\"1231\",IF(MID('COVER SHEET'!$I$18,6,10)=\"june\",\"0630\"))","v":"20241231"},{"$f":"+'Incoming Remittances (Volume)'!E113","v":0}]
["CMREM_11500","IM",{"$f":"+'Outgoing Remittances (Value)'!$D$5","v":"20240831"},{"$f":"+'COVER SHEET'!$D$12","v":0},11500,{"$f":"'COVER SHEET'!$D$16&IF(MID('COVER SHEET'!$I$18,6,10)=\"december\",\"1231\",IF(MID('COVER SHEET'!$I$18,6,10)=\"june\",\"0630\"))","v":"20241231"},{"$f":"+'Incoming Remittances (Volume)'!E114","v":0}]
["CMREM_11500","IL",{"$f":"+'Outgoing Remittances (Value)'!$D$5","v":"20240831"},{"$f":"+'COVER SHEET'!$D$12","v":0},11500,{"$f":"'COVER SHEET'!$D$16&IF(MID('COVER SHEET'!$I$18,6,10)=\"december\",\"1231\",IF(MID('COVER SHEET'!$I$18,6,10)=\"june\",\"0630\"))","v":"20241231"},{"$f":"+'Incoming Remittances (Volume)'!E115","v":0}]
["CMREM_11500","IT",{"$f":"+'Outgoing Remittances (Value)'!$D$5","v":"20240831"},{"$f":"+'COVER SHEET'!$D$12","v":0},11500,{"$f":"'COVER SHEET'!$D$16&IF(MID('COVER SHEET'!$I$18,6,10)=\"december\",\"1231\",IF(MID('COVER SHEET'!$I$18,6,10)=\"june\",\"0630\"))","v":"20241231"},{"$f":"+'Incoming Remittances (Volume)'!E116","v":0}]
["CMREM_11500","CI",{"$f":"+'Outgoing Remittances (Value)'!$D$5","v":"20240831"},{"$f":"+'COVER SHEET'!$D$12","v":0},11500,{"$f":"'COVER SHEET'!$D$16&IF(MID('COVER SHEET'!$I$18,6,10)=\"december\",\"1231\",IF(MID('COVER SHEET'!$I$18,6,10)=\"june\",\"0630\"))","v":"20241231"},{"$f":"+'Incoming Remittances (Volume)'!E117","v":0}]
["CMREM_11500","JM",{"$f":"+'Outgoing Remittances (Value)'!$D$5","v":"20240831"},{"$f":"+'COVER SHEET'!$D$12","v":0},11500,{"$f":"'COVER SHEET'!$D$16&IF(MID('COVER SHEET'!$I$18,6,10)=\"december\",\"1231\",IF(MID('COVER SHEET'!$I$18,6,10)=\"june\",\"0630\"))","v":"20241231"},{"$f":"+'Incoming Remittances (Volume)'!E118","v":0}]
["CMREM_11500","JP",{"$f":"+'Outgoing Remittances (Value)'!$D$5","v":"20240831"},{"$f":"+'COVER SHEET'!$D$12","v":0},11500,{"$f":"'COVER SHEET'!$D$16&IF(MID('COVER SHEET'!$I$18,6,10)=\"december\",\"1231\",IF(MID('COVER SHEET'!$I$18,6,10)=\"june\",\"0630\"))","v":"20241231"},{"$f":"+'Incoming Remittances (Volume)'!E119","v":0}]
["CMREM_11500","JE",{"$f":"+'Outgoing Remittances (Value)'!$D$5","v":"20240831"},{"$f":"+'COVER SHEET'!$D$12","v":0},11500,{"$f":"'COVER SHEET'!$D$16&IF(MID('COVER SHEET'!$I$18,6,10)=\"december\",\"1231\",IF(MID('COVER SHEET'!$I$18,6,10)=\"june\",\"0630\"))","v":"20241231"},{"$f":"+'Incoming Remittances (Volume)'!E120","v":0}]
["CMREM_11500","JO",{"$f":"+'Outgoing Remittances (Value)'!$D$5","v":"20240831"},{"$f":"+'COVER SHEET'!$D$12","v":0},11500,{"$f":"'COVER SHEET'!$D$16&IF(MID('COVER SHEET'!$I$18,6,10)=\"december\",\"1231\",IF(MID('COVER SHEET'!$I$18,6,10)=\"june\",\"0630\"))","v":"20241231"},{"$f":"+'Incoming Remittances (Volume)'!E121","v":0}]
["CMREM_11500","KZ",{"$f":"+'Outgoing Remittances (Value)'!$D$5","v":"20240831"},{"$f":"+'COVER SHEET'!$D$12","v":0},11500,{"$f":"'COVER SHEET'!$D$16&IF(MID('COVER SHEET'!$I$18,6,10)=\"december\",\"1231\",IF(MID('COVER SHEET'!$I$18,6,10)=\"june\",\"0630\"))","v":"20241231"},{"$f":"+'Incoming Remittances (Volume)'!E122","v":0}]
["CMREM_11500","KE",{"$f":"+'Outgoing Remittances (Value)'!$D$5","v":"20240831"},{"$f":"+'COVER SHEET'!$D$12","v":0},11500,{"$f":"'COVER SHEET'!$D$16&IF(MID('COVER SHEET'!$I$18,6,10)=\"december\",\"1231\",IF(MID('COVER SHEET'!$I$18,6,10)=\"june\",\"0630\"))","v":"20241231"},{"$f":"+'Incoming Remittances (Volume)'!E123","v":0}]
["CMREM_11500","KI",{"$f":"+'Outgoing Remittances (Value)'!$D$5","v":"20240831"},{"$f":"+'COVER SHEET'!$D$12","v":0},11500,{"$f":"'COVER SHEET'!$D$16&IF(MID('COVER SHEET'!$I$18,6,10)=\"december\",\"1231\",IF(MID('COVER SHEET'!$I$18,6,10)=\"june\",\"0630\"))","v":"20241231"},{"$f":"+'Incoming Remittances (Volume)'!E124","v":0}]
["CMREM_11500","KP",{"$f":"+'Outgoing Remittances (Value)'!$D$5","v":"20240831"},{"$f":"+'COVER SHEET'!$D$12","v":0},11500,{"$f":"'COVER SHEET'!$D$16&IF(MID('COVER SHEET'!$I$18,6,10)=\"december\",\"1231\",IF(MID('COVER SHEET'!$I$18,6,10)=\"june\",\"0630\"))","v":"20241231"},{"$f":"+'Incoming Remittances (Volume)'!E125","v":0}]
["CMREM_11500","KR",{"$f":"+'Outgoing Remittances (Value)'!$D$5","v":"20240831"},{"$f":"+'COVER SHEET'!$D$12","v":0},11500,{"$f":"'COVER SHEET'!$D$16&IF(MID('COVER SHEET'!$I$18,6,10)=\"december\",\"1231\",IF(MID('COVER SHEET'!$I$18,6,10)=\"june\",\"0630\"))","v":"20241231"},{"$f":"+'Incoming Remittances (Volume)'!E126","v":0}]
["CMREM_11500","XK",{"$f":"+'Outgoing Remittances (Value)'!$D$5","v":"20240831"},{"$f":"+'COVER SHEET'!$D$12","v":0},11500,{"$f":"'COVER SHEET'!$D$16&IF(MID('COVER SHEET'!$I$18,6,10)=\"december\",\"1231\",IF(MID('COVER SHEET'!$I$18,6,10)=\"june\",\"0630\"))","v":"20241231"},{"$f":"+'Incoming Remittances (Volume)'!E127","v":0}]
["CMREM_11500","KW",{"$f":"+'Outgoing Remittances (Value)'!$D$5","v":"20240831"},{"$f":"+'COVER SHEET'!$D$12","v":0},11500,{"$f":"'COVER SHEET'!$D$16&IF(MID('COVER SHEET'!$I$18,6,10)=\"december\",\"1231\",IF(MID('COVER SHEET'!$I$18,6,10)=\"june\",\"0630\"))","v":"20241231"},{"$f":"+'Incoming Remittances (Volume)'!E128","v":0}]
["CMREM_11500","KG",{"$f":"+'Outgoing Remittances (Value)'!$D$5","v":"20240831"},{"$f":"+'COVER SHEET'!$D$12","v":0},11500,{"$f":"'COVER SHEET'!$D$16&IF(MID('COVER SHEET'!$I$18,6,10)=\"december\",\"1231\",IF(MID('COVER SHEET'!$I$18,6,10)=\"june\",\"0630\"))","v":"20241231"},{"$f":"+'Incoming Remittances (Volume)'!E129","v":0}]
["CMREM_11500","LA",{"$f":"+'Outgoing Remittances (Value)'!$D$5","v":"20240831"},{"$f":"+'COVER SHEET'!$D$12","v":0},11500,{"$f":"'COVER SHEET'!$D$16&IF(MID('COVER SHEET'!$I$18,6,10)=\"december\",\"1231\",IF(MID('COVER SHEET'!$I$18,6,10)=\"june\",\"0630\"))","v":"20241231"},{"$f":"+'Incoming Remittances (Volume)'!E130","v":0}]
["CMREM_11500","LV",{"$f":"+'Outgoing Remittances (Value)'!$D$5","v":"20240831"},{"$f":"+'COVER SHEET'!$D$12","v":0},11500,{"$f":"'COVER SHEET'!$D$16&IF(MID('COVER SHEET'!$I$18,6,10)=\"december\",\"1231\",IF(MID('COVER SHEET'!$I$18,6,10)=\"june\",\"0630\"))","v":"20241231"},{"$f":"+'Incoming Remittances (Volume)'!E131","v":0}]
["CMREM_11500","LB",{"$f":"+'Outgoing Remittances (Value)'!$D$5","v":"20240831"},{"$f":"+'COVER SHEET'!$D$12","v":0},11500,{"$f":"'COVER SHEET'!$D$16&IF(MID('COVER SHEET'!$I$18,6,10)=\"december\",\"1231\",IF(MID('COVER SHEET'!$I$18,6,10)=\"june\",\"0630\"))","v":"20241231"},{"$f":"+'Incoming Remittances (Volume)'!E132","v":0}]
["CMREM_11500","LS",{"$f":"+'Outgoing Remittances (Value)'!$D$5","v":"20240831"},{"$f":"+'COVER SHEET'!$D$12","v":0},11500,{"$f":"'COVER SHEET'!$D$16&IF(MID('COVER SHEET'!$I$18,6,10)=\"december\",\"1231\",IF(MID('COVER SHEET'!$I$18,6,10)=\"june\",\"0630\"))","v":"20241231"},{"$f":"+'Incoming Remittances (Volume)'!E133","v":0}]
["CMREM_11500","LR",{"$f":"+'Outgoing Remittances (Value)'!$D$5","v":"20240831"},{"$f":"+'COVER SHEET'!$D$12","v":0},11500,{"$f":"'COVER SHEET'!$D$16&IF(MID('COVER SHEET'!$I$18,6,10)=\"december\",\"1231\",IF(MID('COVER SHEET'!$I$18,6,10)=\"june\",\"0630\"))","v":"20241231"},{"$f":"+'Incoming Remittances (Volume)'!E134","v":0}]
["CMREM_11500","LY",{"$f":"+'Outgoing Remittances (Value)'!$D$5","v":"20240831"},{"$f":"+'COVER SHEET'!$D$12","v":0},11500,{"$f":"'COVER SHEET'!$D$16&IF(MID('COVER SHEET'!$I$18,6,10)=\"december\",\"1231\",IF(MID('COVER SHEET'!$I$18,6,10)=\"june\",\"0630\"))","v":"20241231"},{"$f":"+'Incoming Remittances (Volume)'!E135","v":0}]
["CMREM_11500","LI",{"$f":"+'Outgoing Remittances (Value)'!$D$5","v":"20240831"},{"$f":"+'COVER SHEET'!$D$12","v":0},11500,{"$f":"'COVER SHEET'!$D$16&IF(MID('COVER SHEET'!$I$18,6,10)=\"december\",\"1231\",IF(MID('COVER SHEET'!$I$18,6,10)=\"june\",\"0630\"))","v":"20241231"},{"$f":"+'Incoming Remittances (Volume)'!E136","v":0}]
["CMREM_11500","LT",{"$f":"+'Outgoing Remittances (Value)'!$D$5","v":"20240831"},{"$f":"+'COVER SHEET'!$D$12","v":0},11500,{"$f":"'COVER SHEET'!$D$16&IF(MID('COVER SHEET'!$I$18,6,10)=\"december\",\"1231\",IF(MID('COVER SHEET'!$I$18,6,10)=\"june\",\"0630\"))","v":"20241231"},{"$f":"+'Incoming Remittances (Volume)'!E137","v":0}]
["CMREM_11500","LU",{"$f":"+'Outgoing Remittances (Value)'!$D$5","v":"20240831"},{"$f":"+'COVER SHEET'!$D$12","v":0},11500,{"$f":"'COVER SHEET'!$D$16&IF(MID('COVER SHEET'!$I$18,6,10)=\"december\",\"1231\",IF(MID('COVER SHEET'!$I$18,6,10)=\"june\",\"0630\"))","v":"20241231"},{"$f":"+'Incoming Remittances (Volume)'!E138","v":0}]
["CMREM_11500","MO",{"$f":"+'Outgoing Remittances (Value)'!$D$5","v":"20240831"},{"$f":"+'COVER SHEET'!$D$12","v":0},11500,{"$f":"'COVER SHEET'!$D$16&IF(MID('COVER SHEET'!$I$18,6,10)=\"december\",\"1231\",IF(MID('COVER SHEET'!$I$18,6,10)=\"june\",\"0630\"))","v":"20241231"},{"$f":"+'Incoming Remittances (Volume)'!E139","v":0}]
["CMREM_11500","MK",{"$f":"+'Outgoing Remittances (Value)'!$D$5","v":"20240831"},{"$f":"+'COVER SHEET'!$D$12","v":0},11500,{"$f":"'COVER SHEET'!$D$16&IF(MID('COVER SHEET'!$I$18,6,10)=\"december\",\"1231\",IF(MID('COVER SHEET'!$I$18,6,10)=\"june\",\"0630\"))","v":"20241231"},{"$f":"+'Incoming Remittances (Volume)'!E140","v":0}]
["CMREM_11500","MG",{"$f":"+'Outgoing Remittances (Value)'!$D$5","v":"20240831"},{"$f":"+'COVER SHEET'!$D$12","v":0},11500,{"$f":"'COVER SHEET'!$D$16&IF(MID('COVER SHEET'!$I$18,6,10)=\"december\",\"1231\",IF(MID('COVER SHEET'!$I$18,6,10)=\"june\",\"0630\"))","v":"20241231"},{"$f":"+'Incoming Remittances (Volume)'!E141","v":0}]
["CMREM_11500","MW",{"$f":"+'Outgoing Remittances (Value)'!$D$5","v":"20240831"},{"$f":"+'COVER SHEET'!$D$12","v":0},11500,{"$f":"'COVER SHEET'!$D$16&IF(MID('COVER SHEET'!$I$18,6,10)=\"december\",\"1231\",IF(MID('COVER SHEET'!$I$18,6,10)=\"june\",\"0630\"))","v":"20241231"},{"$f":"+'Incoming Remittances (Volume)'!E142","v":0}]
["CMREM_11500","MY",{"$f":"+'Outgoing Remittances (Value)'!$D$5","v":"20240831"},{"$f":"+'COVER SHEET'!$D$12","v":0},11500,{"$f":"'COVER SHEET'!$D$16&IF(MID('COVER SHEET'!$I$18,6,10)=\"december\",\"1231\",IF(MID('COVER SHEET'!$I$18,6,10)=\"june\",\"0630\"))","v":"20241231"},{"$f":"+'Incoming Remittances (Volume)'!E143","v":0}]
["CMREM_11500","MV",{"$f":"+'Outgoing Remittances (Value)'!$D$5","v":"20240831"},{"$f":"+'COVER SHEET'!$D$12","v":0},11500,{"$f":"'COVER SHEET'!$D$16&IF(MID('COVER SHEET'!$I$18,6,10)=\"december\",\"1231\",IF(MID('COVER SHEET'!$I$18,6,10)=\"june\",\"0630\"))","v":"20241231"},{"$f":"+'Incoming Remittances (Volume)'!E144","v":0}]
["CMREM_11500","ML",{"$f":"+'Outgoing Remittances (Value)'!$D$5","v":"20240831"},{"$f":"+'COVER SHEET'!$D$12","v":0},11500,{"$f":"'COVER SHEET'!$D$16&IF(MID('COVER SHEET'!$I$18,6,10)=\"december\",\"1231\",IF(MID('COVER SHEET'!$I$18,6,10)=\"june\",\"0630\"))","v":"20241231"},{"$f":"+'Incoming Remittances (Volume)'!E145","v":0}]
["CMREM_11500","MH",{"$f":"+'Outgoing Remittances (Value)'!$D$5","v":"20240831"},{"$f":"+'COVER SHEET'!$D$12","v":0},11500,{"$f":"'COVER SHEET'!$D$16&IF(MID('COVER SHEET'!$I$18,6,10)=\"december\",\"1231\",IF(MID('COVER SHEET'!$I$18,6,10)=\"june\",\"0630\"))","v":"20241231"},{"$f":"+'Incoming Remittances (Volume)'!E146","v":0}]
["CMREM_11500","MR",{"$f":"+'Outgoing Remittances (Value)'!$D$5","v":"20240831"},{"$f":"+'COVER SHEET'!$D$12","v":0},11500,{"$f":"'COVER SHEET'!$D$16&IF(MID('COVER SHEET'!$I$18,6,10)=\"december\",\"1231\",IF(MID('COVER SHEET'!$I$18,6,10)=\"june\",\"0630\"))","v":"20241231"},{"$f":"+'Incoming Remittances (Volume)'!E147","v":0}]
["CMREM_11500","MU",{"$f":"+'Outgoing Remittances (Value)'!$D$5","v":"20240831"},{"$f":"+'COVER SHEET'!$D$12","v":0},11500,{"$f":"'COVER SHEET'!$D$16&IF(MID('COVER SHEET'!$I$18,6,10)=\"december\",\"1231\",IF(MID('COVER SHEET'!$I$18,6,10)=\"june\",\"0630\"))","v":"20241231"},{"$f":"+'Incoming Remittances (Volume)'!E148","v":0}]
["CMREM_11500","MX",{"$f":"+'Outgoing Remittances (Value)'!$D$5","v":"20240831"},{"$f":"+'COVER SHEET'!$D$12","v":0},11500,{"$f":"'COVER SHEET'!$D$16&IF(MID('COVER SHEET'!$I$18,6,10)=\"december\",\"1231\",IF(MID('COVER SHEET'!$I$18,6,10)=\"june\",\"0630\"))","v":"20241231"},{"$f":"+'Incoming Remittances (Volume)'!E149","v":0}]
["CMREM_11500","FM",{"$f":"+'Outgoing Remittances (Value)'!$D$5","v":"20240831"},{"$f":"+'COVER SHEET'!$D$12","v":0},11500,{"$f":"'COVER SHEET'!$D$16&IF(MID('COVER SHEET'!$I$18,6,10)=\"december\",\"1231\",IF(MID('COVER SHEET'!$I$18,6,10)=\"june\",\"0630\"))","v":"20241231"},{"$f":"+'Incoming Remittances (Volume)'!E150","v":0}]
["CMREM_11500","MD",{"$f":"+'Outgoing Remittances (Value)'!$D$5","v":"20240831"},{"$f":"+'COVER SHEET'!$D$12","v":0},11500,{"$f":"'COVER SHEET'!$D$16&IF(MID('COVER SHEET'!$I$18,6,10)=\"december\",\"1231\",IF(MID('COVER SHEET'!$I$18,6,10)=\"june\",\"0630\"))","v":"20241231"},{"$f":"+'Incoming Remittances (Volume)'!E151","v":0}]
["CMREM_11500","MN",{"$f":"+'Outgoing Remittances (Value)'!$D$5","v":"20240831"},{"$f":"+'COVER SHEET'!$D$12","v":0},11500,{"$f":"'COVER SHEET'!$D$16&IF(MID('COVER SHEET'!$I$18,6,10)=\"december\",\"1231\",IF(MID('COVER SHEET'!$I$18,6,10)=\"june\",\"0630\"))","v":"20241231"},{"$f":"+'Incoming Remittances (Volume)'!E152","v":0}]
["CMREM_11500","ME",{"$f":"+'Outgoing Remittances (Value)'!$D$5","v":"20240831"},{"$f":"+'COVER SHEET'!$D$12","v":0},11500,{"$f":"'COVER SHEET'!$D$16&IF(MID('COVER SHEET'!$I$18,6,10)=\"december\",\"1231\",IF(MID('COVER SHEET'!$I$18,6,10)=\"june\",\"0630\"))","v":"20241231"},{"$f":"+'Incoming Remittances (Volume)'!E153","v":0}]
["CMREM_11500","MS",{"$f":"+'Outgoing Remittances (Value)'!$D$5","v":"20240831"},{"$f":"+'COVER SHEET'!$D$12","v":0},11500,{"$f":"'COVER SHEET'!$D$16&IF(MID('COVER SHEET'!$I$18,6,10)=\"december\",\"1231\",IF(MID('COVER SHEET'!$I$18,6,10)=\"june\",\"0630\"))","v":"20241231"},{"$f":"+'Incoming Remittances (Volume)'!E154","v":0}]
["CMREM_11500","MA",{"$f":"+'Outgoing Remittances (Value)'!$D$5","v":"20240831"},{"$f":"+'COVER SHEET'!$D$12","v":0},11500,{"$f":"'COVER SHEET'!$D$16&IF(MID('COVER SHEET'!$I$18,6,10)=\"december\",\"1231\",IF(MID('COVER SHEET'!$I$18,6,10)=\"june\",\"0630\"))","v":"20241231"},{"$f":"+'Incoming Remittances (Volume)'!E155","v":0}]
["CMREM_11500","MZ",{"$f":"+'Outgoing Remittances (Value)'!$D$5","v":"20240831"},{"$f":"+'COVER SHEET'!$D$12","v":0},11500,{"$f":"'COVER SHEET'!$D$16&IF(MID('COVER SHEET'!$I$18,6,10)=\"december\",\"1231\",IF(MID('COVER SHEET'!$I$18,6,10)=\"june\",\"0630\"))","v":"20241231"},{"$f":"+'Incoming Remittances (Volume)'!E156","v":0}]
["CMREM_11500","MM",{"$f":"+'Outgoing Remittances (Value)'!$D$5","v":"20240831"},{"$f":"+'COVER SHEET'!$D$12","v":0},11500,{"$f":"'COVER SHEET'!$D$16&IF(MID('COVER SHEET'!$I$18,6,10)=\"december\",\"1231\",IF(MID('COVER SHEET'!$I$18,6,10)=\"june\",\"0630\"))","v":"20241231"},{"$f":"+'Incoming Remittances (Volume)'!E157","v":0}]
["CMREM_11500","NA",{"$f":"+'Outgoing Remittances (Value)'!$D$5","v":"20240831"},{"$f":"+'COVER SHEET'!$D$12","v":0},11500,{"$f":"'COVER SHEET'!$D$16&IF(MID('COVER SHEET'!$I$18,6,10)=\"december\",\"1231\",IF(MID('COVER SHEET'!$I$18,6,10)=\"june\",\"0630\"))","v":"20241231"},{"$f":"+'Incoming Remittances (Volume)'!E158","v":0}]
["CMREM_11500","NR",{"$f":"+'Outgoing Remittances (Value)'!$D$5","v":"20240831"},{"$f":"+'COVER SHEET'!$D$12","v":0},11500,{"$f":"'COVER SHEET'!$D$16&IF(MID('COVER SHEET'!$I$18,6,10)=\"december\",\"1231\",IF(MID('COVER SHEET'!$I$18,6,10)=\"june\",\"0630\"))","v":"20241231"},{"$f":"+'Incoming Remittances (Volume)'!E159","v":0}]
["CMREM_11500","NP",{"$f":"+'Outgoing Remittances (Value)'!$D$5","v":"20240831"},{"$f":"+'COVER SHEET'!$D$12","v":0},11500,{"$f":"'COVER SHEET'!$D$16&IF(MID('COVER SHEET'!$I$18,6,10)=\"december\",\"1231\",IF(MID('COVER SHEET'!$I$18,6,10)=\"june\",\"0630\"))","v":"20241231"},{"$f":"+'Incoming Remittances (Volume)'!E160","v":0}]
["CMREM_11500","NL",{"$f":"+'Outgoing Remittances (Value)'!$D$5","v":"20240831"},{"$f":"+'COVER SHEET'!$D$12","v":0},11500,{"$f":"'COVER SHEET'!$D$16&IF(MID('COVER SHEET'!$I$18,6,10)=\"december\",\"1231\",IF(MID('COVER SHEET'!$I$18,6,10)=\"june\",\"0630\"))","v":"20241231"},{"$f":"+'Incoming Remittances (Volume)'!E161","v":0}]
["CMREM_11500","NC",{"$f":"+'Outgoing Remittances (Value)'!$D$5","v":"20240831"},{"$f":"+'COVER SHEET'!$D$12","v":0},11500,{"$f":"'COVER SHEET'!$D$16&IF(MID('COVER SHEET'!$I$18,6,10)=\"december\",\"1231\",IF(MID('COVER SHEET'!$I$18,6,10)=\"june\",\"0630\"))","v":"20241231"},{"$f":"+'Incoming Remittances (Volume)'!E162","v":0}]
["CMREM_11500","NZ",{"$f":"+'Outgoing Remittances (Value)'!$D$5","v":"20240831"},{"$f":"+'COVER SHEET'!$D$12","v":0},11500,{"$f":"'COVER SHEET'!$D$16&IF(MID('COVER SHEET'!$I$18,6,10)=\"december\",\"1231\",IF(MID('COVER SHEET'!$I$18,6,10)=\"june\",\"0630\"))","v":"20241231"},{"$f":"+'Incoming Remittances (Volume)'!E163","v":0}]
["CMREM_11500","NI",{"$f":"+'Outgoing Remittances (Value)'!$D$5","v":"20240831"},{"$f":"+'COVER SHEET'!$D$12","v":0},11500,{"$f":"'COVER SHEET'!$D$16&IF(MID('COVER SHEET'!$I$18,6,10)=\"december\",\"1231\",IF(MID('COVER SHEET'!$I$18,6,10)=\"june\",\"0630\"))","v":"20241231"},{"$f":"+'Incoming Remittances (Volume)'!E164","v":0}]
["CMREM_11500","NE",{"$f":"+'Outgoing Remittances (Value)'!$D$5","v":"20240831"},{"$f":"+'COVER SHEET'!$D$12","v":0},11500,{"$f":"'COVER SHEET'!$D$16&IF(MID('COVER SHEET'!$I$18,6,10)=\"december\",\"1231\",IF(MID('COVER SHEET'!$I$18,6,10)=\"june\",\"0630\"))","v":"20241231"},{"$f":"+'Incoming Remittances (Volume)'!E165","v":0}]
["CMREM_11500","NG",{"$f":"+'Outgoing Remittances (Value)'!$D$5","v":"20240831"},{"$f":"+'COVER SHEET'!$D$12","v":0},11500,{"$f":"'COVER SHEET'!$D$16&IF(MID('COVER SHEET'!$I$18,6,10)=\"december\",\"1231\",IF(MID('COVER SHEET'!$I$18,6,10)=\"june\",\"0630\"))","v":"20241231"},{"$f":"+'Incoming Remittances (Volume)'!E166","v":0}]
["CMREM_11500","NU",{"$f":"+'Outgoing Remittances (Value)'!$D$5","v":"20240831"},{"$f":"+'COVER SHEET'!$D$12","v":0},11500,{"$f":"'COVER SHEET'!$D$16&IF(MID('COVER SHEET'!$I$18,6,10)=\"december\",\"1231\",IF(MID('COVER SHEET'!$I$18,6,10)=\"june\",\"0630\"))","v":"20241231"},{"$f":"+'Incoming Remittances (Volume)'!E167","v":0}]
["CMREM_11500","NF",{"$f":"+'Outgoing Remittances (Value)'!$D$5","v":"20240831"},{"$f":"+'COVER SHEET'!$D$12","v":0},11500,{"$f":"'COVER SHEET'!$D$16&IF(MID('COVER SHEET'!$I$18,6,10)=\"december\",\"1231\",IF(MID('COVER SHEET'!$I$18,6,10)=\"june\",\"0630\"))","v":"20241231"},{"$f":"+'Incoming Remittances (Volume)'!E168","v":0}]
["CMREM_11500","MP",{"$f":"+'Outgoing Remittances (Value)'!$D$5","v":"20240831"},{"$f":"+'COVER SHEET'!$D$12","v":0},11500,{"$f":"'COVER SHEET'!$D$16&IF(MID('COVER SHEET'!$I$18,6,10)=\"december\",\"1231\",IF(MID('COVER SHEET'!$I$18,6,10)=\"june\",\"0630\"))","v":"20241231"},{"$f":"+'Incoming Remittances (Volume)'!E169","v":0}]
["CMREM_11500","NO",{"$f":"+'Outgoing Remittances (Value)'!$D$5","v":"20240831"},{"$f":"+'COVER SHEET'!$D$12","v":0},11500,{"$f":"'COVER SHEET'!$D$16&IF(MID('COVER SHEET'!$I$18,6,10)=\"december\",\"1231\",IF(MID('COVER SHEET'!$I$18,6,10)=\"june\",\"0630\"))","v":"20241231"},{"$f":"+'Incoming Remittances (Volume)'!E170","v":0}]
["CMREM_11500","OM",{"$f":"+'Outgoing Remittances (Value)'!$D$5","v":"20240831"},{"$f":"+'COVER SHEET'!$D$12","v":0},11500,{"$f":"'COVER SHEET'!$D$16&IF(MID('COVER SHEET'!$I$18,6,10)=\"december\",\"1231\",IF(MID('COVER SHEET'!$I$18,6,10)=\"june\",\"0630\"))","v":"20241231"},{"$f":"+'Incoming Remittances (Volume)'!E171","v":0}]
["CMREM_11500","PK",{"$f":"+'Outgoing Remittances (Value)'!$D$5","v":"20240831"},{"$f":"+'COVER SHEET'!$D$12","v":0},11500,{"$f":"'COVER SHEET'!$D$16&IF(MID('COVER SHEET'!$I$18,6,10)=\"december\",\"1231\",IF(MID('COVER SHEET'!$I$18,6,10)=\"june\",\"0630\"))","v":"20241231"},{"$f":"+'Incoming Remittances (Volume)'!E172","v":0}]
["CMREM_11500","PW",{"$f":"+'Outgoing Remittances (Value)'!$D$5","v":"20240831"},{"$f":"+'COVER SHEET'!$D$12","v":0},11500,{"$f":"'COVER SHEET'!$D$16&IF(MID('COVER SHEET'!$I$18,6,10)=\"december\",\"1231\",IF(MID('COVER SHEET'!$I$18,6,10)=\"june\",\"0630\"))","v":"20241231"},{"$f":"+'Incoming Remittances (Volume)'!E173","v":0}]
["CMREM_11500","PS",{"$f":"+'Outgoing Remittances (Value)'!$D$5","v":"20240831"},{"$f":"+'COVER SHEET'!$D$12","v":0},11500,{"$f":"'COVER SHEET'!$D$16&IF(MID('COVER SHEET'!$I$18,6,10)=\"december\",\"1231\",IF(MID('COVER SHEET'!$I$18,6,10)=\"june\",\"0630\"))","v":"20241231"},{"$f":"+'Incoming Remittances (Volume)'!E174","v":0}]
["CMREM_11500","PA",{"$f":"+'Outgoing Remittances (Value)'!$D$5","v":"20240831"},{"$f":"+'COVER SHEET'!$D$12","v":0},11500,{"$f":"'COVER SHEET'!$D$16&IF(MID('COVER SHEET'!$I$18,6,10)=\"december\",\"1231\",IF(MID('COVER SHEET'!$I$18,6,10)=\"june\",\"0630\"))","v":"20241231"},{"$f":"+'Incoming Remittances (Volume)'!E175","v":0}]
["CMREM_11500","PG",{"$f":"+'Outgoing Remittances (Value)'!$D$5","v":"20240831"},{"$f":"+'COVER SHEET'!$D$12","v":0},11500,{"$f":"'COVER SHEET'!$D$16&IF(MID('COVER SHEET'!$I$18,6,10)=\"december\",\"1231\",IF(MID('COVER SHEET'!$I$18,6,10)=\"june\",\"0630\"))","v":"20241231"},{"$f":"+'Incoming Remittances (Volume)'!E176","v":0}]
["CMREM_11500","PY",{"$f":"+'Outgoing Remittances (Value)'!$D$5","v":"20240831"},{"$f":"+'COVER SHEET'!$D$12","v":0},11500,{"$f":"'COVER SHEET'!$D$16&IF(MID('COVER SHEET'!$I$18,6,10)=\"december\",\"1231\",IF(MID('COVER SHEET'!$I$18,6,10)=\"june\",\"0630\"))","v":"20241231"},{"$f":"+'Incoming Remittances (Volume)'!E177","v":0}]
["CMREM_11500","PE",{"$f":"+'Outgoing Remittances (Value)'!$D$5","v":"20240831"},{"$f":"+'COVER SHEET'!$D$12","v":0},11500,{"$f":"'COVER SHEET'!$D$16&IF(MID('COVER SHEET'!$I$18,6,10)=\"december\",\"1231\",IF(MID('COVER SHEET'!$I$18,6,10)=\"june\",\"0630\"))","v":"20241231"},{"$f":"+'Incoming Remittances (Volume)'!E178","v":0}]
["CMREM_11500","PH",{"$f":"+'Outgoing Remittances (Value)'!$D$5","v":"20240831"},{"$f":"+'COVER SHEET'!$D$12","v":0},11500,{"$f":"'COVER SHEET'!$D$16&IF(MID('COVER SHEET'!$I$18,6,10)=\"december\",\"1231\",IF(MID('COVER SHEET'!$I$18,6,10)=\"june\",\"0630\"))","v":"20241231"},{"$f":"+'Incoming Remittances (Volume)'!E179","v":0}]
["CMREM_11500","PN",{"$f":"+'Outgoing Remittances (Value)'!$D$5","v":"20240831"},{"$f":"+'COVER SHEET'!$D$12","v":0},11500,{"$f":"'COVER SHEET'!$D$16&IF(MID('COVER SHEET'!$I$18,6,10)=\"december\",\"1231\",IF(MID('COVER SHEET'!$I$18,6,10)=\"june\",\"0630\"))","v":"20241231"},{"$f":"+'Incoming Remittances (Volume)'!E180","v":0}]
["CMREM_11500","PL",{"$f":"+'Outgoing Remittances (Value)'!$D$5","v":"20240831"},{"$f":"+'COVER SHEET'!$D$12","v":0},11500,{"$f":"'COVER SHEET'!$D$16&IF(MID('COVER SHEET'!$I$18,6,10)=\"december\",\"1231\",IF(MID('COVER SHEET'!$I$18,6,10)=\"june\",\"0630\"))","v":"20241231"},{"$f":"+'Incoming Remittances (Volume)'!E181","v":0}]
["CMREM_11500","PT",{"$f":"+'Outgoing Remittances (Value)'!$D$5","v":"20240831"},{"$f":"+'COVER SHEET'!$D$12","v":0},11500,{"$f":"'COVER SHEET'!$D$16&IF(MID('COVER SHEET'!$I$18,6,10)=\"december\",\"1231\",IF(MID('COVER SHEET'!$I$18,6,10)=\"june\",\"0630\"))","v":"20241231"},{"$f":"+'Incoming Remittances (Volume)'!E182","v":0}]
["CMREM_11500","QA",{"$f":"+'Outgoing Remittances (Value)'!$D$5","v":"20240831"},{"$f":"+'COVER SHEET'!$D$12","v":0},11500,{"$f":"'COVER SHEET'!$D$16&IF(MID('COVER SHEET'!$I$18,6,10)=\"december\",\"1231\",IF(MID('COVER SHEET'!$I$18,6,10)=\"june\",\"0630\"))","v":"20241231"},{"$f":"+'Incoming Remittances (Volume)'!E183","v":0}]
["CMREM_11500","RO",{"$f":"+'Outgoing Remittances (Value)'!$D$5","v":"20240831"},{"$f":"+'COVER SHEET'!$D$12","v":0},11500,{"$f":"'COVER SHEET'!$D$16&IF(MID('COVER SHEET'!$I$18,6,10)=\"december\",\"1231\",IF(MID('COVER SHEET'!$I$18,6,10)=\"june\",\"0630\"))","v":"20241231"},{"$f":"+'Incoming Remittances (Volume)'!E184","v":0}]
["CMREM_11500","RU",{"$f":"+'Outgoing Remittances (Value)'!$D$5","v":"20240831"},{"$f":"+'COVER SHEET'!$D$12","v":0},11500,{"$f":"'COVER SHEET'!$D$16&IF(MID('COVER SHEET'!$I$18,6,10)=\"december\",\"1231\",IF(MID('COVER SHEET'!$I$18,6,10)=\"june\",\"0630\"))","v":"20241231"},{"$f":"+'Incoming Remittances (Volume)'!E185","v":0}]
["CMREM_11500","RW",{"$f":"+'Outgoing Remittances (Value)'!$D$5","v":"20240831"},{"$f":"+'COVER SHEET'!$D$12","v":0},11500,{"$f":"'COVER SHEET'!$D$16&IF(MID('COVER SHEET'!$I$18,6,10)=\"december\",\"1231\",IF(MID('COVER SHEET'!$I$18,6,10)=\"june\",\"0630\"))","v":"20241231"},{"$f":"+'Incoming Remittances (Volume)'!E186","v":0}]
["CMREM_11500","SH",{"$f":"+'Outgoing Remittances (Value)'!$D$5","v":"20240831"},{"$f":"+'COVER SHEET'!$D$12","v":0},11500,{"$f":"'COVER SHEET'!$D$16&IF(MID('COVER SHEET'!$I$18,6,10)=\"december\",\"1231\",IF(MID('COVER SHEET'!$I$18,6,10)=\"june\",\"0630\"))","v":"20241231"},{"$f":"+'Incoming Remittances (Volume)'!E187","v":0}]
["CMREM_11500","KN",{"$f":"+'Outgoing Remittances (Value)'!$D$5","v":"20240831"},{"$f":"+'COVER SHEET'!$D$12","v":0},11500,{"$f":"'COVER SHEET'!$D$16&IF(MID('COVER SHEET'!$I$18,6,10)=\"december\",\"1231\",IF(MID('COVER SHEET'!$I$18,6,10)=\"june\",\"0630\"))","v":"20241231"},{"$f":"+'Incoming Remittances (Volume)'!E188","v":0}]
["CMREM_11500","LC",{"$f":"+'Outgoing Remittances (Value)'!$D$5","v":"20240831"},{"$f":"+'COVER SHEET'!$D$12","v":0},11500,{"$f":"'COVER SHEET'!$D$16&IF(MID('COVER SHEET'!$I$18,6,10)=\"december\",\"1231\",IF(MID('COVER SHEET'!$I$18,6,10)=\"june\",\"0630\"))","v":"20241231"},{"$f":"+'Incoming Remittances (Volume)'!E189","v":0}]
["CMREM_11500","VC",{"$f":"+'Outgoing Remittances (Value)'!$D$5","v":"20240831"},{"$f":"+'COVER SHEET'!$D$12","v":0},11500,{"$f":"'COVER SHEET'!$D$16&IF(MID('COVER SHEET'!$I$18,6,10)=\"december\",\"1231\",IF(MID('COVER SHEET'!$I$18,6,10)=\"june\",\"0630\"))","v":"20241231"},{"$f":"+'Incoming Remittances (Volume)'!E190","v":0}]
["CMREM_11500","WS",{"$f":"+'Outgoing Remittances (Value)'!$D$5","v":"20240831"},{"$f":"+'COVER SHEET'!$D$12","v":0},11500,{"$f":"'COVER SHEET'!$D$16&IF(MID('COVER SHEET'!$I$18,6,10)=\"december\",\"1231\",IF(MID('COVER SHEET'!$I$18,6,10)=\"june\",\"0630\"))","v":"20241231"},{"$f":"+'Incoming Remittances (Volume)'!E191","v":0}]
["CMREM_11500","SM",{"$f":"+'Outgoing Remittances (Value)'!$D$5","v":"20240831"},{"$f":"+'COVER SHEET'!$D$12","v":0},11500,{"$f":"'COVER SHEET'!$D$16&IF(MID('COVER SHEET'!$I$18,6,10)=\"december\",\"1231\",IF(MID('COVER SHEET'!$I$18,6,10)=\"june\",\"0630\"))","v":"20241231"},{"$f":"+'Incoming Remittances (Volume)'!E192","v":0}]
["CMREM_11500","ST",{"$f":"+'Outgoing Remittances (Value)'!$D$5","v":"20240831"},{"$f":"+'COVER SHEET'!$D$12","v":0},11500,{"$f":"'COVER SHEET'!$D$16&IF(MID('COVER SHEET'!$I$18,6,10)=\"december\",\"1231\",IF(MID('COVER SHEET'!$I$18,6,10)=\"june\",\"0630\"))","v":"20241231"},{"$f":"+'Incoming Remittances (Volume)'!E193","v":0}]
["CMREM_11500","SA",{"$f":"+'Outgoing Remittances (Value)'!$D$5","v":"20240831"},{"$f":"+'COVER SHEET'!$D$12","v":0},11500,{"$f":"'COVER SHEET'!$D$16&IF(MID('COVER SHEET'!$I$18,6,10)=\"december\",\"1231\",IF(MID('COVER SHEET'!$I$18,6,10)=\"june\",\"0630\"))","v":"20241231"},{"$f":"+'Incoming Remittances (Volume)'!E194","v":0}]
["CMREM_11500","SN",{"$f":"+'Outgoing Remittances (Value)'!$D$5","v":"20240831"},{"$f":"+'COVER SHEET'!$D$12","v":0},11500,{"$f":"'COVER SHEET'!$D$16&IF(MID('COVER SHEET'!$I$18,6,10)=\"december\",\"1231\",IF(MID('COVER SHEET'!$I$18,6,10)=\"june\",\"0630\"))","v":"20241231"},{"$f":"+'Incoming Remittances (Volume)'!E195","v":0}]
["CMREM_11500","RS",{"$f":"+'Outgoing Remittances (Value)'!$D$5","v":"20240831"},{"$f":"+'COVER SHEET'!$D$12","v":0},11500,{"$f":"'COVER SHEET'!$D$16&IF(MID('COVER SHEET'!$I$18,6,10)=\"december\",\"1231\",IF(MID('COVER SHEET'!$I$18,6,10)=\"june\",\"0630\"))","v":"20241231"},{"$f":"+'Incoming Remittances (Volume)'!E196","v":0}]
["CMREM_11500","SC",{"$f":"+'Outgoing Remittances (Value)'!$D$5","v":"20240831"},{"$f":"+'COVER SHEET'!$D$12","v":0},11500,{"$f":"'COVER SHEET'!$D$16&IF(MID('COVER SHEET'!$I$18,6,10)=\"december\",\"1231\",IF(MID('COVER SHEET'!$I$18,6,10)=\"june\",\"0630\"))","v":"20241231"},{"$f":"+'Incoming Remittances (Volume)'!E197","v":0}]
["CMREM_11500","SL",{"$f":"+'Outgoing Remittances (Value)'!$D$5","v":"20240831"},{"$f":"+'COVER SHEET'!$D$12","v":0},11500,{"$f":"'COVER SHEET'!$D$16&IF(MID('COVER SHEET'!$I$18,6,10)=\"december\",\"1231\",IF(MID('COVER SHEET'!$I$18,6,10)=\"june\",\"0630\"))","v":"20241231"},{"$f":"+'Incoming Remittances (Volume)'!E198","v":0}]
["CMREM_11500","SG",{"$f":"+'Outgoing Remittances (Value)'!$D$5","v":"20240831"},{"$f":"+'COVER SHEET'!$D$12","v":0},11500,{"$f":"'COVER SHEET'!$D$16&IF(MID('COVER SHEET'!$I$18,6,10)=\"december\",\"1231\",IF(MID('COVER SHEET'!$I$18,6,10)=\"june\",\"0630\"))","v":"20241231"},{"$f":"+'Incoming Remittances (Volume)'!E199","v":0}]
["CMREM_11500","SX",{"$f":"+'Outgoing Remittances (Value)'!$D$5","v":"20240831"},{"$f":"+'COVER SHEET'!$D$12","v":0},11500,{"$f":"'COVER SHEET'!$D$16&IF(MID('COVER SHEET'!$I$18,6,10)=\"december\",\"1231\",IF(MID('COVER SHEET'!$I$18,6,10)=\"june\",\"0630\"))","v":"20241231"},{"$f":"+'Incoming Remittances (Volume)'!E200","v":0}]
["CMREM_11500","SK",{"$f":"+'Outgoing Remittances (Value)'!$D$5","v":"20240831"},{"$f":"+'COVER SHEET'!$D$12","v":0},11500,{"$f":"'COVER SHEET'!$D$16&IF(MID('COVER SHEET'!$I$18,6,10)=\"december\",\"1231\",IF(MID('COVER SHEET'!$I$18,6,10)=\"june\",\"0630\"))","v":"20241231"},{"$f":"+'Incoming Remittances (Volume)'!E201","v":0}]
["CMREM_11500","SI",{"$f":"+'Outgoing Remittances (Value)'!$D$5","v":"20240831"},{"$f":"+'COVER SHEET'!$D$12","v":0},11500,{"$f":"'COVER SHEET'!$D$16&IF(MID('COVER SHEET'!$I$18,6,10)=\"december\",\"1231\",IF(MID('COVER SHEET'!$I$18,6,10)=\"june\",\"0630\"))","v":"20241231"},{"$f":"+'Incoming Remittances (Volume)'!E202","v":0}]
["CMREM_11500","SB",{"$f":"+'Outgoing Remittances (Value)'!$D$5","v":"20240831"},{"$f":"+'COVER SHEET'!$D$12","v":0},11500,{"$f":"'COVER SHEET'!$D$16&IF(MID('COVER SHEET'!$I$18,6,10)=\"december\",\"1231\",IF(MID('COVER SHEET'!$I$18,6,10)=\"june\",\"0630\"))","v":"20241231"},{"$f":"+'Incoming Remittances (Volume)'!E203","v":0}]
["CMREM_11500","SO",{"$f":"+'Outgoing Remittances (Value)'!$D$5","v":"20240831"},{"$f":"+'COVER SHEET'!$D$12","v":0},11500,{"$f":"'COVER SHEET'!$D$16&IF(MID('COVER SHEET'!$I$18,6,10)=\"december\",\"1231\",IF(MID('COVER SHEET'!$I$18,6,10)=\"june\",\"0630\"))","v":"20241231"},{"$f":"+'Incoming Remittances (Volume)'!E204","v":0}]
["CMREM_11500","ZA",{"$f":"+'Outgoing Remittances (Value)'!$D$5","v":"20240831"},{"$f":"+'COVER SHEET'!$D$12","v":0},11500,{"$f":"'COVER SHEET'!$D$16&IF(MID('COVER SHEET'!$I$18,6,10)=\"december\",\"1231\",IF(MID('COVER SHEET'!$I$18,6,10)=\"june\",\"0630\"))","v":"20241231"},{"$f":"+'Incoming Remittances (Volume)'!E205","v":0}]
["CMREM_11500","GS",{"$f":"+'Outgoing Remittances (Value)'!$D$5","v":"20240831"},{"$f":"+'COVER SHEET'!$D$12","v":0},11500,{"$f":"'COVER SHEET'!$D$16&IF(MID('COVER SHEET'!$I$18,6,10)=\"december\",\"1231\",IF(MID('COVER SHEET'!$I$18,6,10)=\"june\",\"0630\"))","v":"20241231"},{"$f":"+'Incoming Remittances (Volume)'!E206","v":0}]
["CMREM_11500","SS",{"$f":"+'Outgoing Remittances (Value)'!$D$5","v":"20240831"},{"$f":"+'COVER SHEET'!$D$12","v":0},11500,{"$f":"'COVER SHEET'!$D$16&IF(MID('COVER SHEET'!$I$18,6,10)=\"december\",\"1231\",IF(MID('COVER SHEET'!$I$18,6,10)=\"june\",\"0630\"))","v":"20241231"},{"$f":"+'Incoming Remittances (Volume)'!E207","v":0}]
["CMREM_11500","ES",{"$f":"+'Outgoing Remittances (Value)'!$D$5","v":"20240831"},{"$f":"+'COVER SHEET'!$D$12","v":0},11500,{"$f":"'COVER SHEET'!$D$16&IF(MID('COVER SHEET'!$I$18,6,10)=\"december\",\"1231\",IF(MID('COVER SHEET'!$I$18,6,10)=\"june\",\"0630\"))","v":"20241231"},{"$f":"+'Incoming Remittances (Volume)'!E208","v":0}]
["CMREM_11500","LK",{"$f":"+'Outgoing Remittances (Value)'!$D$5","v":"20240831"},{"$f":"+'COVER SHEET'!$D$12","v":0},11500,{"$f":"'COVER SHEET'!$D$16&IF(MID('COVER SHEET'!$I$18,6,10)=\"december\",\"1231\",IF(MID('COVER SHEET'!$I$18,6,10)=\"june\",\"0630\"))","v":"20241231"},{"$f":"+'Incoming Remittances (Volume)'!E209","v":0}]
["CMREM_11500","SD",{"$f":"+'Outgoing Remittances (Value)'!$D$5","v":"20240831"},{"$f":"+'COVER SHEET'!$D$12","v":0},11500,{"$f":"'COVER SHEET'!$D$16&IF(MID('COVER SHEET'!$I$18,6,10)=\"december\",\"1231\",IF(MID('COVER SHEET'!$I$18,6,10)=\"june\",\"0630\"))","v":"20241231"},{"$f":"+'Incoming Remittances (Volume)'!E210","v":0}]
["CMREM_11500","SR",{"$f":"+'Outgoing Remittances (Value)'!$D$5","v":"20240831"},{"$f":"+'COVER SHEET'!$D$12","v":0},11500,{"$f":"'COVER SHEET'!$D$16&IF(MID('COVER SHEET'!$I$18,6,10)=\"december\",\"1231\",IF(MID('COVER SHEET'!$I$18,6,10)=\"june\",\"0630\"))","v":"20241231"},{"$f":"+'Incoming Remittances (Volume)'!E211","v":0}]
["CMREM_11500","SZ",{"$f":"+'Outgoing Remittances (Value)'!$D$5","v":"20240831"},{"$f":"+'COVER SHEET'!$D$12","v":0},11500,{"$f":"'COVER SHEET'!$D$16&IF(MID('COVER SHEET'!$I$18,6,10)=\"december\",\"1231\",IF(MID('COVER SHEET'!$I$18,6,10)=\"june\",\"0630\"))","v":"20241231"},{"$f":"+'Incoming Remittances (Volume)'!E212","v":0}]
["CMREM_11500","SE",{"$f":"+'Outgoing Remittances (Value)'!$D$5","v":"20240831"},{"$f":"+'COVER SHEET'!$D$12","v":0},11500,{"$f":"'COVER SHEET'!$D$16&IF(MID('COVER SHEET'!$I$18,6,10)=\"december\",\"1231\",IF(MID('COVER SHEET'!$I$18,6,10)=\"june\",\"0630\"))","v":"20241231"},{"$f":"+'Incoming Remittances (Volume)'!E213","v":0}]
["CMREM_11500","CH",{"$f":"+'Outgoing Remittances (Value)'!$D$5","v":"20240831"},{"$f":"+'COVER SHEET'!$D$12","v":0},11500,{"$f":"'COVER SHEET'!$D$16&IF(MID('COVER SHEET'!$I$18,6,10)=\"december\",\"1231\",IF(MID('COVER SHEET'!$I$18,6,10)=\"june\",\"0630\"))","v":"20241231"},{"$f":"+'Incoming Remittances (Volume)'!E214","v":0}]
["CMREM_11500","SY",{"$f":"+'Outgoing Remittances (Value)'!$D$5","v":"20240831"},{"$f":"+'COVER SHEET'!$D$12","v":0},11500,{"$f":"'COVER SHEET'!$D$16&IF(MID('COVER SHEET'!$I$18,6,10)=\"december\",\"1231\",IF(MID('COVER SHEET'!$I$18,6,10)=\"june\",\"0630\"))","v":"20241231"},{"$f":"+'Incoming Remittances (Volume)'!E215","v":0}]
["CMREM_11500","TW",{"$f":"+'Outgoing Remittances (Value)'!$D$5","v":"20240831"},{"$f":"+'COVER SHEET'!$D$12","v":0},11500,{"$f":"'COVER SHEET'!$D$16&IF(MID('COVER SHEET'!$I$18,6,10)=\"december\",\"1231\",IF(MID('COVER SHEET'!$I$18,6,10)=\"june\",\"0630\"))","v":"20241231"},{"$f":"+'Incoming Remittances (Volume)'!E216","v":0}]
["CMREM_11500","TJ",{"$f":"+'Outgoing Remittances (Value)'!$D$5","v":"20240831"},{"$f":"+'COVER SHEET'!$D$12","v":0},11500,{"$f":"'COVER SHEET'!$D$16&IF(MID('COVER SHEET'!$I$18,6,10)=\"december\",\"1231\",IF(MID('COVER SHEET'!$I$18,6,10)=\"june\",\"0630\"))","v":"20241231"},{"$f":"+'Incoming Remittances (Volume)'!E217","v":0}]
["CMREM_11500","TZ",{"$f":"+'Outgoing Remittances (Value)'!$D$5","v":"20240831"},{"$f":"+'COVER SHEET'!$D$12","v":0},11500,{"$f":"'COVER SHEET'!$D$16&IF(MID('COVER SHEET'!$I$18,6,10)=\"december\",\"1231\",IF(MID('COVER SHEET'!$I$18,6,10)=\"june\",\"0630\"))","v":"20241231"},{"$f":"+'Incoming Remittances (Volume)'!E218","v":0}]
["CMREM_11500","TH",{"$f":"+'Outgoing Remittances (Value)'!$D$5","v":"20240831"},{"$f":"+'COVER SHEET'!$D$12","v":0},11500,{"$f":"'COVER SHEET'!$D$16&IF(MID('COVER SHEET'!$I$18,6,10)=\"december\",\"1231\",IF(MID('COVER SHEET'!$I$18,6,10)=\"june\",\"0630\"))","v":"20241231"},{"$f":"+'Incoming Remittances (Volume)'!E219","v":0}]
["CMREM_11500","TG",{"$f":"+'Outgoing Remittances (Value)'!$D$5","v":"20240831"},{"$f":"+'COVER SHEET'!$D$12","v":0},11500,{"$f":"'COVER SHEET'!$D$16&IF(MID('COVER SHEET'!$I$18,6,10)=\"december\",\"1231\",IF(MID('COVER SHEET'!$I$18,6,10)=\"june\",\"0630\"))","v":"20241231"},{"$f":"+'Incoming Remittances (Volume)'!E220","v":0}]
["CMREM_11500","TK",{"$f":"+'Outgoing Remittances (Value)'!$D$5","v":"20240831"},{"$f":"+'COVER SHEET'!$D$12","v":0},11500,{"$f":"'COVER SHEET'!$D$16&IF(MID('COVER SHEET'!$I$18,6,10)=\"december\",\"1231\",IF(MID('COVER SHEET'!$I$18,6,10)=\"june\",\"0630\"))","v":"20241231"},{"$f":"+'Incoming Remittances (Volume)'!E221","v":0}]
["CMREM_11500","TO",{"$f":"+'Outgoing Remittances (Value)'!$D$5","v":"20240831"},{"$f":"+'COVER SHEET'!$D$12","v":0},11500,{"$f":"'COVER SHEET'!$D$16&IF(MID('COVER SHEET'!$I$18,6,10)=\"december\",\"1231\",IF(MID('COVER SHEET'!$I$18,6,10)=\"june\",\"0630\"))","v":"20241231"},{"$f":"+'Incoming Remittances (Volume)'!E222","v":0}]
["CMREM_11500","TT",{"$f":"+'Outgoing Remittances (Value)'!$D$5","v":"20240831"},{"$f":"+'COVER SHEET'!$D$12","v":0},11500,{"$f":"'COVER SHEET'!$D$16&IF(MID('COVER SHEET'!$I$18,6,10)=\"december\",\"1231\",IF(MID('COVER SHEET'!$I$18,6,10)=\"june\",\"0630\"))","v":"20241231"},{"$f":"+'Incoming Remittances (Volume)'!E223","v":0}]
["CMREM_11500","TN",{"$f":"+'Outgoing Remittances (Value)'!$D$5","v":"20240831"},{"$f":"+'COVER SHEET'!$D$12","v":0},11500,{"$f":"'COVER SHEET'!$D$16&IF(MID('COVER SHEET'!$I$18,6,10)=\"december\",\"1231\",IF(MID('COVER SHEET'!$I$18,6,10)=\"june\",\"0630\"))","v":"20241231"},{"$f":"+'Incoming Remittances (Volume)'!E224","v":0}]
["CMREM_11500","TR",{"$f":"+'Outgoing Remittances (Value)'!$D$5","v":"20240831"},{"$f":"+'COVER SHEET'!$D$12","v":0},11500,{"$f":"'COVER SHEET'!$D$16&IF(MID('COVER SHEET'!$I$18,6,10)=\"december\",\"1231\",IF(MID('COVER SHEET'!$I$18,6,10)=\"june\",\"0630\"))","v":"20241231"},{"$f":"+'Incoming Remittances (Volume)'!E225","v":0}]
["CMREM_11500","TM",{"$f":"+'Outgoing Remittances (Value)'!$D$5","v":"20240831"},{"$f":"+'COVER SHEET'!$D$12","v":0},11500,{"$f":"'COVER SHEET'!$D$16&IF(MID('COVER SHEET'!$I$18,6,10)=\"december\",\"1231\",IF(MID('COVER SHEET'!$I$18,6,10)=\"june\",\"0630\"))","v":"20241231"},{"$f":"+'Incoming Remittances (Volume)'!E226","v":0}]
["CMREM_11500","TC",{"$f":"+'Outgoing Remittances (Value)'!$D$5","v":"20240831"},{"$f":"+'COVER SHEET'!$D$12","v":0},11500,{"$f":"'COVER SHEET'!$D$16&IF(MID('COVER SHEET'!$I$18,6,10)=\"december\",\"1231\",IF(MID('COVER SHEET'!$I$18,6,10)=\"june\",\"0630\"))","v":"20241231"},{"$f":"+'Incoming Remittances (Volume)'!E227","v":0}]
["CMREM_11500","TV",{"$f":"+'Outgoing Remittances (Value)'!$D$5","v":"20240831"},{"$f":"+'COVER SHEET'!$D$12","v":0},11500,{"$f":"'COVER SHEET'!$D$16&IF(MID('COVER SHEET'!$I$18,6,10)=\"december\",\"1231\",IF(MID('COVER SHEET'!$I$18,6,10)=\"june\",\"0630\"))","v":"20241231"},{"$f":"+'Incoming Remittances (Volume)'!E228","v":0}]
["CMREM_11500","UG",{"$f":"+'Outgoing Remittances (Value)'!$D$5","v":"20240831"},{"$f":"+'COVER SHEET'!$D$12","v":0},11500,{"$f":"'COVER SHEET'!$D$16&IF(MID('COVER SHEET'!$I$18,6,10)=\"december\",\"1231\",IF(MID('COVER SHEET'!$I$18,6,10)=\"june\",\"0630\"))","v":"20241231"},{"$f":"+'Incoming Remittances (Volume)'!E229","v":0}]
["CMREM_11500","UA",{"$f":"+'Outgoing Remittances (Value)'!$D$5","v":"20240831"},{"$f":"+'COVER SHEET'!$D$12","v":0},11500,{"$f":"'COVER SHEET'!$D$16&IF(MID('COVER SHEET'!$I$18,6,10)=\"december\",\"1231\",IF(MID('COVER SHEET'!$I$18,6,10)=\"june\",\"0630\"))","v":"20241231"},{"$f":"+'Incoming Remittances (Volume)'!E230","v":0}]
["CMREM_11500","AE",{"$f":"+'Outgoing Remittances (Value)'!$D$5","v":"20240831"},{"$f":"+'COVER SHEET'!$D$12","v":0},11500,{"$f":"'COVER SHEET'!$D$16&IF(MID('COVER SHEET'!$I$18,6,10)=\"december\",\"1231\",IF(MID('COVER SHEET'!$I$18,6,10)=\"june\",\"0630\"))","v":"20241231"},{"$f":"+'Incoming Remittances (Volume)'!E231","v":0}]
["CMREM_11500","GB",{"$f":"+'Outgoing Remittances (Value)'!$D$5","v":"20240831"},{"$f":"+'COVER SHEET'!$D$12","v":0},11500,{"$f":"'COVER SHEET'!$D$16&IF(MID('COVER SHEET'!$I$18,6,10)=\"december\",\"1231\",IF(MID('COVER SHEET'!$I$18,6,10)=\"june\",\"0630\"))","v":"20241231"},{"$f":"+'Incoming Remittances (Volume)'!E232","v":0}]
["CMREM_11500","US",{"$f":"+'Outgoing Remittances (Value)'!$D$5","v":"20240831"},{"$f":"+'COVER SHEET'!$D$12","v":0},11500,{"$f":"'COVER SHEET'!$D$16&IF(MID('COVER SHEET'!$I$18,6,10)=\"december\",\"1231\",IF(MID('COVER SHEET'!$I$18,6,10)=\"june\",\"0630\"))","v":"20241231"},{"$f":"+'Incoming Remittances (Volume)'!E233","v":0}]
["CMREM_11500","UY",{"$f":"+'Outgoing Remittances (Value)'!$D$5","v":"20240831"},{"$f":"+'COVER SHEET'!$D$12","v":0},11500,{"$f":"'COVER SHEET'!$D$16&IF(MID('COVER SHEET'!$I$18,6,10)=\"december\",\"1231\",IF(MID('COVER SHEET'!$I$18,6,10)=\"june\",\"0630\"))","v":"20241231"},{"$f":"+'Incoming Remittances (Volume)'!E234","v":0}]
["CMREM_11500","UM",{"$f":"+'Outgoing Remittances (Value)'!$D$5","v":"20240831"},{"$f":"+'COVER SHEET'!$D$12","v":0},11500,{"$f":"'COVER SHEET'!$D$16&IF(MID('COVER SHEET'!$I$18,6,10)=\"december\",\"1231\",IF(MID('COVER SHEET'!$I$18,6,10)=\"june\",\"0630\"))","v":"20241231"},{"$f":"+'Incoming Remittances (Volume)'!E235","v":0}]
["CMREM_11500","UZ",{"$f":"+'Outgoing Remittances (Value)'!$D$5","v":"20240831"},{"$f":"+'COVER SHEET'!$D$12","v":0},11500,{"$f":"'COVER SHEET'!$D$16&IF(MID('COVER SHEET'!$I$18,6,10)=\"december\",\"1231\",IF(MID('COVER SHEET'!$I$18,6,10)=\"june\",\"0630\"))","v":"20241231"},{"$f":"+'Incoming Remittances (Volume)'!E236","v":0}]
["CMREM_11500","VU",{"$f":"+'Outgoing Remittances (Value)'!$D$5","v":"20240831"},{"$f":"+'COVER SHEET'!$D$12","v":0},11500,{"$f":"'COVER SHEET'!$D$16&IF(MID('COVER SHEET'!$I$18,6,10)=\"december\",\"1231\",IF(MID('COVER SHEET'!$I$18,6,10)=\"june\",\"0630\"))","v":"20241231"},{"$f":"+'Incoming Remittances (Volume)'!E237","v":0}]
["CMREM_11500","VE",{"$f":"+'Outgoing Remittances (Value)'!$D$5","v":"20240831"},{"$f":"+'COVER SHEET'!$D$12","v":0},11500,{"$f":"'COVER SHEET'!$D$16&IF(MID('COVER SHEET'!$I$18,6,10)=\"december\",\"1231\",IF(MID('COVER SHEET'!$I$18,6,10)=\"june\",\"0630\"))","v":"20241231"},{"$f":"+'Incoming Remittances (Volume)'!E238","v":0}]
["CMREM_11500","VN",{"$f":"+'Outgoing Remittances (Value)'!$D$5","v":"20240831"},{"$f":"+'COVER SHEET'!$D$12","v":0},11500,{"$f":"'COVER SHEET'!$D$16&IF(MID('COVER SHEET'!$I$18,6,10)=\"december\",\"1231\",IF(MID('COVER SHEET'!$I$18,6,10)=\"june\",\"0630\"))","v":"20241231"},{"$f":"+'Incoming Remittances (Volume)'!E239","v":0}]
["CMREM_11500","VI",{"$f":"+'Outgoing Remittances (Value)'!$D$5","v":"20240831"},{"$f":"+'COVER SHEET'!$D$12","v":0},11500,{"$f":"'COVER SHEET'!$D$16&IF(MID('COVER SHEET'!$I$18,6,10)=\"december\",\"1231\",IF(MID('COVER SHEET'!$I$18,6,10)=\"june\",\"0630\"))","v":"20241231"},{"$f":"+'Incoming Remittances (Volume)'!E240","v":0}]
["CMREM_11500","WF",{"$f":"+'Outgoing Remittances (Value)'!$D$5","v":"20240831"},{"$f":"+'COVER SHEET'!$D$12","v":0},11500,{"$f":"'COVER SHEET'!$D$16&IF(MID('COVER SHEET'!$I$18,6,10)=\"december\",\"1231\",IF(MID('COVER SHEET'!$I$18,6,10)=\"june\",\"0630\"))","v":"20241231"},{"$f":"+'Incoming Remittances (Volume)'!E241","v":0}]
["CMREM_11500","YE",{"$f":"+'Outgoing Remittances (Value)'!$D$5","v":"20240831"},{"$f":"+'COVER SHEET'!$D$12","v":0},11500,{"$f":"'COVER SHEET'!$D$16&IF(MID('COVER SHEET'!$I$18,6,10)=\"december\",\"1231\",IF(MID('COVER SHEET'!$I$18,6,10)=\"june\",\"0630\"))","v":"20241231"},{"$f":"+'Incoming Remittances (Volume)'!E242","v":0}]
["CMREM_11500","ZM",{"$f":"+'Outgoing Remittances (Value)'!$D$5","v":"20240831"},{"$f":"+'COVER SHEET'!$D$12","v":0},11500,{"$f":"'COVER SHEET'!$D$16&IF(MID('COVER SHEET'!$I$18,6,10)=\"december\",\"1231\",IF(MID('COVER SHEET'!$I$18,6,10)=\"june\",\"0630\"))","v":"20241231"},{"$f":"+'Incoming Remittances (Volume)'!E243","v":0}]
["CMREM_11500","ZW",{"$f":"+'Outgoing Remittances (Value)'!$D$5","v":"20240831"},{"$f":"+'COVER SHEET'!$D$12","v":0},11500,{"$f":"'COVER SHEET'!$D$16&IF(MID('COVER SHEET'!$I$18,6,10)=\"december\",\"1231\",IF(MID('COVER SHEET'!$I$18,6,10)=\"june\",\"0630\"))","v":"20241231"},{"$f":"+'Incoming Remittances (Volume)'!E244","v":0}]
["CMREM_11510","AF",{"$f":"+'Outgoing Remittances (Value)'!$D$5","v":"20240831"},{"$f":"+'COVER SHEET'!$D$12","v":0},11510,{"$f":"'COVER SHEET'!$D$16&IF(MID('COVER SHEET'!$I$18,6,10)=\"december\",\"1231\",IF(MID('COVER SHEET'!$I$18,6,10)=\"june\",\"0630\"))","v":"20241231"},{"$f":"+'Outgoing Remittances (Volume)'!D9","v":0}]
["CMREM_11510","AL",{"$f":"+'Outgoing Remittances (Value)'!$D$5","v":"20240831"},{"$f":"+'COVER SHEET'!$D$12","v":0},11510,{"$f":"'COVER SHEET'!$D$16&IF(MID('COVER SHEET'!$I$18,6,10)=\"december\",\"1231\",IF(MID('COVER SHEET'!$I$18,6,10)=\"june\",\"0630\"))","v":"20241231"},{"$f":"+'Outgoing Remittances (Volume)'!D10","v":0}]
["CMREM_11510","DZ",{"$f":"+'Outgoing Remittances (Value)'!$D$5","v":"20240831"},{"$f":"+'COVER SHEET'!$D$12","v":0},11510,{"$f":"'COVER SHEET'!$D$16&IF(MID('COVER SHEET'!$I$18,6,10)=\"december\",\"1231\",IF(MID('COVER SHEET'!$I$18,6,10)=\"june\",\"0630\"))","v":"20241231"},{"$f":"+'Outgoing Remittances (Volume)'!D11","v":0}]
["CMREM_11510","AS",{"$f":"+'Outgoing Remittances (Value)'!$D$5","v":"20240831"},{"$f":"+'COVER SHEET'!$D$12","v":0},11510,{"$f":"'COVER SHEET'!$D$16&IF(MID('COVER SHEET'!$I$18,6,10)=\"december\",\"1231\",IF(MID('COVER SHEET'!$I$18,6,10)=\"june\",\"0630\"))","v":"20241231"},{"$f":"+'Outgoing Remittances (Volume)'!D12","v":0}]
["CMREM_11510","AD",{"$f":"+'Outgoing Remittances (Value)'!$D$5","v":"20240831"},{"$f":"+'COVER SHEET'!$D$12","v":0},11510,{"$f":"'COVER SHEET'!$D$16&IF(MID('COVER SHEET'!$I$18,6,10)=\"december\",\"1231\",IF(MID('COVER SHEET'!$I$18,6,10)=\"june\",\"0630\"))","v":"20241231"},{"$f":"+'Outgoing Remittances (Volume)'!D13","v":0}]
["CMREM_11510","AO",{"$f":"+'Outgoing Remittances (Value)'!$D$5","v":"20240831"},{"$f":"+'COVER SHEET'!$D$12","v":0},11510,{"$f":"'COVER SHEET'!$D$16&IF(MID('COVER SHEET'!$I$18,6,10)=\"december\",\"1231\",IF(MID('COVER SHEET'!$I$18,6,10)=\"june\",\"0630\"))","v":"20241231"},{"$f":"+'Outgoing Remittances (Volume)'!D14","v":0}]
["CMREM_11510","AI",{"$f":"+'Outgoing Remittances (Value)'!$D$5","v":"20240831"},{"$f":"+'COVER SHEET'!$D$12","v":0},11510,{"$f":"'COVER SHEET'!$D$16&IF(MID('COVER SHEET'!$I$18,6,10)=\"december\",\"1231\",IF(MID('COVER SHEET'!$I$18,6,10)=\"june\",\"0630\"))","v":"20241231"},{"$f":"+'Outgoing Remittances (Volume)'!D15","v":0}]
["CMREM_11510","AQ",{"$f":"+'Outgoing Remittances (Value)'!$D$5","v":"20240831"},{"$f":"+'COVER SHEET'!$D$12","v":0},11510,{"$f":"'COVER SHEET'!$D$16&IF(MID('COVER SHEET'!$I$18,6,10)=\"december\",\"1231\",IF(MID('COVER SHEET'!$I$18,6,10)=\"june\",\"0630\"))","v":"20241231"},{"$f":"+'Outgoing Remittances (Volume)'!D16","v":0}]
["CMREM_11510","AG",{"$f":"+'Outgoing Remittances (Value)'!$D$5","v":"20240831"},{"$f":"+'COVER SHEET'!$D$12","v":0},11510,{"$f":"'COVER SHEET'!$D$16&IF(MID('COVER SHEET'!$I$18,6,10)=\"december\",\"1231\",IF(MID('COVER SHEET'!$I$18,6,10)=\"june\",\"0630\"))","v":"20241231"},{"$f":"+'Outgoing Remittances (Volume)'!D17","v":0}]
["CMREM_11510","AR",{"$f":"+'Outgoing Remittances (Value)'!$D$5","v":"20240831"},{"$f":"+'COVER SHEET'!$D$12","v":0},11510,{"$f":"'COVER SHEET'!$D$16&IF(MID('COVER SHEET'!$I$18,6,10)=\"december\",\"1231\",IF(MID('COVER SHEET'!$I$18,6,10)=\"june\",\"0630\"))","v":"20241231"},{"$f":"+'Outgoing Remittances (Volume)'!D18","v":0}]
["CMREM_11510","AM",{"$f":"+'Outgoing Remittances (Value)'!$D$5","v":"20240831"},{"$f":"+'COVER SHEET'!$D$12","v":0},11510,{"$f":"'COVER SHEET'!$D$16&IF(MID('COVER SHEET'!$I$18,6,10)=\"december\",\"1231\",IF(MID('COVER SHEET'!$I$18,6,10)=\"june\",\"0630\"))","v":"20241231"},{"$f":"+'Outgoing Remittances (Volume)'!D19","v":0}]
["CMREM_11510","AW",{"$f":"+'Outgoing Remittances (Value)'!$D$5","v":"20240831"},{"$f":"+'COVER SHEET'!$D$12","v":0},11510,{"$f":"'COVER SHEET'!$D$16&IF(MID('COVER SHEET'!$I$18,6,10)=\"december\",\"1231\",IF(MID('COVER SHEET'!$I$18,6,10)=\"june\",\"0630\"))","v":"20241231"},{"$f":"+'Outgoing Remittances (Volume)'!D20","v":0}]
["CMREM_11510","AU",{"$f":"+'Outgoing Remittances (Value)'!$D$5","v":"20240831"},{"$f":"+'COVER SHEET'!$D$12","v":0},11510,{"$f":"'COVER SHEET'!$D$16&IF(MID('COVER SHEET'!$I$18,6,10)=\"december\",\"1231\",IF(MID('COVER SHEET'!$I$18,6,10)=\"june\",\"0630\"))","v":"20241231"},{"$f":"+'Outgoing Remittances (Volume)'!D21","v":0}]
["CMREM_11510","AT",{"$f":"+'Outgoing Remittances (Value)'!$D$5","v":"20240831"},{"$f":"+'COVER SHEET'!$D$12","v":0},11510,{"$f":"'COVER SHEET'!$D$16&IF(MID('COVER SHEET'!$I$18,6,10)=\"december\",\"1231\",IF(MID('COVER SHEET'!$I$18,6,10)=\"june\",\"0630\"))","v":"20241231"},{"$f":"+'Outgoing Remittances (Volume)'!D22","v":0}]
["CMREM_11510","AZ",{"$f":"+'Outgoing Remittances (Value)'!$D$5","v":"20240831"},{"$f":"+'COVER SHEET'!$D$12","v":0},11510,{"$f":"'COVER SHEET'!$D$16&IF(MID('COVER SHEET'!$I$18,6,10)=\"december\",\"1231\",IF(MID('COVER SHEET'!$I$18,6,10)=\"june\",\"0630\"))","v":"20241231"},{"$f":"+'Outgoing Remittances (Volume)'!D23","v":0}]
["CMREM_11510","BS",{"$f":"+'Outgoing Remittances (Value)'!$D$5","v":"20240831"},{"$f":"+'COVER SHEET'!$D$12","v":0},11510,{"$f":"'COVER SHEET'!$D$16&IF(MID('COVER SHEET'!$I$18,6,10)=\"december\",\"1231\",IF(MID('COVER SHEET'!$I$18,6,10)=\"june\",\"0630\"))","v":"20241231"},{"$f":"+'Outgoing Remittances (Volume)'!D24","v":0}]
["CMREM_11510","BH",{"$f":"+'Outgoing Remittances (Value)'!$D$5","v":"20240831"},{"$f":"+'COVER SHEET'!$D$12","v":0},11510,{"$f":"'COVER SHEET'!$D$16&IF(MID('COVER SHEET'!$I$18,6,10)=\"december\",\"1231\",IF(MID('COVER SHEET'!$I$18,6,10)=\"june\",\"0630\"))","v":"20241231"},{"$f":"+'Outgoing Remittances (Volume)'!D25","v":0}]
["CMREM_11510","BD",{"$f":"+'Outgoing Remittances (Value)'!$D$5","v":"20240831"},{"$f":"+'COVER SHEET'!$D$12","v":0},11510,{"$f":"'COVER SHEET'!$D$16&IF(MID('COVER SHEET'!$I$18,6,10)=\"december\",\"1231\",IF(MID('COVER SHEET'!$I$18,6,10)=\"june\",\"0630\"))","v":"20241231"},{"$f":"+'Outgoing Remittances (Volume)'!D26","v":0}]
["CMREM_11510","BB",{"$f":"+'Outgoing Remittances (Value)'!$D$5","v":"20240831"},{"$f":"+'COVER SHEET'!$D$12","v":0},11510,{"$f":"'COVER SHEET'!$D$16&IF(MID('COVER SHEET'!$I$18,6,10)=\"december\",\"1231\",IF(MID('COVER SHEET'!$I$18,6,10)=\"june\",\"0630\"))","v":"20241231"},{"$f":"+'Outgoing Remittances (Volume)'!D27","v":0}]
["CMREM_11510","BY",{"$f":"+'Outgoing Remittances (Value)'!$D$5","v":"20240831"},{"$f":"+'COVER SHEET'!$D$12","v":0},11510,{"$f":"'COVER SHEET'!$D$16&IF(MID('COVER SHEET'!$I$18,6,10)=\"december\",\"1231\",IF(MID('COVER SHEET'!$I$18,6,10)=\"june\",\"0630\"))","v":"20241231"},{"$f":"+'Outgoing Remittances (Volume)'!D28","v":0}]
["CMREM_11510","BE",{"$f":"+'Outgoing Remittances (Value)'!$D$5","v":"20240831"},{"$f":"+'COVER SHEET'!$D$12","v":0},11510,{"$f":"'COVER SHEET'!$D$16&IF(MID('COVER SHEET'!$I$18,6,10)=\"december\",\"1231\",IF(MID('COVER SHEET'!$I$18,6,10)=\"june\",\"0630\"))","v":"20241231"},{"$f":"+'Outgoing Remittances (Volume)'!D29","v":0}]
["CMREM_11510","BZ",{"$f":"+'Outgoing Remittances (Value)'!$D$5","v":"20240831"},{"$f":"+'COVER SHEET'!$D$12","v":0},11510,{"$f":"'COVER SHEET'!$D$16&IF(MID('COVER SHEET'!$I$18,6,10)=\"december\",\"1231\",IF(MID('COVER SHEET'!$I$18,6,10)=\"june\",\"0630\"))","v":"20241231"},{"$f":"+'Outgoing Remittances (Volume)'!D30","v":0}]
["CMREM_11510","BJ",{"$f":"+'Outgoing Remittances (Value)'!$D$5","v":"20240831"},{"$f":"+'COVER SHEET'!$D$12","v":0},11510,{"$f":"'COVER SHEET'!$D$16&IF(MID('COVER SHEET'!$I$18,6,10)=\"december\",\"1231\",IF(MID('COVER SHEET'!$I$18,6,10)=\"june\",\"0630\"))","v":"20241231"},{"$f":"+'Outgoing Remittances (Volume)'!D31","v":0}]
["CMREM_11510","BM",{"$f":"+'Outgoing Remittances (Value)'!$D$5","v":"20240831"},{"$f":"+'COVER SHEET'!$D$12","v":0},11510,{"$f":"'COVER SHEET'!$D$16&IF(MID('COVER SHEET'!$I$18,6,10)=\"december\",\"1231\",IF(MID('COVER SHEET'!$I$18,6,10)=\"june\",\"0630\"))","v":"20241231"},{"$f":"+'Outgoing Remittances (Volume)'!D32","v":0}]
["CMREM_11510","BQ",{"$f":"+'Outgoing Remittances (Value)'!$D$5","v":"20240831"},{"$f":"+'COVER SHEET'!$D$12","v":0},11510,{"$f":"'COVER SHEET'!$D$16&IF(MID('COVER SHEET'!$I$18,6,10)=\"december\",\"1231\",IF(MID('COVER SHEET'!$I$18,6,10)=\"june\",\"0630\"))","v":"20241231"},{"$f":"+'Outgoing Remittances (Volume)'!D33","v":0}]
["CMREM_11510","BT",{"$f":"+'Outgoing Remittances (Value)'!$D$5","v":"20240831"},{"$f":"+'COVER SHEET'!$D$12","v":0},11510,{"$f":"'COVER SHEET'!$D$16&IF(MID('COVER SHEET'!$I$18,6,10)=\"december\",\"1231\",IF(MID('COVER SHEET'!$I$18,6,10)=\"june\",\"0630\"))","v":"20241231"},{"$f":"+'Outgoing Remittances (Volume)'!D34","v":0}]
["CMREM_11510","BO",{"$f":"+'Outgoing Remittances (Value)'!$D$5","v":"20240831"},{"$f":"+'COVER SHEET'!$D$12","v":0},11510,{"$f":"'COVER SHEET'!$D$16&IF(MID('COVER SHEET'!$I$18,6,10)=\"december\",\"1231\",IF(MID('COVER SHEET'!$I$18,6,10)=\"june\",\"0630\"))","v":"20241231"},{"$f":"+'Outgoing Remittances (Volume)'!D35","v":0}]
["CMREM_11510","BA",{"$f":"+'Outgoing Remittances (Value)'!$D$5","v":"20240831"},{"$f":"+'COVER SHEET'!$D$12","v":0},11510,{"$f":"'COVER SHEET'!$D$16&IF(MID('COVER SHEET'!$I$18,6,10)=\"december\",\"1231\",IF(MID('COVER SHEET'!$I$18,6,10)=\"june\",\"0630\"))","v":"20241231"},{"$f":"+'Outgoing Remittances (Volume)'!D36","v":0}]
["CMREM_11510","BW",{"$f":"+'Outgoing Remittances (Value)'!$D$5","v":"20240831"},{"$f":"+'COVER SHEET'!$D$12","v":0},11510,{"$f":"'COVER SHEET'!$D$16&IF(MID('COVER SHEET'!$I$18,6,10)=\"december\",\"1231\",IF(MID('COVER SHEET'!$I$18,6,10)=\"june\",\"0630\"))","v":"20241231"},{"$f":"+'Outgoing Remittances (Volume)'!D37","v":0}]
["CMREM_11510","BV",{"$f":"+'Outgoing Remittances (Value)'!$D$5","v":"20240831"},{"$f":"+'COVER SHEET'!$D$12","v":0},11510,{"$f":"'COVER SHEET'!$D$16&IF(MID('COVER SHEET'!$I$18,6,10)=\"december\",\"1231\",IF(MID('COVER SHEET'!$I$18,6,10)=\"june\",\"0630\"))","v":"20241231"},{"$f":"+'Outgoing Remittances (Volume)'!D38","v":0}]
["CMREM_11510","BR",{"$f":"+'Outgoing Remittances (Value)'!$D$5","v":"20240831"},{"$f":"+'COVER SHEET'!$D$12","v":0},11510,{"$f":"'COVER SHEET'!$D$16&IF(MID('COVER SHEET'!$I$18,6,10)=\"december\",\"1231\",IF(MID('COVER SHEET'!$I$18,6,10)=\"june\",\"0630\"))","v":"20241231"},{"$f":"+'Outgoing Remittances (Volume)'!D39","v":0}]
["CMREM_11510","IO",{"$f":"+'Outgoing Remittances (Value)'!$D$5","v":"20240831"},{"$f":"+'COVER SHEET'!$D$12","v":0},11510,{"$f":"'COVER SHEET'!$D$16&IF(MID('COVER SHEET'!$I$18,6,10)=\"december\",\"1231\",IF(MID('COVER SHEET'!$I$18,6,10)=\"june\",\"0630\"))","v":"20241231"},{"$f":"+'Outgoing Remittances (Volume)'!D40","v":0}]
["CMREM_11510","VG",{"$f":"+'Outgoing Remittances (Value)'!$D$5","v":"20240831"},{"$f":"+'COVER SHEET'!$D$12","v":0},11510,{"$f":"'COVER SHEET'!$D$16&IF(MID('COVER SHEET'!$I$18,6,10)=\"december\",\"1231\",IF(MID('COVER SHEET'!$I$18,6,10)=\"june\",\"0630\"))","v":"20241231"},{"$f":"+'Outgoing Remittances (Volume)'!D41","v":0}]
["CMREM_11510","BN",{"$f":"+'Outgoing Remittances (Value)'!$D$5","v":"20240831"},{"$f":"+'COVER SHEET'!$D$12","v":0},11510,{"$f":"'COVER SHEET'!$D$16&IF(MID('COVER SHEET'!$I$18,6,10)=\"december\",\"1231\",IF(MID('COVER SHEET'!$I$18,6,10)=\"june\",\"0630\"))","v":"20241231"},{"$f":"+'Outgoing Remittances (Volume)'!D42","v":0}]
["CMREM_11510","BG",{"$f":"+'Outgoing Remittances (Value)'!$D$5","v":"20240831"},{"$f":"+'COVER SHEET'!$D$12","v":0},11510,{"$f":"'COVER SHEET'!$D$16&IF(MID('COVER SHEET'!$I$18,6,10)=\"december\",\"1231\",IF(MID('COVER SHEET'!$I$18,6,10)=\"june\",\"0630\"))","v":"20241231"},{"$f":"+'Outgoing Remittances (Volume)'!D43","v":0}]
["CMREM_11510","BF",{"$f":"+'Outgoing Remittances (Value)'!$D$5","v":"20240831"},{"$f":"+'COVER SHEET'!$D$12","v":0},11510,{"$f":"'COVER SHEET'!$D$16&IF(MID('COVER SHEET'!$I$18,6,10)=\"december\",\"1231\",IF(MID('COVER SHEET'!$I$18,6,10)=\"june\",\"0630\"))","v":"20241231"},{"$f":"+'Outgoing Remittances (Volume)'!D44","v":0}]
["CMREM_11510","BI",{"$f":"+'Outgoing Remittances (Value)'!$D$5","v":"20240831"},{"$f":"+'COVER SHEET'!$D$12","v":0},11510,{"$f":"'COVER SHEET'!$D$16&IF(MID('COVER SHEET'!$I$18,6,10)=\"december\",\"1231\",IF(MID('COVER SHEET'!$I$18,6,10)=\"june\",\"0630\"))","v":"20241231"},{"$f":"+'Outgoing Remittances (Volume)'!D45","v":0}]
["CMREM_11510","KH",{"$f":"+'Outgoing Remittances (Value)'!$D$5","v":"20240831"},{"$f":"+'COVER SHEET'!$D$12","v":0},11510,{"$f":"'COVER SHEET'!$D$16&IF(MID('COVER SHEET'!$I$18,6,10)=\"december\",\"1231\",IF(MID('COVER SHEET'!$I$18,6,10)=\"june\",\"0630\"))","v":"20241231"},{"$f":"+'Outgoing Remittances (Volume)'!D46","v":0}]
["CMREM_11510","CM",{"$f":"+'Outgoing Remittances (Value)'!$D$5","v":"20240831"},{"$f":"+'COVER SHEET'!$D$12","v":0},11510,{"$f":"'COVER SHEET'!$D$16&IF(MID('COVER SHEET'!$I$18,6,10)=\"december\",\"1231\",IF(MID('COVER SHEET'!$I$18,6,10)=\"june\",\"0630\"))","v":"20241231"},{"$f":"+'Outgoing Remittances (Volume)'!D47","v":0}]
["CMREM_11510","CA",{"$f":"+'Outgoing Remittances (Value)'!$D$5","v":"20240831"},{"$f":"+'COVER SHEET'!$D$12","v":0},11510,{"$f":"'COVER SHEET'!$D$16&IF(MID('COVER SHEET'!$I$18,6,10)=\"december\",\"1231\",IF(MID('COVER SHEET'!$I$18,6,10)=\"june\",\"0630\"))","v":"20241231"},{"$f":"+'Outgoing Remittances (Volume)'!D48","v":0}]
["CMREM_11510","CV",{"$f":"+'Outgoing Remittances (Value)'!$D$5","v":"20240831"},{"$f":"+'COVER SHEET'!$D$12","v":0},11510,{"$f":"'COVER SHEET'!$D$16&IF(MID('COVER SHEET'!$I$18,6,10)=\"december\",\"1231\",IF(MID('COVER SHEET'!$I$18,6,10)=\"june\",\"0630\"))","v":"20241231"},{"$f":"+'Outgoing Remittances (Volume)'!D49","v":0}]
["CMREM_11510","KY",{"$f":"+'Outgoing Remittances (Value)'!$D$5","v":"20240831"},{"$f":"+'COVER SHEET'!$D$12","v":0},11510,{"$f":"'COVER SHEET'!$D$16&IF(MID('COVER SHEET'!$I$18,6,10)=\"december\",\"1231\",IF(MID('COVER SHEET'!$I$18,6,10)=\"june\",\"0630\"))","v":"20241231"},{"$f":"+'Outgoing Remittances (Volume)'!D50","v":0}]
["CMREM_11510","CF",{"$f":"+'Outgoing Remittances (Value)'!$D$5","v":"20240831"},{"$f":"+'COVER SHEET'!$D$12","v":0},11510,{"$f":"'COVER SHEET'!$D$16&IF(MID('COVER SHEET'!$I$18,6,10)=\"december\",\"1231\",IF(MID('COVER SHEET'!$I$18,6,10)=\"june\",\"0630\"))","v":"20241231"},{"$f":"+'Outgoing Remittances (Volume)'!D51","v":0}]
["CMREM_11510","TD",{"$f":"+'Outgoing Remittances (Value)'!$D$5","v":"20240831"},{"$f":"+'COVER SHEET'!$D$12","v":0},11510,{"$f":"'COVER SHEET'!$D$16&IF(MID('COVER SHEET'!$I$18,6,10)=\"december\",\"1231\",IF(MID('COVER SHEET'!$I$18,6,10)=\"june\",\"0630\"))","v":"20241231"},{"$f":"+'Outgoing Remittances (Volume)'!D52","v":0}]
["CMREM_11510","CL",{"$f":"+'Outgoing Remittances (Value)'!$D$5","v":"20240831"},{"$f":"+'COVER SHEET'!$D$12","v":0},11510,{"$f":"'COVER SHEET'!$D$16&IF(MID('COVER SHEET'!$I$18,6,10)=\"december\",\"1231\",IF(MID('COVER SHEET'!$I$18,6,10)=\"june\",\"0630\"))","v":"20241231"},{"$f":"+'Outgoing Remittances (Volume)'!D53","v":0}]
["CMREM_11510","CN",{"$f":"+'Outgoing Remittances (Value)'!$D$5","v":"20240831"},{"$f":"+'COVER SHEET'!$D$12","v":0},11510,{"$f":"'COVER SHEET'!$D$16&IF(MID('COVER SHEET'!$I$18,6,10)=\"december\",\"1231\",IF(MID('COVER SHEET'!$I$18,6,10)=\"june\",\"0630\"))","v":"20241231"},{"$f":"+'Outgoing Remittances (Volume)'!D54","v":0}]
["CMREM_11510","CX",{"$f":"+'Outgoing Remittances (Value)'!$D$5","v":"20240831"},{"$f":"+'COVER SHEET'!$D$12","v":0},11510,{"$f":"'COVER SHEET'!$D$16&IF(MID('COVER SHEET'!$I$18,6,10)=\"december\",\"1231\",IF(MID('COVER SHEET'!$I$18,6,10)=\"june\",\"0630\"))","v":"20241231"},{"$f":"+'Outgoing Remittances (Volume)'!D55","v":0}]
["CMREM_11510","CC",{"$f":"+'Outgoing Remittances (Value)'!$D$5","v":"20240831"},{"$f":"+'COVER SHEET'!$D$12","v":0},11510,{"$f":"'COVER SHEET'!$D$16&IF(MID('COVER SHEET'!$I$18,6,10)=\"december\",\"1231\",IF(MID('COVER SHEET'!$I$18,6,10)=\"june\",\"0630\"))","v":"20241231"},{"$f":"+'Outgoing Remittances (Volume)'!D56","v":0}]
["CMREM_11510","CO",{"$f":"+'Outgoing Remittances (Value)'!$D$5","v":"20240831"},{"$f":"+'COVER SHEET'!$D$12","v":0},11510,{"$f":"'COVER SHEET'!$D$16&IF(MID('COVER SHEET'!$I$18,6,10)=\"december\",\"1231\",IF(MID('COVER SHEET'!$I$18,6,10)=\"june\",\"0630\"))","v":"20241231"},{"$f":"+'Outgoing Remittances (Volume)'!D57","v":0}]
["CMREM_11510","KM",{"$f":"+'Outgoing Remittances (Value)'!$D$5","v":"20240831"},{"$f":"+'COVER SHEET'!$D$12","v":0},11510,{"$f":"'COVER SHEET'!$D$16&IF(MID('COVER SHEET'!$I$18,6,10)=\"december\",\"1231\",IF(MID('COVER SHEET'!$I$18,6,10)=\"june\",\"0630\"))","v":"20241231"},{"$f":"+'Outgoing Remittances (Volume)'!D58","v":0}]
["CMREM_11510","CG",{"$f":"+'Outgoing Remittances (Value)'!$D$5","v":"20240831"},{"$f":"+'COVER SHEET'!$D$12","v":0},11510,{"$f":"'COVER SHEET'!$D$16&IF(MID('COVER SHEET'!$I$18,6,10)=\"december\",\"1231\",IF(MID('COVER SHEET'!$I$18,6,10)=\"june\",\"0630\"))","v":"20241231"},{"$f":"+'Outgoing Remittances (Volume)'!D59","v":0}]
["CMREM_11510","CD",{"$f":"+'Outgoing Remittances (Value)'!$D$5","v":"20240831"},{"$f":"+'COVER SHEET'!$D$12","v":0},11510,{"$f":"'COVER SHEET'!$D$16&IF(MID('COVER SHEET'!$I$18,6,10)=\"december\",\"1231\",IF(MID('COVER SHEET'!$I$18,6,10)=\"june\",\"0630\"))","v":"20241231"},{"$f":"+'Outgoing Remittances (Volume)'!D60","v":0}]
["CMREM_11510","CK",{"$f":"+'Outgoing Remittances (Value)'!$D$5","v":"20240831"},{"$f":"+'COVER SHEET'!$D$12","v":0},11510,{"$f":"'COVER SHEET'!$D$16&IF(MID('COVER SHEET'!$I$18,6,10)=\"december\",\"1231\",IF(MID('COVER SHEET'!$I$18,6,10)=\"june\",\"0630\"))","v":"20241231"},{"$f":"+'Outgoing Remittances (Volume)'!D61","v":0}]
["CMREM_11510","CR",{"$f":"+'Outgoing Remittances (Value)'!$D$5","v":"20240831"},{"$f":"+'COVER SHEET'!$D$12","v":0},11510,{"$f":"'COVER SHEET'!$D$16&IF(MID('COVER SHEET'!$I$18,6,10)=\"december\",\"1231\",IF(MID('COVER SHEET'!$I$18,6,10)=\"june\",\"0630\"))","v":"20241231"},{"$f":"+'Outgoing Remittances (Volume)'!D62","v":0}]
["CMREM_11510","HR",{"$f":"+'Outgoing Remittances (Value)'!$D$5","v":"20240831"},{"$f":"+'COVER SHEET'!$D$12","v":0},11510,{"$f":"'COVER SHEET'!$D$16&IF(MID('COVER SHEET'!$I$18,6,10)=\"december\",\"1231\",IF(MID('COVER SHEET'!$I$18,6,10)=\"june\",\"0630\"))","v":"20241231"},{"$f":"+'Outgoing Remittances (Volume)'!D63","v":0}]
["CMREM_11510","CU",{"$f":"+'Outgoing Remittances (Value)'!$D$5","v":"20240831"},{"$f":"+'COVER SHEET'!$D$12","v":0},11510,{"$f":"'COVER SHEET'!$D$16&IF(MID('COVER SHEET'!$I$18,6,10)=\"december\",\"1231\",IF(MID('COVER SHEET'!$I$18,6,10)=\"june\",\"0630\"))","v":"20241231"},{"$f":"+'Outgoing Remittances (Volume)'!D64","v":0}]
["CMREM_11510","CW",{"$f":"+'Outgoing Remittances (Value)'!$D$5","v":"20240831"},{"$f":"+'COVER SHEET'!$D$12","v":0},11510,{"$f":"'COVER SHEET'!$D$16&IF(MID('COVER SHEET'!$I$18,6,10)=\"december\",\"1231\",IF(MID('COVER SHEET'!$I$18,6,10)=\"june\",\"0630\"))","v":"20241231"},{"$f":"+'Outgoing Remittances (Volume)'!D65","v":0}]
["CMREM_11510","CY",{"$f":"+'Outgoing Remittances (Value)'!$D$5","v":"20240831"},{"$f":"+'COVER SHEET'!$D$12","v":0},11510,{"$f":"'COVER SHEET'!$D$16&IF(MID('COVER SHEET'!$I$18,6,10)=\"december\",\"1231\",IF(MID('COVER SHEET'!$I$18,6,10)=\"june\",\"0630\"))","v":"20241231"},{"$f":"+'Outgoing Remittances (Volume)'!D66","v":0}]
["CMREM_11510","CZ",{"$f":"+'Outgoing Remittances (Value)'!$D$5","v":"20240831"},{"$f":"+'COVER SHEET'!$D$12","v":0},11510,{"$f":"'COVER SHEET'!$D$16&IF(MID('COVER SHEET'!$I$18,6,10)=\"december\",\"1231\",IF(MID('COVER SHEET'!$I$18,6,10)=\"june\",\"0630\"))","v":"20241231"},{"$f":"+'Outgoing Remittances (Volume)'!D67","v":0}]
["CMREM_11510","DK",{"$f":"+'Outgoing Remittances (Value)'!$D$5","v":"20240831"},{"$f":"+'COVER SHEET'!$D$12","v":0},11510,{"$f":"'COVER SHEET'!$D$16&IF(MID('COVER SHEET'!$I$18,6,10)=\"december\",\"1231\",IF(MID('COVER SHEET'!$I$18,6,10)=\"june\",\"0630\"))","v":"20241231"},{"$f":"+'Outgoing Remittances (Volume)'!D68","v":0}]
["CMREM_11510","DJ",{"$f":"+'Outgoing Remittances (Value)'!$D$5","v":"20240831"},{"$f":"+'COVER SHEET'!$D$12","v":0},11510,{"$f":"'COVER SHEET'!$D$16&IF(MID('COVER SHEET'!$I$18,6,10)=\"december\",\"1231\",IF(MID('COVER SHEET'!$I$18,6,10)=\"june\",\"0630\"))","v":"20241231"},{"$f":"+'Outgoing Remittances (Volume)'!D69","v":0}]
["CMREM_11510","DM",{"$f":"+'Outgoing Remittances (Value)'!$D$5","v":"20240831"},{"$f":"+'COVER SHEET'!$D$12","v":0},11510,{"$f":"'COVER SHEET'!$D$16&IF(MID('COVER SHEET'!$I$18,6,10)=\"december\",\"1231\",IF(MID('COVER SHEET'!$I$18,6,10)=\"june\",\"0630\"))","v":"20241231"},{"$f":"+'Outgoing Remittances (Volume)'!D70","v":0}]
["CMREM_11510","DO",{"$f":"+'Outgoing Remittances (Value)'!$D$5","v":"20240831"},{"$f":"+'COVER SHEET'!$D$12","v":0},11510,{"$f":"'COVER SHEET'!$D$16&IF(MID('COVER SHEET'!$I$18,6,10)=\"december\",\"1231\",IF(MID('COVER SHEET'!$I$18,6,10)=\"june\",\"0630\"))","v":"20241231"},{"$f":"+'Outgoing Remittances (Volume)'!D71","v":0}]
["CMREM_11510","TL",{"$f":"+'Outgoing Remittances (Value)'!$D$5","v":"20240831"},{"$f":"+'COVER SHEET'!$D$12","v":0},11510,{"$f":"'COVER SHEET'!$D$16&IF(MID('COVER SHEET'!$I$18,6,10)=\"december\",\"1231\",IF(MID('COVER SHEET'!$I$18,6,10)=\"june\",\"0630\"))","v":"20241231"},{"$f":"+'Outgoing Remittances (Volume)'!D72","v":0}]
["CMREM_11510","EC",{"$f":"+'Outgoing Remittances (Value)'!$D$5","v":"20240831"},{"$f":"+'COVER SHEET'!$D$12","v":0},11510,{"$f":"'COVER SHEET'!$D$16&IF(MID('COVER SHEET'!$I$18,6,10)=\"december\",\"1231\",IF(MID('COVER SHEET'!$I$18,6,10)=\"june\",\"0630\"))","v":"20241231"},{"$f":"+'Outgoing Remittances (Volume)'!D73","v":0}]
["CMREM_11510","EG",{"$f":"+'Outgoing Remittances (Value)'!$D$5","v":"20240831"},{"$f":"+'COVER SHEET'!$D$12","v":0},11510,{"$f":"'COVER SHEET'!$D$16&IF(MID('COVER SHEET'!$I$18,6,10)=\"december\",\"1231\",IF(MID('COVER SHEET'!$I$18,6,10)=\"june\",\"0630\"))","v":"20241231"},{"$f":"+'Outgoing Remittances (Volume)'!D74","v":0}]
["CMREM_11510","SV",{"$f":"+'Outgoing Remittances (Value)'!$D$5","v":"20240831"},{"$f":"+'COVER SHEET'!$D$12","v":0},11510,{"$f":"'COVER SHEET'!$D$16&IF(MID('COVER SHEET'!$I$18,6,10)=\"december\",\"1231\",IF(MID('COVER SHEET'!$I$18,6,10)=\"june\",\"0630\"))","v":"20241231"},{"$f":"+'Outgoing Remittances (Volume)'!D75","v":0}]
["CMREM_11510","GQ",{"$f":"+'Outgoing Remittances (Value)'!$D$5","v":"20240831"},{"$f":"+'COVER SHEET'!$D$12","v":0},11510,{"$f":"'COVER SHEET'!$D$16&IF(MID('COVER SHEET'!$I$18,6,10)=\"december\",\"1231\",IF(MID('COVER SHEET'!$I$18,6,10)=\"june\",\"0630\"))","v":"20241231"},{"$f":"+'Outgoing Remittances (Volume)'!D76","v":0}]
["CMREM_11510","ER",{"$f":"+'Outgoing Remittances (Value)'!$D$5","v":"20240831"},{"$f":"+'COVER SHEET'!$D$12","v":0},11510,{"$f":"'COVER SHEET'!$D$16&IF(MID('COVER SHEET'!$I$18,6,10)=\"december\",\"1231\",IF(MID('COVER SHEET'!$I$18,6,10)=\"june\",\"0630\"))","v":"20241231"},{"$f":"+'Outgoing Remittances (Volume)'!D77","v":0}]
["CMREM_11510","EE",{"$f":"+'Outgoing Remittances (Value)'!$D$5","v":"20240831"},{"$f":"+'COVER SHEET'!$D$12","v":0},11510,{"$f":"'COVER SHEET'!$D$16&IF(MID('COVER SHEET'!$I$18,6,10)=\"december\",\"1231\",IF(MID('COVER SHEET'!$I$18,6,10)=\"june\",\"0630\"))","v":"20241231"},{"$f":"+'Outgoing Remittances (Volume)'!D78","v":0}]
["CMREM_11510","ET",{"$f":"+'Outgoing Remittances (Value)'!$D$5","v":"20240831"},{"$f":"+'COVER SHEET'!$D$12","v":0},11510,{"$f":"'COVER SHEET'!$D$16&IF(MID('COVER SHEET'!$I$18,6,10)=\"december\",\"1231\",IF(MID('COVER SHEET'!$I$18,6,10)=\"june\",\"0630\"))","v":"20241231"},{"$f":"+'Outgoing Remittances (Volume)'!D79","v":0}]
["CMREM_11510","FK",{"$f":"+'Outgoing Remittances (Value)'!$D$5","v":"20240831"},{"$f":"+'COVER SHEET'!$D$12","v":0},11510,{"$f":"'COVER SHEET'!$D$16&IF(MID('COVER SHEET'!$I$18,6,10)=\"december\",\"1231\",IF(MID('COVER SHEET'!$I$18,6,10)=\"june\",\"0630\"))","v":"20241231"},{"$f":"+'Outgoing Remittances (Volume)'!D80","v":0}]
["CMREM_11510","FO",{"$f":"+'Outgoing Remittances (Value)'!$D$5","v":"20240831"},{"$f":"+'COVER SHEET'!$D$12","v":0},11510,{"$f":"'COVER SHEET'!$D$16&IF(MID('COVER SHEET'!$I$18,6,10)=\"december\",\"1231\",IF(MID('COVER SHEET'!$I$18,6,10)=\"june\",\"0630\"))","v":"20241231"},{"$f":"+'Outgoing Remittances (Volume)'!D81","v":0}]
["CMREM_11510","FJ",{"$f":"+'Outgoing Remittances (Value)'!$D$5","v":"20240831"},{"$f":"+'COVER SHEET'!$D$12","v":0},11510,{"$f":"'COVER SHEET'!$D$16&IF(MID('COVER SHEET'!$I$18,6,10)=\"december\",\"1231\",IF(MID('COVER SHEET'!$I$18,6,10)=\"june\",\"0630\"))","v":"20241231"},{"$f":"+'Outgoing Remittances (Volume)'!D82","v":0}]
["CMREM_11510","FI",{"$f":"+'Outgoing Remittances (Value)'!$D$5","v":"20240831"},{"$f":"+'COVER SHEET'!$D$12","v":0},11510,{"$f":"'COVER SHEET'!$D$16&IF(MID('COVER SHEET'!$I$18,6,10)=\"december\",\"1231\",IF(MID('COVER SHEET'!$I$18,6,10)=\"june\",\"0630\"))","v":"20241231"},{"$f":"+'Outgoing Remittances (Volume)'!D83","v":0}]
["CMREM_11510","FR",{"$f":"+'Outgoing Remittances (Value)'!$D$5","v":"20240831"},{"$f":"+'COVER SHEET'!$D$12","v":0},11510,{"$f":"'COVER SHEET'!$D$16&IF(MID('COVER SHEET'!$I$18,6,10)=\"december\",\"1231\",IF(MID('COVER SHEET'!$I$18,6,10)=\"june\",\"0630\"))","v":"20241231"},{"$f":"+'Outgoing Remittances (Volume)'!D84","v":0}]
["CMREM_11510","PF",{"$f":"+'Outgoing Remittances (Value)'!$D$5","v":"20240831"},{"$f":"+'COVER SHEET'!$D$12","v":0},11510,{"$f":"'COVER SHEET'!$D$16&IF(MID('COVER SHEET'!$I$18,6,10)=\"december\",\"1231\",IF(MID('COVER SHEET'!$I$18,6,10)=\"june\",\"0630\"))","v":"20241231"},{"$f":"+'Outgoing Remittances (Volume)'!D85","v":0}]
["CMREM_11510","TF",{"$f":"+'Outgoing Remittances (Value)'!$D$5","v":"20240831"},{"$f":"+'COVER SHEET'!$D$12","v":0},11510,{"$f":"'COVER SHEET'!$D$16&IF(MID('COVER SHEET'!$I$18,6,10)=\"december\",\"1231\",IF(MID('COVER SHEET'!$I$18,6,10)=\"june\",\"0630\"))","v":"20241231"},{"$f":"+'Outgoing Remittances (Volume)'!D86","v":0}]
["CMREM_11510","GA",{"$f":"+'Outgoing Remittances (Value)'!$D$5","v":"20240831"},{"$f":"+'COVER SHEET'!$D$12","v":0},11510,{"$f":"'COVER SHEET'!$D$16&IF(MID('COVER SHEET'!$I$18,6,10)=\"december\",\"1231\",IF(MID('COVER SHEET'!$I$18,6,10)=\"june\",\"0630\"))","v":"20241231"},{"$f":"+'Outgoing Remittances (Volume)'!D87","v":0}]
["CMREM_11510","GM",{"$f":"+'Outgoing Remittances (Value)'!$D$5","v":"20240831"},{"$f":"+'COVER SHEET'!$D$12","v":0},11510,{"$f":"'COVER SHEET'!$D$16&IF(MID('COVER SHEET'!$I$18,6,10)=\"december\",\"1231\",IF(MID('COVER SHEET'!$I$18,6,10)=\"june\",\"0630\"))","v":"20241231"},{"$f":"+'Outgoing Remittances (Volume)'!D88","v":0}]
["CMREM_11510","GE",{"$f":"+'Outgoing Remittances (Value)'!$D$5","v":"20240831"},{"$f":"+'COVER SHEET'!$D$12","v":0},11510,{"$f":"'COVER SHEET'!$D$16&IF(MID('COVER SHEET'!$I$18,6,10)=\"december\",\"1231\",IF(MID('COVER SHEET'!$I$18,6,10)=\"june\",\"0630\"))","v":"20241231"},{"$f":"+'Outgoing Remittances (Volume)'!D89","v":0}]
["CMREM_11510","DE",{"$f":"+'Outgoing Remittances (Value)'!$D$5","v":"20240831"},{"$f":"+'COVER SHEET'!$D$12","v":0},11510,{"$f":"'COVER SHEET'!$D$16&IF(MID('COVER SHEET'!$I$18,6,10)=\"december\",\"1231\",IF(MID('COVER SHEET'!$I$18,6,10)=\"june\",\"0630\"))","v":"20241231"},{"$f":"+'Outgoing Remittances (Volume)'!D90","v":0}]
["CMREM_11510","GH",{"$f":"+'Outgoing Remittances (Value)'!$D$5","v":"20240831"},{"$f":"+'COVER SHEET'!$D$12","v":0},11510,{"$f":"'COVER SHEET'!$D$16&IF(MID('COVER SHEET'!$I$18,6,10)=\"december\",\"1231\",IF(MID('COVER SHEET'!$I$18,6,10)=\"june\",\"0630\"))","v":"20241231"},{"$f":"+'Outgoing Remittances (Volume)'!D91","v":0}]
["CMREM_11510","GI",{"$f":"+'Outgoing Remittances (Value)'!$D$5","v":"20240831"},{"$f":"+'COVER SHEET'!$D$12","v":0},11510,{"$f":"'COVER SHEET'!$D$16&IF(MID('COVER SHEET'!$I$18,6,10)=\"december\",\"1231\",IF(MID('COVER SHEET'!$I$18,6,10)=\"june\",\"0630\"))","v":"20241231"},{"$f":"+'Outgoing Remittances (Volume)'!D92","v":0}]
["CMREM_11510","GR",{"$f":"+'Outgoing Remittances (Value)'!$D$5","v":"20240831"},{"$f":"+'COVER SHEET'!$D$12","v":0},11510,{"$f":"'COVER SHEET'!$D$16&IF(MID('COVER SHEET'!$I$18,6,10)=\"december\",\"1231\",IF(MID('COVER SHEET'!$I$18,6,10)=\"june\",\"0630\"))","v":"20241231"},{"$f":"+'Outgoing Remittances (Volume)'!D93","v":0}]
["CMREM_11510","GL",{"$f":"+'Outgoing Remittances (Value)'!$D$5","v":"20240831"},{"$f":"+'COVER SHEET'!$D$12","v":0},11510,{"$f":"'COVER SHEET'!$D$16&IF(MID('COVER SHEET'!$I$18,6,10)=\"december\",\"1231\",IF(MID('COVER SHEET'!$I$18,6,10)=\"june\",\"0630\"))","v":"20241231"},{"$f":"+'Outgoing Remittances (Volume)'!D94","v":0}]
["CMREM_11510","GD",{"$f":"+'Outgoing Remittances (Value)'!$D$5","v":"20240831"},{"$f":"+'COVER SHEET'!$D$12","v":0},11510,{"$f":"'COVER SHEET'!$D$16&IF(MID('COVER SHEET'!$I$18,6,10)=\"december\",\"1231\",IF(MID('COVER SHEET'!$I$18,6,10)=\"june\",\"0630\"))","v":"20241231"},{"$f":"+'Outgoing Remittances (Volume)'!D95","v":0}]
["CMREM_11510","GU",{"$f":"+'Outgoing Remittances (Value)'!$D$5","v":"20240831"},{"$f":"+'COVER SHEET'!$D$12","v":0},11510,{"$f":"'COVER SHEET'!$D$16&IF(MID('COVER SHEET'!$I$18,6,10)=\"december\",\"1231\",IF(MID('COVER SHEET'!$I$18,6,10)=\"june\",\"0630\"))","v":"20241231"},{"$f":"+'Outgoing Remittances (Volume)'!D96","v":0}]
["CMREM_11510","GT",{"$f":"+'Outgoing Remittances (Value)'!$D$5","v":"20240831"},{"$f":"+'COVER SHEET'!$D$12","v":0},11510,{"$f":"'COVER SHEET'!$D$16&IF(MID('COVER SHEET'!$I$18,6,10)=\"december\",\"1231\",IF(MID('COVER SHEET'!$I$18,6,10)=\"june\",\"0630\"))","v":"20241231"},{"$f":"+'Outgoing Remittances (Volume)'!D97","v":0}]
["CMREM_11510","GG",{"$f":"+'Outgoing Remittances (Value)'!$D$5","v":"20240831"},{"$f":"+'COVER SHEET'!$D$12","v":0},11510,{"$f":"'COVER SHEET'!$D$16&IF(MID('COVER SHEET'!$I$18,6,10)=\"december\",\"1231\",IF(MID('COVER SHEET'!$I$18,6,10)=\"june\",\"0630\"))","v":"20241231"},{"$f":"+'Outgoing Remittances (Volume)'!D98","v":0}]
["CMREM_11510","GN",{"$f":"+'Outgoing Remittances (Value)'!$D$5","v":"20240831"},{"$f":"+'COVER SHEET'!$D$12","v":0},11510,{"$f":"'COVER SHEET'!$D$16&IF(MID('COVER SHEET'!$I$18,6,10)=\"december\",\"1231\",IF(MID('COVER SHEET'!$I$18,6,10)=\"june\",\"0630\"))","v":"20241231"},{"$f":"+'Outgoing Remittances (Volume)'!D99","v":0}]
["CMREM_11510","GW",{"$f":"+'Outgoing Remittances (Value)'!$D$5","v":"20240831"},{"$f":"+'COVER SHEET'!$D$12","v":0},11510,{"$f":"'COVER SHEET'!$D$16&IF(MID('COVER SHEET'!$I$18,6,10)=\"december\",\"1231\",IF(MID('COVER SHEET'!$I$18,6,10)=\"june\",\"0630\"))","v":"20241231"},{"$f":"+'Outgoing Remittances (Volume)'!D100","v":0}]
["CMREM_11510","GY",{"$f":"+'Outgoing Remittances (Value)'!$D$5","v":"20240831"},{"$f":"+'COVER SHEET'!$D$12","v":0},11510,{"$f":"'COVER SHEET'!$D$16&IF(MID('COVER SHEET'!$I$18,6,10)=\"december\",\"1231\",IF(MID('COVER SHEET'!$I$18,6,10)=\"june\",\"0630\"))","v":"20241231"},{"$f":"+'Outgoing Remittances (Volume)'!D101","v":0}]
["CMREM_11510","HT",{"$f":"+'Outgoing Remittances (Value)'!$D$5","v":"20240831"},{"$f":"+'COVER SHEET'!$D$12","v":0},11510,{"$f":"'COVER SHEET'!$D$16&IF(MID('COVER SHEET'!$I$18,6,10)=\"december\",\"1231\",IF(MID('COVER SHEET'!$I$18,6,10)=\"june\",\"0630\"))","v":"20241231"},{"$f":"+'Outgoing Remittances (Volume)'!D102","v":0}]
["CMREM_11510","HM",{"$f":"+'Outgoing Remittances (Value)'!$D$5","v":"20240831"},{"$f":"+'COVER SHEET'!$D$12","v":0},11510,{"$f":"'COVER SHEET'!$D$16&IF(MID('COVER SHEET'!$I$18,6,10)=\"december\",\"1231\",IF(MID('COVER SHEET'!$I$18,6,10)=\"june\",\"0630\"))","v":"20241231"},{"$f":"+'Outgoing Remittances (Volume)'!D103","v":0}]
["CMREM_11510","VA",{"$f":"+'Outgoing Remittances (Value)'!$D$5","v":"20240831"},{"$f":"+'COVER SHEET'!$D$12","v":0},11510,{"$f":"'COVER SHEET'!$D$16&IF(MID('COVER SHEET'!$I$18,6,10)=\"december\",\"1231\",IF(MID('COVER SHEET'!$I$18,6,10)=\"june\",\"0630\"))","v":"20241231"},{"$f":"+'Outgoing Remittances (Volume)'!D104","v":0}]
["CMREM_11510","HN",{"$f":"+'Outgoing Remittances (Value)'!$D$5","v":"20240831"},{"$f":"+'COVER SHEET'!$D$12","v":0},11510,{"$f":"'COVER SHEET'!$D$16&IF(MID('COVER SHEET'!$I$18,6,10)=\"december\",\"1231\",IF(MID('COVER SHEET'!$I$18,6,10)=\"june\",\"0630\"))","v":"20241231"},{"$f":"+'Outgoing Remittances (Volume)'!D105","v":0}]
["CMREM_11510","HK",{"$f":"+'Outgoing Remittances (Value)'!$D$5","v":"20240831"},{"$f":"+'COVER SHEET'!$D$12","v":0},11510,{"$f":"'COVER SHEET'!$D$16&IF(MID('COVER SHEET'!$I$18,6,10)=\"december\",\"1231\",IF(MID('COVER SHEET'!$I$18,6,10)=\"june\",\"0630\"))","v":"20241231"},{"$f":"+'Outgoing Remittances (Volume)'!D106","v":0}]
["CMREM_11510","HU",{"$f":"+'Outgoing Remittances (Value)'!$D$5","v":"20240831"},{"$f":"+'COVER SHEET'!$D$12","v":0},11510,{"$f":"'COVER SHEET'!$D$16&IF(MID('COVER SHEET'!$I$18,6,10)=\"december\",\"1231\",IF(MID('COVER SHEET'!$I$18,6,10)=\"june\",\"0630\"))","v":"20241231"},{"$f":"+'Outgoing Remittances (Volume)'!D107","v":0}]
["CMREM_11510","IS",{"$f":"+'Outgoing Remittances (Value)'!$D$5","v":"20240831"},{"$f":"+'COVER SHEET'!$D$12","v":0},11510,{"$f":"'COVER SHEET'!$D$16&IF(MID('COVER SHEET'!$I$18,6,10)=\"december\",\"1231\",IF(MID('COVER SHEET'!$I$18,6,10)=\"june\",\"0630\"))","v":"20241231"},{"$f":"+'Outgoing Remittances (Volume)'!D108","v":0}]
["CMREM_11510","IN",{"$f":"+'Outgoing Remittances (Value)'!$D$5","v":"20240831"},{"$f":"+'COVER SHEET'!$D$12","v":0},11510,{"$f":"'COVER SHEET'!$D$16&IF(MID('COVER SHEET'!$I$18,6,10)=\"december\",\"1231\",IF(MID('COVER SHEET'!$I$18,6,10)=\"june\",\"0630\"))","v":"20241231"},{"$f":"+'Outgoing Remittances (Volume)'!D109","v":0}]
["CMREM_11510","ID",{"$f":"+'Outgoing Remittances (Value)'!$D$5","v":"20240831"},{"$f":"+'COVER SHEET'!$D$12","v":0},11510,{"$f":"'COVER SHEET'!$D$16&IF(MID('COVER SHEET'!$I$18,6,10)=\"december\",\"1231\",IF(MID('COVER SHEET'!$I$18,6,10)=\"june\",\"0630\"))","v":"20241231"},{"$f":"+'Outgoing Remittances (Volume)'!D110","v":0}]
["CMREM_11510","IR",{"$f":"+'Outgoing Remittances (Value)'!$D$5","v":"20240831"},{"$f":"+'COVER SHEET'!$D$12","v":0},11510,{"$f":"'COVER SHEET'!$D$16&IF(MID('COVER SHEET'!$I$18,6,10)=\"december\",\"1231\",IF(MID('COVER SHEET'!$I$18,6,10)=\"june\",\"0630\"))","v":"20241231"},{"$f":"+'Outgoing Remittances (Volume)'!D111","v":0}]
["CMREM_11510","IQ",{"$f":"+'Outgoing Remittances (Value)'!$D$5","v":"20240831"},{"$f":"+'COVER SHEET'!$D$12","v":0},11510,{"$f":"'COVER SHEET'!$D$16&IF(MID('COVER SHEET'!$I$18,6,10)=\"december\",\"1231\",IF(MID('COVER SHEET'!$I$18,6,10)=\"june\",\"0630\"))","v":"20241231"},{"$f":"+'Outgoing Remittances (Volume)'!D112","v":0}]
["CMREM_11510","IE",{"$f":"+'Outgoing Remittances (Value)'!$D$5","v":"20240831"},{"$f":"+'COVER SHEET'!$D$12","v":0},11510,{"$f":"'COVER SHEET'!$D$16&IF(MID('COVER SHEET'!$I$18,6,10)=\"december\",\"1231\",IF(MID('COVER SHEET'!$I$18,6,10)=\"june\",\"0630\"))","v":"20241231"},{"$f":"+'Outgoing Remittances (Volume)'!D113","v":0}]
["CMREM_11510","IM",{"$f":"+'Outgoing Remittances (Value)'!$D$5","v":"20240831"},{"$f":"+'COVER SHEET'!$D$12","v":0},11510,{"$f":"'COVER SHEET'!$D$16&IF(MID('COVER SHEET'!$I$18,6,10)=\"december\",\"1231\",IF(MID('COVER SHEET'!$I$18,6,10)=\"june\",\"0630\"))","v":"20241231"},{"$f":"+'Outgoing Remittances (Volume)'!D114","v":0}]
["CMREM_11510","IL",{"$f":"+'Outgoing Remittances (Value)'!$D$5","v":"20240831"},{"$f":"+'COVER SHEET'!$D$12","v":0},11510,{"$f":"'COVER SHEET'!$D$16&IF(MID('COVER SHEET'!$I$18,6,10)=\"december\",\"1231\",IF(MID('COVER SHEET'!$I$18,6,10)=\"june\",\"0630\"))","v":"20241231"},{"$f":"+'Outgoing Remittances (Volume)'!D115","v":0}]
["CMREM_11510","IT",{"$f":"+'Outgoing Remittances (Value)'!$D$5","v":"20240831"},{"$f":"+'COVER SHEET'!$D$12","v":0},11510,{"$f":"'COVER SHEET'!$D$16&IF(MID('COVER SHEET'!$I$18,6,10)=\"december\",\"1231\",IF(MID('COVER SHEET'!$I$18,6,10)=\"june\",\"0630\"))","v":"20241231"},{"$f":"+'Outgoing Remittances (Volume)'!D116","v":0}]
["CMREM_11510","CI",{"$f":"+'Outgoing Remittances (Value)'!$D$5","v":"20240831"},{"$f":"+'COVER SHEET'!$D$12","v":0},11510,{"$f":"'COVER SHEET'!$D$16&IF(MID('COVER SHEET'!$I$18,6,10)=\"december\",\"1231\",IF(MID('COVER SHEET'!$I$18,6,10)=\"june\",\"0630\"))","v":"20241231"},{"$f":"+'Outgoing Remittances (Volume)'!D117","v":0}]
["CMREM_11510","JM",{"$f":"+'Outgoing Remittances (Value)'!$D$5","v":"20240831"},{"$f":"+'COVER SHEET'!$D$12","v":0},11510,{"$f":"'COVER SHEET'!$D$16&IF(MID('COVER SHEET'!$I$18,6,10)=\"december\",\"1231\",IF(MID('COVER SHEET'!$I$18,6,10)=\"june\",\"0630\"))","v":"20241231"},{"$f":"+'Outgoing Remittances (Volume)'!D118","v":0}]
["CMREM_11510","JP",{"$f":"+'Outgoing Remittances (Value)'!$D$5","v":"20240831"},{"$f":"+'COVER SHEET'!$D$12","v":0},11510,{"$f":"'COVER SHEET'!$D$16&IF(MID('COVER SHEET'!$I$18,6,10)=\"december\",\"1231\",IF(MID('COVER SHEET'!$I$18,6,10)=\"june\",\"0630\"))","v":"20241231"},{"$f":"+'Outgoing Remittances (Volume)'!D119","v":0}]
["CMREM_11510","JE",{"$f":"+'Outgoing Remittances (Value)'!$D$5","v":"20240831"},{"$f":"+'COVER SHEET'!$D$12","v":0},11510,{"$f":"'COVER SHEET'!$D$16&IF(MID('COVER SHEET'!$I$18,6,10)=\"december\",\"1231\",IF(MID('COVER SHEET'!$I$18,6,10)=\"june\",\"0630\"))","v":"20241231"},{"$f":"+'Outgoing Remittances (Volume)'!D120","v":0}]
["CMREM_11510","JO",{"$f":"+'Outgoing Remittances (Value)'!$D$5","v":"20240831"},{"$f":"+'COVER SHEET'!$D$12","v":0},11510,{"$f":"'COVER SHEET'!$D$16&IF(MID('COVER SHEET'!$I$18,6,10)=\"december\",\"1231\",IF(MID('COVER SHEET'!$I$18,6,10)=\"june\",\"0630\"))","v":"20241231"},{"$f":"+'Outgoing Remittances (Volume)'!D121","v":0}]
["CMREM_11510","KZ",{"$f":"+'Outgoing Remittances (Value)'!$D$5","v":"20240831"},{"$f":"+'COVER SHEET'!$D$12","v":0},11510,{"$f":"'COVER SHEET'!$D$16&IF(MID('COVER SHEET'!$I$18,6,10)=\"december\",\"1231\",IF(MID('COVER SHEET'!$I$18,6,10)=\"june\",\"0630\"))","v":"20241231"},{"$f":"+'Outgoing Remittances (Volume)'!D122","v":0}]
["CMREM_11510","KE",{"$f":"+'Outgoing Remittances (Value)'!$D$5","v":"20240831"},{"$f":"+'COVER SHEET'!$D$12","v":0},11510,{"$f":"'COVER SHEET'!$D$16&IF(MID('COVER SHEET'!$I$18,6,10)=\"december\",\"1231\",IF(MID('COVER SHEET'!$I$18,6,10)=\"june\",\"0630\"))","v":"20241231"},{"$f":"+'Outgoing Remittances (Volume)'!D123","v":0}]
["CMREM_11510","KI",{"$f":"+'Outgoing Remittances (Value)'!$D$5","v":"20240831"},{"$f":"+'COVER SHEET'!$D$12","v":0},11510,{"$f":"'COVER SHEET'!$D$16&IF(MID('COVER SHEET'!$I$18,6,10)=\"december\",\"1231\",IF(MID('COVER SHEET'!$I$18,6,10)=\"june\",\"0630\"))","v":"20241231"},{"$f":"+'Outgoing Remittances (Volume)'!D124","v":0}]
["CMREM_11510","KP",{"$f":"+'Outgoing Remittances (Value)'!$D$5","v":"20240831"},{"$f":"+'COVER SHEET'!$D$12","v":0},11510,{"$f":"'COVER SHEET'!$D$16&IF(MID('COVER SHEET'!$I$18,6,10)=\"december\",\"1231\",IF(MID('COVER SHEET'!$I$18,6,10)=\"june\",\"0630\"))","v":"20241231"},{"$f":"+'Outgoing Remittances (Volume)'!D125","v":0}]
["CMREM_11510","KR",{"$f":"+'Outgoing Remittances (Value)'!$D$5","v":"20240831"},{"$f":"+'COVER SHEET'!$D$12","v":0},11510,{"$f":"'COVER SHEET'!$D$16&IF(MID('COVER SHEET'!$I$18,6,10)=\"december\",\"1231\",IF(MID('COVER SHEET'!$I$18,6,10)=\"june\",\"0630\"))","v":"20241231"},{"$f":"+'Outgoing Remittances (Volume)'!D126","v":0}]
["CMREM_11510","XK",{"$f":"+'Outgoing Remittances (Value)'!$D$5","v":"20240831"},{"$f":"+'COVER SHEET'!$D$12","v":0},11510,{"$f":"'COVER SHEET'!$D$16&IF(MID('COVER SHEET'!$I$18,6,10)=\"december\",\"1231\",IF(MID('COVER SHEET'!$I$18,6,10)=\"june\",\"0630\"))","v":"20241231"},{"$f":"+'Outgoing Remittances (Volume)'!D127","v":0}]
["CMREM_11510","KW",{"$f":"+'Outgoing Remittances (Value)'!$D$5","v":"20240831"},{"$f":"+'COVER SHEET'!$D$12","v":0},11510,{"$f":"'COVER SHEET'!$D$16&IF(MID('COVER SHEET'!$I$18,6,10)=\"december\",\"1231\",IF(MID('COVER SHEET'!$I$18,6,10)=\"june\",\"0630\"))","v":"20241231"},{"$f":"+'Outgoing Remittances (Volume)'!D128","v":0}]
["CMREM_11510","KG",{"$f":"+'Outgoing Remittances (Value)'!$D$5","v":"20240831"},{"$f":"+'COVER SHEET'!$D$12","v":0},11510,{"$f":"'COVER SHEET'!$D$16&IF(MID('COVER SHEET'!$I$18,6,10)=\"december\",\"1231\",IF(MID('COVER SHEET'!$I$18,6,10)=\"june\",\"0630\"))","v":"20241231"},{"$f":"+'Outgoing Remittances (Volume)'!D129","v":0}]
["CMREM_11510","LA",{"$f":"+'Outgoing Remittances (Value)'!$D$5","v":"20240831"},{"$f":"+'COVER SHEET'!$D$12","v":0},11510,{"$f":"'COVER SHEET'!$D$16&IF(MID('COVER SHEET'!$I$18,6,10)=\"december\",\"1231\",IF(MID('COVER SHEET'!$I$18,6,10)=\"june\",\"0630\"))","v":"20241231"},{"$f":"+'Outgoing Remittances (Volume)'!D130","v":0}]
["CMREM_11510","LV",{"$f":"+'Outgoing Remittances (Value)'!$D$5","v":"20240831"},{"$f":"+'COVER SHEET'!$D$12","v":0},11510,{"$f":"'COVER SHEET'!$D$16&IF(MID('COVER SHEET'!$I$18,6,10)=\"december\",\"1231\",IF(MID('COVER SHEET'!$I$18,6,10)=\"june\",\"0630\"))","v":"20241231"},{"$f":"+'Outgoing Remittances (Volume)'!D131","v":0}]
["CMREM_11510","LB",{"$f":"+'Outgoing Remittances (Value)'!$D$5","v":"20240831"},{"$f":"+'COVER SHEET'!$D$12","v":0},11510,{"$f":"'COVER SHEET'!$D$16&IF(MID('COVER SHEET'!$I$18,6,10)=\"december\",\"1231\",IF(MID('COVER SHEET'!$I$18,6,10)=\"june\",\"0630\"))","v":"20241231"},{"$f":"+'Outgoing Remittances (Volume)'!D132","v":0}]
["CMREM_11510","LS",{"$f":"+'Outgoing Remittances (Value)'!$D$5","v":"20240831"},{"$f":"+'COVER SHEET'!$D$12","v":0},11510,{"$f":"'COVER SHEET'!$D$16&IF(MID('COVER SHEET'!$I$18,6,10)=\"december\",\"1231\",IF(MID('COVER SHEET'!$I$18,6,10)=\"june\",\"0630\"))","v":"20241231"},{"$f":"+'Outgoing Remittances (Volume)'!D133","v":0}]
["CMREM_11510","LR",{"$f":"+'Outgoing Remittances (Value)'!$D$5","v":"20240831"},{"$f":"+'COVER SHEET'!$D$12","v":0},11510,{"$f":"'COVER SHEET'!$D$16&IF(MID('COVER SHEET'!$I$18,6,10)=\"december\",\"1231\",IF(MID('COVER SHEET'!$I$18,6,10)=\"june\",\"0630\"))","v":"20241231"},{"$f":"+'Outgoing Remittances (Volume)'!D134","v":0}]
["CMREM_11510","LY",{"$f":"+'Outgoing Remittances (Value)'!$D$5","v":"20240831"},{"$f":"+'COVER SHEET'!$D$12","v":0},11510,{"$f":"'COVER SHEET'!$D$16&IF(MID('COVER SHEET'!$I$18,6,10)=\"december\",\"1231\",IF(MID('COVER SHEET'!$I$18,6,10)=\"june\",\"0630\"))","v":"20241231"},{"$f":"+'Outgoing Remittances (Volume)'!D135","v":0}]
["CMREM_11510","LI",{"$f":"+'Outgoing Remittances (Value)'!$D$5","v":"20240831"},{"$f":"+'COVER SHEET'!$D$12","v":0},11510,{"$f":"'COVER SHEET'!$D$16&IF(MID('COVER SHEET'!$I$18,6,10)=\"december\",\"1231\",IF(MID('COVER SHEET'!$I$18,6,10)=\"june\",\"0630\"))","v":"20241231"},{"$f":"+'Outgoing Remittances (Volume)'!D136","v":0}]
["CMREM_11510","LT",{"$f":"+'Outgoing Remittances (Value)'!$D$5","v":"20240831"},{"$f":"+'COVER SHEET'!$D$12","v":0},11510,{"$f":"'COVER SHEET'!$D$16&IF(MID('COVER SHEET'!$I$18,6,10)=\"december\",\"1231\",IF(MID('COVER SHEET'!$I$18,6,10)=\"june\",\"0630\"))","v":"20241231"},{"$f":"+'Outgoing Remittances (Volume)'!D137","v":0}]
["CMREM_11510","LU",{"$f":"+'Outgoing Remittances (Value)'!$D$5","v":"20240831"},{"$f":"+'COVER SHEET'!$D$12","v":0},11510,{"$f":"'COVER SHEET'!$D$16&IF(MID('COVER SHEET'!$I$18,6,10)=\"december\",\"1231\",IF(MID('COVER SHEET'!$I$18,6,10)=\"june\",\"0630\"))","v":"20241231"},{"$f":"+'Outgoing Remittances (Volume)'!D138","v":0}]
["CMREM_11510","MO",{"$f":"+'Outgoing Remittances (Value)'!$D$5","v":"20240831"},{"$f":"+'COVER SHEET'!$D$12","v":0},11510,{"$f":"'COVER SHEET'!$D$16&IF(MID('COVER SHEET'!$I$18,6,10)=\"december\",\"1231\",IF(MID('COVER SHEET'!$I$18,6,10)=\"june\",\"0630\"))","v":"20241231"},{"$f":"+'Outgoing Remittances (Volume)'!D139","v":0}]
["CMREM_11510","MK",{"$f":"+'Outgoing Remittances (Value)'!$D$5","v":"20240831"},{"$f":"+'COVER SHEET'!$D$12","v":0},11510,{"$f":"'COVER SHEET'!$D$16&IF(MID('COVER SHEET'!$I$18,6,10)=\"december\",\"1231\",IF(MID('COVER SHEET'!$I$18,6,10)=\"june\",\"0630\"))","v":"20241231"},{"$f":"+'Outgoing Remittances (Volume)'!D140","v":0}]
["CMREM_11510","MG",{"$f":"+'Outgoing Remittances (Value)'!$D$5","v":"20240831"},{"$f":"+'COVER SHEET'!$D$12","v":0},11510,{"$f":"'COVER SHEET'!$D$16&IF(MID('COVER SHEET'!$I$18,6,10)=\"december\",\"1231\",IF(MID('COVER SHEET'!$I$18,6,10)=\"june\",\"0630\"))","v":"20241231"},{"$f":"+'Outgoing Remittances (Volume)'!D141","v":0}]
["CMREM_11510","MW",{"$f":"+'Outgoing Remittances (Value)'!$D$5","v":"20240831"},{"$f":"+'COVER SHEET'!$D$12","v":0},11510,{"$f":"'COVER SHEET'!$D$16&IF(MID('COVER SHEET'!$I$18,6,10)=\"december\",\"1231\",IF(MID('COVER SHEET'!$I$18,6,10)=\"june\",\"0630\"))","v":"20241231"},{"$f":"+'Outgoing Remittances (Volume)'!D142","v":0}]
["CMREM_11510","MY",{"$f":"+'Outgoing Remittances (Value)'!$D$5","v":"20240831"},{"$f":"+'COVER SHEET'!$D$12","v":0},11510,{"$f":"'COVER SHEET'!$D$16&IF(MID('COVER SHEET'!$I$18,6,10)=\"december\",\"1231\",IF(MID('COVER SHEET'!$I$18,6,10)=\"june\",\"0630\"))","v":"20241231"},{"$f":"+'Outgoing Remittances (Volume)'!D143","v":0}]
["CMREM_11510","MV",{"$f":"+'Outgoing Remittances (Value)'!$D$5","v":"20240831"},{"$f":"+'COVER SHEET'!$D$12","v":0},11510,{"$f":"'COVER SHEET'!$D$16&IF(MID('COVER SHEET'!$I$18,6,10)=\"december\",\"1231\",IF(MID('COVER SHEET'!$I$18,6,10)=\"june\",\"0630\"))","v":"20241231"},{"$f":"+'Outgoing Remittances (Volume)'!D144","v":0}]
["CMREM_11510","ML",{"$f":"+'Outgoing Remittances (Value)'!$D$5","v":"20240831"},{"$f":"+'COVER SHEET'!$D$12","v":0},11510,{"$f":"'COVER SHEET'!$D$16&IF(MID('COVER SHEET'!$I$18,6,10)=\"december\",\"1231\",IF(MID('COVER SHEET'!$I$18,6,10)=\"june\",\"0630\"))","v":"20241231"},{"$f":"+'Outgoing Remittances (Volume)'!D145","v":0}]
["CMREM_11510","MH",{"$f":"+'Outgoing Remittances (Value)'!$D$5","v":"20240831"},{"$f":"+'COVER SHEET'!$D$12","v":0},11510,{"$f":"'COVER SHEET'!$D$16&IF(MID('COVER SHEET'!$I$18,6,10)=\"december\",\"1231\",IF(MID('COVER SHEET'!$I$18,6,10)=\"june\",\"0630\"))","v":"20241231"},{"$f":"+'Outgoing Remittances (Volume)'!D146","v":0}]
["CMREM_11510","MR",{"$f":"+'Outgoing Remittances (Value)'!$D$5","v":"20240831"},{"$f":"+'COVER SHEET'!$D$12","v":0},11510,{"$f":"'COVER SHEET'!$D$16&IF(MID('COVER SHEET'!$I$18,6,10)=\"december\",\"1231\",IF(MID('COVER SHEET'!$I$18,6,10)=\"june\",\"0630\"))","v":"20241231"},{"$f":"+'Outgoing Remittances (Volume)'!D147","v":0}]
["CMREM_11510","MU",{"$f":"+'Outgoing Remittances (Value)'!$D$5","v":"20240831"},{"$f":"+'COVER SHEET'!$D$12","v":0},11510,{"$f":"'COVER SHEET'!$D$16&IF(MID('COVER SHEET'!$I$18,6,10)=\"december\",\"1231\",IF(MID('COVER SHEET'!$I$18,6,10)=\"june\",\"0630\"))","v":"20241231"},{"$f":"+'Outgoing Remittances (Volume)'!D148","v":0}]
["CMREM_11510","MX",{"$f":"+'Outgoing Remittances (Value)'!$D$5","v":"20240831"},{"$f":"+'COVER SHEET'!$D$12","v":0},11510,{"$f":"'COVER SHEET'!$D$16&IF(MID('COVER SHEET'!$I$18,6,10)=\"december\",\"1231\",IF(MID('COVER SHEET'!$I$18,6,10)=\"june\",\"0630\"))","v":"20241231"},{"$f":"+'Outgoing Remittances (Volume)'!D149","v":0}]
["CMREM_11510","FM",{"$f":"+'Outgoing Remittances (Value)'!$D$5","v":"20240831"},{"$f":"+'COVER SHEET'!$D$12","v":0},11510,{"$f":"'COVER SHEET'!$D$16&IF(MID('COVER SHEET'!$I$18,6,10)=\"december\",\"1231\",IF(MID('COVER SHEET'!$I$18,6,10)=\"june\",\"0630\"))","v":"20241231"},{"$f":"+'Outgoing Remittances (Volume)'!D150","v":0}]
["CMREM_11510","MD",{"$f":"+'Outgoing Remittances (Value)'!$D$5","v":"20240831"},{"$f":"+'COVER SHEET'!$D$12","v":0},11510,{"$f":"'COVER SHEET'!$D$16&IF(MID('COVER SHEET'!$I$18,6,10)=\"december\",\"1231\",IF(MID('COVER SHEET'!$I$18,6,10)=\"june\",\"0630\"))","v":"20241231"},{"$f":"+'Outgoing Remittances (Volume)'!D151","v":0}]
["CMREM_11510","MN",{"$f":"+'Outgoing Remittances (Value)'!$D$5","v":"20240831"},{"$f":"+'COVER SHEET'!$D$12","v":0},11510,{"$f":"'COVER SHEET'!$D$16&IF(MID('COVER SHEET'!$I$18,6,10)=\"december\",\"1231\",IF(MID('COVER SHEET'!$I$18,6,10)=\"june\",\"0630\"))","v":"20241231"},{"$f":"+'Outgoing Remittances (Volume)'!D152","v":0}]
["CMREM_11510","ME",{"$f":"+'Outgoing Remittances (Value)'!$D$5","v":"20240831"},{"$f":"+'COVER SHEET'!$D$12","v":0},11510,{"$f":"'COVER SHEET'!$D$16&IF(MID('COVER SHEET'!$I$18,6,10)=\"december\",\"1231\",IF(MID('COVER SHEET'!$I$18,6,10)=\"june\",\"0630\"))","v":"20241231"},{"$f":"+'Outgoing Remittances (Volume)'!D153","v":0}]
["CMREM_11510","MS",{"$f":"+'Outgoing Remittances (Value)'!$D$5","v":"20240831"},{"$f":"+'COVER SHEET'!$D$12","v":0},11510,{"$f":"'COVER SHEET'!$D$16&IF(MID('COVER SHEET'!$I$18,6,10)=\"december\",\"1231\",IF(MID('COVER SHEET'!$I$18,6,10)=\"june\",\"0630\"))","v":"20241231"},{"$f":"+'Outgoing Remittances (Volume)'!D154","v":0}]
["CMREM_11510","MA",{"$f":"+'Outgoing Remittances (Value)'!$D$5","v":"20240831"},{"$f":"+'COVER SHEET'!$D$12","v":0},11510,{"$f":"'COVER SHEET'!$D$16&IF(MID('COVER SHEET'!$I$18,6,10)=\"december\",\"1231\",IF(MID('COVER SHEET'!$I$18,6,10)=\"june\",\"0630\"))","v":"20241231"},{"$f":"+'Outgoing Remittances (Volume)'!D155","v":0}]
["CMREM_11510","MZ",{"$f":"+'Outgoing Remittances (Value)'!$D$5","v":"20240831"},{"$f":"+'COVER SHEET'!$D$12","v":0},11510,{"$f":"'COVER SHEET'!$D$16&IF(MID('COVER SHEET'!$I$18,6,10)=\"december\",\"1231\",IF(MID('COVER SHEET'!$I$18,6,10)=\"june\",\"0630\"))","v":"20241231"},{"$f":"+'Outgoing Remittances (Volume)'!D156","v":0}]
["CMREM_11510","MM",{"$f":"+'Outgoing Remittances (Value)'!$D$5","v":"20240831"},{"$f":"+'COVER SHEET'!$D$12","v":0},11510,{"$f":"'COVER SHEET'!$D$16&IF(MID('COVER SHEET'!$I$18,6,10)=\"december\",\"1231\",IF(MID('COVER SHEET'!$I$18,6,10)=\"june\",\"0630\"))","v":"20241231"},{"$f":"+'Outgoing Remittances (Volume)'!D157","v":0}]
["CMREM_11510","NA",{"$f":"+'Outgoing Remittances (Value)'!$D$5","v":"20240831"},{"$f":"+'COVER SHEET'!$D$12","v":0},11510,{"$f":"'COVER SHEET'!$D$16&IF(MID('COVER SHEET'!$I$18,6,10)=\"december\",\"1231\",IF(MID('COVER SHEET'!$I$18,6,10)=\"june\",\"0630\"))","v":"20241231"},{"$f":"+'Outgoing Remittances (Volume)'!D158","v":0}]
["CMREM_11510","NR",{"$f":"+'Outgoing Remittances (Value)'!$D$5","v":"20240831"},{"$f":"+'COVER SHEET'!$D$12","v":0},11510,{"$f":"'COVER SHEET'!$D$16&IF(MID('COVER SHEET'!$I$18,6,10)=\"december\",\"1231\",IF(MID('COVER SHEET'!$I$18,6,10)=\"june\",\"0630\"))","v":"20241231"},{"$f":"+'Outgoing Remittances (Volume)'!D159","v":0}]
["CMREM_11510","NP",{"$f":"+'Outgoing Remittances (Value)'!$D$5","v":"20240831"},{"$f":"+'COVER SHEET'!$D$12","v":0},11510,{"$f":"'COVER SHEET'!$D$16&IF(MID('COVER SHEET'!$I$18,6,10)=\"december\",\"1231\",IF(MID('COVER SHEET'!$I$18,6,10)=\"june\",\"0630\"))","v":"20241231"},{"$f":"+'Outgoing Remittances (Volume)'!D160","v":0}]
["CMREM_11510","NL",{"$f":"+'Outgoing Remittances (Value)'!$D$5","v":"20240831"},{"$f":"+'COVER SHEET'!$D$12","v":0},11510,{"$f":"'COVER SHEET'!$D$16&IF(MID('COVER SHEET'!$I$18,6,10)=\"december\",\"1231\",IF(MID('COVER SHEET'!$I$18,6,10)=\"june\",\"0630\"))","v":"20241231"},{"$f":"+'Outgoing Remittances (Volume)'!D161","v":0}]
["CMREM_11510","NC",{"$f":"+'Outgoing Remittances (Value)'!$D$5","v":"20240831"},{"$f":"+'COVER SHEET'!$D$12","v":0},11510,{"$f":"'COVER SHEET'!$D$16&IF(MID('COVER SHEET'!$I$18,6,10)=\"december\",\"1231\",IF(MID('COVER SHEET'!$I$18,6,10)=\"june\",\"0630\"))","v":"20241231"},{"$f":"+'Outgoing Remittances (Volume)'!D162","v":0}]
["CMREM_11510","NZ",{"$f":"+'Outgoing Remittances (Value)'!$D$5","v":"20240831"},{"$f":"+'COVER SHEET'!$D$12","v":0},11510,{"$f":"'COVER SHEET'!$D$16&IF(MID('COVER SHEET'!$I$18,6,10)=\"december\",\"1231\",IF(MID('COVER SHEET'!$I$18,6,10)=\"june\",\"0630\"))","v":"20241231"},{"$f":"+'Outgoing Remittances (Volume)'!D163","v":0}]
["CMREM_11510","NI",{"$f":"+'Outgoing Remittances (Value)'!$D$5","v":"20240831"},{"$f":"+'COVER SHEET'!$D$12","v":0},11510,{"$f":"'COVER SHEET'!$D$16&IF(MID('COVER SHEET'!$I$18,6,10)=\"december\",\"1231\",IF(MID('COVER SHEET'!$I$18,6,10)=\"june\",\"0630\"))","v":"20241231"},{"$f":"+'Outgoing Remittances (Volume)'!D164","v":0}]
["CMREM_11510","NE",{"$f":"+'Outgoing Remittances (Value)'!$D$5","v":"20240831"},{"$f":"+'COVER SHEET'!$D$12","v":0},11510,{"$f":"'COVER SHEET'!$D$16&IF(MID('COVER SHEET'!$I$18,6,10)=\"december\",\"1231\",IF(MID('COVER SHEET'!$I$18,6,10)=\"june\",\"0630\"))","v":"20241231"},{"$f":"+'Outgoing Remittances (Volume)'!D165","v":0}]
["CMREM_11510","NG",{"$f":"+'Outgoing Remittances (Value)'!$D$5","v":"20240831"},{"$f":"+'COVER SHEET'!$D$12","v":0},11510,{"$f":"'COVER SHEET'!$D$16&IF(MID('COVER SHEET'!$I$18,6,10)=\"december\",\"1231\",IF(MID('COVER SHEET'!$I$18,6,10)=\"june\",\"0630\"))","v":"20241231"},{"$f":"+'Outgoing Remittances (Volume)'!D166","v":0}]
["CMREM_11510","NU",{"$f":"+'Outgoing Remittances (Value)'!$D$5","v":"20240831"},{"$f":"+'COVER SHEET'!$D$12","v":0},11510,{"$f":"'COVER SHEET'!$D$16&IF(MID('COVER SHEET'!$I$18,6,10)=\"december\",\"1231\",IF(MID('COVER SHEET'!$I$18,6,10)=\"june\",\"0630\"))","v":"20241231"},{"$f":"+'Outgoing Remittances (Volume)'!D167","v":0}]
["CMREM_11510","NF",{"$f":"+'Outgoing Remittances (Value)'!$D$5","v":"20240831"},{"$f":"+'COVER SHEET'!$D$12","v":0},11510,{"$f":"'COVER SHEET'!$D$16&IF(MID('COVER SHEET'!$I$18,6,10)=\"december\",\"1231\",IF(MID('COVER SHEET'!$I$18,6,10)=\"june\",\"0630\"))","v":"20241231"},{"$f":"+'Outgoing Remittances (Volume)'!D168","v":0}]
["CMREM_11510","MP",{"$f":"+'Outgoing Remittances (Value)'!$D$5","v":"20240831"},{"$f":"+'COVER SHEET'!$D$12","v":0},11510,{"$f":"'COVER SHEET'!$D$16&IF(MID('COVER SHEET'!$I$18,6,10)=\"december\",\"1231\",IF(MID('COVER SHEET'!$I$18,6,10)=\"june\",\"0630\"))","v":"20241231"},{"$f":"+'Outgoing Remittances (Volume)'!D169","v":0}]
["CMREM_11510","NO",{"$f":"+'Outgoing Remittances (Value)'!$D$5","v":"20240831"},{"$f":"+'COVER SHEET'!$D$12","v":0},11510,{"$f":"'COVER SHEET'!$D$16&IF(MID('COVER SHEET'!$I$18,6,10)=\"december\",\"1231\",IF(MID('COVER SHEET'!$I$18,6,10)=\"june\",\"0630\"))","v":"20241231"},{"$f":"+'Outgoing Remittances (Volume)'!D170","v":0}]
["CMREM_11510","OM",{"$f":"+'Outgoing Remittances (Value)'!$D$5","v":"20240831"},{"$f":"+'COVER SHEET'!$D$12","v":0},11510,{"$f":"'COVER SHEET'!$D$16&IF(MID('COVER SHEET'!$I$18,6,10)=\"december\",\"1231\",IF(MID('COVER SHEET'!$I$18,6,10)=\"june\",\"0630\"))","v":"20241231"},{"$f":"+'Outgoing Remittances (Volume)'!D171","v":0}]
["CMREM_11510","PK",{"$f":"+'Outgoing Remittances (Value)'!$D$5","v":"20240831"},{"$f":"+'COVER SHEET'!$D$12","v":0},11510,{"$f":"'COVER SHEET'!$D$16&IF(MID('COVER SHEET'!$I$18,6,10)=\"december\",\"1231\",IF(MID('COVER SHEET'!$I$18,6,10)=\"june\",\"0630\"))","v":"20241231"},{"$f":"+'Outgoing Remittances (Volume)'!D172","v":0}]
["CMREM_11510","PW",{"$f":"+'Outgoing Remittances (Value)'!$D$5","v":"20240831"},{"$f":"+'COVER SHEET'!$D$12","v":0},11510,{"$f":"'COVER SHEET'!$D$16&IF(MID('COVER SHEET'!$I$18,6,10)=\"december\",\"1231\",IF(MID('COVER SHEET'!$I$18,6,10)=\"june\",\"0630\"))","v":"20241231"},{"$f":"+'Outgoing Remittances (Volume)'!D173","v":0}]
["CMREM_11510","PS",{"$f":"+'Outgoing Remittances (Value)'!$D$5","v":"20240831"},{"$f":"+'COVER SHEET'!$D$12","v":0},11510,{"$f":"'COVER SHEET'!$D$16&IF(MID('COVER SHEET'!$I$18,6,10)=\"december\",\"1231\",IF(MID('COVER SHEET'!$I$18,6,10)=\"june\",\"0630\"))","v":"20241231"},{"$f":"+'Outgoing Remittances (Volume)'!D174","v":0}]
["CMREM_11510","PA",{"$f":"+'Outgoing Remittances (Value)'!$D$5","v":"20240831"},{"$f":"+'COVER SHEET'!$D$12","v":0},11510,{"$f":"'COVER SHEET'!$D$16&IF(MID('COVER SHEET'!$I$18,6,10)=\"december\",\"1231\",IF(MID('COVER SHEET'!$I$18,6,10)=\"june\",\"0630\"))","v":"20241231"},{"$f":"+'Outgoing Remittances (Volume)'!D175","v":0}]
["CMREM_11510","PG",{"$f":"+'Outgoing Remittances (Value)'!$D$5","v":"20240831"},{"$f":"+'COVER SHEET'!$D$12","v":0},11510,{"$f":"'COVER SHEET'!$D$16&IF(MID('COVER SHEET'!$I$18,6,10)=\"december\",\"1231\",IF(MID('COVER SHEET'!$I$18,6,10)=\"june\",\"0630\"))","v":"20241231"},{"$f":"+'Outgoing Remittances (Volume)'!D176","v":0}]
["CMREM_11510","PY",{"$f":"+'Outgoing Remittances (Value)'!$D$5","v":"20240831"},{"$f":"+'COVER SHEET'!$D$12","v":0},11510,{"$f":"'COVER SHEET'!$D$16&IF(MID('COVER SHEET'!$I$18,6,10)=\"december\",\"1231\",IF(MID('COVER SHEET'!$I$18,6,10)=\"june\",\"0630\"))","v":"20241231"},{"$f":"+'Outgoing Remittances (Volume)'!D177","v":0}]
["CMREM_11510","PE",{"$f":"+'Outgoing Remittances (Value)'!$D$5","v":"20240831"},{"$f":"+'COVER SHEET'!$D$12","v":0},11510,{"$f":"'COVER SHEET'!$D$16&IF(MID('COVER SHEET'!$I$18,6,10)=\"december\",\"1231\",IF(MID('COVER SHEET'!$I$18,6,10)=\"june\",\"0630\"))","v":"20241231"},{"$f":"+'Outgoing Remittances (Volume)'!D178","v":0}]
["CMREM_11510","PH",{"$f":"+'Outgoing Remittances (Value)'!$D$5","v":"20240831"},{"$f":"+'COVER SHEET'!$D$12","v":0},11510,{"$f":"'COVER SHEET'!$D$16&IF(MID('COVER SHEET'!$I$18,6,10)=\"december\",\"1231\",IF(MID('COVER SHEET'!$I$18,6,10)=\"june\",\"0630\"))","v":"20241231"},{"$f":"+'Outgoing Remittances (Volume)'!D179","v":0}]
["CMREM_11510","PN",{"$f":"+'Outgoing Remittances (Value)'!$D$5","v":"20240831"},{"$f":"+'COVER SHEET'!$D$12","v":0},11510,{"$f":"'COVER SHEET'!$D$16&IF(MID('COVER SHEET'!$I$18,6,10)=\"december\",\"1231\",IF(MID('COVER SHEET'!$I$18,6,10)=\"june\",\"0630\"))","v":"20241231"},{"$f":"+'Outgoing Remittances (Volume)'!D180","v":0}]
["CMREM_11510","PL",{"$f":"+'Outgoing Remittances (Value)'!$D$5","v":"20240831"},{"$f":"+'COVER SHEET'!$D$12","v":0},11510,{"$f":"'COVER SHEET'!$D$16&IF(MID('COVER SHEET'!$I$18,6,10)=\"december\",\"1231\",IF(MID('COVER SHEET'!$I$18,6,10)=\"june\",\"0630\"))","v":"20241231"},{"$f":"+'Outgoing Remittances (Volume)'!D181","v":0}]
["CMREM_11510","PT",{"$f":"+'Outgoing Remittances (Value)'!$D$5","v":"20240831"},{"$f":"+'COVER SHEET'!$D$12","v":0},11510,{"$f":"'COVER SHEET'!$D$16&IF(MID('COVER SHEET'!$I$18,6,10)=\"december\",\"1231\",IF(MID('COVER SHEET'!$I$18,6,10)=\"june\",\"0630\"))","v":"20241231"},{"$f":"+'Outgoing Remittances (Volume)'!D182","v":0}]
["CMREM_11510","QA",{"$f":"+'Outgoing Remittances (Value)'!$D$5","v":"20240831"},{"$f":"+'COVER SHEET'!$D$12","v":0},11510,{"$f":"'COVER SHEET'!$D$16&IF(MID('COVER SHEET'!$I$18,6,10)=\"december\",\"1231\",IF(MID('COVER SHEET'!$I$18,6,10)=\"june\",\"0630\"))","v":"20241231"},{"$f":"+'Outgoing Remittances (Volume)'!D183","v":0}]
["CMREM_11510","RO",{"$f":"+'Outgoing Remittances (Value)'!$D$5","v":"20240831"},{"$f":"+'COVER SHEET'!$D$12","v":0},11510,{"$f":"'COVER SHEET'!$D$16&IF(MID('COVER SHEET'!$I$18,6,10)=\"december\",\"1231\",IF(MID('COVER SHEET'!$I$18,6,10)=\"june\",\"0630\"))","v":"20241231"},{"$f":"+'Outgoing Remittances (Volume)'!D184","v":0}]
["CMREM_11510","RU",{"$f":"+'Outgoing Remittances (Value)'!$D$5","v":"20240831"},{"$f":"+'COVER SHEET'!$D$12","v":0},11510,{"$f":"'COVER SHEET'!$D$16&IF(MID('COVER SHEET'!$I$18,6,10)=\"december\",\"1231\",IF(MID('COVER SHEET'!$I$18,6,10)=\"june\",\"0630\"))","v":"20241231"},{"$f":"+'Outgoing Remittances (Volume)'!D185","v":0}]
["CMREM_11510","RW",{"$f":"+'Outgoing Remittances (Value)'!$D$5","v":"20240831"},{"$f":"+'COVER SHEET'!$D$12","v":0},11510,{"$f":"'COVER SHEET'!$D$16&IF(MID('COVER SHEET'!$I$18,6,10)=\"december\",\"1231\",IF(MID('COVER SHEET'!$I$18,6,10)=\"june\",\"0630\"))","v":"20241231"},{"$f":"+'Outgoing Remittances (Volume)'!D186","v":0}]
["CMREM_11510","SH",{"$f":"+'Outgoing Remittances (Value)'!$D$5","v":"20240831"},{"$f":"+'COVER SHEET'!$D$12","v":0},11510,{"$f":"'COVER SHEET'!$D$16&IF(MID('COVER SHEET'!$I$18,6,10)=\"december\",\"1231\",IF(MID('COVER SHEET'!$I$18,6,10)=\"june\",\"0630\"))","v":"20241231"},{"$f":"+'Outgoing Remittances (Volume)'!D187","v":0}]
["CMREM_11510","KN",{"$f":"+'Outgoing Remittances (Value)'!$D$5","v":"20240831"},{"$f":"+'COVER SHEET'!$D$12","v":0},11510,{"$f":"'COVER SHEET'!$D$16&IF(MID('COVER SHEET'!$I$18,6,10)=\"december\",\"1231\",IF(MID('COVER SHEET'!$I$18,6,10)=\"june\",\"0630\"))","v":"20241231"},{"$f":"+'Outgoing Remittances (Volume)'!D188","v":0}]
["CMREM_11510","LC",{"$f":"+'Outgoing Remittances (Value)'!$D$5","v":"20240831"},{"$f":"+'COVER SHEET'!$D$12","v":0},11510,{"$f":"'COVER SHEET'!$D$16&IF(MID('COVER SHEET'!$I$18,6,10)=\"december\",\"1231\",IF(MID('COVER SHEET'!$I$18,6,10)=\"june\",\"0630\"))","v":"20241231"},{"$f":"+'Outgoing Remittances (Volume)'!D189","v":0}]
["CMREM_11510","VC",{"$f":"+'Outgoing Remittances (Value)'!$D$5","v":"20240831"},{"$f":"+'COVER SHEET'!$D$12","v":0},11510,{"$f":"'COVER SHEET'!$D$16&IF(MID('COVER SHEET'!$I$18,6,10)=\"december\",\"1231\",IF(MID('COVER SHEET'!$I$18,6,10)=\"june\",\"0630\"))","v":"20241231"},{"$f":"+'Outgoing Remittances (Volume)'!D190","v":0}]
["CMREM_11510","WS",{"$f":"+'Outgoing Remittances (Value)'!$D$5","v":"20240831"},{"$f":"+'COVER SHEET'!$D$12","v":0},11510,{"$f":"'COVER SHEET'!$D$16&IF(MID('COVER SHEET'!$I$18,6,10)=\"december\",\"1231\",IF(MID('COVER SHEET'!$I$18,6,10)=\"june\",\"0630\"))","v":"20241231"},{"$f":"+'Outgoing Remittances (Volume)'!D191","v":0}]
["CMREM_11510","SM",{"$f":"+'Outgoing Remittances (Value)'!$D$5","v":"20240831"},{"$f":"+'COVER SHEET'!$D$12","v":0},11510,{"$f":"'COVER SHEET'!$D$16&IF(MID('COVER SHEET'!$I$18,6,10)=\"december\",\"1231\",IF(MID('COVER SHEET'!$I$18,6,10)=\"june\",\"0630\"))","v":"20241231"},{"$f":"+'Outgoing Remittances (Volume)'!D192","v":0}]
["CMREM_11510","ST",{"$f":"+'Outgoing Remittances (Value)'!$D$5","v":"20240831"},{"$f":"+'COVER SHEET'!$D$12","v":0},11510,{"$f":"'COVER SHEET'!$D$16&IF(MID('COVER SHEET'!$I$18,6,10)=\"december\",\"1231\",IF(MID('COVER SHEET'!$I$18,6,10)=\"june\",\"0630\"))","v":"20241231"},{"$f":"+'Outgoing Remittances (Volume)'!D193","v":0}]
["CMREM_11510","SA",{"$f":"+'Outgoing Remittances (Value)'!$D$5","v":"20240831"},{"$f":"+'COVER SHEET'!$D$12","v":0},11510,{"$f":"'COVER SHEET'!$D$16&IF(MID('COVER SHEET'!$I$18,6,10)=\"december\",\"1231\",IF(MID('COVER SHEET'!$I$18,6,10)=\"june\",\"0630\"))","v":"20241231"},{"$f":"+'Outgoing Remittances (Volume)'!D194","v":0}]
["CMREM_11510","SN",{"$f":"+'Outgoing Remittances (Value)'!$D$5","v":"20240831"},{"$f":"+'COVER SHEET'!$D$12","v":0},11510,{"$f":"'COVER SHEET'!$D$16&IF(MID('COVER SHEET'!$I$18,6,10)=\"december\",\"1231\",IF(MID('COVER SHEET'!$I$18,6,10)=\"june\",\"0630\"))","v":"20241231"},{"$f":"+'Outgoing Remittances (Volume)'!D195","v":0}]
["CMREM_11510","RS",{"$f":"+'Outgoing Remittances (Value)'!$D$5","v":"20240831"},{"$f":"+'COVER SHEET'!$D$12","v":0},11510,{"$f":"'COVER SHEET'!$D$16&IF(MID('COVER SHEET'!$I$18,6,10)=\"december\",\"1231\",IF(MID('COVER SHEET'!$I$18,6,10)=\"june\",\"0630\"))","v":"20241231"},{"$f":"+'Outgoing Remittances (Volume)'!D196","v":0}]
["CMREM_11510","SC",{"$f":"+'Outgoing Remittances (Value)'!$D$5","v":"20240831"},{"$f":"+'COVER SHEET'!$D$12","v":0},11510,{"$f":"'COVER SHEET'!$D$16&IF(MID('COVER SHEET'!$I$18,6,10)=\"december\",\"1231\",IF(MID('COVER SHEET'!$I$18,6,10)=\"june\",\"0630\"))","v":"20241231"},{"$f":"+'Outgoing Remittances (Volume)'!D197","v":0}]
["CMREM_11510","SL",{"$f":"+'Outgoing Remittances (Value)'!$D$5","v":"20240831"},{"$f":"+'COVER SHEET'!$D$12","v":0},11510,{"$f":"'COVER SHEET'!$D$16&IF(MID('COVER SHEET'!$I$18,6,10)=\"december\",\"1231\",IF(MID('COVER SHEET'!$I$18,6,10)=\"june\",\"0630\"))","v":"20241231"},{"$f":"+'Outgoing Remittances (Volume)'!D198","v":0}]
["CMREM_11510","SG",{"$f":"+'Outgoing Remittances (Value)'!$D$5","v":"20240831"},{"$f":"+'COVER SHEET'!$D$12","v":0},11510,{"$f":"'COVER SHEET'!$D$16&IF(MID('COVER SHEET'!$I$18,6,10)=\"december\",\"1231\",IF(MID('COVER SHEET'!$I$18,6,10)=\"june\",\"0630\"))","v":"20241231"},{"$f":"+'Outgoing Remittances (Volume)'!D199","v":0}]
["CMREM_11510","SX",{"$f":"+'Outgoing Remittances (Value)'!$D$5","v":"20240831"},{"$f":"+'COVER SHEET'!$D$12","v":0},11510,{"$f":"'COVER SHEET'!$D$16&IF(MID('COVER SHEET'!$I$18,6,10)=\"december\",\"1231\",IF(MID('COVER SHEET'!$I$18,6,10)=\"june\",\"0630\"))","v":"20241231"},{"$f":"+'Outgoing Remittances (Volume)'!D200","v":0}]
["CMREM_11510","SK",{"$f":"+'Outgoing Remittances (Value)'!$D$5","v":"20240831"},{"$f":"+'COVER SHEET'!$D$12","v":0},11510,{"$f":"'COVER SHEET'!$D$16&IF(MID('COVER SHEET'!$I$18,6,10)=\"december\",\"1231\",IF(MID('COVER SHEET'!$I$18,6,10)=\"june\",\"0630\"))","v":"20241231"},{"$f":"+'Outgoing Remittances (Volume)'!D201","v":0}]
["CMREM_11510","SI",{"$f":"+'Outgoing Remittances (Value)'!$D$5","v":"20240831"},{"$f":"+'COVER SHEET'!$D$12","v":0},11510,{"$f":"'COVER SHEET'!$D$16&IF(MID('COVER SHEET'!$I$18,6,10)=\"december\",\"1231\",IF(MID('COVER SHEET'!$I$18,6,10)=\"june\",\"0630\"))","v":"20241231"},{"$f":"+'Outgoing Remittances (Volume)'!D202","v":0}]
["CMREM_11510","SB",{"$f":"+'Outgoing Remittances (Value)'!$D$5","v":"20240831"},{"$f":"+'COVER SHEET'!$D$12","v":0},11510,{"$f":"'COVER SHEET'!$D$16&IF(MID('COVER SHEET'!$I$18,6,10)=\"december\",\"1231\",IF(MID('COVER SHEET'!$I$18,6,10)=\"june\",\"0630\"))","v":"20241231"},{"$f":"+'Outgoing Remittances (Volume)'!D203","v":0}]
["CMREM_11510","SO",{"$f":"+'Outgoing Remittances (Value)'!$D$5","v":"20240831"},{"$f":"+'COVER SHEET'!$D$12","v":0},11510,{"$f":"'COVER SHEET'!$D$16&IF(MID('COVER SHEET'!$I$18,6,10)=\"december\",\"1231\",IF(MID('COVER SHEET'!$I$18,6,10)=\"june\",\"0630\"))","v":"20241231"},{"$f":"+'Outgoing Remittances (Volume)'!D204","v":0}]
["CMREM_11510","ZA",{"$f":"+'Outgoing Remittances (Value)'!$D$5","v":"20240831"},{"$f":"+'COVER SHEET'!$D$12","v":0},11510,{"$f":"'COVER SHEET'!$D$16&IF(MID('COVER SHEET'!$I$18,6,10)=\"december\",\"1231\",IF(MID('COVER SHEET'!$I$18,6,10)=\"june\",\"0630\"))","v":"20241231"},{"$f":"+'Outgoing Remittances (Volume)'!D205","v":0}]
["CMREM_11510","GS",{"$f":"+'Outgoing Remittances (Value)'!$D$5","v":"20240831"},{"$f":"+'COVER SHEET'!$D$12","v":0},11510,{"$f":"'COVER SHEET'!$D$16&IF(MID('COVER SHEET'!$I$18,6,10)=\"december\",\"1231\",IF(MID('COVER SHEET'!$I$18,6,10)=\"june\",\"0630\"))","v":"20241231"},{"$f":"+'Outgoing Remittances (Volume)'!D206","v":0}]
["CMREM_11510","SS",{"$f":"+'Outgoing Remittances (Value)'!$D$5","v":"20240831"},{"$f":"+'COVER SHEET'!$D$12","v":0},11510,{"$f":"'COVER SHEET'!$D$16&IF(MID('COVER SHEET'!$I$18,6,10)=\"december\",\"1231\",IF(MID('COVER SHEET'!$I$18,6,10)=\"june\",\"0630\"))","v":"20241231"},{"$f":"+'Outgoing Remittances (Volume)'!D207","v":0}]
["CMREM_11510","ES",{"$f":"+'Outgoing Remittances (Value)'!$D$5","v":"20240831"},{"$f":"+'COVER SHEET'!$D$12","v":0},11510,{"$f":"'COVER SHEET'!$D$16&IF(MID('COVER SHEET'!$I$18,6,10)=\"december\",\"1231\",IF(MID('COVER SHEET'!$I$18,6,10)=\"june\",\"0630\"))","v":"20241231"},{"$f":"+'Outgoing Remittances (Volume)'!D208","v":0}]
["CMREM_11510","LK",{"$f":"+'Outgoing Remittances (Value)'!$D$5","v":"20240831"},{"$f":"+'COVER SHEET'!$D$12","v":0},11510,{"$f":"'COVER SHEET'!$D$16&IF(MID('COVER SHEET'!$I$18,6,10)=\"december\",\"1231\",IF(MID('COVER SHEET'!$I$18,6,10)=\"june\",\"0630\"))","v":"20241231"},{"$f":"+'Outgoing Remittances (Volume)'!D209","v":0}]
["CMREM_11510","SD",{"$f":"+'Outgoing Remittances (Value)'!$D$5","v":"20240831"},{"$f":"+'COVER SHEET'!$D$12","v":0},11510,{"$f":"'COVER SHEET'!$D$16&IF(MID('COVER SHEET'!$I$18,6,10)=\"december\",\"1231\",IF(MID('COVER SHEET'!$I$18,6,10)=\"june\",\"0630\"))","v":"20241231"},{"$f":"+'Outgoing Remittances (Volume)'!D210","v":0}]
["CMREM_11510","SR",{"$f":"+'Outgoing Remittances (Value)'!$D$5","v":"20240831"},{"$f":"+'COVER SHEET'!$D$12","v":0},11510,{"$f":"'COVER SHEET'!$D$16&IF(MID('COVER SHEET'!$I$18,6,10)=\"december\",\"1231\",IF(MID('COVER SHEET'!$I$18,6,10)=\"june\",\"0630\"))","v":"20241231"},{"$f":"+'Outgoing Remittances (Volume)'!D211","v":0}]
["CMREM_11510","SZ",{"$f":"+'Outgoing Remittances (Value)'!$D$5","v":"20240831"},{"$f":"+'COVER SHEET'!$D$12","v":0},11510,{"$f":"'COVER SHEET'!$D$16&IF(MID('COVER SHEET'!$I$18,6,10)=\"december\",\"1231\",IF(MID('COVER SHEET'!$I$18,6,10)=\"june\",\"0630\"))","v":"20241231"},{"$f":"+'Outgoing Remittances (Volume)'!D212","v":0}]
["CMREM_11510","SE",{"$f":"+'Outgoing Remittances (Value)'!$D$5","v":"20240831"},{"$f":"+'COVER SHEET'!$D$12","v":0},11510,{"$f":"'COVER SHEET'!$D$16&IF(MID('COVER SHEET'!$I$18,6,10)=\"december\",\"1231\",IF(MID('COVER SHEET'!$I$18,6,10)=\"june\",\"0630\"))","v":"20241231"},{"$f":"+'Outgoing Remittances (Volume)'!D213","v":0}]
["CMREM_11510","CH",{"$f":"+'Outgoing Remittances (Value)'!$D$5","v":"20240831"},{"$f":"+'COVER SHEET'!$D$12","v":0},11510,{"$f":"'COVER SHEET'!$D$16&IF(MID('COVER SHEET'!$I$18,6,10)=\"december\",\"1231\",IF(MID('COVER SHEET'!$I$18,6,10)=\"june\",\"0630\"))","v":"20241231"},{"$f":"+'Outgoing Remittances (Volume)'!D214","v":0}]
["CMREM_11510","SY",{"$f":"+'Outgoing Remittances (Value)'!$D$5","v":"20240831"},{"$f":"+'COVER SHEET'!$D$12","v":0},11510,{"$f":"'COVER SHEET'!$D$16&IF(MID('COVER SHEET'!$I$18,6,10)=\"december\",\"1231\",IF(MID('COVER SHEET'!$I$18,6,10)=\"june\",\"0630\"))","v":"20241231"},{"$f":"+'Outgoing Remittances (Volume)'!D215","v":0}]
["CMREM_11510","TW",{"$f":"+'Outgoing Remittances (Value)'!$D$5","v":"20240831"},{"$f":"+'COVER SHEET'!$D$12","v":0},11510,{"$f":"'COVER SHEET'!$D$16&IF(MID('COVER SHEET'!$I$18,6,10)=\"december\",\"1231\",IF(MID('COVER SHEET'!$I$18,6,10)=\"june\",\"0630\"))","v":"20241231"},{"$f":"+'Outgoing Remittances (Volume)'!D216","v":0}]
["CMREM_11510","TJ",{"$f":"+'Outgoing Remittances (Value)'!$D$5","v":"20240831"},{"$f":"+'COVER SHEET'!$D$12","v":0},11510,{"$f":"'COVER SHEET'!$D$16&IF(MID('COVER SHEET'!$I$18,6,10)=\"december\",\"1231\",IF(MID('COVER SHEET'!$I$18,6,10)=\"june\",\"0630\"))","v":"20241231"},{"$f":"+'Outgoing Remittances (Volume)'!D217","v":0}]
["CMREM_11510","TZ",{"$f":"+'Outgoing Remittances (Value)'!$D$5","v":"20240831"},{"$f":"+'COVER SHEET'!$D$12","v":0},11510,{"$f":"'COVER SHEET'!$D$16&IF(MID('COVER SHEET'!$I$18,6,10)=\"december\",\"1231\",IF(MID('COVER SHEET'!$I$18,6,10)=\"june\",\"0630\"))","v":"20241231"},{"$f":"+'Outgoing Remittances (Volume)'!D218","v":0}]
["CMREM_11510","TH",{"$f":"+'Outgoing Remittances (Value)'!$D$5","v":"20240831"},{"$f":"+'COVER SHEET'!$D$12","v":0},11510,{"$f":"'COVER SHEET'!$D$16&IF(MID('COVER SHEET'!$I$18,6,10)=\"december\",\"1231\",IF(MID('COVER SHEET'!$I$18,6,10)=\"june\",\"0630\"))","v":"20241231"},{"$f":"+'Outgoing Remittances (Volume)'!D219","v":0}]
["CMREM_11510","TG",{"$f":"+'Outgoing Remittances (Value)'!$D$5","v":"20240831"},{"$f":"+'COVER SHEET'!$D$12","v":0},11510,{"$f":"'COVER SHEET'!$D$16&IF(MID('COVER SHEET'!$I$18,6,10)=\"december\",\"1231\",IF(MID('COVER SHEET'!$I$18,6,10)=\"june\",\"0630\"))","v":"20241231"},{"$f":"+'Outgoing Remittances (Volume)'!D220","v":0}]
["CMREM_11510","TK",{"$f":"+'Outgoing Remittances (Value)'!$D$5","v":"20240831"},{"$f":"+'COVER SHEET'!$D$12","v":0},11510,{"$f":"'COVER SHEET'!$D$16&IF(MID('COVER SHEET'!$I$18,6,10)=\"december\",\"1231\",IF(MID('COVER SHEET'!$I$18,6,10)=\"june\",\"0630\"))","v":"20241231"},{"$f":"+'Outgoing Remittances (Volume)'!D221","v":0}]
["CMREM_11510","TO",{"$f":"+'Outgoing Remittances (Value)'!$D$5","v":"20240831"},{"$f":"+'COVER SHEET'!$D$12","v":0},11510,{"$f":"'COVER SHEET'!$D$16&IF(MID('COVER SHEET'!$I$18,6,10)=\"december\",\"1231\",IF(MID('COVER SHEET'!$I$18,6,10)=\"june\",\"0630\"))","v":"20241231"},{"$f":"+'Outgoing Remittances (Volume)'!D222","v":0}]
["CMREM_11510","TT",{"$f":"+'Outgoing Remittances (Value)'!$D$5","v":"20240831"},{"$f":"+'COVER SHEET'!$D$12","v":0},11510,{"$f":"'COVER SHEET'!$D$16&IF(MID('COVER SHEET'!$I$18,6,10)=\"december\",\"1231\",IF(MID('COVER SHEET'!$I$18,6,10)=\"june\",\"0630\"))","v":"20241231"},{"$f":"+'Outgoing Remittances (Volume)'!D223","v":0}]
["CMREM_11510","TN",{"$f":"+'Outgoing Remittances (Value)'!$D$5","v":"20240831"},{"$f":"+'COVER SHEET'!$D$12","v":0},11510,{"$f":"'COVER SHEET'!$D$16&IF(MID('COVER SHEET'!$I$18,6,10)=\"december\",\"1231\",IF(MID('COVER SHEET'!$I$18,6,10)=\"june\",\"0630\"))","v":"20241231"},{"$f":"+'Outgoing Remittances (Volume)'!D224","v":0}]
["CMREM_11510","TR",{"$f":"+'Outgoing Remittances (Value)'!$D$5","v":"20240831"},{"$f":"+'COVER SHEET'!$D$12","v":0},11510,{"$f":"'COVER SHEET'!$D$16&IF(MID('COVER SHEET'!$I$18,6,10)=\"december\",\"1231\",IF(MID('COVER SHEET'!$I$18,6,10)=\"june\",\"0630\"))","v":"20241231"},{"$f":"+'Outgoing Remittances (Volume)'!D225","v":0}]
["CMREM_11510","TM",{"$f":"+'Outgoing Remittances (Value)'!$D$5","v":"20240831"},{"$f":"+'COVER SHEET'!$D$12","v":0},11510,{"$f":"'COVER SHEET'!$D$16&IF(MID('COVER SHEET'!$I$18,6,10)=\"december\",\"1231\",IF(MID('COVER SHEET'!$I$18,6,10)=\"june\",\"0630\"))","v":"20241231"},{"$f":"+'Outgoing Remittances (Volume)'!D226","v":0}]
["CMREM_11510","TC",{"$f":"+'Outgoing Remittances (Value)'!$D$5","v":"20240831"},{"$f":"+'COVER SHEET'!$D$12","v":0},11510,{"$f":"'COVER SHEET'!$D$16&IF(MID('COVER SHEET'!$I$18,6,10)=\"december\",\"1231\",IF(MID('COVER SHEET'!$I$18,6,10)=\"june\",\"0630\"))","v":"20241231"},{"$f":"+'Outgoing Remittances (Volume)'!D227","v":0}]
["CMREM_11510","TV",{"$f":"+'Outgoing Remittances (Value)'!$D$5","v":"20240831"},{"$f":"+'COVER SHEET'!$D$12","v":0},11510,{"$f":"'COVER SHEET'!$D$16&IF(MID('COVER SHEET'!$I$18,6,10)=\"december\",\"1231\",IF(MID('COVER SHEET'!$I$18,6,10)=\"june\",\"0630\"))","v":"20241231"},{"$f":"+'Outgoing Remittances (Volume)'!D228","v":0}]
["CMREM_11510","UG",{"$f":"+'Outgoing Remittances (Value)'!$D$5","v":"20240831"},{"$f":"+'COVER SHEET'!$D$12","v":0},11510,{"$f":"'COVER SHEET'!$D$16&IF(MID('COVER SHEET'!$I$18,6,10)=\"december\",\"1231\",IF(MID('COVER SHEET'!$I$18,6,10)=\"june\",\"0630\"))","v":"20241231"},{"$f":"+'Outgoing Remittances (Volume)'!D229","v":0}]
["CMREM_11510","UA",{"$f":"+'Outgoing Remittances (Value)'!$D$5","v":"20240831"},{"$f":"+'COVER SHEET'!$D$12","v":0},11510,{"$f":"'COVER SHEET'!$D$16&IF(MID('COVER SHEET'!$I$18,6,10)=\"december\",\"1231\",IF(MID('COVER SHEET'!$I$18,6,10)=\"june\",\"0630\"))","v":"20241231"},{"$f":"+'Outgoing Remittances (Volume)'!D230","v":0}]
["CMREM_11510","AE",{"$f":"+'Outgoing Remittances (Value)'!$D$5","v":"20240831"},{"$f":"+'COVER SHEET'!$D$12","v":0},11510,{"$f":"'COVER SHEET'!$D$16&IF(MID('COVER SHEET'!$I$18,6,10)=\"december\",\"1231\",IF(MID('COVER SHEET'!$I$18,6,10)=\"june\",\"0630\"))","v":"20241231"},{"$f":"+'Outgoing Remittances (Volume)'!D231","v":0}]
["CMREM_11510","GB",{"$f":"+'Outgoing Remittances (Value)'!$D$5","v":"20240831"},{"$f":"+'COVER SHEET'!$D$12","v":0},11510,{"$f":"'COVER SHEET'!$D$16&IF(MID('COVER SHEET'!$I$18,6,10)=\"december\",\"1231\",IF(MID('COVER SHEET'!$I$18,6,10)=\"june\",\"0630\"))","v":"20241231"},{"$f":"+'Outgoing Remittances (Volume)'!D232","v":0}]
["CMREM_11510","US",{"$f":"+'Outgoing Remittances (Value)'!$D$5","v":"20240831"},{"$f":"+'COVER SHEET'!$D$12","v":0},11510,{"$f":"'COVER SHEET'!$D$16&IF(MID('COVER SHEET'!$I$18,6,10)=\"december\",\"1231\",IF(MID('COVER SHEET'!$I$18,6,10)=\"june\",\"0630\"))","v":"20241231"},{"$f":"+'Outgoing Remittances (Volume)'!D233","v":0}]
["CMREM_11510","UY",{"$f":"+'Outgoing Remittances (Value)'!$D$5","v":"20240831"},{"$f":"+'COVER SHEET'!$D$12","v":0},11510,{"$f":"'COVER SHEET'!$D$16&IF(MID('COVER SHEET'!$I$18,6,10)=\"december\",\"1231\",IF(MID('COVER SHEET'!$I$18,6,10)=\"june\",\"0630\"))","v":"20241231"},{"$f":"+'Outgoing Remittances (Volume)'!D234","v":0}]
["CMREM_11510","UM",{"$f":"+'Outgoing Remittances (Value)'!$D$5","v":"20240831"},{"$f":"+'COVER SHEET'!$D$12","v":0},11510,{"$f":"'COVER SHEET'!$D$16&IF(MID('COVER SHEET'!$I$18,6,10)=\"december\",\"1231\",IF(MID('COVER SHEET'!$I$18,6,10)=\"june\",\"0630\"))","v":"20241231"},{"$f":"+'Outgoing Remittances (Volume)'!D235","v":0}]
["CMREM_11510","UZ",{"$f":"+'Outgoing Remittances (Value)'!$D$5","v":"20240831"},{"$f":"+'COVER SHEET'!$D$12","v":0},11510,{"$f":"'COVER SHEET'!$D$16&IF(MID('COVER SHEET'!$I$18,6,10)=\"december\",\"1231\",IF(MID('COVER SHEET'!$I$18,6,10)=\"june\",\"0630\"))","v":"20241231"},{"$f":"+'Outgoing Remittances (Volume)'!D236","v":0}]
["CMREM_11510","VU",{"$f":"+'Outgoing Remittances (Value)'!$D$5","v":"20240831"},{"$f":"+'COVER SHEET'!$D$12","v":0},11510,{"$f":"'COVER SHEET'!$D$16&IF(MID('COVER SHEET'!$I$18,6,10)=\"december\",\"1231\",IF(MID('COVER SHEET'!$I$18,6,10)=\"june\",\"0630\"))","v":"20241231"},{"$f":"+'Outgoing Remittances (Volume)'!D237","v":0}]
["CMREM_11510","VE",{"$f":"+'Outgoing Remittances (Value)'!$D$5","v":"20240831"},{"$f":"+'COVER SHEET'!$D$12","v":0},11510,{"$f":"'COVER SHEET'!$D$16&IF(MID('COVER SHEET'!$I$18,6,10)=\"december\",\"1231\",IF(MID('COVER SHEET'!$I$18,6,10)=\"june\",\"0630\"))","v":"20241231"},{"$f":"+'Outgoing Remittances (Volume)'!D238","v":0}]
["CMREM_11510","VN",{"$f":"+'Outgoing Remittances (Value)'!$D$5","v":"20240831"},{"$f":"+'COVER SHEET'!$D$12","v":0},11510,{"$f":"'COVER SHEET'!$D$16&IF(MID('COVER SHEET'!$I$18,6,10)=\"december\",\"1231\",IF(MID('COVER SHEET'!$I$18,6,10)=\"june\",\"0630\"))","v":"20241231"},{"$f":"+'Outgoing Remittances (Volume)'!D239","v":0}]
["CMREM_11510","VI",{"$f":"+'Outgoing Remittances (Value)'!$D$5","v":"20240831"},{"$f":"+'COVER SHEET'!$D$12","v":0},11510,{"$f":"'COVER SHEET'!$D$16&IF(MID('COVER SHEET'!$I$18,6,10)=\"december\",\"1231\",IF(MID('COVER SHEET'!$I$18,6,10)=\"june\",\"0630\"))","v":"20241231"},{"$f":"+'Outgoing Remittances (Volume)'!D240","v":0}]
["CMREM_11510","WF",{"$f":"+'Outgoing Remittances (Value)'!$D$5","v":"20240831"},{"$f":"+'COVER SHEET'!$D$12","v":0},11510,{"$f":"'COVER SHEET'!$D$16&IF(MID('COVER SHEET'!$I$18,6,10)=\"december\",\"1231\",IF(MID('COVER SHEET'!$I$18,6,10)=\"june\",\"0630\"))","v":"20241231"},{"$f":"+'Outgoing Remittances (Volume)'!D241","v":0}]
["CMREM_11510","YE",{"$f":"+'Outgoing Remittances (Value)'!$D$5","v":"20240831"},{"$f":"+'COVER SHEET'!$D$12","v":0},11510,{"$f":"'COVER SHEET'!$D$16&IF(MID('COVER SHEET'!$I$18,6,10)=\"december\",\"1231\",IF(MID('COVER SHEET'!$I$18,6,10)=\"june\",\"0630\"))","v":"20241231"},{"$f":"+'Outgoing Remittances (Volume)'!D242","v":0}]
["CMREM_11510","ZM",{"$f":"+'Outgoing Remittances (Value)'!$D$5","v":"20240831"},{"$f":"+'COVER SHEET'!$D$12","v":0},11510,{"$f":"'COVER SHEET'!$D$16&IF(MID('COVER SHEET'!$I$18,6,10)=\"december\",\"1231\",IF(MID('COVER SHEET'!$I$18,6,10)=\"june\",\"0630\"))","v":"20241231"},{"$f":"+'Outgoing Remittances (Volume)'!D243","v":0}]
["CMREM_11510","ZW",{"$f":"+'Outgoing Remittances (Value)'!$D$5","v":"20240831"},{"$f":"+'COVER SHEET'!$D$12","v":0},11510,{"$f":"'COVER SHEET'!$D$16&IF(MID('COVER SHEET'!$I$18,6,10)=\"december\",\"1231\",IF(MID('COVER SHEET'!$I$18,6,10)=\"june\",\"0630\"))","v":"20241231"},{"$f":"+'Outgoing Remittances (Volume)'!D244","v":0}]
["CMREM_11520","AF",{"$f":"+'Outgoing Remittances (Value)'!$D$5","v":"20240831"},{"$f":"+'COVER SHEET'!$D$12","v":0},11520,{"$f":"'COVER SHEET'!$D$16&IF(MID('COVER SHEET'!$I$18,6,10)=\"december\",\"1231\",IF(MID('COVER SHEET'!$I$18,6,10)=\"june\",\"0630\"))","v":"20241231"},{"$f":"+'Incoming Remittances (Value)'!D9","v":0}]
["CMREM_11520","AL",{"$f":"+'Outgoing Remittances (Value)'!$D$5","v":"20240831"},{"$f":"+'COVER SHEET'!$D$12","v":0},11520,{"$f":"'COVER SHEET'!$D$16&IF(MID('COVER SHEET'!$I$18,6,10)=\"december\",\"1231\",IF(MID('COVER SHEET'!$I$18,6,10)=\"june\",\"0630\"))","v":"20241231"},{"$f":"+'Incoming Remittances (Value)'!D10","v":0}]
["CMREM_11520","DZ",{"$f":"+'Outgoing Remittances (Value)'!$D$5","v":"20240831"},{"$f":"+'COVER SHEET'!$D$12","v":0},11520,{"$f":"'COVER SHEET'!$D$16&IF(MID('COVER SHEET'!$I$18,6,10)=\"december\",\"1231\",IF(MID('COVER SHEET'!$I$18,6,10)=\"june\",\"0630\"))","v":"20241231"},{"$f":"+'Incoming Remittances (Value)'!D11","v":0}]
["CMREM_11520","AS",{"$f":"+'Outgoing Remittances (Value)'!$D$5","v":"20240831"},{"$f":"+'COVER SHEET'!$D$12","v":0},11520,{"$f":"'COVER SHEET'!$D$16&IF(MID('COVER SHEET'!$I$18,6,10)=\"december\",\"1231\",IF(MID('COVER SHEET'!$I$18,6,10)=\"june\",\"0630\"))","v":"20241231"},{"$f":"+'Incoming Remittances (Value)'!D12","v":0}]
["CMREM_11520","AD",{"$f":"+'Outgoing Remittances (Value)'!$D$5","v":"20240831"},{"$f":"+'COVER SHEET'!$D$12","v":0},11520,{"$f":"'COVER SHEET'!$D$16&IF(MID('COVER SHEET'!$I$18,6,10)=\"december\",\"1231\",IF(MID('COVER SHEET'!$I$18,6,10)=\"june\",\"0630\"))","v":"20241231"},{"$f":"+'Incoming Remittances (Value)'!D13","v":0}]
["CMREM_11520","AO",{"$f":"+'Outgoing Remittances (Value)'!$D$5","v":"20240831"},{"$f":"+'COVER SHEET'!$D$12","v":0},11520,{"$f":"'COVER SHEET'!$D$16&IF(MID('COVER SHEET'!$I$18,6,10)=\"december\",\"1231\",IF(MID('COVER SHEET'!$I$18,6,10)=\"june\",\"0630\"))","v":"20241231"},{"$f":"+'Incoming Remittances (Value)'!D14","v":0}]
["CMREM_11520","AI",{"$f":"+'Outgoing Remittances (Value)'!$D$5","v":"20240831"},{"$f":"+'COVER SHEET'!$D$12","v":0},11520,{"$f":"'COVER SHEET'!$D$16&IF(MID('COVER SHEET'!$I$18,6,10)=\"december\",\"1231\",IF(MID('COVER SHEET'!$I$18,6,10)=\"june\",\"0630\"))","v":"20241231"},{"$f":"+'Incoming Remittances (Value)'!D15","v":0}]
["CMREM_11520","AQ",{"$f":"+'Outgoing Remittances (Value)'!$D$5","v":"20240831"},{"$f":"+'COVER SHEET'!$D$12","v":0},11520,{"$f":"'COVER SHEET'!$D$16&IF(MID('COVER SHEET'!$I$18,6,10)=\"december\",\"1231\",IF(MID('COVER SHEET'!$I$18,6,10)=\"june\",\"0630\"))","v":"20241231"},{"$f":"+'Incoming Remittances (Value)'!D16","v":0}]
["CMREM_11520","AG",{"$f":"+'Outgoing Remittances (Value)'!$D$5","v":"20240831"},{"$f":"+'COVER SHEET'!$D$12","v":0},11520,{"$f":"'COVER SHEET'!$D$16&IF(MID('COVER SHEET'!$I$18,6,10)=\"december\",\"1231\",IF(MID('COVER SHEET'!$I$18,6,10)=\"june\",\"0630\"))","v":"20241231"},{"$f":"+'Incoming Remittances (Value)'!D17","v":0}]
["CMREM_11520","AR",{"$f":"+'Outgoing Remittances (Value)'!$D$5","v":"20240831"},{"$f":"+'COVER SHEET'!$D$12","v":0},11520,{"$f":"'COVER SHEET'!$D$16&IF(MID('COVER SHEET'!$I$18,6,10)=\"december\",\"1231\",IF(MID('COVER SHEET'!$I$18,6,10)=\"june\",\"0630\"))","v":"20241231"},{"$f":"+'Incoming Remittances (Value)'!D18","v":0}]
["CMREM_11520","AM",{"$f":"+'Outgoing Remittances (Value)'!$D$5","v":"20240831"},{"$f":"+'COVER SHEET'!$D$12","v":0},11520,{"$f":"'COVER SHEET'!$D$16&IF(MID('COVER SHEET'!$I$18,6,10)=\"december\",\"1231\",IF(MID('COVER SHEET'!$I$18,6,10)=\"june\",\"0630\"))","v":"20241231"},{"$f":"+'Incoming Remittances (Value)'!D19","v":0}]
["CMREM_11520","AW",{"$f":"+'Outgoing Remittances (Value)'!$D$5","v":"20240831"},{"$f":"+'COVER SHEET'!$D$12","v":0},11520,{"$f":"'COVER SHEET'!$D$16&IF(MID('COVER SHEET'!$I$18,6,10)=\"december\",\"1231\",IF(MID('COVER SHEET'!$I$18,6,10)=\"june\",\"0630\"))","v":"20241231"},{"$f":"+'Incoming Remittances (Value)'!D20","v":0}]
["CMREM_11520","AU",{"$f":"+'Outgoing Remittances (Value)'!$D$5","v":"20240831"},{"$f":"+'COVER SHEET'!$D$12","v":0},11520,{"$f":"'COVER SHEET'!$D$16&IF(MID('COVER SHEET'!$I$18,6,10)=\"december\",\"1231\",IF(MID('COVER SHEET'!$I$18,6,10)=\"june\",\"0630\"))","v":"20241231"},{"$f":"+'Incoming Remittances (Value)'!D21","v":0}]
["CMREM_11520","AT",{"$f":"+'Outgoing Remittances (Value)'!$D$5","v":"20240831"},{"$f":"+'COVER SHEET'!$D$12","v":0},11520,{"$f":"'COVER SHEET'!$D$16&IF(MID('COVER SHEET'!$I$18,6,10)=\"december\",\"1231\",IF(MID('COVER SHEET'!$I$18,6,10)=\"june\",\"0630\"))","v":"20241231"},{"$f":"+'Incoming Remittances (Value)'!D22","v":0}]
["CMREM_11520","AZ",{"$f":"+'Outgoing Remittances (Value)'!$D$5","v":"20240831"},{"$f":"+'COVER SHEET'!$D$12","v":0},11520,{"$f":"'COVER SHEET'!$D$16&IF(MID('COVER SHEET'!$I$18,6,10)=\"december\",\"1231\",IF(MID('COVER SHEET'!$I$18,6,10)=\"june\",\"0630\"))","v":"20241231"},{"$f":"+'Incoming Remittances (Value)'!D23","v":0}]
["CMREM_11520","BS",{"$f":"+'Outgoing Remittances (Value)'!$D$5","v":"20240831"},{"$f":"+'COVER SHEET'!$D$12","v":0},11520,{"$f":"'COVER SHEET'!$D$16&IF(MID('COVER SHEET'!$I$18,6,10)=\"december\",\"1231\",IF(MID('COVER SHEET'!$I$18,6,10)=\"june\",\"0630\"))","v":"20241231"},{"$f":"+'Incoming Remittances (Value)'!D24","v":0}]
["CMREM_11520","BH",{"$f":"+'Outgoing Remittances (Value)'!$D$5","v":"20240831"},{"$f":"+'COVER SHEET'!$D$12","v":0},11520,{"$f":"'COVER SHEET'!$D$16&IF(MID('COVER SHEET'!$I$18,6,10)=\"december\",\"1231\",IF(MID('COVER SHEET'!$I$18,6,10)=\"june\",\"0630\"))","v":"20241231"},{"$f":"+'Incoming Remittances (Value)'!D25","v":0}]
["CMREM_11520","BD",{"$f":"+'Outgoing Remittances (Value)'!$D$5","v":"20240831"},{"$f":"+'COVER SHEET'!$D$12","v":0},11520,{"$f":"'COVER SHEET'!$D$16&IF(MID('COVER SHEET'!$I$18,6,10)=\"december\",\"1231\",IF(MID('COVER SHEET'!$I$18,6,10)=\"june\",\"0630\"))","v":"20241231"},{"$f":"+'Incoming Remittances (Value)'!D26","v":0}]
["CMREM_11520","BB",{"$f":"+'Outgoing Remittances (Value)'!$D$5","v":"20240831"},{"$f":"+'COVER SHEET'!$D$12","v":0},11520,{"$f":"'COVER SHEET'!$D$16&IF(MID('COVER SHEET'!$I$18,6,10)=\"december\",\"1231\",IF(MID('COVER SHEET'!$I$18,6,10)=\"june\",\"0630\"))","v":"20241231"},{"$f":"+'Incoming Remittances (Value)'!D27","v":0}]
["CMREM_11520","BY",{"$f":"+'Outgoing Remittances (Value)'!$D$5","v":"20240831"},{"$f":"+'COVER SHEET'!$D$12","v":0},11520,{"$f":"'COVER SHEET'!$D$16&IF(MID('COVER SHEET'!$I$18,6,10)=\"december\",\"1231\",IF(MID('COVER SHEET'!$I$18,6,10)=\"june\",\"0630\"))","v":"20241231"},{"$f":"+'Incoming Remittances (Value)'!D28","v":0}]
["CMREM_11520","BE",{"$f":"+'Outgoing Remittances (Value)'!$D$5","v":"20240831"},{"$f":"+'COVER SHEET'!$D$12","v":0},11520,{"$f":"'COVER SHEET'!$D$16&IF(MID('COVER SHEET'!$I$18,6,10)=\"december\",\"1231\",IF(MID('COVER SHEET'!$I$18,6,10)=\"june\",\"0630\"))","v":"20241231"},{"$f":"+'Incoming Remittances (Value)'!D29","v":0}]
["CMREM_11520","BZ",{"$f":"+'Outgoing Remittances (Value)'!$D$5","v":"20240831"},{"$f":"+'COVER SHEET'!$D$12","v":0},11520,{"$f":"'COVER SHEET'!$D$16&IF(MID('COVER SHEET'!$I$18,6,10)=\"december\",\"1231\",IF(MID('COVER SHEET'!$I$18,6,10)=\"june\",\"0630\"))","v":"20241231"},{"$f":"+'Incoming Remittances (Value)'!D30","v":0}]
["CMREM_11520","BJ",{"$f":"+'Outgoing Remittances (Value)'!$D$5","v":"20240831"},{"$f":"+'COVER SHEET'!$D$12","v":0},11520,{"$f":"'COVER SHEET'!$D$16&IF(MID('COVER SHEET'!$I$18,6,10)=\"december\",\"1231\",IF(MID('COVER SHEET'!$I$18,6,10)=\"june\",\"0630\"))","v":"20241231"},{"$f":"+'Incoming Remittances (Value)'!D31","v":0}]
["CMREM_11520","BM",{"$f":"+'Outgoing Remittances (Value)'!$D$5","v":"20240831"},{"$f":"+'COVER SHEET'!$D$12","v":0},11520,{"$f":"'COVER SHEET'!$D$16&IF(MID('COVER SHEET'!$I$18,6,10)=\"december\",\"1231\",IF(MID('COVER SHEET'!$I$18,6,10)=\"june\",\"0630\"))","v":"20241231"},{"$f":"+'Incoming Remittances (Value)'!D32","v":0}]
["CMREM_11520","BQ",{"$f":"+'Outgoing Remittances (Value)'!$D$5","v":"20240831"},{"$f":"+'COVER SHEET'!$D$12","v":0},11520,{"$f":"'COVER SHEET'!$D$16&IF(MID('COVER SHEET'!$I$18,6,10)=\"december\",\"1231\",IF(MID('COVER SHEET'!$I$18,6,10)=\"june\",\"0630\"))","v":"20241231"},{"$f":"+'Incoming Remittances (Value)'!D33","v":0}]
["CMREM_11520","BT",{"$f":"+'Outgoing Remittances (Value)'!$D$5","v":"20240831"},{"$f":"+'COVER SHEET'!$D$12","v":0},11520,{"$f":"'COVER SHEET'!$D$16&IF(MID('COVER SHEET'!$I$18,6,10)=\"december\",\"1231\",IF(MID('COVER SHEET'!$I$18,6,10)=\"june\",\"0630\"))","v":"20241231"},{"$f":"+'Incoming Remittances (Value)'!D34","v":0}]
["CMREM_11520","BO",{"$f":"+'Outgoing Remittances (Value)'!$D$5","v":"20240831"},{"$f":"+'COVER SHEET'!$D$12","v":0},11520,{"$f":"'COVER SHEET'!$D$16&IF(MID('COVER SHEET'!$I$18,6,10)=\"december\",\"1231\",IF(MID('COVER SHEET'!$I$18,6,10)=\"june\",\"0630\"))","v":"20241231"},{"$f":"+'Incoming Remittances (Value)'!D35","v":0}]
["CMREM_11520","BA",{"$f":"+'Outgoing Remittances (Value)'!$D$5","v":"20240831"},{"$f":"+'COVER SHEET'!$D$12","v":0},11520,{"$f":"'COVER SHEET'!$D$16&IF(MID('COVER SHEET'!$I$18,6,10)=\"december\",\"1231\",IF(MID('COVER SHEET'!$I$18,6,10)=\"june\",\"0630\"))","v":"20241231"},{"$f":"+'Incoming Remittances (Value)'!D36","v":0}]
["CMREM_11520","BW",{"$f":"+'Outgoing Remittances (Value)'!$D$5","v":"20240831"},{"$f":"+'COVER SHEET'!$D$12","v":0},11520,{"$f":"'COVER SHEET'!$D$16&IF(MID('COVER SHEET'!$I$18,6,10)=\"december\",\"1231\",IF(MID('COVER SHEET'!$I$18,6,10)=\"june\",\"0630\"))","v":"20241231"},{"$f":"+'Incoming Remittances (Value)'!D37","v":0}]
["CMREM_11520","BV",{"$f":"+'Outgoing Remittances (Value)'!$D$5","v":"20240831"},{"$f":"+'COVER SHEET'!$D$12","v":0},11520,{"$f":"'COVER SHEET'!$D$16&IF(MID('COVER SHEET'!$I$18,6,10)=\"december\",\"1231\",IF(MID('COVER SHEET'!$I$18,6,10)=\"june\",\"0630\"))","v":"20241231"},{"$f":"+'Incoming Remittances (Value)'!D38","v":0}]
["CMREM_11520","BR",{"$f":"+'Outgoing Remittances (Value)'!$D$5","v":"20240831"},{"$f":"+'COVER SHEET'!$D$12","v":0},11520,{"$f":"'COVER SHEET'!$D$16&IF(MID('COVER SHEET'!$I$18,6,10)=\"december\",\"1231\",IF(MID('COVER SHEET'!$I$18,6,10)=\"june\",\"0630\"))","v":"20241231"},{"$f":"+'Incoming Remittances (Value)'!D39","v":0}]
["CMREM_11520","IO",{"$f":"+'Outgoing Remittances (Value)'!$D$5","v":"20240831"},{"$f":"+'COVER SHEET'!$D$12","v":0},11520,{"$f":"'COVER SHEET'!$D$16&IF(MID('COVER SHEET'!$I$18,6,10)=\"december\",\"1231\",IF(MID('COVER SHEET'!$I$18,6,10)=\"june\",\"0630\"))","v":"20241231"},{"$f":"+'Incoming Remittances (Value)'!D40","v":0}]
["CMREM_11520","VG",{"$f":"+'Outgoing Remittances (Value)'!$D$5","v":"20240831"},{"$f":"+'COVER SHEET'!$D$12","v":0},11520,{"$f":"'COVER SHEET'!$D$16&IF(MID('COVER SHEET'!$I$18,6,10)=\"december\",\"1231\",IF(MID('COVER SHEET'!$I$18,6,10)=\"june\",\"0630\"))","v":"20241231"},{"$f":"+'Incoming Remittances (Value)'!D41","v":0}]
["CMREM_11520","BN",{"$f":"+'Outgoing Remittances (Value)'!$D$5","v":"20240831"},{"$f":"+'COVER SHEET'!$D$12","v":0},11520,{"$f":"'COVER SHEET'!$D$16&IF(MID('COVER SHEET'!$I$18,6,10)=\"december\",\"1231\",IF(MID('COVER SHEET'!$I$18,6,10)=\"june\",\"0630\"))","v":"20241231"},{"$f":"+'Incoming Remittances (Value)'!D42","v":0}]
["CMREM_11520","BG",{"$f":"+'Outgoing Remittances (Value)'!$D$5","v":"20240831"},{"$f":"+'COVER SHEET'!$D$12","v":0},11520,{"$f":"'COVER SHEET'!$D$16&IF(MID('COVER SHEET'!$I$18,6,10)=\"december\",\"1231\",IF(MID('COVER SHEET'!$I$18,6,10)=\"june\",\"0630\"))","v":"20241231"},{"$f":"+'Incoming Remittances (Value)'!D43","v":0}]
["CMREM_11520","BF",{"$f":"+'Outgoing Remittances (Value)'!$D$5","v":"20240831"},{"$f":"+'COVER SHEET'!$D$12","v":0},11520,{"$f":"'COVER SHEET'!$D$16&IF(MID('COVER SHEET'!$I$18,6,10)=\"december\",\"1231\",IF(MID('COVER SHEET'!$I$18,6,10)=\"june\",\"0630\"))","v":"20241231"},{"$f":"+'Incoming Remittances (Value)'!D44","v":0}]
["CMREM_11520","BI",{"$f":"+'Outgoing Remittances (Value)'!$D$5","v":"20240831"},{"$f":"+'COVER SHEET'!$D$12","v":0},11520,{"$f":"'COVER SHEET'!$D$16&IF(MID('COVER SHEET'!$I$18,6,10)=\"december\",\"1231\",IF(MID('COVER SHEET'!$I$18,6,10)=\"june\",\"0630\"))","v":"20241231"},{"$f":"+'Incoming Remittances (Value)'!D45","v":0}]
["CMREM_11520","KH",{"$f":"+'Outgoing Remittances (Value)'!$D$5","v":"20240831"},{"$f":"+'COVER SHEET'!$D$12","v":0},11520,{"$f":"'COVER SHEET'!$D$16&IF(MID('COVER SHEET'!$I$18,6,10)=\"december\",\"1231\",IF(MID('COVER SHEET'!$I$18,6,10)=\"june\",\"0630\"))","v":"20241231"},{"$f":"+'Incoming Remittances (Value)'!D46","v":0}]
["CMREM_11520","CM",{"$f":"+'Outgoing Remittances (Value)'!$D$5","v":"20240831"},{"$f":"+'COVER SHEET'!$D$12","v":0},11520,{"$f":"'COVER SHEET'!$D$16&IF(MID('COVER SHEET'!$I$18,6,10)=\"december\",\"1231\",IF(MID('COVER SHEET'!$I$18,6,10)=\"june\",\"0630\"))","v":"20241231"},{"$f":"+'Incoming Remittances (Value)'!D47","v":0}]
["CMREM_11520","CA",{"$f":"+'Outgoing Remittances (Value)'!$D$5","v":"20240831"},{"$f":"+'COVER SHEET'!$D$12","v":0},11520,{"$f":"'COVER SHEET'!$D$16&IF(MID('COVER SHEET'!$I$18,6,10)=\"december\",\"1231\",IF(MID('COVER SHEET'!$I$18,6,10)=\"june\",\"0630\"))","v":"20241231"},{"$f":"+'Incoming Remittances (Value)'!D48","v":0}]
["CMREM_11520","CV",{"$f":"+'Outgoing Remittances (Value)'!$D$5","v":"20240831"},{"$f":"+'COVER SHEET'!$D$12","v":0},11520,{"$f":"'COVER SHEET'!$D$16&IF(MID('COVER SHEET'!$I$18,6,10)=\"december\",\"1231\",IF(MID('COVER SHEET'!$I$18,6,10)=\"june\",\"0630\"))","v":"20241231"},{"$f":"+'Incoming Remittances (Value)'!D49","v":0}]
["CMREM_11520","KY",{"$f":"+'Outgoing Remittances (Value)'!$D$5","v":"20240831"},{"$f":"+'COVER SHEET'!$D$12","v":0},11520,{"$f":"'COVER SHEET'!$D$16&IF(MID('COVER SHEET'!$I$18,6,10)=\"december\",\"1231\",IF(MID('COVER SHEET'!$I$18,6,10)=\"june\",\"0630\"))","v":"20241231"},{"$f":"+'Incoming Remittances (Value)'!D50","v":0}]
["CMREM_11520","CF",{"$f":"+'Outgoing Remittances (Value)'!$D$5","v":"20240831"},{"$f":"+'COVER SHEET'!$D$12","v":0},11520,{"$f":"'COVER SHEET'!$D$16&IF(MID('COVER SHEET'!$I$18,6,10)=\"december\",\"1231\",IF(MID('COVER SHEET'!$I$18,6,10)=\"june\",\"0630\"))","v":"20241231"},{"$f":"+'Incoming Remittances (Value)'!D51","v":0}]
["CMREM_11520","TD",{"$f":"+'Outgoing Remittances (Value)'!$D$5","v":"20240831"},{"$f":"+'COVER SHEET'!$D$12","v":0},11520,{"$f":"'COVER SHEET'!$D$16&IF(MID('COVER SHEET'!$I$18,6,10)=\"december\",\"1231\",IF(MID('COVER SHEET'!$I$18,6,10)=\"june\",\"0630\"))","v":"20241231"},{"$f":"+'Incoming Remittances (Value)'!D52","v":0}]
["CMREM_11520","CL",{"$f":"+'Outgoing Remittances (Value)'!$D$5","v":"20240831"},{"$f":"+'COVER SHEET'!$D$12","v":0},11520,{"$f":"'COVER SHEET'!$D$16&IF(MID('COVER SHEET'!$I$18,6,10)=\"december\",\"1231\",IF(MID('COVER SHEET'!$I$18,6,10)=\"june\",\"0630\"))","v":"20241231"},{"$f":"+'Incoming Remittances (Value)'!D53","v":0}]
["CMREM_11520","CN",{"$f":"+'Outgoing Remittances (Value)'!$D$5","v":"20240831"},{"$f":"+'COVER SHEET'!$D$12","v":0},11520,{"$f":"'COVER SHEET'!$D$16&IF(MID('COVER SHEET'!$I$18,6,10)=\"december\",\"1231\",IF(MID('COVER SHEET'!$I$18,6,10)=\"june\",\"0630\"))","v":"20241231"},{"$f":"+'Incoming Remittances (Value)'!D54","v":0}]
["CMREM_11520","CX",{"$f":"+'Outgoing Remittances (Value)'!$D$5","v":"20240831"},{"$f":"+'COVER SHEET'!$D$12","v":0},11520,{"$f":"'COVER SHEET'!$D$16&IF(MID('COVER SHEET'!$I$18,6,10)=\"december\",\"1231\",IF(MID('COVER SHEET'!$I$18,6,10)=\"june\",\"0630\"))","v":"20241231"},{"$f":"+'Incoming Remittances (Value)'!D55","v":0}]
["CMREM_11520","CC",{"$f":"+'Outgoing Remittances (Value)'!$D$5","v":"20240831"},{"$f":"+'COVER SHEET'!$D$12","v":0},11520,{"$f":"'COVER SHEET'!$D$16&IF(MID('COVER SHEET'!$I$18,6,10)=\"december\",\"1231\",IF(MID('COVER SHEET'!$I$18,6,10)=\"june\",\"0630\"))","v":"20241231"},{"$f":"+'Incoming Remittances (Value)'!D56","v":0}]
["CMREM_11520","CO",{"$f":"+'Outgoing Remittances (Value)'!$D$5","v":"20240831"},{"$f":"+'COVER SHEET'!$D$12","v":0},11520,{"$f":"'COVER SHEET'!$D$16&IF(MID('COVER SHEET'!$I$18,6,10)=\"december\",\"1231\",IF(MID('COVER SHEET'!$I$18,6,10)=\"june\",\"0630\"))","v":"20241231"},{"$f":"+'Incoming Remittances (Value)'!D57","v":0}]
["CMREM_11520","KM",{"$f":"+'Outgoing Remittances (Value)'!$D$5","v":"20240831"},{"$f":"+'COVER SHEET'!$D$12","v":0},11520,{"$f":"'COVER SHEET'!$D$16&IF(MID('COVER SHEET'!$I$18,6,10)=\"december\",\"1231\",IF(MID('COVER SHEET'!$I$18,6,10)=\"june\",\"0630\"))","v":"20241231"},{"$f":"+'Incoming Remittances (Value)'!D58","v":0}]
["CMREM_11520","CG",{"$f":"+'Outgoing Remittances (Value)'!$D$5","v":"20240831"},{"$f":"+'COVER SHEET'!$D$12","v":0},11520,{"$f":"'COVER SHEET'!$D$16&IF(MID('COVER SHEET'!$I$18,6,10)=\"december\",\"1231\",IF(MID('COVER SHEET'!$I$18,6,10)=\"june\",\"0630\"))","v":"20241231"},{"$f":"+'Incoming Remittances (Value)'!D59","v":0}]
["CMREM_11520","CD",{"$f":"+'Outgoing Remittances (Value)'!$D$5","v":"20240831"},{"$f":"+'COVER SHEET'!$D$12","v":0},11520,{"$f":"'COVER SHEET'!$D$16&IF(MID('COVER SHEET'!$I$18,6,10)=\"december\",\"1231\",IF(MID('COVER SHEET'!$I$18,6,10)=\"june\",\"0630\"))","v":"20241231"},{"$f":"+'Incoming Remittances (Value)'!D60","v":0}]
["CMREM_11520","CK",{"$f":"+'Outgoing Remittances (Value)'!$D$5","v":"20240831"},{"$f":"+'COVER SHEET'!$D$12","v":0},11520,{"$f":"'COVER SHEET'!$D$16&IF(MID('COVER SHEET'!$I$18,6,10)=\"december\",\"1231\",IF(MID('COVER SHEET'!$I$18,6,10)=\"june\",\"0630\"))","v":"20241231"},{"$f":"+'Incoming Remittances (Value)'!D61","v":0}]
["CMREM_11520","CR",{"$f":"+'Outgoing Remittances (Value)'!$D$5","v":"20240831"},{"$f":"+'COVER SHEET'!$D$12","v":0},11520,{"$f":"'COVER SHEET'!$D$16&IF(MID('COVER SHEET'!$I$18,6,10)=\"december\",\"1231\",IF(MID('COVER SHEET'!$I$18,6,10)=\"june\",\"0630\"))","v":"20241231"},{"$f":"+'Incoming Remittances (Value)'!D62","v":0}]
["CMREM_11520","HR",{"$f":"+'Outgoing Remittances (Value)'!$D$5","v":"20240831"},{"$f":"+'COVER SHEET'!$D$12","v":0},11520,{"$f":"'COVER SHEET'!$D$16&IF(MID('COVER SHEET'!$I$18,6,10)=\"december\",\"1231\",IF(MID('COVER SHEET'!$I$18,6,10)=\"june\",\"0630\"))","v":"20241231"},{"$f":"+'Incoming Remittances (Value)'!D63","v":0}]
["CMREM_11520","CU",{"$f":"+'Outgoing Remittances (Value)'!$D$5","v":"20240831"},{"$f":"+'COVER SHEET'!$D$12","v":0},11520,{"$f":"'COVER SHEET'!$D$16&IF(MID('COVER SHEET'!$I$18,6,10)=\"december\",\"1231\",IF(MID('COVER SHEET'!$I$18,6,10)=\"june\",\"0630\"))","v":"20241231"},{"$f":"+'Incoming Remittances (Value)'!D64","v":0}]
["CMREM_11520","CW",{"$f":"+'Outgoing Remittances (Value)'!$D$5","v":"20240831"},{"$f":"+'COVER SHEET'!$D$12","v":0},11520,{"$f":"'COVER SHEET'!$D$16&IF(MID('COVER SHEET'!$I$18,6,10)=\"december\",\"1231\",IF(MID('COVER SHEET'!$I$18,6,10)=\"june\",\"0630\"))","v":"20241231"},{"$f":"+'Incoming Remittances (Value)'!D65","v":0}]
["CMREM_11520","CY",{"$f":"+'Outgoing Remittances (Value)'!$D$5","v":"20240831"},{"$f":"+'COVER SHEET'!$D$12","v":0},11520,{"$f":"'COVER SHEET'!$D$16&IF(MID('COVER SHEET'!$I$18,6,10)=\"december\",\"1231\",IF(MID('COVER SHEET'!$I$18,6,10)=\"june\",\"0630\"))","v":"20241231"},{"$f":"+'Incoming Remittances (Value)'!D66","v":0}]
["CMREM_11520","CZ",{"$f":"+'Outgoing Remittances (Value)'!$D$5","v":"20240831"},{"$f":"+'COVER SHEET'!$D$12","v":0},11520,{"$f":"'COVER SHEET'!$D$16&IF(MID('COVER SHEET'!$I$18,6,10)=\"december\",\"1231\",IF(MID('COVER SHEET'!$I$18,6,10)=\"june\",\"0630\"))","v":"20241231"},{"$f":"+'Incoming Remittances (Value)'!D67","v":0}]
["CMREM_11520","DK",{"$f":"+'Outgoing Remittances (Value)'!$D$5","v":"20240831"},{"$f":"+'COVER SHEET'!$D$12","v":0},11520,{"$f":"'COVER SHEET'!$D$16&IF(MID('COVER SHEET'!$I$18,6,10)=\"december\",\"1231\",IF(MID('COVER SHEET'!$I$18,6,10)=\"june\",\"0630\"))","v":"20241231"},{"$f":"+'Incoming Remittances (Value)'!D68","v":0}]
["CMREM_11520","DJ",{"$f":"+'Outgoing Remittances (Value)'!$D$5","v":"20240831"},{"$f":"+'COVER SHEET'!$D$12","v":0},11520,{"$f":"'COVER SHEET'!$D$16&IF(MID('COVER SHEET'!$I$18,6,10)=\"december\",\"1231\",IF(MID('COVER SHEET'!$I$18,6,10)=\"june\",\"0630\"))","v":"20241231"},{"$f":"+'Incoming Remittances (Value)'!D69","v":0}]
["CMREM_11520","DM",{"$f":"+'Outgoing Remittances (Value)'!$D$5","v":"20240831"},{"$f":"+'COVER SHEET'!$D$12","v":0},11520,{"$f":"'COVER SHEET'!$D$16&IF(MID('COVER SHEET'!$I$18,6,10)=\"december\",\"1231\",IF(MID('COVER SHEET'!$I$18,6,10)=\"june\",\"0630\"))","v":"20241231"},{"$f":"+'Incoming Remittances (Value)'!D70","v":0}]
["CMREM_11520","DO",{"$f":"+'Outgoing Remittances (Value)'!$D$5","v":"20240831"},{"$f":"+'COVER SHEET'!$D$12","v":0},11520,{"$f":"'COVER SHEET'!$D$16&IF(MID('COVER SHEET'!$I$18,6,10)=\"december\",\"1231\",IF(MID('COVER SHEET'!$I$18,6,10)=\"june\",\"0630\"))","v":"20241231"},{"$f":"+'Incoming Remittances (Value)'!D71","v":0}]
["CMREM_11520","TL",{"$f":"+'Outgoing Remittances (Value)'!$D$5","v":"20240831"},{"$f":"+'COVER SHEET'!$D$12","v":0},11520,{"$f":"'COVER SHEET'!$D$16&IF(MID('COVER SHEET'!$I$18,6,10)=\"december\",\"1231\",IF(MID('COVER SHEET'!$I$18,6,10)=\"june\",\"0630\"))","v":"20241231"},{"$f":"+'Incoming Remittances (Value)'!D72","v":0}]
["CMREM_11520","EC",{"$f":"+'Outgoing Remittances (Value)'!$D$5","v":"20240831"},{"$f":"+'COVER SHEET'!$D$12","v":0},11520,{"$f":"'COVER SHEET'!$D$16&IF(MID('COVER SHEET'!$I$18,6,10)=\"december\",\"1231\",IF(MID('COVER SHEET'!$I$18,6,10)=\"june\",\"0630\"))","v":"20241231"},{"$f":"+'Incoming Remittances (Value)'!D73","v":0}]
["CMREM_11520","EG",{"$f":"+'Outgoing Remittances (Value)'!$D$5","v":"20240831"},{"$f":"+'COVER SHEET'!$D$12","v":0},11520,{"$f":"'COVER SHEET'!$D$16&IF(MID('COVER SHEET'!$I$18,6,10)=\"december\",\"1231\",IF(MID('COVER SHEET'!$I$18,6,10)=\"june\",\"0630\"))","v":"20241231"},{"$f":"+'Incoming Remittances (Value)'!D74","v":0}]
["CMREM_11520","SV",{"$f":"+'Outgoing Remittances (Value)'!$D$5","v":"20240831"},{"$f":"+'COVER SHEET'!$D$12","v":0},11520,{"$f":"'COVER SHEET'!$D$16&IF(MID('COVER SHEET'!$I$18,6,10)=\"december\",\"1231\",IF(MID('COVER SHEET'!$I$18,6,10)=\"june\",\"0630\"))","v":"20241231"},{"$f":"+'Incoming Remittances (Value)'!D75","v":0}]
["CMREM_11520","GQ",{"$f":"+'Outgoing Remittances (Value)'!$D$5","v":"20240831"},{"$f":"+'COVER SHEET'!$D$12","v":0},11520,{"$f":"'COVER SHEET'!$D$16&IF(MID('COVER SHEET'!$I$18,6,10)=\"december\",\"1231\",IF(MID('COVER SHEET'!$I$18,6,10)=\"june\",\"0630\"))","v":"20241231"},{"$f":"+'Incoming Remittances (Value)'!D76","v":0}]
["CMREM_11520","ER",{"$f":"+'Outgoing Remittances (Value)'!$D$5","v":"20240831"},{"$f":"+'COVER SHEET'!$D$12","v":0},11520,{"$f":"'COVER SHEET'!$D$16&IF(MID('COVER SHEET'!$I$18,6,10)=\"december\",\"1231\",IF(MID('COVER SHEET'!$I$18,6,10)=\"june\",\"0630\"))","v":"20241231"},{"$f":"+'Incoming Remittances (Value)'!D77","v":0}]
["CMREM_11520","EE",{"$f":"+'Outgoing Remittances (Value)'!$D$5","v":"20240831"},{"$f":"+'COVER SHEET'!$D$12","v":0},11520,{"$f":"'COVER SHEET'!$D$16&IF(MID('COVER SHEET'!$I$18,6,10)=\"december\",\"1231\",IF(MID('COVER SHEET'!$I$18,6,10)=\"june\",\"0630\"))","v":"20241231"},{"$f":"+'Incoming Remittances (Value)'!D78","v":0}]
["CMREM_11520","ET",{"$f":"+'Outgoing Remittances (Value)'!$D$5","v":"20240831"},{"$f":"+'COVER SHEET'!$D$12","v":0},11520,{"$f":"'COVER SHEET'!$D$16&IF(MID('COVER SHEET'!$I$18,6,10)=\"december\",\"1231\",IF(MID('COVER SHEET'!$I$18,6,10)=\"june\",\"0630\"))","v":"20241231"},{"$f":"+'Incoming Remittances (Value)'!D79","v":0}]
["CMREM_11520","FK",{"$f":"+'Outgoing Remittances (Value)'!$D$5","v":"20240831"},{"$f":"+'COVER SHEET'!$D$12","v":0},11520,{"$f":"'COVER SHEET'!$D$16&IF(MID('COVER SHEET'!$I$18,6,10)=\"december\",\"1231\",IF(MID('COVER SHEET'!$I$18,6,10)=\"june\",\"0630\"))","v":"20241231"},{"$f":"+'Incoming Remittances (Value)'!D80","v":0}]
["CMREM_11520","FO",{"$f":"+'Outgoing Remittances (Value)'!$D$5","v":"20240831"},{"$f":"+'COVER SHEET'!$D$12","v":0},11520,{"$f":"'COVER SHEET'!$D$16&IF(MID('COVER SHEET'!$I$18,6,10)=\"december\",\"1231\",IF(MID('COVER SHEET'!$I$18,6,10)=\"june\",\"0630\"))","v":"20241231"},{"$f":"+'Incoming Remittances (Value)'!D81","v":0}]
["CMREM_11520","FJ",{"$f":"+'Outgoing Remittances (Value)'!$D$5","v":"20240831"},{"$f":"+'COVER SHEET'!$D$12","v":0},11520,{"$f":"'COVER SHEET'!$D$16&IF(MID('COVER SHEET'!$I$18,6,10)=\"december\",\"1231\",IF(MID('COVER SHEET'!$I$18,6,10)=\"june\",\"0630\"))","v":"20241231"},{"$f":"+'Incoming Remittances (Value)'!D82","v":0}]
["CMREM_11520","FI",{"$f":"+'Outgoing Remittances (Value)'!$D$5","v":"20240831"},{"$f":"+'COVER SHEET'!$D$12","v":0},11520,{"$f":"'COVER SHEET'!$D$16&IF(MID('COVER SHEET'!$I$18,6,10)=\"december\",\"1231\",IF(MID('COVER SHEET'!$I$18,6,10)=\"june\",\"0630\"))","v":"20241231"},{"$f":"+'Incoming Remittances (Value)'!D83","v":0}]
["CMREM_11520","FR",{"$f":"+'Outgoing Remittances (Value)'!$D$5","v":"20240831"},{"$f":"+'COVER SHEET'!$D$12","v":0},11520,{"$f":"'COVER SHEET'!$D$16&IF(MID('COVER SHEET'!$I$18,6,10)=\"december\",\"1231\",IF(MID('COVER SHEET'!$I$18,6,10)=\"june\",\"0630\"))","v":"20241231"},{"$f":"+'Incoming Remittances (Value)'!D84","v":0}]
["CMREM_11520","PF",{"$f":"+'Outgoing Remittances (Value)'!$D$5","v":"20240831"},{"$f":"+'COVER SHEET'!$D$12","v":0},11520,{"$f":"'COVER SHEET'!$D$16&IF(MID('COVER SHEET'!$I$18,6,10)=\"december\",\"1231\",IF(MID('COVER SHEET'!$I$18,6,10)=\"june\",\"0630\"))","v":"20241231"},{"$f":"+'Incoming Remittances (Value)'!D85","v":0}]
["CMREM_11520","TF",{"$f":"+'Outgoing Remittances (Value)'!$D$5","v":"20240831"},{"$f":"+'COVER SHEET'!$D$12","v":0},11520,{"$f":"'COVER SHEET'!$D$16&IF(MID('COVER SHEET'!$I$18,6,10)=\"december\",\"1231\",IF(MID('COVER SHEET'!$I$18,6,10)=\"june\",\"0630\"))","v":"20241231"},{"$f":"+'Incoming Remittances (Value)'!D86","v":0}]
["CMREM_11520","GA",{"$f":"+'Outgoing Remittances (Value)'!$D$5","v":"20240831"},{"$f":"+'COVER SHEET'!$D$12","v":0},11520,{"$f":"'COVER SHEET'!$D$16&IF(MID('COVER SHEET'!$I$18,6,10)=\"december\",\"1231\",IF(MID('COVER SHEET'!$I$18,6,10)=\"june\",\"0630\"))","v":"20241231"},{"$f":"+'Incoming Remittances (Value)'!D87","v":0}]
["CMREM_11520","GM",{"$f":"+'Outgoing Remittances (Value)'!$D$5","v":"20240831"},{"$f":"+'COVER SHEET'!$D$12","v":0},11520,{"$f":"'COVER SHEET'!$D$16&IF(MID('COVER SHEET'!$I$18,6,10)=\"december\",\"1231\",IF(MID('COVER SHEET'!$I$18,6,10)=\"june\",\"0630\"))","v":"20241231"},{"$f":"+'Incoming Remittances (Value)'!D88","v":0}]
["CMREM_11520","GE",{"$f":"+'Outgoing Remittances (Value)'!$D$5","v":"20240831"},{"$f":"+'COVER SHEET'!$D$12","v":0},11520,{"$f":"'COVER SHEET'!$D$16&IF(MID('COVER SHEET'!$I$18,6,10)=\"december\",\"1231\",IF(MID('COVER SHEET'!$I$18,6,10)=\"june\",\"0630\"))","v":"20241231"},{"$f":"+'Incoming Remittances (Value)'!D89","v":0}]
["CMREM_11520","DE",{"$f":"+'Outgoing Remittances (Value)'!$D$5","v":"20240831"},{"$f":"+'COVER SHEET'!$D$12","v":0},11520,{"$f":"'COVER SHEET'!$D$16&IF(MID('COVER SHEET'!$I$18,6,10)=\"december\",\"1231\",IF(MID('COVER SHEET'!$I$18,6,10)=\"june\",\"0630\"))","v":"20241231"},{"$f":"+'Incoming Remittances (Value)'!D90","v":0}]
["CMREM_11520","GH",{"$f":"+'Outgoing Remittances (Value)'!$D$5","v":"20240831"},{"$f":"+'COVER SHEET'!$D$12","v":0},11520,{"$f":"'COVER SHEET'!$D$16&IF(MID('COVER SHEET'!$I$18,6,10)=\"december\",\"1231\",IF(MID('COVER SHEET'!$I$18,6,10)=\"june\",\"0630\"))","v":"20241231"},{"$f":"+'Incoming Remittances (Value)'!D91","v":0}]
["CMREM_11520","GI",{"$f":"+'Outgoing Remittances (Value)'!$D$5","v":"20240831"},{"$f":"+'COVER SHEET'!$D$12","v":0},11520,{"$f":"'COVER SHEET'!$D$16&IF(MID('COVER SHEET'!$I$18,6,10)=\"december\",\"1231\",IF(MID('COVER SHEET'!$I$18,6,10)=\"june\",\"0630\"))","v":"20241231"},{"$f":"+'Incoming Remittances (Value)'!D92","v":0}]
["CMREM_11520","GR",{"$f":"+'Outgoing Remittances (Value)'!$D$5","v":"20240831"},{"$f":"+'COVER SHEET'!$D$12","v":0},11520,{"$f":"'COVER SHEET'!$D$16&IF(MID('COVER SHEET'!$I$18,6,10)=\"december\",\"1231\",IF(MID('COVER SHEET'!$I$18,6,10)=\"june\",\"0630\"))","v":"20241231"},{"$f":"+'Incoming Remittances (Value)'!D93","v":0}]
["CMREM_11520","GL",{"$f":"+'Outgoing Remittances (Value)'!$D$5","v":"20240831"},{"$f":"+'COVER SHEET'!$D$12","v":0},11520,{"$f":"'COVER SHEET'!$D$16&IF(MID('COVER SHEET'!$I$18,6,10)=\"december\",\"1231\",IF(MID('COVER SHEET'!$I$18,6,10)=\"june\",\"0630\"))","v":"20241231"},{"$f":"+'Incoming Remittances (Value)'!D94","v":0}]
["CMREM_11520","GD",{"$f":"+'Outgoing Remittances (Value)'!$D$5","v":"20240831"},{"$f":"+'COVER SHEET'!$D$12","v":0},11520,{"$f":"'COVER SHEET'!$D$16&IF(MID('COVER SHEET'!$I$18,6,10)=\"december\",\"1231\",IF(MID('COVER SHEET'!$I$18,6,10)=\"june\",\"0630\"))","v":"20241231"},{"$f":"+'Incoming Remittances (Value)'!D95","v":0}]
["CMREM_11520","GU",{"$f":"+'Outgoing Remittances (Value)'!$D$5","v":"20240831"},{"$f":"+'COVER SHEET'!$D$12","v":0},11520,{"$f":"'COVER SHEET'!$D$16&IF(MID('COVER SHEET'!$I$18,6,10)=\"december\",\"1231\",IF(MID('COVER SHEET'!$I$18,6,10)=\"june\",\"0630\"))","v":"20241231"},{"$f":"+'Incoming Remittances (Value)'!D96","v":0}]
["CMREM_11520","GT",{"$f":"+'Outgoing Remittances (Value)'!$D$5","v":"20240831"},{"$f":"+'COVER SHEET'!$D$12","v":0},11520,{"$f":"'COVER SHEET'!$D$16&IF(MID('COVER SHEET'!$I$18,6,10)=\"december\",\"1231\",IF(MID('COVER SHEET'!$I$18,6,10)=\"june\",\"0630\"))","v":"20241231"},{"$f":"+'Incoming Remittances (Value)'!D97","v":0}]
["CMREM_11520","GG",{"$f":"+'Outgoing Remittances (Value)'!$D$5","v":"20240831"},{"$f":"+'COVER SHEET'!$D$12","v":0},11520,{"$f":"'COVER SHEET'!$D$16&IF(MID('COVER SHEET'!$I$18,6,10)=\"december\",\"1231\",IF(MID('COVER SHEET'!$I$18,6,10)=\"june\",\"0630\"))","v":"20241231"},{"$f":"+'Incoming Remittances (Value)'!D98","v":0}]
["CMREM_11520","GN",{"$f":"+'Outgoing Remittances (Value)'!$D$5","v":"20240831"},{"$f":"+'COVER SHEET'!$D$12","v":0},11520,{"$f":"'COVER SHEET'!$D$16&IF(MID('COVER SHEET'!$I$18,6,10)=\"december\",\"1231\",IF(MID('COVER SHEET'!$I$18,6,10)=\"june\",\"0630\"))","v":"20241231"},{"$f":"+'Incoming Remittances (Value)'!D99","v":0}]
["CMREM_11520","GW",{"$f":"+'Outgoing Remittances (Value)'!$D$5","v":"20240831"},{"$f":"+'COVER SHEET'!$D$12","v":0},11520,{"$f":"'COVER SHEET'!$D$16&IF(MID('COVER SHEET'!$I$18,6,10)=\"december\",\"1231\",IF(MID('COVER SHEET'!$I$18,6,10)=\"june\",\"0630\"))","v":"20241231"},{"$f":"+'Incoming Remittances (Value)'!D100","v":0}]
["CMREM_11520","GY",{"$f":"+'Outgoing Remittances (Value)'!$D$5","v":"20240831"},{"$f":"+'COVER SHEET'!$D$12","v":0},11520,{"$f":"'COVER SHEET'!$D$16&IF(MID('COVER SHEET'!$I$18,6,10)=\"december\",\"1231\",IF(MID('COVER SHEET'!$I$18,6,10)=\"june\",\"0630\"))","v":"20241231"},{"$f":"+'Incoming Remittances (Value)'!D101","v":0}]
["CMREM_11520","HT",{"$f":"+'Outgoing Remittances (Value)'!$D$5","v":"20240831"},{"$f":"+'COVER SHEET'!$D$12","v":0},11520,{"$f":"'COVER SHEET'!$D$16&IF(MID('COVER SHEET'!$I$18,6,10)=\"december\",\"1231\",IF(MID('COVER SHEET'!$I$18,6,10)=\"june\",\"0630\"))","v":"20241231"},{"$f":"+'Incoming Remittances (Value)'!D102","v":0}]
["CMREM_11520","HM",{"$f":"+'Outgoing Remittances (Value)'!$D$5","v":"20240831"},{"$f":"+'COVER SHEET'!$D$12","v":0},11520,{"$f":"'COVER SHEET'!$D$16&IF(MID('COVER SHEET'!$I$18,6,10)=\"december\",\"1231\",IF(MID('COVER SHEET'!$I$18,6,10)=\"june\",\"0630\"))","v":"20241231"},{"$f":"+'Incoming Remittances (Value)'!D103","v":0}]
["CMREM_11520","VA",{"$f":"+'Outgoing Remittances (Value)'!$D$5","v":"20240831"},{"$f":"+'COVER SHEET'!$D$12","v":0},11520,{"$f":"'COVER SHEET'!$D$16&IF(MID('COVER SHEET'!$I$18,6,10)=\"december\",\"1231\",IF(MID('COVER SHEET'!$I$18,6,10)=\"june\",\"0630\"))","v":"20241231"},{"$f":"+'Incoming Remittances (Value)'!D104","v":0}]
["CMREM_11520","HN",{"$f":"+'Outgoing Remittances (Value)'!$D$5","v":"20240831"},{"$f":"+'COVER SHEET'!$D$12","v":0},11520,{"$f":"'COVER SHEET'!$D$16&IF(MID('COVER SHEET'!$I$18,6,10)=\"december\",\"1231\",IF(MID('COVER SHEET'!$I$18,6,10)=\"june\",\"0630\"))","v":"20241231"},{"$f":"+'Incoming Remittances (Value)'!D105","v":0}]
["CMREM_11520","HK",{"$f":"+'Outgoing Remittances (Value)'!$D$5","v":"20240831"},{"$f":"+'COVER SHEET'!$D$12","v":0},11520,{"$f":"'COVER SHEET'!$D$16&IF(MID('COVER SHEET'!$I$18,6,10)=\"december\",\"1231\",IF(MID('COVER SHEET'!$I$18,6,10)=\"june\",\"0630\"))","v":"20241231"},{"$f":"+'Incoming Remittances (Value)'!D106","v":0}]
["CMREM_11520","HU",{"$f":"+'Outgoing Remittances (Value)'!$D$5","v":"20240831"},{"$f":"+'COVER SHEET'!$D$12","v":0},11520,{"$f":"'COVER SHEET'!$D$16&IF(MID('COVER SHEET'!$I$18,6,10)=\"december\",\"1231\",IF(MID('COVER SHEET'!$I$18,6,10)=\"june\",\"0630\"))","v":"20241231"},{"$f":"+'Incoming Remittances (Value)'!D107","v":0}]
["CMREM_11520","IS",{"$f":"+'Outgoing Remittances (Value)'!$D$5","v":"20240831"},{"$f":"+'COVER SHEET'!$D$12","v":0},11520,{"$f":"'COVER SHEET'!$D$16&IF(MID('COVER SHEET'!$I$18,6,10)=\"december\",\"1231\",IF(MID('COVER SHEET'!$I$18,6,10)=\"june\",\"0630\"))","v":"20241231"},{"$f":"+'Incoming Remittances (Value)'!D108","v":0}]
["CMREM_11520","IN",{"$f":"+'Outgoing Remittances (Value)'!$D$5","v":"20240831"},{"$f":"+'COVER SHEET'!$D$12","v":0},11520,{"$f":"'COVER SHEET'!$D$16&IF(MID('COVER SHEET'!$I$18,6,10)=\"december\",\"1231\",IF(MID('COVER SHEET'!$I$18,6,10)=\"june\",\"0630\"))","v":"20241231"},{"$f":"+'Incoming Remittances (Value)'!D109","v":0}]
["CMREM_11520","ID",{"$f":"+'Outgoing Remittances (Value)'!$D$5","v":"20240831"},{"$f":"+'COVER SHEET'!$D$12","v":0},11520,{"$f":"'COVER SHEET'!$D$16&IF(MID('COVER SHEET'!$I$18,6,10)=\"december\",\"1231\",IF(MID('COVER SHEET'!$I$18,6,10)=\"june\",\"0630\"))","v":"20241231"},{"$f":"+'Incoming Remittances (Value)'!D110","v":0}]
["CMREM_11520","IR",{"$f":"+'Outgoing Remittances (Value)'!$D$5","v":"20240831"},{"$f":"+'COVER SHEET'!$D$12","v":0},11520,{"$f":"'COVER SHEET'!$D$16&IF(MID('COVER SHEET'!$I$18,6,10)=\"december\",\"1231\",IF(MID('COVER SHEET'!$I$18,6,10)=\"june\",\"0630\"))","v":"20241231"},{"$f":"+'Incoming Remittances (Value)'!D111","v":0}]
["CMREM_11520","IQ",{"$f":"+'Outgoing Remittances (Value)'!$D$5","v":"20240831"},{"$f":"+'COVER SHEET'!$D$12","v":0},11520,{"$f":"'COVER SHEET'!$D$16&IF(MID('COVER SHEET'!$I$18,6,10)=\"december\",\"1231\",IF(MID('COVER SHEET'!$I$18,6,10)=\"june\",\"0630\"))","v":"20241231"},{"$f":"+'Incoming Remittances (Value)'!D112","v":0}]
["CMREM_11520","IE",{"$f":"+'Outgoing Remittances (Value)'!$D$5","v":"20240831"},{"$f":"+'COVER SHEET'!$D$12","v":0},11520,{"$f":"'COVER SHEET'!$D$16&IF(MID('COVER SHEET'!$I$18,6,10)=\"december\",\"1231\",IF(MID('COVER SHEET'!$I$18,6,10)=\"june\",\"0630\"))","v":"20241231"},{"$f":"+'Incoming Remittances (Value)'!D113","v":0}]
["CMREM_11520","IM",{"$f":"+'Outgoing Remittances (Value)'!$D$5","v":"20240831"},{"$f":"+'COVER SHEET'!$D$12","v":0},11520,{"$f":"'COVER SHEET'!$D$16&IF(MID('COVER SHEET'!$I$18,6,10)=\"december\",\"1231\",IF(MID('COVER SHEET'!$I$18,6,10)=\"june\",\"0630\"))","v":"20241231"},{"$f":"+'Incoming Remittances (Value)'!D114","v":0}]
["CMREM_11520","IL",{"$f":"+'Outgoing Remittances (Value)'!$D$5","v":"20240831"},{"$f":"+'COVER SHEET'!$D$12","v":0},11520,{"$f":"'COVER SHEET'!$D$16&IF(MID('COVER SHEET'!$I$18,6,10)=\"december\",\"1231\",IF(MID('COVER SHEET'!$I$18,6,10)=\"june\",\"0630\"))","v":"20241231"},{"$f":"+'Incoming Remittances (Value)'!D115","v":0}]
["CMREM_11520","IT",{"$f":"+'Outgoing Remittances (Value)'!$D$5","v":"20240831"},{"$f":"+'COVER SHEET'!$D$12","v":0},11520,{"$f":"'COVER SHEET'!$D$16&IF(MID('COVER SHEET'!$I$18,6,10)=\"december\",\"1231\",IF(MID('COVER SHEET'!$I$18,6,10)=\"june\",\"0630\"))","v":"20241231"},{"$f":"+'Incoming Remittances (Value)'!D116","v":0}]
["CMREM_11520","CI",{"$f":"+'Outgoing Remittances (Value)'!$D$5","v":"20240831"},{"$f":"+'COVER SHEET'!$D$12","v":0},11520,{"$f":"'COVER SHEET'!$D$16&IF(MID('COVER SHEET'!$I$18,6,10)=\"december\",\"1231\",IF(MID('COVER SHEET'!$I$18,6,10)=\"june\",\"0630\"))","v":"20241231"},{"$f":"+'Incoming Remittances (Value)'!D117","v":0}]
["CMREM_11520","JM",{"$f":"+'Outgoing Remittances (Value)'!$D$5","v":"20240831"},{"$f":"+'COVER SHEET'!$D$12","v":0},11520,{"$f":"'COVER SHEET'!$D$16&IF(MID('COVER SHEET'!$I$18,6,10)=\"december\",\"1231\",IF(MID('COVER SHEET'!$I$18,6,10)=\"june\",\"0630\"))","v":"20241231"},{"$f":"+'Incoming Remittances (Value)'!D118","v":0}]
["CMREM_11520","JP",{"$f":"+'Outgoing Remittances (Value)'!$D$5","v":"20240831"},{"$f":"+'COVER SHEET'!$D$12","v":0},11520,{"$f":"'COVER SHEET'!$D$16&IF(MID('COVER SHEET'!$I$18,6,10)=\"december\",\"1231\",IF(MID('COVER SHEET'!$I$18,6,10)=\"june\",\"0630\"))","v":"20241231"},{"$f":"+'Incoming Remittances (Value)'!D119","v":0}]
["CMREM_11520","JE",{"$f":"+'Outgoing Remittances (Value)'!$D$5","v":"20240831"},{"$f":"+'COVER SHEET'!$D$12","v":0},11520,{"$f":"'COVER SHEET'!$D$16&IF(MID('COVER SHEET'!$I$18,6,10)=\"december\",\"1231\",IF(MID('COVER SHEET'!$I$18,6,10)=\"june\",\"0630\"))","v":"20241231"},{"$f":"+'Incoming Remittances (Value)'!D120","v":0}]
["CMREM_11520","JO",{"$f":"+'Outgoing Remittances (Value)'!$D$5","v":"20240831"},{"$f":"+'COVER SHEET'!$D$12","v":0},11520,{"$f":"'COVER SHEET'!$D$16&IF(MID('COVER SHEET'!$I$18,6,10)=\"december\",\"1231\",IF(MID('COVER SHEET'!$I$18,6,10)=\"june\",\"0630\"))","v":"20241231"},{"$f":"+'Incoming Remittances (Value)'!D121","v":0}]
["CMREM_11520","KZ",{"$f":"+'Outgoing Remittances (Value)'!$D$5","v":"20240831"},{"$f":"+'COVER SHEET'!$D$12","v":0},11520,{"$f":"'COVER SHEET'!$D$16&IF(MID('COVER SHEET'!$I$18,6,10)=\"december\",\"1231\",IF(MID('COVER SHEET'!$I$18,6,10)=\"june\",\"0630\"))","v":"20241231"},{"$f":"+'Incoming Remittances (Value)'!D122","v":0}]
["CMREM_11520","KE",{"$f":"+'Outgoing Remittances (Value)'!$D$5","v":"20240831"},{"$f":"+'COVER SHEET'!$D$12","v":0},11520,{"$f":"'COVER SHEET'!$D$16&IF(MID('COVER SHEET'!$I$18,6,10)=\"december\",\"1231\",IF(MID('COVER SHEET'!$I$18,6,10)=\"june\",\"0630\"))","v":"20241231"},{"$f":"+'Incoming Remittances (Value)'!D123","v":0}]
["CMREM_11520","KI",{"$f":"+'Outgoing Remittances (Value)'!$D$5","v":"20240831"},{"$f":"+'COVER SHEET'!$D$12","v":0},11520,{"$f":"'COVER SHEET'!$D$16&IF(MID('COVER SHEET'!$I$18,6,10)=\"december\",\"1231\",IF(MID('COVER SHEET'!$I$18,6,10)=\"june\",\"0630\"))","v":"20241231"},{"$f":"+'Incoming Remittances (Value)'!D124","v":0}]
["CMREM_11520","KP",{"$f":"+'Outgoing Remittances (Value)'!$D$5","v":"20240831"},{"$f":"+'COVER SHEET'!$D$12","v":0},11520,{"$f":"'COVER SHEET'!$D$16&IF(MID('COVER SHEET'!$I$18,6,10)=\"december\",\"1231\",IF(MID('COVER SHEET'!$I$18,6,10)=\"june\",\"0630\"))","v":"20241231"},{"$f":"+'Incoming Remittances (Value)'!D125","v":0}]
["CMREM_11520","KR",{"$f":"+'Outgoing Remittances (Value)'!$D$5","v":"20240831"},{"$f":"+'COVER SHEET'!$D$12","v":0},11520,{"$f":"'COVER SHEET'!$D$16&IF(MID('COVER SHEET'!$I$18,6,10)=\"december\",\"1231\",IF(MID('COVER SHEET'!$I$18,6,10)=\"june\",\"0630\"))","v":"20241231"},{"$f":"+'Incoming Remittances (Value)'!D126","v":0}]
["CMREM_11520","XK",{"$f":"+'Outgoing Remittances (Value)'!$D$5","v":"20240831"},{"$f":"+'COVER SHEET'!$D$12","v":0},11520,{"$f":"'COVER SHEET'!$D$16&IF(MID('COVER SHEET'!$I$18,6,10)=\"december\",\"1231\",IF(MID('COVER SHEET'!$I$18,6,10)=\"june\",\"0630\"))","v":"20241231"},{"$f":"+'Incoming Remittances (Value)'!D127","v":0}]
["CMREM_11520","KW",{"$f":"+'Outgoing Remittances (Value)'!$D$5","v":"20240831"},{"$f":"+'COVER SHEET'!$D$12","v":0},11520,{"$f":"'COVER SHEET'!$D$16&IF(MID('COVER SHEET'!$I$18,6,10)=\"december\",\"1231\",IF(MID('COVER SHEET'!$I$18,6,10)=\"june\",\"0630\"))","v":"20241231"},{"$f":"+'Incoming Remittances (Value)'!D128","v":0}]
["CMREM_11520","KG",{"$f":"+'Outgoing Remittances (Value)'!$D$5","v":"20240831"},{"$f":"+'COVER SHEET'!$D$12","v":0},11520,{"$f":"'COVER SHEET'!$D$16&IF(MID('COVER SHEET'!$I$18,6,10)=\"december\",\"1231\",IF(MID('COVER SHEET'!$I$18,6,10)=\"june\",\"0630\"))","v":"20241231"},{"$f":"+'Incoming Remittances (Value)'!D129","v":0}]
["CMREM_11520","LA",{"$f":"+'Outgoing Remittances (Value)'!$D$5","v":"20240831"},{"$f":"+'COVER SHEET'!$D$12","v":0},11520,{"$f":"'COVER SHEET'!$D$16&IF(MID('COVER SHEET'!$I$18,6,10)=\"december\",\"1231\",IF(MID('COVER SHEET'!$I$18,6,10)=\"june\",\"0630\"))","v":"20241231"},{"$f":"+'Incoming Remittances (Value)'!D130","v":0}]
["CMREM_11520","LV",{"$f":"+'Outgoing Remittances (Value)'!$D$5","v":"20240831"},{"$f":"+'COVER SHEET'!$D$12","v":0},11520,{"$f":"'COVER SHEET'!$D$16&IF(MID('COVER SHEET'!$I$18,6,10)=\"december\",\"1231\",IF(MID('COVER SHEET'!$I$18,6,10)=\"june\",\"0630\"))","v":"20241231"},{"$f":"+'Incoming Remittances (Value)'!D131","v":0}]
["CMREM_11520","LB",{"$f":"+'Outgoing Remittances (Value)'!$D$5","v":"20240831"},{"$f":"+'COVER SHEET'!$D$12","v":0},11520,{"$f":"'COVER SHEET'!$D$16&IF(MID('COVER SHEET'!$I$18,6,10)=\"december\",\"1231\",IF(MID('COVER SHEET'!$I$18,6,10)=\"june\",\"0630\"))","v":"20241231"},{"$f":"+'Incoming Remittances (Value)'!D132","v":0}]
["CMREM_11520","LS",{"$f":"+'Outgoing Remittances (Value)'!$D$5","v":"20240831"},{"$f":"+'COVER SHEET'!$D$12","v":0},11520,{"$f":"'COVER SHEET'!$D$16&IF(MID('COVER SHEET'!$I$18,6,10)=\"december\",\"1231\",IF(MID('COVER SHEET'!$I$18,6,10)=\"june\",\"0630\"))","v":"20241231"},{"$f":"+'Incoming Remittances (Value)'!D133","v":0}]
["CMREM_11520","LR",{"$f":"+'Outgoing Remittances (Value)'!$D$5","v":"20240831"},{"$f":"+'COVER SHEET'!$D$12","v":0},11520,{"$f":"'COVER SHEET'!$D$16&IF(MID('COVER SHEET'!$I$18,6,10)=\"december\",\"1231\",IF(MID('COVER SHEET'!$I$18,6,10)=\"june\",\"0630\"))","v":"20241231"},{"$f":"+'Incoming Remittances (Value)'!D134","v":0}]
["CMREM_11520","LY",{"$f":"+'Outgoing Remittances (Value)'!$D$5","v":"20240831"},{"$f":"+'COVER SHEET'!$D$12","v":0},11520,{"$f":"'COVER SHEET'!$D$16&IF(MID('COVER SHEET'!$I$18,6,10)=\"december\",\"1231\",IF(MID('COVER SHEET'!$I$18,6,10)=\"june\",\"0630\"))","v":"20241231"},{"$f":"+'Incoming Remittances (Value)'!D135","v":0}]
["CMREM_11520","LI",{"$f":"+'Outgoing Remittances (Value)'!$D$5","v":"20240831"},{"$f":"+'COVER SHEET'!$D$12","v":0},11520,{"$f":"'COVER SHEET'!$D$16&IF(MID('COVER SHEET'!$I$18,6,10)=\"december\",\"1231\",IF(MID('COVER SHEET'!$I$18,6,10)=\"june\",\"0630\"))","v":"20241231"},{"$f":"+'Incoming Remittances (Value)'!D136","v":0}]
["CMREM_11520","LT",{"$f":"+'Outgoing Remittances (Value)'!$D$5","v":"20240831"},{"$f":"+'COVER SHEET'!$D$12","v":0},11520,{"$f":"'COVER SHEET'!$D$16&IF(MID('COVER SHEET'!$I$18,6,10)=\"december\",\"1231\",IF(MID('COVER SHEET'!$I$18,6,10)=\"june\",\"0630\"))","v":"20241231"},{"$f":"+'Incoming Remittances (Value)'!D137","v":0}]
["CMREM_11520","LU",{"$f":"+'Outgoing Remittances (Value)'!$D$5","v":"20240831"},{"$f":"+'COVER SHEET'!$D$12","v":0},11520,{"$f":"'COVER SHEET'!$D$16&IF(MID('COVER SHEET'!$I$18,6,10)=\"december\",\"1231\",IF(MID('COVER SHEET'!$I$18,6,10)=\"june\",\"0630\"))","v":"20241231"},{"$f":"+'Incoming Remittances (Value)'!D138","v":0}]
["CMREM_11520","MO",{"$f":"+'Outgoing Remittances (Value)'!$D$5","v":"20240831"},{"$f":"+'COVER SHEET'!$D$12","v":0},11520,{"$f":"'COVER SHEET'!$D$16&IF(MID('COVER SHEET'!$I$18,6,10)=\"december\",\"1231\",IF(MID('COVER SHEET'!$I$18,6,10)=\"june\",\"0630\"))","v":"20241231"},{"$f":"+'Incoming Remittances (Value)'!D139","v":0}]
["CMREM_11520","MK",{"$f":"+'Outgoing Remittances (Value)'!$D$5","v":"20240831"},{"$f":"+'COVER SHEET'!$D$12","v":0},11520,{"$f":"'COVER SHEET'!$D$16&IF(MID('COVER SHEET'!$I$18,6,10)=\"december\",\"1231\",IF(MID('COVER SHEET'!$I$18,6,10)=\"june\",\"0630\"))","v":"20241231"},{"$f":"+'Incoming Remittances (Value)'!D140","v":0}]
["CMREM_11520","MG",{"$f":"+'Outgoing Remittances (Value)'!$D$5","v":"20240831"},{"$f":"+'COVER SHEET'!$D$12","v":0},11520,{"$f":"'COVER SHEET'!$D$16&IF(MID('COVER SHEET'!$I$18,6,10)=\"december\",\"1231\",IF(MID('COVER SHEET'!$I$18,6,10)=\"june\",\"0630\"))","v":"20241231"},{"$f":"+'Incoming Remittances (Value)'!D141","v":0}]
["CMREM_11520","MW",{"$f":"+'Outgoing Remittances (Value)'!$D$5","v":"20240831"},{"$f":"+'COVER SHEET'!$D$12","v":0},11520,{"$f":"'COVER SHEET'!$D$16&IF(MID('COVER SHEET'!$I$18,6,10)=\"december\",\"1231\",IF(MID('COVER SHEET'!$I$18,6,10)=\"june\",\"0630\"))","v":"20241231"},{"$f":"+'Incoming Remittances (Value)'!D142","v":0}]
["CMREM_11520","MY",{"$f":"+'Outgoing Remittances (Value)'!$D$5","v":"20240831"},{"$f":"+'COVER SHEET'!$D$12","v":0},11520,{"$f":"'COVER SHEET'!$D$16&IF(MID('COVER SHEET'!$I$18,6,10)=\"december\",\"1231\",IF(MID('COVER SHEET'!$I$18,6,10)=\"june\",\"0630\"))","v":"20241231"},{"$f":"+'Incoming Remittances (Value)'!D143","v":0}]
["CMREM_11520","MV",{"$f":"+'Outgoing Remittances (Value)'!$D$5","v":"20240831"},{"$f":"+'COVER SHEET'!$D$12","v":0},11520,{"$f":"'COVER SHEET'!$D$16&IF(MID('COVER SHEET'!$I$18,6,10)=\"december\",\"1231\",IF(MID('COVER SHEET'!$I$18,6,10)=\"june\",\"0630\"))","v":"20241231"},{"$f":"+'Incoming Remittances (Value)'!D144","v":0}]
["CMREM_11520","ML",{"$f":"+'Outgoing Remittances (Value)'!$D$5","v":"20240831"},{"$f":"+'COVER SHEET'!$D$12","v":0},11520,{"$f":"'COVER SHEET'!$D$16&IF(MID('COVER SHEET'!$I$18,6,10)=\"december\",\"1231\",IF(MID('COVER SHEET'!$I$18,6,10)=\"june\",\"0630\"))","v":"20241231"},{"$f":"+'Incoming Remittances (Value)'!D145","v":0}]
["CMREM_11520","MH",{"$f":"+'Outgoing Remittances (Value)'!$D$5","v":"20240831"},{"$f":"+'COVER SHEET'!$D$12","v":0},11520,{"$f":"'COVER SHEET'!$D$16&IF(MID('COVER SHEET'!$I$18,6,10)=\"december\",\"1231\",IF(MID('COVER SHEET'!$I$18,6,10)=\"june\",\"0630\"))","v":"20241231"},{"$f":"+'Incoming Remittances (Value)'!D146","v":0}]
["CMREM_11520","MR",{"$f":"+'Outgoing Remittances (Value)'!$D$5","v":"20240831"},{"$f":"+'COVER SHEET'!$D$12","v":0},11520,{"$f":"'COVER SHEET'!$D$16&IF(MID('COVER SHEET'!$I$18,6,10)=\"december\",\"1231\",IF(MID('COVER SHEET'!$I$18,6,10)=\"june\",\"0630\"))","v":"20241231"},{"$f":"+'Incoming Remittances (Value)'!D147","v":0}]
["CMREM_11520","MU",{"$f":"+'Outgoing Remittances (Value)'!$D$5","v":"20240831"},{"$f":"+'COVER SHEET'!$D$12","v":0},11520,{"$f":"'COVER SHEET'!$D$16&IF(MID('COVER SHEET'!$I$18,6,10)=\"december\",\"1231\",IF(MID('COVER SHEET'!$I$18,6,10)=\"june\",\"0630\"))","v":"20241231"},{"$f":"+'Incoming Remittances (Value)'!D148","v":0}]
["CMREM_11520","MX",{"$f":"+'Outgoing Remittances (Value)'!$D$5","v":"20240831"},{"$f":"+'COVER SHEET'!$D$12","v":0},11520,{"$f":"'COVER SHEET'!$D$16&IF(MID('COVER SHEET'!$I$18,6,10)=\"december\",\"1231\",IF(MID('COVER SHEET'!$I$18,6,10)=\"june\",\"0630\"))","v":"20241231"},{"$f":"+'Incoming Remittances (Value)'!D149","v":0}]
["CMREM_11520","FM",{"$f":"+'Outgoing Remittances (Value)'!$D$5","v":"20240831"},{"$f":"+'COVER SHEET'!$D$12","v":0},11520,{"$f":"'COVER SHEET'!$D$16&IF(MID('COVER SHEET'!$I$18,6,10)=\"december\",\"1231\",IF(MID('COVER SHEET'!$I$18,6,10)=\"june\",\"0630\"))","v":"20241231"},{"$f":"+'Incoming Remittances (Value)'!D150","v":0}]
["CMREM_11520","MD",{"$f":"+'Outgoing Remittances (Value)'!$D$5","v":"20240831"},{"$f":"+'COVER SHEET'!$D$12","v":0},11520,{"$f":"'COVER SHEET'!$D$16&IF(MID('COVER SHEET'!$I$18,6,10)=\"december\",\"1231\",IF(MID('COVER SHEET'!$I$18,6,10)=\"june\",\"0630\"))","v":"20241231"},{"$f":"+'Incoming Remittances (Value)'!D151","v":0}]
["CMREM_11520","MN",{"$f":"+'Outgoing Remittances (Value)'!$D$5","v":"20240831"},{"$f":"+'COVER SHEET'!$D$12","v":0},11520,{"$f":"'COVER SHEET'!$D$16&IF(MID('COVER SHEET'!$I$18,6,10)=\"december\",\"1231\",IF(MID('COVER SHEET'!$I$18,6,10)=\"june\",\"0630\"))","v":"20241231"},{"$f":"+'Incoming Remittances (Value)'!D152","v":0}]
["CMREM_11520","ME",{"$f":"+'Outgoing Remittances (Value)'!$D$5","v":"20240831"},{"$f":"+'COVER SHEET'!$D$12","v":0},11520,{"$f":"'COVER SHEET'!$D$16&IF(MID('COVER SHEET'!$I$18,6,10)=\"december\",\"1231\",IF(MID('COVER SHEET'!$I$18,6,10)=\"june\",\"0630\"))","v":"20241231"},{"$f":"+'Incoming Remittances (Value)'!D153","v":0}]
["CMREM_11520","MS",{"$f":"+'Outgoing Remittances (Value)'!$D$5","v":"20240831"},{"$f":"+'COVER SHEET'!$D$12","v":0},11520,{"$f":"'COVER SHEET'!$D$16&IF(MID('COVER SHEET'!$I$18,6,10)=\"december\",\"1231\",IF(MID('COVER SHEET'!$I$18,6,10)=\"june\",\"0630\"))","v":"20241231"},{"$f":"+'Incoming Remittances (Value)'!D154","v":0}]
["CMREM_11520","MA",{"$f":"+'Outgoing Remittances (Value)'!$D$5","v":"20240831"},{"$f":"+'COVER SHEET'!$D$12","v":0},11520,{"$f":"'COVER SHEET'!$D$16&IF(MID('COVER SHEET'!$I$18,6,10)=\"december\",\"1231\",IF(MID('COVER SHEET'!$I$18,6,10)=\"june\",\"0630\"))","v":"20241231"},{"$f":"+'Incoming Remittances (Value)'!D155","v":0}]
["CMREM_11520","MZ",{"$f":"+'Outgoing Remittances (Value)'!$D$5","v":"20240831"},{"$f":"+'COVER SHEET'!$D$12","v":0},11520,{"$f":"'COVER SHEET'!$D$16&IF(MID('COVER SHEET'!$I$18,6,10)=\"december\",\"1231\",IF(MID('COVER SHEET'!$I$18,6,10)=\"june\",\"0630\"))","v":"20241231"},{"$f":"+'Incoming Remittances (Value)'!D156","v":0}]
["CMREM_11520","MM",{"$f":"+'Outgoing Remittances (Value)'!$D$5","v":"20240831"},{"$f":"+'COVER SHEET'!$D$12","v":0},11520,{"$f":"'COVER SHEET'!$D$16&IF(MID('COVER SHEET'!$I$18,6,10)=\"december\",\"1231\",IF(MID('COVER SHEET'!$I$18,6,10)=\"june\",\"0630\"))","v":"20241231"},{"$f":"+'Incoming Remittances (Value)'!D157","v":0}]
["CMREM_11520","NA",{"$f":"+'Outgoing Remittances (Value)'!$D$5","v":"20240831"},{"$f":"+'COVER SHEET'!$D$12","v":0},11520,{"$f":"'COVER SHEET'!$D$16&IF(MID('COVER SHEET'!$I$18,6,10)=\"december\",\"1231\",IF(MID('COVER SHEET'!$I$18,6,10)=\"june\",\"0630\"))","v":"20241231"},{"$f":"+'Incoming Remittances (Value)'!D158","v":0}]
["CMREM_11520","NR",{"$f":"+'Outgoing Remittances (Value)'!$D$5","v":"20240831"},{"$f":"+'COVER SHEET'!$D$12","v":0},11520,{"$f":"'COVER SHEET'!$D$16&IF(MID('COVER SHEET'!$I$18,6,10)=\"december\",\"1231\",IF(MID('COVER SHEET'!$I$18,6,10)=\"june\",\"0630\"))","v":"20241231"},{"$f":"+'Incoming Remittances (Value)'!D159","v":0}]
["CMREM_11520","NP",{"$f":"+'Outgoing Remittances (Value)'!$D$5","v":"20240831"},{"$f":"+'COVER SHEET'!$D$12","v":0},11520,{"$f":"'COVER SHEET'!$D$16&IF(MID('COVER SHEET'!$I$18,6,10)=\"december\",\"1231\",IF(MID('COVER SHEET'!$I$18,6,10)=\"june\",\"0630\"))","v":"20241231"},{"$f":"+'Incoming Remittances (Value)'!D160","v":0}]
["CMREM_11520","NL",{"$f":"+'Outgoing Remittances (Value)'!$D$5","v":"20240831"},{"$f":"+'COVER SHEET'!$D$12","v":0},11520,{"$f":"'COVER SHEET'!$D$16&IF(MID('COVER SHEET'!$I$18,6,10)=\"december\",\"1231\",IF(MID('COVER SHEET'!$I$18,6,10)=\"june\",\"0630\"))","v":"20241231"},{"$f":"+'Incoming Remittances (Value)'!D161","v":0}]
["CMREM_11520","NC",{"$f":"+'Outgoing Remittances (Value)'!$D$5","v":"20240831"},{"$f":"+'COVER SHEET'!$D$12","v":0},11520,{"$f":"'COVER SHEET'!$D$16&IF(MID('COVER SHEET'!$I$18,6,10)=\"december\",\"1231\",IF(MID('COVER SHEET'!$I$18,6,10)=\"june\",\"0630\"))","v":"20241231"},{"$f":"+'Incoming Remittances (Value)'!D162","v":0}]
["CMREM_11520","NZ",{"$f":"+'Outgoing Remittances (Value)'!$D$5","v":"20240831"},{"$f":"+'COVER SHEET'!$D$12","v":0},11520,{"$f":"'COVER SHEET'!$D$16&IF(MID('COVER SHEET'!$I$18,6,10)=\"december\",\"1231\",IF(MID('COVER SHEET'!$I$18,6,10)=\"june\",\"0630\"))","v":"20241231"},{"$f":"+'Incoming Remittances (Value)'!D163","v":0}]
["CMREM_11520","NI",{"$f":"+'Outgoing Remittances (Value)'!$D$5","v":"20240831"},{"$f":"+'COVER SHEET'!$D$12","v":0},11520,{"$f":"'COVER SHEET'!$D$16&IF(MID('COVER SHEET'!$I$18,6,10)=\"december\",\"1231\",IF(MID('COVER SHEET'!$I$18,6,10)=\"june\",\"0630\"))","v":"20241231"},{"$f":"+'Incoming Remittances (Value)'!D164","v":0}]
["CMREM_11520","NE",{"$f":"+'Outgoing Remittances (Value)'!$D$5","v":"20240831"},{"$f":"+'COVER SHEET'!$D$12","v":0},11520,{"$f":"'COVER SHEET'!$D$16&IF(MID('COVER SHEET'!$I$18,6,10)=\"december\",\"1231\",IF(MID('COVER SHEET'!$I$18,6,10)=\"june\",\"0630\"))","v":"20241231"},{"$f":"+'Incoming Remittances (Value)'!D165","v":0}]
["CMREM_11520","NG",{"$f":"+'Outgoing Remittances (Value)'!$D$5","v":"20240831"},{"$f":"+'COVER SHEET'!$D$12","v":0},11520,{"$f":"'COVER SHEET'!$D$16&IF(MID('COVER SHEET'!$I$18,6,10)=\"december\",\"1231\",IF(MID('COVER SHEET'!$I$18,6,10)=\"june\",\"0630\"))","v":"20241231"},{"$f":"+'Incoming Remittances (Value)'!D166","v":0}]
["CMREM_11520","NU",{"$f":"+'Outgoing Remittances (Value)'!$D$5","v":"20240831"},{"$f":"+'COVER SHEET'!$D$12","v":0},11520,{"$f":"'COVER SHEET'!$D$16&IF(MID('COVER SHEET'!$I$18,6,10)=\"december\",\"1231\",IF(MID('COVER SHEET'!$I$18,6,10)=\"june\",\"0630\"))","v":"20241231"},{"$f":"+'Incoming Remittances (Value)'!D167","v":0}]
["CMREM_11520","NF",{"$f":"+'Outgoing Remittances (Value)'!$D$5","v":"20240831"},{"$f":"+'COVER SHEET'!$D$12","v":0},11520,{"$f":"'COVER SHEET'!$D$16&IF(MID('COVER SHEET'!$I$18,6,10)=\"december\",\"1231\",IF(MID('COVER SHEET'!$I$18,6,10)=\"june\",\"0630\"))","v":"20241231"},{"$f":"+'Incoming Remittances (Value)'!D168","v":0}]
["CMREM_11520","MP",{"$f":"+'Outgoing Remittances (Value)'!$D$5","v":"20240831"},{"$f":"+'COVER SHEET'!$D$12","v":0},11520,{"$f":"'COVER SHEET'!$D$16&IF(MID('COVER SHEET'!$I$18,6,10)=\"december\",\"1231\",IF(MID('COVER SHEET'!$I$18,6,10)=\"june\",\"0630\"))","v":"20241231"},{"$f":"+'Incoming Remittances (Value)'!D169","v":0}]
["CMREM_11520","NO",{"$f":"+'Outgoing Remittances (Value)'!$D$5","v":"20240831"},{"$f":"+'COVER SHEET'!$D$12","v":0},11520,{"$f":"'COVER SHEET'!$D$16&IF(MID('COVER SHEET'!$I$18,6,10)=\"december\",\"1231\",IF(MID('COVER SHEET'!$I$18,6,10)=\"june\",\"0630\"))","v":"20241231"},{"$f":"+'Incoming Remittances (Value)'!D170","v":0}]
["CMREM_11520","OM",{"$f":"+'Outgoing Remittances (Value)'!$D$5","v":"20240831"},{"$f":"+'COVER SHEET'!$D$12","v":0},11520,{"$f":"'COVER SHEET'!$D$16&IF(MID('COVER SHEET'!$I$18,6,10)=\"december\",\"1231\",IF(MID('COVER SHEET'!$I$18,6,10)=\"june\",\"0630\"))","v":"20241231"},{"$f":"+'Incoming Remittances (Value)'!D171","v":0}]
["CMREM_11520","PK",{"$f":"+'Outgoing Remittances (Value)'!$D$5","v":"20240831"},{"$f":"+'COVER SHEET'!$D$12","v":0},11520,{"$f":"'COVER SHEET'!$D$16&IF(MID('COVER SHEET'!$I$18,6,10)=\"december\",\"1231\",IF(MID('COVER SHEET'!$I$18,6,10)=\"june\",\"0630\"))","v":"20241231"},{"$f":"+'Incoming Remittances (Value)'!D172","v":0}]
["CMREM_11520","PW",{"$f":"+'Outgoing Remittances (Value)'!$D$5","v":"20240831"},{"$f":"+'COVER SHEET'!$D$12","v":0},11520,{"$f":"'COVER SHEET'!$D$16&IF(MID('COVER SHEET'!$I$18,6,10)=\"december\",\"1231\",IF(MID('COVER SHEET'!$I$18,6,10)=\"june\",\"0630\"))","v":"20241231"},{"$f":"+'Incoming Remittances (Value)'!D173","v":0}]
["CMREM_11520","PS",{"$f":"+'Outgoing Remittances (Value)'!$D$5","v":"20240831"},{"$f":"+'COVER SHEET'!$D$12","v":0},11520,{"$f":"'COVER SHEET'!$D$16&IF(MID('COVER SHEET'!$I$18,6,10)=\"december\",\"1231\",IF(MID('COVER SHEET'!$I$18,6,10)=\"june\",\"0630\"))","v":"20241231"},{"$f":"+'Incoming Remittances (Value)'!D174","v":0}]
["CMREM_11520","PA",{"$f":"+'Outgoing Remittances (Value)'!$D$5","v":"20240831"},{"$f":"+'COVER SHEET'!$D$12","v":0},11520,{"$f":"'COVER SHEET'!$D$16&IF(MID('COVER SHEET'!$I$18,6,10)=\"december\",\"1231\",IF(MID('COVER SHEET'!$I$18,6,10)=\"june\",\"0630\"))","v":"20241231"},{"$f":"+'Incoming Remittances (Value)'!D175","v":0}]
["CMREM_11520","PG",{"$f":"+'Outgoing Remittances (Value)'!$D$5","v":"20240831"},{"$f":"+'COVER SHEET'!$D$12","v":0},11520,{"$f":"'COVER SHEET'!$D$16&IF(MID('COVER SHEET'!$I$18,6,10)=\"december\",\"1231\",IF(MID('COVER SHEET'!$I$18,6,10)=\"june\",\"0630\"))","v":"20241231"},{"$f":"+'Incoming Remittances (Value)'!D176","v":0}]
["CMREM_11520","PY",{"$f":"+'Outgoing Remittances (Value)'!$D$5","v":"20240831"},{"$f":"+'COVER SHEET'!$D$12","v":0},11520,{"$f":"'COVER SHEET'!$D$16&IF(MID('COVER SHEET'!$I$18,6,10)=\"december\",\"1231\",IF(MID('COVER SHEET'!$I$18,6,10)=\"june\",\"0630\"))","v":"20241231"},{"$f":"+'Incoming Remittances (Value)'!D177","v":0}]
["CMREM_11520","PE",{"$f":"+'Outgoing Remittances (Value)'!$D$5","v":"20240831"},{"$f":"+'COVER SHEET'!$D$12","v":0},11520,{"$f":"'COVER SHEET'!$D$16&IF(MID('COVER SHEET'!$I$18,6,10)=\"december\",\"1231\",IF(MID('COVER SHEET'!$I$18,6,10)=\"june\",\"0630\"))","v":"20241231"},{"$f":"+'Incoming Remittances (Value)'!D178","v":0}]
["CMREM_11520","PH",{"$f":"+'Outgoing Remittances (Value)'!$D$5","v":"20240831"},{"$f":"+'COVER SHEET'!$D$12","v":0},11520,{"$f":"'COVER SHEET'!$D$16&IF(MID('COVER SHEET'!$I$18,6,10)=\"december\",\"1231\",IF(MID('COVER SHEET'!$I$18,6,10)=\"june\",\"0630\"))","v":"20241231"},{"$f":"+'Incoming Remittances (Value)'!D179","v":0}]
["CMREM_11520","PN",{"$f":"+'Outgoing Remittances (Value)'!$D$5","v":"20240831"},{"$f":"+'COVER SHEET'!$D$12","v":0},11520,{"$f":"'COVER SHEET'!$D$16&IF(MID('COVER SHEET'!$I$18,6,10)=\"december\",\"1231\",IF(MID('COVER SHEET'!$I$18,6,10)=\"june\",\"0630\"))","v":"20241231"},{"$f":"+'Incoming Remittances (Value)'!D180","v":0}]
["CMREM_11520","PL",{"$f":"+'Outgoing Remittances (Value)'!$D$5","v":"20240831"},{"$f":"+'COVER SHEET'!$D$12","v":0},11520,{"$f":"'COVER SHEET'!$D$16&IF(MID('COVER SHEET'!$I$18,6,10)=\"december\",\"1231\",IF(MID('COVER SHEET'!$I$18,6,10)=\"june\",\"0630\"))","v":"20241231"},{"$f":"+'Incoming Remittances (Value)'!D181","v":0}]
["CMREM_11520","PT",{"$f":"+'Outgoing Remittances (Value)'!$D$5","v":"20240831"},{"$f":"+'COVER SHEET'!$D$12","v":0},11520,{"$f":"'COVER SHEET'!$D$16&IF(MID('COVER SHEET'!$I$18,6,10)=\"december\",\"1231\",IF(MID('COVER SHEET'!$I$18,6,10)=\"june\",\"0630\"))","v":"20241231"},{"$f":"+'Incoming Remittances (Value)'!D182","v":0}]
["CMREM_11520","QA",{"$f":"+'Outgoing Remittances (Value)'!$D$5","v":"20240831"},{"$f":"+'COVER SHEET'!$D$12","v":0},11520,{"$f":"'COVER SHEET'!$D$16&IF(MID('COVER SHEET'!$I$18,6,10)=\"december\",\"1231\",IF(MID('COVER SHEET'!$I$18,6,10)=\"june\",\"0630\"))","v":"20241231"},{"$f":"+'Incoming Remittances (Value)'!D183","v":0}]
["CMREM_11520","RO",{"$f":"+'Outgoing Remittances (Value)'!$D$5","v":"20240831"},{"$f":"+'COVER SHEET'!$D$12","v":0},11520,{"$f":"'COVER SHEET'!$D$16&IF(MID('COVER SHEET'!$I$18,6,10)=\"december\",\"1231\",IF(MID('COVER SHEET'!$I$18,6,10)=\"june\",\"0630\"))","v":"20241231"},{"$f":"+'Incoming Remittances (Value)'!D184","v":0}]
["CMREM_11520","RU",{"$f":"+'Outgoing Remittances (Value)'!$D$5","v":"20240831"},{"$f":"+'COVER SHEET'!$D$12","v":0},11520,{"$f":"'COVER SHEET'!$D$16&IF(MID('COVER SHEET'!$I$18,6,10)=\"december\",\"1231\",IF(MID('COVER SHEET'!$I$18,6,10)=\"june\",\"0630\"))","v":"20241231"},{"$f":"+'Incoming Remittances (Value)'!D185","v":0}]
["CMREM_11520","RW",{"$f":"+'Outgoing Remittances (Value)'!$D$5","v":"20240831"},{"$f":"+'COVER SHEET'!$D$12","v":0},11520,{"$f":"'COVER SHEET'!$D$16&IF(MID('COVER SHEET'!$I$18,6,10)=\"december\",\"1231\",IF(MID('COVER SHEET'!$I$18,6,10)=\"june\",\"0630\"))","v":"20241231"},{"$f":"+'Incoming Remittances (Value)'!D186","v":0}]
["CMREM_11520","SH",{"$f":"+'Outgoing Remittances (Value)'!$D$5","v":"20240831"},{"$f":"+'COVER SHEET'!$D$12","v":0},11520,{"$f":"'COVER SHEET'!$D$16&IF(MID('COVER SHEET'!$I$18,6,10)=\"december\",\"1231\",IF(MID('COVER SHEET'!$I$18,6,10)=\"june\",\"0630\"))","v":"20241231"},{"$f":"+'Incoming Remittances (Value)'!D187","v":0}]
["CMREM_11520","KN",{"$f":"+'Outgoing Remittances (Value)'!$D$5","v":"20240831"},{"$f":"+'COVER SHEET'!$D$12","v":0},11520,{"$f":"'COVER SHEET'!$D$16&IF(MID('COVER SHEET'!$I$18,6,10)=\"december\",\"1231\",IF(MID('COVER SHEET'!$I$18,6,10)=\"june\",\"0630\"))","v":"20241231"},{"$f":"+'Incoming Remittances (Value)'!D188","v":0}]
["CMREM_11520","LC",{"$f":"+'Outgoing Remittances (Value)'!$D$5","v":"20240831"},{"$f":"+'COVER SHEET'!$D$12","v":0},11520,{"$f":"'COVER SHEET'!$D$16&IF(MID('COVER SHEET'!$I$18,6,10)=\"december\",\"1231\",IF(MID('COVER SHEET'!$I$18,6,10)=\"june\",\"0630\"))","v":"20241231"},{"$f":"+'Incoming Remittances (Value)'!D189","v":0}]
["CMREM_11520","VC",{"$f":"+'Outgoing Remittances (Value)'!$D$5","v":"20240831"},{"$f":"+'COVER SHEET'!$D$12","v":0},11520,{"$f":"'COVER SHEET'!$D$16&IF(MID('COVER SHEET'!$I$18,6,10)=\"december\",\"1231\",IF(MID('COVER SHEET'!$I$18,6,10)=\"june\",\"0630\"))","v":"20241231"},{"$f":"+'Incoming Remittances (Value)'!D190","v":0}]
["CMREM_11520","WS",{"$f":"+'Outgoing Remittances (Value)'!$D$5","v":"20240831"},{"$f":"+'COVER SHEET'!$D$12","v":0},11520,{"$f":"'COVER SHEET'!$D$16&IF(MID('COVER SHEET'!$I$18,6,10)=\"december\",\"1231\",IF(MID('COVER SHEET'!$I$18,6,10)=\"june\",\"0630\"))","v":"20241231"},{"$f":"+'Incoming Remittances (Value)'!D191","v":0}]
["CMREM_11520","SM",{"$f":"+'Outgoing Remittances (Value)'!$D$5","v":"20240831"},{"$f":"+'COVER SHEET'!$D$12","v":0},11520,{"$f":"'COVER SHEET'!$D$16&IF(MID('COVER SHEET'!$I$18,6,10)=\"december\",\"1231\",IF(MID('COVER SHEET'!$I$18,6,10)=\"june\",\"0630\"))","v":"20241231"},{"$f":"+'Incoming Remittances (Value)'!D192","v":0}]
["CMREM_11520","ST",{"$f":"+'Outgoing Remittances (Value)'!$D$5","v":"20240831"},{"$f":"+'COVER SHEET'!$D$12","v":0},11520,{"$f":"'COVER SHEET'!$D$16&IF(MID('COVER SHEET'!$I$18,6,10)=\"december\",\"1231\",IF(MID('COVER SHEET'!$I$18,6,10)=\"june\",\"0630\"))","v":"20241231"},{"$f":"+'Incoming Remittances (Value)'!D193","v":0}]
["CMREM_11520","SA",{"$f":"+'Outgoing Remittances (Value)'!$D$5","v":"20240831"},{"$f":"+'COVER SHEET'!$D$12","v":0},11520,{"$f":"'COVER SHEET'!$D$16&IF(MID('COVER SHEET'!$I$18,6,10)=\"december\",\"1231\",IF(MID('COVER SHEET'!$I$18,6,10)=\"june\",\"0630\"))","v":"20241231"},{"$f":"+'Incoming Remittances (Value)'!D194","v":0}]
["CMREM_11520","SN",{"$f":"+'Outgoing Remittances (Value)'!$D$5","v":"20240831"},{"$f":"+'COVER SHEET'!$D$12","v":0},11520,{"$f":"'COVER SHEET'!$D$16&IF(MID('COVER SHEET'!$I$18,6,10)=\"december\",\"1231\",IF(MID('COVER SHEET'!$I$18,6,10)=\"june\",\"0630\"))","v":"20241231"},{"$f":"+'Incoming Remittances (Value)'!D195","v":0}]
["CMREM_11520","RS",{"$f":"+'Outgoing Remittances (Value)'!$D$5","v":"20240831"},{"$f":"+'COVER SHEET'!$D$12","v":0},11520,{"$f":"'COVER SHEET'!$D$16&IF(MID('COVER SHEET'!$I$18,6,10)=\"december\",\"1231\",IF(MID('COVER SHEET'!$I$18,6,10)=\"june\",\"0630\"))","v":"20241231"},{"$f":"+'Incoming Remittances (Value)'!D196","v":0}]
["CMREM_11520","SC",{"$f":"+'Outgoing Remittances (Value)'!$D$5","v":"20240831"},{"$f":"+'COVER SHEET'!$D$12","v":0},11520,{"$f":"'COVER SHEET'!$D$16&IF(MID('COVER SHEET'!$I$18,6,10)=\"december\",\"1231\",IF(MID('COVER SHEET'!$I$18,6,10)=\"june\",\"0630\"))","v":"20241231"},{"$f":"+'Incoming Remittances (Value)'!D197","v":0}]
["CMREM_11520","SL",{"$f":"+'Outgoing Remittances (Value)'!$D$5","v":"20240831"},{"$f":"+'COVER SHEET'!$D$12","v":0},11520,{"$f":"'COVER SHEET'!$D$16&IF(MID('COVER SHEET'!$I$18,6,10)=\"december\",\"1231\",IF(MID('COVER SHEET'!$I$18,6,10)=\"june\",\"0630\"))","v":"20241231"},{"$f":"+'Incoming Remittances (Value)'!D198","v":0}]
["CMREM_11520","SG",{"$f":"+'Outgoing Remittances (Value)'!$D$5","v":"20240831"},{"$f":"+'COVER SHEET'!$D$12","v":0},11520,{"$f":"'COVER SHEET'!$D$16&IF(MID('COVER SHEET'!$I$18,6,10)=\"december\",\"1231\",IF(MID('COVER SHEET'!$I$18,6,10)=\"june\",\"0630\"))","v":"20241231"},{"$f":"+'Incoming Remittances (Value)'!D199","v":0}]
["CMREM_11520","SX",{"$f":"+'Outgoing Remittances (Value)'!$D$5","v":"20240831"},{"$f":"+'COVER SHEET'!$D$12","v":0},11520,{"$f":"'COVER SHEET'!$D$16&IF(MID('COVER SHEET'!$I$18,6,10)=\"december\",\"1231\",IF(MID('COVER SHEET'!$I$18,6,10)=\"june\",\"0630\"))","v":"20241231"},{"$f":"+'Incoming Remittances (Value)'!D200","v":0}]
["CMREM_11520","SK",{"$f":"+'Outgoing Remittances (Value)'!$D$5","v":"20240831"},{"$f":"+'COVER SHEET'!$D$12","v":0},11520,{"$f":"'COVER SHEET'!$D$16&IF(MID('COVER SHEET'!$I$18,6,10)=\"december\",\"1231\",IF(MID('COVER SHEET'!$I$18,6,10)=\"june\",\"0630\"))","v":"20241231"},{"$f":"+'Incoming Remittances (Value)'!D201","v":0}]
["CMREM_11520","SI",{"$f":"+'Outgoing Remittances (Value)'!$D$5","v":"20240831"},{"$f":"+'COVER SHEET'!$D$12","v":0},11520,{"$f":"'COVER SHEET'!$D$16&IF(MID('COVER SHEET'!$I$18,6,10)=\"december\",\"1231\",IF(MID('COVER SHEET'!$I$18,6,10)=\"june\",\"0630\"))","v":"20241231"},{"$f":"+'Incoming Remittances (Value)'!D202","v":0}]
["CMREM_11520","SB",{"$f":"+'Outgoing Remittances (Value)'!$D$5","v":"20240831"},{"$f":"+'COVER SHEET'!$D$12","v":0},11520,{"$f":"'COVER SHEET'!$D$16&IF(MID('COVER SHEET'!$I$18,6,10)=\"december\",\"1231\",IF(MID('COVER SHEET'!$I$18,6,10)=\"june\",\"0630\"))","v":"20241231"},{"$f":"+'Incoming Remittances (Value)'!D203","v":0}]
["CMREM_11520","SO",{"$f":"+'Outgoing Remittances (Value)'!$D$5","v":"20240831"},{"$f":"+'COVER SHEET'!$D$12","v":0},11520,{"$f":"'COVER SHEET'!$D$16&IF(MID('COVER SHEET'!$I$18,6,10)=\"december\",\"1231\",IF(MID('COVER SHEET'!$I$18,6,10)=\"june\",\"0630\"))","v":"20241231"},{"$f":"+'Incoming Remittances (Value)'!D204","v":0}]
["CMREM_11520","ZA",{"$f":"+'Outgoing Remittances (Value)'!$D$5","v":"20240831"},{"$f":"+'COVER SHEET'!$D$12","v":0},11520,{"$f":"'COVER SHEET'!$D$16&IF(MID('COVER SHEET'!$I$18,6,10)=\"december\",\"1231\",IF(MID('COVER SHEET'!$I$18,6,10)=\"june\",\"0630\"))","v":"20241231"},{"$f":"+'Incoming Remittances (Value)'!D205","v":0}]
["CMREM_11520","GS",{"$f":"+'Outgoing Remittances (Value)'!$D$5","v":"20240831"},{"$f":"+'COVER SHEET'!$D$12","v":0},11520,{"$f":"'COVER SHEET'!$D$16&IF(MID('COVER SHEET'!$I$18,6,10)=\"december\",\"1231\",IF(MID('COVER SHEET'!$I$18,6,10)=\"june\",\"0630\"))","v":"20241231"},{"$f":"+'Incoming Remittances (Value)'!D206","v":0}]
["CMREM_11520","SS",{"$f":"+'Outgoing Remittances (Value)'!$D$5","v":"20240831"},{"$f":"+'COVER SHEET'!$D$12","v":0},11520,{"$f":"'COVER SHEET'!$D$16&IF(MID('COVER SHEET'!$I$18,6,10)=\"december\",\"1231\",IF(MID('COVER SHEET'!$I$18,6,10)=\"june\",\"0630\"))","v":"20241231"},{"$f":"+'Incoming Remittances (Value)'!D207","v":0}]
["CMREM_11520","ES",{"$f":"+'Outgoing Remittances (Value)'!$D$5","v":"20240831"},{"$f":"+'COVER SHEET'!$D$12","v":0},11520,{"$f":"'COVER SHEET'!$D$16&IF(MID('COVER SHEET'!$I$18,6,10)=\"december\",\"1231\",IF(MID('COVER SHEET'!$I$18,6,10)=\"june\",\"0630\"))","v":"20241231"},{"$f":"+'Incoming Remittances (Value)'!D208","v":0}]
["CMREM_11520","LK",{"$f":"+'Outgoing Remittances (Value)'!$D$5","v":"20240831"},{"$f":"+'COVER SHEET'!$D$12","v":0},11520,{"$f":"'COVER SHEET'!$D$16&IF(MID('COVER SHEET'!$I$18,6,10)=\"december\",\"1231\",IF(MID('COVER SHEET'!$I$18,6,10)=\"june\",\"0630\"))","v":"20241231"},{"$f":"+'Incoming Remittances (Value)'!D209","v":0}]
["CMREM_11520","SD",{"$f":"+'Outgoing Remittances (Value)'!$D$5","v":"20240831"},{"$f":"+'COVER SHEET'!$D$12","v":0},11520,{"$f":"'COVER SHEET'!$D$16&IF(MID('COVER SHEET'!$I$18,6,10)=\"december\",\"1231\",IF(MID('COVER SHEET'!$I$18,6,10)=\"june\",\"0630\"))","v":"20241231"},{"$f":"+'Incoming Remittances (Value)'!D210","v":0}]
["CMREM_11520","SR",{"$f":"+'Outgoing Remittances (Value)'!$D$5","v":"20240831"},{"$f":"+'COVER SHEET'!$D$12","v":0},11520,{"$f":"'COVER SHEET'!$D$16&IF(MID('COVER SHEET'!$I$18,6,10)=\"december\",\"1231\",IF(MID('COVER SHEET'!$I$18,6,10)=\"june\",\"0630\"))","v":"20241231"},{"$f":"+'Incoming Remittances (Value)'!D211","v":0}]
["CMREM_11520","SZ",{"$f":"+'Outgoing Remittances (Value)'!$D$5","v":"20240831"},{"$f":"+'COVER SHEET'!$D$12","v":0},11520,{"$f":"'COVER SHEET'!$D$16&IF(MID('COVER SHEET'!$I$18,6,10)=\"december\",\"1231\",IF(MID('COVER SHEET'!$I$18,6,10)=\"june\",\"0630\"))","v":"20241231"},{"$f":"+'Incoming Remittances (Value)'!D212","v":0}]
["CMREM_11520","SE",{"$f":"+'Outgoing Remittances (Value)'!$D$5","v":"20240831"},{"$f":"+'COVER SHEET'!$D$12","v":0},11520,{"$f":"'COVER SHEET'!$D$16&IF(MID('COVER SHEET'!$I$18,6,10)=\"december\",\"1231\",IF(MID('COVER SHEET'!$I$18,6,10)=\"june\",\"0630\"))","v":"20241231"},{"$f":"+'Incoming Remittances (Value)'!D213","v":0}]
["CMREM_11520","CH",{"$f":"+'Outgoing Remittances (Value)'!$D$5","v":"20240831"},{"$f":"+'COVER SHEET'!$D$12","v":0},11520,{"$f":"'COVER SHEET'!$D$16&IF(MID('COVER SHEET'!$I$18,6,10)=\"december\",\"1231\",IF(MID('COVER SHEET'!$I$18,6,10)=\"june\",\"0630\"))","v":"20241231"},{"$f":"+'Incoming Remittances (Value)'!D214","v":0}]
["CMREM_11520","SY",{"$f":"+'Outgoing Remittances (Value)'!$D$5","v":"20240831"},{"$f":"+'COVER SHEET'!$D$12","v":0},11520,{"$f":"'COVER SHEET'!$D$16&IF(MID('COVER SHEET'!$I$18,6,10)=\"december\",\"1231\",IF(MID('COVER SHEET'!$I$18,6,10)=\"june\",\"0630\"))","v":"20241231"},{"$f":"+'Incoming Remittances (Value)'!D215","v":0}]
["CMREM_11520","TW",{"$f":"+'Outgoing Remittances (Value)'!$D$5","v":"20240831"},{"$f":"+'COVER SHEET'!$D$12","v":0},11520,{"$f":"'COVER SHEET'!$D$16&IF(MID('COVER SHEET'!$I$18,6,10)=\"december\",\"1231\",IF(MID('COVER SHEET'!$I$18,6,10)=\"june\",\"0630\"))","v":"20241231"},{"$f":"+'Incoming Remittances (Value)'!D216","v":0}]
["CMREM_11520","TJ",{"$f":"+'Outgoing Remittances (Value)'!$D$5","v":"20240831"},{"$f":"+'COVER SHEET'!$D$12","v":0},11520,{"$f":"'COVER SHEET'!$D$16&IF(MID('COVER SHEET'!$I$18,6,10)=\"december\",\"1231\",IF(MID('COVER SHEET'!$I$18,6,10)=\"june\",\"0630\"))","v":"20241231"},{"$f":"+'Incoming Remittances (Value)'!D217","v":0}]
["CMREM_11520","TZ",{"$f":"+'Outgoing Remittances (Value)'!$D$5","v":"20240831"},{"$f":"+'COVER SHEET'!$D$12","v":0},11520,{"$f":"'COVER SHEET'!$D$16&IF(MID('COVER SHEET'!$I$18,6,10)=\"december\",\"1231\",IF(MID('COVER SHEET'!$I$18,6,10)=\"june\",\"0630\"))","v":"20241231"},{"$f":"+'Incoming Remittances (Value)'!D218","v":0}]
["CMREM_11520","TH",{"$f":"+'Outgoing Remittances (Value)'!$D$5","v":"20240831"},{"$f":"+'COVER SHEET'!$D$12","v":0},11520,{"$f":"'COVER SHEET'!$D$16&IF(MID('COVER SHEET'!$I$18,6,10)=\"december\",\"1231\",IF(MID('COVER SHEET'!$I$18,6,10)=\"june\",\"0630\"))","v":"20241231"},{"$f":"+'Incoming Remittances (Value)'!D219","v":0}]
["CMREM_11520","TG",{"$f":"+'Outgoing Remittances (Value)'!$D$5","v":"20240831"},{"$f":"+'COVER SHEET'!$D$12","v":0},11520,{"$f":"'COVER SHEET'!$D$16&IF(MID('COVER SHEET'!$I$18,6,10)=\"december\",\"1231\",IF(MID('COVER SHEET'!$I$18,6,10)=\"june\",\"0630\"))","v":"20241231"},{"$f":"+'Incoming Remittances (Value)'!D220","v":0}]
["CMREM_11520","TK",{"$f":"+'Outgoing Remittances (Value)'!$D$5","v":"20240831"},{"$f":"+'COVER SHEET'!$D$12","v":0},11520,{"$f":"'COVER SHEET'!$D$16&IF(MID('COVER SHEET'!$I$18,6,10)=\"december\",\"1231\",IF(MID('COVER SHEET'!$I$18,6,10)=\"june\",\"0630\"))","v":"20241231"},{"$f":"+'Incoming Remittances (Value)'!D221","v":0}]
["CMREM_11520","TO",{"$f":"+'Outgoing Remittances (Value)'!$D$5","v":"20240831"},{"$f":"+'COVER SHEET'!$D$12","v":0},11520,{"$f":"'COVER SHEET'!$D$16&IF(MID('COVER SHEET'!$I$18,6,10)=\"december\",\"1231\",IF(MID('COVER SHEET'!$I$18,6,10)=\"june\",\"0630\"))","v":"20241231"},{"$f":"+'Incoming Remittances (Value)'!D222","v":0}]
["CMREM_11520","TT",{"$f":"+'Outgoing Remittances (Value)'!$D$5","v":"20240831"},{"$f":"+'COVER SHEET'!$D$12","v":0},11520,{"$f":"'COVER SHEET'!$D$16&IF(MID('COVER SHEET'!$I$18,6,10)=\"december\",\"1231\",IF(MID('COVER SHEET'!$I$18,6,10)=\"june\",\"0630\"))","v":"20241231"},{"$f":"+'Incoming Remittances (Value)'!D223","v":0}]
["CMREM_11520","TN",{"$f":"+'Outgoing Remittances (Value)'!$D$5","v":"20240831"},{"$f":"+'COVER SHEET'!$D$12","v":0},11520,{"$f":"'COVER SHEET'!$D$16&IF(MID('COVER SHEET'!$I$18,6,10)=\"december\",\"1231\",IF(MID('COVER SHEET'!$I$18,6,10)=\"june\",\"0630\"))","v":"20241231"},{"$f":"+'Incoming Remittances (Value)'!D224","v":0}]
["CMREM_11520","TR",{"$f":"+'Outgoing Remittances (Value)'!$D$5","v":"20240831"},{"$f":"+'COVER SHEET'!$D$12","v":0},11520,{"$f":"'COVER SHEET'!$D$16&IF(MID('COVER SHEET'!$I$18,6,10)=\"december\",\"1231\",IF(MID('COVER SHEET'!$I$18,6,10)=\"june\",\"0630\"))","v":"20241231"},{"$f":"+'Incoming Remittances (Value)'!D225","v":0}]
["CMREM_11520","TM",{"$f":"+'Outgoing Remittances (Value)'!$D$5","v":"20240831"},{"$f":"+'COVER SHEET'!$D$12","v":0},11520,{"$f":"'COVER SHEET'!$D$16&IF(MID('COVER SHEET'!$I$18,6,10)=\"december\",\"1231\",IF(MID('COVER SHEET'!$I$18,6,10)=\"june\",\"0630\"))","v":"20241231"},{"$f":"+'Incoming Remittances (Value)'!D226","v":0}]
["CMREM_11520","TC",{"$f":"+'Outgoing Remittances (Value)'!$D$5","v":"20240831"},{"$f":"+'COVER SHEET'!$D$12","v":0},11520,{"$f":"'COVER SHEET'!$D$16&IF(MID('COVER SHEET'!$I$18,6,10)=\"december\",\"1231\",IF(MID('COVER SHEET'!$I$18,6,10)=\"june\",\"0630\"))","v":"20241231"},{"$f":"+'Incoming Remittances (Value)'!D227","v":0}]
["CMREM_11520","TV",{"$f":"+'Outgoing Remittances (Value)'!$D$5","v":"20240831"},{"$f":"+'COVER SHEET'!$D$12","v":0},11520,{"$f":"'COVER SHEET'!$D$16&IF(MID('COVER SHEET'!$I$18,6,10)=\"december\",\"1231\",IF(MID('COVER SHEET'!$I$18,6,10)=\"june\",\"0630\"))","v":"20241231"},{"$f":"+'Incoming Remittances (Value)'!D228","v":0}]
["CMREM_11520","UG",{"$f":"+'Outgoing Remittances (Value)'!$D$5","v":"20240831"},{"$f":"+'COVER SHEET'!$D$12","v":0},11520,{"$f":"'COVER SHEET'!$D$16&IF(MID('COVER SHEET'!$I$18,6,10)=\"december\",\"1231\",IF(MID('COVER SHEET'!$I$18,6,10)=\"june\",\"0630\"))","v":"20241231"},{"$f":"+'Incoming Remittances (Value)'!D229","v":0}]
["CMREM_11520","UA",{"$f":"+'Outgoing Remittances (Value)'!$D$5","v":"20240831"},{"$f":"+'COVER SHEET'!$D$12","v":0},11520,{"$f":"'COVER SHEET'!$D$16&IF(MID('COVER SHEET'!$I$18,6,10)=\"december\",\"1231\",IF(MID('COVER SHEET'!$I$18,6,10)=\"june\",\"0630\"))","v":"20241231"},{"$f":"+'Incoming Remittances (Value)'!D230","v":0}]
["CMREM_11520","AE",{"$f":"+'Outgoing Remittances (Value)'!$D$5","v":"20240831"},{"$f":"+'COVER SHEET'!$D$12","v":0},11520,{"$f":"'COVER SHEET'!$D$16&IF(MID('COVER SHEET'!$I$18,6,10)=\"december\",\"1231\",IF(MID('COVER SHEET'!$I$18,6,10)=\"june\",\"0630\"))","v":"20241231"},{"$f":"+'Incoming Remittances (Value)'!D231","v":0}]
["CMREM_11520","GB",{"$f":"+'Outgoing Remittances (Value)'!$D$5","v":"20240831"},{"$f":"+'COVER SHEET'!$D$12","v":0},11520,{"$f":"'COVER SHEET'!$D$16&IF(MID('COVER SHEET'!$I$18,6,10)=\"december\",\"1231\",IF(MID('COVER SHEET'!$I$18,6,10)=\"june\",\"0630\"))","v":"20241231"},{"$f":"+'Incoming Remittances (Value)'!D232","v":0}]
["CMREM_11520","US",{"$f":"+'Outgoing Remittances (Value)'!$D$5","v":"20240831"},{"$f":"+'COVER SHEET'!$D$12","v":0},11520,{"$f":"'COVER SHEET'!$D$16&IF(MID('COVER SHEET'!$I$18,6,10)=\"december\",\"1231\",IF(MID('COVER SHEET'!$I$18,6,10)=\"june\",\"0630\"))","v":"20241231"},{"$f":"+'Incoming Remittances (Value)'!D233","v":0}]
["CMREM_11520","UY",{"$f":"+'Outgoing Remittances (Value)'!$D$5","v":"20240831"},{"$f":"+'COVER SHEET'!$D$12","v":0},11520,{"$f":"'COVER SHEET'!$D$16&IF(MID('COVER SHEET'!$I$18,6,10)=\"december\",\"1231\",IF(MID('COVER SHEET'!$I$18,6,10)=\"june\",\"0630\"))","v":"20241231"},{"$f":"+'Incoming Remittances (Value)'!D234","v":0}]
["CMREM_11520","UM",{"$f":"+'Outgoing Remittances (Value)'!$D$5","v":"20240831"},{"$f":"+'COVER SHEET'!$D$12","v":0},11520,{"$f":"'COVER SHEET'!$D$16&IF(MID('COVER SHEET'!$I$18,6,10)=\"december\",\"1231\",IF(MID('COVER SHEET'!$I$18,6,10)=\"june\",\"0630\"))","v":"20241231"},{"$f":"+'Incoming Remittances (Value)'!D235","v":0}]
["CMREM_11520","UZ",{"$f":"+'Outgoing Remittances (Value)'!$D$5","v":"20240831"},{"$f":"+'COVER SHEET'!$D$12","v":0},11520,{"$f":"'COVER SHEET'!$D$16&IF(MID('COVER SHEET'!$I$18,6,10)=\"december\",\"1231\",IF(MID('COVER SHEET'!$I$18,6,10)=\"june\",\"0630\"))","v":"20241231"},{"$f":"+'Incoming Remittances (Value)'!D236","v":0}]
["CMREM_11520","VU",{"$f":"+'Outgoing Remittances (Value)'!$D$5","v":"20240831"},{"$f":"+'COVER SHEET'!$D$12","v":0},11520,{"$f":"'COVER SHEET'!$D$16&IF(MID('COVER SHEET'!$I$18,6,10)=\"december\",\"1231\",IF(MID('COVER SHEET'!$I$18,6,10)=\"june\",\"0630\"))","v":"20241231"},{"$f":"+'Incoming Remittances (Value)'!D237","v":0}]
["CMREM_11520","VE",{"$f":"+'Outgoing Remittances (Value)'!$D$5","v":"20240831"},{"$f":"+'COVER SHEET'!$D$12","v":0},11520,{"$f":"'COVER SHEET'!$D$16&IF(MID('COVER SHEET'!$I$18,6,10)=\"december\",\"1231\",IF(MID('COVER SHEET'!$I$18,6,10)=\"june\",\"0630\"))","v":"20241231"},{"$f":"+'Incoming Remittances (Value)'!D238","v":0}]
["CMREM_11520","VN",{"$f":"+'Outgoing Remittances (Value)'!$D$5","v":"20240831"},{"$f":"+'COVER SHEET'!$D$12","v":0},11520,{"$f":"'COVER SHEET'!$D$16&IF(MID('COVER SHEET'!$I$18,6,10)=\"december\",\"1231\",IF(MID('COVER SHEET'!$I$18,6,10)=\"june\",\"0630\"))","v":"20241231"},{"$f":"+'Incoming Remittances (Value)'!D239","v":0}]
["CMREM_11520","VI",{"$f":"+'Outgoing Remittances (Value)'!$D$5","v":"20240831"},{"$f":"+'COVER SHEET'!$D$12","v":0},11520,{"$f":"'COVER SHEET'!$D$16&IF(MID('COVER SHEET'!$I$18,6,10)=\"december\",\"1231\",IF(MID('COVER SHEET'!$I$18,6,10)=\"june\",\"0630\"))","v":"20241231"},{"$f":"+'Incoming Remittances (Value)'!D240","v":0}]
["CMREM_11520","WF",{"$f":"+'Outgoing Remittances (Value)'!$D$5","v":"20240831"},{"$f":"+'COVER SHEET'!$D$12","v":0},11520,{"$f":"'COVER SHEET'!$D$16&IF(MID('COVER SHEET'!$I$18,6,10)=\"december\",\"1231\",IF(MID('COVER SHEET'!$I$18,6,10)=\"june\",\"0630\"))","v":"20241231"},{"$f":"+'Incoming Remittances (Value)'!D241","v":0}]
["CMREM_11520","YE",{"$f":"+'Outgoing Remittances (Value)'!$D$5","v":"20240831"},{"$f":"+'COVER SHEET'!$D$12","v":0},11520,{"$f":"'COVER SHEET'!$D$16&IF(MID('COVER SHEET'!$I$18,6,10)=\"december\",\"1231\",IF(MID('COVER SHEET'!$I$18,6,10)=\"june\",\"0630\"))","v":"20241231"},{"$f":"+'Incoming Remittances (Value)'!D242","v":0}]
["CMREM_11520","ZM",{"$f":"+'Outgoing Remittances (Value)'!$D$5","v":"20240831"},{"$f":"+'COVER SHEET'!$D$12","v":0},11520,{"$f":"'COVER SHEET'!$D$16&IF(MID('COVER SHEET'!$I$18,6,10)=\"december\",\"1231\",IF(MID('COVER SHEET'!$I$18,6,10)=\"june\",\"0630\"))","v":"20241231"},{"$f":"+'Incoming Remittances (Value)'!D243","v":0}]
["CMREM_11520","ZW",{"$f":"+'Outgoing Remittances (Value)'!$D$5","v":"20240831"},{"$f":"+'COVER SHEET'!$D$12","v":0},11520,{"$f":"'COVER SHEET'!$D$16&IF(MID('COVER SHEET'!$I$18,6,10)=\"december\",\"1231\",IF(MID('COVER SHEET'!$I$18,6,10)=\"june\",\"0630\"))","v":"20241231"},{"$f":"+'Incoming Remittances (Value)'!D244","v":0}]
["CMREM_11530","AF",{"$f":"+'Outgoing Remittances (Value)'!$D$5","v":"20240831"},{"$f":"+'COVER SHEET'!$D$12","v":0},11530,{"$f":"'COVER SHEET'!$D$16&IF(MID('COVER SHEET'!$I$18,6,10)=\"december\",\"1231\",IF(MID('COVER SHEET'!$I$18,6,10)=\"june\",\"0630\"))","v":"20241231"},{"$f":"+'Outgoing Remittances (Value)'!D9","v":0}]
["CMREM_11530","AL",{"$f":"+'Outgoing Remittances (Value)'!$D$5","v":"20240831"},{"$f":"+'COVER SHEET'!$D$12","v":0},11530,{"$f":"'COVER SHEET'!$D$16&IF(MID('COVER SHEET'!$I$18,6,10)=\"december\",\"1231\",IF(MID('COVER SHEET'!$I$18,6,10)=\"june\",\"0630\"))","v":"20241231"},{"$f":"+'Outgoing Remittances (Value)'!D10","v":0}]
["CMREM_11530","DZ",{"$f":"+'Outgoing Remittances (Value)'!$D$5","v":"20240831"},{"$f":"+'COVER SHEET'!$D$12","v":0},11530,{"$f":"'COVER SHEET'!$D$16&IF(MID('COVER SHEET'!$I$18,6,10)=\"december\",\"1231\",IF(MID('COVER SHEET'!$I$18,6,10)=\"june\",\"0630\"))","v":"20241231"},{"$f":"+'Outgoing Remittances (Value)'!D11","v":0}]
["CMREM_11530","AS",{"$f":"+'Outgoing Remittances (Value)'!$D$5","v":"20240831"},{"$f":"+'COVER SHEET'!$D$12","v":0},11530,{"$f":"'COVER SHEET'!$D$16&IF(MID('COVER SHEET'!$I$18,6,10)=\"december\",\"1231\",IF(MID('COVER SHEET'!$I$18,6,10)=\"june\",\"0630\"))","v":"20241231"},{"$f":"+'Outgoing Remittances (Value)'!D12","v":0}]
["CMREM_11530","AD",{"$f":"+'Outgoing Remittances (Value)'!$D$5","v":"20240831"},{"$f":"+'COVER SHEET'!$D$12","v":0},11530,{"$f":"'COVER SHEET'!$D$16&IF(MID('COVER SHEET'!$I$18,6,10)=\"december\",\"1231\",IF(MID('COVER SHEET'!$I$18,6,10)=\"june\",\"0630\"))","v":"20241231"},{"$f":"+'Outgoing Remittances (Value)'!D13","v":0}]
["CMREM_11530","AO",{"$f":"+'Outgoing Remittances (Value)'!$D$5","v":"20240831"},{"$f":"+'COVER SHEET'!$D$12","v":0},11530,{"$f":"'COVER SHEET'!$D$16&IF(MID('COVER SHEET'!$I$18,6,10)=\"december\",\"1231\",IF(MID('COVER SHEET'!$I$18,6,10)=\"june\",\"0630\"))","v":"20241231"},{"$f":"+'Outgoing Remittances (Value)'!D14","v":0}]
["CMREM_11530","AI",{"$f":"+'Outgoing Remittances (Value)'!$D$5","v":"20240831"},{"$f":"+'COVER SHEET'!$D$12","v":0},11530,{"$f":"'COVER SHEET'!$D$16&IF(MID('COVER SHEET'!$I$18,6,10)=\"december\",\"1231\",IF(MID('COVER SHEET'!$I$18,6,10)=\"june\",\"0630\"))","v":"20241231"},{"$f":"+'Outgoing Remittances (Value)'!D15","v":0}]
["CMREM_11530","AQ",{"$f":"+'Outgoing Remittances (Value)'!$D$5","v":"20240831"},{"$f":"+'COVER SHEET'!$D$12","v":0},11530,{"$f":"'COVER SHEET'!$D$16&IF(MID('COVER SHEET'!$I$18,6,10)=\"december\",\"1231\",IF(MID('COVER SHEET'!$I$18,6,10)=\"june\",\"0630\"))","v":"20241231"},{"$f":"+'Outgoing Remittances (Value)'!D16","v":0}]
["CMREM_11530","AG",{"$f":"+'Outgoing Remittances (Value)'!$D$5","v":"20240831"},{"$f":"+'COVER SHEET'!$D$12","v":0},11530,{"$f":"'COVER SHEET'!$D$16&IF(MID('COVER SHEET'!$I$18,6,10)=\"december\",\"1231\",IF(MID('COVER SHEET'!$I$18,6,10)=\"june\",\"0630\"))","v":"20241231"},{"$f":"+'Outgoing Remittances (Value)'!D17","v":0}]
["CMREM_11530","AR",{"$f":"+'Outgoing Remittances (Value)'!$D$5","v":"20240831"},{"$f":"+'COVER SHEET'!$D$12","v":0},11530,{"$f":"'COVER SHEET'!$D$16&IF(MID('COVER SHEET'!$I$18,6,10)=\"december\",\"1231\",IF(MID('COVER SHEET'!$I$18,6,10)=\"june\",\"0630\"))","v":"20241231"},{"$f":"+'Outgoing Remittances (Value)'!D18","v":0}]
["CMREM_11530","AM",{"$f":"+'Outgoing Remittances (Value)'!$D$5","v":"20240831"},{"$f":"+'COVER SHEET'!$D$12","v":0},11530,{"$f":"'COVER SHEET'!$D$16&IF(MID('COVER SHEET'!$I$18,6,10)=\"december\",\"1231\",IF(MID('COVER SHEET'!$I$18,6,10)=\"june\",\"0630\"))","v":"20241231"},{"$f":"+'Outgoing Remittances (Value)'!D19","v":0}]
["CMREM_11530","AW",{"$f":"+'Outgoing Remittances (Value)'!$D$5","v":"20240831"},{"$f":"+'COVER SHEET'!$D$12","v":0},11530,{"$f":"'COVER SHEET'!$D$16&IF(MID('COVER SHEET'!$I$18,6,10)=\"december\",\"1231\",IF(MID('COVER SHEET'!$I$18,6,10)=\"june\",\"0630\"))","v":"20241231"},{"$f":"+'Outgoing Remittances (Value)'!D20","v":0}]
["CMREM_11530","AU",{"$f":"+'Outgoing Remittances (Value)'!$D$5","v":"20240831"},{"$f":"+'COVER SHEET'!$D$12","v":0},11530,{"$f":"'COVER SHEET'!$D$16&IF(MID('COVER SHEET'!$I$18,6,10)=\"december\",\"1231\",IF(MID('COVER SHEET'!$I$18,6,10)=\"june\",\"0630\"))","v":"20241231"},{"$f":"+'Outgoing Remittances (Value)'!D21","v":0}]
["CMREM_11530","AT",{"$f":"+'Outgoing Remittances (Value)'!$D$5","v":"20240831"},{"$f":"+'COVER SHEET'!$D$12","v":0},11530,{"$f":"'COVER SHEET'!$D$16&IF(MID('COVER SHEET'!$I$18,6,10)=\"december\",\"1231\",IF(MID('COVER SHEET'!$I$18,6,10)=\"june\",\"0630\"))","v":"20241231"},{"$f":"+'Outgoing Remittances (Value)'!D22","v":0}]
["CMREM_11530","AZ",{"$f":"+'Outgoing Remittances (Value)'!$D$5","v":"20240831"},{"$f":"+'COVER SHEET'!$D$12","v":0},11530,{"$f":"'COVER SHEET'!$D$16&IF(MID('COVER SHEET'!$I$18,6,10)=\"december\",\"1231\",IF(MID('COVER SHEET'!$I$18,6,10)=\"june\",\"0630\"))","v":"20241231"},{"$f":"+'Outgoing Remittances (Value)'!D23","v":0}]
["CMREM_11530","BS",{"$f":"+'Outgoing Remittances (Value)'!$D$5","v":"20240831"},{"$f":"+'COVER SHEET'!$D$12","v":0},11530,{"$f":"'COVER SHEET'!$D$16&IF(MID('COVER SHEET'!$I$18,6,10)=\"december\",\"1231\",IF(MID('COVER SHEET'!$I$18,6,10)=\"june\",\"0630\"))","v":"20241231"},{"$f":"+'Outgoing Remittances (Value)'!D24","v":0}]
["CMREM_11530","BH",{"$f":"+'Outgoing Remittances (Value)'!$D$5","v":"20240831"},{"$f":"+'COVER SHEET'!$D$12","v":0},11530,{"$f":"'COVER SHEET'!$D$16&IF(MID('COVER SHEET'!$I$18,6,10)=\"december\",\"1231\",IF(MID('COVER SHEET'!$I$18,6,10)=\"june\",\"0630\"))","v":"20241231"},{"$f":"+'Outgoing Remittances (Value)'!D25","v":0}]
["CMREM_11530","BD",{"$f":"+'Outgoing Remittances (Value)'!$D$5","v":"20240831"},{"$f":"+'COVER SHEET'!$D$12","v":0},11530,{"$f":"'COVER SHEET'!$D$16&IF(MID('COVER SHEET'!$I$18,6,10)=\"december\",\"1231\",IF(MID('COVER SHEET'!$I$18,6,10)=\"june\",\"0630\"))","v":"20241231"},{"$f":"+'Outgoing Remittances (Value)'!D26","v":0}]
["CMREM_11530","BB",{"$f":"+'Outgoing Remittances (Value)'!$D$5","v":"20240831"},{"$f":"+'COVER SHEET'!$D$12","v":0},11530,{"$f":"'COVER SHEET'!$D$16&IF(MID('COVER SHEET'!$I$18,6,10)=\"december\",\"1231\",IF(MID('COVER SHEET'!$I$18,6,10)=\"june\",\"0630\"))","v":"20241231"},{"$f":"+'Outgoing Remittances (Value)'!D27","v":0}]
["CMREM_11530","BY",{"$f":"+'Outgoing Remittances (Value)'!$D$5","v":"20240831"},{"$f":"+'COVER SHEET'!$D$12","v":0},11530,{"$f":"'COVER SHEET'!$D$16&IF(MID('COVER SHEET'!$I$18,6,10)=\"december\",\"1231\",IF(MID('COVER SHEET'!$I$18,6,10)=\"june\",\"0630\"))","v":"20241231"},{"$f":"+'Outgoing Remittances (Value)'!D28","v":0}]
["CMREM_11530","BE",{"$f":"+'Outgoing Remittances (Value)'!$D$5","v":"20240831"},{"$f":"+'COVER SHEET'!$D$12","v":0},11530,{"$f":"'COVER SHEET'!$D$16&IF(MID('COVER SHEET'!$I$18,6,10)=\"december\",\"1231\",IF(MID('COVER SHEET'!$I$18,6,10)=\"june\",\"0630\"))","v":"20241231"},{"$f":"+'Outgoing Remittances (Value)'!D29","v":0}]
["CMREM_11530","BZ",{"$f":"+'Outgoing Remittances (Value)'!$D$5","v":"20240831"},{"$f":"+'COVER SHEET'!$D$12","v":0},11530,{"$f":"'COVER SHEET'!$D$16&IF(MID('COVER SHEET'!$I$18,6,10)=\"december\",\"1231\",IF(MID('COVER SHEET'!$I$18,6,10)=\"june\",\"0630\"))","v":"20241231"},{"$f":"+'Outgoing Remittances (Value)'!D30","v":0}]
["CMREM_11530","BJ",{"$f":"+'Outgoing Remittances (Value)'!$D$5","v":"20240831"},{"$f":"+'COVER SHEET'!$D$12","v":0},11530,{"$f":"'COVER SHEET'!$D$16&IF(MID('COVER SHEET'!$I$18,6,10)=\"december\",\"1231\",IF(MID('COVER SHEET'!$I$18,6,10)=\"june\",\"0630\"))","v":"20241231"},{"$f":"+'Outgoing Remittances (Value)'!D31","v":0}]
["CMREM_11530","BM",{"$f":"+'Outgoing Remittances (Value)'!$D$5","v":"20240831"},{"$f":"+'COVER SHEET'!$D$12","v":0},11530,{"$f":"'COVER SHEET'!$D$16&IF(MID('COVER SHEET'!$I$18,6,10)=\"december\",\"1231\",IF(MID('COVER SHEET'!$I$18,6,10)=\"june\",\"0630\"))","v":"20241231"},{"$f":"+'Outgoing Remittances (Value)'!D32","v":0}]
["CMREM_11530","BQ",{"$f":"+'Outgoing Remittances (Value)'!$D$5","v":"20240831"},{"$f":"+'COVER SHEET'!$D$12","v":0},11530,{"$f":"'COVER SHEET'!$D$16&IF(MID('COVER SHEET'!$I$18,6,10)=\"december\",\"1231\",IF(MID('COVER SHEET'!$I$18,6,10)=\"june\",\"0630\"))","v":"20241231"},{"$f":"+'Outgoing Remittances (Value)'!D33","v":0}]
["CMREM_11530","BT",{"$f":"+'Outgoing Remittances (Value)'!$D$5","v":"20240831"},{"$f":"+'COVER SHEET'!$D$12","v":0},11530,{"$f":"'COVER SHEET'!$D$16&IF(MID('COVER SHEET'!$I$18,6,10)=\"december\",\"1231\",IF(MID('COVER SHEET'!$I$18,6,10)=\"june\",\"0630\"))","v":"20241231"},{"$f":"+'Outgoing Remittances (Value)'!D34","v":0}]
["CMREM_11530","BO",{"$f":"+'Outgoing Remittances (Value)'!$D$5","v":"20240831"},{"$f":"+'COVER SHEET'!$D$12","v":0},11530,{"$f":"'COVER SHEET'!$D$16&IF(MID('COVER SHEET'!$I$18,6,10)=\"december\",\"1231\",IF(MID('COVER SHEET'!$I$18,6,10)=\"june\",\"0630\"))","v":"20241231"},{"$f":"+'Outgoing Remittances (Value)'!D35","v":0}]
["CMREM_11530","BA",{"$f":"+'Outgoing Remittances (Value)'!$D$5","v":"20240831"},{"$f":"+'COVER SHEET'!$D$12","v":0},11530,{"$f":"'COVER SHEET'!$D$16&IF(MID('COVER SHEET'!$I$18,6,10)=\"december\",\"1231\",IF(MID('COVER SHEET'!$I$18,6,10)=\"june\",\"0630\"))","v":"20241231"},{"$f":"+'Outgoing Remittances (Value)'!D36","v":0}]
["CMREM_11530","BW",{"$f":"+'Outgoing Remittances (Value)'!$D$5","v":"20240831"},{"$f":"+'COVER SHEET'!$D$12","v":0},11530,{"$f":"'COVER SHEET'!$D$16&IF(MID('COVER SHEET'!$I$18,6,10)=\"december\",\"1231\",IF(MID('COVER SHEET'!$I$18,6,10)=\"june\",\"0630\"))","v":"20241231"},{"$f":"+'Outgoing Remittances (Value)'!D37","v":0}]
["CMREM_11530","BV",{"$f":"+'Outgoing Remittances (Value)'!$D$5","v":"20240831"},{"$f":"+'COVER SHEET'!$D$12","v":0},11530,{"$f":"'COVER SHEET'!$D$16&IF(MID('COVER SHEET'!$I$18,6,10)=\"december\",\"1231\",IF(MID('COVER SHEET'!$I$18,6,10)=\"june\",\"0630\"))","v":"20241231"},{"$f":"+'Outgoing Remittances (Value)'!D38","v":0}]
["CMREM_11530","BR",{"$f":"+'Outgoing Remittances (Value)'!$D$5","v":"20240831"},{"$f":"+'COVER SHEET'!$D$12","v":0},11530,{"$f":"'COVER SHEET'!$D$16&IF(MID('COVER SHEET'!$I$18,6,10)=\"december\",\"1231\",IF(MID('COVER SHEET'!$I$18,6,10)=\"june\",\"0630\"))","v":"20241231"},{"$f":"+'Outgoing Remittances (Value)'!D39","v":0}]
["CMREM_11530","IO",{"$f":"+'Outgoing Remittances (Value)'!$D$5","v":"20240831"},{"$f":"+'COVER SHEET'!$D$12","v":0},11530,{"$f":"'COVER SHEET'!$D$16&IF(MID('COVER SHEET'!$I$18,6,10)=\"december\",\"1231\",IF(MID('COVER SHEET'!$I$18,6,10)=\"june\",\"0630\"))","v":"20241231"},{"$f":"+'Outgoing Remittances (Value)'!D40","v":0}]
["CMREM_11530","VG",{"$f":"+'Outgoing Remittances (Value)'!$D$5","v":"20240831"},{"$f":"+'COVER SHEET'!$D$12","v":0},11530,{"$f":"'COVER SHEET'!$D$16&IF(MID('COVER SHEET'!$I$18,6,10)=\"december\",\"1231\",IF(MID('COVER SHEET'!$I$18,6,10)=\"june\",\"0630\"))","v":"20241231"},{"$f":"+'Outgoing Remittances (Value)'!D41","v":0}]
["CMREM_11530","BN",{"$f":"+'Outgoing Remittances (Value)'!$D$5","v":"20240831"},{"$f":"+'COVER SHEET'!$D$12","v":0},11530,{"$f":"'COVER SHEET'!$D$16&IF(MID('COVER SHEET'!$I$18,6,10)=\"december\",\"1231\",IF(MID('COVER SHEET'!$I$18,6,10)=\"june\",\"0630\"))","v":"20241231"},{"$f":"+'Outgoing Remittances (Value)'!D42","v":0}]
["CMREM_11530","BG",{"$f":"+'Outgoing Remittances (Value)'!$D$5","v":"20240831"},{"$f":"+'COVER SHEET'!$D$12","v":0},11530,{"$f":"'COVER SHEET'!$D$16&IF(MID('COVER SHEET'!$I$18,6,10)=\"december\",\"1231\",IF(MID('COVER SHEET'!$I$18,6,10)=\"june\",\"0630\"))","v":"20241231"},{"$f":"+'Outgoing Remittances (Value)'!D43","v":0}]
["CMREM_11530","BF",{"$f":"+'Outgoing Remittances (Value)'!$D$5","v":"20240831"},{"$f":"+'COVER SHEET'!$D$12","v":0},11530,{"$f":"'COVER SHEET'!$D$16&IF(MID('COVER SHEET'!$I$18,6,10)=\"december\",\"1231\",IF(MID('COVER SHEET'!$I$18,6,10)=\"june\",\"0630\"))","v":"20241231"},{"$f":"+'Outgoing Remittances (Value)'!D44","v":0}]
["CMREM_11530","BI",{"$f":"+'Outgoing Remittances (Value)'!$D$5","v":"20240831"},{"$f":"+'COVER SHEET'!$D$12","v":0},11530,{"$f":"'COVER SHEET'!$D$16&IF(MID('COVER SHEET'!$I$18,6,10)=\"december\",\"1231\",IF(MID('COVER SHEET'!$I$18,6,10)=\"june\",\"0630\"))","v":"20241231"},{"$f":"+'Outgoing Remittances (Value)'!D45","v":0}]
["CMREM_11530","KH",{"$f":"+'Outgoing Remittances (Value)'!$D$5","v":"20240831"},{"$f":"+'COVER SHEET'!$D$12","v":0},11530,{"$f":"'COVER SHEET'!$D$16&IF(MID('COVER SHEET'!$I$18,6,10)=\"december\",\"1231\",IF(MID('COVER SHEET'!$I$18,6,10)=\"june\",\"0630\"))","v":"20241231"},{"$f":"+'Outgoing Remittances (Value)'!D46","v":0}]
["CMREM_11530","CM",{"$f":"+'Outgoing Remittances (Value)'!$D$5","v":"20240831"},{"$f":"+'COVER SHEET'!$D$12","v":0},11530,{"$f":"'COVER SHEET'!$D$16&IF(MID('COVER SHEET'!$I$18,6,10)=\"december\",\"1231\",IF(MID('COVER SHEET'!$I$18,6,10)=\"june\",\"0630\"))","v":"20241231"},{"$f":"+'Outgoing Remittances (Value)'!D47","v":0}]
["CMREM_11530","CA",{"$f":"+'Outgoing Remittances (Value)'!$D$5","v":"20240831"},{"$f":"+'COVER SHEET'!$D$12","v":0},11530,{"$f":"'COVER SHEET'!$D$16&IF(MID('COVER SHEET'!$I$18,6,10)=\"december\",\"1231\",IF(MID('COVER SHEET'!$I$18,6,10)=\"june\",\"0630\"))","v":"20241231"},{"$f":"+'Outgoing Remittances (Value)'!D48","v":0}]
["CMREM_11530","CV",{"$f":"+'Outgoing Remittances (Value)'!$D$5","v":"20240831"},{"$f":"+'COVER SHEET'!$D$12","v":0},11530,{"$f":"'COVER SHEET'!$D$16&IF(MID('COVER SHEET'!$I$18,6,10)=\"december\",\"1231\",IF(MID('COVER SHEET'!$I$18,6,10)=\"june\",\"0630\"))","v":"20241231"},{"$f":"+'Outgoing Remittances (Value)'!D49","v":0}]
["CMREM_11530","KY",{"$f":"+'Outgoing Remittances (Value)'!$D$5","v":"20240831"},{"$f":"+'COVER SHEET'!$D$12","v":0},11530,{"$f":"'COVER SHEET'!$D$16&IF(MID('COVER SHEET'!$I$18,6,10)=\"december\",\"1231\",IF(MID('COVER SHEET'!$I$18,6,10)=\"june\",\"0630\"))","v":"20241231"},{"$f":"+'Outgoing Remittances (Value)'!D50","v":0}]
["CMREM_11530","CF",{"$f":"+'Outgoing Remittances (Value)'!$D$5","v":"20240831"},{"$f":"+'COVER SHEET'!$D$12","v":0},11530,{"$f":"'COVER SHEET'!$D$16&IF(MID('COVER SHEET'!$I$18,6,10)=\"december\",\"1231\",IF(MID('COVER SHEET'!$I$18,6,10)=\"june\",\"0630\"))","v":"20241231"},{"$f":"+'Outgoing Remittances (Value)'!D51","v":0}]
["CMREM_11530","TD",{"$f":"+'Outgoing Remittances (Value)'!$D$5","v":"20240831"},{"$f":"+'COVER SHEET'!$D$12","v":0},11530,{"$f":"'COVER SHEET'!$D$16&IF(MID('COVER SHEET'!$I$18,6,10)=\"december\",\"1231\",IF(MID('COVER SHEET'!$I$18,6,10)=\"june\",\"0630\"))","v":"20241231"},{"$f":"+'Outgoing Remittances (Value)'!D52","v":0}]
["CMREM_11530","CL",{"$f":"+'Outgoing Remittances (Value)'!$D$5","v":"20240831"},{"$f":"+'COVER SHEET'!$D$12","v":0},11530,{"$f":"'COVER SHEET'!$D$16&IF(MID('COVER SHEET'!$I$18,6,10)=\"december\",\"1231\",IF(MID('COVER SHEET'!$I$18,6,10)=\"june\",\"0630\"))","v":"20241231"},{"$f":"+'Outgoing Remittances (Value)'!D53","v":0}]
["CMREM_11530","CN",{"$f":"+'Outgoing Remittances (Value)'!$D$5","v":"20240831"},{"$f":"+'COVER SHEET'!$D$12","v":0},11530,{"$f":"'COVER SHEET'!$D$16&IF(MID('COVER SHEET'!$I$18,6,10)=\"december\",\"1231\",IF(MID('COVER SHEET'!$I$18,6,10)=\"june\",\"0630\"))","v":"20241231"},{"$f":"+'Outgoing Remittances (Value)'!D54","v":0}]
["CMREM_11530","CX",{"$f":"+'Outgoing Remittances (Value)'!$D$5","v":"20240831"},{"$f":"+'COVER SHEET'!$D$12","v":0},11530,{"$f":"'COVER SHEET'!$D$16&IF(MID('COVER SHEET'!$I$18,6,10)=\"december\",\"1231\",IF(MID('COVER SHEET'!$I$18,6,10)=\"june\",\"0630\"))","v":"20241231"},{"$f":"+'Outgoing Remittances (Value)'!D55","v":0}]
["CMREM_11530","CC",{"$f":"+'Outgoing Remittances (Value)'!$D$5","v":"20240831"},{"$f":"+'COVER SHEET'!$D$12","v":0},11530,{"$f":"'COVER SHEET'!$D$16&IF(MID('COVER SHEET'!$I$18,6,10)=\"december\",\"1231\",IF(MID('COVER SHEET'!$I$18,6,10)=\"june\",\"0630\"))","v":"20241231"},{"$f":"+'Outgoing Remittances (Value)'!D56","v":0}]
["CMREM_11530","CO",{"$f":"+'Outgoing Remittances (Value)'!$D$5","v":"20240831"},{"$f":"+'COVER SHEET'!$D$12","v":0},11530,{"$f":"'COVER SHEET'!$D$16&IF(MID('COVER SHEET'!$I$18,6,10)=\"december\",\"1231\",IF(MID('COVER SHEET'!$I$18,6,10)=\"june\",\"0630\"))","v":"20241231"},{"$f":"+'Outgoing Remittances (Value)'!D57","v":0}]
["CMREM_11530","KM",{"$f":"+'Outgoing Remittances (Value)'!$D$5","v":"20240831"},{"$f":"+'COVER SHEET'!$D$12","v":0},11530,{"$f":"'COVER SHEET'!$D$16&IF(MID('COVER SHEET'!$I$18,6,10)=\"december\",\"1231\",IF(MID('COVER SHEET'!$I$18,6,10)=\"june\",\"0630\"))","v":"20241231"},{"$f":"+'Outgoing Remittances (Value)'!D58","v":0}]
["CMREM_11530","CG",{"$f":"+'Outgoing Remittances (Value)'!$D$5","v":"20240831"},{"$f":"+'COVER SHEET'!$D$12","v":0},11530,{"$f":"'COVER SHEET'!$D$16&IF(MID('COVER SHEET'!$I$18,6,10)=\"december\",\"1231\",IF(MID('COVER SHEET'!$I$18,6,10)=\"june\",\"0630\"))","v":"20241231"},{"$f":"+'Outgoing Remittances (Value)'!D59","v":0}]
["CMREM_11530","CD",{"$f":"+'Outgoing Remittances (Value)'!$D$5","v":"20240831"},{"$f":"+'COVER SHEET'!$D$12","v":0},11530,{"$f":"'COVER SHEET'!$D$16&IF(MID('COVER SHEET'!$I$18,6,10)=\"december\",\"1231\",IF(MID('COVER SHEET'!$I$18,6,10)=\"june\",\"0630\"))","v":"20241231"},{"$f":"+'Outgoing Remittances (Value)'!D60","v":0}]
["CMREM_11530","CK",{"$f":"+'Outgoing Remittances (Value)'!$D$5","v":"20240831"},{"$f":"+'COVER SHEET'!$D$12","v":0},11530,{"$f":"'COVER SHEET'!$D$16&IF(MID('COVER SHEET'!$I$18,6,10)=\"december\",\"1231\",IF(MID('COVER SHEET'!$I$18,6,10)=\"june\",\"0630\"))","v":"20241231"},{"$f":"+'Outgoing Remittances (Value)'!D61","v":0}]
["CMREM_11530","CR",{"$f":"+'Outgoing Remittances (Value)'!$D$5","v":"20240831"},{"$f":"+'COVER SHEET'!$D$12","v":0},11530,{"$f":"'COVER SHEET'!$D$16&IF(MID('COVER SHEET'!$I$18,6,10)=\"december\",\"1231\",IF(MID('COVER SHEET'!$I$18,6,10)=\"june\",\"0630\"))","v":"20241231"},{"$f":"+'Outgoing Remittances (Value)'!D62","v":0}]
["CMREM_11530","HR",{"$f":"+'Outgoing Remittances (Value)'!$D$5","v":"20240831"},{"$f":"+'COVER SHEET'!$D$12","v":0},11530,{"$f":"'COVER SHEET'!$D$16&IF(MID('COVER SHEET'!$I$18,6,10)=\"december\",\"1231\",IF(MID('COVER SHEET'!$I$18,6,10)=\"june\",\"0630\"))","v":"20241231"},{"$f":"+'Outgoing Remittances (Value)'!D63","v":0}]
["CMREM_11530","CU",{"$f":"+'Outgoing Remittances (Value)'!$D$5","v":"20240831"},{"$f":"+'COVER SHEET'!$D$12","v":0},11530,{"$f":"'COVER SHEET'!$D$16&IF(MID('COVER SHEET'!$I$18,6,10)=\"december\",\"1231\",IF(MID('COVER SHEET'!$I$18,6,10)=\"june\",\"0630\"))","v":"20241231"},{"$f":"+'Outgoing Remittances (Value)'!D64","v":0}]
["CMREM_11530","CW",{"$f":"+'Outgoing Remittances (Value)'!$D$5","v":"20240831"},{"$f":"+'COVER SHEET'!$D$12","v":0},11530,{"$f":"'COVER SHEET'!$D$16&IF(MID('COVER SHEET'!$I$18,6,10)=\"december\",\"1231\",IF(MID('COVER SHEET'!$I$18,6,10)=\"june\",\"0630\"))","v":"20241231"},{"$f":"+'Outgoing Remittances (Value)'!D65","v":0}]
["CMREM_11530","CY",{"$f":"+'Outgoing Remittances (Value)'!$D$5","v":"20240831"},{"$f":"+'COVER SHEET'!$D$12","v":0},11530,{"$f":"'COVER SHEET'!$D$16&IF(MID('COVER SHEET'!$I$18,6,10)=\"december\",\"1231\",IF(MID('COVER SHEET'!$I$18,6,10)=\"june\",\"0630\"))","v":"20241231"},{"$f":"+'Outgoing Remittances (Value)'!D66","v":0}]
["CMREM_11530","CZ",{"$f":"+'Outgoing Remittances (Value)'!$D$5","v":"20240831"},{"$f":"+'COVER SHEET'!$D$12","v":0},11530,{"$f":"'COVER SHEET'!$D$16&IF(MID('COVER SHEET'!$I$18,6,10)=\"december\",\"1231\",IF(MID('COVER SHEET'!$I$18,6,10)=\"june\",\"0630\"))","v":"20241231"},{"$f":"+'Outgoing Remittances (Value)'!D67","v":0}]
["CMREM_11530","DK",{"$f":"+'Outgoing Remittances (Value)'!$D$5","v":"20240831"},{"$f":"+'COVER SHEET'!$D$12","v":0},11530,{"$f":"'COVER SHEET'!$D$16&IF(MID('COVER SHEET'!$I$18,6,10)=\"december\",\"1231\",IF(MID('COVER SHEET'!$I$18,6,10)=\"june\",\"0630\"))","v":"20241231"},{"$f":"+'Outgoing Remittances (Value)'!D68","v":0}]
["CMREM_11530","DJ",{"$f":"+'Outgoing Remittances (Value)'!$D$5","v":"20240831"},{"$f":"+'COVER SHEET'!$D$12","v":0},11530,{"$f":"'COVER SHEET'!$D$16&IF(MID('COVER SHEET'!$I$18,6,10)=\"december\",\"1231\",IF(MID('COVER SHEET'!$I$18,6,10)=\"june\",\"0630\"))","v":"20241231"},{"$f":"+'Outgoing Remittances (Value)'!D69","v":0}]
["CMREM_11530","DM",{"$f":"+'Outgoing Remittances (Value)'!$D$5","v":"20240831"},{"$f":"+'COVER SHEET'!$D$12","v":0},11530,{"$f":"'COVER SHEET'!$D$16&IF(MID('COVER SHEET'!$I$18,6,10)=\"december\",\"1231\",IF(MID('COVER SHEET'!$I$18,6,10)=\"june\",\"0630\"))","v":"20241231"},{"$f":"+'Outgoing Remittances (Value)'!D70","v":0}]
["CMREM_11530","DO",{"$f":"+'Outgoing Remittances (Value)'!$D$5","v":"20240831"},{"$f":"+'COVER SHEET'!$D$12","v":0},11530,{"$f":"'COVER SHEET'!$D$16&IF(MID('COVER SHEET'!$I$18,6,10)=\"december\",\"1231\",IF(MID('COVER SHEET'!$I$18,6,10)=\"june\",\"0630\"))","v":"20241231"},{"$f":"+'Outgoing Remittances (Value)'!D71","v":0}]
["CMREM_11530","TL",{"$f":"+'Outgoing Remittances (Value)'!$D$5","v":"20240831"},{"$f":"+'COVER SHEET'!$D$12","v":0},11530,{"$f":"'COVER SHEET'!$D$16&IF(MID('COVER SHEET'!$I$18,6,10)=\"december\",\"1231\",IF(MID('COVER SHEET'!$I$18,6,10)=\"june\",\"0630\"))","v":"20241231"},{"$f":"+'Outgoing Remittances (Value)'!D72","v":0}]
["CMREM_11530","EC",{"$f":"+'Outgoing Remittances (Value)'!$D$5","v":"20240831"},{"$f":"+'COVER SHEET'!$D$12","v":0},11530,{"$f":"'COVER SHEET'!$D$16&IF(MID('COVER SHEET'!$I$18,6,10)=\"december\",\"1231\",IF(MID('COVER SHEET'!$I$18,6,10)=\"june\",\"0630\"))","v":"20241231"},{"$f":"+'Outgoing Remittances (Value)'!D73","v":0}]
["CMREM_11530","EG",{"$f":"+'Outgoing Remittances (Value)'!$D$5","v":"20240831"},{"$f":"+'COVER SHEET'!$D$12","v":0},11530,{"$f":"'COVER SHEET'!$D$16&IF(MID('COVER SHEET'!$I$18,6,10)=\"december\",\"1231\",IF(MID('COVER SHEET'!$I$18,6,10)=\"june\",\"0630\"))","v":"20241231"},{"$f":"+'Outgoing Remittances (Value)'!D74","v":0}]
["CMREM_11530","SV",{"$f":"+'Outgoing Remittances (Value)'!$D$5","v":"20240831"},{"$f":"+'COVER SHEET'!$D$12","v":0},11530,{"$f":"'COVER SHEET'!$D$16&IF(MID('COVER SHEET'!$I$18,6,10)=\"december\",\"1231\",IF(MID('COVER SHEET'!$I$18,6,10)=\"june\",\"0630\"))","v":"20241231"},{"$f":"+'Outgoing Remittances (Value)'!D75","v":0}]
["CMREM_11530","GQ",{"$f":"+'Outgoing Remittances (Value)'!$D$5","v":"20240831"},{"$f":"+'COVER SHEET'!$D$12","v":0},11530,{"$f":"'COVER SHEET'!$D$16&IF(MID('COVER SHEET'!$I$18,6,10)=\"december\",\"1231\",IF(MID('COVER SHEET'!$I$18,6,10)=\"june\",\"0630\"))","v":"20241231"},{"$f":"+'Outgoing Remittances (Value)'!D76","v":0}]
["CMREM_11530","ER",{"$f":"+'Outgoing Remittances (Value)'!$D$5","v":"20240831"},{"$f":"+'COVER SHEET'!$D$12","v":0},11530,{"$f":"'COVER SHEET'!$D$16&IF(MID('COVER SHEET'!$I$18,6,10)=\"december\",\"1231\",IF(MID('COVER SHEET'!$I$18,6,10)=\"june\",\"0630\"))","v":"20241231"},{"$f":"+'Outgoing Remittances (Value)'!D77","v":0}]
["CMREM_11530","EE",{"$f":"+'Outgoing Remittances (Value)'!$D$5","v":"20240831"},{"$f":"+'COVER SHEET'!$D$12","v":0},11530,{"$f":"'COVER SHEET'!$D$16&IF(MID('COVER SHEET'!$I$18,6,10)=\"december\",\"1231\",IF(MID('COVER SHEET'!$I$18,6,10)=\"june\",\"0630\"))","v":"20241231"},{"$f":"+'Outgoing Remittances (Value)'!D78","v":0}]
["CMREM_11530","ET",{"$f":"+'Outgoing Remittances (Value)'!$D$5","v":"20240831"},{"$f":"+'COVER SHEET'!$D$12","v":0},11530,{"$f":"'COVER SHEET'!$D$16&IF(MID('COVER SHEET'!$I$18,6,10)=\"december\",\"1231\",IF(MID('COVER SHEET'!$I$18,6,10)=\"june\",\"0630\"))","v":"20241231"},{"$f":"+'Outgoing Remittances (Value)'!D79","v":0}]
["CMREM_11530","FK",{"$f":"+'Outgoing Remittances (Value)'!$D$5","v":"20240831"},{"$f":"+'COVER SHEET'!$D$12","v":0},11530,{"$f":"'COVER SHEET'!$D$16&IF(MID('COVER SHEET'!$I$18,6,10)=\"december\",\"1231\",IF(MID('COVER SHEET'!$I$18,6,10)=\"june\",\"0630\"))","v":"20241231"},{"$f":"+'Outgoing Remittances (Value)'!D80","v":0}]
["CMREM_11530","FO",{"$f":"+'Outgoing Remittances (Value)'!$D$5","v":"20240831"},{"$f":"+'COVER SHEET'!$D$12","v":0},11530,{"$f":"'COVER SHEET'!$D$16&IF(MID('COVER SHEET'!$I$18,6,10)=\"december\",\"1231\",IF(MID('COVER SHEET'!$I$18,6,10)=\"june\",\"0630\"))","v":"20241231"},{"$f":"+'Outgoing Remittances (Value)'!D81","v":0}]
["CMREM_11530","FJ",{"$f":"+'Outgoing Remittances (Value)'!$D$5","v":"20240831"},{"$f":"+'COVER SHEET'!$D$12","v":0},11530,{"$f":"'COVER SHEET'!$D$16&IF(MID('COVER SHEET'!$I$18,6,10)=\"december\",\"1231\",IF(MID('COVER SHEET'!$I$18,6,10)=\"june\",\"0630\"))","v":"20241231"},{"$f":"+'Outgoing Remittances (Value)'!D82","v":0}]
["CMREM_11530","FI",{"$f":"+'Outgoing Remittances (Value)'!$D$5","v":"20240831"},{"$f":"+'COVER SHEET'!$D$12","v":0},11530,{"$f":"'COVER SHEET'!$D$16&IF(MID('COVER SHEET'!$I$18,6,10)=\"december\",\"1231\",IF(MID('COVER SHEET'!$I$18,6,10)=\"june\",\"0630\"))","v":"20241231"},{"$f":"+'Outgoing Remittances (Value)'!D83","v":0}]
["CMREM_11530","FR",{"$f":"+'Outgoing Remittances (Value)'!$D$5","v":"20240831"},{"$f":"+'COVER SHEET'!$D$12","v":0},11530,{"$f":"'COVER SHEET'!$D$16&IF(MID('COVER SHEET'!$I$18,6,10)=\"december\",\"1231\",IF(MID('COVER SHEET'!$I$18,6,10)=\"june\",\"0630\"))","v":"20241231"},{"$f":"+'Outgoing Remittances (Value)'!D84","v":0}]
["CMREM_11530","PF",{"$f":"+'Outgoing Remittances (Value)'!$D$5","v":"20240831"},{"$f":"+'COVER SHEET'!$D$12","v":0},11530,{"$f":"'COVER SHEET'!$D$16&IF(MID('COVER SHEET'!$I$18,6,10)=\"december\",\"1231\",IF(MID('COVER SHEET'!$I$18,6,10)=\"june\",\"0630\"))","v":"20241231"},{"$f":"+'Outgoing Remittances (Value)'!D85","v":0}]
["CMREM_11530","TF",{"$f":"+'Outgoing Remittances (Value)'!$D$5","v":"20240831"},{"$f":"+'COVER SHEET'!$D$12","v":0},11530,{"$f":"'COVER SHEET'!$D$16&IF(MID('COVER SHEET'!$I$18,6,10)=\"december\",\"1231\",IF(MID('COVER SHEET'!$I$18,6,10)=\"june\",\"0630\"))","v":"20241231"},{"$f":"+'Outgoing Remittances (Value)'!D86","v":0}]
["CMREM_11530","GA",{"$f":"+'Outgoing Remittances (Value)'!$D$5","v":"20240831"},{"$f":"+'COVER SHEET'!$D$12","v":0},11530,{"$f":"'COVER SHEET'!$D$16&IF(MID('COVER SHEET'!$I$18,6,10)=\"december\",\"1231\",IF(MID('COVER SHEET'!$I$18,6,10)=\"june\",\"0630\"))","v":"20241231"},{"$f":"+'Outgoing Remittances (Value)'!D87","v":0}]
["CMREM_11530","GM",{"$f":"+'Outgoing Remittances (Value)'!$D$5","v":"20240831"},{"$f":"+'COVER SHEET'!$D$12","v":0},11530,{"$f":"'COVER SHEET'!$D$16&IF(MID('COVER SHEET'!$I$18,6,10)=\"december\",\"1231\",IF(MID('COVER SHEET'!$I$18,6,10)=\"june\",\"0630\"))","v":"20241231"},{"$f":"+'Outgoing Remittances (Value)'!D88","v":0}]
["CMREM_11530","GE",{"$f":"+'Outgoing Remittances (Value)'!$D$5","v":"20240831"},{"$f":"+'COVER SHEET'!$D$12","v":0},11530,{"$f":"'COVER SHEET'!$D$16&IF(MID('COVER SHEET'!$I$18,6,10)=\"december\",\"1231\",IF(MID('COVER SHEET'!$I$18,6,10)=\"june\",\"0630\"))","v":"20241231"},{"$f":"+'Outgoing Remittances (Value)'!D89","v":0}]
["CMREM_11530","DE",{"$f":"+'Outgoing Remittances (Value)'!$D$5","v":"20240831"},{"$f":"+'COVER SHEET'!$D$12","v":0},11530,{"$f":"'COVER SHEET'!$D$16&IF(MID('COVER SHEET'!$I$18,6,10)=\"december\",\"1231\",IF(MID('COVER SHEET'!$I$18,6,10)=\"june\",\"0630\"))","v":"20241231"},{"$f":"+'Outgoing Remittances (Value)'!D90","v":0}]
["CMREM_11530","GH",{"$f":"+'Outgoing Remittances (Value)'!$D$5","v":"20240831"},{"$f":"+'COVER SHEET'!$D$12","v":0},11530,{"$f":"'COVER SHEET'!$D$16&IF(MID('COVER SHEET'!$I$18,6,10)=\"december\",\"1231\",IF(MID('COVER SHEET'!$I$18,6,10)=\"june\",\"0630\"))","v":"20241231"},{"$f":"+'Outgoing Remittances (Value)'!D91","v":0}]
["CMREM_11530","GI",{"$f":"+'Outgoing Remittances (Value)'!$D$5","v":"20240831"},{"$f":"+'COVER SHEET'!$D$12","v":0},11530,{"$f":"'COVER SHEET'!$D$16&IF(MID('COVER SHEET'!$I$18,6,10)=\"december\",\"1231\",IF(MID('COVER SHEET'!$I$18,6,10)=\"june\",\"0630\"))","v":"20241231"},{"$f":"+'Outgoing Remittances (Value)'!D92","v":0}]
["CMREM_11530","GR",{"$f":"+'Outgoing Remittances (Value)'!$D$5","v":"20240831"},{"$f":"+'COVER SHEET'!$D$12","v":0},11530,{"$f":"'COVER SHEET'!$D$16&IF(MID('COVER SHEET'!$I$18,6,10)=\"december\",\"1231\",IF(MID('COVER SHEET'!$I$18,6,10)=\"june\",\"0630\"))","v":"20241231"},{"$f":"+'Outgoing Remittances (Value)'!D93","v":0}]
["CMREM_11530","GL",{"$f":"+'Outgoing Remittances (Value)'!$D$5","v":"20240831"},{"$f":"+'COVER SHEET'!$D$12","v":0},11530,{"$f":"'COVER SHEET'!$D$16&IF(MID('COVER SHEET'!$I$18,6,10)=\"december\",\"1231\",IF(MID('COVER SHEET'!$I$18,6,10)=\"june\",\"0630\"))","v":"20241231"},{"$f":"+'Outgoing Remittances (Value)'!D94","v":0}]
["CMREM_11530","GD",{"$f":"+'Outgoing Remittances (Value)'!$D$5","v":"20240831"},{"$f":"+'COVER SHEET'!$D$12","v":0},11530,{"$f":"'COVER SHEET'!$D$16&IF(MID('COVER SHEET'!$I$18,6,10)=\"december\",\"1231\",IF(MID('COVER SHEET'!$I$18,6,10)=\"june\",\"0630\"))","v":"20241231"},{"$f":"+'Outgoing Remittances (Value)'!D95","v":0}]
["CMREM_11530","GU",{"$f":"+'Outgoing Remittances (Value)'!$D$5","v":"20240831"},{"$f":"+'COVER SHEET'!$D$12","v":0},11530,{"$f":"'COVER SHEET'!$D$16&IF(MID('COVER SHEET'!$I$18,6,10)=\"december\",\"1231\",IF(MID('COVER SHEET'!$I$18,6,10)=\"june\",\"0630\"))","v":"20241231"},{"$f":"+'Outgoing Remittances (Value)'!D96","v":0}]
["CMREM_11530","GT",{"$f":"+'Outgoing Remittances (Value)'!$D$5","v":"20240831"},{"$f":"+'COVER SHEET'!$D$12","v":0},11530,{"$f":"'COVER SHEET'!$D$16&IF(MID('COVER SHEET'!$I$18,6,10)=\"december\",\"1231\",IF(MID('COVER SHEET'!$I$18,6,10)=\"june\",\"0630\"))","v":"20241231"},{"$f":"+'Outgoing Remittances (Value)'!D97","v":0}]
["CMREM_11530","GG",{"$f":"+'Outgoing Remittances (Value)'!$D$5","v":"20240831"},{"$f":"+'COVER SHEET'!$D$12","v":0},11530,{"$f":"'COVER SHEET'!$D$16&IF(MID('COVER SHEET'!$I$18,6,10)=\"december\",\"1231\",IF(MID('COVER SHEET'!$I$18,6,10)=\"june\",\"0630\"))","v":"20241231"},{"$f":"+'Outgoing Remittances (Value)'!D98","v":0}]
["CMREM_11530","GN",{"$f":"+'Outgoing Remittances (Value)'!$D$5","v":"20240831"},{"$f":"+'COVER SHEET'!$D$12","v":0},11530,{"$f":"'COVER SHEET'!$D$16&IF(MID('COVER SHEET'!$I$18,6,10)=\"december\",\"1231\",IF(MID('COVER SHEET'!$I$18,6,10)=\"june\",\"0630\"))","v":"20241231"},{"$f":"+'Outgoing Remittances (Value)'!D99","v":0}]
["CMREM_11530","GW",{"$f":"+'Outgoing Remittances (Value)'!$D$5","v":"20240831"},{"$f":"+'COVER SHEET'!$D$12","v":0},11530,{"$f":"'COVER SHEET'!$D$16&IF(MID('COVER SHEET'!$I$18,6,10)=\"december\",\"1231\",IF(MID('COVER SHEET'!$I$18,6,10)=\"june\",\"0630\"))","v":"20241231"},{"$f":"+'Outgoing Remittances (Value)'!D100","v":0}]
["CMREM_11530","GY",{"$f":"+'Outgoing Remittances (Value)'!$D$5","v":"20240831"},{"$f":"+'COVER SHEET'!$D$12","v":0},11530,{"$f":"'COVER SHEET'!$D$16&IF(MID('COVER SHEET'!$I$18,6,10)=\"december\",\"1231\",IF(MID('COVER SHEET'!$I$18,6,10)=\"june\",\"0630\"))","v":"20241231"},{"$f":"+'Outgoing Remittances (Value)'!D101","v":0}]
["CMREM_11530","HT",{"$f":"+'Outgoing Remittances (Value)'!$D$5","v":"20240831"},{"$f":"+'COVER SHEET'!$D$12","v":0},11530,{"$f":"'COVER SHEET'!$D$16&IF(MID('COVER SHEET'!$I$18,6,10)=\"december\",\"1231\",IF(MID('COVER SHEET'!$I$18,6,10)=\"june\",\"0630\"))","v":"20241231"},{"$f":"+'Outgoing Remittances (Value)'!D102","v":0}]
["CMREM_11530","HM",{"$f":"+'Outgoing Remittances (Value)'!$D$5","v":"20240831"},{"$f":"+'COVER SHEET'!$D$12","v":0},11530,{"$f":"'COVER SHEET'!$D$16&IF(MID('COVER SHEET'!$I$18,6,10)=\"december\",\"1231\",IF(MID('COVER SHEET'!$I$18,6,10)=\"june\",\"0630\"))","v":"20241231"},{"$f":"+'Outgoing Remittances (Value)'!D103","v":0}]
["CMREM_11530","VA",{"$f":"+'Outgoing Remittances (Value)'!$D$5","v":"20240831"},{"$f":"+'COVER SHEET'!$D$12","v":0},11530,{"$f":"'COVER SHEET'!$D$16&IF(MID('COVER SHEET'!$I$18,6,10)=\"december\",\"1231\",IF(MID('COVER SHEET'!$I$18,6,10)=\"june\",\"0630\"))","v":"20241231"},{"$f":"+'Outgoing Remittances (Value)'!D104","v":0}]
["CMREM_11530","HN",{"$f":"+'Outgoing Remittances (Value)'!$D$5","v":"20240831"},{"$f":"+'COVER SHEET'!$D$12","v":0},11530,{"$f":"'COVER SHEET'!$D$16&IF(MID('COVER SHEET'!$I$18,6,10)=\"december\",\"1231\",IF(MID('COVER SHEET'!$I$18,6,10)=\"june\",\"0630\"))","v":"20241231"},{"$f":"+'Outgoing Remittances (Value)'!D105","v":0}]
["CMREM_11530","HK",{"$f":"+'Outgoing Remittances (Value)'!$D$5","v":"20240831"},{"$f":"+'COVER SHEET'!$D$12","v":0},11530,{"$f":"'COVER SHEET'!$D$16&IF(MID('COVER SHEET'!$I$18,6,10)=\"december\",\"1231\",IF(MID('COVER SHEET'!$I$18,6,10)=\"june\",\"0630\"))","v":"20241231"},{"$f":"+'Outgoing Remittances (Value)'!D106","v":0}]
["CMREM_11530","HU",{"$f":"+'Outgoing Remittances (Value)'!$D$5","v":"20240831"},{"$f":"+'COVER SHEET'!$D$12","v":0},11530,{"$f":"'COVER SHEET'!$D$16&IF(MID('COVER SHEET'!$I$18,6,10)=\"december\",\"1231\",IF(MID('COVER SHEET'!$I$18,6,10)=\"june\",\"0630\"))","v":"20241231"},{"$f":"+'Outgoing Remittances (Value)'!D107","v":0}]
["CMREM_11530","IS",{"$f":"+'Outgoing Remittances (Value)'!$D$5","v":"20240831"},{"$f":"+'COVER SHEET'!$D$12","v":0},11530,{"$f":"'COVER SHEET'!$D$16&IF(MID('COVER SHEET'!$I$18,6,10)=\"december\",\"1231\",IF(MID('COVER SHEET'!$I$18,6,10)=\"june\",\"0630\"))","v":"20241231"},{"$f":"+'Outgoing Remittances (Value)'!D108","v":0}]
["CMREM_11530","IN",{"$f":"+'Outgoing Remittances (Value)'!$D$5","v":"20240831"},{"$f":"+'COVER SHEET'!$D$12","v":0},11530,{"$f":"'COVER SHEET'!$D$16&IF(MID('COVER SHEET'!$I$18,6,10)=\"december\",\"1231\",IF(MID('COVER SHEET'!$I$18,6,10)=\"june\",\"0630\"))","v":"20241231"},{"$f":"+'Outgoing Remittances (Value)'!D109","v":0}]
["CMREM_11530","ID",{"$f":"+'Outgoing Remittances (Value)'!$D$5","v":"20240831"},{"$f":"+'COVER SHEET'!$D$12","v":0},11530,{"$f":"'COVER SHEET'!$D$16&IF(MID('COVER SHEET'!$I$18,6,10)=\"december\",\"1231\",IF(MID('COVER SHEET'!$I$18,6,10)=\"june\",\"0630\"))","v":"20241231"},{"$f":"+'Outgoing Remittances (Value)'!D110","v":0}]
["CMREM_11530","IR",{"$f":"+'Outgoing Remittances (Value)'!$D$5","v":"20240831"},{"$f":"+'COVER SHEET'!$D$12","v":0},11530,{"$f":"'COVER SHEET'!$D$16&IF(MID('COVER SHEET'!$I$18,6,10)=\"december\",\"1231\",IF(MID('COVER SHEET'!$I$18,6,10)=\"june\",\"0630\"))","v":"20241231"},{"$f":"+'Outgoing Remittances (Value)'!D111","v":0}]
["CMREM_11530","IQ",{"$f":"+'Outgoing Remittances (Value)'!$D$5","v":"20240831"},{"$f":"+'COVER SHEET'!$D$12","v":0},11530,{"$f":"'COVER SHEET'!$D$16&IF(MID('COVER SHEET'!$I$18,6,10)=\"december\",\"1231\",IF(MID('COVER SHEET'!$I$18,6,10)=\"june\",\"0630\"))","v":"20241231"},{"$f":"+'Outgoing Remittances (Value)'!D112","v":0}]
["CMREM_11530","IE",{"$f":"+'Outgoing Remittances (Value)'!$D$5","v":"20240831"},{"$f":"+'COVER SHEET'!$D$12","v":0},11530,{"$f":"'COVER SHEET'!$D$16&IF(MID('COVER SHEET'!$I$18,6,10)=\"december\",\"1231\",IF(MID('COVER SHEET'!$I$18,6,10)=\"june\",\"0630\"))","v":"20241231"},{"$f":"+'Outgoing Remittances (Value)'!D113","v":0}]
["CMREM_11530","IM",{"$f":"+'Outgoing Remittances (Value)'!$D$5","v":"20240831"},{"$f":"+'COVER SHEET'!$D$12","v":0},11530,{"$f":"'COVER SHEET'!$D$16&IF(MID('COVER SHEET'!$I$18,6,10)=\"december\",\"1231\",IF(MID('COVER SHEET'!$I$18,6,10)=\"june\",\"0630\"))","v":"20241231"},{"$f":"+'Outgoing Remittances (Value)'!D114","v":0}]
["CMREM_11530","IL",{"$f":"+'Outgoing Remittances (Value)'!$D$5","v":"20240831"},{"$f":"+'COVER SHEET'!$D$12","v":0},11530,{"$f":"'COVER SHEET'!$D$16&IF(MID('COVER SHEET'!$I$18,6,10)=\"december\",\"1231\",IF(MID('COVER SHEET'!$I$18,6,10)=\"june\",\"0630\"))","v":"20241231"},{"$f":"+'Outgoing Remittances (Value)'!D115","v":0}]
["CMREM_11530","IT",{"$f":"+'Outgoing Remittances (Value)'!$D$5","v":"20240831"},{"$f":"+'COVER SHEET'!$D$12","v":0},11530,{"$f":"'COVER SHEET'!$D$16&IF(MID('COVER SHEET'!$I$18,6,10)=\"december\",\"1231\",IF(MID('COVER SHEET'!$I$18,6,10)=\"june\",\"0630\"))","v":"20241231"},{"$f":"+'Outgoing Remittances (Value)'!D116","v":0}]
["CMREM_11530","CI",{"$f":"+'Outgoing Remittances (Value)'!$D$5","v":"20240831"},{"$f":"+'COVER SHEET'!$D$12","v":0},11530,{"$f":"'COVER SHEET'!$D$16&IF(MID('COVER SHEET'!$I$18,6,10)=\"december\",\"1231\",IF(MID('COVER SHEET'!$I$18,6,10)=\"june\",\"0630\"))","v":"20241231"},{"$f":"+'Outgoing Remittances (Value)'!D117","v":0}]
["CMREM_11530","JM",{"$f":"+'Outgoing Remittances (Value)'!$D$5","v":"20240831"},{"$f":"+'COVER SHEET'!$D$12","v":0},11530,{"$f":"'COVER SHEET'!$D$16&IF(MID('COVER SHEET'!$I$18,6,10)=\"december\",\"1231\",IF(MID('COVER SHEET'!$I$18,6,10)=\"june\",\"0630\"))","v":"20241231"},{"$f":"+'Outgoing Remittances (Value)'!D118","v":0}]
["CMREM_11530","JP",{"$f":"+'Outgoing Remittances (Value)'!$D$5","v":"20240831"},{"$f":"+'COVER SHEET'!$D$12","v":0},11530,{"$f":"'COVER SHEET'!$D$16&IF(MID('COVER SHEET'!$I$18,6,10)=\"december\",\"1231\",IF(MID('COVER SHEET'!$I$18,6,10)=\"june\",\"0630\"))","v":"20241231"},{"$f":"+'Outgoing Remittances (Value)'!D119","v":0}]
["CMREM_11530","JE",{"$f":"+'Outgoing Remittances (Value)'!$D$5","v":"20240831"},{"$f":"+'COVER SHEET'!$D$12","v":0},11530,{"$f":"'COVER SHEET'!$D$16&IF(MID('COVER SHEET'!$I$18,6,10)=\"december\",\"1231\",IF(MID('COVER SHEET'!$I$18,6,10)=\"june\",\"0630\"))","v":"20241231"},{"$f":"+'Outgoing Remittances (Value)'!D120","v":0}]
["CMREM_11530","JO",{"$f":"+'Outgoing Remittances (Value)'!$D$5","v":"20240831"},{"$f":"+'COVER SHEET'!$D$12","v":0},11530,{"$f":"'COVER SHEET'!$D$16&IF(MID('COVER SHEET'!$I$18,6,10)=\"december\",\"1231\",IF(MID('COVER SHEET'!$I$18,6,10)=\"june\",\"0630\"))","v":"20241231"},{"$f":"+'Outgoing Remittances (Value)'!D121","v":0}]
["CMREM_11530","KZ",{"$f":"+'Outgoing Remittances (Value)'!$D$5","v":"20240831"},{"$f":"+'COVER SHEET'!$D$12","v":0},11530,{"$f":"'COVER SHEET'!$D$16&IF(MID('COVER SHEET'!$I$18,6,10)=\"december\",\"1231\",IF(MID('COVER SHEET'!$I$18,6,10)=\"june\",\"0630\"))","v":"20241231"},{"$f":"+'Outgoing Remittances (Value)'!D122","v":0}]
["CMREM_11530","KE",{"$f":"+'Outgoing Remittances (Value)'!$D$5","v":"20240831"},{"$f":"+'COVER SHEET'!$D$12","v":0},11530,{"$f":"'COVER SHEET'!$D$16&IF(MID('COVER SHEET'!$I$18,6,10)=\"december\",\"1231\",IF(MID('COVER SHEET'!$I$18,6,10)=\"june\",\"0630\"))","v":"20241231"},{"$f":"+'Outgoing Remittances (Value)'!D123","v":0}]
["CMREM_11530","KI",{"$f":"+'Outgoing Remittances (Value)'!$D$5","v":"20240831"},{"$f":"+'COVER SHEET'!$D$12","v":0},11530,{"$f":"'COVER SHEET'!$D$16&IF(MID('COVER SHEET'!$I$18,6,10)=\"december\",\"1231\",IF(MID('COVER SHEET'!$I$18,6,10)=\"june\",\"0630\"))","v":"20241231"},{"$f":"+'Outgoing Remittances (Value)'!D124","v":0}]
["CMREM_11530","KP",{"$f":"+'Outgoing Remittances (Value)'!$D$5","v":"20240831"},{"$f":"+'COVER SHEET'!$D$12","v":0},11530,{"$f":"'COVER SHEET'!$D$16&IF(MID('COVER SHEET'!$I$18,6,10)=\"december\",\"1231\",IF(MID('COVER SHEET'!$I$18,6,10)=\"june\",\"0630\"))","v":"20241231"},{"$f":"+'Outgoing Remittances (Value)'!D125","v":0}]
["CMREM_11530","KR",{"$f":"+'Outgoing Remittances (Value)'!$D$5","v":"20240831"},{"$f":"+'COVER SHEET'!$D$12","v":0},11530,{"$f":"'COVER SHEET'!$D$16&IF(MID('COVER SHEET'!$I$18,6,10)=\"december\",\"1231\",IF(MID('COVER SHEET'!$I$18,6,10)=\"june\",\"0630\"))","v":"20241231"},{"$f":"+'Outgoing Remittances (Value)'!D126","v":0}]
["CMREM_11530","XK",{"$f":"+'Outgoing Remittances (Value)'!$D$5","v":"20240831"},{"$f":"+'COVER SHEET'!$D$12","v":0},11530,{"$f":"'COVER SHEET'!$D$16&IF(MID('COVER SHEET'!$I$18,6,10)=\"december\",\"1231\",IF(MID('COVER SHEET'!$I$18,6,10)=\"june\",\"0630\"))","v":"20241231"},{"$f":"+'Outgoing Remittances (Value)'!D127","v":0}]
["CMREM_11530","KW",{"$f":"+'Outgoing Remittances (Value)'!$D$5","v":"20240831"},{"$f":"+'COVER SHEET'!$D$12","v":0},11530,{"$f":"'COVER SHEET'!$D$16&IF(MID('COVER SHEET'!$I$18,6,10)=\"december\",\"1231\",IF(MID('COVER SHEET'!$I$18,6,10)=\"june\",\"0630\"))","v":"20241231"},{"$f":"+'Outgoing Remittances (Value)'!D128","v":0}]
["CMREM_11530","KG",{"$f":"+'Outgoing Remittances (Value)'!$D$5","v":"20240831"},{"$f":"+'COVER SHEET'!$D$12","v":0},11530,{"$f":"'COVER SHEET'!$D$16&IF(MID('COVER SHEET'!$I$18,6,10)=\"december\",\"1231\",IF(MID('COVER SHEET'!$I$18,6,10)=\"june\",\"0630\"))","v":"20241231"},{"$f":"+'Outgoing Remittances (Value)'!D129","v":0}]
["CMREM_11530","LA",{"$f":"+'Outgoing Remittances (Value)'!$D$5","v":"20240831"},{"$f":"+'COVER SHEET'!$D$12","v":0},11530,{"$f":"'COVER SHEET'!$D$16&IF(MID('COVER SHEET'!$I$18,6,10)=\"december\",\"1231\",IF(MID('COVER SHEET'!$I$18,6,10)=\"june\",\"0630\"))","v":"20241231"},{"$f":"+'Outgoing Remittances (Value)'!D130","v":0}]
["CMREM_11530","LV",{"$f":"+'Outgoing Remittances (Value)'!$D$5","v":"20240831"},{"$f":"+'COVER SHEET'!$D$12","v":0},11530,{"$f":"'COVER SHEET'!$D$16&IF(MID('COVER SHEET'!$I$18,6,10)=\"december\",\"1231\",IF(MID('COVER SHEET'!$I$18,6,10)=\"june\",\"0630\"))","v":"20241231"},{"$f":"+'Outgoing Remittances (Value)'!D131","v":0}]
["CMREM_11530","LB",{"$f":"+'Outgoing Remittances (Value)'!$D$5","v":"20240831"},{"$f":"+'COVER SHEET'!$D$12","v":0},11530,{"$f":"'COVER SHEET'!$D$16&IF(MID('COVER SHEET'!$I$18,6,10)=\"december\",\"1231\",IF(MID('COVER SHEET'!$I$18,6,10)=\"june\",\"0630\"))","v":"20241231"},{"$f":"+'Outgoing Remittances (Value)'!D132","v":0}]
["CMREM_11530","LS",{"$f":"+'Outgoing Remittances (Value)'!$D$5","v":"20240831"},{"$f":"+'COVER SHEET'!$D$12","v":0},11530,{"$f":"'COVER SHEET'!$D$16&IF(MID('COVER SHEET'!$I$18,6,10)=\"december\",\"1231\",IF(MID('COVER SHEET'!$I$18,6,10)=\"june\",\"0630\"))","v":"20241231"},{"$f":"+'Outgoing Remittances (Value)'!D133","v":0}]
["CMREM_11530","LR",{"$f":"+'Outgoing Remittances (Value)'!$D$5","v":"20240831"},{"$f":"+'COVER SHEET'!$D$12","v":0},11530,{"$f":"'COVER SHEET'!$D$16&IF(MID('COVER SHEET'!$I$18,6,10)=\"december\",\"1231\",IF(MID('COVER SHEET'!$I$18,6,10)=\"june\",\"0630\"))","v":"20241231"},{"$f":"+'Outgoing Remittances (Value)'!D134","v":0}]
["CMREM_11530","LY",{"$f":"+'Outgoing Remittances (Value)'!$D$5","v":"20240831"},{"$f":"+'COVER SHEET'!$D$12","v":0},11530,{"$f":"'COVER SHEET'!$D$16&IF(MID('COVER SHEET'!$I$18,6,10)=\"december\",\"1231\",IF(MID('COVER SHEET'!$I$18,6,10)=\"june\",\"0630\"))","v":"20241231"},{"$f":"+'Outgoing Remittances (Value)'!D135","v":0}]
["CMREM_11530","LI",{"$f":"+'Outgoing Remittances (Value)'!$D$5","v":"20240831"},{"$f":"+'COVER SHEET'!$D$12","v":0},11530,{"$f":"'COVER SHEET'!$D$16&IF(MID('COVER SHEET'!$I$18,6,10)=\"december\",\"1231\",IF(MID('COVER SHEET'!$I$18,6,10)=\"june\",\"0630\"))","v":"20241231"},{"$f":"+'Outgoing Remittances (Value)'!D136","v":0}]
["CMREM_11530","LT",{"$f":"+'Outgoing Remittances (Value)'!$D$5","v":"20240831"},{"$f":"+'COVER SHEET'!$D$12","v":0},11530,{"$f":"'COVER SHEET'!$D$16&IF(MID('COVER SHEET'!$I$18,6,10)=\"december\",\"1231\",IF(MID('COVER SHEET'!$I$18,6,10)=\"june\",\"0630\"))","v":"20241231"},{"$f":"+'Outgoing Remittances (Value)'!D137","v":0}]
["CMREM_11530","LU",{"$f":"+'Outgoing Remittances (Value)'!$D$5","v":"20240831"},{"$f":"+'COVER SHEET'!$D$12","v":0},11530,{"$f":"'COVER SHEET'!$D$16&IF(MID('COVER SHEET'!$I$18,6,10)=\"december\",\"1231\",IF(MID('COVER SHEET'!$I$18,6,10)=\"june\",\"0630\"))","v":"20241231"},{"$f":"+'Outgoing Remittances (Value)'!D138","v":0}]
["CMREM_11530","MO",{"$f":"+'Outgoing Remittances (Value)'!$D$5","v":"20240831"},{"$f":"+'COVER SHEET'!$D$12","v":0},11530,{"$f":"'COVER SHEET'!$D$16&IF(MID('COVER SHEET'!$I$18,6,10)=\"december\",\"1231\",IF(MID('COVER SHEET'!$I$18,6,10)=\"june\",\"0630\"))","v":"20241231"},{"$f":"+'Outgoing Remittances (Value)'!D139","v":0}]
["CMREM_11530","MK",{"$f":"+'Outgoing Remittances (Value)'!$D$5","v":"20240831"},{"$f":"+'COVER SHEET'!$D$12","v":0},11530,{"$f":"'COVER SHEET'!$D$16&IF(MID('COVER SHEET'!$I$18,6,10)=\"december\",\"1231\",IF(MID('COVER SHEET'!$I$18,6,10)=\"june\",\"0630\"))","v":"20241231"},{"$f":"+'Outgoing Remittances (Value)'!D140","v":0}]
["CMREM_11530","MG",{"$f":"+'Outgoing Remittances (Value)'!$D$5","v":"20240831"},{"$f":"+'COVER SHEET'!$D$12","v":0},11530,{"$f":"'COVER SHEET'!$D$16&IF(MID('COVER SHEET'!$I$18,6,10)=\"december\",\"1231\",IF(MID('COVER SHEET'!$I$18,6,10)=\"june\",\"0630\"))","v":"20241231"},{"$f":"+'Outgoing Remittances (Value)'!D141","v":0}]
["CMREM_11530","MW",{"$f":"+'Outgoing Remittances (Value)'!$D$5","v":"20240831"},{"$f":"+'COVER SHEET'!$D$12","v":0},11530,{"$f":"'COVER SHEET'!$D$16&IF(MID('COVER SHEET'!$I$18,6,10)=\"december\",\"1231\",IF(MID('COVER SHEET'!$I$18,6,10)=\"june\",\"0630\"))","v":"20241231"},{"$f":"+'Outgoing Remittances (Value)'!D142","v":0}]
["CMREM_11530","MY",{"$f":"+'Outgoing Remittances (Value)'!$D$5","v":"20240831"},{"$f":"+'COVER SHEET'!$D$12","v":0},11530,{"$f":"'COVER SHEET'!$D$16&IF(MID('COVER SHEET'!$I$18,6,10)=\"december\",\"1231\",IF(MID('COVER SHEET'!$I$18,6,10)=\"june\",\"0630\"))","v":"20241231"},{"$f":"+'Outgoing Remittances (Value)'!D143","v":0}]
["CMREM_11530","MV",{"$f":"+'Outgoing Remittances (Value)'!$D$5","v":"20240831"},{"$f":"+'COVER SHEET'!$D$12","v":0},11530,{"$f":"'COVER SHEET'!$D$16&IF(MID('COVER SHEET'!$I$18,6,10)=\"december\",\"1231\",IF(MID('COVER SHEET'!$I$18,6,10)=\"june\",\"0630\"))","v":"20241231"},{"$f":"+'Outgoing Remittances (Value)'!D144","v":0}]
["CMREM_11530","ML",{"$f":"+'Outgoing Remittances (Value)'!$D$5","v":"20240831"},{"$f":"+'COVER SHEET'!$D$12","v":0},11530,{"$f":"'COVER SHEET'!$D$16&IF(MID('COVER SHEET'!$I$18,6,10)=\"december\",\"1231\",IF(MID('COVER SHEET'!$I$18,6,10)=\"june\",\"0630\"))","v":"20241231"},{"$f":"+'Outgoing Remittances (Value)'!D145","v":0}]
["CMREM_11530","MH",{"$f":"+'Outgoing Remittances (Value)'!$D$5","v":"20240831"},{"$f":"+'COVER SHEET'!$D$12","v":0},11530,{"$f":"'COVER SHEET'!$D$16&IF(MID('COVER SHEET'!$I$18,6,10)=\"december\",\"1231\",IF(MID('COVER SHEET'!$I$18,6,10)=\"june\",\"0630\"))","v":"20241231"},{"$f":"+'Outgoing Remittances (Value)'!D146","v":0}]
["CMREM_11530","MR",{"$f":"+'Outgoing Remittances (Value)'!$D$5","v":"20240831"},{"$f":"+'COVER SHEET'!$D$12","v":0},11530,{"$f":"'COVER SHEET'!$D$16&IF(MID('COVER SHEET'!$I$18,6,10)=\"december\",\"1231\",IF(MID('COVER SHEET'!$I$18,6,10)=\"june\",\"0630\"))","v":"20241231"},{"$f":"+'Outgoing Remittances (Value)'!D147","v":0}]
["CMREM_11530","MU",{"$f":"+'Outgoing Remittances (Value)'!$D$5","v":"20240831"},{"$f":"+'COVER SHEET'!$D$12","v":0},11530,{"$f":"'COVER SHEET'!$D$16&IF(MID('COVER SHEET'!$I$18,6,10)=\"december\",\"1231\",IF(MID('COVER SHEET'!$I$18,6,10)=\"june\",\"0630\"))","v":"20241231"},{"$f":"+'Outgoing Remittances (Value)'!D148","v":0}]
["CMREM_11530","MX",{"$f":"+'Outgoing Remittances (Value)'!$D$5","v":"20240831"},{"$f":"+'COVER SHEET'!$D$12","v":0},11530,{"$f":"'COVER SHEET'!$D$16&IF(MID('COVER SHEET'!$I$18,6,10)=\"december\",\"1231\",IF(MID('COVER SHEET'!$I$18,6,10)=\"june\",\"0630\"))","v":"20241231"},{"$f":"+'Outgoing Remittances (Value)'!D149","v":0}]
["CMREM_11530","FM",{"$f":"+'Outgoing Remittances (Value)'!$D$5","v":"20240831"},{"$f":"+'COVER SHEET'!$D$12","v":0},11530,{"$f":"'COVER SHEET'!$D$16&IF(MID('COVER SHEET'!$I$18,6,10)=\"december\",\"1231\",IF(MID('COVER SHEET'!$I$18,6,10)=\"june\",\"0630\"))","v":"20241231"},{"$f":"+'Outgoing Remittances (Value)'!D150","v":0}]
["CMREM_11530","MD",{"$f":"+'Outgoing Remittances (Value)'!$D$5","v":"20240831"},{"$f":"+'COVER SHEET'!$D$12","v":0},11530,{"$f":"'COVER SHEET'!$D$16&IF(MID('COVER SHEET'!$I$18,6,10)=\"december\",\"1231\",IF(MID('COVER SHEET'!$I$18,6,10)=\"june\",\"0630\"))","v":"20241231"},{"$f":"+'Outgoing Remittances (Value)'!D151","v":0}]
["CMREM_11530","MN",{"$f":"+'Outgoing Remittances (Value)'!$D$5","v":"20240831"},{"$f":"+'COVER SHEET'!$D$12","v":0},11530,{"$f":"'COVER SHEET'!$D$16&IF(MID('COVER SHEET'!$I$18,6,10)=\"december\",\"1231\",IF(MID('COVER SHEET'!$I$18,6,10)=\"june\",\"0630\"))","v":"20241231"},{"$f":"+'Outgoing Remittances (Value)'!D152","v":0}]
["CMREM_11530","ME",{"$f":"+'Outgoing Remittances (Value)'!$D$5","v":"20240831"},{"$f":"+'COVER SHEET'!$D$12","v":0},11530,{"$f":"'COVER SHEET'!$D$16&IF(MID('COVER SHEET'!$I$18,6,10)=\"december\",\"1231\",IF(MID('COVER SHEET'!$I$18,6,10)=\"june\",\"0630\"))","v":"20241231"},{"$f":"+'Outgoing Remittances (Value)'!D153","v":0}]
["CMREM_11530","MS",{"$f":"+'Outgoing Remittances (Value)'!$D$5","v":"20240831"},{"$f":"+'COVER SHEET'!$D$12","v":0},11530,{"$f":"'COVER SHEET'!$D$16&IF(MID('COVER SHEET'!$I$18,6,10)=\"december\",\"1231\",IF(MID('COVER SHEET'!$I$18,6,10)=\"june\",\"0630\"))","v":"20241231"},{"$f":"+'Outgoing Remittances (Value)'!D154","v":0}]
["CMREM_11530","MA",{"$f":"+'Outgoing Remittances (Value)'!$D$5","v":"20240831"},{"$f":"+'COVER SHEET'!$D$12","v":0},11530,{"$f":"'COVER SHEET'!$D$16&IF(MID('COVER SHEET'!$I$18,6,10)=\"december\",\"1231\",IF(MID('COVER SHEET'!$I$18,6,10)=\"june\",\"0630\"))","v":"20241231"},{"$f":"+'Outgoing Remittances (Value)'!D155","v":0}]
["CMREM_11530","MZ",{"$f":"+'Outgoing Remittances (Value)'!$D$5","v":"20240831"},{"$f":"+'COVER SHEET'!$D$12","v":0},11530,{"$f":"'COVER SHEET'!$D$16&IF(MID('COVER SHEET'!$I$18,6,10)=\"december\",\"1231\",IF(MID('COVER SHEET'!$I$18,6,10)=\"june\",\"0630\"))","v":"20241231"},{"$f":"+'Outgoing Remittances (Value)'!D156","v":0}]
["CMREM_11530","MM",{"$f":"+'Outgoing Remittances (Value)'!$D$5","v":"20240831"},{"$f":"+'COVER SHEET'!$D$12","v":0},11530,{"$f":"'COVER SHEET'!$D$16&IF(MID('COVER SHEET'!$I$18,6,10)=\"december\",\"1231\",IF(MID('COVER SHEET'!$I$18,6,10)=\"june\",\"0630\"))","v":"20241231"},{"$f":"+'Outgoing Remittances (Value)'!D157","v":0}]
["CMREM_11530","NA",{"$f":"+'Outgoing Remittances (Value)'!$D$5","v":"20240831"},{"$f":"+'COVER SHEET'!$D$12","v":0},11530,{"$f":"'COVER SHEET'!$D$16&IF(MID('COVER SHEET'!$I$18,6,10)=\"december\",\"1231\",IF(MID('COVER SHEET'!$I$18,6,10)=\"june\",\"0630\"))","v":"20241231"},{"$f":"+'Outgoing Remittances (Value)'!D158","v":0}]
["CMREM_11530","NR",{"$f":"+'Outgoing Remittances (Value)'!$D$5","v":"20240831"},{"$f":"+'COVER SHEET'!$D$12","v":0},11530,{"$f":"'COVER SHEET'!$D$16&IF(MID('COVER SHEET'!$I$18,6,10)=\"december\",\"1231\",IF(MID('COVER SHEET'!$I$18,6,10)=\"june\",\"0630\"))","v":"20241231"},{"$f":"+'Outgoing Remittances (Value)'!D159","v":0}]
["CMREM_11530","NP",{"$f":"+'Outgoing Remittances (Value)'!$D$5","v":"20240831"},{"$f":"+'COVER SHEET'!$D$12","v":0},11530,{"$f":"'COVER SHEET'!$D$16&IF(MID('COVER SHEET'!$I$18,6,10)=\"december\",\"1231\",IF(MID('COVER SHEET'!$I$18,6,10)=\"june\",\"0630\"))","v":"20241231"},{"$f":"+'Outgoing Remittances (Value)'!D160","v":0}]
["CMREM_11530","NL",{"$f":"+'Outgoing Remittances (Value)'!$D$5","v":"20240831"},{"$f":"+'COVER SHEET'!$D$12","v":0},11530,{"$f":"'COVER SHEET'!$D$16&IF(MID('COVER SHEET'!$I$18,6,10)=\"december\",\"1231\",IF(MID('COVER SHEET'!$I$18,6,10)=\"june\",\"0630\"))","v":"20241231"},{"$f":"+'Outgoing Remittances (Value)'!D161","v":0}]
["CMREM_11530","NC",{"$f":"+'Outgoing Remittances (Value)'!$D$5","v":"20240831"},{"$f":"+'COVER SHEET'!$D$12","v":0},11530,{"$f":"'COVER SHEET'!$D$16&IF(MID('COVER SHEET'!$I$18,6,10)=\"december\",\"1231\",IF(MID('COVER SHEET'!$I$18,6,10)=\"june\",\"0630\"))","v":"20241231"},{"$f":"+'Outgoing Remittances (Value)'!D162","v":0}]
["CMREM_11530","NZ",{"$f":"+'Outgoing Remittances (Value)'!$D$5","v":"20240831"},{"$f":"+'COVER SHEET'!$D$12","v":0},11530,{"$f":"'COVER SHEET'!$D$16&IF(MID('COVER SHEET'!$I$18,6,10)=\"december\",\"1231\",IF(MID('COVER SHEET'!$I$18,6,10)=\"june\",\"0630\"))","v":"20241231"},{"$f":"+'Outgoing Remittances (Value)'!D163","v":0}]
["CMREM_11530","NI",{"$f":"+'Outgoing Remittances (Value)'!$D$5","v":"20240831"},{"$f":"+'COVER SHEET'!$D$12","v":0},11530,{"$f":"'COVER SHEET'!$D$16&IF(MID('COVER SHEET'!$I$18,6,10)=\"december\",\"1231\",IF(MID('COVER SHEET'!$I$18,6,10)=\"june\",\"0630\"))","v":"20241231"},{"$f":"+'Outgoing Remittances (Value)'!D164","v":0}]
["CMREM_11530","NE",{"$f":"+'Outgoing Remittances (Value)'!$D$5","v":"20240831"},{"$f":"+'COVER SHEET'!$D$12","v":0},11530,{"$f":"'COVER SHEET'!$D$16&IF(MID('COVER SHEET'!$I$18,6,10)=\"december\",\"1231\",IF(MID('COVER SHEET'!$I$18,6,10)=\"june\",\"0630\"))","v":"20241231"},{"$f":"+'Outgoing Remittances (Value)'!D165","v":0}]
["CMREM_11530","NG",{"$f":"+'Outgoing Remittances (Value)'!$D$5","v":"20240831"},{"$f":"+'COVER SHEET'!$D$12","v":0},11530,{"$f":"'COVER SHEET'!$D$16&IF(MID('COVER SHEET'!$I$18,6,10)=\"december\",\"1231\",IF(MID('COVER SHEET'!$I$18,6,10)=\"june\",\"0630\"))","v":"20241231"},{"$f":"+'Outgoing Remittances (Value)'!D166","v":0}]
["CMREM_11530","NU",{"$f":"+'Outgoing Remittances (Value)'!$D$5","v":"20240831"},{"$f":"+'COVER SHEET'!$D$12","v":0},11530,{"$f":"'COVER SHEET'!$D$16&IF(MID('COVER SHEET'!$I$18,6,10)=\"december\",\"1231\",IF(MID('COVER SHEET'!$I$18,6,10)=\"june\",\"0630\"))","v":"20241231"},{"$f":"+'Outgoing Remittances (Value)'!D167","v":0}]
["CMREM_11530","NF",{"$f":"+'Outgoing Remittances (Value)'!$D$5","v":"20240831"},{"$f":"+'COVER SHEET'!$D$12","v":0},11530,{"$f":"'COVER SHEET'!$D$16&IF(MID('COVER SHEET'!$I$18,6,10)=\"december\",\"1231\",IF(MID('COVER SHEET'!$I$18,6,10)=\"june\",\"0630\"))","v":"20241231"},{"$f":"+'Outgoing Remittances (Value)'!D168","v":0}]
["CMREM_11530","MP",{"$f":"+'Outgoing Remittances (Value)'!$D$5","v":"20240831"},{"$f":"+'COVER SHEET'!$D$12","v":0},11530,{"$f":"'COVER SHEET'!$D$16&IF(MID('COVER SHEET'!$I$18,6,10)=\"december\",\"1231\",IF(MID('COVER SHEET'!$I$18,6,10)=\"june\",\"0630\"))","v":"20241231"},{"$f":"+'Outgoing Remittances (Value)'!D169","v":0}]
["CMREM_11530","NO",{"$f":"+'Outgoing Remittances (Value)'!$D$5","v":"20240831"},{"$f":"+'COVER SHEET'!$D$12","v":0},11530,{"$f":"'COVER SHEET'!$D$16&IF(MID('COVER SHEET'!$I$18,6,10)=\"december\",\"1231\",IF(MID('COVER SHEET'!$I$18,6,10)=\"june\",\"0630\"))","v":"20241231"},{"$f":"+'Outgoing Remittances (Value)'!D170","v":0}]
["CMREM_11530","OM",{"$f":"+'Outgoing Remittances (Value)'!$D$5","v":"20240831"},{"$f":"+'COVER SHEET'!$D$12","v":0},11530,{"$f":"'COVER SHEET'!$D$16&IF(MID('COVER SHEET'!$I$18,6,10)=\"december\",\"1231\",IF(MID('COVER SHEET'!$I$18,6,10)=\"june\",\"0630\"))","v":"20241231"},{"$f":"+'Outgoing Remittances (Value)'!D171","v":0}]
["CMREM_11530","PK",{"$f":"+'Outgoing Remittances (Value)'!$D$5","v":"20240831"},{"$f":"+'COVER SHEET'!$D$12","v":0},11530,{"$f":"'COVER SHEET'!$D$16&IF(MID('COVER SHEET'!$I$18,6,10)=\"december\",\"1231\",IF(MID('COVER SHEET'!$I$18,6,10)=\"june\",\"0630\"))","v":"20241231"},{"$f":"+'Outgoing Remittances (Value)'!D172","v":0}]
["CMREM_11530","PW",{"$f":"+'Outgoing Remittances (Value)'!$D$5","v":"20240831"},{"$f":"+'COVER SHEET'!$D$12","v":0},11530,{"$f":"'COVER SHEET'!$D$16&IF(MID('COVER SHEET'!$I$18,6,10)=\"december\",\"1231\",IF(MID('COVER SHEET'!$I$18,6,10)=\"june\",\"0630\"))","v":"20241231"},{"$f":"+'Outgoing Remittances (Value)'!D173","v":0}]
["CMREM_11530","PS",{"$f":"+'Outgoing Remittances (Value)'!$D$5","v":"20240831"},{"$f":"+'COVER SHEET'!$D$12","v":0},11530,{"$f":"'COVER SHEET'!$D$16&IF(MID('COVER SHEET'!$I$18,6,10)=\"december\",\"1231\",IF(MID('COVER SHEET'!$I$18,6,10)=\"june\",\"0630\"))","v":"20241231"},{"$f":"+'Outgoing Remittances (Value)'!D174","v":0}]
["CMREM_11530","PA",{"$f":"+'Outgoing Remittances (Value)'!$D$5","v":"20240831"},{"$f":"+'COVER SHEET'!$D$12","v":0},11530,{"$f":"'COVER SHEET'!$D$16&IF(MID('COVER SHEET'!$I$18,6,10)=\"december\",\"1231\",IF(MID('COVER SHEET'!$I$18,6,10)=\"june\",\"0630\"))","v":"20241231"},{"$f":"+'Outgoing Remittances (Value)'!D175","v":0}]
["CMREM_11530","PG",{"$f":"+'Outgoing Remittances (Value)'!$D$5","v":"20240831"},{"$f":"+'COVER SHEET'!$D$12","v":0},11530,{"$f":"'COVER SHEET'!$D$16&IF(MID('COVER SHEET'!$I$18,6,10)=\"december\",\"1231\",IF(MID('COVER SHEET'!$I$18,6,10)=\"june\",\"0630\"))","v":"20241231"},{"$f":"+'Outgoing Remittances (Value)'!D176","v":0}]
["CMREM_11530","PY",{"$f":"+'Outgoing Remittances (Value)'!$D$5","v":"20240831"},{"$f":"+'COVER SHEET'!$D$12","v":0},11530,{"$f":"'COVER SHEET'!$D$16&IF(MID('COVER SHEET'!$I$18,6,10)=\"december\",\"1231\",IF(MID('COVER SHEET'!$I$18,6,10)=\"june\",\"0630\"))","v":"20241231"},{"$f":"+'Outgoing Remittances (Value)'!D177","v":0}]
["CMREM_11530","PE",{"$f":"+'Outgoing Remittances (Value)'!$D$5","v":"20240831"},{"$f":"+'COVER SHEET'!$D$12","v":0},11530,{"$f":"'COVER SHEET'!$D$16&IF(MID('COVER SHEET'!$I$18,6,10)=\"december\",\"1231\",IF(MID('COVER SHEET'!$I$18,6,10)=\"june\",\"0630\"))","v":"20241231"},{"$f":"+'Outgoing Remittances (Value)'!D178","v":0}]
["CMREM_11530","PH",{"$f":"+'Outgoing Remittances (Value)'!$D$5","v":"20240831"},{"$f":"+'COVER SHEET'!$D$12","v":0},11530,{"$f":"'COVER SHEET'!$D$16&IF(MID('COVER SHEET'!$I$18,6,10)=\"december\",\"1231\",IF(MID('COVER SHEET'!$I$18,6,10)=\"june\",\"0630\"))","v":"20241231"},{"$f":"+'Outgoing Remittances (Value)'!D179","v":0}]
["CMREM_11530","PN",{"$f":"+'Outgoing Remittances (Value)'!$D$5","v":"20240831"},{"$f":"+'COVER SHEET'!$D$12","v":0},11530,{"$f":"'COVER SHEET'!$D$16&IF(MID('COVER SHEET'!$I$18,6,10)=\"december\",\"1231\",IF(MID('COVER SHEET'!$I$18,6,10)=\"june\",\"0630\"))","v":"20241231"},{"$f":"+'Outgoing Remittances (Value)'!D180","v":0}]
["CMREM_11530","PL",{"$f":"+'Outgoing Remittances (Value)'!$D$5","v":"20240831"},{"$f":"+'COVER SHEET'!$D$12","v":0},11530,{"$f":"'COVER SHEET'!$D$16&IF(MID('COVER SHEET'!$I$18,6,10)=\"december\",\"1231\",IF(MID('COVER SHEET'!$I$18,6,10)=\"june\",\"0630\"))","v":"20241231"},{"$f":"+'Outgoing Remittances (Value)'!D181","v":0}]
["CMREM_11530","PT",{"$f":"+'Outgoing Remittances (Value)'!$D$5","v":"20240831"},{"$f":"+'COVER SHEET'!$D$12","v":0},11530,{"$f":"'COVER SHEET'!$D$16&IF(MID('COVER SHEET'!$I$18,6,10)=\"december\",\"1231\",IF(MID('COVER SHEET'!$I$18,6,10)=\"june\",\"0630\"))","v":"20241231"},{"$f":"+'Outgoing Remittances (Value)'!D182","v":0}]
["CMREM_11530","QA",{"$f":"+'Outgoing Remittances (Value)'!$D$5","v":"20240831"},{"$f":"+'COVER SHEET'!$D$12","v":0},11530,{"$f":"'COVER SHEET'!$D$16&IF(MID('COVER SHEET'!$I$18,6,10)=\"december\",\"1231\",IF(MID('COVER SHEET'!$I$18,6,10)=\"june\",\"0630\"))","v":"20241231"},{"$f":"+'Outgoing Remittances (Value)'!D183","v":0}]
["CMREM_11530","RO",{"$f":"+'Outgoing Remittances (Value)'!$D$5","v":"20240831"},{"$f":"+'COVER SHEET'!$D$12","v":0},11530,{"$f":"'COVER SHEET'!$D$16&IF(MID('COVER SHEET'!$I$18,6,10)=\"december\",\"1231\",IF(MID('COVER SHEET'!$I$18,6,10)=\"june\",\"0630\"))","v":"20241231"},{"$f":"+'Outgoing Remittances (Value)'!D184","v":0}]
["CMREM_11530","RU",{"$f":"+'Outgoing Remittances (Value)'!$D$5","v":"20240831"},{"$f":"+'COVER SHEET'!$D$12","v":0},11530,{"$f":"'COVER SHEET'!$D$16&IF(MID('COVER SHEET'!$I$18,6,10)=\"december\",\"1231\",IF(MID('COVER SHEET'!$I$18,6,10)=\"june\",\"0630\"))","v":"20241231"},{"$f":"+'Outgoing Remittances (Value)'!D185","v":0}]
["CMREM_11530","RW",{"$f":"+'Outgoing Remittances (Value)'!$D$5","v":"20240831"},{"$f":"+'COVER SHEET'!$D$12","v":0},11530,{"$f":"'COVER SHEET'!$D$16&IF(MID('COVER SHEET'!$I$18,6,10)=\"december\",\"1231\",IF(MID('COVER SHEET'!$I$18,6,10)=\"june\",\"0630\"))","v":"20241231"},{"$f":"+'Outgoing Remittances (Value)'!D186","v":0}]
["CMREM_11530","SH",{"$f":"+'Outgoing Remittances (Value)'!$D$5","v":"20240831"},{"$f":"+'COVER SHEET'!$D$12","v":0},11530,{"$f":"'COVER SHEET'!$D$16&IF(MID('COVER SHEET'!$I$18,6,10)=\"december\",\"1231\",IF(MID('COVER SHEET'!$I$18,6,10)=\"june\",\"0630\"))","v":"20241231"},{"$f":"+'Outgoing Remittances (Value)'!D187","v":0}]
["CMREM_11530","KN",{"$f":"+'Outgoing Remittances (Value)'!$D$5","v":"20240831"},{"$f":"+'COVER SHEET'!$D$12","v":0},11530,{"$f":"'COVER SHEET'!$D$16&IF(MID('COVER SHEET'!$I$18,6,10)=\"december\",\"1231\",IF(MID('COVER SHEET'!$I$18,6,10)=\"june\",\"0630\"))","v":"20241231"},{"$f":"+'Outgoing Remittances (Value)'!D188","v":0}]
["CMREM_11530","LC",{"$f":"+'Outgoing Remittances (Value)'!$D$5","v":"20240831"},{"$f":"+'COVER SHEET'!$D$12","v":0},11530,{"$f":"'COVER SHEET'!$D$16&IF(MID('COVER SHEET'!$I$18,6,10)=\"december\",\"1231\",IF(MID('COVER SHEET'!$I$18,6,10)=\"june\",\"0630\"))","v":"20241231"},{"$f":"+'Outgoing Remittances (Value)'!D189","v":0}]
["CMREM_11530","VC",{"$f":"+'Outgoing Remittances (Value)'!$D$5","v":"20240831"},{"$f":"+'COVER SHEET'!$D$12","v":0},11530,{"$f":"'COVER SHEET'!$D$16&IF(MID('COVER SHEET'!$I$18,6,10)=\"december\",\"1231\",IF(MID('COVER SHEET'!$I$18,6,10)=\"june\",\"0630\"))","v":"20241231"},{"$f":"+'Outgoing Remittances (Value)'!D190","v":0}]
["CMREM_11530","WS",{"$f":"+'Outgoing Remittances (Value)'!$D$5","v":"20240831"},{"$f":"+'COVER SHEET'!$D$12","v":0},11530,{"$f":"'COVER SHEET'!$D$16&IF(MID('COVER SHEET'!$I$18,6,10)=\"december\",\"1231\",IF(MID('COVER SHEET'!$I$18,6,10)=\"june\",\"0630\"))","v":"20241231"},{"$f":"+'Outgoing Remittances (Value)'!D191","v":0}]
["CMREM_11530","SM",{"$f":"+'Outgoing Remittances (Value)'!$D$5","v":"20240831"},{"$f":"+'COVER SHEET'!$D$12","v":0},11530,{"$f":"'COVER SHEET'!$D$16&IF(MID('COVER SHEET'!$I$18,6,10)=\"december\",\"1231\",IF(MID('COVER SHEET'!$I$18,6,10)=\"june\",\"0630\"))","v":"20241231"},{"$f":"+'Outgoing Remittances (Value)'!D192","v":0}]
["CMREM_11530","ST",{"$f":"+'Outgoing Remittances (Value)'!$D$5","v":"20240831"},{"$f":"+'COVER SHEET'!$D$12","v":0},11530,{"$f":"'COVER SHEET'!$D$16&IF(MID('COVER SHEET'!$I$18,6,10)=\"december\",\"1231\",IF(MID('COVER SHEET'!$I$18,6,10)=\"june\",\"0630\"))","v":"20241231"},{"$f":"+'Outgoing Remittances (Value)'!D193","v":0}]
["CMREM_11530","SA",{"$f":"+'Outgoing Remittances (Value)'!$D$5","v":"20240831"},{"$f":"+'COVER SHEET'!$D$12","v":0},11530,{"$f":"'COVER SHEET'!$D$16&IF(MID('COVER SHEET'!$I$18,6,10)=\"december\",\"1231\",IF(MID('COVER SHEET'!$I$18,6,10)=\"june\",\"0630\"))","v":"20241231"},{"$f":"+'Outgoing Remittances (Value)'!D194","v":0}]
["CMREM_11530","SN",{"$f":"+'Outgoing Remittances (Value)'!$D$5","v":"20240831"},{"$f":"+'COVER SHEET'!$D$12","v":0},11530,{"$f":"'COVER SHEET'!$D$16&IF(MID('COVER SHEET'!$I$18,6,10)=\"december\",\"1231\",IF(MID('COVER SHEET'!$I$18,6,10)=\"june\",\"0630\"))","v":"20241231"},{"$f":"+'Outgoing Remittances (Value)'!D195","v":0}]
["CMREM_11530","RS",{"$f":"+'Outgoing Remittances (Value)'!$D$5","v":"20240831"},{"$f":"+'COVER SHEET'!$D$12","v":0},11530,{"$f":"'COVER SHEET'!$D$16&IF(MID('COVER SHEET'!$I$18,6,10)=\"december\",\"1231\",IF(MID('COVER SHEET'!$I$18,6,10)=\"june\",\"0630\"))","v":"20241231"},{"$f":"+'Outgoing Remittances (Value)'!D196","v":0}]
["CMREM_11530","SC",{"$f":"+'Outgoing Remittances (Value)'!$D$5","v":"20240831"},{"$f":"+'COVER SHEET'!$D$12","v":0},11530,{"$f":"'COVER SHEET'!$D$16&IF(MID('COVER SHEET'!$I$18,6,10)=\"december\",\"1231\",IF(MID('COVER SHEET'!$I$18,6,10)=\"june\",\"0630\"))","v":"20241231"},{"$f":"+'Outgoing Remittances (Value)'!D197","v":0}]
["CMREM_11530","SL",{"$f":"+'Outgoing Remittances (Value)'!$D$5","v":"20240831"},{"$f":"+'COVER SHEET'!$D$12","v":0},11530,{"$f":"'COVER SHEET'!$D$16&IF(MID('COVER SHEET'!$I$18,6,10)=\"december\",\"1231\",IF(MID('COVER SHEET'!$I$18,6,10)=\"june\",\"0630\"))","v":"20241231"},{"$f":"+'Outgoing Remittances (Value)'!D198","v":0}]
["CMREM_11530","SG",{"$f":"+'Outgoing Remittances (Value)'!$D$5","v":"20240831"},{"$f":"+'COVER SHEET'!$D$12","v":0},11530,{"$f":"'COVER SHEET'!$D$16&IF(MID('COVER SHEET'!$I$18,6,10)=\"december\",\"1231\",IF(MID('COVER SHEET'!$I$18,6,10)=\"june\",\"0630\"))","v":"20241231"},{"$f":"+'Outgoing Remittances (Value)'!D199","v":0}]
["CMREM_11530","SX",{"$f":"+'Outgoing Remittances (Value)'!$D$5","v":"20240831"},{"$f":"+'COVER SHEET'!$D$12","v":0},11530,{"$f":"'COVER SHEET'!$D$16&IF(MID('COVER SHEET'!$I$18,6,10)=\"december\",\"1231\",IF(MID('COVER SHEET'!$I$18,6,10)=\"june\",\"0630\"))","v":"20241231"},{"$f":"+'Outgoing Remittances (Value)'!D200","v":0}]
["CMREM_11530","SK",{"$f":"+'Outgoing Remittances (Value)'!$D$5","v":"20240831"},{"$f":"+'COVER SHEET'!$D$12","v":0},11530,{"$f":"'COVER SHEET'!$D$16&IF(MID('COVER SHEET'!$I$18,6,10)=\"december\",\"1231\",IF(MID('COVER SHEET'!$I$18,6,10)=\"june\",\"0630\"))","v":"20241231"},{"$f":"+'Outgoing Remittances (Value)'!D201","v":0}]
["CMREM_11530","SI",{"$f":"+'Outgoing Remittances (Value)'!$D$5","v":"20240831"},{"$f":"+'COVER SHEET'!$D$12","v":0},11530,{"$f":"'COVER SHEET'!$D$16&IF(MID('COVER SHEET'!$I$18,6,10)=\"december\",\"1231\",IF(MID('COVER SHEET'!$I$18,6,10)=\"june\",\"0630\"))","v":"20241231"},{"$f":"+'Outgoing Remittances (Value)'!D202","v":0}]
["CMREM_11530","SB",{"$f":"+'Outgoing Remittances (Value)'!$D$5","v":"20240831"},{"$f":"+'COVER SHEET'!$D$12","v":0},11530,{"$f":"'COVER SHEET'!$D$16&IF(MID('COVER SHEET'!$I$18,6,10)=\"december\",\"1231\",IF(MID('COVER SHEET'!$I$18,6,10)=\"june\",\"0630\"))","v":"20241231"},{"$f":"+'Outgoing Remittances (Value)'!D203","v":0}]
["CMREM_11530","SO",{"$f":"+'Outgoing Remittances (Value)'!$D$5","v":"20240831"},{"$f":"+'COVER SHEET'!$D$12","v":0},11530,{"$f":"'COVER SHEET'!$D$16&IF(MID('COVER SHEET'!$I$18,6,10)=\"december\",\"1231\",IF(MID('COVER SHEET'!$I$18,6,10)=\"june\",\"0630\"))","v":"20241231"},{"$f":"+'Outgoing Remittances (Value)'!D204","v":0}]
["CMREM_11530","ZA",{"$f":"+'Outgoing Remittances (Value)'!$D$5","v":"20240831"},{"$f":"+'COVER SHEET'!$D$12","v":0},11530,{"$f":"'COVER SHEET'!$D$16&IF(MID('COVER SHEET'!$I$18,6,10)=\"december\",\"1231\",IF(MID('COVER SHEET'!$I$18,6,10)=\"june\",\"0630\"))","v":"20241231"},{"$f":"+'Outgoing Remittances (Value)'!D205","v":0}]
["CMREM_11530","GS",{"$f":"+'Outgoing Remittances (Value)'!$D$5","v":"20240831"},{"$f":"+'COVER SHEET'!$D$12","v":0},11530,{"$f":"'COVER SHEET'!$D$16&IF(MID('COVER SHEET'!$I$18,6,10)=\"december\",\"1231\",IF(MID('COVER SHEET'!$I$18,6,10)=\"june\",\"0630\"))","v":"20241231"},{"$f":"+'Outgoing Remittances (Value)'!D206","v":0}]
["CMREM_11530","SS",{"$f":"+'Outgoing Remittances (Value)'!$D$5","v":"20240831"},{"$f":"+'COVER SHEET'!$D$12","v":0},11530,{"$f":"'COVER SHEET'!$D$16&IF(MID('COVER SHEET'!$I$18,6,10)=\"december\",\"1231\",IF(MID('COVER SHEET'!$I$18,6,10)=\"june\",\"0630\"))","v":"20241231"},{"$f":"+'Outgoing Remittances (Value)'!D207","v":0}]
["CMREM_11530","ES",{"$f":"+'Outgoing Remittances (Value)'!$D$5","v":"20240831"},{"$f":"+'COVER SHEET'!$D$12","v":0},11530,{"$f":"'COVER SHEET'!$D$16&IF(MID('COVER SHEET'!$I$18,6,10)=\"december\",\"1231\",IF(MID('COVER SHEET'!$I$18,6,10)=\"june\",\"0630\"))","v":"20241231"},{"$f":"+'Outgoing Remittances (Value)'!D208","v":0}]
["CMREM_11530","LK",{"$f":"+'Outgoing Remittances (Value)'!$D$5","v":"20240831"},{"$f":"+'COVER SHEET'!$D$12","v":0},11530,{"$f":"'COVER SHEET'!$D$16&IF(MID('COVER SHEET'!$I$18,6,10)=\"december\",\"1231\",IF(MID('COVER SHEET'!$I$18,6,10)=\"june\",\"0630\"))","v":"20241231"},{"$f":"+'Outgoing Remittances (Value)'!D209","v":0}]
["CMREM_11530","SD",{"$f":"+'Outgoing Remittances (Value)'!$D$5","v":"20240831"},{"$f":"+'COVER SHEET'!$D$12","v":0},11530,{"$f":"'COVER SHEET'!$D$16&IF(MID('COVER SHEET'!$I$18,6,10)=\"december\",\"1231\",IF(MID('COVER SHEET'!$I$18,6,10)=\"june\",\"0630\"))","v":"20241231"},{"$f":"+'Outgoing Remittances (Value)'!D210","v":0}]
["CMREM_11530","SR",{"$f":"+'Outgoing Remittances (Value)'!$D$5","v":"20240831"},{"$f":"+'COVER SHEET'!$D$12","v":0},11530,{"$f":"'COVER SHEET'!$D$16&IF(MID('COVER SHEET'!$I$18,6,10)=\"december\",\"1231\",IF(MID('COVER SHEET'!$I$18,6,10)=\"june\",\"0630\"))","v":"20241231"},{"$f":"+'Outgoing Remittances (Value)'!D211","v":0}]
["CMREM_11530","SZ",{"$f":"+'Outgoing Remittances (Value)'!$D$5","v":"20240831"},{"$f":"+'COVER SHEET'!$D$12","v":0},11530,{"$f":"'COVER SHEET'!$D$16&IF(MID('COVER SHEET'!$I$18,6,10)=\"december\",\"1231\",IF(MID('COVER SHEET'!$I$18,6,10)=\"june\",\"0630\"))","v":"20241231"},{"$f":"+'Outgoing Remittances (Value)'!D212","v":0}]
["CMREM_11530","SE",{"$f":"+'Outgoing Remittances (Value)'!$D$5","v":"20240831"},{"$f":"+'COVER SHEET'!$D$12","v":0},11530,{"$f":"'COVER SHEET'!$D$16&IF(MID('COVER SHEET'!$I$18,6,10)=\"december\",\"1231\",IF(MID('COVER SHEET'!$I$18,6,10)=\"june\",\"0630\"))","v":"20241231"},{"$f":"+'Outgoing Remittances (Value)'!D213","v":0}]
["CMREM_11530","CH",{"$f":"+'Outgoing Remittances (Value)'!$D$5","v":"20240831"},{"$f":"+'COVER SHEET'!$D$12","v":0},11530,{"$f":"'COVER SHEET'!$D$16&IF(MID('COVER SHEET'!$I$18,6,10)=\"december\",\"1231\",IF(MID('COVER SHEET'!$I$18,6,10)=\"june\",\"0630\"))","v":"20241231"},{"$f":"+'Outgoing Remittances (Value)'!D214","v":0}]
["CMREM_11530","SY",{"$f":"+'Outgoing Remittances (Value)'!$D$5","v":"20240831"},{"$f":"+'COVER SHEET'!$D$12","v":0},11530,{"$f":"'COVER SHEET'!$D$16&IF(MID('COVER SHEET'!$I$18,6,10)=\"december\",\"1231\",IF(MID('COVER SHEET'!$I$18,6,10)=\"june\",\"0630\"))","v":"20241231"},{"$f":"+'Outgoing Remittances (Value)'!D215","v":0}]
["CMREM_11530","TW",{"$f":"+'Outgoing Remittances (Value)'!$D$5","v":"20240831"},{"$f":"+'COVER SHEET'!$D$12","v":0},11530,{"$f":"'COVER SHEET'!$D$16&IF(MID('COVER SHEET'!$I$18,6,10)=\"december\",\"1231\",IF(MID('COVER SHEET'!$I$18,6,10)=\"june\",\"0630\"))","v":"20241231"},{"$f":"+'Outgoing Remittances (Value)'!D216","v":0}]
["CMREM_11530","TJ",{"$f":"+'Outgoing Remittances (Value)'!$D$5","v":"20240831"},{"$f":"+'COVER SHEET'!$D$12","v":0},11530,{"$f":"'COVER SHEET'!$D$16&IF(MID('COVER SHEET'!$I$18,6,10)=\"december\",\"1231\",IF(MID('COVER SHEET'!$I$18,6,10)=\"june\",\"0630\"))","v":"20241231"},{"$f":"+'Outgoing Remittances (Value)'!D217","v":0}]
["CMREM_11530","TZ",{"$f":"+'Outgoing Remittances (Value)'!$D$5","v":"20240831"},{"$f":"+'COVER SHEET'!$D$12","v":0},11530,{"$f":"'COVER SHEET'!$D$16&IF(MID('COVER SHEET'!$I$18,6,10)=\"december\",\"1231\",IF(MID('COVER SHEET'!$I$18,6,10)=\"june\",\"0630\"))","v":"20241231"},{"$f":"+'Outgoing Remittances (Value)'!D218","v":0}]
["CMREM_11530","TH",{"$f":"+'Outgoing Remittances (Value)'!$D$5","v":"20240831"},{"$f":"+'COVER SHEET'!$D$12","v":0},11530,{"$f":"'COVER SHEET'!$D$16&IF(MID('COVER SHEET'!$I$18,6,10)=\"december\",\"1231\",IF(MID('COVER SHEET'!$I$18,6,10)=\"june\",\"0630\"))","v":"20241231"},{"$f":"+'Outgoing Remittances (Value)'!D219","v":0}]
["CMREM_11530","TG",{"$f":"+'Outgoing Remittances (Value)'!$D$5","v":"20240831"},{"$f":"+'COVER SHEET'!$D$12","v":0},11530,{"$f":"'COVER SHEET'!$D$16&IF(MID('COVER SHEET'!$I$18,6,10)=\"december\",\"1231\",IF(MID('COVER SHEET'!$I$18,6,10)=\"june\",\"0630\"))","v":"20241231"},{"$f":"+'Outgoing Remittances (Value)'!D220","v":0}]
["CMREM_11530","TK",{"$f":"+'Outgoing Remittances (Value)'!$D$5","v":"20240831"},{"$f":"+'COVER SHEET'!$D$12","v":0},11530,{"$f":"'COVER SHEET'!$D$16&IF(MID('COVER SHEET'!$I$18,6,10)=\"december\",\"1231\",IF(MID('COVER SHEET'!$I$18,6,10)=\"june\",\"0630\"))","v":"20241231"},{"$f":"+'Outgoing Remittances (Value)'!D221","v":0}]
["CMREM_11530","TO",{"$f":"+'Outgoing Remittances (Value)'!$D$5","v":"20240831"},{"$f":"+'COVER SHEET'!$D$12","v":0},11530,{"$f":"'COVER SHEET'!$D$16&IF(MID('COVER SHEET'!$I$18,6,10)=\"december\",\"1231\",IF(MID('COVER SHEET'!$I$18,6,10)=\"june\",\"0630\"))","v":"20241231"},{"$f":"+'Outgoing Remittances (Value)'!D222","v":0}]
["CMREM_11530","TT",{"$f":"+'Outgoing Remittances (Value)'!$D$5","v":"20240831"},{"$f":"+'COVER SHEET'!$D$12","v":0},11530,{"$f":"'COVER SHEET'!$D$16&IF(MID('COVER SHEET'!$I$18,6,10)=\"december\",\"1231\",IF(MID('COVER SHEET'!$I$18,6,10)=\"june\",\"0630\"))","v":"20241231"},{"$f":"+'Outgoing Remittances (Value)'!D223","v":0}]
["CMREM_11530","TN",{"$f":"+'Outgoing Remittances (Value)'!$D$5","v":"20240831"},{"$f":"+'COVER SHEET'!$D$12","v":0},11530,{"$f":"'COVER SHEET'!$D$16&IF(MID('COVER SHEET'!$I$18,6,10)=\"december\",\"1231\",IF(MID('COVER SHEET'!$I$18,6,10)=\"june\",\"0630\"))","v":"20241231"},{"$f":"+'Outgoing Remittances (Value)'!D224","v":0}]
["CMREM_11530","TR",{"$f":"+'Outgoing Remittances (Value)'!$D$5","v":"20240831"},{"$f":"+'COVER SHEET'!$D$12","v":0},11530,{"$f":"'COVER SHEET'!$D$16&IF(MID('COVER SHEET'!$I$18,6,10)=\"december\",\"1231\",IF(MID('COVER SHEET'!$I$18,6,10)=\"june\",\"0630\"))","v":"20241231"},{"$f":"+'Outgoing Remittances (Value)'!D225","v":0}]
["CMREM_11530","TM",{"$f":"+'Outgoing Remittances (Value)'!$D$5","v":"20240831"},{"$f":"+'COVER SHEET'!$D$12","v":0},11530,{"$f":"'COVER SHEET'!$D$16&IF(MID('COVER SHEET'!$I$18,6,10)=\"december\",\"1231\",IF(MID('COVER SHEET'!$I$18,6,10)=\"june\",\"0630\"))","v":"20241231"},{"$f":"+'Outgoing Remittances (Value)'!D226","v":0}]
["CMREM_11530","TC",{"$f":"+'Outgoing Remittances (Value)'!$D$5","v":"20240831"},{"$f":"+'COVER SHEET'!$D$12","v":0},11530,{"$f":"'COVER SHEET'!$D$16&IF(MID('COVER SHEET'!$I$18,6,10)=\"december\",\"1231\",IF(MID('COVER SHEET'!$I$18,6,10)=\"june\",\"0630\"))","v":"20241231"},{"$f":"+'Outgoing Remittances (Value)'!D227","v":0}]
["CMREM_11530","TV",{"$f":"+'Outgoing Remittances (Value)'!$D$5","v":"20240831"},{"$f":"+'COVER SHEET'!$D$12","v":0},11530,{"$f":"'COVER SHEET'!$D$16&IF(MID('COVER SHEET'!$I$18,6,10)=\"december\",\"1231\",IF(MID('COVER SHEET'!$I$18,6,10)=\"june\",\"0630\"))","v":"20241231"},{"$f":"+'Outgoing Remittances (Value)'!D228","v":0}]
["CMREM_11530","UG",{"$f":"+'Outgoing Remittances (Value)'!$D$5","v":"20240831"},{"$f":"+'COVER SHEET'!$D$12","v":0},11530,{"$f":"'COVER SHEET'!$D$16&IF(MID('COVER SHEET'!$I$18,6,10)=\"december\",\"1231\",IF(MID('COVER SHEET'!$I$18,6,10)=\"june\",\"0630\"))","v":"20241231"},{"$f":"+'Outgoing Remittances (Value)'!D229","v":0}]
["CMREM_11530","UA",{"$f":"+'Outgoing Remittances (Value)'!$D$5","v":"20240831"},{"$f":"+'COVER SHEET'!$D$12","v":0},11530,{"$f":"'COVER SHEET'!$D$16&IF(MID('COVER SHEET'!$I$18,6,10)=\"december\",\"1231\",IF(MID('COVER SHEET'!$I$18,6,10)=\"june\",\"0630\"))","v":"20241231"},{"$f":"+'Outgoing Remittances (Value)'!D230","v":0}]
["CMREM_11530","AE",{"$f":"+'Outgoing Remittances (Value)'!$D$5","v":"20240831"},{"$f":"+'COVER SHEET'!$D$12","v":0},11530,{"$f":"'COVER SHEET'!$D$16&IF(MID('COVER SHEET'!$I$18,6,10)=\"december\",\"1231\",IF(MID('COVER SHEET'!$I$18,6,10)=\"june\",\"0630\"))","v":"20241231"},{"$f":"+'Outgoing Remittances (Value)'!D231","v":0}]
["CMREM_11530","GB",{"$f":"+'Outgoing Remittances (Value)'!$D$5","v":"20240831"},{"$f":"+'COVER SHEET'!$D$12","v":0},11530,{"$f":"'COVER SHEET'!$D$16&IF(MID('COVER SHEET'!$I$18,6,10)=\"december\",\"1231\",IF(MID('COVER SHEET'!$I$18,6,10)=\"june\",\"0630\"))","v":"20241231"},{"$f":"+'Outgoing Remittances (Value)'!D232","v":0}]
["CMREM_11530","US",{"$f":"+'Outgoing Remittances (Value)'!$D$5","v":"20240831"},{"$f":"+'COVER SHEET'!$D$12","v":0},11530,{"$f":"'COVER SHEET'!$D$16&IF(MID('COVER SHEET'!$I$18,6,10)=\"december\",\"1231\",IF(MID('COVER SHEET'!$I$18,6,10)=\"june\",\"0630\"))","v":"20241231"},{"$f":"+'Outgoing Remittances (Value)'!D233","v":0}]
["CMREM_11530","UY",{"$f":"+'Outgoing Remittances (Value)'!$D$5","v":"20240831"},{"$f":"+'COVER SHEET'!$D$12","v":0},11530,{"$f":"'COVER SHEET'!$D$16&IF(MID('COVER SHEET'!$I$18,6,10)=\"december\",\"1231\",IF(MID('COVER SHEET'!$I$18,6,10)=\"june\",\"0630\"))","v":"20241231"},{"$f":"+'Outgoing Remittances (Value)'!D234","v":0}]
["CMREM_11530","UM",{"$f":"+'Outgoing Remittances (Value)'!$D$5","v":"20240831"},{"$f":"+'COVER SHEET'!$D$12","v":0},11530,{"$f":"'COVER SHEET'!$D$16&IF(MID('COVER SHEET'!$I$18,6,10)=\"december\",\"1231\",IF(MID('COVER SHEET'!$I$18,6,10)=\"june\",\"0630\"))","v":"20241231"},{"$f":"+'Outgoing Remittances (Value)'!D235","v":0}]
["CMREM_11530","UZ",{"$f":"+'Outgoing Remittances (Value)'!$D$5","v":"20240831"},{"$f":"+'COVER SHEET'!$D$12","v":0},11530,{"$f":"'COVER SHEET'!$D$16&IF(MID('COVER SHEET'!$I$18,6,10)=\"december\",\"1231\",IF(MID('COVER SHEET'!$I$18,6,10)=\"june\",\"0630\"))","v":"20241231"},{"$f":"+'Outgoing Remittances (Value)'!D236","v":0}]
["CMREM_11530","VU",{"$f":"+'Outgoing Remittances (Value)'!$D$5","v":"20240831"},{"$f":"+'COVER SHEET'!$D$12","v":0},11530,{"$f":"'COVER SHEET'!$D$16&IF(MID('COVER SHEET'!$I$18,6,10)=\"december\",\"1231\",IF(MID('COVER SHEET'!$I$18,6,10)=\"june\",\"0630\"))","v":"20241231"},{"$f":"+'Outgoing Remittances (Value)'!D237","v":0}]
["CMREM_11530","VE",{"$f":"+'Outgoing Remittances (Value)'!$D$5","v":"20240831"},{"$f":"+'COVER SHEET'!$D$12","v":0},11530,{"$f":"'COVER SHEET'!$D$16&IF(MID('COVER SHEET'!$I$18,6,10)=\"december\",\"1231\",IF(MID('COVER SHEET'!$I$18,6,10)=\"june\",\"0630\"))","v":"20241231"},{"$f":"+'Outgoing Remittances (Value)'!D238","v":0}]
["CMREM_11530","VN",{"$f":"+'Outgoing Remittances (Value)'!$D$5","v":"20240831"},{"$f":"+'COVER SHEET'!$D$12","v":0},11530,{"$f":"'COVER SHEET'!$D$16&IF(MID('COVER SHEET'!$I$18,6,10)=\"december\",\"1231\",IF(MID('COVER SHEET'!$I$18,6,10)=\"june\",\"0630\"))","v":"20241231"},{"$f":"+'Outgoing Remittances (Value)'!D239","v":0}]
["CMREM_11530","VI",{"$f":"+'Outgoing Remittances (Value)'!$D$5","v":"20240831"},{"$f":"+'COVER SHEET'!$D$12","v":0},11530,{"$f":"'COVER SHEET'!$D$16&IF(MID('COVER SHEET'!$I$18,6,10)=\"december\",\"1231\",IF(MID('COVER SHEET'!$I$18,6,10)=\"june\",\"0630\"))","v":"20241231"},{"$f":"+'Outgoing Remittances (Value)'!D240","v":0}]
["CMREM_11530","WF",{"$f":"+'Outgoing Remittances (Value)'!$D$5","v":"20240831"},{"$f":"+'COVER SHEET'!$D$12","v":0},11530,{"$f":"'COVER SHEET'!$D$16&IF(MID('COVER SHEET'!$I$18,6,10)=\"december\",\"1231\",IF(MID('COVER SHEET'!$I$18,6,10)=\"june\",\"0630\"))","v":"20241231"},{"$f":"+'Outgoing Remittances (Value)'!D241","v":0}]
["CMREM_11530","YE",{"$f":"+'Outgoing Remittances (Value)'!$D$5","v":"20240831"},{"$f":"+'COVER SHEET'!$D$12","v":0},11530,{"$f":"'COVER SHEET'!$D$16&IF(MID('COVER SHEET'!$I$18,6,10)=\"december\",\"1231\",IF(MID('COVER SHEET'!$I$18,6,10)=\"june\",\"0630\"))","v":"20241231"},{"$f":"+'Outgoing Remittances (Value)'!D242","v":0}]
["CMREM_11530","ZM",{"$f":"+'Outgoing Remittances (Value)'!$D$5","v":"20240831"},{"$f":"+'COVER SHEET'!$D$12","v":0},11530,{"$f":"'COVER SHEET'!$D$16&IF(MID('COVER SHEET'!$I$18,6,10)=\"december\",\"1231\",IF(MID('COVER SHEET'!$I$18,6,10)=\"june\",\"0630\"))","v":"20241231"},{"$f":"+'Outgoing Remittances (Value)'!D243","v":0}]
["CMREM_11530","ZW",{"$f":"+'Outgoing Remittances (Value)'!$D$5","v":"20240831"},{"$f":"+'COVER SHEET'!$D$12","v":0},11530,{"$f":"'COVER SHEET'!$D$16&IF(MID('COVER SHEET'!$I$18,6,10)=\"december\",\"1231\",IF(MID('COVER SHEET'!$I$18,6,10)=\"june\",\"0630\"))","v":"20241231"},{"$f":"+'Outgoing Remittances (Value)'!D244","v":0}]
["CMREM_11500","AF",{"$f":"+'Incoming Remittances (Volume)'!$F$5","v":"20240930"},{"$f":"+'COVER SHEET'!$D$12","v":0},11500,{"$f":"'COVER SHEET'!$D$16&IF(MID('COVER SHEET'!$I$18,6,10)=\"december\",\"1231\",IF(MID('COVER SHEET'!$I$18,6,10)=\"june\",\"0630\"))","v":"20241231"},{"$f":"+'Incoming Remittances (Volume)'!F9","v":0}]
["CMREM_11500","AL",{"$f":"+'Incoming Remittances (Volume)'!$F$5","v":"20240930"},{"$f":"+'COVER SHEET'!$D$12","v":0},11500,{"$f":"'COVER SHEET'!$D$16&IF(MID('COVER SHEET'!$I$18,6,10)=\"december\",\"1231\",IF(MID('COVER SHEET'!$I$18,6,10)=\"june\",\"0630\"))","v":"20241231"},{"$f":"+'Incoming Remittances (Volume)'!F10","v":0}]
["CMREM_11500","DZ",{"$f":"+'Incoming Remittances (Volume)'!$F$5","v":"20240930"},{"$f":"+'COVER SHEET'!$D$12","v":0},11500,{"$f":"'COVER SHEET'!$D$16&IF(MID('COVER SHEET'!$I$18,6,10)=\"december\",\"1231\",IF(MID('COVER SHEET'!$I$18,6,10)=\"june\",\"0630\"))","v":"20241231"},{"$f":"+'Incoming Remittances (Volume)'!F11","v":0}]
["CMREM_11500","AS",{"$f":"+'Incoming Remittances (Volume)'!$F$5","v":"20240930"},{"$f":"+'COVER SHEET'!$D$12","v":0},11500,{"$f":"'COVER SHEET'!$D$16&IF(MID('COVER SHEET'!$I$18,6,10)=\"december\",\"1231\",IF(MID('COVER SHEET'!$I$18,6,10)=\"june\",\"0630\"))","v":"20241231"},{"$f":"+'Incoming Remittances (Volume)'!F12","v":0}]
["CMREM_11500","AD",{"$f":"+'Incoming Remittances (Volume)'!$F$5","v":"20240930"},{"$f":"+'COVER SHEET'!$D$12","v":0},11500,{"$f":"'COVER SHEET'!$D$16&IF(MID('COVER SHEET'!$I$18,6,10)=\"december\",\"1231\",IF(MID('COVER SHEET'!$I$18,6,10)=\"june\",\"0630\"))","v":"20241231"},{"$f":"+'Incoming Remittances (Volume)'!F13","v":0}]
["CMREM_11500","AO",{"$f":"+'Incoming Remittances (Volume)'!$F$5","v":"20240930"},{"$f":"+'COVER SHEET'!$D$12","v":0},11500,{"$f":"'COVER SHEET'!$D$16&IF(MID('COVER SHEET'!$I$18,6,10)=\"december\",\"1231\",IF(MID('COVER SHEET'!$I$18,6,10)=\"june\",\"0630\"))","v":"20241231"},{"$f":"+'Incoming Remittances (Volume)'!F14","v":0}]
["CMREM_11500","AI",{"$f":"+'Incoming Remittances (Volume)'!$F$5","v":"20240930"},{"$f":"+'COVER SHEET'!$D$12","v":0},11500,{"$f":"'COVER SHEET'!$D$16&IF(MID('COVER SHEET'!$I$18,6,10)=\"december\",\"1231\",IF(MID('COVER SHEET'!$I$18,6,10)=\"june\",\"0630\"))","v":"20241231"},{"$f":"+'Incoming Remittances (Volume)'!F15","v":0}]
["CMREM_11500","AQ",{"$f":"+'Incoming Remittances (Volume)'!$F$5","v":"20240930"},{"$f":"+'COVER SHEET'!$D$12","v":0},11500,{"$f":"'COVER SHEET'!$D$16&IF(MID('COVER SHEET'!$I$18,6,10)=\"december\",\"1231\",IF(MID('COVER SHEET'!$I$18,6,10)=\"june\",\"0630\"))","v":"20241231"},{"$f":"+'Incoming Remittances (Volume)'!F16","v":0}]
["CMREM_11500","AG",{"$f":"+'Incoming Remittances (Volume)'!$F$5","v":"20240930"},{"$f":"+'COVER SHEET'!$D$12","v":0},11500,{"$f":"'COVER SHEET'!$D$16&IF(MID('COVER SHEET'!$I$18,6,10)=\"december\",\"1231\",IF(MID('COVER SHEET'!$I$18,6,10)=\"june\",\"0630\"))","v":"20241231"},{"$f":"+'Incoming Remittances (Volume)'!F17","v":0}]
["CMREM_11500","AR",{"$f":"+'Incoming Remittances (Volume)'!$F$5","v":"20240930"},{"$f":"+'COVER SHEET'!$D$12","v":0},11500,{"$f":"'COVER SHEET'!$D$16&IF(MID('COVER SHEET'!$I$18,6,10)=\"december\",\"1231\",IF(MID('COVER SHEET'!$I$18,6,10)=\"june\",\"0630\"))","v":"20241231"},{"$f":"+'Incoming Remittances (Volume)'!F18","v":0}]
["CMREM_11500","AM",{"$f":"+'Incoming Remittances (Volume)'!$F$5","v":"20240930"},{"$f":"+'COVER SHEET'!$D$12","v":0},11500,{"$f":"'COVER SHEET'!$D$16&IF(MID('COVER SHEET'!$I$18,6,10)=\"december\",\"1231\",IF(MID('COVER SHEET'!$I$18,6,10)=\"june\",\"0630\"))","v":"20241231"},{"$f":"+'Incoming Remittances (Volume)'!F19","v":0}]
["CMREM_11500","AW",{"$f":"+'Incoming Remittances (Volume)'!$F$5","v":"20240930"},{"$f":"+'COVER SHEET'!$D$12","v":0},11500,{"$f":"'COVER SHEET'!$D$16&IF(MID('COVER SHEET'!$I$18,6,10)=\"december\",\"1231\",IF(MID('COVER SHEET'!$I$18,6,10)=\"june\",\"0630\"))","v":"20241231"},{"$f":"+'Incoming Remittances (Volume)'!F20","v":0}]
["CMREM_11500","AU",{"$f":"+'Incoming Remittances (Volume)'!$F$5","v":"20240930"},{"$f":"+'COVER SHEET'!$D$12","v":0},11500,{"$f":"'COVER SHEET'!$D$16&IF(MID('COVER SHEET'!$I$18,6,10)=\"december\",\"1231\",IF(MID('COVER SHEET'!$I$18,6,10)=\"june\",\"0630\"))","v":"20241231"},{"$f":"+'Incoming Remittances (Volume)'!F21","v":0}]
["CMREM_11500","AT",{"$f":"+'Incoming Remittances (Volume)'!$F$5","v":"20240930"},{"$f":"+'COVER SHEET'!$D$12","v":0},11500,{"$f":"'COVER SHEET'!$D$16&IF(MID('COVER SHEET'!$I$18,6,10)=\"december\",\"1231\",IF(MID('COVER SHEET'!$I$18,6,10)=\"june\",\"0630\"))","v":"20241231"},{"$f":"+'Incoming Remittances (Volume)'!F22","v":0}]
["CMREM_11500","AZ",{"$f":"+'Incoming Remittances (Volume)'!$F$5","v":"20240930"},{"$f":"+'COVER SHEET'!$D$12","v":0},11500,{"$f":"'COVER SHEET'!$D$16&IF(MID('COVER SHEET'!$I$18,6,10)=\"december\",\"1231\",IF(MID('COVER SHEET'!$I$18,6,10)=\"june\",\"0630\"))","v":"20241231"},{"$f":"+'Incoming Remittances (Volume)'!F23","v":0}]
["CMREM_11500","BS",{"$f":"+'Incoming Remittances (Volume)'!$F$5","v":"20240930"},{"$f":"+'COVER SHEET'!$D$12","v":0},11500,{"$f":"'COVER SHEET'!$D$16&IF(MID('COVER SHEET'!$I$18,6,10)=\"december\",\"1231\",IF(MID('COVER SHEET'!$I$18,6,10)=\"june\",\"0630\"))","v":"20241231"},{"$f":"+'Incoming Remittances (Volume)'!F24","v":0}]
["CMREM_11500","BH",{"$f":"+'Incoming Remittances (Volume)'!$F$5","v":"20240930"},{"$f":"+'COVER SHEET'!$D$12","v":0},11500,{"$f":"'COVER SHEET'!$D$16&IF(MID('COVER SHEET'!$I$18,6,10)=\"december\",\"1231\",IF(MID('COVER SHEET'!$I$18,6,10)=\"june\",\"0630\"))","v":"20241231"},{"$f":"+'Incoming Remittances (Volume)'!F25","v":0}]
["CMREM_11500","BD",{"$f":"+'Incoming Remittances (Volume)'!$F$5","v":"20240930"},{"$f":"+'COVER SHEET'!$D$12","v":0},11500,{"$f":"'COVER SHEET'!$D$16&IF(MID('COVER SHEET'!$I$18,6,10)=\"december\",\"1231\",IF(MID('COVER SHEET'!$I$18,6,10)=\"june\",\"0630\"))","v":"20241231"},{"$f":"+'Incoming Remittances (Volume)'!F26","v":0}]
["CMREM_11500","BB",{"$f":"+'Incoming Remittances (Volume)'!$F$5","v":"20240930"},{"$f":"+'COVER SHEET'!$D$12","v":0},11500,{"$f":"'COVER SHEET'!$D$16&IF(MID('COVER SHEET'!$I$18,6,10)=\"december\",\"1231\",IF(MID('COVER SHEET'!$I$18,6,10)=\"june\",\"0630\"))","v":"20241231"},{"$f":"+'Incoming Remittances (Volume)'!F27","v":0}]
["CMREM_11500","BY",{"$f":"+'Incoming Remittances (Volume)'!$F$5","v":"20240930"},{"$f":"+'COVER SHEET'!$D$12","v":0},11500,{"$f":"'COVER SHEET'!$D$16&IF(MID('COVER SHEET'!$I$18,6,10)=\"december\",\"1231\",IF(MID('COVER SHEET'!$I$18,6,10)=\"june\",\"0630\"))","v":"20241231"},{"$f":"+'Incoming Remittances (Volume)'!F28","v":0}]
["CMREM_11500","BE",{"$f":"+'Incoming Remittances (Volume)'!$F$5","v":"20240930"},{"$f":"+'COVER SHEET'!$D$12","v":0},11500,{"$f":"'COVER SHEET'!$D$16&IF(MID('COVER SHEET'!$I$18,6,10)=\"december\",\"1231\",IF(MID('COVER SHEET'!$I$18,6,10)=\"june\",\"0630\"))","v":"20241231"},{"$f":"+'Incoming Remittances (Volume)'!F29","v":0}]
["CMREM_11500","BZ",{"$f":"+'Incoming Remittances (Volume)'!$F$5","v":"20240930"},{"$f":"+'COVER SHEET'!$D$12","v":0},11500,{"$f":"'COVER SHEET'!$D$16&IF(MID('COVER SHEET'!$I$18,6,10)=\"december\",\"1231\",IF(MID('COVER SHEET'!$I$18,6,10)=\"june\",\"0630\"))","v":"20241231"},{"$f":"+'Incoming Remittances (Volume)'!F30","v":0}]
["CMREM_11500","BJ",{"$f":"+'Incoming Remittances (Volume)'!$F$5","v":"20240930"},{"$f":"+'COVER SHEET'!$D$12","v":0},11500,{"$f":"'COVER SHEET'!$D$16&IF(MID('COVER SHEET'!$I$18,6,10)=\"december\",\"1231\",IF(MID('COVER SHEET'!$I$18,6,10)=\"june\",\"0630\"))","v":"20241231"},{"$f":"+'Incoming Remittances (Volume)'!F31","v":0}]
["CMREM_11500","BM",{"$f":"+'Incoming Remittances (Volume)'!$F$5","v":"20240930"},{"$f":"+'COVER SHEET'!$D$12","v":0},11500,{"$f":"'COVER SHEET'!$D$16&IF(MID('COVER SHEET'!$I$18,6,10)=\"december\",\"1231\",IF(MID('COVER SHEET'!$I$18,6,10)=\"june\",\"0630\"))","v":"20241231"},{"$f":"+'Incoming Remittances (Volume)'!F32","v":0}]
["CMREM_11500","BQ",{"$f":"+'Incoming Remittances (Volume)'!$F$5","v":"20240930"},{"$f":"+'COVER SHEET'!$D$12","v":0},11500,{"$f":"'COVER SHEET'!$D$16&IF(MID('COVER SHEET'!$I$18,6,10)=\"december\",\"1231\",IF(MID('COVER SHEET'!$I$18,6,10)=\"june\",\"0630\"))","v":"20241231"},{"$f":"+'Incoming Remittances (Volume)'!F33","v":0}]
["CMREM_11500","BT",{"$f":"+'Incoming Remittances (Volume)'!$F$5","v":"20240930"},{"$f":"+'COVER SHEET'!$D$12","v":0},11500,{"$f":"'COVER SHEET'!$D$16&IF(MID('COVER SHEET'!$I$18,6,10)=\"december\",\"1231\",IF(MID('COVER SHEET'!$I$18,6,10)=\"june\",\"0630\"))","v":"20241231"},{"$f":"+'Incoming Remittances (Volume)'!F34","v":0}]
["CMREM_11500","BO",{"$f":"+'Incoming Remittances (Volume)'!$F$5","v":"20240930"},{"$f":"+'COVER SHEET'!$D$12","v":0},11500,{"$f":"'COVER SHEET'!$D$16&IF(MID('COVER SHEET'!$I$18,6,10)=\"december\",\"1231\",IF(MID('COVER SHEET'!$I$18,6,10)=\"june\",\"0630\"))","v":"20241231"},{"$f":"+'Incoming Remittances (Volume)'!F35","v":0}]
["CMREM_11500","BA",{"$f":"+'Incoming Remittances (Volume)'!$F$5","v":"20240930"},{"$f":"+'COVER SHEET'!$D$12","v":0},11500,{"$f":"'COVER SHEET'!$D$16&IF(MID('COVER SHEET'!$I$18,6,10)=\"december\",\"1231\",IF(MID('COVER SHEET'!$I$18,6,10)=\"june\",\"0630\"))","v":"20241231"},{"$f":"+'Incoming Remittances (Volume)'!F36","v":0}]
["CMREM_11500","BW",{"$f":"+'Incoming Remittances (Volume)'!$F$5","v":"20240930"},{"$f":"+'COVER SHEET'!$D$12","v":0},11500,{"$f":"'COVER SHEET'!$D$16&IF(MID('COVER SHEET'!$I$18,6,10)=\"december\",\"1231\",IF(MID('COVER SHEET'!$I$18,6,10)=\"june\",\"0630\"))","v":"20241231"},{"$f":"+'Incoming Remittances (Volume)'!F37","v":0}]
["CMREM_11500","BV",{"$f":"+'Incoming Remittances (Volume)'!$F$5","v":"20240930"},{"$f":"+'COVER SHEET'!$D$12","v":0},11500,{"$f":"'COVER SHEET'!$D$16&IF(MID('COVER SHEET'!$I$18,6,10)=\"december\",\"1231\",IF(MID('COVER SHEET'!$I$18,6,10)=\"june\",\"0630\"))","v":"20241231"},{"$f":"+'Incoming Remittances (Volume)'!F38","v":0}]
["CMREM_11500","BR",{"$f":"+'Incoming Remittances (Volume)'!$F$5","v":"20240930"},{"$f":"+'COVER SHEET'!$D$12","v":0},11500,{"$f":"'COVER SHEET'!$D$16&IF(MID('COVER SHEET'!$I$18,6,10)=\"december\",\"1231\",IF(MID('COVER SHEET'!$I$18,6,10)=\"june\",\"0630\"))","v":"20241231"},{"$f":"+'Incoming Remittances (Volume)'!F39","v":0}]
["CMREM_11500","IO",{"$f":"+'Incoming Remittances (Volume)'!$F$5","v":"20240930"},{"$f":"+'COVER SHEET'!$D$12","v":0},11500,{"$f":"'COVER SHEET'!$D$16&IF(MID('COVER SHEET'!$I$18,6,10)=\"december\",\"1231\",IF(MID('COVER SHEET'!$I$18,6,10)=\"june\",\"0630\"))","v":"20241231"},{"$f":"+'Incoming Remittances (Volume)'!F40","v":0}]
["CMREM_11500","VG",{"$f":"+'Incoming Remittances (Volume)'!$F$5","v":"20240930"},{"$f":"+'COVER SHEET'!$D$12","v":0},11500,{"$f":"'COVER SHEET'!$D$16&IF(MID('COVER SHEET'!$I$18,6,10)=\"december\",\"1231\",IF(MID('COVER SHEET'!$I$18,6,10)=\"june\",\"0630\"))","v":"20241231"},{"$f":"+'Incoming Remittances (Volume)'!F41","v":0}]
["CMREM_11500","BN",{"$f":"+'Incoming Remittances (Volume)'!$F$5","v":"20240930"},{"$f":"+'COVER SHEET'!$D$12","v":0},11500,{"$f":"'COVER SHEET'!$D$16&IF(MID('COVER SHEET'!$I$18,6,10)=\"december\",\"1231\",IF(MID('COVER SHEET'!$I$18,6,10)=\"june\",\"0630\"))","v":"20241231"},{"$f":"+'Incoming Remittances (Volume)'!F42","v":0}]
["CMREM_11500","BG",{"$f":"+'Incoming Remittances (Volume)'!$F$5","v":"20240930"},{"$f":"+'COVER SHEET'!$D$12","v":0},11500,{"$f":"'COVER SHEET'!$D$16&IF(MID('COVER SHEET'!$I$18,6,10)=\"december\",\"1231\",IF(MID('COVER SHEET'!$I$18,6,10)=\"june\",\"0630\"))","v":"20241231"},{"$f":"+'Incoming Remittances (Volume)'!F43","v":0}]
["CMREM_11500","BF",{"$f":"+'Incoming Remittances (Volume)'!$F$5","v":"20240930"},{"$f":"+'COVER SHEET'!$D$12","v":0},11500,{"$f":"'COVER SHEET'!$D$16&IF(MID('COVER SHEET'!$I$18,6,10)=\"december\",\"1231\",IF(MID('COVER SHEET'!$I$18,6,10)=\"june\",\"0630\"))","v":"20241231"},{"$f":"+'Incoming Remittances (Volume)'!F44","v":0}]
["CMREM_11500","BI",{"$f":"+'Incoming Remittances (Volume)'!$F$5","v":"20240930"},{"$f":"+'COVER SHEET'!$D$12","v":0},11500,{"$f":"'COVER SHEET'!$D$16&IF(MID('COVER SHEET'!$I$18,6,10)=\"december\",\"1231\",IF(MID('COVER SHEET'!$I$18,6,10)=\"june\",\"0630\"))","v":"20241231"},{"$f":"+'Incoming Remittances (Volume)'!F45","v":0}]
["CMREM_11500","KH",{"$f":"+'Incoming Remittances (Volume)'!$F$5","v":"20240930"},{"$f":"+'COVER SHEET'!$D$12","v":0},11500,{"$f":"'COVER SHEET'!$D$16&IF(MID('COVER SHEET'!$I$18,6,10)=\"december\",\"1231\",IF(MID('COVER SHEET'!$I$18,6,10)=\"june\",\"0630\"))","v":"20241231"},{"$f":"+'Incoming Remittances (Volume)'!F46","v":0}]
["CMREM_11500","CM",{"$f":"+'Incoming Remittances (Volume)'!$F$5","v":"20240930"},{"$f":"+'COVER SHEET'!$D$12","v":0},11500,{"$f":"'COVER SHEET'!$D$16&IF(MID('COVER SHEET'!$I$18,6,10)=\"december\",\"1231\",IF(MID('COVER SHEET'!$I$18,6,10)=\"june\",\"0630\"))","v":"20241231"},{"$f":"+'Incoming Remittances (Volume)'!F47","v":0}]
["CMREM_11500","CA",{"$f":"+'Incoming Remittances (Volume)'!$F$5","v":"20240930"},{"$f":"+'COVER SHEET'!$D$12","v":0},11500,{"$f":"'COVER SHEET'!$D$16&IF(MID('COVER SHEET'!$I$18,6,10)=\"december\",\"1231\",IF(MID('COVER SHEET'!$I$18,6,10)=\"june\",\"0630\"))","v":"20241231"},{"$f":"+'Incoming Remittances (Volume)'!F48","v":0}]
["CMREM_11500","CV",{"$f":"+'Incoming Remittances (Volume)'!$F$5","v":"20240930"},{"$f":"+'COVER SHEET'!$D$12","v":0},11500,{"$f":"'COVER SHEET'!$D$16&IF(MID('COVER SHEET'!$I$18,6,10)=\"december\",\"1231\",IF(MID('COVER SHEET'!$I$18,6,10)=\"june\",\"0630\"))","v":"20241231"},{"$f":"+'Incoming Remittances (Volume)'!F49","v":0}]
["CMREM_11500","KY",{"$f":"+'Incoming Remittances (Volume)'!$F$5","v":"20240930"},{"$f":"+'COVER SHEET'!$D$12","v":0},11500,{"$f":"'COVER SHEET'!$D$16&IF(MID('COVER SHEET'!$I$18,6,10)=\"december\",\"1231\",IF(MID('COVER SHEET'!$I$18,6,10)=\"june\",\"0630\"))","v":"20241231"},{"$f":"+'Incoming Remittances (Volume)'!F50","v":0}]
["CMREM_11500","CF",{"$f":"+'Incoming Remittances (Volume)'!$F$5","v":"20240930"},{"$f":"+'COVER SHEET'!$D$12","v":0},11500,{"$f":"'COVER SHEET'!$D$16&IF(MID('COVER SHEET'!$I$18,6,10)=\"december\",\"1231\",IF(MID('COVER SHEET'!$I$18,6,10)=\"june\",\"0630\"))","v":"20241231"},{"$f":"+'Incoming Remittances (Volume)'!F51","v":0}]
["CMREM_11500","TD",{"$f":"+'Incoming Remittances (Volume)'!$F$5","v":"20240930"},{"$f":"+'COVER SHEET'!$D$12","v":0},11500,{"$f":"'COVER SHEET'!$D$16&IF(MID('COVER SHEET'!$I$18,6,10)=\"december\",\"1231\",IF(MID('COVER SHEET'!$I$18,6,10)=\"june\",\"0630\"))","v":"20241231"},{"$f":"+'Incoming Remittances (Volume)'!F52","v":0}]
["CMREM_11500","CL",{"$f":"+'Incoming Remittances (Volume)'!$F$5","v":"20240930"},{"$f":"+'COVER SHEET'!$D$12","v":0},11500,{"$f":"'COVER SHEET'!$D$16&IF(MID('COVER SHEET'!$I$18,6,10)=\"december\",\"1231\",IF(MID('COVER SHEET'!$I$18,6,10)=\"june\",\"0630\"))","v":"20241231"},{"$f":"+'Incoming Remittances (Volume)'!F53","v":0}]
["CMREM_11500","CN",{"$f":"+'Incoming Remittances (Volume)'!$F$5","v":"20240930"},{"$f":"+'COVER SHEET'!$D$12","v":0},11500,{"$f":"'COVER SHEET'!$D$16&IF(MID('COVER SHEET'!$I$18,6,10)=\"december\",\"1231\",IF(MID('COVER SHEET'!$I$18,6,10)=\"june\",\"0630\"))","v":"20241231"},{"$f":"+'Incoming Remittances (Volume)'!F54","v":0}]
["CMREM_11500","CX",{"$f":"+'Incoming Remittances (Volume)'!$F$5","v":"20240930"},{"$f":"+'COVER SHEET'!$D$12","v":0},11500,{"$f":"'COVER SHEET'!$D$16&IF(MID('COVER SHEET'!$I$18,6,10)=\"december\",\"1231\",IF(MID('COVER SHEET'!$I$18,6,10)=\"june\",\"0630\"))","v":"20241231"},{"$f":"+'Incoming Remittances (Volume)'!F55","v":0}]
["CMREM_11500","CC",{"$f":"+'Incoming Remittances (Volume)'!$F$5","v":"20240930"},{"$f":"+'COVER SHEET'!$D$12","v":0},11500,{"$f":"'COVER SHEET'!$D$16&IF(MID('COVER SHEET'!$I$18,6,10)=\"december\",\"1231\",IF(MID('COVER SHEET'!$I$18,6,10)=\"june\",\"0630\"))","v":"20241231"},{"$f":"+'Incoming Remittances (Volume)'!F56","v":0}]
["CMREM_11500","CO",{"$f":"+'Incoming Remittances (Volume)'!$F$5","v":"20240930"},{"$f":"+'COVER SHEET'!$D$12","v":0},11500,{"$f":"'COVER SHEET'!$D$16&IF(MID('COVER SHEET'!$I$18,6,10)=\"december\",\"1231\",IF(MID('COVER SHEET'!$I$18,6,10)=\"june\",\"0630\"))","v":"20241231"},{"$f":"+'Incoming Remittances (Volume)'!F57","v":0}]
["CMREM_11500","KM",{"$f":"+'Incoming Remittances (Volume)'!$F$5","v":"20240930"},{"$f":"+'COVER SHEET'!$D$12","v":0},11500,{"$f":"'COVER SHEET'!$D$16&IF(MID('COVER SHEET'!$I$18,6,10)=\"december\",\"1231\",IF(MID('COVER SHEET'!$I$18,6,10)=\"june\",\"0630\"))","v":"20241231"},{"$f":"+'Incoming Remittances (Volume)'!F58","v":0}]
["CMREM_11500","CG",{"$f":"+'Incoming Remittances (Volume)'!$F$5","v":"20240930"},{"$f":"+'COVER SHEET'!$D$12","v":0},11500,{"$f":"'COVER SHEET'!$D$16&IF(MID('COVER SHEET'!$I$18,6,10)=\"december\",\"1231\",IF(MID('COVER SHEET'!$I$18,6,10)=\"june\",\"0630\"))","v":"20241231"},{"$f":"+'Incoming Remittances (Volume)'!F59","v":0}]
["CMREM_11500","CD",{"$f":"+'Incoming Remittances (Volume)'!$F$5","v":"20240930"},{"$f":"+'COVER SHEET'!$D$12","v":0},11500,{"$f":"'COVER SHEET'!$D$16&IF(MID('COVER SHEET'!$I$18,6,10)=\"december\",\"1231\",IF(MID('COVER SHEET'!$I$18,6,10)=\"june\",\"0630\"))","v":"20241231"},{"$f":"+'Incoming Remittances (Volume)'!F60","v":0}]
["CMREM_11500","CK",{"$f":"+'Incoming Remittances (Volume)'!$F$5","v":"20240930"},{"$f":"+'COVER SHEET'!$D$12","v":0},11500,{"$f":"'COVER SHEET'!$D$16&IF(MID('COVER SHEET'!$I$18,6,10)=\"december\",\"1231\",IF(MID('COVER SHEET'!$I$18,6,10)=\"june\",\"0630\"))","v":"20241231"},{"$f":"+'Incoming Remittances (Volume)'!F61","v":0}]
["CMREM_11500","CR",{"$f":"+'Incoming Remittances (Volume)'!$F$5","v":"20240930"},{"$f":"+'COVER SHEET'!$D$12","v":0},11500,{"$f":"'COVER SHEET'!$D$16&IF(MID('COVER SHEET'!$I$18,6,10)=\"december\",\"1231\",IF(MID('COVER SHEET'!$I$18,6,10)=\"june\",\"0630\"))","v":"20241231"},{"$f":"+'Incoming Remittances (Volume)'!F62","v":0}]
["CMREM_11500","HR",{"$f":"+'Incoming Remittances (Volume)'!$F$5","v":"20240930"},{"$f":"+'COVER SHEET'!$D$12","v":0},11500,{"$f":"'COVER SHEET'!$D$16&IF(MID('COVER SHEET'!$I$18,6,10)=\"december\",\"1231\",IF(MID('COVER SHEET'!$I$18,6,10)=\"june\",\"0630\"))","v":"20241231"},{"$f":"+'Incoming Remittances (Volume)'!F63","v":0}]
["CMREM_11500","CU",{"$f":"+'Incoming Remittances (Volume)'!$F$5","v":"20240930"},{"$f":"+'COVER SHEET'!$D$12","v":0},11500,{"$f":"'COVER SHEET'!$D$16&IF(MID('COVER SHEET'!$I$18,6,10)=\"december\",\"1231\",IF(MID('COVER SHEET'!$I$18,6,10)=\"june\",\"0630\"))","v":"20241231"},{"$f":"+'Incoming Remittances (Volume)'!F64","v":0}]
["CMREM_11500","CW",{"$f":"+'Incoming Remittances (Volume)'!$F$5","v":"20240930"},{"$f":"+'COVER SHEET'!$D$12","v":0},11500,{"$f":"'COVER SHEET'!$D$16&IF(MID('COVER SHEET'!$I$18,6,10)=\"december\",\"1231\",IF(MID('COVER SHEET'!$I$18,6,10)=\"june\",\"0630\"))","v":"20241231"},{"$f":"+'Incoming Remittances (Volume)'!F65","v":0}]
["CMREM_11500","CY",{"$f":"+'Incoming Remittances (Volume)'!$F$5","v":"20240930"},{"$f":"+'COVER SHEET'!$D$12","v":0},11500,{"$f":"'COVER SHEET'!$D$16&IF(MID('COVER SHEET'!$I$18,6,10)=\"december\",\"1231\",IF(MID('COVER SHEET'!$I$18,6,10)=\"june\",\"0630\"))","v":"20241231"},{"$f":"+'Incoming Remittances (Volume)'!F66","v":0}]
["CMREM_11500","CZ",{"$f":"+'Incoming Remittances (Volume)'!$F$5","v":"20240930"},{"$f":"+'COVER SHEET'!$D$12","v":0},11500,{"$f":"'COVER SHEET'!$D$16&IF(MID('COVER SHEET'!$I$18,6,10)=\"december\",\"1231\",IF(MID('COVER SHEET'!$I$18,6,10)=\"june\",\"0630\"))","v":"20241231"},{"$f":"+'Incoming Remittances (Volume)'!F67","v":0}]
["CMREM_11500","DK",{"$f":"+'Incoming Remittances (Volume)'!$F$5","v":"20240930"},{"$f":"+'COVER SHEET'!$D$12","v":0},11500,{"$f":"'COVER SHEET'!$D$16&IF(MID('COVER SHEET'!$I$18,6,10)=\"december\",\"1231\",IF(MID('COVER SHEET'!$I$18,6,10)=\"june\",\"0630\"))","v":"20241231"},{"$f":"+'Incoming Remittances (Volume)'!F68","v":0}]
["CMREM_11500","DJ",{"$f":"+'Incoming Remittances (Volume)'!$F$5","v":"20240930"},{"$f":"+'COVER SHEET'!$D$12","v":0},11500,{"$f":"'COVER SHEET'!$D$16&IF(MID('COVER SHEET'!$I$18,6,10)=\"december\",\"1231\",IF(MID('COVER SHEET'!$I$18,6,10)=\"june\",\"0630\"))","v":"20241231"},{"$f":"+'Incoming Remittances (Volume)'!F69","v":0}]
["CMREM_11500","DM",{"$f":"+'Incoming Remittances (Volume)'!$F$5","v":"20240930"},{"$f":"+'COVER SHEET'!$D$12","v":0},11500,{"$f":"'COVER SHEET'!$D$16&IF(MID('COVER SHEET'!$I$18,6,10)=\"december\",\"1231\",IF(MID('COVER SHEET'!$I$18,6,10)=\"june\",\"0630\"))","v":"20241231"},{"$f":"+'Incoming Remittances (Volume)'!F70","v":0}]
["CMREM_11500","DO",{"$f":"+'Incoming Remittances (Volume)'!$F$5","v":"20240930"},{"$f":"+'COVER SHEET'!$D$12","v":0},11500,{"$f":"'COVER SHEET'!$D$16&IF(MID('COVER SHEET'!$I$18,6,10)=\"december\",\"1231\",IF(MID('COVER SHEET'!$I$18,6,10)=\"june\",\"0630\"))","v":"20241231"},{"$f":"+'Incoming Remittances (Volume)'!F71","v":0}]
["CMREM_11500","TL",{"$f":"+'Incoming Remittances (Volume)'!$F$5","v":"20240930"},{"$f":"+'COVER SHEET'!$D$12","v":0},11500,{"$f":"'COVER SHEET'!$D$16&IF(MID('COVER SHEET'!$I$18,6,10)=\"december\",\"1231\",IF(MID('COVER SHEET'!$I$18,6,10)=\"june\",\"0630\"))","v":"20241231"},{"$f":"+'Incoming Remittances (Volume)'!F72","v":0}]
["CMREM_11500","EC",{"$f":"+'Incoming Remittances (Volume)'!$F$5","v":"20240930"},{"$f":"+'COVER SHEET'!$D$12","v":0},11500,{"$f":"'COVER SHEET'!$D$16&IF(MID('COVER SHEET'!$I$18,6,10)=\"december\",\"1231\",IF(MID('COVER SHEET'!$I$18,6,10)=\"june\",\"0630\"))","v":"20241231"},{"$f":"+'Incoming Remittances (Volume)'!F73","v":0}]
["CMREM_11500","EG",{"$f":"+'Incoming Remittances (Volume)'!$F$5","v":"20240930"},{"$f":"+'COVER SHEET'!$D$12","v":0},11500,{"$f":"'COVER SHEET'!$D$16&IF(MID('COVER SHEET'!$I$18,6,10)=\"december\",\"1231\",IF(MID('COVER SHEET'!$I$18,6,10)=\"june\",\"0630\"))","v":"20241231"},{"$f":"+'Incoming Remittances (Volume)'!F74","v":0}]
["CMREM_11500","SV",{"$f":"+'Incoming Remittances (Volume)'!$F$5","v":"20240930"},{"$f":"+'COVER SHEET'!$D$12","v":0},11500,{"$f":"'COVER SHEET'!$D$16&IF(MID('COVER SHEET'!$I$18,6,10)=\"december\",\"1231\",IF(MID('COVER SHEET'!$I$18,6,10)=\"june\",\"0630\"))","v":"20241231"},{"$f":"+'Incoming Remittances (Volume)'!F75","v":0}]
["CMREM_11500","GQ",{"$f":"+'Incoming Remittances (Volume)'!$F$5","v":"20240930"},{"$f":"+'COVER SHEET'!$D$12","v":0},11500,{"$f":"'COVER SHEET'!$D$16&IF(MID('COVER SHEET'!$I$18,6,10)=\"december\",\"1231\",IF(MID('COVER SHEET'!$I$18,6,10)=\"june\",\"0630\"))","v":"20241231"},{"$f":"+'Incoming Remittances (Volume)'!F76","v":0}]
["CMREM_11500","ER",{"$f":"+'Incoming Remittances (Volume)'!$F$5","v":"20240930"},{"$f":"+'COVER SHEET'!$D$12","v":0},11500,{"$f":"'COVER SHEET'!$D$16&IF(MID('COVER SHEET'!$I$18,6,10)=\"december\",\"1231\",IF(MID('COVER SHEET'!$I$18,6,10)=\"june\",\"0630\"))","v":"20241231"},{"$f":"+'Incoming Remittances (Volume)'!F77","v":0}]
["CMREM_11500","EE",{"$f":"+'Incoming Remittances (Volume)'!$F$5","v":"20240930"},{"$f":"+'COVER SHEET'!$D$12","v":0},11500,{"$f":"'COVER SHEET'!$D$16&IF(MID('COVER SHEET'!$I$18,6,10)=\"december\",\"1231\",IF(MID('COVER SHEET'!$I$18,6,10)=\"june\",\"0630\"))","v":"20241231"},{"$f":"+'Incoming Remittances (Volume)'!F78","v":0}]
["CMREM_11500","ET",{"$f":"+'Incoming Remittances (Volume)'!$F$5","v":"20240930"},{"$f":"+'COVER SHEET'!$D$12","v":0},11500,{"$f":"'COVER SHEET'!$D$16&IF(MID('COVER SHEET'!$I$18,6,10)=\"december\",\"1231\",IF(MID('COVER SHEET'!$I$18,6,10)=\"june\",\"0630\"))","v":"20241231"},{"$f":"+'Incoming Remittances (Volume)'!F79","v":0}]
["CMREM_11500","FK",{"$f":"+'Incoming Remittances (Volume)'!$F$5","v":"20240930"},{"$f":"+'COVER SHEET'!$D$12","v":0},11500,{"$f":"'COVER SHEET'!$D$16&IF(MID('COVER SHEET'!$I$18,6,10)=\"december\",\"1231\",IF(MID('COVER SHEET'!$I$18,6,10)=\"june\",\"0630\"))","v":"20241231"},{"$f":"+'Incoming Remittances (Volume)'!F80","v":0}]
["CMREM_11500","FO",{"$f":"+'Incoming Remittances (Volume)'!$F$5","v":"20240930"},{"$f":"+'COVER SHEET'!$D$12","v":0},11500,{"$f":"'COVER SHEET'!$D$16&IF(MID('COVER SHEET'!$I$18,6,10)=\"december\",\"1231\",IF(MID('COVER SHEET'!$I$18,6,10)=\"june\",\"0630\"))","v":"20241231"},{"$f":"+'Incoming Remittances (Volume)'!F81","v":0}]
["CMREM_11500","FJ",{"$f":"+'Incoming Remittances (Volume)'!$F$5","v":"20240930"},{"$f":"+'COVER SHEET'!$D$12","v":0},11500,{"$f":"'COVER SHEET'!$D$16&IF(MID('COVER SHEET'!$I$18,6,10)=\"december\",\"1231\",IF(MID('COVER SHEET'!$I$18,6,10)=\"june\",\"0630\"))","v":"20241231"},{"$f":"+'Incoming Remittances (Volume)'!F82","v":0}]
["CMREM_11500","FI",{"$f":"+'Incoming Remittances (Volume)'!$F$5","v":"20240930"},{"$f":"+'COVER SHEET'!$D$12","v":0},11500,{"$f":"'COVER SHEET'!$D$16&IF(MID('COVER SHEET'!$I$18,6,10)=\"december\",\"1231\",IF(MID('COVER SHEET'!$I$18,6,10)=\"june\",\"0630\"))","v":"20241231"},{"$f":"+'Incoming Remittances (Volume)'!F83","v":0}]
["CMREM_11500","FR",{"$f":"+'Incoming Remittances (Volume)'!$F$5","v":"20240930"},{"$f":"+'COVER SHEET'!$D$12","v":0},11500,{"$f":"'COVER SHEET'!$D$16&IF(MID('COVER SHEET'!$I$18,6,10)=\"december\",\"1231\",IF(MID('COVER SHEET'!$I$18,6,10)=\"june\",\"0630\"))","v":"20241231"},{"$f":"+'Incoming Remittances (Volume)'!F84","v":0}]
["CMREM_11500","PF",{"$f":"+'Incoming Remittances (Volume)'!$F$5","v":"20240930"},{"$f":"+'COVER SHEET'!$D$12","v":0},11500,{"$f":"'COVER SHEET'!$D$16&IF(MID('COVER SHEET'!$I$18,6,10)=\"december\",\"1231\",IF(MID('COVER SHEET'!$I$18,6,10)=\"june\",\"0630\"))","v":"20241231"},{"$f":"+'Incoming Remittances (Volume)'!F85","v":0}]
["CMREM_11500","TF",{"$f":"+'Incoming Remittances (Volume)'!$F$5","v":"20240930"},{"$f":"+'COVER SHEET'!$D$12","v":0},11500,{"$f":"'COVER SHEET'!$D$16&IF(MID('COVER SHEET'!$I$18,6,10)=\"december\",\"1231\",IF(MID('COVER SHEET'!$I$18,6,10)=\"june\",\"0630\"))","v":"20241231"},{"$f":"+'Incoming Remittances (Volume)'!F86","v":0}]
["CMREM_11500","GA",{"$f":"+'Incoming Remittances (Volume)'!$F$5","v":"20240930"},{"$f":"+'COVER SHEET'!$D$12","v":0},11500,{"$f":"'COVER SHEET'!$D$16&IF(MID('COVER SHEET'!$I$18,6,10)=\"december\",\"1231\",IF(MID('COVER SHEET'!$I$18,6,10)=\"june\",\"0630\"))","v":"20241231"},{"$f":"+'Incoming Remittances (Volume)'!F87","v":0}]
["CMREM_11500","GM",{"$f":"+'Incoming Remittances (Volume)'!$F$5","v":"20240930"},{"$f":"+'COVER SHEET'!$D$12","v":0},11500,{"$f":"'COVER SHEET'!$D$16&IF(MID('COVER SHEET'!$I$18,6,10)=\"december\",\"1231\",IF(MID('COVER SHEET'!$I$18,6,10)=\"june\",\"0630\"))","v":"20241231"},{"$f":"+'Incoming Remittances (Volume)'!F88","v":0}]
["CMREM_11500","GE",{"$f":"+'Incoming Remittances (Volume)'!$F$5","v":"20240930"},{"$f":"+'COVER SHEET'!$D$12","v":0},11500,{"$f":"'COVER SHEET'!$D$16&IF(MID('COVER SHEET'!$I$18,6,10)=\"december\",\"1231\",IF(MID('COVER SHEET'!$I$18,6,10)=\"june\",\"0630\"))","v":"20241231"},{"$f":"+'Incoming Remittances (Volume)'!F89","v":0}]
["CMREM_11500","DE",{"$f":"+'Incoming Remittances (Volume)'!$F$5","v":"20240930"},{"$f":"+'COVER SHEET'!$D$12","v":0},11500,{"$f":"'COVER SHEET'!$D$16&IF(MID('COVER SHEET'!$I$18,6,10)=\"december\",\"1231\",IF(MID('COVER SHEET'!$I$18,6,10)=\"june\",\"0630\"))","v":"20241231"},{"$f":"+'Incoming Remittances (Volume)'!F90","v":0}]
["CMREM_11500","GH",{"$f":"+'Incoming Remittances (Volume)'!$F$5","v":"20240930"},{"$f":"+'COVER SHEET'!$D$12","v":0},11500,{"$f":"'COVER SHEET'!$D$16&IF(MID('COVER SHEET'!$I$18,6,10)=\"december\",\"1231\",IF(MID('COVER SHEET'!$I$18,6,10)=\"june\",\"0630\"))","v":"20241231"},{"$f":"+'Incoming Remittances (Volume)'!F91","v":0}]
["CMREM_11500","GI",{"$f":"+'Incoming Remittances (Volume)'!$F$5","v":"20240930"},{"$f":"+'COVER SHEET'!$D$12","v":0},11500,{"$f":"'COVER SHEET'!$D$16&IF(MID('COVER SHEET'!$I$18,6,10)=\"december\",\"1231\",IF(MID('COVER SHEET'!$I$18,6,10)=\"june\",\"0630\"))","v":"20241231"},{"$f":"+'Incoming Remittances (Volume)'!F92","v":0}]
["CMREM_11500","GR",{"$f":"+'Incoming Remittances (Volume)'!$F$5","v":"20240930"},{"$f":"+'COVER SHEET'!$D$12","v":0},11500,{"$f":"'COVER SHEET'!$D$16&IF(MID('COVER SHEET'!$I$18,6,10)=\"december\",\"1231\",IF(MID('COVER SHEET'!$I$18,6,10)=\"june\",\"0630\"))","v":"20241231"},{"$f":"+'Incoming Remittances (Volume)'!F93","v":0}]
["CMREM_11500","GL",{"$f":"+'Incoming Remittances (Volume)'!$F$5","v":"20240930"},{"$f":"+'COVER SHEET'!$D$12","v":0},11500,{"$f":"'COVER SHEET'!$D$16&IF(MID('COVER SHEET'!$I$18,6,10)=\"december\",\"1231\",IF(MID('COVER SHEET'!$I$18,6,10)=\"june\",\"0630\"))","v":"20241231"},{"$f":"+'Incoming Remittances (Volume)'!F94","v":0}]
["CMREM_11500","GD",{"$f":"+'Incoming Remittances (Volume)'!$F$5","v":"20240930"},{"$f":"+'COVER SHEET'!$D$12","v":0},11500,{"$f":"'COVER SHEET'!$D$16&IF(MID('COVER SHEET'!$I$18,6,10)=\"december\",\"1231\",IF(MID('COVER SHEET'!$I$18,6,10)=\"june\",\"0630\"))","v":"20241231"},{"$f":"+'Incoming Remittances (Volume)'!F95","v":0}]
["CMREM_11500","GU",{"$f":"+'Incoming Remittances (Volume)'!$F$5","v":"20240930"},{"$f":"+'COVER SHEET'!$D$12","v":0},11500,{"$f":"'COVER SHEET'!$D$16&IF(MID('COVER SHEET'!$I$18,6,10)=\"december\",\"1231\",IF(MID('COVER SHEET'!$I$18,6,10)=\"june\",\"0630\"))","v":"20241231"},{"$f":"+'Incoming Remittances (Volume)'!F96","v":0}]
["CMREM_11500","GT",{"$f":"+'Incoming Remittances (Volume)'!$F$5","v":"20240930"},{"$f":"+'COVER SHEET'!$D$12","v":0},11500,{"$f":"'COVER SHEET'!$D$16&IF(MID('COVER SHEET'!$I$18,6,10)=\"december\",\"1231\",IF(MID('COVER SHEET'!$I$18,6,10)=\"june\",\"0630\"))","v":"20241231"},{"$f":"+'Incoming Remittances (Volume)'!F97","v":0}]
["CMREM_11500","GG",{"$f":"+'Incoming Remittances (Volume)'!$F$5","v":"20240930"},{"$f":"+'COVER SHEET'!$D$12","v":0},11500,{"$f":"'COVER SHEET'!$D$16&IF(MID('COVER SHEET'!$I$18,6,10)=\"december\",\"1231\",IF(MID('COVER SHEET'!$I$18,6,10)=\"june\",\"0630\"))","v":"20241231"},{"$f":"+'Incoming Remittances (Volume)'!F98","v":0}]
["CMREM_11500","GN",{"$f":"+'Incoming Remittances (Volume)'!$F$5","v":"20240930"},{"$f":"+'COVER SHEET'!$D$12","v":0},11500,{"$f":"'COVER SHEET'!$D$16&IF(MID('COVER SHEET'!$I$18,6,10)=\"december\",\"1231\",IF(MID('COVER SHEET'!$I$18,6,10)=\"june\",\"0630\"))","v":"20241231"},{"$f":"+'Incoming Remittances (Volume)'!F99","v":0}]
["CMREM_11500","GW",{"$f":"+'Incoming Remittances (Volume)'!$F$5","v":"20240930"},{"$f":"+'COVER SHEET'!$D$12","v":0},11500,{"$f":"'COVER SHEET'!$D$16&IF(MID('COVER SHEET'!$I$18,6,10)=\"december\",\"1231\",IF(MID('COVER SHEET'!$I$18,6,10)=\"june\",\"0630\"))","v":"20241231"},{"$f":"+'Incoming Remittances (Volume)'!F100","v":0}]
["CMREM_11500","GY",{"$f":"+'Incoming Remittances (Volume)'!$F$5","v":"20240930"},{"$f":"+'COVER SHEET'!$D$12","v":0},11500,{"$f":"'COVER SHEET'!$D$16&IF(MID('COVER SHEET'!$I$18,6,10)=\"december\",\"1231\",IF(MID('COVER SHEET'!$I$18,6,10)=\"june\",\"0630\"))","v":"20241231"},{"$f":"+'Incoming Remittances (Volume)'!F101","v":0}]
["CMREM_11500","HT",{"$f":"+'Incoming Remittances (Volume)'!$F$5","v":"20240930"},{"$f":"+'COVER SHEET'!$D$12","v":0},11500,{"$f":"'COVER SHEET'!$D$16&IF(MID('COVER SHEET'!$I$18,6,10)=\"december\",\"1231\",IF(MID('COVER SHEET'!$I$18,6,10)=\"june\",\"0630\"))","v":"20241231"},{"$f":"+'Incoming Remittances (Volume)'!F102","v":0}]
["CMREM_11500","HM",{"$f":"+'Incoming Remittances (Volume)'!$F$5","v":"20240930"},{"$f":"+'COVER SHEET'!$D$12","v":0},11500,{"$f":"'COVER SHEET'!$D$16&IF(MID('COVER SHEET'!$I$18,6,10)=\"december\",\"1231\",IF(MID('COVER SHEET'!$I$18,6,10)=\"june\",\"0630\"))","v":"20241231"},{"$f":"+'Incoming Remittances (Volume)'!F103","v":0}]
["CMREM_11500","VA",{"$f":"+'Incoming Remittances (Volume)'!$F$5","v":"20240930"},{"$f":"+'COVER SHEET'!$D$12","v":0},11500,{"$f":"'COVER SHEET'!$D$16&IF(MID('COVER SHEET'!$I$18,6,10)=\"december\",\"1231\",IF(MID('COVER SHEET'!$I$18,6,10)=\"june\",\"0630\"))","v":"20241231"},{"$f":"+'Incoming Remittances (Volume)'!F104","v":0}]
["CMREM_11500","HN",{"$f":"+'Incoming Remittances (Volume)'!$F$5","v":"20240930"},{"$f":"+'COVER SHEET'!$D$12","v":0},11500,{"$f":"'COVER SHEET'!$D$16&IF(MID('COVER SHEET'!$I$18,6,10)=\"december\",\"1231\",IF(MID('COVER SHEET'!$I$18,6,10)=\"june\",\"0630\"))","v":"20241231"},{"$f":"+'Incoming Remittances (Volume)'!F105","v":0}]
["CMREM_11500","HK",{"$f":"+'Incoming Remittances (Volume)'!$F$5","v":"20240930"},{"$f":"+'COVER SHEET'!$D$12","v":0},11500,{"$f":"'COVER SHEET'!$D$16&IF(MID('COVER SHEET'!$I$18,6,10)=\"december\",\"1231\",IF(MID('COVER SHEET'!$I$18,6,10)=\"june\",\"0630\"))","v":"20241231"},{"$f":"+'Incoming Remittances (Volume)'!F106","v":0}]
["CMREM_11500","HU",{"$f":"+'Incoming Remittances (Volume)'!$F$5","v":"20240930"},{"$f":"+'COVER SHEET'!$D$12","v":0},11500,{"$f":"'COVER SHEET'!$D$16&IF(MID('COVER SHEET'!$I$18,6,10)=\"december\",\"1231\",IF(MID('COVER SHEET'!$I$18,6,10)=\"june\",\"0630\"))","v":"20241231"},{"$f":"+'Incoming Remittances (Volume)'!F107","v":0}]
["CMREM_11500","IS",{"$f":"+'Incoming Remittances (Volume)'!$F$5","v":"20240930"},{"$f":"+'COVER SHEET'!$D$12","v":0},11500,{"$f":"'COVER SHEET'!$D$16&IF(MID('COVER SHEET'!$I$18,6,10)=\"december\",\"1231\",IF(MID('COVER SHEET'!$I$18,6,10)=\"june\",\"0630\"))","v":"20241231"},{"$f":"+'Incoming Remittances (Volume)'!F108","v":0}]
["CMREM_11500","IN",{"$f":"+'Incoming Remittances (Volume)'!$F$5","v":"20240930"},{"$f":"+'COVER SHEET'!$D$12","v":0},11500,{"$f":"'COVER SHEET'!$D$16&IF(MID('COVER SHEET'!$I$18,6,10)=\"december\",\"1231\",IF(MID('COVER SHEET'!$I$18,6,10)=\"june\",\"0630\"))","v":"20241231"},{"$f":"+'Incoming Remittances (Volume)'!F109","v":0}]
["CMREM_11500","ID",{"$f":"+'Incoming Remittances (Volume)'!$F$5","v":"20240930"},{"$f":"+'COVER SHEET'!$D$12","v":0},11500,{"$f":"'COVER SHEET'!$D$16&IF(MID('COVER SHEET'!$I$18,6,10)=\"december\",\"1231\",IF(MID('COVER SHEET'!$I$18,6,10)=\"june\",\"0630\"))","v":"20241231"},{"$f":"+'Incoming Remittances (Volume)'!F110","v":0}]
["CMREM_11500","IR",{"$f":"+'Incoming Remittances (Volume)'!$F$5","v":"20240930"},{"$f":"+'COVER SHEET'!$D$12","v":0},11500,{"$f":"'COVER SHEET'!$D$16&IF(MID('COVER SHEET'!$I$18,6,10)=\"december\",\"1231\",IF(MID('COVER SHEET'!$I$18,6,10)=\"june\",\"0630\"))","v":"20241231"},{"$f":"+'Incoming Remittances (Volume)'!F111","v":0}]
["CMREM_11500","IQ",{"$f":"+'Incoming Remittances (Volume)'!$F$5","v":"20240930"},{"$f":"+'COVER SHEET'!$D$12","v":0},11500,{"$f":"'COVER SHEET'!$D$16&IF(MID('COVER SHEET'!$I$18,6,10)=\"december\",\"1231\",IF(MID('COVER SHEET'!$I$18,6,10)=\"june\",\"0630\"))","v":"20241231"},{"$f":"+'Incoming Remittances (Volume)'!F112","v":0}]
["CMREM_11500","IE",{"$f":"+'Incoming Remittances (Volume)'!$F$5","v":"20240930"},{"$f":"+'COVER SHEET'!$D$12","v":0},11500,{"$f":"'COVER SHEET'!$D$16&IF(MID('COVER SHEET'!$I$18,6,10)=\"december\",\"1231\",IF(MID('COVER SHEET'!$I$18,6,10)=\"june\",\"0630\"))","v":"20241231"},{"$f":"+'Incoming Remittances (Volume)'!F113","v":0}]
["CMREM_11500","IM",{"$f":"+'Incoming Remittances (Volume)'!$F$5","v":"20240930"},{"$f":"+'COVER SHEET'!$D$12","v":0},11500,{"$f":"'COVER SHEET'!$D$16&IF(MID('COVER SHEET'!$I$18,6,10)=\"december\",\"1231\",IF(MID('COVER SHEET'!$I$18,6,10)=\"june\",\"0630\"))","v":"20241231"},{"$f":"+'Incoming Remittances (Volume)'!F114","v":0}]
["CMREM_11500","IL",{"$f":"+'Incoming Remittances (Volume)'!$F$5","v":"20240930"},{"$f":"+'COVER SHEET'!$D$12","v":0},11500,{"$f":"'COVER SHEET'!$D$16&IF(MID('COVER SHEET'!$I$18,6,10)=\"december\",\"1231\",IF(MID('COVER SHEET'!$I$18,6,10)=\"june\",\"0630\"))","v":"20241231"},{"$f":"+'Incoming Remittances (Volume)'!F115","v":0}]
["CMREM_11500","IT",{"$f":"+'Incoming Remittances (Volume)'!$F$5","v":"20240930"},{"$f":"+'COVER SHEET'!$D$12","v":0},11500,{"$f":"'COVER SHEET'!$D$16&IF(MID('COVER SHEET'!$I$18,6,10)=\"december\",\"1231\",IF(MID('COVER SHEET'!$I$18,6,10)=\"june\",\"0630\"))","v":"20241231"},{"$f":"+'Incoming Remittances (Volume)'!F116","v":0}]
["CMREM_11500","CI",{"$f":"+'Incoming Remittances (Volume)'!$F$5","v":"20240930"},{"$f":"+'COVER SHEET'!$D$12","v":0},11500,{"$f":"'COVER SHEET'!$D$16&IF(MID('COVER SHEET'!$I$18,6,10)=\"december\",\"1231\",IF(MID('COVER SHEET'!$I$18,6,10)=\"june\",\"0630\"))","v":"20241231"},{"$f":"+'Incoming Remittances (Volume)'!F117","v":0}]
["CMREM_11500","JM",{"$f":"+'Incoming Remittances (Volume)'!$F$5","v":"20240930"},{"$f":"+'COVER SHEET'!$D$12","v":0},11500,{"$f":"'COVER SHEET'!$D$16&IF(MID('COVER SHEET'!$I$18,6,10)=\"december\",\"1231\",IF(MID('COVER SHEET'!$I$18,6,10)=\"june\",\"0630\"))","v":"20241231"},{"$f":"+'Incoming Remittances (Volume)'!F118","v":0}]
["CMREM_11500","JP",{"$f":"+'Incoming Remittances (Volume)'!$F$5","v":"20240930"},{"$f":"+'COVER SHEET'!$D$12","v":0},11500,{"$f":"'COVER SHEET'!$D$16&IF(MID('COVER SHEET'!$I$18,6,10)=\"december\",\"1231\",IF(MID('COVER SHEET'!$I$18,6,10)=\"june\",\"0630\"))","v":"20241231"},{"$f":"+'Incoming Remittances (Volume)'!F119","v":0}]
["CMREM_11500","JE",{"$f":"+'Incoming Remittances (Volume)'!$F$5","v":"20240930"},{"$f":"+'COVER SHEET'!$D$12","v":0},11500,{"$f":"'COVER SHEET'!$D$16&IF(MID('COVER SHEET'!$I$18,6,10)=\"december\",\"1231\",IF(MID('COVER SHEET'!$I$18,6,10)=\"june\",\"0630\"))","v":"20241231"},{"$f":"+'Incoming Remittances (Volume)'!F120","v":0}]
["CMREM_11500","JO",{"$f":"+'Incoming Remittances (Volume)'!$F$5","v":"20240930"},{"$f":"+'COVER SHEET'!$D$12","v":0},11500,{"$f":"'COVER SHEET'!$D$16&IF(MID('COVER SHEET'!$I$18,6,10)=\"december\",\"1231\",IF(MID('COVER SHEET'!$I$18,6,10)=\"june\",\"0630\"))","v":"20241231"},{"$f":"+'Incoming Remittances (Volume)'!F121","v":0}]
["CMREM_11500","KZ",{"$f":"+'Incoming Remittances (Volume)'!$F$5","v":"20240930"},{"$f":"+'COVER SHEET'!$D$12","v":0},11500,{"$f":"'COVER SHEET'!$D$16&IF(MID('COVER SHEET'!$I$18,6,10)=\"december\",\"1231\",IF(MID('COVER SHEET'!$I$18,6,10)=\"june\",\"0630\"))","v":"20241231"},{"$f":"+'Incoming Remittances (Volume)'!F122","v":0}]
["CMREM_11500","KE",{"$f":"+'Incoming Remittances (Volume)'!$F$5","v":"20240930"},{"$f":"+'COVER SHEET'!$D$12","v":0},11500,{"$f":"'COVER SHEET'!$D$16&IF(MID('COVER SHEET'!$I$18,6,10)=\"december\",\"1231\",IF(MID('COVER SHEET'!$I$18,6,10)=\"june\",\"0630\"))","v":"20241231"},{"$f":"+'Incoming Remittances (Volume)'!F123","v":0}]
["CMREM_11500","KI",{"$f":"+'Incoming Remittances (Volume)'!$F$5","v":"20240930"},{"$f":"+'COVER SHEET'!$D$12","v":0},11500,{"$f":"'COVER SHEET'!$D$16&IF(MID('COVER SHEET'!$I$18,6,10)=\"december\",\"1231\",IF(MID('COVER SHEET'!$I$18,6,10)=\"june\",\"0630\"))","v":"20241231"},{"$f":"+'Incoming Remittances (Volume)'!F124","v":0}]
["CMREM_11500","KP",{"$f":"+'Incoming Remittances (Volume)'!$F$5","v":"20240930"},{"$f":"+'COVER SHEET'!$D$12","v":0},11500,{"$f":"'COVER SHEET'!$D$16&IF(MID('COVER SHEET'!$I$18,6,10)=\"december\",\"1231\",IF(MID('COVER SHEET'!$I$18,6,10)=\"june\",\"0630\"))","v":"20241231"},{"$f":"+'Incoming Remittances (Volume)'!F125","v":0}]
["CMREM_11500","KR",{"$f":"+'Incoming Remittances (Volume)'!$F$5","v":"20240930"},{"$f":"+'COVER SHEET'!$D$12","v":0},11500,{"$f":"'COVER SHEET'!$D$16&IF(MID('COVER SHEET'!$I$18,6,10)=\"december\",\"1231\",IF(MID('COVER SHEET'!$I$18,6,10)=\"june\",\"0630\"))","v":"20241231"},{"$f":"+'Incoming Remittances (Volume)'!F126","v":0}]
["CMREM_11500","XK",{"$f":"+'Incoming Remittances (Volume)'!$F$5","v":"20240930"},{"$f":"+'COVER SHEET'!$D$12","v":0},11500,{"$f":"'COVER SHEET'!$D$16&IF(MID('COVER SHEET'!$I$18,6,10)=\"december\",\"1231\",IF(MID('COVER SHEET'!$I$18,6,10)=\"june\",\"0630\"))","v":"20241231"},{"$f":"+'Incoming Remittances (Volume)'!F127","v":0}]
["CMREM_11500","KW",{"$f":"+'Incoming Remittances (Volume)'!$F$5","v":"20240930"},{"$f":"+'COVER SHEET'!$D$12","v":0},11500,{"$f":"'COVER SHEET'!$D$16&IF(MID('COVER SHEET'!$I$18,6,10)=\"december\",\"1231\",IF(MID('COVER SHEET'!$I$18,6,10)=\"june\",\"0630\"))","v":"20241231"},{"$f":"+'Incoming Remittances (Volume)'!F128","v":0}]
["CMREM_11500","KG",{"$f":"+'Incoming Remittances (Volume)'!$F$5","v":"20240930"},{"$f":"+'COVER SHEET'!$D$12","v":0},11500,{"$f":"'COVER SHEET'!$D$16&IF(MID('COVER SHEET'!$I$18,6,10)=\"december\",\"1231\",IF(MID('COVER SHEET'!$I$18,6,10)=\"june\",\"0630\"))","v":"20241231"},{"$f":"+'Incoming Remittances (Volume)'!F129","v":0}]
["CMREM_11500","LA",{"$f":"+'Incoming Remittances (Volume)'!$F$5","v":"20240930"},{"$f":"+'COVER SHEET'!$D$12","v":0},11500,{"$f":"'COVER SHEET'!$D$16&IF(MID('COVER SHEET'!$I$18,6,10)=\"december\",\"1231\",IF(MID('COVER SHEET'!$I$18,6,10)=\"june\",\"0630\"))","v":"20241231"},{"$f":"+'Incoming Remittances (Volume)'!F130","v":0}]
["CMREM_11500","LV",{"$f":"+'Incoming Remittances (Volume)'!$F$5","v":"20240930"},{"$f":"+'COVER SHEET'!$D$12","v":0},11500,{"$f":"'COVER SHEET'!$D$16&IF(MID('COVER SHEET'!$I$18,6,10)=\"december\",\"1231\",IF(MID('COVER SHEET'!$I$18,6,10)=\"june\",\"0630\"))","v":"20241231"},{"$f":"+'Incoming Remittances (Volume)'!F131","v":0}]
["CMREM_11500","LB",{"$f":"+'Incoming Remittances (Volume)'!$F$5","v":"20240930"},{"$f":"+'COVER SHEET'!$D$12","v":0},11500,{"$f":"'COVER SHEET'!$D$16&IF(MID('COVER SHEET'!$I$18,6,10)=\"december\",\"1231\",IF(MID('COVER SHEET'!$I$18,6,10)=\"june\",\"0630\"))","v":"20241231"},{"$f":"+'Incoming Remittances (Volume)'!F132","v":0}]
["CMREM_11500","LS",{"$f":"+'Incoming Remittances (Volume)'!$F$5","v":"20240930"},{"$f":"+'COVER SHEET'!$D$12","v":0},11500,{"$f":"'COVER SHEET'!$D$16&IF(MID('COVER SHEET'!$I$18,6,10)=\"december\",\"1231\",IF(MID('COVER SHEET'!$I$18,6,10)=\"june\",\"0630\"))","v":"20241231"},{"$f":"+'Incoming Remittances (Volume)'!F133","v":0}]
["CMREM_11500","LR",{"$f":"+'Incoming Remittances (Volume)'!$F$5","v":"20240930"},{"$f":"+'COVER SHEET'!$D$12","v":0},11500,{"$f":"'COVER SHEET'!$D$16&IF(MID('COVER SHEET'!$I$18,6,10)=\"december\",\"1231\",IF(MID('COVER SHEET'!$I$18,6,10)=\"june\",\"0630\"))","v":"20241231"},{"$f":"+'Incoming Remittances (Volume)'!F134","v":0}]
["CMREM_11500","LY",{"$f":"+'Incoming Remittances (Volume)'!$F$5","v":"20240930"},{"$f":"+'COVER SHEET'!$D$12","v":0},11500,{"$f":"'COVER SHEET'!$D$16&IF(MID('COVER SHEET'!$I$18,6,10)=\"december\",\"1231\",IF(MID('COVER SHEET'!$I$18,6,10)=\"june\",\"0630\"))","v":"20241231"},{"$f":"+'Incoming Remittances (Volume)'!F135","v":0}]
["CMREM_11500","LI",{"$f":"+'Incoming Remittances (Volume)'!$F$5","v":"20240930"},{"$f":"+'COVER SHEET'!$D$12","v":0},11500,{"$f":"'COVER SHEET'!$D$16&IF(MID('COVER SHEET'!$I$18,6,10)=\"december\",\"1231\",IF(MID('COVER SHEET'!$I$18,6,10)=\"june\",\"0630\"))","v":"20241231"},{"$f":"+'Incoming Remittances (Volume)'!F136","v":0}]
["CMREM_11500","LT",{"$f":"+'Incoming Remittances (Volume)'!$F$5","v":"20240930"},{"$f":"+'COVER SHEET'!$D$12","v":0},11500,{"$f":"'COVER SHEET'!$D$16&IF(MID('COVER SHEET'!$I$18,6,10)=\"december\",\"1231\",IF(MID('COVER SHEET'!$I$18,6,10)=\"june\",\"0630\"))","v":"20241231"},{"$f":"+'Incoming Remittances (Volume)'!F137","v":0}]
["CMREM_11500","LU",{"$f":"+'Incoming Remittances (Volume)'!$F$5","v":"20240930"},{"$f":"+'COVER SHEET'!$D$12","v":0},11500,{"$f":"'COVER SHEET'!$D$16&IF(MID('COVER SHEET'!$I$18,6,10)=\"december\",\"1231\",IF(MID('COVER SHEET'!$I$18,6,10)=\"june\",\"0630\"))","v":"20241231"},{"$f":"+'Incoming Remittances (Volume)'!F138","v":0}]
["CMREM_11500","MO",{"$f":"+'Incoming Remittances (Volume)'!$F$5","v":"20240930"},{"$f":"+'COVER SHEET'!$D$12","v":0},11500,{"$f":"'COVER SHEET'!$D$16&IF(MID('COVER SHEET'!$I$18,6,10)=\"december\",\"1231\",IF(MID('COVER SHEET'!$I$18,6,10)=\"june\",\"0630\"))","v":"20241231"},{"$f":"+'Incoming Remittances (Volume)'!F139","v":0}]
["CMREM_11500","MK",{"$f":"+'Incoming Remittances (Volume)'!$F$5","v":"20240930"},{"$f":"+'COVER SHEET'!$D$12","v":0},11500,{"$f":"'COVER SHEET'!$D$16&IF(MID('COVER SHEET'!$I$18,6,10)=\"december\",\"1231\",IF(MID('COVER SHEET'!$I$18,6,10)=\"june\",\"0630\"))","v":"20241231"},{"$f":"+'Incoming Remittances (Volume)'!F140","v":0}]
["CMREM_11500","MG",{"$f":"+'Incoming Remittances (Volume)'!$F$5","v":"20240930"},{"$f":"+'COVER SHEET'!$D$12","v":0},11500,{"$f":"'COVER SHEET'!$D$16&IF(MID('COVER SHEET'!$I$18,6,10)=\"december\",\"1231\",IF(MID('COVER SHEET'!$I$18,6,10)=\"june\",\"0630\"))","v":"20241231"},{"$f":"+'Incoming Remittances (Volume)'!F141","v":0}]
["CMREM_11500","MW",{"$f":"+'Incoming Remittances (Volume)'!$F$5","v":"20240930"},{"$f":"+'COVER SHEET'!$D$12","v":0},11500,{"$f":"'COVER SHEET'!$D$16&IF(MID('COVER SHEET'!$I$18,6,10)=\"december\",\"1231\",IF(MID('COVER SHEET'!$I$18,6,10)=\"june\",\"0630\"))","v":"20241231"},{"$f":"+'Incoming Remittances (Volume)'!F142","v":0}]
["CMREM_11500","MY",{"$f":"+'Incoming Remittances (Volume)'!$F$5","v":"20240930"},{"$f":"+'COVER SHEET'!$D$12","v":0},11500,{"$f":"'COVER SHEET'!$D$16&IF(MID('COVER SHEET'!$I$18,6,10)=\"december\",\"1231\",IF(MID('COVER SHEET'!$I$18,6,10)=\"june\",\"0630\"))","v":"20241231"},{"$f":"+'Incoming Remittances (Volume)'!F143","v":0}]
["CMREM_11500","MV",{"$f":"+'Incoming Remittances (Volume)'!$F$5","v":"20240930"},{"$f":"+'COVER SHEET'!$D$12","v":0},11500,{"$f":"'COVER SHEET'!$D$16&IF(MID('COVER SHEET'!$I$18,6,10)=\"december\",\"1231\",IF(MID('COVER SHEET'!$I$18,6,10)=\"june\",\"0630\"))","v":"20241231"},{"$f":"+'Incoming Remittances (Volume)'!F144","v":0}]
["CMREM_11500","ML",{"$f":"+'Incoming Remittances (Volume)'!$F$5","v":"20240930"},{"$f":"+'COVER SHEET'!$D$12","v":0},11500,{"$f":"'COVER SHEET'!$D$16&IF(MID('COVER SHEET'!$I$18,6,10)=\"december\",\"1231\",IF(MID('COVER SHEET'!$I$18,6,10)=\"june\",\"0630\"))","v":"20241231"},{"$f":"+'Incoming Remittances (Volume)'!F145","v":0}]
["CMREM_11500","MH",{"$f":"+'Incoming Remittances (Volume)'!$F$5","v":"20240930"},{"$f":"+'COVER SHEET'!$D$12","v":0},11500,{"$f":"'COVER SHEET'!$D$16&IF(MID('COVER SHEET'!$I$18,6,10)=\"december\",\"1231\",IF(MID('COVER SHEET'!$I$18,6,10)=\"june\",\"0630\"))","v":"20241231"},{"$f":"+'Incoming Remittances (Volume)'!F146","v":0}]
["CMREM_11500","MR",{"$f":"+'Incoming Remittances (Volume)'!$F$5","v":"20240930"},{"$f":"+'COVER SHEET'!$D$12","v":0},11500,{"$f":"'COVER SHEET'!$D$16&IF(MID('COVER SHEET'!$I$18,6,10)=\"december\",\"1231\",IF(MID('COVER SHEET'!$I$18,6,10)=\"june\",\"0630\"))","v":"20241231"},{"$f":"+'Incoming Remittances (Volume)'!F147","v":0}]
["CMREM_11500","MU",{"$f":"+'Incoming Remittances (Volume)'!$F$5","v":"20240930"},{"$f":"+'COVER SHEET'!$D$12","v":0},11500,{"$f":"'COVER SHEET'!$D$16&IF(MID('COVER SHEET'!$I$18,6,10)=\"december\",\"1231\",IF(MID('COVER SHEET'!$I$18,6,10)=\"june\",\"0630\"))","v":"20241231"},{"$f":"+'Incoming Remittances (Volume)'!F148","v":0}]
["CMREM_11500","MX",{"$f":"+'Incoming Remittances (Volume)'!$F$5","v":"20240930"},{"$f":"+'COVER SHEET'!$D$12","v":0},11500,{"$f":"'COVER SHEET'!$D$16&IF(MID('COVER SHEET'!$I$18,6,10)=\"december\",\"1231\",IF(MID('COVER SHEET'!$I$18,6,10)=\"june\",\"0630\"))","v":"20241231"},{"$f":"+'Incoming Remittances (Volume)'!F149","v":0}]
["CMREM_11500","FM",{"$f":"+'Incoming Remittances (Volume)'!$F$5","v":"20240930"},{"$f":"+'COVER SHEET'!$D$12","v":0},11500,{"$f":"'COVER SHEET'!$D$16&IF(MID('COVER SHEET'!$I$18,6,10)=\"december\",\"1231\",IF(MID('COVER SHEET'!$I$18,6,10)=\"june\",\"0630\"))","v":"20241231"},{"$f":"+'Incoming Remittances (Volume)'!F150","v":0}]
["CMREM_11500","MD",{"$f":"+'Incoming Remittances (Volume)'!$F$5","v":"20240930"},{"$f":"+'COVER SHEET'!$D$12","v":0},11500,{"$f":"'COVER SHEET'!$D$16&IF(MID('COVER SHEET'!$I$18,6,10)=\"december\",\"1231\",IF(MID('COVER SHEET'!$I$18,6,10)=\"june\",\"0630\"))","v":"20241231"},{"$f":"+'Incoming Remittances (Volume)'!F151","v":0}]
["CMREM_11500","MN",{"$f":"+'Incoming Remittances (Volume)'!$F$5","v":"20240930"},{"$f":"+'COVER SHEET'!$D$12","v":0},11500,{"$f":"'COVER SHEET'!$D$16&IF(MID('COVER SHEET'!$I$18,6,10)=\"december\",\"1231\",IF(MID('COVER SHEET'!$I$18,6,10)=\"june\",\"0630\"))","v":"20241231"},{"$f":"+'Incoming Remittances (Volume)'!F152","v":0}]
["CMREM_11500","ME",{"$f":"+'Incoming Remittances (Volume)'!$F$5","v":"20240930"},{"$f":"+'COVER SHEET'!$D$12","v":0},11500,{"$f":"'COVER SHEET'!$D$16&IF(MID('COVER SHEET'!$I$18,6,10)=\"december\",\"1231\",IF(MID('COVER SHEET'!$I$18,6,10)=\"june\",\"0630\"))","v":"20241231"},{"$f":"+'Incoming Remittances (Volume)'!F153","v":0}]
["CMREM_11500","MS",{"$f":"+'Incoming Remittances (Volume)'!$F$5","v":"20240930"},{"$f":"+'COVER SHEET'!$D$12","v":0},11500,{"$f":"'COVER SHEET'!$D$16&IF(MID('COVER SHEET'!$I$18,6,10)=\"december\",\"1231\",IF(MID('COVER SHEET'!$I$18,6,10)=\"june\",\"0630\"))","v":"20241231"},{"$f":"+'Incoming Remittances (Volume)'!F154","v":0}]
["CMREM_11500","MA",{"$f":"+'Incoming Remittances (Volume)'!$F$5","v":"20240930"},{"$f":"+'COVER SHEET'!$D$12","v":0},11500,{"$f":"'COVER SHEET'!$D$16&IF(MID('COVER SHEET'!$I$18,6,10)=\"december\",\"1231\",IF(MID('COVER SHEET'!$I$18,6,10)=\"june\",\"0630\"))","v":"20241231"},{"$f":"+'Incoming Remittances (Volume)'!F155","v":0}]
["CMREM_11500","MZ",{"$f":"+'Incoming Remittances (Volume)'!$F$5","v":"20240930"},{"$f":"+'COVER SHEET'!$D$12","v":0},11500,{"$f":"'COVER SHEET'!$D$16&IF(MID('COVER SHEET'!$I$18,6,10)=\"december\",\"1231\",IF(MID('COVER SHEET'!$I$18,6,10)=\"june\",\"0630\"))","v":"20241231"},{"$f":"+'Incoming Remittances (Volume)'!F156","v":0}]
["CMREM_11500","MM",{"$f":"+'Incoming Remittances (Volume)'!$F$5","v":"20240930"},{"$f":"+'COVER SHEET'!$D$12","v":0},11500,{"$f":"'COVER SHEET'!$D$16&IF(MID('COVER SHEET'!$I$18,6,10)=\"december\",\"1231\",IF(MID('COVER SHEET'!$I$18,6,10)=\"june\",\"0630\"))","v":"20241231"},{"$f":"+'Incoming Remittances (Volume)'!F157","v":0}]
["CMREM_11500","NA",{"$f":"+'Incoming Remittances (Volume)'!$F$5","v":"20240930"},{"$f":"+'COVER SHEET'!$D$12","v":0},11500,{"$f":"'COVER SHEET'!$D$16&IF(MID('COVER SHEET'!$I$18,6,10)=\"december\",\"1231\",IF(MID('COVER SHEET'!$I$18,6,10)=\"june\",\"0630\"))","v":"20241231"},{"$f":"+'Incoming Remittances (Volume)'!F158","v":0}]
["CMREM_11500","NR",{"$f":"+'Incoming Remittances (Volume)'!$F$5","v":"20240930"},{"$f":"+'COVER SHEET'!$D$12","v":0},11500,{"$f":"'COVER SHEET'!$D$16&IF(MID('COVER SHEET'!$I$18,6,10)=\"december\",\"1231\",IF(MID('COVER SHEET'!$I$18,6,10)=\"june\",\"0630\"))","v":"20241231"},{"$f":"+'Incoming Remittances (Volume)'!F159","v":0}]
["CMREM_11500","NP",{"$f":"+'Incoming Remittances (Volume)'!$F$5","v":"20240930"},{"$f":"+'COVER SHEET'!$D$12","v":0},11500,{"$f":"'COVER SHEET'!$D$16&IF(MID('COVER SHEET'!$I$18,6,10)=\"december\",\"1231\",IF(MID('COVER SHEET'!$I$18,6,10)=\"june\",\"0630\"))","v":"20241231"},{"$f":"+'Incoming Remittances (Volume)'!F160","v":0}]
["CMREM_11500","NL",{"$f":"+'Incoming Remittances (Volume)'!$F$5","v":"20240930"},{"$f":"+'COVER SHEET'!$D$12","v":0},11500,{"$f":"'COVER SHEET'!$D$16&IF(MID('COVER SHEET'!$I$18,6,10)=\"december\",\"1231\",IF(MID('COVER SHEET'!$I$18,6,10)=\"june\",\"0630\"))","v":"20241231"},{"$f":"+'Incoming Remittances (Volume)'!F161","v":0}]
["CMREM_11500","NC",{"$f":"+'Incoming Remittances (Volume)'!$F$5","v":"20240930"},{"$f":"+'COVER SHEET'!$D$12","v":0},11500,{"$f":"'COVER SHEET'!$D$16&IF(MID('COVER SHEET'!$I$18,6,10)=\"december\",\"1231\",IF(MID('COVER SHEET'!$I$18,6,10)=\"june\",\"0630\"))","v":"20241231"},{"$f":"+'Incoming Remittances (Volume)'!F162","v":0}]
["CMREM_11500","NZ",{"$f":"+'Incoming Remittances (Volume)'!$F$5","v":"20240930"},{"$f":"+'COVER SHEET'!$D$12","v":0},11500,{"$f":"'COVER SHEET'!$D$16&IF(MID('COVER SHEET'!$I$18,6,10)=\"december\",\"1231\",IF(MID('COVER SHEET'!$I$18,6,10)=\"june\",\"0630\"))","v":"20241231"},{"$f":"+'Incoming Remittances (Volume)'!F163","v":0}]
["CMREM_11500","NI",{"$f":"+'Incoming Remittances (Volume)'!$F$5","v":"20240930"},{"$f":"+'COVER SHEET'!$D$12","v":0},11500,{"$f":"'COVER SHEET'!$D$16&IF(MID('COVER SHEET'!$I$18,6,10)=\"december\",\"1231\",IF(MID('COVER SHEET'!$I$18,6,10)=\"june\",\"0630\"))","v":"20241231"},{"$f":"+'Incoming Remittances (Volume)'!F164","v":0}]
["CMREM_11500","NE",{"$f":"+'Incoming Remittances (Volume)'!$F$5","v":"20240930"},{"$f":"+'COVER SHEET'!$D$12","v":0},11500,{"$f":"'COVER SHEET'!$D$16&IF(MID('COVER SHEET'!$I$18,6,10)=\"december\",\"1231\",IF(MID('COVER SHEET'!$I$18,6,10)=\"june\",\"0630\"))","v":"20241231"},{"$f":"+'Incoming Remittances (Volume)'!F165","v":0}]
["CMREM_11500","NG",{"$f":"+'Incoming Remittances (Volume)'!$F$5","v":"20240930"},{"$f":"+'COVER SHEET'!$D$12","v":0},11500,{"$f":"'COVER SHEET'!$D$16&IF(MID('COVER SHEET'!$I$18,6,10)=\"december\",\"1231\",IF(MID('COVER SHEET'!$I$18,6,10)=\"june\",\"0630\"))","v":"20241231"},{"$f":"+'Incoming Remittances (Volume)'!F166","v":0}]
["CMREM_11500","NU",{"$f":"+'Incoming Remittances (Volume)'!$F$5","v":"20240930"},{"$f":"+'COVER SHEET'!$D$12","v":0},11500,{"$f":"'COVER SHEET'!$D$16&IF(MID('COVER SHEET'!$I$18,6,10)=\"december\",\"1231\",IF(MID('COVER SHEET'!$I$18,6,10)=\"june\",\"0630\"))","v":"20241231"},{"$f":"+'Incoming Remittances (Volume)'!F167","v":0}]
["CMREM_11500","NF",{"$f":"+'Incoming Remittances (Volume)'!$F$5","v":"20240930"},{"$f":"+'COVER SHEET'!$D$12","v":0},11500,{"$f":"'COVER SHEET'!$D$16&IF(MID('COVER SHEET'!$I$18,6,10)=\"december\",\"1231\",IF(MID('COVER SHEET'!$I$18,6,10)=\"june\",\"0630\"))","v":"20241231"},{"$f":"+'Incoming Remittances (Volume)'!F168","v":0}]
["CMREM_11500","MP",{"$f":"+'Incoming Remittances (Volume)'!$F$5","v":"20240930"},{"$f":"+'COVER SHEET'!$D$12","v":0},11500,{"$f":"'COVER SHEET'!$D$16&IF(MID('COVER SHEET'!$I$18,6,10)=\"december\",\"1231\",IF(MID('COVER SHEET'!$I$18,6,10)=\"june\",\"0630\"))","v":"20241231"},{"$f":"+'Incoming Remittances (Volume)'!F169","v":0}]
["CMREM_11500","NO",{"$f":"+'Incoming Remittances (Volume)'!$F$5","v":"20240930"},{"$f":"+'COVER SHEET'!$D$12","v":0},11500,{"$f":"'COVER SHEET'!$D$16&IF(MID('COVER SHEET'!$I$18,6,10)=\"december\",\"1231\",IF(MID('COVER SHEET'!$I$18,6,10)=\"june\",\"0630\"))","v":"20241231"},{"$f":"+'Incoming Remittances (Volume)'!F170","v":0}]
["CMREM_11500","OM",{"$f":"+'Incoming Remittances (Volume)'!$F$5","v":"20240930"},{"$f":"+'COVER SHEET'!$D$12","v":0},11500,{"$f":"'COVER SHEET'!$D$16&IF(MID('COVER SHEET'!$I$18,6,10)=\"december\",\"1231\",IF(MID('COVER SHEET'!$I$18,6,10)=\"june\",\"0630\"))","v":"20241231"},{"$f":"+'Incoming Remittances (Volume)'!F171","v":0}]
["CMREM_11500","PK",{"$f":"+'Incoming Remittances (Volume)'!$F$5","v":"20240930"},{"$f":"+'COVER SHEET'!$D$12","v":0},11500,{"$f":"'COVER SHEET'!$D$16&IF(MID('COVER SHEET'!$I$18,6,10)=\"december\",\"1231\",IF(MID('COVER SHEET'!$I$18,6,10)=\"june\",\"0630\"))","v":"20241231"},{"$f":"+'Incoming Remittances (Volume)'!F172","v":0}]
["CMREM_11500","PW",{"$f":"+'Incoming Remittances (Volume)'!$F$5","v":"20240930"},{"$f":"+'COVER SHEET'!$D$12","v":0},11500,{"$f":"'COVER SHEET'!$D$16&IF(MID('COVER SHEET'!$I$18,6,10)=\"december\",\"1231\",IF(MID('COVER SHEET'!$I$18,6,10)=\"june\",\"0630\"))","v":"20241231"},{"$f":"+'Incoming Remittances (Volume)'!F173","v":0}]
["CMREM_11500","PS",{"$f":"+'Incoming Remittances (Volume)'!$F$5","v":"20240930"},{"$f":"+'COVER SHEET'!$D$12","v":0},11500,{"$f":"'COVER SHEET'!$D$16&IF(MID('COVER SHEET'!$I$18,6,10)=\"december\",\"1231\",IF(MID('COVER SHEET'!$I$18,6,10)=\"june\",\"0630\"))","v":"20241231"},{"$f":"+'Incoming Remittances (Volume)'!F174","v":0}]
["CMREM_11500","PA",{"$f":"+'Incoming Remittances (Volume)'!$F$5","v":"20240930"},{"$f":"+'COVER SHEET'!$D$12","v":0},11500,{"$f":"'COVER SHEET'!$D$16&IF(MID('COVER SHEET'!$I$18,6,10)=\"december\",\"1231\",IF(MID('COVER SHEET'!$I$18,6,10)=\"june\",\"0630\"))","v":"20241231"},{"$f":"+'Incoming Remittances (Volume)'!F175","v":0}]
["CMREM_11500","PG",{"$f":"+'Incoming Remittances (Volume)'!$F$5","v":"20240930"},{"$f":"+'COVER SHEET'!$D$12","v":0},11500,{"$f":"'COVER SHEET'!$D$16&IF(MID('COVER SHEET'!$I$18,6,10)=\"december\",\"1231\",IF(MID('COVER SHEET'!$I$18,6,10)=\"june\",\"0630\"))","v":"20241231"},{"$f":"+'Incoming Remittances (Volume)'!F176","v":0}]
["CMREM_11500","PY",{"$f":"+'Incoming Remittances (Volume)'!$F$5","v":"20240930"},{"$f":"+'COVER SHEET'!$D$12","v":0},11500,{"$f":"'COVER SHEET'!$D$16&IF(MID('COVER SHEET'!$I$18,6,10)=\"december\",\"1231\",IF(MID('COVER SHEET'!$I$18,6,10)=\"june\",\"0630\"))","v":"20241231"},{"$f":"+'Incoming Remittances (Volume)'!F177","v":0}]
["CMREM_11500","PE",{"$f":"+'Incoming Remittances (Volume)'!$F$5","v":"20240930"},{"$f":"+'COVER SHEET'!$D$12","v":0},11500,{"$f":"'COVER SHEET'!$D$16&IF(MID('COVER SHEET'!$I$18,6,10)=\"december\",\"1231\",IF(MID('COVER SHEET'!$I$18,6,10)=\"june\",\"0630\"))","v":"20241231"},{"$f":"+'Incoming Remittances (Volume)'!F178","v":0}]
["CMREM_11500","PH",{"$f":"+'Incoming Remittances (Volume)'!$F$5","v":"20240930"},{"$f":"+'COVER SHEET'!$D$12","v":0},11500,{"$f":"'COVER SHEET'!$D$16&IF(MID('COVER SHEET'!$I$18,6,10)=\"december\",\"1231\",IF(MID('COVER SHEET'!$I$18,6,10)=\"june\",\"0630\"))","v":"20241231"},{"$f":"+'Incoming Remittances (Volume)'!F179","v":0}]
["CMREM_11500","PN",{"$f":"+'Incoming Remittances (Volume)'!$F$5","v":"20240930"},{"$f":"+'COVER SHEET'!$D$12","v":0},11500,{"$f":"'COVER SHEET'!$D$16&IF(MID('COVER SHEET'!$I$18,6,10)=\"december\",\"1231\",IF(MID('COVER SHEET'!$I$18,6,10)=\"june\",\"0630\"))","v":"20241231"},{"$f":"+'Incoming Remittances (Volume)'!F180","v":0}]
["CMREM_11500","PL",{"$f":"+'Incoming Remittances (Volume)'!$F$5","v":"20240930"},{"$f":"+'COVER SHEET'!$D$12","v":0},11500,{"$f":"'COVER SHEET'!$D$16&IF(MID('COVER SHEET'!$I$18,6,10)=\"december\",\"1231\",IF(MID('COVER SHEET'!$I$18,6,10)=\"june\",\"0630\"))","v":"20241231"},{"$f":"+'Incoming Remittances (Volume)'!F181","v":0}]
["CMREM_11500","PT",{"$f":"+'Incoming Remittances (Volume)'!$F$5","v":"20240930"},{"$f":"+'COVER SHEET'!$D$12","v":0},11500,{"$f":"'COVER SHEET'!$D$16&IF(MID('COVER SHEET'!$I$18,6,10)=\"december\",\"1231\",IF(MID('COVER SHEET'!$I$18,6,10)=\"june\",\"0630\"))","v":"20241231"},{"$f":"+'Incoming Remittances (Volume)'!F182","v":0}]
["CMREM_11500","QA",{"$f":"+'Incoming Remittances (Volume)'!$F$5","v":"20240930"},{"$f":"+'COVER SHEET'!$D$12","v":0},11500,{"$f":"'COVER SHEET'!$D$16&IF(MID('COVER SHEET'!$I$18,6,10)=\"december\",\"1231\",IF(MID('COVER SHEET'!$I$18,6,10)=\"june\",\"0630\"))","v":"20241231"},{"$f":"+'Incoming Remittances (Volume)'!F183","v":0}]
["CMREM_11500","RO",{"$f":"+'Incoming Remittances (Volume)'!$F$5","v":"20240930"},{"$f":"+'COVER SHEET'!$D$12","v":0},11500,{"$f":"'COVER SHEET'!$D$16&IF(MID('COVER SHEET'!$I$18,6,10)=\"december\",\"1231\",IF(MID('COVER SHEET'!$I$18,6,10)=\"june\",\"0630\"))","v":"20241231"},{"$f":"+'Incoming Remittances (Volume)'!F184","v":0}]
["CMREM_11500","RU",{"$f":"+'Incoming Remittances (Volume)'!$F$5","v":"20240930"},{"$f":"+'COVER SHEET'!$D$12","v":0},11500,{"$f":"'COVER SHEET'!$D$16&IF(MID('COVER SHEET'!$I$18,6,10)=\"december\",\"1231\",IF(MID('COVER SHEET'!$I$18,6,10)=\"june\",\"0630\"))","v":"20241231"},{"$f":"+'Incoming Remittances (Volume)'!F185","v":0}]
["CMREM_11500","RW",{"$f":"+'Incoming Remittances (Volume)'!$F$5","v":"20240930"},{"$f":"+'COVER SHEET'!$D$12","v":0},11500,{"$f":"'COVER SHEET'!$D$16&IF(MID('COVER SHEET'!$I$18,6,10)=\"december\",\"1231\",IF(MID('COVER SHEET'!$I$18,6,10)=\"june\",\"0630\"))","v":"20241231"},{"$f":"+'Incoming Remittances (Volume)'!F186","v":0}]
["CMREM_11500","SH",{"$f":"+'Incoming Remittances (Volume)'!$F$5","v":"20240930"},{"$f":"+'COVER SHEET'!$D$12","v":0},11500,{"$f":"'COVER SHEET'!$D$16&IF(MID('COVER SHEET'!$I$18,6,10)=\"december\",\"1231\",IF(MID('COVER SHEET'!$I$18,6,10)=\"june\",\"0630\"))","v":"20241231"},{"$f":"+'Incoming Remittances (Volume)'!F187","v":0}]
["CMREM_11500","KN",{"$f":"+'Incoming Remittances (Volume)'!$F$5","v":"20240930"},{"$f":"+'COVER SHEET'!$D$12","v":0},11500,{"$f":"'COVER SHEET'!$D$16&IF(MID('COVER SHEET'!$I$18,6,10)=\"december\",\"1231\",IF(MID('COVER SHEET'!$I$18,6,10)=\"june\",\"0630\"))","v":"20241231"},{"$f":"+'Incoming Remittances (Volume)'!F188","v":0}]
["CMREM_11500","LC",{"$f":"+'Incoming Remittances (Volume)'!$F$5","v":"20240930"},{"$f":"+'COVER SHEET'!$D$12","v":0},11500,{"$f":"'COVER SHEET'!$D$16&IF(MID('COVER SHEET'!$I$18,6,10)=\"december\",\"1231\",IF(MID('COVER SHEET'!$I$18,6,10)=\"june\",\"0630\"))","v":"20241231"},{"$f":"+'Incoming Remittances (Volume)'!F189","v":0}]
["CMREM_11500","VC",{"$f":"+'Incoming Remittances (Volume)'!$F$5","v":"20240930"},{"$f":"+'COVER SHEET'!$D$12","v":0},11500,{"$f":"'COVER SHEET'!$D$16&IF(MID('COVER SHEET'!$I$18,6,10)=\"december\",\"1231\",IF(MID('COVER SHEET'!$I$18,6,10)=\"june\",\"0630\"))","v":"20241231"},{"$f":"+'Incoming Remittances (Volume)'!F190","v":0}]
["CMREM_11500","WS",{"$f":"+'Incoming Remittances (Volume)'!$F$5","v":"20240930"},{"$f":"+'COVER SHEET'!$D$12","v":0},11500,{"$f":"'COVER SHEET'!$D$16&IF(MID('COVER SHEET'!$I$18,6,10)=\"december\",\"1231\",IF(MID('COVER SHEET'!$I$18,6,10)=\"june\",\"0630\"))","v":"20241231"},{"$f":"+'Incoming Remittances (Volume)'!F191","v":0}]
["CMREM_11500","SM",{"$f":"+'Incoming Remittances (Volume)'!$F$5","v":"20240930"},{"$f":"+'COVER SHEET'!$D$12","v":0},11500,{"$f":"'COVER SHEET'!$D$16&IF(MID('COVER SHEET'!$I$18,6,10)=\"december\",\"1231\",IF(MID('COVER SHEET'!$I$18,6,10)=\"june\",\"0630\"))","v":"20241231"},{"$f":"+'Incoming Remittances (Volume)'!F192","v":0}]
["CMREM_11500","ST",{"$f":"+'Incoming Remittances (Volume)'!$F$5","v":"20240930"},{"$f":"+'COVER SHEET'!$D$12","v":0},11500,{"$f":"'COVER SHEET'!$D$16&IF(MID('COVER SHEET'!$I$18,6,10)=\"december\",\"1231\",IF(MID('COVER SHEET'!$I$18,6,10)=\"june\",\"0630\"))","v":"20241231"},{"$f":"+'Incoming Remittances (Volume)'!F193","v":0}]
["CMREM_11500","SA",{"$f":"+'Incoming Remittances (Volume)'!$F$5","v":"20240930"},{"$f":"+'COVER SHEET'!$D$12","v":0},11500,{"$f":"'COVER SHEET'!$D$16&IF(MID('COVER SHEET'!$I$18,6,10)=\"december\",\"1231\",IF(MID('COVER SHEET'!$I$18,6,10)=\"june\",\"0630\"))","v":"20241231"},{"$f":"+'Incoming Remittances (Volume)'!F194","v":0}]
["CMREM_11500","SN",{"$f":"+'Incoming Remittances (Volume)'!$F$5","v":"20240930"},{"$f":"+'COVER SHEET'!$D$12","v":0},11500,{"$f":"'COVER SHEET'!$D$16&IF(MID('COVER SHEET'!$I$18,6,10)=\"december\",\"1231\",IF(MID('COVER SHEET'!$I$18,6,10)=\"june\",\"0630\"))","v":"20241231"},{"$f":"+'Incoming Remittances (Volume)'!F195","v":0}]
["CMREM_11500","RS",{"$f":"+'Incoming Remittances (Volume)'!$F$5","v":"20240930"},{"$f":"+'COVER SHEET'!$D$12","v":0},11500,{"$f":"'COVER SHEET'!$D$16&IF(MID('COVER SHEET'!$I$18,6,10)=\"december\",\"1231\",IF(MID('COVER SHEET'!$I$18,6,10)=\"june\",\"0630\"))","v":"20241231"},{"$f":"+'Incoming Remittances (Volume)'!F196","v":0}]
["CMREM_11500","SC",{"$f":"+'Incoming Remittances (Volume)'!$F$5","v":"20240930"},{"$f":"+'COVER SHEET'!$D$12","v":0},11500,{"$f":"'COVER SHEET'!$D$16&IF(MID('COVER SHEET'!$I$18,6,10)=\"december\",\"1231\",IF(MID('COVER SHEET'!$I$18,6,10)=\"june\",\"0630\"))","v":"20241231"},{"$f":"+'Incoming Remittances (Volume)'!F197","v":0}]
["CMREM_11500","SL",{"$f":"+'Incoming Remittances (Volume)'!$F$5","v":"20240930"},{"$f":"+'COVER SHEET'!$D$12","v":0},11500,{"$f":"'COVER SHEET'!$D$16&IF(MID('COVER SHEET'!$I$18,6,10)=\"december\",\"1231\",IF(MID('COVER SHEET'!$I$18,6,10)=\"june\",\"0630\"))","v":"20241231"},{"$f":"+'Incoming Remittances (Volume)'!F198","v":0}]
["CMREM_11500","SG",{"$f":"+'Incoming Remittances (Volume)'!$F$5","v":"20240930"},{"$f":"+'COVER SHEET'!$D$12","v":0},11500,{"$f":"'COVER SHEET'!$D$16&IF(MID('COVER SHEET'!$I$18,6,10)=\"december\",\"1231\",IF(MID('COVER SHEET'!$I$18,6,10)=\"june\",\"0630\"))","v":"20241231"},{"$f":"+'Incoming Remittances (Volume)'!F199","v":0}]
["CMREM_11500","SX",{"$f":"+'Incoming Remittances (Volume)'!$F$5","v":"20240930"},{"$f":"+'COVER SHEET'!$D$12","v":0},11500,{"$f":"'COVER SHEET'!$D$16&IF(MID('COVER SHEET'!$I$18,6,10)=\"december\",\"1231\",IF(MID('COVER SHEET'!$I$18,6,10)=\"june\",\"0630\"))","v":"20241231"},{"$f":"+'Incoming Remittances (Volume)'!F200","v":0}]
["CMREM_11500","SK",{"$f":"+'Incoming Remittances (Volume)'!$F$5","v":"20240930"},{"$f":"+'COVER SHEET'!$D$12","v":0},11500,{"$f":"'COVER SHEET'!$D$16&IF(MID('COVER SHEET'!$I$18,6,10)=\"december\",\"1231\",IF(MID('COVER SHEET'!$I$18,6,10)=\"june\",\"0630\"))","v":"20241231"},{"$f":"+'Incoming Remittances (Volume)'!F201","v":0}]
["CMREM_11500","SI",{"$f":"+'Incoming Remittances (Volume)'!$F$5","v":"20240930"},{"$f":"+'COVER SHEET'!$D$12","v":0},11500,{"$f":"'COVER SHEET'!$D$16&IF(MID('COVER SHEET'!$I$18,6,10)=\"december\",\"1231\",IF(MID('COVER SHEET'!$I$18,6,10)=\"june\",\"0630\"))","v":"20241231"},{"$f":"+'Incoming Remittances (Volume)'!F202","v":0}]
["CMREM_11500","SB",{"$f":"+'Incoming Remittances (Volume)'!$F$5","v":"20240930"},{"$f":"+'COVER SHEET'!$D$12","v":0},11500,{"$f":"'COVER SHEET'!$D$16&IF(MID('COVER SHEET'!$I$18,6,10)=\"december\",\"1231\",IF(MID('COVER SHEET'!$I$18,6,10)=\"june\",\"0630\"))","v":"20241231"},{"$f":"+'Incoming Remittances (Volume)'!F203","v":0}]
["CMREM_11500","SO",{"$f":"+'Incoming Remittances (Volume)'!$F$5","v":"20240930"},{"$f":"+'COVER SHEET'!$D$12","v":0},11500,{"$f":"'COVER SHEET'!$D$16&IF(MID('COVER SHEET'!$I$18,6,10)=\"december\",\"1231\",IF(MID('COVER SHEET'!$I$18,6,10)=\"june\",\"0630\"))","v":"20241231"},{"$f":"+'Incoming Remittances (Volume)'!F204","v":0}]
["CMREM_11500","ZA",{"$f":"+'Incoming Remittances (Volume)'!$F$5","v":"20240930"},{"$f":"+'COVER SHEET'!$D$12","v":0},11500,{"$f":"'COVER SHEET'!$D$16&IF(MID('COVER SHEET'!$I$18,6,10)=\"december\",\"1231\",IF(MID('COVER SHEET'!$I$18,6,10)=\"june\",\"0630\"))","v":"20241231"},{"$f":"+'Incoming Remittances (Volume)'!F205","v":0}]
["CMREM_11500","GS",{"$f":"+'Incoming Remittances (Volume)'!$F$5","v":"20240930"},{"$f":"+'COVER SHEET'!$D$12","v":0},11500,{"$f":"'COVER SHEET'!$D$16&IF(MID('COVER SHEET'!$I$18,6,10)=\"december\",\"1231\",IF(MID('COVER SHEET'!$I$18,6,10)=\"june\",\"0630\"))","v":"20241231"},{"$f":"+'Incoming Remittances (Volume)'!F206","v":0}]
["CMREM_11500","SS",{"$f":"+'Incoming Remittances (Volume)'!$F$5","v":"20240930"},{"$f":"+'COVER SHEET'!$D$12","v":0},11500,{"$f":"'COVER SHEET'!$D$16&IF(MID('COVER SHEET'!$I$18,6,10)=\"december\",\"1231\",IF(MID('COVER SHEET'!$I$18,6,10)=\"june\",\"0630\"))","v":"20241231"},{"$f":"+'Incoming Remittances (Volume)'!F207","v":0}]
["CMREM_11500","ES",{"$f":"+'Incoming Remittances (Volume)'!$F$5","v":"20240930"},{"$f":"+'COVER SHEET'!$D$12","v":0},11500,{"$f":"'COVER SHEET'!$D$16&IF(MID('COVER SHEET'!$I$18,6,10)=\"december\",\"1231\",IF(MID('COVER SHEET'!$I$18,6,10)=\"june\",\"0630\"))","v":"20241231"},{"$f":"+'Incoming Remittances (Volume)'!F208","v":0}]
["CMREM_11500","LK",{"$f":"+'Incoming Remittances (Volume)'!$F$5","v":"20240930"},{"$f":"+'COVER SHEET'!$D$12","v":0},11500,{"$f":"'COVER SHEET'!$D$16&IF(MID('COVER SHEET'!$I$18,6,10)=\"december\",\"1231\",IF(MID('COVER SHEET'!$I$18,6,10)=\"june\",\"0630\"))","v":"20241231"},{"$f":"+'Incoming Remittances (Volume)'!F209","v":0}]
["CMREM_11500","SD",{"$f":"+'Incoming Remittances (Volume)'!$F$5","v":"20240930"},{"$f":"+'COVER SHEET'!$D$12","v":0},11500,{"$f":"'COVER SHEET'!$D$16&IF(MID('COVER SHEET'!$I$18,6,10)=\"december\",\"1231\",IF(MID('COVER SHEET'!$I$18,6,10)=\"june\",\"0630\"))","v":"20241231"},{"$f":"+'Incoming Remittances (Volume)'!F210","v":0}]
["CMREM_11500","SR",{"$f":"+'Incoming Remittances (Volume)'!$F$5","v":"20240930"},{"$f":"+'COVER SHEET'!$D$12","v":0},11500,{"$f":"'COVER SHEET'!$D$16&IF(MID('COVER SHEET'!$I$18,6,10)=\"december\",\"1231\",IF(MID('COVER SHEET'!$I$18,6,10)=\"june\",\"0630\"))","v":"20241231"},{"$f":"+'Incoming Remittances (Volume)'!F211","v":0}]
["CMREM_11500","SZ",{"$f":"+'Incoming Remittances (Volume)'!$F$5","v":"20240930"},{"$f":"+'COVER SHEET'!$D$12","v":0},11500,{"$f":"'COVER SHEET'!$D$16&IF(MID('COVER SHEET'!$I$18,6,10)=\"december\",\"1231\",IF(MID('COVER SHEET'!$I$18,6,10)=\"june\",\"0630\"))","v":"20241231"},{"$f":"+'Incoming Remittances (Volume)'!F212","v":0}]
["CMREM_11500","SE",{"$f":"+'Incoming Remittances (Volume)'!$F$5","v":"20240930"},{"$f":"+'COVER SHEET'!$D$12","v":0},11500,{"$f":"'COVER SHEET'!$D$16&IF(MID('COVER SHEET'!$I$18,6,10)=\"december\",\"1231\",IF(MID('COVER SHEET'!$I$18,6,10)=\"june\",\"0630\"))","v":"20241231"},{"$f":"+'Incoming Remittances (Volume)'!F213","v":0}]
["CMREM_11500","CH",{"$f":"+'Incoming Remittances (Volume)'!$F$5","v":"20240930"},{"$f":"+'COVER SHEET'!$D$12","v":0},11500,{"$f":"'COVER SHEET'!$D$16&IF(MID('COVER SHEET'!$I$18,6,10)=\"december\",\"1231\",IF(MID('COVER SHEET'!$I$18,6,10)=\"june\",\"0630\"))","v":"20241231"},{"$f":"+'Incoming Remittances (Volume)'!F214","v":0}]
["CMREM_11500","SY",{"$f":"+'Incoming Remittances (Volume)'!$F$5","v":"20240930"},{"$f":"+'COVER SHEET'!$D$12","v":0},11500,{"$f":"'COVER SHEET'!$D$16&IF(MID('COVER SHEET'!$I$18,6,10)=\"december\",\"1231\",IF(MID('COVER SHEET'!$I$18,6,10)=\"june\",\"0630\"))","v":"20241231"},{"$f":"+'Incoming Remittances (Volume)'!F215","v":0}]
["CMREM_11500","TW",{"$f":"+'Incoming Remittances (Volume)'!$F$5","v":"20240930"},{"$f":"+'COVER SHEET'!$D$12","v":0},11500,{"$f":"'COVER SHEET'!$D$16&IF(MID('COVER SHEET'!$I$18,6,10)=\"december\",\"1231\",IF(MID('COVER SHEET'!$I$18,6,10)=\"june\",\"0630\"))","v":"20241231"},{"$f":"+'Incoming Remittances (Volume)'!F216","v":0}]
["CMREM_11500","TJ",{"$f":"+'Incoming Remittances (Volume)'!$F$5","v":"20240930"},{"$f":"+'COVER SHEET'!$D$12","v":0},11500,{"$f":"'COVER SHEET'!$D$16&IF(MID('COVER SHEET'!$I$18,6,10)=\"december\",\"1231\",IF(MID('COVER SHEET'!$I$18,6,10)=\"june\",\"0630\"))","v":"20241231"},{"$f":"+'Incoming Remittances (Volume)'!F217","v":0}]
["CMREM_11500","TZ",{"$f":"+'Incoming Remittances (Volume)'!$F$5","v":"20240930"},{"$f":"+'COVER SHEET'!$D$12","v":0},11500,{"$f":"'COVER SHEET'!$D$16&IF(MID('COVER SHEET'!$I$18,6,10)=\"december\",\"1231\",IF(MID('COVER SHEET'!$I$18,6,10)=\"june\",\"0630\"))","v":"20241231"},{"$f":"+'Incoming Remittances (Volume)'!F218","v":0}]
["CMREM_11500","TH",{"$f":"+'Incoming Remittances (Volume)'!$F$5","v":"20240930"},{"$f":"+'COVER SHEET'!$D$12","v":0},11500,{"$f":"'COVER SHEET'!$D$16&IF(MID('COVER SHEET'!$I$18,6,10)=\"december\",\"1231\",IF(MID('COVER SHEET'!$I$18,6,10)=\"june\",\"0630\"))","v":"20241231"},{"$f":"+'Incoming Remittances (Volume)'!F219","v":0}]
["CMREM_11500","TG",{"$f":"+'Incoming Remittances (Volume)'!$F$5","v":"20240930"},{"$f":"+'COVER SHEET'!$D$12","v":0},11500,{"$f":"'COVER SHEET'!$D$16&IF(MID('COVER SHEET'!$I$18,6,10)=\"december\",\"1231\",IF(MID('COVER SHEET'!$I$18,6,10)=\"june\",\"0630\"))","v":"20241231"},{"$f":"+'Incoming Remittances (Volume)'!F220","v":0}]
["CMREM_11500","TK",{"$f":"+'Incoming Remittances (Volume)'!$F$5","v":"20240930"},{"$f":"+'COVER SHEET'!$D$12","v":0},11500,{"$f":"'COVER SHEET'!$D$16&IF(MID('COVER SHEET'!$I$18,6,10)=\"december\",\"1231\",IF(MID('COVER SHEET'!$I$18,6,10)=\"june\",\"0630\"))","v":"20241231"},{"$f":"+'Incoming Remittances (Volume)'!F221","v":0}]
["CMREM_11500","TO",{"$f":"+'Incoming Remittances (Volume)'!$F$5","v":"20240930"},{"$f":"+'COVER SHEET'!$D$12","v":0},11500,{"$f":"'COVER SHEET'!$D$16&IF(MID('COVER SHEET'!$I$18,6,10)=\"december\",\"1231\",IF(MID('COVER SHEET'!$I$18,6,10)=\"june\",\"0630\"))","v":"20241231"},{"$f":"+'Incoming Remittances (Volume)'!F222","v":0}]
["CMREM_11500","TT",{"$f":"+'Incoming Remittances (Volume)'!$F$5","v":"20240930"},{"$f":"+'COVER SHEET'!$D$12","v":0},11500,{"$f":"'COVER SHEET'!$D$16&IF(MID('COVER SHEET'!$I$18,6,10)=\"december\",\"1231\",IF(MID('COVER SHEET'!$I$18,6,10)=\"june\",\"0630\"))","v":"20241231"},{"$f":"+'Incoming Remittances (Volume)'!F223","v":0}]
["CMREM_11500","TN",{"$f":"+'Incoming Remittances (Volume)'!$F$5","v":"20240930"},{"$f":"+'COVER SHEET'!$D$12","v":0},11500,{"$f":"'COVER SHEET'!$D$16&IF(MID('COVER SHEET'!$I$18,6,10)=\"december\",\"1231\",IF(MID('COVER SHEET'!$I$18,6,10)=\"june\",\"0630\"))","v":"20241231"},{"$f":"+'Incoming Remittances (Volume)'!F224","v":0}]
["CMREM_11500","TR",{"$f":"+'Incoming Remittances (Volume)'!$F$5","v":"20240930"},{"$f":"+'COVER SHEET'!$D$12","v":0},11500,{"$f":"'COVER SHEET'!$D$16&IF(MID('COVER SHEET'!$I$18,6,10)=\"december\",\"1231\",IF(MID('COVER SHEET'!$I$18,6,10)=\"june\",\"0630\"))","v":"20241231"},{"$f":"+'Incoming Remittances (Volume)'!F225","v":0}]
["CMREM_11500","TM",{"$f":"+'Incoming Remittances (Volume)'!$F$5","v":"20240930"},{"$f":"+'COVER SHEET'!$D$12","v":0},11500,{"$f":"'COVER SHEET'!$D$16&IF(MID('COVER SHEET'!$I$18,6,10)=\"december\",\"1231\",IF(MID('COVER SHEET'!$I$18,6,10)=\"june\",\"0630\"))","v":"20241231"},{"$f":"+'Incoming Remittances (Volume)'!F226","v":0}]
["CMREM_11500","TC",{"$f":"+'Incoming Remittances (Volume)'!$F$5","v":"20240930"},{"$f":"+'COVER SHEET'!$D$12","v":0},11500,{"$f":"'COVER SHEET'!$D$16&IF(MID('COVER SHEET'!$I$18,6,10)=\"december\",\"1231\",IF(MID('COVER SHEET'!$I$18,6,10)=\"june\",\"0630\"))","v":"20241231"},{"$f":"+'Incoming Remittances (Volume)'!F227","v":0}]
["CMREM_11500","TV",{"$f":"+'Incoming Remittances (Volume)'!$F$5","v":"20240930"},{"$f":"+'COVER SHEET'!$D$12","v":0},11500,{"$f":"'COVER SHEET'!$D$16&IF(MID('COVER SHEET'!$I$18,6,10)=\"december\",\"1231\",IF(MID('COVER SHEET'!$I$18,6,10)=\"june\",\"0630\"))","v":"20241231"},{"$f":"+'Incoming Remittances (Volume)'!F228","v":0}]
["CMREM_11500","UG",{"$f":"+'Incoming Remittances (Volume)'!$F$5","v":"20240930"},{"$f":"+'COVER SHEET'!$D$12","v":0},11500,{"$f":"'COVER SHEET'!$D$16&IF(MID('COVER SHEET'!$I$18,6,10)=\"december\",\"1231\",IF(MID('COVER SHEET'!$I$18,6,10)=\"june\",\"0630\"))","v":"20241231"},{"$f":"+'Incoming Remittances (Volume)'!F229","v":0}]
["CMREM_11500","UA",{"$f":"+'Incoming Remittances (Volume)'!$F$5","v":"20240930"},{"$f":"+'COVER SHEET'!$D$12","v":0},11500,{"$f":"'COVER SHEET'!$D$16&IF(MID('COVER SHEET'!$I$18,6,10)=\"december\",\"1231\",IF(MID('COVER SHEET'!$I$18,6,10)=\"june\",\"0630\"))","v":"20241231"},{"$f":"+'Incoming Remittances (Volume)'!F230","v":0}]
["CMREM_11500","AE",{"$f":"+'Incoming Remittances (Volume)'!$F$5","v":"20240930"},{"$f":"+'COVER SHEET'!$D$12","v":0},11500,{"$f":"'COVER SHEET'!$D$16&IF(MID('COVER SHEET'!$I$18,6,10)=\"december\",\"1231\",IF(MID('COVER SHEET'!$I$18,6,10)=\"june\",\"0630\"))","v":"20241231"},{"$f":"+'Incoming Remittances (Volume)'!F231","v":0}]
["CMREM_11500","GB",{"$f":"+'Incoming Remittances (Volume)'!$F$5","v":"20240930"},{"$f":"+'COVER SHEET'!$D$12","v":0},11500,{"$f":"'COVER SHEET'!$D$16&IF(MID('COVER SHEET'!$I$18,6,10)=\"december\",\"1231\",IF(MID('COVER SHEET'!$I$18,6,10)=\"june\",\"0630\"))","v":"20241231"},{"$f":"+'Incoming Remittances (Volume)'!F232","v":0}]
["CMREM_11500","US",{"$f":"+'Incoming Remittances (Volume)'!$F$5","v":"20240930"},{"$f":"+'COVER SHEET'!$D$12","v":0},11500,{"$f":"'COVER SHEET'!$D$16&IF(MID('COVER SHEET'!$I$18,6,10)=\"december\",\"1231\",IF(MID('COVER SHEET'!$I$18,6,10)=\"june\",\"0630\"))","v":"20241231"},{"$f":"+'Incoming Remittances (Volume)'!F233","v":0}]
["CMREM_11500","UY",{"$f":"+'Incoming Remittances (Volume)'!$F$5","v":"20240930"},{"$f":"+'COVER SHEET'!$D$12","v":0},11500,{"$f":"'COVER SHEET'!$D$16&IF(MID('COVER SHEET'!$I$18,6,10)=\"december\",\"1231\",IF(MID('COVER SHEET'!$I$18,6,10)=\"june\",\"0630\"))","v":"20241231"},{"$f":"+'Incoming Remittances (Volume)'!F234","v":0}]
["CMREM_11500","UM",{"$f":"+'Incoming Remittances (Volume)'!$F$5","v":"20240930"},{"$f":"+'COVER SHEET'!$D$12","v":0},11500,{"$f":"'COVER SHEET'!$D$16&IF(MID('COVER SHEET'!$I$18,6,10)=\"december\",\"1231\",IF(MID('COVER SHEET'!$I$18,6,10)=\"june\",\"0630\"))","v":"20241231"},{"$f":"+'Incoming Remittances (Volume)'!F235","v":0}]
["CMREM_11500","UZ",{"$f":"+'Incoming Remittances (Volume)'!$F$5","v":"20240930"},{"$f":"+'COVER SHEET'!$D$12","v":0},11500,{"$f":"'COVER SHEET'!$D$16&IF(MID('COVER SHEET'!$I$18,6,10)=\"december\",\"1231\",IF(MID('COVER SHEET'!$I$18,6,10)=\"june\",\"0630\"))","v":"20241231"},{"$f":"+'Incoming Remittances (Volume)'!F236","v":0}]
["CMREM_11500","VU",{"$f":"+'Incoming Remittances (Volume)'!$F$5","v":"20240930"},{"$f":"+'COVER SHEET'!$D$12","v":0},11500,{"$f":"'COVER SHEET'!$D$16&IF(MID('COVER SHEET'!$I$18,6,10)=\"december\",\"1231\",IF(MID('COVER SHEET'!$I$18,6,10)=\"june\",\"0630\"))","v":"20241231"},{"$f":"+'Incoming Remittances (Volume)'!F237","v":0}]
["CMREM_11500","VE",{"$f":"+'Incoming Remittances (Volume)'!$F$5","v":"20240930"},{"$f":"+'COVER SHEET'!$D$12","v":0},11500,{"$f":"'COVER SHEET'!$D$16&IF(MID('COVER SHEET'!$I$18,6,10)=\"december\",\"1231\",IF(MID('COVER SHEET'!$I$18,6,10)=\"june\",\"0630\"))","v":"20241231"},{"$f":"+'Incoming Remittances (Volume)'!F238","v":0}]
["CMREM_11500","VN",{"$f":"+'Incoming Remittances (Volume)'!$F$5","v":"20240930"},{"$f":"+'COVER SHEET'!$D$12","v":0},11500,{"$f":"'COVER SHEET'!$D$16&IF(MID('COVER SHEET'!$I$18,6,10)=\"december\",\"1231\",IF(MID('COVER SHEET'!$I$18,6,10)=\"june\",\"0630\"))","v":"20241231"},{"$f":"+'Incoming Remittances (Volume)'!F239","v":0}]
["CMREM_11500","VI",{"$f":"+'Incoming Remittances (Volume)'!$F$5","v":"20240930"},{"$f":"+'COVER SHEET'!$D$12","v":0},11500,{"$f":"'COVER SHEET'!$D$16&IF(MID('COVER SHEET'!$I$18,6,10)=\"december\",\"1231\",IF(MID('COVER SHEET'!$I$18,6,10)=\"june\",\"0630\"))","v":"20241231"},{"$f":"+'Incoming Remittances (Volume)'!F240","v":0}]
["CMREM_11500","WF",{"$f":"+'Incoming Remittances (Volume)'!$F$5","v":"20240930"},{"$f":"+'COVER SHEET'!$D$12","v":0},11500,{"$f":"'COVER SHEET'!$D$16&IF(MID('COVER SHEET'!$I$18,6,10)=\"december\",\"1231\",IF(MID('COVER SHEET'!$I$18,6,10)=\"june\",\"0630\"))","v":"20241231"},{"$f":"+'Incoming Remittances (Volume)'!F241","v":0}]
["CMREM_11500","YE",{"$f":"+'Incoming Remittances (Volume)'!$F$5","v":"20240930"},{"$f":"+'COVER SHEET'!$D$12","v":0},11500,{"$f":"'COVER SHEET'!$D$16&IF(MID('COVER SHEET'!$I$18,6,10)=\"december\",\"1231\",IF(MID('COVER SHEET'!$I$18,6,10)=\"june\",\"0630\"))","v":"20241231"},{"$f":"+'Incoming Remittances (Volume)'!F242","v":0}]
["CMREM_11500","ZM",{"$f":"+'Incoming Remittances (Volume)'!$F$5","v":"20240930"},{"$f":"+'COVER SHEET'!$D$12","v":0},11500,{"$f":"'COVER SHEET'!$D$16&IF(MID('COVER SHEET'!$I$18,6,10)=\"december\",\"1231\",IF(MID('COVER SHEET'!$I$18,6,10)=\"june\",\"0630\"))","v":"20241231"},{"$f":"+'Incoming Remittances (Volume)'!F243","v":0}]
["CMREM_11500","ZW",{"$f":"+'Incoming Remittances (Volume)'!$F$5","v":"20240930"},{"$f":"+'COVER SHEET'!$D$12","v":0},11500,{"$f":"'COVER SHEET'!$D$16&IF(MID('COVER SHEET'!$I$18,6,10)=\"december\",\"1231\",IF(MID('COVER SHEET'!$I$18,6,10)=\"june\",\"0630\"))","v":"20241231"},{"$f":"+'Incoming Remittances (Volume)'!F244","v":0}]
["CMREM_11510","AF",{"$f":"+'Outgoing Remittances (Volume)'!$E$5","v":"20240930"},{"$f":"+'COVER SHEET'!$D$12","v":0},11510,{"$f":"'COVER SHEET'!$D$16&IF(MID('COVER SHEET'!$I$18,6,10)=\"december\",\"1231\",IF(MID('COVER SHEET'!$I$18,6,10)=\"june\",\"0630\"))","v":"20241231"},{"$f":"+'Outgoing Remittances (Volume)'!E9","v":0}]
["CMREM_11510","AL",{"$f":"+'Outgoing Remittances (Volume)'!$E$5","v":"20240930"},{"$f":"+'COVER SHEET'!$D$12","v":0},11510,{"$f":"'COVER SHEET'!$D$16&IF(MID('COVER SHEET'!$I$18,6,10)=\"december\",\"1231\",IF(MID('COVER SHEET'!$I$18,6,10)=\"june\",\"0630\"))","v":"20241231"},{"$f":"+'Outgoing Remittances (Volume)'!E10","v":0}]
["CMREM_11510","DZ",{"$f":"+'Outgoing Remittances (Volume)'!$E$5","v":"20240930"},{"$f":"+'COVER SHEET'!$D$12","v":0},11510,{"$f":"'COVER SHEET'!$D$16&IF(MID('COVER SHEET'!$I$18,6,10)=\"december\",\"1231\",IF(MID('COVER SHEET'!$I$18,6,10)=\"june\",\"0630\"))","v":"20241231"},{"$f":"+'Outgoing Remittances (Volume)'!E11","v":0}]
["CMREM_11510","AS",{"$f":"+'Outgoing Remittances (Volume)'!$E$5","v":"20240930"},{"$f":"+'COVER SHEET'!$D$12","v":0},11510,{"$f":"'COVER SHEET'!$D$16&IF(MID('COVER SHEET'!$I$18,6,10)=\"december\",\"1231\",IF(MID('COVER SHEET'!$I$18,6,10)=\"june\",\"0630\"))","v":"20241231"},{"$f":"+'Outgoing Remittances (Volume)'!E12","v":0}]
["CMREM_11510","AD",{"$f":"+'Outgoing Remittances (Volume)'!$E$5","v":"20240930"},{"$f":"+'COVER SHEET'!$D$12","v":0},11510,{"$f":"'COVER SHEET'!$D$16&IF(MID('COVER SHEET'!$I$18,6,10)=\"december\",\"1231\",IF(MID('COVER SHEET'!$I$18,6,10)=\"june\",\"0630\"))","v":"20241231"},{"$f":"+'Outgoing Remittances (Volume)'!E13","v":0}]
["CMREM_11510","AO",{"$f":"+'Outgoing Remittances (Volume)'!$E$5","v":"20240930"},{"$f":"+'COVER SHEET'!$D$12","v":0},11510,{"$f":"'COVER SHEET'!$D$16&IF(MID('COVER SHEET'!$I$18,6,10)=\"december\",\"1231\",IF(MID('COVER SHEET'!$I$18,6,10)=\"june\",\"0630\"))","v":"20241231"},{"$f":"+'Outgoing Remittances (Volume)'!E14","v":0}]
["CMREM_11510","AI",{"$f":"+'Outgoing Remittances (Volume)'!$E$5","v":"20240930"},{"$f":"+'COVER SHEET'!$D$12","v":0},11510,{"$f":"'COVER SHEET'!$D$16&IF(MID('COVER SHEET'!$I$18,6,10)=\"december\",\"1231\",IF(MID('COVER SHEET'!$I$18,6,10)=\"june\",\"0630\"))","v":"20241231"},{"$f":"+'Outgoing Remittances (Volume)'!E15","v":0}]
["CMREM_11510","AQ",{"$f":"+'Outgoing Remittances (Volume)'!$E$5","v":"20240930"},{"$f":"+'COVER SHEET'!$D$12","v":0},11510,{"$f":"'COVER SHEET'!$D$16&IF(MID('COVER SHEET'!$I$18,6,10)=\"december\",\"1231\",IF(MID('COVER SHEET'!$I$18,6,10)=\"june\",\"0630\"))","v":"20241231"},{"$f":"+'Outgoing Remittances (Volume)'!E16","v":0}]
["CMREM_11510","AG",{"$f":"+'Outgoing Remittances (Volume)'!$E$5","v":"20240930"},{"$f":"+'COVER SHEET'!$D$12","v":0},11510,{"$f":"'COVER SHEET'!$D$16&IF(MID('COVER SHEET'!$I$18,6,10)=\"december\",\"1231\",IF(MID('COVER SHEET'!$I$18,6,10)=\"june\",\"0630\"))","v":"20241231"},{"$f":"+'Outgoing Remittances (Volume)'!E17","v":0}]
["CMREM_11510","AR",{"$f":"+'Outgoing Remittances (Volume)'!$E$5","v":"20240930"},{"$f":"+'COVER SHEET'!$D$12","v":0},11510,{"$f":"'COVER SHEET'!$D$16&IF(MID('COVER SHEET'!$I$18,6,10)=\"december\",\"1231\",IF(MID('COVER SHEET'!$I$18,6,10)=\"june\",\"0630\"))","v":"20241231"},{"$f":"+'Outgoing Remittances (Volume)'!E18","v":0}]
["CMREM_11510","AM",{"$f":"+'Outgoing Remittances (Volume)'!$E$5","v":"20240930"},{"$f":"+'COVER SHEET'!$D$12","v":0},11510,{"$f":"'COVER SHEET'!$D$16&IF(MID('COVER SHEET'!$I$18,6,10)=\"december\",\"1231\",IF(MID('COVER SHEET'!$I$18,6,10)=\"june\",\"0630\"))","v":"20241231"},{"$f":"+'Outgoing Remittances (Volume)'!E19","v":0}]
["CMREM_11510","AW",{"$f":"+'Outgoing Remittances (Volume)'!$E$5","v":"20240930"},{"$f":"+'COVER SHEET'!$D$12","v":0},11510,{"$f":"'COVER SHEET'!$D$16&IF(MID('COVER SHEET'!$I$18,6,10)=\"december\",\"1231\",IF(MID('COVER SHEET'!$I$18,6,10)=\"june\",\"0630\"))","v":"20241231"},{"$f":"+'Outgoing Remittances (Volume)'!E20","v":0}]
["CMREM_11510","AU",{"$f":"+'Outgoing Remittances (Volume)'!$E$5","v":"20240930"},{"$f":"+'COVER SHEET'!$D$12","v":0},11510,{"$f":"'COVER SHEET'!$D$16&IF(MID('COVER SHEET'!$I$18,6,10)=\"december\",\"1231\",IF(MID('COVER SHEET'!$I$18,6,10)=\"june\",\"0630\"))","v":"20241231"},{"$f":"+'Outgoing Remittances (Volume)'!E21","v":0}]
["CMREM_11510","AT",{"$f":"+'Outgoing Remittances (Volume)'!$E$5","v":"20240930"},{"$f":"+'COVER SHEET'!$D$12","v":0},11510,{"$f":"'COVER SHEET'!$D$16&IF(MID('COVER SHEET'!$I$18,6,10)=\"december\",\"1231\",IF(MID('COVER SHEET'!$I$18,6,10)=\"june\",\"0630\"))","v":"20241231"},{"$f":"+'Outgoing Remittances (Volume)'!E22","v":0}]
["CMREM_11510","AZ",{"$f":"+'Outgoing Remittances (Volume)'!$E$5","v":"20240930"},{"$f":"+'COVER SHEET'!$D$12","v":0},11510,{"$f":"'COVER SHEET'!$D$16&IF(MID('COVER SHEET'!$I$18,6,10)=\"december\",\"1231\",IF(MID('COVER SHEET'!$I$18,6,10)=\"june\",\"0630\"))","v":"20241231"},{"$f":"+'Outgoing Remittances (Volume)'!E23","v":0}]
["CMREM_11510","BS",{"$f":"+'Outgoing Remittances (Volume)'!$E$5","v":"20240930"},{"$f":"+'COVER SHEET'!$D$12","v":0},11510,{"$f":"'COVER SHEET'!$D$16&IF(MID('COVER SHEET'!$I$18,6,10)=\"december\",\"1231\",IF(MID('COVER SHEET'!$I$18,6,10)=\"june\",\"0630\"))","v":"20241231"},{"$f":"+'Outgoing Remittances (Volume)'!E24","v":0}]
["CMREM_11510","BH",{"$f":"+'Outgoing Remittances (Volume)'!$E$5","v":"20240930"},{"$f":"+'COVER SHEET'!$D$12","v":0},11510,{"$f":"'COVER SHEET'!$D$16&IF(MID('COVER SHEET'!$I$18,6,10)=\"december\",\"1231\",IF(MID('COVER SHEET'!$I$18,6,10)=\"june\",\"0630\"))","v":"20241231"},{"$f":"+'Outgoing Remittances (Volume)'!E25","v":0}]
["CMREM_11510","BD",{"$f":"+'Outgoing Remittances (Volume)'!$E$5","v":"20240930"},{"$f":"+'COVER SHEET'!$D$12","v":0},11510,{"$f":"'COVER SHEET'!$D$16&IF(MID('COVER SHEET'!$I$18,6,10)=\"december\",\"1231\",IF(MID('COVER SHEET'!$I$18,6,10)=\"june\",\"0630\"))","v":"20241231"},{"$f":"+'Outgoing Remittances (Volume)'!E26","v":0}]
["CMREM_11510","BB",{"$f":"+'Outgoing Remittances (Volume)'!$E$5","v":"20240930"},{"$f":"+'COVER SHEET'!$D$12","v":0},11510,{"$f":"'COVER SHEET'!$D$16&IF(MID('COVER SHEET'!$I$18,6,10)=\"december\",\"1231\",IF(MID('COVER SHEET'!$I$18,6,10)=\"june\",\"0630\"))","v":"20241231"},{"$f":"+'Outgoing Remittances (Volume)'!E27","v":0}]
["CMREM_11510","BY",{"$f":"+'Outgoing Remittances (Volume)'!$E$5","v":"20240930"},{"$f":"+'COVER SHEET'!$D$12","v":0},11510,{"$f":"'COVER SHEET'!$D$16&IF(MID('COVER SHEET'!$I$18,6,10)=\"december\",\"1231\",IF(MID('COVER SHEET'!$I$18,6,10)=\"june\",\"0630\"))","v":"20241231"},{"$f":"+'Outgoing Remittances (Volume)'!E28","v":0}]
["CMREM_11510","BE",{"$f":"+'Outgoing Remittances (Volume)'!$E$5","v":"20240930"},{"$f":"+'COVER SHEET'!$D$12","v":0},11510,{"$f":"'COVER SHEET'!$D$16&IF(MID('COVER SHEET'!$I$18,6,10)=\"december\",\"1231\",IF(MID('COVER SHEET'!$I$18,6,10)=\"june\",\"0630\"))","v":"20241231"},{"$f":"+'Outgoing Remittances (Volume)'!E29","v":0}]
["CMREM_11510","BZ",{"$f":"+'Outgoing Remittances (Volume)'!$E$5","v":"20240930"},{"$f":"+'COVER SHEET'!$D$12","v":0},11510,{"$f":"'COVER SHEET'!$D$16&IF(MID('COVER SHEET'!$I$18,6,10)=\"december\",\"1231\",IF(MID('COVER SHEET'!$I$18,6,10)=\"june\",\"0630\"))","v":"20241231"},{"$f":"+'Outgoing Remittances (Volume)'!E30","v":0}]
["CMREM_11510","BJ",{"$f":"+'Outgoing Remittances (Volume)'!$E$5","v":"20240930"},{"$f":"+'COVER SHEET'!$D$12","v":0},11510,{"$f":"'COVER SHEET'!$D$16&IF(MID('COVER SHEET'!$I$18,6,10)=\"december\",\"1231\",IF(MID('COVER SHEET'!$I$18,6,10)=\"june\",\"0630\"))","v":"20241231"},{"$f":"+'Outgoing Remittances (Volume)'!E31","v":0}]
["CMREM_11510","BM",{"$f":"+'Outgoing Remittances (Volume)'!$E$5","v":"20240930"},{"$f":"+'COVER SHEET'!$D$12","v":0},11510,{"$f":"'COVER SHEET'!$D$16&IF(MID('COVER SHEET'!$I$18,6,10)=\"december\",\"1231\",IF(MID('COVER SHEET'!$I$18,6,10)=\"june\",\"0630\"))","v":"20241231"},{"$f":"+'Outgoing Remittances (Volume)'!E32","v":0}]
["CMREM_11510","BQ",{"$f":"+'Outgoing Remittances (Volume)'!$E$5","v":"20240930"},{"$f":"+'COVER SHEET'!$D$12","v":0},11510,{"$f":"'COVER SHEET'!$D$16&IF(MID('COVER SHEET'!$I$18,6,10)=\"december\",\"1231\",IF(MID('COVER SHEET'!$I$18,6,10)=\"june\",\"0630\"))","v":"20241231"},{"$f":"+'Outgoing Remittances (Volume)'!E33","v":0}]
["CMREM_11510","BT",{"$f":"+'Outgoing Remittances (Volume)'!$E$5","v":"20240930"},{"$f":"+'COVER SHEET'!$D$12","v":0},11510,{"$f":"'COVER SHEET'!$D$16&IF(MID('COVER SHEET'!$I$18,6,10)=\"december\",\"1231\",IF(MID('COVER SHEET'!$I$18,6,10)=\"june\",\"0630\"))","v":"20241231"},{"$f":"+'Outgoing Remittances (Volume)'!E34","v":0}]
["CMREM_11510","BO",{"$f":"+'Outgoing Remittances (Volume)'!$E$5","v":"20240930"},{"$f":"+'COVER SHEET'!$D$12","v":0},11510,{"$f":"'COVER SHEET'!$D$16&IF(MID('COVER SHEET'!$I$18,6,10)=\"december\",\"1231\",IF(MID('COVER SHEET'!$I$18,6,10)=\"june\",\"0630\"))","v":"20241231"},{"$f":"+'Outgoing Remittances (Volume)'!E35","v":0}]
["CMREM_11510","BA",{"$f":"+'Outgoing Remittances (Volume)'!$E$5","v":"20240930"},{"$f":"+'COVER SHEET'!$D$12","v":0},11510,{"$f":"'COVER SHEET'!$D$16&IF(MID('COVER SHEET'!$I$18,6,10)=\"december\",\"1231\",IF(MID('COVER SHEET'!$I$18,6,10)=\"june\",\"0630\"))","v":"20241231"},{"$f":"+'Outgoing Remittances (Volume)'!E36","v":0}]
["CMREM_11510","BW",{"$f":"+'Outgoing Remittances (Volume)'!$E$5","v":"20240930"},{"$f":"+'COVER SHEET'!$D$12","v":0},11510,{"$f":"'COVER SHEET'!$D$16&IF(MID('COVER SHEET'!$I$18,6,10)=\"december\",\"1231\",IF(MID('COVER SHEET'!$I$18,6,10)=\"june\",\"0630\"))","v":"20241231"},{"$f":"+'Outgoing Remittances (Volume)'!E37","v":0}]
["CMREM_11510","BV",{"$f":"+'Outgoing Remittances (Volume)'!$E$5","v":"20240930"},{"$f":"+'COVER SHEET'!$D$12","v":0},11510,{"$f":"'COVER SHEET'!$D$16&IF(MID('COVER SHEET'!$I$18,6,10)=\"december\",\"1231\",IF(MID('COVER SHEET'!$I$18,6,10)=\"june\",\"0630\"))","v":"20241231"},{"$f":"+'Outgoing Remittances (Volume)'!E38","v":0}]
["CMREM_11510","BR",{"$f":"+'Outgoing Remittances (Volume)'!$E$5","v":"20240930"},{"$f":"+'COVER SHEET'!$D$12","v":0},11510,{"$f":"'COVER SHEET'!$D$16&IF(MID('COVER SHEET'!$I$18,6,10)=\"december\",\"1231\",IF(MID('COVER SHEET'!$I$18,6,10)=\"june\",\"0630\"))","v":"20241231"},{"$f":"+'Outgoing Remittances (Volume)'!E39","v":0}]
["CMREM_11510","IO",{"$f":"+'Outgoing Remittances (Volume)'!$E$5","v":"20240930"},{"$f":"+'COVER SHEET'!$D$12","v":0},11510,{"$f":"'COVER SHEET'!$D$16&IF(MID('COVER SHEET'!$I$18,6,10)=\"december\",\"1231\",IF(MID('COVER SHEET'!$I$18,6,10)=\"june\",\"0630\"))","v":"20241231"},{"$f":"+'Outgoing Remittances (Volume)'!E40","v":0}]
["CMREM_11510","VG",{"$f":"+'Outgoing Remittances (Volume)'!$E$5","v":"20240930"},{"$f":"+'COVER SHEET'!$D$12","v":0},11510,{"$f":"'COVER SHEET'!$D$16&IF(MID('COVER SHEET'!$I$18,6,10)=\"december\",\"1231\",IF(MID('COVER SHEET'!$I$18,6,10)=\"june\",\"0630\"))","v":"20241231"},{"$f":"+'Outgoing Remittances (Volume)'!E41","v":0}]
["CMREM_11510","BN",{"$f":"+'Outgoing Remittances (Volume)'!$E$5","v":"20240930"},{"$f":"+'COVER SHEET'!$D$12","v":0},11510,{"$f":"'COVER SHEET'!$D$16&IF(MID('COVER SHEET'!$I$18,6,10)=\"december\",\"1231\",IF(MID('COVER SHEET'!$I$18,6,10)=\"june\",\"0630\"))","v":"20241231"},{"$f":"+'Outgoing Remittances (Volume)'!E42","v":0}]
["CMREM_11510","BG",{"$f":"+'Outgoing Remittances (Volume)'!$E$5","v":"20240930"},{"$f":"+'COVER SHEET'!$D$12","v":0},11510,{"$f":"'COVER SHEET'!$D$16&IF(MID('COVER SHEET'!$I$18,6,10)=\"december\",\"1231\",IF(MID('COVER SHEET'!$I$18,6,10)=\"june\",\"0630\"))","v":"20241231"},{"$f":"+'Outgoing Remittances (Volume)'!E43","v":0}]
["CMREM_11510","BF",{"$f":"+'Outgoing Remittances (Volume)'!$E$5","v":"20240930"},{"$f":"+'COVER SHEET'!$D$12","v":0},11510,{"$f":"'COVER SHEET'!$D$16&IF(MID('COVER SHEET'!$I$18,6,10)=\"december\",\"1231\",IF(MID('COVER SHEET'!$I$18,6,10)=\"june\",\"0630\"))","v":"20241231"},{"$f":"+'Outgoing Remittances (Volume)'!E44","v":0}]
["CMREM_11510","BI",{"$f":"+'Outgoing Remittances (Volume)'!$E$5","v":"20240930"},{"$f":"+'COVER SHEET'!$D$12","v":0},11510,{"$f":"'COVER SHEET'!$D$16&IF(MID('COVER SHEET'!$I$18,6,10)=\"december\",\"1231\",IF(MID('COVER SHEET'!$I$18,6,10)=\"june\",\"0630\"))","v":"20241231"},{"$f":"+'Outgoing Remittances (Volume)'!E45","v":0}]
["CMREM_11510","KH",{"$f":"+'Outgoing Remittances (Volume)'!$E$5","v":"20240930"},{"$f":"+'COVER SHEET'!$D$12","v":0},11510,{"$f":"'COVER SHEET'!$D$16&IF(MID('COVER SHEET'!$I$18,6,10)=\"december\",\"1231\",IF(MID('COVER SHEET'!$I$18,6,10)=\"june\",\"0630\"))","v":"20241231"},{"$f":"+'Outgoing Remittances (Volume)'!E46","v":0}]
["CMREM_11510","CM",{"$f":"+'Outgoing Remittances (Volume)'!$E$5","v":"20240930"},{"$f":"+'COVER SHEET'!$D$12","v":0},11510,{"$f":"'COVER SHEET'!$D$16&IF(MID('COVER SHEET'!$I$18,6,10)=\"december\",\"1231\",IF(MID('COVER SHEET'!$I$18,6,10)=\"june\",\"0630\"))","v":"20241231"},{"$f":"+'Outgoing Remittances (Volume)'!E47","v":0}]
["CMREM_11510","CA",{"$f":"+'Outgoing Remittances (Volume)'!$E$5","v":"20240930"},{"$f":"+'COVER SHEET'!$D$12","v":0},11510,{"$f":"'COVER SHEET'!$D$16&IF(MID('COVER SHEET'!$I$18,6,10)=\"december\",\"1231\",IF(MID('COVER SHEET'!$I$18,6,10)=\"june\",\"0630\"))","v":"20241231"},{"$f":"+'Outgoing Remittances (Volume)'!E48","v":0}]
["CMREM_11510","CV",{"$f":"+'Outgoing Remittances (Volume)'!$E$5","v":"20240930"},{"$f":"+'COVER SHEET'!$D$12","v":0},11510,{"$f":"'COVER SHEET'!$D$16&IF(MID('COVER SHEET'!$I$18,6,10)=\"december\",\"1231\",IF(MID('COVER SHEET'!$I$18,6,10)=\"june\",\"0630\"))","v":"20241231"},{"$f":"+'Outgoing Remittances (Volume)'!E49","v":0}]
["CMREM_11510","KY",{"$f":"+'Outgoing Remittances (Volume)'!$E$5","v":"20240930"},{"$f":"+'COVER SHEET'!$D$12","v":0},11510,{"$f":"'COVER SHEET'!$D$16&IF(MID('COVER SHEET'!$I$18,6,10)=\"december\",\"1231\",IF(MID('COVER SHEET'!$I$18,6,10)=\"june\",\"0630\"))","v":"20241231"},{"$f":"+'Outgoing Remittances (Volume)'!E50","v":0}]
["CMREM_11510","CF",{"$f":"+'Outgoing Remittances (Volume)'!$E$5","v":"20240930"},{"$f":"+'COVER SHEET'!$D$12","v":0},11510,{"$f":"'COVER SHEET'!$D$16&IF(MID('COVER SHEET'!$I$18,6,10)=\"december\",\"1231\",IF(MID('COVER SHEET'!$I$18,6,10)=\"june\",\"0630\"))","v":"20241231"},{"$f":"+'Outgoing Remittances (Volume)'!E51","v":0}]
["CMREM_11510","TD",{"$f":"+'Outgoing Remittances (Volume)'!$E$5","v":"20240930"},{"$f":"+'COVER SHEET'!$D$12","v":0},11510,{"$f":"'COVER SHEET'!$D$16&IF(MID('COVER SHEET'!$I$18,6,10)=\"december\",\"1231\",IF(MID('COVER SHEET'!$I$18,6,10)=\"june\",\"0630\"))","v":"20241231"},{"$f":"+'Outgoing Remittances (Volume)'!E52","v":0}]
["CMREM_11510","CL",{"$f":"+'Outgoing Remittances (Volume)'!$E$5","v":"20240930"},{"$f":"+'COVER SHEET'!$D$12","v":0},11510,{"$f":"'COVER SHEET'!$D$16&IF(MID('COVER SHEET'!$I$18,6,10)=\"december\",\"1231\",IF(MID('COVER SHEET'!$I$18,6,10)=\"june\",\"0630\"))","v":"20241231"},{"$f":"+'Outgoing Remittances (Volume)'!E53","v":0}]
["CMREM_11510","CN",{"$f":"+'Outgoing Remittances (Volume)'!$E$5","v":"20240930"},{"$f":"+'COVER SHEET'!$D$12","v":0},11510,{"$f":"'COVER SHEET'!$D$16&IF(MID('COVER SHEET'!$I$18,6,10)=\"december\",\"1231\",IF(MID('COVER SHEET'!$I$18,6,10)=\"june\",\"0630\"))","v":"20241231"},{"$f":"+'Outgoing Remittances (Volume)'!E54","v":0}]
["CMREM_11510","CX",{"$f":"+'Outgoing Remittances (Volume)'!$E$5","v":"20240930"},{"$f":"+'COVER SHEET'!$D$12","v":0},11510,{"$f":"'COVER SHEET'!$D$16&IF(MID('COVER SHEET'!$I$18,6,10)=\"december\",\"1231\",IF(MID('COVER SHEET'!$I$18,6,10)=\"june\",\"0630\"))","v":"20241231"},{"$f":"+'Outgoing Remittances (Volume)'!E55","v":0}]
["CMREM_11510","CC",{"$f":"+'Outgoing Remittances (Volume)'!$E$5","v":"20240930"},{"$f":"+'COVER SHEET'!$D$12","v":0},11510,{"$f":"'COVER SHEET'!$D$16&IF(MID('COVER SHEET'!$I$18,6,10)=\"december\",\"1231\",IF(MID('COVER SHEET'!$I$18,6,10)=\"june\",\"0630\"))","v":"20241231"},{"$f":"+'Outgoing Remittances (Volume)'!E56","v":0}]
["CMREM_11510","CO",{"$f":"+'Outgoing Remittances (Volume)'!$E$5","v":"20240930"},{"$f":"+'COVER SHEET'!$D$12","v":0},11510,{"$f":"'COVER SHEET'!$D$16&IF(MID('COVER SHEET'!$I$18,6,10)=\"december\",\"1231\",IF(MID('COVER SHEET'!$I$18,6,10)=\"june\",\"0630\"))","v":"20241231"},{"$f":"+'Outgoing Remittances (Volume)'!E57","v":0}]
["CMREM_11510","KM",{"$f":"+'Outgoing Remittances (Volume)'!$E$5","v":"20240930"},{"$f":"+'COVER SHEET'!$D$12","v":0},11510,{"$f":"'COVER SHEET'!$D$16&IF(MID('COVER SHEET'!$I$18,6,10)=\"december\",\"1231\",IF(MID('COVER SHEET'!$I$18,6,10)=\"june\",\"0630\"))","v":"20241231"},{"$f":"+'Outgoing Remittances (Volume)'!E58","v":0}]
["CMREM_11510","CG",{"$f":"+'Outgoing Remittances (Volume)'!$E$5","v":"20240930"},{"$f":"+'COVER SHEET'!$D$12","v":0},11510,{"$f":"'COVER SHEET'!$D$16&IF(MID('COVER SHEET'!$I$18,6,10)=\"december\",\"1231\",IF(MID('COVER SHEET'!$I$18,6,10)=\"june\",\"0630\"))","v":"20241231"},{"$f":"+'Outgoing Remittances (Volume)'!E59","v":0}]
["CMREM_11510","CD",{"$f":"+'Outgoing Remittances (Volume)'!$E$5","v":"20240930"},{"$f":"+'COVER SHEET'!$D$12","v":0},11510,{"$f":"'COVER SHEET'!$D$16&IF(MID('COVER SHEET'!$I$18,6,10)=\"december\",\"1231\",IF(MID('COVER SHEET'!$I$18,6,10)=\"june\",\"0630\"))","v":"20241231"},{"$f":"+'Outgoing Remittances (Volume)'!E60","v":0}]
["CMREM_11510","CK",{"$f":"+'Outgoing Remittances (Volume)'!$E$5","v":"20240930"},{"$f":"+'COVER SHEET'!$D$12","v":0},11510,{"$f":"'COVER SHEET'!$D$16&IF(MID('COVER SHEET'!$I$18,6,10)=\"december\",\"1231\",IF(MID('COVER SHEET'!$I$18,6,10)=\"june\",\"0630\"))","v":"20241231"},{"$f":"+'Outgoing Remittances (Volume)'!E61","v":0}]
["CMREM_11510","CR",{"$f":"+'Outgoing Remittances (Volume)'!$E$5","v":"20240930"},{"$f":"+'COVER SHEET'!$D$12","v":0},11510,{"$f":"'COVER SHEET'!$D$16&IF(MID('COVER SHEET'!$I$18,6,10)=\"december\",\"1231\",IF(MID('COVER SHEET'!$I$18,6,10)=\"june\",\"0630\"))","v":"20241231"},{"$f":"+'Outgoing Remittances (Volume)'!E62","v":0}]
["CMREM_11510","HR",{"$f":"+'Outgoing Remittances (Volume)'!$E$5","v":"20240930"},{"$f":"+'COVER SHEET'!$D$12","v":0},11510,{"$f":"'COVER SHEET'!$D$16&IF(MID('COVER SHEET'!$I$18,6,10)=\"december\",\"1231\",IF(MID('COVER SHEET'!$I$18,6,10)=\"june\",\"0630\"))","v":"20241231"},{"$f":"+'Outgoing Remittances (Volume)'!E63","v":0}]
["CMREM_11510","CU",{"$f":"+'Outgoing Remittances (Volume)'!$E$5","v":"20240930"},{"$f":"+'COVER SHEET'!$D$12","v":0},11510,{"$f":"'COVER SHEET'!$D$16&IF(MID('COVER SHEET'!$I$18,6,10)=\"december\",\"1231\",IF(MID('COVER SHEET'!$I$18,6,10)=\"june\",\"0630\"))","v":"20241231"},{"$f":"+'Outgoing Remittances (Volume)'!E64","v":0}]
["CMREM_11510","CW",{"$f":"+'Outgoing Remittances (Volume)'!$E$5","v":"20240930"},{"$f":"+'COVER SHEET'!$D$12","v":0},11510,{"$f":"'COVER SHEET'!$D$16&IF(MID('COVER SHEET'!$I$18,6,10)=\"december\",\"1231\",IF(MID('COVER SHEET'!$I$18,6,10)=\"june\",\"0630\"))","v":"20241231"},{"$f":"+'Outgoing Remittances (Volume)'!E65","v":0}]
["CMREM_11510","CY",{"$f":"+'Outgoing Remittances (Volume)'!$E$5","v":"20240930"},{"$f":"+'COVER SHEET'!$D$12","v":0},11510,{"$f":"'COVER SHEET'!$D$16&IF(MID('COVER SHEET'!$I$18,6,10)=\"december\",\"1231\",IF(MID('COVER SHEET'!$I$18,6,10)=\"june\",\"0630\"))","v":"20241231"},{"$f":"+'Outgoing Remittances (Volume)'!E66","v":0}]
["CMREM_11510","CZ",{"$f":"+'Outgoing Remittances (Volume)'!$E$5","v":"20240930"},{"$f":"+'COVER SHEET'!$D$12","v":0},11510,{"$f":"'COVER SHEET'!$D$16&IF(MID('COVER SHEET'!$I$18,6,10)=\"december\",\"1231\",IF(MID('COVER SHEET'!$I$18,6,10)=\"june\",\"0630\"))","v":"20241231"},{"$f":"+'Outgoing Remittances (Volume)'!E67","v":0}]
["CMREM_11510","DK",{"$f":"+'Outgoing Remittances (Volume)'!$E$5","v":"20240930"},{"$f":"+'COVER SHEET'!$D$12","v":0},11510,{"$f":"'COVER SHEET'!$D$16&IF(MID('COVER SHEET'!$I$18,6,10)=\"december\",\"1231\",IF(MID('COVER SHEET'!$I$18,6,10)=\"june\",\"0630\"))","v":"20241231"},{"$f":"+'Outgoing Remittances (Volume)'!E68","v":0}]
["CMREM_11510","DJ",{"$f":"+'Outgoing Remittances (Volume)'!$E$5","v":"20240930"},{"$f":"+'COVER SHEET'!$D$12","v":0},11510,{"$f":"'COVER SHEET'!$D$16&IF(MID('COVER SHEET'!$I$18,6,10)=\"december\",\"1231\",IF(MID('COVER SHEET'!$I$18,6,10)=\"june\",\"0630\"))","v":"20241231"},{"$f":"+'Outgoing Remittances (Volume)'!E69","v":0}]
["CMREM_11510","DM",{"$f":"+'Outgoing Remittances (Volume)'!$E$5","v":"20240930"},{"$f":"+'COVER SHEET'!$D$12","v":0},11510,{"$f":"'COVER SHEET'!$D$16&IF(MID('COVER SHEET'!$I$18,6,10)=\"december\",\"1231\",IF(MID('COVER SHEET'!$I$18,6,10)=\"june\",\"0630\"))","v":"20241231"},{"$f":"+'Outgoing Remittances (Volume)'!E70","v":0}]
["CMREM_11510","DO",{"$f":"+'Outgoing Remittances (Volume)'!$E$5","v":"20240930"},{"$f":"+'COVER SHEET'!$D$12","v":0},11510,{"$f":"'COVER SHEET'!$D$16&IF(MID('COVER SHEET'!$I$18,6,10)=\"december\",\"1231\",IF(MID('COVER SHEET'!$I$18,6,10)=\"june\",\"0630\"))","v":"20241231"},{"$f":"+'Outgoing Remittances (Volume)'!E71","v":0}]
["CMREM_11510","TL",{"$f":"+'Outgoing Remittances (Volume)'!$E$5","v":"20240930"},{"$f":"+'COVER SHEET'!$D$12","v":0},11510,{"$f":"'COVER SHEET'!$D$16&IF(MID('COVER SHEET'!$I$18,6,10)=\"december\",\"1231\",IF(MID('COVER SHEET'!$I$18,6,10)=\"june\",\"0630\"))","v":"20241231"},{"$f":"+'Outgoing Remittances (Volume)'!E72","v":0}]
["CMREM_11510","EC",{"$f":"+'Outgoing Remittances (Volume)'!$E$5","v":"20240930"},{"$f":"+'COVER SHEET'!$D$12","v":0},11510,{"$f":"'COVER SHEET'!$D$16&IF(MID('COVER SHEET'!$I$18,6,10)=\"december\",\"1231\",IF(MID('COVER SHEET'!$I$18,6,10)=\"june\",\"0630\"))","v":"20241231"},{"$f":"+'Outgoing Remittances (Volume)'!E73","v":0}]
["CMREM_11510","EG",{"$f":"+'Outgoing Remittances (Volume)'!$E$5","v":"20240930"},{"$f":"+'COVER SHEET'!$D$12","v":0},11510,{"$f":"'COVER SHEET'!$D$16&IF(MID('COVER SHEET'!$I$18,6,10)=\"december\",\"1231\",IF(MID('COVER SHEET'!$I$18,6,10)=\"june\",\"0630\"))","v":"20241231"},{"$f":"+'Outgoing Remittances (Volume)'!E74","v":0}]
["CMREM_11510","SV",{"$f":"+'Outgoing Remittances (Volume)'!$E$5","v":"20240930"},{"$f":"+'COVER SHEET'!$D$12","v":0},11510,{"$f":"'COVER SHEET'!$D$16&IF(MID('COVER SHEET'!$I$18,6,10)=\"december\",\"1231\",IF(MID('COVER SHEET'!$I$18,6,10)=\"june\",\"0630\"))","v":"20241231"},{"$f":"+'Outgoing Remittances (Volume)'!E75","v":0}]
["CMREM_11510","GQ",{"$f":"+'Outgoing Remittances (Volume)'!$E$5","v":"20240930"},{"$f":"+'COVER SHEET'!$D$12","v":0},11510,{"$f":"'COVER SHEET'!$D$16&IF(MID('COVER SHEET'!$I$18,6,10)=\"december\",\"1231\",IF(MID('COVER SHEET'!$I$18,6,10)=\"june\",\"0630\"))","v":"20241231"},{"$f":"+'Outgoing Remittances (Volume)'!E76","v":0}]
["CMREM_11510","ER",{"$f":"+'Outgoing Remittances (Volume)'!$E$5","v":"20240930"},{"$f":"+'COVER SHEET'!$D$12","v":0},11510,{"$f":"'COVER SHEET'!$D$16&IF(MID('COVER SHEET'!$I$18,6,10)=\"december\",\"1231\",IF(MID('COVER SHEET'!$I$18,6,10)=\"june\",\"0630\"))","v":"20241231"},{"$f":"+'Outgoing Remittances (Volume)'!E77","v":0}]
["CMREM_11510","EE",{"$f":"+'Outgoing Remittances (Volume)'!$E$5","v":"20240930"},{"$f":"+'COVER SHEET'!$D$12","v":0},11510,{"$f":"'COVER SHEET'!$D$16&IF(MID('COVER SHEET'!$I$18,6,10)=\"december\",\"1231\",IF(MID('COVER SHEET'!$I$18,6,10)=\"june\",\"0630\"))","v":"20241231"},{"$f":"+'Outgoing Remittances (Volume)'!E78","v":0}]
["CMREM_11510","ET",{"$f":"+'Outgoing Remittances (Volume)'!$E$5","v":"20240930"},{"$f":"+'COVER SHEET'!$D$12","v":0},11510,{"$f":"'COVER SHEET'!$D$16&IF(MID('COVER SHEET'!$I$18,6,10)=\"december\",\"1231\",IF(MID('COVER SHEET'!$I$18,6,10)=\"june\",\"0630\"))","v":"20241231"},{"$f":"+'Outgoing Remittances (Volume)'!E79","v":0}]
["CMREM_11510","FK",{"$f":"+'Outgoing Remittances (Volume)'!$E$5","v":"20240930"},{"$f":"+'COVER SHEET'!$D$12","v":0},11510,{"$f":"'COVER SHEET'!$D$16&IF(MID('COVER SHEET'!$I$18,6,10)=\"december\",\"1231\",IF(MID('COVER SHEET'!$I$18,6,10)=\"june\",\"0630\"))","v":"20241231"},{"$f":"+'Outgoing Remittances (Volume)'!E80","v":0}]
["CMREM_11510","FO",{"$f":"+'Outgoing Remittances (Volume)'!$E$5","v":"20240930"},{"$f":"+'COVER SHEET'!$D$12","v":0},11510,{"$f":"'COVER SHEET'!$D$16&IF(MID('COVER SHEET'!$I$18,6,10)=\"december\",\"1231\",IF(MID('COVER SHEET'!$I$18,6,10)=\"june\",\"0630\"))","v":"20241231"},{"$f":"+'Outgoing Remittances (Volume)'!E81","v":0}]
["CMREM_11510","FJ",{"$f":"+'Outgoing Remittances (Volume)'!$E$5","v":"20240930"},{"$f":"+'COVER SHEET'!$D$12","v":0},11510,{"$f":"'COVER SHEET'!$D$16&IF(MID('COVER SHEET'!$I$18,6,10)=\"december\",\"1231\",IF(MID('COVER SHEET'!$I$18,6,10)=\"june\",\"0630\"))","v":"20241231"},{"$f":"+'Outgoing Remittances (Volume)'!E82","v":0}]
["CMREM_11510","FI",{"$f":"+'Outgoing Remittances (Volume)'!$E$5","v":"20240930"},{"$f":"+'COVER SHEET'!$D$12","v":0},11510,{"$f":"'COVER SHEET'!$D$16&IF(MID('COVER SHEET'!$I$18,6,10)=\"december\",\"1231\",IF(MID('COVER SHEET'!$I$18,6,10)=\"june\",\"0630\"))","v":"20241231"},{"$f":"+'Outgoing Remittances (Volume)'!E83","v":0}]
["CMREM_11510","FR",{"$f":"+'Outgoing Remittances (Volume)'!$E$5","v":"20240930"},{"$f":"+'COVER SHEET'!$D$12","v":0},11510,{"$f":"'COVER SHEET'!$D$16&IF(MID('COVER SHEET'!$I$18,6,10)=\"december\",\"1231\",IF(MID('COVER SHEET'!$I$18,6,10)=\"june\",\"0630\"))","v":"20241231"},{"$f":"+'Outgoing Remittances (Volume)'!E84","v":0}]
["CMREM_11510","PF",{"$f":"+'Outgoing Remittances (Volume)'!$E$5","v":"20240930"},{"$f":"+'COVER SHEET'!$D$12","v":0},11510,{"$f":"'COVER SHEET'!$D$16&IF(MID('COVER SHEET'!$I$18,6,10)=\"december\",\"1231\",IF(MID('COVER SHEET'!$I$18,6,10)=\"june\",\"0630\"))","v":"20241231"},{"$f":"+'Outgoing Remittances (Volume)'!E85","v":0}]
["CMREM_11510","TF",{"$f":"+'Outgoing Remittances (Volume)'!$E$5","v":"20240930"},{"$f":"+'COVER SHEET'!$D$12","v":0},11510,{"$f":"'COVER SHEET'!$D$16&IF(MID('COVER SHEET'!$I$18,6,10)=\"december\",\"1231\",IF(MID('COVER SHEET'!$I$18,6,10)=\"june\",\"0630\"))","v":"20241231"},{"$f":"+'Outgoing Remittances (Volume)'!E86","v":0}]
["CMREM_11510","GA",{"$f":"+'Outgoing Remittances (Volume)'!$E$5","v":"20240930"},{"$f":"+'COVER SHEET'!$D$12","v":0},11510,{"$f":"'COVER SHEET'!$D$16&IF(MID('COVER SHEET'!$I$18,6,10)=\"december\",\"1231\",IF(MID('COVER SHEET'!$I$18,6,10)=\"june\",\"0630\"))","v":"20241231"},{"$f":"+'Outgoing Remittances (Volume)'!E87","v":0}]
["CMREM_11510","GM",{"$f":"+'Outgoing Remittances (Volume)'!$E$5","v":"20240930"},{"$f":"+'COVER SHEET'!$D$12","v":0},11510,{"$f":"'COVER SHEET'!$D$16&IF(MID('COVER SHEET'!$I$18,6,10)=\"december\",\"1231\",IF(MID('COVER SHEET'!$I$18,6,10)=\"june\",\"0630\"))","v":"20241231"},{"$f":"+'Outgoing Remittances (Volume)'!E88","v":0}]
["CMREM_11510","GE",{"$f":"+'Outgoing Remittances (Volume)'!$E$5","v":"20240930"},{"$f":"+'COVER SHEET'!$D$12","v":0},11510,{"$f":"'COVER SHEET'!$D$16&IF(MID('COVER SHEET'!$I$18,6,10)=\"december\",\"1231\",IF(MID('COVER SHEET'!$I$18,6,10)=\"june\",\"0630\"))","v":"20241231"},{"$f":"+'Outgoing Remittances (Volume)'!E89","v":0}]
["CMREM_11510","DE",{"$f":"+'Outgoing Remittances (Volume)'!$E$5","v":"20240930"},{"$f":"+'COVER SHEET'!$D$12","v":0},11510,{"$f":"'COVER SHEET'!$D$16&IF(MID('COVER SHEET'!$I$18,6,10)=\"december\",\"1231\",IF(MID('COVER SHEET'!$I$18,6,10)=\"june\",\"0630\"))","v":"20241231"},{"$f":"+'Outgoing Remittances (Volume)'!E90","v":0}]
["CMREM_11510","GH",{"$f":"+'Outgoing Remittances (Volume)'!$E$5","v":"20240930"},{"$f":"+'COVER SHEET'!$D$12","v":0},11510,{"$f":"'COVER SHEET'!$D$16&IF(MID('COVER SHEET'!$I$18,6,10)=\"december\",\"1231\",IF(MID('COVER SHEET'!$I$18,6,10)=\"june\",\"0630\"))","v":"20241231"},{"$f":"+'Outgoing Remittances (Volume)'!E91","v":0}]
["CMREM_11510","GI",{"$f":"+'Outgoing Remittances (Volume)'!$E$5","v":"20240930"},{"$f":"+'COVER SHEET'!$D$12","v":0},11510,{"$f":"'COVER SHEET'!$D$16&IF(MID('COVER SHEET'!$I$18,6,10)=\"december\",\"1231\",IF(MID('COVER SHEET'!$I$18,6,10)=\"june\",\"0630\"))","v":"20241231"},{"$f":"+'Outgoing Remittances (Volume)'!E92","v":0}]
["CMREM_11510","GR",{"$f":"+'Outgoing Remittances (Volume)'!$E$5","v":"20240930"},{"$f":"+'COVER SHEET'!$D$12","v":0},11510,{"$f":"'COVER SHEET'!$D$16&IF(MID('COVER SHEET'!$I$18,6,10)=\"december\",\"1231\",IF(MID('COVER SHEET'!$I$18,6,10)=\"june\",\"0630\"))","v":"20241231"},{"$f":"+'Outgoing Remittances (Volume)'!E93","v":0}]
["CMREM_11510","GL",{"$f":"+'Outgoing Remittances (Volume)'!$E$5","v":"20240930"},{"$f":"+'COVER SHEET'!$D$12","v":0},11510,{"$f":"'COVER SHEET'!$D$16&IF(MID('COVER SHEET'!$I$18,6,10)=\"december\",\"1231\",IF(MID('COVER SHEET'!$I$18,6,10)=\"june\",\"0630\"))","v":"20241231"},{"$f":"+'Outgoing Remittances (Volume)'!E94","v":0}]
["CMREM_11510","GD",{"$f":"+'Outgoing Remittances (Volume)'!$E$5","v":"20240930"},{"$f":"+'COVER SHEET'!$D$12","v":0},11510,{"$f":"'COVER SHEET'!$D$16&IF(MID('COVER SHEET'!$I$18,6,10)=\"december\",\"1231\",IF(MID('COVER SHEET'!$I$18,6,10)=\"june\",\"0630\"))","v":"20241231"},{"$f":"+'Outgoing Remittances (Volume)'!E95","v":0}]
["CMREM_11510","GU",{"$f":"+'Outgoing Remittances (Volume)'!$E$5","v":"20240930"},{"$f":"+'COVER SHEET'!$D$12","v":0},11510,{"$f":"'COVER SHEET'!$D$16&IF(MID('COVER SHEET'!$I$18,6,10)=\"december\",\"1231\",IF(MID('COVER SHEET'!$I$18,6,10)=\"june\",\"0630\"))","v":"20241231"},{"$f":"+'Outgoing Remittances (Volume)'!E96","v":0}]
["CMREM_11510","GT",{"$f":"+'Outgoing Remittances (Volume)'!$E$5","v":"20240930"},{"$f":"+'COVER SHEET'!$D$12","v":0},11510,{"$f":"'COVER SHEET'!$D$16&IF(MID('COVER SHEET'!$I$18,6,10)=\"december\",\"1231\",IF(MID('COVER SHEET'!$I$18,6,10)=\"june\",\"0630\"))","v":"20241231"},{"$f":"+'Outgoing Remittances (Volume)'!E97","v":0}]
["CMREM_11510","GG",{"$f":"+'Outgoing Remittances (Volume)'!$E$5","v":"20240930"},{"$f":"+'COVER SHEET'!$D$12","v":0},11510,{"$f":"'COVER SHEET'!$D$16&IF(MID('COVER SHEET'!$I$18,6,10)=\"december\",\"1231\",IF(MID('COVER SHEET'!$I$18,6,10)=\"june\",\"0630\"))","v":"20241231"},{"$f":"+'Outgoing Remittances (Volume)'!E98","v":0}]
["CMREM_11510","GN",{"$f":"+'Outgoing Remittances (Volume)'!$E$5","v":"20240930"},{"$f":"+'COVER SHEET'!$D$12","v":0},11510,{"$f":"'COVER SHEET'!$D$16&IF(MID('COVER SHEET'!$I$18,6,10)=\"december\",\"1231\",IF(MID('COVER SHEET'!$I$18,6,10)=\"june\",\"0630\"))","v":"20241231"},{"$f":"+'Outgoing Remittances (Volume)'!E99","v":0}]
["CMREM_11510","GW",{"$f":"+'Outgoing Remittances (Volume)'!$E$5","v":"20240930"},{"$f":"+'COVER SHEET'!$D$12","v":0},11510,{"$f":"'COVER SHEET'!$D$16&IF(MID('COVER SHEET'!$I$18,6,10)=\"december\",\"1231\",IF(MID('COVER SHEET'!$I$18,6,10)=\"june\",\"0630\"))","v":"20241231"},{"$f":"+'Outgoing Remittances (Volume)'!E100","v":0}]
["CMREM_11510","GY",{"$f":"+'Outgoing Remittances (Volume)'!$E$5","v":"20240930"},{"$f":"+'COVER SHEET'!$D$12","v":0},11510,{"$f":"'COVER SHEET'!$D$16&IF(MID('COVER SHEET'!$I$18,6,10)=\"december\",\"1231\",IF(MID('COVER SHEET'!$I$18,6,10)=\"june\",\"0630\"))","v":"20241231"},{"$f":"+'Outgoing Remittances (Volume)'!E101","v":0}]
["CMREM_11510","HT",{"$f":"+'Outgoing Remittances (Volume)'!$E$5","v":"20240930"},{"$f":"+'COVER SHEET'!$D$12","v":0},11510,{"$f":"'COVER SHEET'!$D$16&IF(MID('COVER SHEET'!$I$18,6,10)=\"december\",\"1231\",IF(MID('COVER SHEET'!$I$18,6,10)=\"june\",\"0630\"))","v":"20241231"},{"$f":"+'Outgoing Remittances (Volume)'!E102","v":0}]
["CMREM_11510","HM",{"$f":"+'Outgoing Remittances (Volume)'!$E$5","v":"20240930"},{"$f":"+'COVER SHEET'!$D$12","v":0},11510,{"$f":"'COVER SHEET'!$D$16&IF(MID('COVER SHEET'!$I$18,6,10)=\"december\",\"1231\",IF(MID('COVER SHEET'!$I$18,6,10)=\"june\",\"0630\"))","v":"20241231"},{"$f":"+'Outgoing Remittances (Volume)'!E103","v":0}]
["CMREM_11510","VA",{"$f":"+'Outgoing Remittances (Volume)'!$E$5","v":"20240930"},{"$f":"+'COVER SHEET'!$D$12","v":0},11510,{"$f":"'COVER SHEET'!$D$16&IF(MID('COVER SHEET'!$I$18,6,10)=\"december\",\"1231\",IF(MID('COVER SHEET'!$I$18,6,10)=\"june\",\"0630\"))","v":"20241231"},{"$f":"+'Outgoing Remittances (Volume)'!E104","v":0}]
["CMREM_11510","HN",{"$f":"+'Outgoing Remittances (Volume)'!$E$5","v":"20240930"},{"$f":"+'COVER SHEET'!$D$12","v":0},11510,{"$f":"'COVER SHEET'!$D$16&IF(MID('COVER SHEET'!$I$18,6,10)=\"december\",\"1231\",IF(MID('COVER SHEET'!$I$18,6,10)=\"june\",\"0630\"))","v":"20241231"},{"$f":"+'Outgoing Remittances (Volume)'!E105","v":0}]
["CMREM_11510","HK",{"$f":"+'Outgoing Remittances (Volume)'!$E$5","v":"20240930"},{"$f":"+'COVER SHEET'!$D$12","v":0},11510,{"$f":"'COVER SHEET'!$D$16&IF(MID('COVER SHEET'!$I$18,6,10)=\"december\",\"1231\",IF(MID('COVER SHEET'!$I$18,6,10)=\"june\",\"0630\"))","v":"20241231"},{"$f":"+'Outgoing Remittances (Volume)'!E106","v":0}]
["CMREM_11510","HU",{"$f":"+'Outgoing Remittances (Volume)'!$E$5","v":"20240930"},{"$f":"+'COVER SHEET'!$D$12","v":0},11510,{"$f":"'COVER SHEET'!$D$16&IF(MID('COVER SHEET'!$I$18,6,10)=\"december\",\"1231\",IF(MID('COVER SHEET'!$I$18,6,10)=\"june\",\"0630\"))","v":"20241231"},{"$f":"+'Outgoing Remittances (Volume)'!E107","v":0}]
["CMREM_11510","IS",{"$f":"+'Outgoing Remittances (Volume)'!$E$5","v":"20240930"},{"$f":"+'COVER SHEET'!$D$12","v":0},11510,{"$f":"'COVER SHEET'!$D$16&IF(MID('COVER SHEET'!$I$18,6,10)=\"december\",\"1231\",IF(MID('COVER SHEET'!$I$18,6,10)=\"june\",\"0630\"))","v":"20241231"},{"$f":"+'Outgoing Remittances (Volume)'!E108","v":0}]
["CMREM_11510","IN",{"$f":"+'Outgoing Remittances (Volume)'!$E$5","v":"20240930"},{"$f":"+'COVER SHEET'!$D$12","v":0},11510,{"$f":"'COVER SHEET'!$D$16&IF(MID('COVER SHEET'!$I$18,6,10)=\"december\",\"1231\",IF(MID('COVER SHEET'!$I$18,6,10)=\"june\",\"0630\"))","v":"20241231"},{"$f":"+'Outgoing Remittances (Volume)'!E109","v":0}]
["CMREM_11510","ID",{"$f":"+'Outgoing Remittances (Volume)'!$E$5","v":"20240930"},{"$f":"+'COVER SHEET'!$D$12","v":0},11510,{"$f":"'COVER SHEET'!$D$16&IF(MID('COVER SHEET'!$I$18,6,10)=\"december\",\"1231\",IF(MID('COVER SHEET'!$I$18,6,10)=\"june\",\"0630\"))","v":"20241231"},{"$f":"+'Outgoing Remittances (Volume)'!E110","v":0}]
["CMREM_11510","IR",{"$f":"+'Outgoing Remittances (Volume)'!$E$5","v":"20240930"},{"$f":"+'COVER SHEET'!$D$12","v":0},11510,{"$f":"'COVER SHEET'!$D$16&IF(MID('COVER SHEET'!$I$18,6,10)=\"december\",\"1231\",IF(MID('COVER SHEET'!$I$18,6,10)=\"june\",\"0630\"))","v":"20241231"},{"$f":"+'Outgoing Remittances (Volume)'!E111","v":0}]
["CMREM_11510","IQ",{"$f":"+'Outgoing Remittances (Volume)'!$E$5","v":"20240930"},{"$f":"+'COVER SHEET'!$D$12","v":0},11510,{"$f":"'COVER SHEET'!$D$16&IF(MID('COVER SHEET'!$I$18,6,10)=\"december\",\"1231\",IF(MID('COVER SHEET'!$I$18,6,10)=\"june\",\"0630\"))","v":"20241231"},{"$f":"+'Outgoing Remittances (Volume)'!E112","v":0}]
["CMREM_11510","IE",{"$f":"+'Outgoing Remittances (Volume)'!$E$5","v":"20240930"},{"$f":"+'COVER SHEET'!$D$12","v":0},11510,{"$f":"'COVER SHEET'!$D$16&IF(MID('COVER SHEET'!$I$18,6,10)=\"december\",\"1231\",IF(MID('COVER SHEET'!$I$18,6,10)=\"june\",\"0630\"))","v":"20241231"},{"$f":"+'Outgoing Remittances (Volume)'!E113","v":0}]
["CMREM_11510","IM",{"$f":"+'Outgoing Remittances (Volume)'!$E$5","v":"20240930"},{"$f":"+'COVER SHEET'!$D$12","v":0},11510,{"$f":"'COVER SHEET'!$D$16&IF(MID('COVER SHEET'!$I$18,6,10)=\"december\",\"1231\",IF(MID('COVER SHEET'!$I$18,6,10)=\"june\",\"0630\"))","v":"20241231"},{"$f":"+'Outgoing Remittances (Volume)'!E114","v":0}]
["CMREM_11510","IL",{"$f":"+'Outgoing Remittances (Volume)'!$E$5","v":"20240930"},{"$f":"+'COVER SHEET'!$D$12","v":0},11510,{"$f":"'COVER SHEET'!$D$16&IF(MID('COVER SHEET'!$I$18,6,10)=\"december\",\"1231\",IF(MID('COVER SHEET'!$I$18,6,10)=\"june\",\"0630\"))","v":"20241231"},{"$f":"+'Outgoing Remittances (Volume)'!E115","v":0}]
["CMREM_11510","IT",{"$f":"+'Outgoing Remittances (Volume)'!$E$5","v":"20240930"},{"$f":"+'COVER SHEET'!$D$12","v":0},11510,{"$f":"'COVER SHEET'!$D$16&IF(MID('COVER SHEET'!$I$18,6,10)=\"december\",\"1231\",IF(MID('COVER SHEET'!$I$18,6,10)=\"june\",\"0630\"))","v":"20241231"},{"$f":"+'Outgoing Remittances (Volume)'!E116","v":0}]
["CMREM_11510","CI",{"$f":"+'Outgoing Remittances (Volume)'!$E$5","v":"20240930"},{"$f":"+'COVER SHEET'!$D$12","v":0},11510,{"$f":"'COVER SHEET'!$D$16&IF(MID('COVER SHEET'!$I$18,6,10)=\"december\",\"1231\",IF(MID('COVER SHEET'!$I$18,6,10)=\"june\",\"0630\"))","v":"20241231"},{"$f":"+'Outgoing Remittances (Volume)'!E117","v":0}]
["CMREM_11510","JM",{"$f":"+'Outgoing Remittances (Volume)'!$E$5","v":"20240930"},{"$f":"+'COVER SHEET'!$D$12","v":0},11510,{"$f":"'COVER SHEET'!$D$16&IF(MID('COVER SHEET'!$I$18,6,10)=\"december\",\"1231\",IF(MID('COVER SHEET'!$I$18,6,10)=\"june\",\"0630\"))","v":"20241231"},{"$f":"+'Outgoing Remittances (Volume)'!E118","v":0}]
["CMREM_11510","JP",{"$f":"+'Outgoing Remittances (Volume)'!$E$5","v":"20240930"},{"$f":"+'COVER SHEET'!$D$12","v":0},11510,{"$f":"'COVER SHEET'!$D$16&IF(MID('COVER SHEET'!$I$18,6,10)=\"december\",\"1231\",IF(MID('COVER SHEET'!$I$18,6,10)=\"june\",\"0630\"))","v":"20241231"},{"$f":"+'Outgoing Remittances (Volume)'!E119","v":0}]
["CMREM_11510","JE",{"$f":"+'Outgoing Remittances (Volume)'!$E$5","v":"20240930"},{"$f":"+'COVER SHEET'!$D$12","v":0},11510,{"$f":"'COVER SHEET'!$D$16&IF(MID('COVER SHEET'!$I$18,6,10)=\"december\",\"1231\",IF(MID('COVER SHEET'!$I$18,6,10)=\"june\",\"0630\"))","v":"20241231"},{"$f":"+'Outgoing Remittances (Volume)'!E120","v":0}]
["CMREM_11510","JO",{"$f":"+'Outgoing Remittances (Volume)'!$E$5","v":"20240930"},{"$f":"+'COVER SHEET'!$D$12","v":0},11510,{"$f":"'COVER SHEET'!$D$16&IF(MID('COVER SHEET'!$I$18,6,10)=\"december\",\"1231\",IF(MID('COVER SHEET'!$I$18,6,10)=\"june\",\"0630\"))","v":"20241231"},{"$f":"+'Outgoing Remittances (Volume)'!E121","v":0}]
["CMREM_11510","KZ",{"$f":"+'Outgoing Remittances (Volume)'!$E$5","v":"20240930"},{"$f":"+'COVER SHEET'!$D$12","v":0},11510,{"$f":"'COVER SHEET'!$D$16&IF(MID('COVER SHEET'!$I$18,6,10)=\"december\",\"1231\",IF(MID('COVER SHEET'!$I$18,6,10)=\"june\",\"0630\"))","v":"20241231"},{"$f":"+'Outgoing Remittances (Volume)'!E122","v":0}]
["CMREM_11510","KE",{"$f":"+'Outgoing Remittances (Volume)'!$E$5","v":"20240930"},{"$f":"+'COVER SHEET'!$D$12","v":0},11510,{"$f":"'COVER SHEET'!$D$16&IF(MID('COVER SHEET'!$I$18,6,10)=\"december\",\"1231\",IF(MID('COVER SHEET'!$I$18,6,10)=\"june\",\"0630\"))","v":"20241231"},{"$f":"+'Outgoing Remittances (Volume)'!E123","v":0}]
["CMREM_11510","KI",{"$f":"+'Outgoing Remittances (Volume)'!$E$5","v":"20240930"},{"$f":"+'COVER SHEET'!$D$12","v":0},11510,{"$f":"'COVER SHEET'!$D$16&IF(MID('COVER SHEET'!$I$18,6,10)=\"december\",\"1231\",IF(MID('COVER SHEET'!$I$18,6,10)=\"june\",\"0630\"))","v":"20241231"},{"$f":"+'Outgoing Remittances (Volume)'!E124","v":0}]
["CMREM_11510","KP",{"$f":"+'Outgoing Remittances (Volume)'!$E$5","v":"20240930"},{"$f":"+'COVER SHEET'!$D$12","v":0},11510,{"$f":"'COVER SHEET'!$D$16&IF(MID('COVER SHEET'!$I$18,6,10)=\"december\",\"1231\",IF(MID('COVER SHEET'!$I$18,6,10)=\"june\",\"0630\"))","v":"20241231"},{"$f":"+'Outgoing Remittances (Volume)'!E125","v":0}]
["CMREM_11510","KR",{"$f":"+'Outgoing Remittances (Volume)'!$E$5","v":"20240930"},{"$f":"+'COVER SHEET'!$D$12","v":0},11510,{"$f":"'COVER SHEET'!$D$16&IF(MID('COVER SHEET'!$I$18,6,10)=\"december\",\"1231\",IF(MID('COVER SHEET'!$I$18,6,10)=\"june\",\"0630\"))","v":"20241231"},{"$f":"+'Outgoing Remittances (Volume)'!E126","v":0}]
["CMREM_11510","XK",{"$f":"+'Outgoing Remittances (Volume)'!$E$5","v":"20240930"},{"$f":"+'COVER SHEET'!$D$12","v":0},11510,{"$f":"'COVER SHEET'!$D$16&IF(MID('COVER SHEET'!$I$18,6,10)=\"december\",\"1231\",IF(MID('COVER SHEET'!$I$18,6,10)=\"june\",\"0630\"))","v":"20241231"},{"$f":"+'Outgoing Remittances (Volume)'!E127","v":0}]
["CMREM_11510","KW",{"$f":"+'Outgoing Remittances (Volume)'!$E$5","v":"20240930"},{"$f":"+'COVER SHEET'!$D$12","v":0},11510,{"$f":"'COVER SHEET'!$D$16&IF(MID('COVER SHEET'!$I$18,6,10)=\"december\",\"1231\",IF(MID('COVER SHEET'!$I$18,6,10)=\"june\",\"0630\"))","v":"20241231"},{"$f":"+'Outgoing Remittances (Volume)'!E128","v":0}]
["CMREM_11510","KG",{"$f":"+'Outgoing Remittances (Volume)'!$E$5","v":"20240930"},{"$f":"+'COVER SHEET'!$D$12","v":0},11510,{"$f":"'COVER SHEET'!$D$16&IF(MID('COVER SHEET'!$I$18,6,10)=\"december\",\"1231\",IF(MID('COVER SHEET'!$I$18,6,10)=\"june\",\"0630\"))","v":"20241231"},{"$f":"+'Outgoing Remittances (Volume)'!E129","v":0}]
["CMREM_11510","LA",{"$f":"+'Outgoing Remittances (Volume)'!$E$5","v":"20240930"},{"$f":"+'COVER SHEET'!$D$12","v":0},11510,{"$f":"'COVER SHEET'!$D$16&IF(MID('COVER SHEET'!$I$18,6,10)=\"december\",\"1231\",IF(MID('COVER SHEET'!$I$18,6,10)=\"june\",\"0630\"))","v":"20241231"},{"$f":"+'Outgoing Remittances (Volume)'!E130","v":0}]
["CMREM_11510","LV",{"$f":"+'Outgoing Remittances (Volume)'!$E$5","v":"20240930"},{"$f":"+'COVER SHEET'!$D$12","v":0},11510,{"$f":"'COVER SHEET'!$D$16&IF(MID('COVER SHEET'!$I$18,6,10)=\"december\",\"1231\",IF(MID('COVER SHEET'!$I$18,6,10)=\"june\",\"0630\"))","v":"20241231"},{"$f":"+'Outgoing Remittances (Volume)'!E131","v":0}]
["CMREM_11510","LB",{"$f":"+'Outgoing Remittances (Volume)'!$E$5","v":"20240930"},{"$f":"+'COVER SHEET'!$D$12","v":0},11510,{"$f":"'COVER SHEET'!$D$16&IF(MID('COVER SHEET'!$I$18,6,10)=\"december\",\"1231\",IF(MID('COVER SHEET'!$I$18,6,10)=\"june\",\"0630\"))","v":"20241231"},{"$f":"+'Outgoing Remittances (Volume)'!E132","v":0}]
["CMREM_11510","LS",{"$f":"+'Outgoing Remittances (Volume)'!$E$5","v":"20240930"},{"$f":"+'COVER SHEET'!$D$12","v":0},11510,{"$f":"'COVER SHEET'!$D$16&IF(MID('COVER SHEET'!$I$18,6,10)=\"december\",\"1231\",IF(MID('COVER SHEET'!$I$18,6,10)=\"june\",\"0630\"))","v":"20241231"},{"$f":"+'Outgoing Remittances (Volume)'!E133","v":0}]
["CMREM_11510","LR",{"$f":"+'Outgoing Remittances (Volume)'!$E$5","v":"20240930"},{"$f":"+'COVER SHEET'!$D$12","v":0},11510,{"$f":"'COVER SHEET'!$D$16&IF(MID('COVER SHEET'!$I$18,6,10)=\"december\",\"1231\",IF(MID('COVER SHEET'!$I$18,6,10)=\"june\",\"0630\"))","v":"20241231"},{"$f":"+'Outgoing Remittances (Volume)'!E134","v":0}]
["CMREM_11510","LY",{"$f":"+'Outgoing Remittances (Volume)'!$E$5","v":"20240930"},{"$f":"+'COVER SHEET'!$D$12","v":0},11510,{"$f":"'COVER SHEET'!$D$16&IF(MID('COVER SHEET'!$I$18,6,10)=\"december\",\"1231\",IF(MID('COVER SHEET'!$I$18,6,10)=\"june\",\"0630\"))","v":"20241231"},{"$f":"+'Outgoing Remittances (Volume)'!E135","v":0}]
["CMREM_11510","LI",{"$f":"+'Outgoing Remittances (Volume)'!$E$5","v":"20240930"},{"$f":"+'COVER SHEET'!$D$12","v":0},11510,{"$f":"'COVER SHEET'!$D$16&IF(MID('COVER SHEET'!$I$18,6,10)=\"december\",\"1231\",IF(MID('COVER SHEET'!$I$18,6,10)=\"june\",\"0630\"))","v":"20241231"},{"$f":"+'Outgoing Remittances (Volume)'!E136","v":0}]
["CMREM_11510","LT",{"$f":"+'Outgoing Remittances (Volume)'!$E$5","v":"20240930"},{"$f":"+'COVER SHEET'!$D$12","v":0},11510,{"$f":"'COVER SHEET'!$D$16&IF(MID('COVER SHEET'!$I$18,6,10)=\"december\",\"1231\",IF(MID('COVER SHEET'!$I$18,6,10)=\"june\",\"0630\"))","v":"20241231"},{"$f":"+'Outgoing Remittances (Volume)'!E137","v":0}]
["CMREM_11510","LU",{"$f":"+'Outgoing Remittances (Volume)'!$E$5","v":"20240930"},{"$f":"+'COVER SHEET'!$D$12","v":0},11510,{"$f":"'COVER SHEET'!$D$16&IF(MID('COVER SHEET'!$I$18,6,10)=\"december\",\"1231\",IF(MID('COVER SHEET'!$I$18,6,10)=\"june\",\"0630\"))","v":"20241231"},{"$f":"+'Outgoing Remittances (Volume)'!E138","v":0}]
["CMREM_11510","MO",{"$f":"+'Outgoing Remittances (Volume)'!$E$5","v":"20240930"},{"$f":"+'COVER SHEET'!$D$12","v":0},11510,{"$f":"'COVER SHEET'!$D$16&IF(MID('COVER SHEET'!$I$18,6,10)=\"december\",\"1231\",IF(MID('COVER SHEET'!$I$18,6,10)=\"june\",\"0630\"))","v":"20241231"},{"$f":"+'Outgoing Remittances (Volume)'!E139","v":0}]
["CMREM_11510","MK",{"$f":"+'Outgoing Remittances (Volume)'!$E$5","v":"20240930"},{"$f":"+'COVER SHEET'!$D$12","v":0},11510,{"$f":"'COVER SHEET'!$D$16&IF(MID('COVER SHEET'!$I$18,6,10)=\"december\",\"1231\",IF(MID('COVER SHEET'!$I$18,6,10)=\"june\",\"0630\"))","v":"20241231"},{"$f":"+'Outgoing Remittances (Volume)'!E140","v":0}]
["CMREM_11510","MG",{"$f":"+'Outgoing Remittances (Volume)'!$E$5","v":"20240930"},{"$f":"+'COVER SHEET'!$D$12","v":0},11510,{"$f":"'COVER SHEET'!$D$16&IF(MID('COVER SHEET'!$I$18,6,10)=\"december\",\"1231\",IF(MID('COVER SHEET'!$I$18,6,10)=\"june\",\"0630\"))","v":"20241231"},{"$f":"+'Outgoing Remittances (Volume)'!E141","v":0}]
["CMREM_11510","MW",{"$f":"+'Outgoing Remittances (Volume)'!$E$5","v":"20240930"},{"$f":"+'COVER SHEET'!$D$12","v":0},11510,{"$f":"'COVER SHEET'!$D$16&IF(MID('COVER SHEET'!$I$18,6,10)=\"december\",\"1231\",IF(MID('COVER SHEET'!$I$18,6,10)=\"june\",\"0630\"))","v":"20241231"},{"$f":"+'Outgoing Remittances (Volume)'!E142","v":0}]
["CMREM_11510","MY",{"$f":"+'Outgoing Remittances (Volume)'!$E$5","v":"20240930"},{"$f":"+'COVER SHEET'!$D$12","v":0},11510,{"$f":"'COVER SHEET'!$D$16&IF(MID('COVER SHEET'!$I$18,6,10)=\"december\",\"1231\",IF(MID('COVER SHEET'!$I$18,6,10)=\"june\",\"0630\"))","v":"20241231"},{"$f":"+'Outgoing Remittances (Volume)'!E143","v":0}]
["CMREM_11510","MV",{"$f":"+'Outgoing Remittances (Volume)'!$E$5","v":"20240930"},{"$f":"+'COVER SHEET'!$D$12","v":0},11510,{"$f":"'COVER SHEET'!$D$16&IF(MID('COVER SHEET'!$I$18,6,10)=\"december\",\"1231\",IF(MID('COVER SHEET'!$I$18,6,10)=\"june\",\"0630\"))","v":"20241231"},{"$f":"+'Outgoing Remittances (Volume)'!E144","v":0}]
["CMREM_11510","ML",{"$f":"+'Outgoing Remittances (Volume)'!$E$5","v":"20240930"},{"$f":"+'COVER SHEET'!$D$12","v":0},11510,{"$f":"'COVER SHEET'!$D$16&IF(MID('COVER SHEET'!$I$18,6,10)=\"december\",\"1231\",IF(MID('COVER SHEET'!$I$18,6,10)=\"june\",\"0630\"))","v":"20241231"},{"$f":"+'Outgoing Remittances (Volume)'!E145","v":0}]
["CMREM_11510","MH",{"$f":"+'Outgoing Remittances (Volume)'!$E$5","v":"20240930"},{"$f":"+'COVER SHEET'!$D$12","v":0},11510,{"$f":"'COVER SHEET'!$D$16&IF(MID('COVER SHEET'!$I$18,6,10)=\"december\",\"1231\",IF(MID('COVER SHEET'!$I$18,6,10)=\"june\",\"0630\"))","v":"20241231"},{"$f":"+'Outgoing Remittances (Volume)'!E146","v":0}]
["CMREM_11510","MR",{"$f":"+'Outgoing Remittances (Volume)'!$E$5","v":"20240930"},{"$f":"+'COVER SHEET'!$D$12","v":0},11510,{"$f":"'COVER SHEET'!$D$16&IF(MID('COVER SHEET'!$I$18,6,10)=\"december\",\"1231\",IF(MID('COVER SHEET'!$I$18,6,10)=\"june\",\"0630\"))","v":"20241231"},{"$f":"+'Outgoing Remittances (Volume)'!E147","v":0}]
["CMREM_11510","MU",{"$f":"+'Outgoing Remittances (Volume)'!$E$5","v":"20240930"},{"$f":"+'COVER SHEET'!$D$12","v":0},11510,{"$f":"'COVER SHEET'!$D$16&IF(MID('COVER SHEET'!$I$18,6,10)=\"december\",\"1231\",IF(MID('COVER SHEET'!$I$18,6,10)=\"june\",\"0630\"))","v":"20241231"},{"$f":"+'Outgoing Remittances (Volume)'!E148","v":0}]
["CMREM_11510","MX",{"$f":"+'Outgoing Remittances (Volume)'!$E$5","v":"20240930"},{"$f":"+'COVER SHEET'!$D$12","v":0},11510,{"$f":"'COVER SHEET'!$D$16&IF(MID('COVER SHEET'!$I$18,6,10)=\"december\",\"1231\",IF(MID('COVER SHEET'!$I$18,6,10)=\"june\",\"0630\"))","v":"20241231"},{"$f":"+'Outgoing Remittances (Volume)'!E149","v":0}]
["CMREM_11510","FM",{"$f":"+'Outgoing Remittances (Volume)'!$E$5","v":"20240930"},{"$f":"+'COVER SHEET'!$D$12","v":0},11510,{"$f":"'COVER SHEET'!$D$16&IF(MID('COVER SHEET'!$I$18,6,10)=\"december\",\"1231\",IF(MID('COVER SHEET'!$I$18,6,10)=\"june\",\"0630\"))","v":"20241231"},{"$f":"+'Outgoing Remittances (Volume)'!E150","v":0}]
["CMREM_11510","MD",{"$f":"+'Outgoing Remittances (Volume)'!$E$5","v":"20240930"},{"$f":"+'COVER SHEET'!$D$12","v":0},11510,{"$f":"'COVER SHEET'!$D$16&IF(MID('COVER SHEET'!$I$18,6,10)=\"december\",\"1231\",IF(MID('COVER SHEET'!$I$18,6,10)=\"june\",\"0630\"))","v":"20241231"},{"$f":"+'Outgoing Remittances (Volume)'!E151","v":0}]
["CMREM_11510","MN",{"$f":"+'Outgoing Remittances (Volume)'!$E$5","v":"20240930"},{"$f":"+'COVER SHEET'!$D$12","v":0},11510,{"$f":"'COVER SHEET'!$D$16&IF(MID('COVER SHEET'!$I$18,6,10)=\"december\",\"1231\",IF(MID('COVER SHEET'!$I$18,6,10)=\"june\",\"0630\"))","v":"20241231"},{"$f":"+'Outgoing Remittances (Volume)'!E152","v":0}]
["CMREM_11510","ME",{"$f":"+'Outgoing Remittances (Volume)'!$E$5","v":"20240930"},{"$f":"+'COVER SHEET'!$D$12","v":0},11510,{"$f":"'COVER SHEET'!$D$16&IF(MID('COVER SHEET'!$I$18,6,10)=\"december\",\"1231\",IF(MID('COVER SHEET'!$I$18,6,10)=\"june\",\"0630\"))","v":"20241231"},{"$f":"+'Outgoing Remittances (Volume)'!E153","v":0}]
["CMREM_11510","MS",{"$f":"+'Outgoing Remittances (Volume)'!$E$5","v":"20240930"},{"$f":"+'COVER SHEET'!$D$12","v":0},11510,{"$f":"'COVER SHEET'!$D$16&IF(MID('COVER SHEET'!$I$18,6,10)=\"december\",\"1231\",IF(MID('COVER SHEET'!$I$18,6,10)=\"june\",\"0630\"))","v":"20241231"},{"$f":"+'Outgoing Remittances (Volume)'!E154","v":0}]
["CMREM_11510","MA",{"$f":"+'Outgoing Remittances (Volume)'!$E$5","v":"20240930"},{"$f":"+'COVER SHEET'!$D$12","v":0},11510,{"$f":"'COVER SHEET'!$D$16&IF(MID('COVER SHEET'!$I$18,6,10)=\"december\",\"1231\",IF(MID('COVER SHEET'!$I$18,6,10)=\"june\",\"0630\"))","v":"20241231"},{"$f":"+'Outgoing Remittances (Volume)'!E155","v":0}]
["CMREM_11510","MZ",{"$f":"+'Outgoing Remittances (Volume)'!$E$5","v":"20240930"},{"$f":"+'COVER SHEET'!$D$12","v":0},11510,{"$f":"'COVER SHEET'!$D$16&IF(MID('COVER SHEET'!$I$18,6,10)=\"december\",\"1231\",IF(MID('COVER SHEET'!$I$18,6,10)=\"june\",\"0630\"))","v":"20241231"},{"$f":"+'Outgoing Remittances (Volume)'!E156","v":0}]
["CMREM_11510","MM",{"$f":"+'Outgoing Remittances (Volume)'!$E$5","v":"20240930"},{"$f":"+'COVER SHEET'!$D$12","v":0},11510,{"$f":"'COVER SHEET'!$D$16&IF(MID('COVER SHEET'!$I$18,6,10)=\"december\",\"1231\",IF(MID('COVER SHEET'!$I$18,6,10)=\"june\",\"0630\"))","v":"20241231"},{"$f":"+'Outgoing Remittances (Volume)'!E157","v":0}]
["CMREM_11510","NA",{"$f":"+'Outgoing Remittances (Volume)'!$E$5","v":"20240930"},{"$f":"+'COVER SHEET'!$D$12","v":0},11510,{"$f":"'COVER SHEET'!$D$16&IF(MID('COVER SHEET'!$I$18,6,10)=\"december\",\"1231\",IF(MID('COVER SHEET'!$I$18,6,10)=\"june\",\"0630\"))","v":"20241231"},{"$f":"+'Outgoing Remittances (Volume)'!E158","v":0}]
["CMREM_11510","NR",{"$f":"+'Outgoing Remittances (Volume)'!$E$5","v":"20240930"},{"$f":"+'COVER SHEET'!$D$12","v":0},11510,{"$f":"'COVER SHEET'!$D$16&IF(MID('COVER SHEET'!$I$18,6,10)=\"december\",\"1231\",IF(MID('COVER SHEET'!$I$18,6,10)=\"june\",\"0630\"))","v":"20241231"},{"$f":"+'Outgoing Remittances (Volume)'!E159","v":0}]
["CMREM_11510","NP",{"$f":"+'Outgoing Remittances (Volume)'!$E$5","v":"20240930"},{"$f":"+'COVER SHEET'!$D$12","v":0},11510,{"$f":"'COVER SHEET'!$D$16&IF(MID('COVER SHEET'!$I$18,6,10)=\"december\",\"1231\",IF(MID('COVER SHEET'!$I$18,6,10)=\"june\",\"0630\"))","v":"20241231"},{"$f":"+'Outgoing Remittances (Volume)'!E160","v":0}]
["CMREM_11510","NL",{"$f":"+'Outgoing Remittances (Volume)'!$E$5","v":"20240930"},{"$f":"+'COVER SHEET'!$D$12","v":0},11510,{"$f":"'COVER SHEET'!$D$16&IF(MID('COVER SHEET'!$I$18,6,10)=\"december\",\"1231\",IF(MID('COVER SHEET'!$I$18,6,10)=\"june\",\"0630\"))","v":"20241231"},{"$f":"+'Outgoing Remittances (Volume)'!E161","v":0}]
["CMREM_11510","NC",{"$f":"+'Outgoing Remittances (Volume)'!$E$5","v":"20240930"},{"$f":"+'COVER SHEET'!$D$12","v":0},11510,{"$f":"'COVER SHEET'!$D$16&IF(MID('COVER SHEET'!$I$18,6,10)=\"december\",\"1231\",IF(MID('COVER SHEET'!$I$18,6,10)=\"june\",\"0630\"))","v":"20241231"},{"$f":"+'Outgoing Remittances (Volume)'!E162","v":0}]
["CMREM_11510","NZ",{"$f":"+'Outgoing Remittances (Volume)'!$E$5","v":"20240930"},{"$f":"+'COVER SHEET'!$D$12","v":0},11510,{"$f":"'COVER SHEET'!$D$16&IF(MID('COVER SHEET'!$I$18,6,10)=\"december\",\"1231\",IF(MID('COVER SHEET'!$I$18,6,10)=\"june\",\"0630\"))","v":"20241231"},{"$f":"+'Outgoing Remittances (Volume)'!E163","v":0}]
["CMREM_11510","NI",{"$f":"+'Outgoing Remittances (Volume)'!$E$5","v":"20240930"},{"$f":"+'COVER SHEET'!$D$12","v":0},11510,{"$f":"'COVER SHEET'!$D$16&IF(MID('COVER SHEET'!$I$18,6,10)=\"december\",\"1231\",IF(MID('COVER SHEET'!$I$18,6,10)=\"june\",\"0630\"))","v":"20241231"},{"$f":"+'Outgoing Remittances (Volume)'!E164","v":0}]
["CMREM_11510","NE",{"$f":"+'Outgoing Remittances (Volume)'!$E$5","v":"20240930"},{"$f":"+'COVER SHEET'!$D$12","v":0},11510,{"$f":"'COVER SHEET'!$D$16&IF(MID('COVER SHEET'!$I$18,6,10)=\"december\",\"1231\",IF(MID('COVER SHEET'!$I$18,6,10)=\"june\",\"0630\"))","v":"20241231"},{"$f":"+'Outgoing Remittances (Volume)'!E165","v":0}]
["CMREM_11510","NG",{"$f":"+'Outgoing Remittances (Volume)'!$E$5","v":"20240930"},{"$f":"+'COVER SHEET'!$D$12","v":0},11510,{"$f":"'COVER SHEET'!$D$16&IF(MID('COVER SHEET'!$I$18,6,10)=\"december\",\"1231\",IF(MID('COVER SHEET'!$I$18,6,10)=\"june\",\"0630\"))","v":"20241231"},{"$f":"+'Outgoing Remittances (Volume)'!E166","v":0}]
["CMREM_11510","NU",{"$f":"+'Outgoing Remittances (Volume)'!$E$5","v":"20240930"},{"$f":"+'COVER SHEET'!$D$12","v":0},11510,{"$f":"'COVER SHEET'!$D$16&IF(MID('COVER SHEET'!$I$18,6,10)=\"december\",\"1231\",IF(MID('COVER SHEET'!$I$18,6,10)=\"june\",\"0630\"))","v":"20241231"},{"$f":"+'Outgoing Remittances (Volume)'!E167","v":0}]
["CMREM_11510","NF",{"$f":"+'Outgoing Remittances (Volume)'!$E$5","v":"20240930"},{"$f":"+'COVER SHEET'!$D$12","v":0},11510,{"$f":"'COVER SHEET'!$D$16&IF(MID('COVER SHEET'!$I$18,6,10)=\"december\",\"1231\",IF(MID('COVER SHEET'!$I$18,6,10)=\"june\",\"0630\"))","v":"20241231"},{"$f":"+'Outgoing Remittances (Volume)'!E168","v":0}]
["CMREM_11510","MP",{"$f":"+'Outgoing Remittances (Volume)'!$E$5","v":"20240930"},{"$f":"+'COVER SHEET'!$D$12","v":0},11510,{"$f":"'COVER SHEET'!$D$16&IF(MID('COVER SHEET'!$I$18,6,10)=\"december\",\"1231\",IF(MID('COVER SHEET'!$I$18,6,10)=\"june\",\"0630\"))","v":"20241231"},{"$f":"+'Outgoing Remittances (Volume)'!E169","v":0}]
["CMREM_11510","NO",{"$f":"+'Outgoing Remittances (Volume)'!$E$5","v":"20240930"},{"$f":"+'COVER SHEET'!$D$12","v":0},11510,{"$f":"'COVER SHEET'!$D$16&IF(MID('COVER SHEET'!$I$18,6,10)=\"december\",\"1231\",IF(MID('COVER SHEET'!$I$18,6,10)=\"june\",\"0630\"))","v":"20241231"},{"$f":"+'Outgoing Remittances (Volume)'!E170","v":0}]
["CMREM_11510","OM",{"$f":"+'Outgoing Remittances (Volume)'!$E$5","v":"20240930"},{"$f":"+'COVER SHEET'!$D$12","v":0},11510,{"$f":"'COVER SHEET'!$D$16&IF(MID('COVER SHEET'!$I$18,6,10)=\"december\",\"1231\",IF(MID('COVER SHEET'!$I$18,6,10)=\"june\",\"0630\"))","v":"20241231"},{"$f":"+'Outgoing Remittances (Volume)'!E171","v":0}]
["CMREM_11510","PK",{"$f":"+'Outgoing Remittances (Volume)'!$E$5","v":"20240930"},{"$f":"+'COVER SHEET'!$D$12","v":0},11510,{"$f":"'COVER SHEET'!$D$16&IF(MID('COVER SHEET'!$I$18,6,10)=\"december\",\"1231\",IF(MID('COVER SHEET'!$I$18,6,10)=\"june\",\"0630\"))","v":"20241231"},{"$f":"+'Outgoing Remittances (Volume)'!E172","v":0}]
["CMREM_11510","PW",{"$f":"+'Outgoing Remittances (Volume)'!$E$5","v":"20240930"},{"$f":"+'COVER SHEET'!$D$12","v":0},11510,{"$f":"'COVER SHEET'!$D$16&IF(MID('COVER SHEET'!$I$18,6,10)=\"december\",\"1231\",IF(MID('COVER SHEET'!$I$18,6,10)=\"june\",\"0630\"))","v":"20241231"},{"$f":"+'Outgoing Remittances (Volume)'!E173","v":0}]
["CMREM_11510","PS",{"$f":"+'Outgoing Remittances (Volume)'!$E$5","v":"20240930"},{"$f":"+'COVER SHEET'!$D$12","v":0},11510,{"$f":"'COVER SHEET'!$D$16&IF(MID('COVER SHEET'!$I$18,6,10)=\"december\",\"1231\",IF(MID('COVER SHEET'!$I$18,6,10)=\"june\",\"0630\"))","v":"20241231"},{"$f":"+'Outgoing Remittances (Volume)'!E174","v":0}]
["CMREM_11510","PA",{"$f":"+'Outgoing Remittances (Volume)'!$E$5","v":"20240930"},{"$f":"+'COVER SHEET'!$D$12","v":0},11510,{"$f":"'COVER SHEET'!$D$16&IF(MID('COVER SHEET'!$I$18,6,10)=\"december\",\"1231\",IF(MID('COVER SHEET'!$I$18,6,10)=\"june\",\"0630\"))","v":"20241231"},{"$f":"+'Outgoing Remittances (Volume)'!E175","v":0}]
["CMREM_11510","PG",{"$f":"+'Outgoing Remittances (Volume)'!$E$5","v":"20240930"},{"$f":"+'COVER SHEET'!$D$12","v":0},11510,{"$f":"'COVER SHEET'!$D$16&IF(MID('COVER SHEET'!$I$18,6,10)=\"december\",\"1231\",IF(MID('COVER SHEET'!$I$18,6,10)=\"june\",\"0630\"))","v":"20241231"},{"$f":"+'Outgoing Remittances (Volume)'!E176","v":0}]
["CMREM_11510","PY",{"$f":"+'Outgoing Remittances (Volume)'!$E$5","v":"20240930"},{"$f":"+'COVER SHEET'!$D$12","v":0},11510,{"$f":"'COVER SHEET'!$D$16&IF(MID('COVER SHEET'!$I$18,6,10)=\"december\",\"1231\",IF(MID('COVER SHEET'!$I$18,6,10)=\"june\",\"0630\"))","v":"20241231"},{"$f":"+'Outgoing Remittances (Volume)'!E177","v":0}]
["CMREM_11510","PE",{"$f":"+'Outgoing Remittances (Volume)'!$E$5","v":"20240930"},{"$f":"+'COVER SHEET'!$D$12","v":0},11510,{"$f":"'COVER SHEET'!$D$16&IF(MID('COVER SHEET'!$I$18,6,10)=\"december\",\"1231\",IF(MID('COVER SHEET'!$I$18,6,10)=\"june\",\"0630\"))","v":"20241231"},{"$f":"+'Outgoing Remittances (Volume)'!E178","v":0}]
["CMREM_11510","PH",{"$f":"+'Outgoing Remittances (Volume)'!$E$5","v":"20240930"},{"$f":"+'COVER SHEET'!$D$12","v":0},11510,{"$f":"'COVER SHEET'!$D$16&IF(MID('COVER SHEET'!$I$18,6,10)=\"december\",\"1231\",IF(MID('COVER SHEET'!$I$18,6,10)=\"june\",\"0630\"))","v":"20241231"},{"$f":"+'Outgoing Remittances (Volume)'!E179","v":0}]
["CMREM_11510","PN",{"$f":"+'Outgoing Remittances (Volume)'!$E$5","v":"20240930"},{"$f":"+'COVER SHEET'!$D$12","v":0},11510,{"$f":"'COVER SHEET'!$D$16&IF(MID('COVER SHEET'!$I$18,6,10)=\"december\",\"1231\",IF(MID('COVER SHEET'!$I$18,6,10)=\"june\",\"0630\"))","v":"20241231"},{"$f":"+'Outgoing Remittances (Volume)'!E180","v":0}]
["CMREM_11510","PL",{"$f":"+'Outgoing Remittances (Volume)'!$E$5","v":"20240930"},{"$f":"+'COVER SHEET'!$D$12","v":0},11510,{"$f":"'COVER SHEET'!$D$16&IF(MID('COVER SHEET'!$I$18,6,10)=\"december\",\"1231\",IF(MID('COVER SHEET'!$I$18,6,10)=\"june\",\"0630\"))","v":"20241231"},{"$f":"+'Outgoing Remittances (Volume)'!E181","v":0}]
["CMREM_11510","PT",{"$f":"+'Outgoing Remittances (Volume)'!$E$5","v":"20240930"},{"$f":"+'COVER SHEET'!$D$12","v":0},11510,{"$f":"'COVER SHEET'!$D$16&IF(MID('COVER SHEET'!$I$18,6,10)=\"december\",\"1231\",IF(MID('COVER SHEET'!$I$18,6,10)=\"june\",\"0630\"))","v":"20241231"},{"$f":"+'Outgoing Remittances (Volume)'!E182","v":0}]
["CMREM_11510","QA",{"$f":"+'Outgoing Remittances (Volume)'!$E$5","v":"20240930"},{"$f":"+'COVER SHEET'!$D$12","v":0},11510,{"$f":"'COVER SHEET'!$D$16&IF(MID('COVER SHEET'!$I$18,6,10)=\"december\",\"1231\",IF(MID('COVER SHEET'!$I$18,6,10)=\"june\",\"0630\"))","v":"20241231"},{"$f":"+'Outgoing Remittances (Volume)'!E183","v":0}]
["CMREM_11510","RO",{"$f":"+'Outgoing Remittances (Volume)'!$E$5","v":"20240930"},{"$f":"+'COVER SHEET'!$D$12","v":0},11510,{"$f":"'COVER SHEET'!$D$16&IF(MID('COVER SHEET'!$I$18,6,10)=\"december\",\"1231\",IF(MID('COVER SHEET'!$I$18,6,10)=\"june\",\"0630\"))","v":"20241231"},{"$f":"+'Outgoing Remittances (Volume)'!E184","v":0}]
["CMREM_11510","RU",{"$f":"+'Outgoing Remittances (Volume)'!$E$5","v":"20240930"},{"$f":"+'COVER SHEET'!$D$12","v":0},11510,{"$f":"'COVER SHEET'!$D$16&IF(MID('COVER SHEET'!$I$18,6,10)=\"december\",\"1231\",IF(MID('COVER SHEET'!$I$18,6,10)=\"june\",\"0630\"))","v":"20241231"},{"$f":"+'Outgoing Remittances (Volume)'!E185","v":0}]
["CMREM_11510","RW",{"$f":"+'Outgoing Remittances (Volume)'!$E$5","v":"20240930"},{"$f":"+'COVER SHEET'!$D$12","v":0},11510,{"$f":"'COVER SHEET'!$D$16&IF(MID('COVER SHEET'!$I$18,6,10)=\"december\",\"1231\",IF(MID('COVER SHEET'!$I$18,6,10)=\"june\",\"0630\"))","v":"20241231"},{"$f":"+'Outgoing Remittances (Volume)'!E186","v":0}]
["CMREM_11510","SH",{"$f":"+'Outgoing Remittances (Volume)'!$E$5","v":"20240930"},{"$f":"+'COVER SHEET'!$D$12","v":0},11510,{"$f":"'COVER SHEET'!$D$16&IF(MID('COVER SHEET'!$I$18,6,10)=\"december\",\"1231\",IF(MID('COVER SHEET'!$I$18,6,10)=\"june\",\"0630\"))","v":"20241231"},{"$f":"+'Outgoing Remittances (Volume)'!E187","v":0}]
["CMREM_11510","KN",{"$f":"+'Outgoing Remittances (Volume)'!$E$5","v":"20240930"},{"$f":"+'COVER SHEET'!$D$12","v":0},11510,{"$f":"'COVER SHEET'!$D$16&IF(MID('COVER SHEET'!$I$18,6,10)=\"december\",\"1231\",IF(MID('COVER SHEET'!$I$18,6,10)=\"june\",\"0630\"))","v":"20241231"},{"$f":"+'Outgoing Remittances (Volume)'!E188","v":0}]
["CMREM_11510","LC",{"$f":"+'Outgoing Remittances (Volume)'!$E$5","v":"20240930"},{"$f":"+'COVER SHEET'!$D$12","v":0},11510,{"$f":"'COVER SHEET'!$D$16&IF(MID('COVER SHEET'!$I$18,6,10)=\"december\",\"1231\",IF(MID('COVER SHEET'!$I$18,6,10)=\"june\",\"0630\"))","v":"20241231"},{"$f":"+'Outgoing Remittances (Volume)'!E189","v":0}]
["CMREM_11510","VC",{"$f":"+'Outgoing Remittances (Volume)'!$E$5","v":"20240930"},{"$f":"+'COVER SHEET'!$D$12","v":0},11510,{"$f":"'COVER SHEET'!$D$16&IF(MID('COVER SHEET'!$I$18,6,10)=\"december\",\"1231\",IF(MID('COVER SHEET'!$I$18,6,10)=\"june\",\"0630\"))","v":"20241231"},{"$f":"+'Outgoing Remittances (Volume)'!E190","v":0}]
["CMREM_11510","WS",{"$f":"+'Outgoing Remittances (Volume)'!$E$5","v":"20240930"},{"$f":"+'COVER SHEET'!$D$12","v":0},11510,{"$f":"'COVER SHEET'!$D$16&IF(MID('COVER SHEET'!$I$18,6,10)=\"december\",\"1231\",IF(MID('COVER SHEET'!$I$18,6,10)=\"june\",\"0630\"))","v":"20241231"},{"$f":"+'Outgoing Remittances (Volume)'!E191","v":0}]
["CMREM_11510","SM",{"$f":"+'Outgoing Remittances (Volume)'!$E$5","v":"20240930"},{"$f":"+'COVER SHEET'!$D$12","v":0},11510,{"$f":"'COVER SHEET'!$D$16&IF(MID('COVER SHEET'!$I$18,6,10)=\"december\",\"1231\",IF(MID('COVER SHEET'!$I$18,6,10)=\"june\",\"0630\"))","v":"20241231"},{"$f":"+'Outgoing Remittances (Volume)'!E192","v":0}]
["CMREM_11510","ST",{"$f":"+'Outgoing Remittances (Volume)'!$E$5","v":"20240930"},{"$f":"+'COVER SHEET'!$D$12","v":0},11510,{"$f":"'COVER SHEET'!$D$16&IF(MID('COVER SHEET'!$I$18,6,10)=\"december\",\"1231\",IF(MID('COVER SHEET'!$I$18,6,10)=\"june\",\"0630\"))","v":"20241231"},{"$f":"+'Outgoing Remittances (Volume)'!E193","v":0}]
["CMREM_11510","SA",{"$f":"+'Outgoing Remittances (Volume)'!$E$5","v":"20240930"},{"$f":"+'COVER SHEET'!$D$12","v":0},11510,{"$f":"'COVER SHEET'!$D$16&IF(MID('COVER SHEET'!$I$18,6,10)=\"december\",\"1231\",IF(MID('COVER SHEET'!$I$18,6,10)=\"june\",\"0630\"))","v":"20241231"},{"$f":"+'Outgoing Remittances (Volume)'!E194","v":0}]
["CMREM_11510","SN",{"$f":"+'Outgoing Remittances (Volume)'!$E$5","v":"20240930"},{"$f":"+'COVER SHEET'!$D$12","v":0},11510,{"$f":"'COVER SHEET'!$D$16&IF(MID('COVER SHEET'!$I$18,6,10)=\"december\",\"1231\",IF(MID('COVER SHEET'!$I$18,6,10)=\"june\",\"0630\"))","v":"20241231"},{"$f":"+'Outgoing Remittances (Volume)'!E195","v":0}]
["CMREM_11510","RS",{"$f":"+'Outgoing Remittances (Volume)'!$E$5","v":"20240930"},{"$f":"+'COVER SHEET'!$D$12","v":0},11510,{"$f":"'COVER SHEET'!$D$16&IF(MID('COVER SHEET'!$I$18,6,10)=\"december\",\"1231\",IF(MID('COVER SHEET'!$I$18,6,10)=\"june\",\"0630\"))","v":"20241231"},{"$f":"+'Outgoing Remittances (Volume)'!E196","v":0}]
["CMREM_11510","SC",{"$f":"+'Outgoing Remittances (Volume)'!$E$5","v":"20240930"},{"$f":"+'COVER SHEET'!$D$12","v":0},11510,{"$f":"'COVER SHEET'!$D$16&IF(MID('COVER SHEET'!$I$18,6,10)=\"december\",\"1231\",IF(MID('COVER SHEET'!$I$18,6,10)=\"june\",\"0630\"))","v":"20241231"},{"$f":"+'Outgoing Remittances (Volume)'!E197","v":0}]
["CMREM_11510","SL",{"$f":"+'Outgoing Remittances (Volume)'!$E$5","v":"20240930"},{"$f":"+'COVER SHEET'!$D$12","v":0},11510,{"$f":"'COVER SHEET'!$D$16&IF(MID('COVER SHEET'!$I$18,6,10)=\"december\",\"1231\",IF(MID('COVER SHEET'!$I$18,6,10)=\"june\",\"0630\"))","v":"20241231"},{"$f":"+'Outgoing Remittances (Volume)'!E198","v":0}]
["CMREM_11510","SG",{"$f":"+'Outgoing Remittances (Volume)'!$E$5","v":"20240930"},{"$f":"+'COVER SHEET'!$D$12","v":0},11510,{"$f":"'COVER SHEET'!$D$16&IF(MID('COVER SHEET'!$I$18,6,10)=\"december\",\"1231\",IF(MID('COVER SHEET'!$I$18,6,10)=\"june\",\"0630\"))","v":"20241231"},{"$f":"+'Outgoing Remittances (Volume)'!E199","v":0}]
["CMREM_11510","SX",{"$f":"+'Outgoing Remittances (Volume)'!$E$5","v":"20240930"},{"$f":"+'COVER SHEET'!$D$12","v":0},11510,{"$f":"'COVER SHEET'!$D$16&IF(MID('COVER SHEET'!$I$18,6,10)=\"december\",\"1231\",IF(MID('COVER SHEET'!$I$18,6,10)=\"june\",\"0630\"))","v":"20241231"},{"$f":"+'Outgoing Remittances (Volume)'!E200","v":0}]
["CMREM_11510","SK",{"$f":"+'Outgoing Remittances (Volume)'!$E$5","v":"20240930"},{"$f":"+'COVER SHEET'!$D$12","v":0},11510,{"$f":"'COVER SHEET'!$D$16&IF(MID('COVER SHEET'!$I$18,6,10)=\"december\",\"1231\",IF(MID('COVER SHEET'!$I$18,6,10)=\"june\",\"0630\"))","v":"20241231"},{"$f":"+'Outgoing Remittances (Volume)'!E201","v":0}]
["CMREM_11510","SI",{"$f":"+'Outgoing Remittances (Volume)'!$E$5","v":"20240930"},{"$f":"+'COVER SHEET'!$D$12","v":0},11510,{"$f":"'COVER SHEET'!$D$16&IF(MID('COVER SHEET'!$I$18,6,10)=\"december\",\"1231\",IF(MID('COVER SHEET'!$I$18,6,10)=\"june\",\"0630\"))","v":"20241231"},{"$f":"+'Outgoing Remittances (Volume)'!E202","v":0}]
["CMREM_11510","SB",{"$f":"+'Outgoing Remittances (Volume)'!$E$5","v":"20240930"},{"$f":"+'COVER SHEET'!$D$12","v":0},11510,{"$f":"'COVER SHEET'!$D$16&IF(MID('COVER SHEET'!$I$18,6,10)=\"december\",\"1231\",IF(MID('COVER SHEET'!$I$18,6,10)=\"june\",\"0630\"))","v":"20241231"},{"$f":"+'Outgoing Remittances (Volume)'!E203","v":0}]
["CMREM_11510","SO",{"$f":"+'Outgoing Remittances (Volume)'!$E$5","v":"20240930"},{"$f":"+'COVER SHEET'!$D$12","v":0},11510,{"$f":"'COVER SHEET'!$D$16&IF(MID('COVER SHEET'!$I$18,6,10)=\"december\",\"1231\",IF(MID('COVER SHEET'!$I$18,6,10)=\"june\",\"0630\"))","v":"20241231"},{"$f":"+'Outgoing Remittances (Volume)'!E204","v":0}]
["CMREM_11510","ZA",{"$f":"+'Outgoing Remittances (Volume)'!$E$5","v":"20240930"},{"$f":"+'COVER SHEET'!$D$12","v":0},11510,{"$f":"'COVER SHEET'!$D$16&IF(MID('COVER SHEET'!$I$18,6,10)=\"december\",\"1231\",IF(MID('COVER SHEET'!$I$18,6,10)=\"june\",\"0630\"))","v":"20241231"},{"$f":"+'Outgoing Remittances (Volume)'!E205","v":0}]
["CMREM_11510","GS",{"$f":"+'Outgoing Remittances (Volume)'!$E$5","v":"20240930"},{"$f":"+'COVER SHEET'!$D$12","v":0},11510,{"$f":"'COVER SHEET'!$D$16&IF(MID('COVER SHEET'!$I$18,6,10)=\"december\",\"1231\",IF(MID('COVER SHEET'!$I$18,6,10)=\"june\",\"0630\"))","v":"20241231"},{"$f":"+'Outgoing Remittances (Volume)'!E206","v":0}]
["CMREM_11510","SS",{"$f":"+'Outgoing Remittances (Volume)'!$E$5","v":"20240930"},{"$f":"+'COVER SHEET'!$D$12","v":0},11510,{"$f":"'COVER SHEET'!$D$16&IF(MID('COVER SHEET'!$I$18,6,10)=\"december\",\"1231\",IF(MID('COVER SHEET'!$I$18,6,10)=\"june\",\"0630\"))","v":"20241231"},{"$f":"+'Outgoing Remittances (Volume)'!E207","v":0}]
["CMREM_11510","ES",{"$f":"+'Outgoing Remittances (Volume)'!$E$5","v":"20240930"},{"$f":"+'COVER SHEET'!$D$12","v":0},11510,{"$f":"'COVER SHEET'!$D$16&IF(MID('COVER SHEET'!$I$18,6,10)=\"december\",\"1231\",IF(MID('COVER SHEET'!$I$18,6,10)=\"june\",\"0630\"))","v":"20241231"},{"$f":"+'Outgoing Remittances (Volume)'!E208","v":0}]
["CMREM_11510","LK",{"$f":"+'Outgoing Remittances (Volume)'!$E$5","v":"20240930"},{"$f":"+'COVER SHEET'!$D$12","v":0},11510,{"$f":"'COVER SHEET'!$D$16&IF(MID('COVER SHEET'!$I$18,6,10)=\"december\",\"1231\",IF(MID('COVER SHEET'!$I$18,6,10)=\"june\",\"0630\"))","v":"20241231"},{"$f":"+'Outgoing Remittances (Volume)'!E209","v":0}]
["CMREM_11510","SD",{"$f":"+'Outgoing Remittances (Volume)'!$E$5","v":"20240930"},{"$f":"+'COVER SHEET'!$D$12","v":0},11510,{"$f":"'COVER SHEET'!$D$16&IF(MID('COVER SHEET'!$I$18,6,10)=\"december\",\"1231\",IF(MID('COVER SHEET'!$I$18,6,10)=\"june\",\"0630\"))","v":"20241231"},{"$f":"+'Outgoing Remittances (Volume)'!E210","v":0}]
["CMREM_11510","SR",{"$f":"+'Outgoing Remittances (Volume)'!$E$5","v":"20240930"},{"$f":"+'COVER SHEET'!$D$12","v":0},11510,{"$f":"'COVER SHEET'!$D$16&IF(MID('COVER SHEET'!$I$18,6,10)=\"december\",\"1231\",IF(MID('COVER SHEET'!$I$18,6,10)=\"june\",\"0630\"))","v":"20241231"},{"$f":"+'Outgoing Remittances (Volume)'!E211","v":0}]
["CMREM_11510","SZ",{"$f":"+'Outgoing Remittances (Volume)'!$E$5","v":"20240930"},{"$f":"+'COVER SHEET'!$D$12","v":0},11510,{"$f":"'COVER SHEET'!$D$16&IF(MID('COVER SHEET'!$I$18,6,10)=\"december\",\"1231\",IF(MID('COVER SHEET'!$I$18,6,10)=\"june\",\"0630\"))","v":"20241231"},{"$f":"+'Outgoing Remittances (Volume)'!E212","v":0}]
["CMREM_11510","SE",{"$f":"+'Outgoing Remittances (Volume)'!$E$5","v":"20240930"},{"$f":"+'COVER SHEET'!$D$12","v":0},11510,{"$f":"'COVER SHEET'!$D$16&IF(MID('COVER SHEET'!$I$18,6,10)=\"december\",\"1231\",IF(MID('COVER SHEET'!$I$18,6,10)=\"june\",\"0630\"))","v":"20241231"},{"$f":"+'Outgoing Remittances (Volume)'!E213","v":0}]
["CMREM_11510","CH",{"$f":"+'Outgoing Remittances (Volume)'!$E$5","v":"20240930"},{"$f":"+'COVER SHEET'!$D$12","v":0},11510,{"$f":"'COVER SHEET'!$D$16&IF(MID('COVER SHEET'!$I$18,6,10)=\"december\",\"1231\",IF(MID('COVER SHEET'!$I$18,6,10)=\"june\",\"0630\"))","v":"20241231"},{"$f":"+'Outgoing Remittances (Volume)'!E214","v":0}]
["CMREM_11510","SY",{"$f":"+'Outgoing Remittances (Volume)'!$E$5","v":"20240930"},{"$f":"+'COVER SHEET'!$D$12","v":0},11510,{"$f":"'COVER SHEET'!$D$16&IF(MID('COVER SHEET'!$I$18,6,10)=\"december\",\"1231\",IF(MID('COVER SHEET'!$I$18,6,10)=\"june\",\"0630\"))","v":"20241231"},{"$f":"+'Outgoing Remittances (Volume)'!E215","v":0}]
["CMREM_11510","TW",{"$f":"+'Outgoing Remittances (Volume)'!$E$5","v":"20240930"},{"$f":"+'COVER SHEET'!$D$12","v":0},11510,{"$f":"'COVER SHEET'!$D$16&IF(MID('COVER SHEET'!$I$18,6,10)=\"december\",\"1231\",IF(MID('COVER SHEET'!$I$18,6,10)=\"june\",\"0630\"))","v":"20241231"},{"$f":"+'Outgoing Remittances (Volume)'!E216","v":0}]
["CMREM_11510","TJ",{"$f":"+'Outgoing Remittances (Volume)'!$E$5","v":"20240930"},{"$f":"+'COVER SHEET'!$D$12","v":0},11510,{"$f":"'COVER SHEET'!$D$16&IF(MID('COVER SHEET'!$I$18,6,10)=\"december\",\"1231\",IF(MID('COVER SHEET'!$I$18,6,10)=\"june\",\"0630\"))","v":"20241231"},{"$f":"+'Outgoing Remittances (Volume)'!E217","v":0}]
["CMREM_11510","TZ",{"$f":"+'Outgoing Remittances (Volume)'!$E$5","v":"20240930"},{"$f":"+'COVER SHEET'!$D$12","v":0},11510,{"$f":"'COVER SHEET'!$D$16&IF(MID('COVER SHEET'!$I$18,6,10)=\"december\",\"1231\",IF(MID('COVER SHEET'!$I$18,6,10)=\"june\",\"0630\"))","v":"20241231"},{"$f":"+'Outgoing Remittances (Volume)'!E218","v":0}]
["CMREM_11510","TH",{"$f":"+'Outgoing Remittances (Volume)'!$E$5","v":"20240930"},{"$f":"+'COVER SHEET'!$D$12","v":0},11510,{"$f":"'COVER SHEET'!$D$16&IF(MID('COVER SHEET'!$I$18,6,10)=\"december\",\"1231\",IF(MID('COVER SHEET'!$I$18,6,10)=\"june\",\"0630\"))","v":"20241231"},{"$f":"+'Outgoing Remittances (Volume)'!E219","v":0}]
["CMREM_11510","TG",{"$f":"+'Outgoing Remittances (Volume)'!$E$5","v":"20240930"},{"$f":"+'COVER SHEET'!$D$12","v":0},11510,{"$f":"'COVER SHEET'!$D$16&IF(MID('COVER SHEET'!$I$18,6,10)=\"december\",\"1231\",IF(MID('COVER SHEET'!$I$18,6,10)=\"june\",\"0630\"))","v":"20241231"},{"$f":"+'Outgoing Remittances (Volume)'!E220","v":0}]
["CMREM_11510","TK",{"$f":"+'Outgoing Remittances (Volume)'!$E$5","v":"20240930"},{"$f":"+'COVER SHEET'!$D$12","v":0},11510,{"$f":"'COVER SHEET'!$D$16&IF(MID('COVER SHEET'!$I$18,6,10)=\"december\",\"1231\",IF(MID('COVER SHEET'!$I$18,6,10)=\"june\",\"0630\"))","v":"20241231"},{"$f":"+'Outgoing Remittances (Volume)'!E221","v":0}]
["CMREM_11510","TO",{"$f":"+'Outgoing Remittances (Volume)'!$E$5","v":"20240930"},{"$f":"+'COVER SHEET'!$D$12","v":0},11510,{"$f":"'COVER SHEET'!$D$16&IF(MID('COVER SHEET'!$I$18,6,10)=\"december\",\"1231\",IF(MID('COVER SHEET'!$I$18,6,10)=\"june\",\"0630\"))","v":"20241231"},{"$f":"+'Outgoing Remittances (Volume)'!E222","v":0}]
["CMREM_11510","TT",{"$f":"+'Outgoing Remittances (Volume)'!$E$5","v":"20240930"},{"$f":"+'COVER SHEET'!$D$12","v":0},11510,{"$f":"'COVER SHEET'!$D$16&IF(MID('COVER SHEET'!$I$18,6,10)=\"december\",\"1231\",IF(MID('COVER SHEET'!$I$18,6,10)=\"june\",\"0630\"))","v":"20241231"},{"$f":"+'Outgoing Remittances (Volume)'!E223","v":0}]
["CMREM_11510","TN",{"$f":"+'Outgoing Remittances (Volume)'!$E$5","v":"20240930"},{"$f":"+'COVER SHEET'!$D$12","v":0},11510,{"$f":"'COVER SHEET'!$D$16&IF(MID('COVER SHEET'!$I$18,6,10)=\"december\",\"1231\",IF(MID('COVER SHEET'!$I$18,6,10)=\"june\",\"0630\"))","v":"20241231"},{"$f":"+'Outgoing Remittances (Volume)'!E224","v":0}]
["CMREM_11510","TR",{"$f":"+'Outgoing Remittances (Volume)'!$E$5","v":"20240930"},{"$f":"+'COVER SHEET'!$D$12","v":0},11510,{"$f":"'COVER SHEET'!$D$16&IF(MID('COVER SHEET'!$I$18,6,10)=\"december\",\"1231\",IF(MID('COVER SHEET'!$I$18,6,10)=\"june\",\"0630\"))","v":"20241231"},{"$f":"+'Outgoing Remittances (Volume)'!E225","v":0}]
["CMREM_11510","TM",{"$f":"+'Outgoing Remittances (Volume)'!$E$5","v":"20240930"},{"$f":"+'COVER SHEET'!$D$12","v":0},11510,{"$f":"'COVER SHEET'!$D$16&IF(MID('COVER SHEET'!$I$18,6,10)=\"december\",\"1231\",IF(MID('COVER SHEET'!$I$18,6,10)=\"june\",\"0630\"))","v":"20241231"},{"$f":"+'Outgoing Remittances (Volume)'!E226","v":0}]
["CMREM_11510","TC",{"$f":"+'Outgoing Remittances (Volume)'!$E$5","v":"20240930"},{"$f":"+'COVER SHEET'!$D$12","v":0},11510,{"$f":"'COVER SHEET'!$D$16&IF(MID('COVER SHEET'!$I$18,6,10)=\"december\",\"1231\",IF(MID('COVER SHEET'!$I$18,6,10)=\"june\",\"0630\"))","v":"20241231"},{"$f":"+'Outgoing Remittances (Volume)'!E227","v":0}]
["CMREM_11510","TV",{"$f":"+'Outgoing Remittances (Volume)'!$E$5","v":"20240930"},{"$f":"+'COVER SHEET'!$D$12","v":0},11510,{"$f":"'COVER SHEET'!$D$16&IF(MID('COVER SHEET'!$I$18,6,10)=\"december\",\"1231\",IF(MID('COVER SHEET'!$I$18,6,10)=\"june\",\"0630\"))","v":"20241231"},{"$f":"+'Outgoing Remittances (Volume)'!E228","v":0}]
["CMREM_11510","UG",{"$f":"+'Outgoing Remittances (Volume)'!$E$5","v":"20240930"},{"$f":"+'COVER SHEET'!$D$12","v":0},11510,{"$f":"'COVER SHEET'!$D$16&IF(MID('COVER SHEET'!$I$18,6,10)=\"december\",\"1231\",IF(MID('COVER SHEET'!$I$18,6,10)=\"june\",\"0630\"))","v":"20241231"},{"$f":"+'Outgoing Remittances (Volume)'!E229","v":0}]
["CMREM_11510","UA",{"$f":"+'Outgoing Remittances (Volume)'!$E$5","v":"20240930"},{"$f":"+'COVER SHEET'!$D$12","v":0},11510,{"$f":"'COVER SHEET'!$D$16&IF(MID('COVER SHEET'!$I$18,6,10)=\"december\",\"1231\",IF(MID('COVER SHEET'!$I$18,6,10)=\"june\",\"0630\"))","v":"20241231"},{"$f":"+'Outgoing Remittances (Volume)'!E230","v":0}]
["CMREM_11510","AE",{"$f":"+'Outgoing Remittances (Volume)'!$E$5","v":"20240930"},{"$f":"+'COVER SHEET'!$D$12","v":0},11510,{"$f":"'COVER SHEET'!$D$16&IF(MID('COVER SHEET'!$I$18,6,10)=\"december\",\"1231\",IF(MID('COVER SHEET'!$I$18,6,10)=\"june\",\"0630\"))","v":"20241231"},{"$f":"+'Outgoing Remittances (Volume)'!E231","v":0}]
["CMREM_11510","GB",{"$f":"+'Outgoing Remittances (Volume)'!$E$5","v":"20240930"},{"$f":"+'COVER SHEET'!$D$12","v":0},11510,{"$f":"'COVER SHEET'!$D$16&IF(MID('COVER SHEET'!$I$18,6,10)=\"december\",\"1231\",IF(MID('COVER SHEET'!$I$18,6,10)=\"june\",\"0630\"))","v":"20241231"},{"$f":"+'Outgoing Remittances (Volume)'!E232","v":0}]
["CMREM_11510","US",{"$f":"+'Outgoing Remittances (Volume)'!$E$5","v":"20240930"},{"$f":"+'COVER SHEET'!$D$12","v":0},11510,{"$f":"'COVER SHEET'!$D$16&IF(MID('COVER SHEET'!$I$18,6,10)=\"december\",\"1231\",IF(MID('COVER SHEET'!$I$18,6,10)=\"june\",\"0630\"))","v":"20241231"},{"$f":"+'Outgoing Remittances (Volume)'!E233","v":0}]
["CMREM_11510","UY",{"$f":"+'Outgoing Remittances (Volume)'!$E$5","v":"20240930"},{"$f":"+'COVER SHEET'!$D$12","v":0},11510,{"$f":"'COVER SHEET'!$D$16&IF(MID('COVER SHEET'!$I$18,6,10)=\"december\",\"1231\",IF(MID('COVER SHEET'!$I$18,6,10)=\"june\",\"0630\"))","v":"20241231"},{"$f":"+'Outgoing Remittances (Volume)'!E234","v":0}]
["CMREM_11510","UM",{"$f":"+'Outgoing Remittances (Volume)'!$E$5","v":"20240930"},{"$f":"+'COVER SHEET'!$D$12","v":0},11510,{"$f":"'COVER SHEET'!$D$16&IF(MID('COVER SHEET'!$I$18,6,10)=\"december\",\"1231\",IF(MID('COVER SHEET'!$I$18,6,10)=\"june\",\"0630\"))","v":"20241231"},{"$f":"+'Outgoing Remittances (Volume)'!E235","v":0}]
["CMREM_11510","UZ",{"$f":"+'Outgoing Remittances (Volume)'!$E$5","v":"20240930"},{"$f":"+'COVER SHEET'!$D$12","v":0},11510,{"$f":"'COVER SHEET'!$D$16&IF(MID('COVER SHEET'!$I$18,6,10)=\"december\",\"1231\",IF(MID('COVER SHEET'!$I$18,6,10)=\"june\",\"0630\"))","v":"20241231"},{"$f":"+'Outgoing Remittances (Volume)'!E236","v":0}]
["CMREM_11510","VU",{"$f":"+'Outgoing Remittances (Volume)'!$E$5","v":"20240930"},{"$f":"+'COVER SHEET'!$D$12","v":0},11510,{"$f":"'COVER SHEET'!$D$16&IF(MID('COVER SHEET'!$I$18,6,10)=\"december\",\"1231\",IF(MID('COVER SHEET'!$I$18,6,10)=\"june\",\"0630\"))","v":"20241231"},{"$f":"+'Outgoing Remittances (Volume)'!E237","v":0}]
["CMREM_11510","VE",{"$f":"+'Outgoing Remittances (Volume)'!$E$5","v":"20240930"},{"$f":"+'COVER SHEET'!$D$12","v":0},11510,{"$f":"'COVER SHEET'!$D$16&IF(MID('COVER SHEET'!$I$18,6,10)=\"december\",\"1231\",IF(MID('COVER SHEET'!$I$18,6,10)=\"june\",\"0630\"))","v":"20241231"},{"$f":"+'Outgoing Remittances (Volume)'!E238","v":0}]
["CMREM_11510","VN",{"$f":"+'Outgoing Remittances (Volume)'!$E$5","v":"20240930"},{"$f":"+'COVER SHEET'!$D$12","v":0},11510,{"$f":"'COVER SHEET'!$D$16&IF(MID('COVER SHEET'!$I$18,6,10)=\"december\",\"1231\",IF(MID('COVER SHEET'!$I$18,6,10)=\"june\",\"0630\"))","v":"20241231"},{"$f":"+'Outgoing Remittances (Volume)'!E239","v":0}]
["CMREM_11510","VI",{"$f":"+'Outgoing Remittances (Volume)'!$E$5","v":"20240930"},{"$f":"+'COVER SHEET'!$D$12","v":0},11510,{"$f":"'COVER SHEET'!$D$16&IF(MID('COVER SHEET'!$I$18,6,10)=\"december\",\"1231\",IF(MID('COVER SHEET'!$I$18,6,10)=\"june\",\"0630\"))","v":"20241231"},{"$f":"+'Outgoing Remittances (Volume)'!E240","v":0}]
["CMREM_11510","WF",{"$f":"+'Outgoing Remittances (Volume)'!$E$5","v":"20240930"},{"$f":"+'COVER SHEET'!$D$12","v":0},11510,{"$f":"'COVER SHEET'!$D$16&IF(MID('COVER SHEET'!$I$18,6,10)=\"december\",\"1231\",IF(MID('COVER SHEET'!$I$18,6,10)=\"june\",\"0630\"))","v":"20241231"},{"$f":"+'Outgoing Remittances (Volume)'!E241","v":0}]
["CMREM_11510","YE",{"$f":"+'Outgoing Remittances (Volume)'!$E$5","v":"20240930"},{"$f":"+'COVER SHEET'!$D$12","v":0},11510,{"$f":"'COVER SHEET'!$D$16&IF(MID('COVER SHEET'!$I$18,6,10)=\"december\",\"1231\",IF(MID('COVER SHEET'!$I$18,6,10)=\"june\",\"0630\"))","v":"20241231"},{"$f":"+'Outgoing Remittances (Volume)'!E242","v":0}]
["CMREM_11510","ZM",{"$f":"+'Outgoing Remittances (Volume)'!$E$5","v":"20240930"},{"$f":"+'COVER SHEET'!$D$12","v":0},11510,{"$f":"'COVER SHEET'!$D$16&IF(MID('COVER SHEET'!$I$18,6,10)=\"december\",\"1231\",IF(MID('COVER SHEET'!$I$18,6,10)=\"june\",\"0630\"))","v":"20241231"},{"$f":"+'Outgoing Remittances (Volume)'!E243","v":0}]
["CMREM_11510","ZW",{"$f":"+'Outgoing Remittances (Volume)'!$E$5","v":"20240930"},{"$f":"+'COVER SHEET'!$D$12","v":0},11510,{"$f":"'COVER SHEET'!$D$16&IF(MID('COVER SHEET'!$I$18,6,10)=\"december\",\"1231\",IF(MID('COVER SHEET'!$I$18,6,10)=\"june\",\"0630\"))","v":"20241231"},{"$f":"+'Outgoing Remittances (Volume)'!E244","v":0}]
["CMREM_11520","AF",{"$f":"+'Incoming Remittances (Value)'!$E$5","v":"20240930"},{"$f":"+'COVER SHEET'!$D$12","v":0},11520,{"$f":"'COVER SHEET'!$D$16&IF(MID('COVER SHEET'!$I$18,6,10)=\"december\",\"1231\",IF(MID('COVER SHEET'!$I$18,6,10)=\"june\",\"0630\"))","v":"20241231"},{"$f":"+'Incoming Remittances (Value)'!E9","v":0}]
["CMREM_11520","AL",{"$f":"+'Incoming Remittances (Value)'!$E$5","v":"20240930"},{"$f":"+'COVER SHEET'!$D$12","v":0},11520,{"$f":"'COVER SHEET'!$D$16&IF(MID('COVER SHEET'!$I$18,6,10)=\"december\",\"1231\",IF(MID('COVER SHEET'!$I$18,6,10)=\"june\",\"0630\"))","v":"20241231"},{"$f":"+'Incoming Remittances (Value)'!E10","v":0}]
["CMREM_11520","DZ",{"$f":"+'Incoming Remittances (Value)'!$E$5","v":"20240930"},{"$f":"+'COVER SHEET'!$D$12","v":0},11520,{"$f":"'COVER SHEET'!$D$16&IF(MID('COVER SHEET'!$I$18,6,10)=\"december\",\"1231\",IF(MID('COVER SHEET'!$I$18,6,10)=\"june\",\"0630\"))","v":"20241231"},{"$f":"+'Incoming Remittances (Value)'!E11","v":0}]
["CMREM_11520","AS",{"$f":"+'Incoming Remittances (Value)'!$E$5","v":"20240930"},{"$f":"+'COVER SHEET'!$D$12","v":0},11520,{"$f":"'COVER SHEET'!$D$16&IF(MID('COVER SHEET'!$I$18,6,10)=\"december\",\"1231\",IF(MID('COVER SHEET'!$I$18,6,10)=\"june\",\"0630\"))","v":"20241231"},{"$f":"+'Incoming Remittances (Value)'!E12","v":0}]
["CMREM_11520","AD",{"$f":"+'Incoming Remittances (Value)'!$E$5","v":"20240930"},{"$f":"+'COVER SHEET'!$D$12","v":0},11520,{"$f":"'COVER SHEET'!$D$16&IF(MID('COVER SHEET'!$I$18,6,10)=\"december\",\"1231\",IF(MID('COVER SHEET'!$I$18,6,10)=\"june\",\"0630\"))","v":"20241231"},{"$f":"+'Incoming Remittances (Value)'!E13","v":0}]
["CMREM_11520","AO",{"$f":"+'Incoming Remittances (Value)'!$E$5","v":"20240930"},{"$f":"+'COVER SHEET'!$D$12","v":0},11520,{"$f":"'COVER SHEET'!$D$16&IF(MID('COVER SHEET'!$I$18,6,10)=\"december\",\"1231\",IF(MID('COVER SHEET'!$I$18,6,10)=\"june\",\"0630\"))","v":"20241231"},{"$f":"+'Incoming Remittances (Value)'!E14","v":0}]
["CMREM_11520","AI",{"$f":"+'Incoming Remittances (Value)'!$E$5","v":"20240930"},{"$f":"+'COVER SHEET'!$D$12","v":0},11520,{"$f":"'COVER SHEET'!$D$16&IF(MID('COVER SHEET'!$I$18,6,10)=\"december\",\"1231\",IF(MID('COVER SHEET'!$I$18,6,10)=\"june\",\"0630\"))","v":"20241231"},{"$f":"+'Incoming Remittances (Value)'!E15","v":0}]
["CMREM_11520","AQ",{"$f":"+'Incoming Remittances (Value)'!$E$5","v":"20240930"},{"$f":"+'COVER SHEET'!$D$12","v":0},11520,{"$f":"'COVER SHEET'!$D$16&IF(MID('COVER SHEET'!$I$18,6,10)=\"december\",\"1231\",IF(MID('COVER SHEET'!$I$18,6,10)=\"june\",\"0630\"))","v":"20241231"},{"$f":"+'Incoming Remittances (Value)'!E16","v":0}]
["CMREM_11520","AG",{"$f":"+'Incoming Remittances (Value)'!$E$5","v":"20240930"},{"$f":"+'COVER SHEET'!$D$12","v":0},11520,{"$f":"'COVER SHEET'!$D$16&IF(MID('COVER SHEET'!$I$18,6,10)=\"december\",\"1231\",IF(MID('COVER SHEET'!$I$18,6,10)=\"june\",\"0630\"))","v":"20241231"},{"$f":"+'Incoming Remittances (Value)'!E17","v":0}]
["CMREM_11520","AR",{"$f":"+'Incoming Remittances (Value)'!$E$5","v":"20240930"},{"$f":"+'COVER SHEET'!$D$12","v":0},11520,{"$f":"'COVER SHEET'!$D$16&IF(MID('COVER SHEET'!$I$18,6,10)=\"december\",\"1231\",IF(MID('COVER SHEET'!$I$18,6,10)=\"june\",\"0630\"))","v":"20241231"},{"$f":"+'Incoming Remittances (Value)'!E18","v":0}]
["CMREM_11520","AM",{"$f":"+'Incoming Remittances (Value)'!$E$5","v":"20240930"},{"$f":"+'COVER SHEET'!$D$12","v":0},11520,{"$f":"'COVER SHEET'!$D$16&IF(MID('COVER SHEET'!$I$18,6,10)=\"december\",\"1231\",IF(MID('COVER SHEET'!$I$18,6,10)=\"june\",\"0630\"))","v":"20241231"},{"$f":"+'Incoming Remittances (Value)'!E19","v":0}]
["CMREM_11520","AW",{"$f":"+'Incoming Remittances (Value)'!$E$5","v":"20240930"},{"$f":"+'COVER SHEET'!$D$12","v":0},11520,{"$f":"'COVER SHEET'!$D$16&IF(MID('COVER SHEET'!$I$18,6,10)=\"december\",\"1231\",IF(MID('COVER SHEET'!$I$18,6,10)=\"june\",\"0630\"))","v":"20241231"},{"$f":"+'Incoming Remittances (Value)'!E20","v":0}]
["CMREM_11520","AU",{"$f":"+'Incoming Remittances (Value)'!$E$5","v":"20240930"},{"$f":"+'COVER SHEET'!$D$12","v":0},11520,{"$f":"'COVER SHEET'!$D$16&IF(MID('COVER SHEET'!$I$18,6,10)=\"december\",\"1231\",IF(MID('COVER SHEET'!$I$18,6,10)=\"june\",\"0630\"))","v":"20241231"},{"$f":"+'Incoming Remittances (Value)'!E21","v":0}]
["CMREM_11520","AT",{"$f":"+'Incoming Remittances (Value)'!$E$5","v":"20240930"},{"$f":"+'COVER SHEET'!$D$12","v":0},11520,{"$f":"'COVER SHEET'!$D$16&IF(MID('COVER SHEET'!$I$18,6,10)=\"december\",\"1231\",IF(MID('COVER SHEET'!$I$18,6,10)=\"june\",\"0630\"))","v":"20241231"},{"$f":"+'Incoming Remittances (Value)'!E22","v":0}]
["CMREM_11520","AZ",{"$f":"+'Incoming Remittances (Value)'!$E$5","v":"20240930"},{"$f":"+'COVER SHEET'!$D$12","v":0},11520,{"$f":"'COVER SHEET'!$D$16&IF(MID('COVER SHEET'!$I$18,6,10)=\"december\",\"1231\",IF(MID('COVER SHEET'!$I$18,6,10)=\"june\",\"0630\"))","v":"20241231"},{"$f":"+'Incoming Remittances (Value)'!E23","v":0}]
["CMREM_11520","BS",{"$f":"+'Incoming Remittances (Value)'!$E$5","v":"20240930"},{"$f":"+'COVER SHEET'!$D$12","v":0},11520,{"$f":"'COVER SHEET'!$D$16&IF(MID('COVER SHEET'!$I$18,6,10)=\"december\",\"1231\",IF(MID('COVER SHEET'!$I$18,6,10)=\"june\",\"0630\"))","v":"20241231"},{"$f":"+'Incoming Remittances (Value)'!E24","v":0}]
["CMREM_11520","BH",{"$f":"+'Incoming Remittances (Value)'!$E$5","v":"20240930"},{"$f":"+'COVER SHEET'!$D$12","v":0},11520,{"$f":"'COVER SHEET'!$D$16&IF(MID('COVER SHEET'!$I$18,6,10)=\"december\",\"1231\",IF(MID('COVER SHEET'!$I$18,6,10)=\"june\",\"0630\"))","v":"20241231"},{"$f":"+'Incoming Remittances (Value)'!E25","v":0}]
["CMREM_11520","BD",{"$f":"+'Incoming Remittances (Value)'!$E$5","v":"20240930"},{"$f":"+'COVER SHEET'!$D$12","v":0},11520,{"$f":"'COVER SHEET'!$D$16&IF(MID('COVER SHEET'!$I$18,6,10)=\"december\",\"1231\",IF(MID('COVER SHEET'!$I$18,6,10)=\"june\",\"0630\"))","v":"20241231"},{"$f":"+'Incoming Remittances (Value)'!E26","v":0}]
["CMREM_11520","BB",{"$f":"+'Incoming Remittances (Value)'!$E$5","v":"20240930"},{"$f":"+'COVER SHEET'!$D$12","v":0},11520,{"$f":"'COVER SHEET'!$D$16&IF(MID('COVER SHEET'!$I$18,6,10)=\"december\",\"1231\",IF(MID('COVER SHEET'!$I$18,6,10)=\"june\",\"0630\"))","v":"20241231"},{"$f":"+'Incoming Remittances (Value)'!E27","v":0}]
["CMREM_11520","BY",{"$f":"+'Incoming Remittances (Value)'!$E$5","v":"20240930"},{"$f":"+'COVER SHEET'!$D$12","v":0},11520,{"$f":"'COVER SHEET'!$D$16&IF(MID('COVER SHEET'!$I$18,6,10)=\"december\",\"1231\",IF(MID('COVER SHEET'!$I$18,6,10)=\"june\",\"0630\"))","v":"20241231"},{"$f":"+'Incoming Remittances (Value)'!E28","v":0}]
["CMREM_11520","BE",{"$f":"+'Incoming Remittances (Value)'!$E$5","v":"20240930"},{"$f":"+'COVER SHEET'!$D$12","v":0},11520,{"$f":"'COVER SHEET'!$D$16&IF(MID('COVER SHEET'!$I$18,6,10)=\"december\",\"1231\",IF(MID('COVER SHEET'!$I$18,6,10)=\"june\",\"0630\"))","v":"20241231"},{"$f":"+'Incoming Remittances (Value)'!E29","v":0}]
["CMREM_11520","BZ",{"$f":"+'Incoming Remittances (Value)'!$E$5","v":"20240930"},{"$f":"+'COVER SHEET'!$D$12","v":0},11520,{"$f":"'COVER SHEET'!$D$16&IF(MID('COVER SHEET'!$I$18,6,10)=\"december\",\"1231\",IF(MID('COVER SHEET'!$I$18,6,10)=\"june\",\"0630\"))","v":"20241231"},{"$f":"+'Incoming Remittances (Value)'!E30","v":0}]
["CMREM_11520","BJ",{"$f":"+'Incoming Remittances (Value)'!$E$5","v":"20240930"},{"$f":"+'COVER SHEET'!$D$12","v":0},11520,{"$f":"'COVER SHEET'!$D$16&IF(MID('COVER SHEET'!$I$18,6,10)=\"december\",\"1231\",IF(MID('COVER SHEET'!$I$18,6,10)=\"june\",\"0630\"))","v":"20241231"},{"$f":"+'Incoming Remittances (Value)'!E31","v":0}]
["CMREM_11520","BM",{"$f":"+'Incoming Remittances (Value)'!$E$5","v":"20240930"},{"$f":"+'COVER SHEET'!$D$12","v":0},11520,{"$f":"'COVER SHEET'!$D$16&IF(MID('COVER SHEET'!$I$18,6,10)=\"december\",\"1231\",IF(MID('COVER SHEET'!$I$18,6,10)=\"june\",\"0630\"))","v":"20241231"},{"$f":"+'Incoming Remittances (Value)'!E32","v":0}]
["CMREM_11520","BQ",{"$f":"+'Incoming Remittances (Value)'!$E$5","v":"20240930"},{"$f":"+'COVER SHEET'!$D$12","v":0},11520,{"$f":"'COVER SHEET'!$D$16&IF(MID('COVER SHEET'!$I$18,6,10)=\"december\",\"1231\",IF(MID('COVER SHEET'!$I$18,6,10)=\"june\",\"0630\"))","v":"20241231"},{"$f":"+'Incoming Remittances (Value)'!E33","v":0}]
["CMREM_11520","BT",{"$f":"+'Incoming Remittances (Value)'!$E$5","v":"20240930"},{"$f":"+'COVER SHEET'!$D$12","v":0},11520,{"$f":"'COVER SHEET'!$D$16&IF(MID('COVER SHEET'!$I$18,6,10)=\"december\",\"1231\",IF(MID('COVER SHEET'!$I$18,6,10)=\"june\",\"0630\"))","v":"20241231"},{"$f":"+'Incoming Remittances (Value)'!E34","v":0}]
["CMREM_11520","BO",{"$f":"+'Incoming Remittances (Value)'!$E$5","v":"20240930"},{"$f":"+'COVER SHEET'!$D$12","v":0},11520,{"$f":"'COVER SHEET'!$D$16&IF(MID('COVER SHEET'!$I$18,6,10)=\"december\",\"1231\",IF(MID('COVER SHEET'!$I$18,6,10)=\"june\",\"0630\"))","v":"20241231"},{"$f":"+'Incoming Remittances (Value)'!E35","v":0}]
["CMREM_11520","BA",{"$f":"+'Incoming Remittances (Value)'!$E$5","v":"20240930"},{"$f":"+'COVER SHEET'!$D$12","v":0},11520,{"$f":"'COVER SHEET'!$D$16&IF(MID('COVER SHEET'!$I$18,6,10)=\"december\",\"1231\",IF(MID('COVER SHEET'!$I$18,6,10)=\"june\",\"0630\"))","v":"20241231"},{"$f":"+'Incoming Remittances (Value)'!E36","v":0}]
["CMREM_11520","BW",{"$f":"+'Incoming Remittances (Value)'!$E$5","v":"20240930"},{"$f":"+'COVER SHEET'!$D$12","v":0},11520,{"$f":"'COVER SHEET'!$D$16&IF(MID('COVER SHEET'!$I$18,6,10)=\"december\",\"1231\",IF(MID('COVER SHEET'!$I$18,6,10)=\"june\",\"0630\"))","v":"20241231"},{"$f":"+'Incoming Remittances (Value)'!E37","v":0}]
["CMREM_11520","BV",{"$f":"+'Incoming Remittances (Value)'!$E$5","v":"20240930"},{"$f":"+'COVER SHEET'!$D$12","v":0},11520,{"$f":"'COVER SHEET'!$D$16&IF(MID('COVER SHEET'!$I$18,6,10)=\"december\",\"1231\",IF(MID('COVER SHEET'!$I$18,6,10)=\"june\",\"0630\"))","v":"20241231"},{"$f":"+'Incoming Remittances (Value)'!E38","v":0}]
["CMREM_11520","BR",{"$f":"+'Incoming Remittances (Value)'!$E$5","v":"20240930"},{"$f":"+'COVER SHEET'!$D$12","v":0},11520,{"$f":"'COVER SHEET'!$D$16&IF(MID('COVER SHEET'!$I$18,6,10)=\"december\",\"1231\",IF(MID('COVER SHEET'!$I$18,6,10)=\"june\",\"0630\"))","v":"20241231"},{"$f":"+'Incoming Remittances (Value)'!E39","v":0}]
["CMREM_11520","IO",{"$f":"+'Incoming Remittances (Value)'!$E$5","v":"20240930"},{"$f":"+'COVER SHEET'!$D$12","v":0},11520,{"$f":"'COVER SHEET'!$D$16&IF(MID('COVER SHEET'!$I$18,6,10)=\"december\",\"1231\",IF(MID('COVER SHEET'!$I$18,6,10)=\"june\",\"0630\"))","v":"20241231"},{"$f":"+'Incoming Remittances (Value)'!E40","v":0}]
["CMREM_11520","VG",{"$f":"+'Incoming Remittances (Value)'!$E$5","v":"20240930"},{"$f":"+'COVER SHEET'!$D$12","v":0},11520,{"$f":"'COVER SHEET'!$D$16&IF(MID('COVER SHEET'!$I$18,6,10)=\"december\",\"1231\",IF(MID('COVER SHEET'!$I$18,6,10)=\"june\",\"0630\"))","v":"20241231"},{"$f":"+'Incoming Remittances (Value)'!E41","v":0}]
["CMREM_11520","BN",{"$f":"+'Incoming Remittances (Value)'!$E$5","v":"20240930"},{"$f":"+'COVER SHEET'!$D$12","v":0},11520,{"$f":"'COVER SHEET'!$D$16&IF(MID('COVER SHEET'!$I$18,6,10)=\"december\",\"1231\",IF(MID('COVER SHEET'!$I$18,6,10)=\"june\",\"0630\"))","v":"20241231"},{"$f":"+'Incoming Remittances (Value)'!E42","v":0}]
["CMREM_11520","BG",{"$f":"+'Incoming Remittances (Value)'!$E$5","v":"20240930"},{"$f":"+'COVER SHEET'!$D$12","v":0},11520,{"$f":"'COVER SHEET'!$D$16&IF(MID('COVER SHEET'!$I$18,6,10)=\"december\",\"1231\",IF(MID('COVER SHEET'!$I$18,6,10)=\"june\",\"0630\"))","v":"20241231"},{"$f":"+'Incoming Remittances (Value)'!E43","v":0}]
["CMREM_11520","BF",{"$f":"+'Incoming Remittances (Value)'!$E$5","v":"20240930"},{"$f":"+'COVER SHEET'!$D$12","v":0},11520,{"$f":"'COVER SHEET'!$D$16&IF(MID('COVER SHEET'!$I$18,6,10)=\"december\",\"1231\",IF(MID('COVER SHEET'!$I$18,6,10)=\"june\",\"0630\"))","v":"20241231"},{"$f":"+'Incoming Remittances (Value)'!E44","v":0}]
["CMREM_11520","BI",{"$f":"+'Incoming Remittances (Value)'!$E$5","v":"20240930"},{"$f":"+'COVER SHEET'!$D$12","v":0},11520,{"$f":"'COVER SHEET'!$D$16&IF(MID('COVER SHEET'!$I$18,6,10)=\"december\",\"1231\",IF(MID('COVER SHEET'!$I$18,6,10)=\"june\",\"0630\"))","v":"20241231"},{"$f":"+'Incoming Remittances (Value)'!E45","v":0}]
["CMREM_11520","KH",{"$f":"+'Incoming Remittances (Value)'!$E$5","v":"20240930"},{"$f":"+'COVER SHEET'!$D$12","v":0},11520,{"$f":"'COVER SHEET'!$D$16&IF(MID('COVER SHEET'!$I$18,6,10)=\"december\",\"1231\",IF(MID('COVER SHEET'!$I$18,6,10)=\"june\",\"0630\"))","v":"20241231"},{"$f":"+'Incoming Remittances (Value)'!E46","v":0}]
["CMREM_11520","CM",{"$f":"+'Incoming Remittances (Value)'!$E$5","v":"20240930"},{"$f":"+'COVER SHEET'!$D$12","v":0},11520,{"$f":"'COVER SHEET'!$D$16&IF(MID('COVER SHEET'!$I$18,6,10)=\"december\",\"1231\",IF(MID('COVER SHEET'!$I$18,6,10)=\"june\",\"0630\"))","v":"20241231"},{"$f":"+'Incoming Remittances (Value)'!E47","v":0}]
["CMREM_11520","CA",{"$f":"+'Incoming Remittances (Value)'!$E$5","v":"20240930"},{"$f":"+'COVER SHEET'!$D$12","v":0},11520,{"$f":"'COVER SHEET'!$D$16&IF(MID('COVER SHEET'!$I$18,6,10)=\"december\",\"1231\",IF(MID('COVER SHEET'!$I$18,6,10)=\"june\",\"0630\"))","v":"20241231"},{"$f":"+'Incoming Remittances (Value)'!E48","v":0}]
["CMREM_11520","CV",{"$f":"+'Incoming Remittances (Value)'!$E$5","v":"20240930"},{"$f":"+'COVER SHEET'!$D$12","v":0},11520,{"$f":"'COVER SHEET'!$D$16&IF(MID('COVER SHEET'!$I$18,6,10)=\"december\",\"1231\",IF(MID('COVER SHEET'!$I$18,6,10)=\"june\",\"0630\"))","v":"20241231"},{"$f":"+'Incoming Remittances (Value)'!E49","v":0}]
["CMREM_11520","KY",{"$f":"+'Incoming Remittances (Value)'!$E$5","v":"20240930"},{"$f":"+'COVER SHEET'!$D$12","v":0},11520,{"$f":"'COVER SHEET'!$D$16&IF(MID('COVER SHEET'!$I$18,6,10)=\"december\",\"1231\",IF(MID('COVER SHEET'!$I$18,6,10)=\"june\",\"0630\"))","v":"20241231"},{"$f":"+'Incoming Remittances (Value)'!E50","v":0}]
["CMREM_11520","CF",{"$f":"+'Incoming Remittances (Value)'!$E$5","v":"20240930"},{"$f":"+'COVER SHEET'!$D$12","v":0},11520,{"$f":"'COVER SHEET'!$D$16&IF(MID('COVER SHEET'!$I$18,6,10)=\"december\",\"1231\",IF(MID('COVER SHEET'!$I$18,6,10)=\"june\",\"0630\"))","v":"20241231"},{"$f":"+'Incoming Remittances (Value)'!E51","v":0}]
["CMREM_11520","TD",{"$f":"+'Incoming Remittances (Value)'!$E$5","v":"20240930"},{"$f":"+'COVER SHEET'!$D$12","v":0},11520,{"$f":"'COVER SHEET'!$D$16&IF(MID('COVER SHEET'!$I$18,6,10)=\"december\",\"1231\",IF(MID('COVER SHEET'!$I$18,6,10)=\"june\",\"0630\"))","v":"20241231"},{"$f":"+'Incoming Remittances (Value)'!E52","v":0}]
["CMREM_11520","CL",{"$f":"+'Incoming Remittances (Value)'!$E$5","v":"20240930"},{"$f":"+'COVER SHEET'!$D$12","v":0},11520,{"$f":"'COVER SHEET'!$D$16&IF(MID('COVER SHEET'!$I$18,6,10)=\"december\",\"1231\",IF(MID('COVER SHEET'!$I$18,6,10)=\"june\",\"0630\"))","v":"20241231"},{"$f":"+'Incoming Remittances (Value)'!E53","v":0}]
["CMREM_11520","CN",{"$f":"+'Incoming Remittances (Value)'!$E$5","v":"20240930"},{"$f":"+'COVER SHEET'!$D$12","v":0},11520,{"$f":"'COVER SHEET'!$D$16&IF(MID('COVER SHEET'!$I$18,6,10)=\"december\",\"1231\",IF(MID('COVER SHEET'!$I$18,6,10)=\"june\",\"0630\"))","v":"20241231"},{"$f":"+'Incoming Remittances (Value)'!E54","v":0}]
["CMREM_11520","CX",{"$f":"+'Incoming Remittances (Value)'!$E$5","v":"20240930"},{"$f":"+'COVER SHEET'!$D$12","v":0},11520,{"$f":"'COVER SHEET'!$D$16&IF(MID('COVER SHEET'!$I$18,6,10)=\"december\",\"1231\",IF(MID('COVER SHEET'!$I$18,6,10)=\"june\",\"0630\"))","v":"20241231"},{"$f":"+'Incoming Remittances (Value)'!E55","v":0}]
["CMREM_11520","CC",{"$f":"+'Incoming Remittances (Value)'!$E$5","v":"20240930"},{"$f":"+'COVER SHEET'!$D$12","v":0},11520,{"$f":"'COVER SHEET'!$D$16&IF(MID('COVER SHEET'!$I$18,6,10)=\"december\",\"1231\",IF(MID('COVER SHEET'!$I$18,6,10)=\"june\",\"0630\"))","v":"20241231"},{"$f":"+'Incoming Remittances (Value)'!E56","v":0}]
["CMREM_11520","CO",{"$f":"+'Incoming Remittances (Value)'!$E$5","v":"20240930"},{"$f":"+'COVER SHEET'!$D$12","v":0},11520,{"$f":"'COVER SHEET'!$D$16&IF(MID('COVER SHEET'!$I$18,6,10)=\"december\",\"1231\",IF(MID('COVER SHEET'!$I$18,6,10)=\"june\",\"0630\"))","v":"20241231"},{"$f":"+'Incoming Remittances (Value)'!E57","v":0}]
["CMREM_11520","KM",{"$f":"+'Incoming Remittances (Value)'!$E$5","v":"20240930"},{"$f":"+'COVER SHEET'!$D$12","v":0},11520,{"$f":"'COVER SHEET'!$D$16&IF(MID('COVER SHEET'!$I$18,6,10)=\"december\",\"1231\",IF(MID('COVER SHEET'!$I$18,6,10)=\"june\",\"0630\"))","v":"20241231"},{"$f":"+'Incoming Remittances (Value)'!E58","v":0}]
["CMREM_11520","CG",{"$f":"+'Incoming Remittances (Value)'!$E$5","v":"20240930"},{"$f":"+'COVER SHEET'!$D$12","v":0},11520,{"$f":"'COVER SHEET'!$D$16&IF(MID('COVER SHEET'!$I$18,6,10)=\"december\",\"1231\",IF(MID('COVER SHEET'!$I$18,6,10)=\"june\",\"0630\"))","v":"20241231"},{"$f":"+'Incoming Remittances (Value)'!E59","v":0}]
["CMREM_11520","CD",{"$f":"+'Incoming Remittances (Value)'!$E$5","v":"20240930"},{"$f":"+'COVER SHEET'!$D$12","v":0},11520,{"$f":"'COVER SHEET'!$D$16&IF(MID('COVER SHEET'!$I$18,6,10)=\"december\",\"1231\",IF(MID('COVER SHEET'!$I$18,6,10)=\"june\",\"0630\"))","v":"20241231"},{"$f":"+'Incoming Remittances (Value)'!E60","v":0}]
["CMREM_11520","CK",{"$f":"+'Incoming Remittances (Value)'!$E$5","v":"20240930"},{"$f":"+'COVER SHEET'!$D$12","v":0},11520,{"$f":"'COVER SHEET'!$D$16&IF(MID('COVER SHEET'!$I$18,6,10)=\"december\",\"1231\",IF(MID('COVER SHEET'!$I$18,6,10)=\"june\",\"0630\"))","v":"20241231"},{"$f":"+'Incoming Remittances (Value)'!E61","v":0}]
["CMREM_11520","CR",{"$f":"+'Incoming Remittances (Value)'!$E$5","v":"20240930"},{"$f":"+'COVER SHEET'!$D$12","v":0},11520,{"$f":"'COVER SHEET'!$D$16&IF(MID('COVER SHEET'!$I$18,6,10)=\"december\",\"1231\",IF(MID('COVER SHEET'!$I$18,6,10)=\"june\",\"0630\"))","v":"20241231"},{"$f":"+'Incoming Remittances (Value)'!E62","v":0}]
["CMREM_11520","HR",{"$f":"+'Incoming Remittances (Value)'!$E$5","v":"20240930"},{"$f":"+'COVER SHEET'!$D$12","v":0},11520,{"$f":"'COVER SHEET'!$D$16&IF(MID('COVER SHEET'!$I$18,6,10)=\"december\",\"1231\",IF(MID('COVER SHEET'!$I$18,6,10)=\"june\",\"0630\"))","v":"20241231"},{"$f":"+'Incoming Remittances (Value)'!E63","v":0}]
["CMREM_11520","CU",{"$f":"+'Incoming Remittances (Value)'!$E$5","v":"20240930"},{"$f":"+'COVER SHEET'!$D$12","v":0},11520,{"$f":"'COVER SHEET'!$D$16&IF(MID('COVER SHEET'!$I$18,6,10)=\"december\",\"1231\",IF(MID('COVER SHEET'!$I$18,6,10)=\"june\",\"0630\"))","v":"20241231"},{"$f":"+'Incoming Remittances (Value)'!E64","v":0}]
["CMREM_11520","CW",{"$f":"+'Incoming Remittances (Value)'!$E$5","v":"20240930"},{"$f":"+'COVER SHEET'!$D$12","v":0},11520,{"$f":"'COVER SHEET'!$D$16&IF(MID('COVER SHEET'!$I$18,6,10)=\"december\",\"1231\",IF(MID('COVER SHEET'!$I$18,6,10)=\"june\",\"0630\"))","v":"20241231"},{"$f":"+'Incoming Remittances (Value)'!E65","v":0}]
["CMREM_11520","CY",{"$f":"+'Incoming Remittances (Value)'!$E$5","v":"20240930"},{"$f":"+'COVER SHEET'!$D$12","v":0},11520,{"$f":"'COVER SHEET'!$D$16&IF(MID('COVER SHEET'!$I$18,6,10)=\"december\",\"1231\",IF(MID('COVER SHEET'!$I$18,6,10)=\"june\",\"0630\"))","v":"20241231"},{"$f":"+'Incoming Remittances (Value)'!E66","v":0}]
["CMREM_11520","CZ",{"$f":"+'Incoming Remittances (Value)'!$E$5","v":"20240930"},{"$f":"+'COVER SHEET'!$D$12","v":0},11520,{"$f":"'COVER SHEET'!$D$16&IF(MID('COVER SHEET'!$I$18,6,10)=\"december\",\"1231\",IF(MID('COVER SHEET'!$I$18,6,10)=\"june\",\"0630\"))","v":"20241231"},{"$f":"+'Incoming Remittances (Value)'!E67","v":0}]
["CMREM_11520","DK",{"$f":"+'Incoming Remittances (Value)'!$E$5","v":"20240930"},{"$f":"+'COVER SHEET'!$D$12","v":0},11520,{"$f":"'COVER SHEET'!$D$16&IF(MID('COVER SHEET'!$I$18,6,10)=\"december\",\"1231\",IF(MID('COVER SHEET'!$I$18,6,10)=\"june\",\"0630\"))","v":"20241231"},{"$f":"+'Incoming Remittances (Value)'!E68","v":0}]
["CMREM_11520","DJ",{"$f":"+'Incoming Remittances (Value)'!$E$5","v":"20240930"},{"$f":"+'COVER SHEET'!$D$12","v":0},11520,{"$f":"'COVER SHEET'!$D$16&IF(MID('COVER SHEET'!$I$18,6,10)=\"december\",\"1231\",IF(MID('COVER SHEET'!$I$18,6,10)=\"june\",\"0630\"))","v":"20241231"},{"$f":"+'Incoming Remittances (Value)'!E69","v":0}]
["CMREM_11520","DM",{"$f":"+'Incoming Remittances (Value)'!$E$5","v":"20240930"},{"$f":"+'COVER SHEET'!$D$12","v":0},11520,{"$f":"'COVER SHEET'!$D$16&IF(MID('COVER SHEET'!$I$18,6,10)=\"december\",\"1231\",IF(MID('COVER SHEET'!$I$18,6,10)=\"june\",\"0630\"))","v":"20241231"},{"$f":"+'Incoming Remittances (Value)'!E70","v":0}]
["CMREM_11520","DO",{"$f":"+'Incoming Remittances (Value)'!$E$5","v":"20240930"},{"$f":"+'COVER SHEET'!$D$12","v":0},11520,{"$f":"'COVER SHEET'!$D$16&IF(MID('COVER SHEET'!$I$18,6,10)=\"december\",\"1231\",IF(MID('COVER SHEET'!$I$18,6,10)=\"june\",\"0630\"))","v":"20241231"},{"$f":"+'Incoming Remittances (Value)'!E71","v":0}]
["CMREM_11520","TL",{"$f":"+'Incoming Remittances (Value)'!$E$5","v":"20240930"},{"$f":"+'COVER SHEET'!$D$12","v":0},11520,{"$f":"'COVER SHEET'!$D$16&IF(MID('COVER SHEET'!$I$18,6,10)=\"december\",\"1231\",IF(MID('COVER SHEET'!$I$18,6,10)=\"june\",\"0630\"))","v":"20241231"},{"$f":"+'Incoming Remittances (Value)'!E72","v":0}]
["CMREM_11520","EC",{"$f":"+'Incoming Remittances (Value)'!$E$5","v":"20240930"},{"$f":"+'COVER SHEET'!$D$12","v":0},11520,{"$f":"'COVER SHEET'!$D$16&IF(MID('COVER SHEET'!$I$18,6,10)=\"december\",\"1231\",IF(MID('COVER SHEET'!$I$18,6,10)=\"june\",\"0630\"))","v":"20241231"},{"$f":"+'Incoming Remittances (Value)'!E73","v":0}]
["CMREM_11520","EG",{"$f":"+'Incoming Remittances (Value)'!$E$5","v":"20240930"},{"$f":"+'COVER SHEET'!$D$12","v":0},11520,{"$f":"'COVER SHEET'!$D$16&IF(MID('COVER SHEET'!$I$18,6,10)=\"december\",\"1231\",IF(MID('COVER SHEET'!$I$18,6,10)=\"june\",\"0630\"))","v":"20241231"},{"$f":"+'Incoming Remittances (Value)'!E74","v":0}]
["CMREM_11520","SV",{"$f":"+'Incoming Remittances (Value)'!$E$5","v":"20240930"},{"$f":"+'COVER SHEET'!$D$12","v":0},11520,{"$f":"'COVER SHEET'!$D$16&IF(MID('COVER SHEET'!$I$18,6,10)=\"december\",\"1231\",IF(MID('COVER SHEET'!$I$18,6,10)=\"june\",\"0630\"))","v":"20241231"},{"$f":"+'Incoming Remittances (Value)'!E75","v":0}]
["CMREM_11520","GQ",{"$f":"+'Incoming Remittances (Value)'!$E$5","v":"20240930"},{"$f":"+'COVER SHEET'!$D$12","v":0},11520,{"$f":"'COVER SHEET'!$D$16&IF(MID('COVER SHEET'!$I$18,6,10)=\"december\",\"1231\",IF(MID('COVER SHEET'!$I$18,6,10)=\"june\",\"0630\"))","v":"20241231"},{"$f":"+'Incoming Remittances (Value)'!E76","v":0}]
["CMREM_11520","ER",{"$f":"+'Incoming Remittances (Value)'!$E$5","v":"20240930"},{"$f":"+'COVER SHEET'!$D$12","v":0},11520,{"$f":"'COVER SHEET'!$D$16&IF(MID('COVER SHEET'!$I$18,6,10)=\"december\",\"1231\",IF(MID('COVER SHEET'!$I$18,6,10)=\"june\",\"0630\"))","v":"20241231"},{"$f":"+'Incoming Remittances (Value)'!E77","v":0}]
["CMREM_11520","EE",{"$f":"+'Incoming Remittances (Value)'!$E$5","v":"20240930"},{"$f":"+'COVER SHEET'!$D$12","v":0},11520,{"$f":"'COVER SHEET'!$D$16&IF(MID('COVER SHEET'!$I$18,6,10)=\"december\",\"1231\",IF(MID('COVER SHEET'!$I$18,6,10)=\"june\",\"0630\"))","v":"20241231"},{"$f":"+'Incoming Remittances (Value)'!E78","v":0}]
["CMREM_11520","ET",{"$f":"+'Incoming Remittances (Value)'!$E$5","v":"20240930"},{"$f":"+'COVER SHEET'!$D$12","v":0},11520,{"$f":"'COVER SHEET'!$D$16&IF(MID('COVER SHEET'!$I$18,6,10)=\"december\",\"1231\",IF(MID('COVER SHEET'!$I$18,6,10)=\"june\",\"0630\"))","v":"20241231"},{"$f":"+'Incoming Remittances (Value)'!E79","v":0}]
["CMREM_11520","FK",{"$f":"+'Incoming Remittances (Value)'!$E$5","v":"20240930"},{"$f":"+'COVER SHEET'!$D$12","v":0},11520,{"$f":"'COVER SHEET'!$D$16&IF(MID('COVER SHEET'!$I$18,6,10)=\"december\",\"1231\",IF(MID('COVER SHEET'!$I$18,6,10)=\"june\",\"0630\"))","v":"20241231"},{"$f":"+'Incoming Remittances (Value)'!E80","v":0}]
["CMREM_11520","FO",{"$f":"+'Incoming Remittances (Value)'!$E$5","v":"20240930"},{"$f":"+'COVER SHEET'!$D$12","v":0},11520,{"$f":"'COVER SHEET'!$D$16&IF(MID('COVER SHEET'!$I$18,6,10)=\"december\",\"1231\",IF(MID('COVER SHEET'!$I$18,6,10)=\"june\",\"0630\"))","v":"20241231"},{"$f":"+'Incoming Remittances (Value)'!E81","v":0}]
["CMREM_11520","FJ",{"$f":"+'Incoming Remittances (Value)'!$E$5","v":"20240930"},{"$f":"+'COVER SHEET'!$D$12","v":0},11520,{"$f":"'COVER SHEET'!$D$16&IF(MID('COVER SHEET'!$I$18,6,10)=\"december\",\"1231\",IF(MID('COVER SHEET'!$I$18,6,10)=\"june\",\"0630\"))","v":"20241231"},{"$f":"+'Incoming Remittances (Value)'!E82","v":0}]
["CMREM_11520","FI",{"$f":"+'Incoming Remittances (Value)'!$E$5","v":"20240930"},{"$f":"+'COVER SHEET'!$D$12","v":0},11520,{"$f":"'COVER SHEET'!$D$16&IF(MID('COVER SHEET'!$I$18,6,10)=\"december\",\"1231\",IF(MID('COVER SHEET'!$I$18,6,10)=\"june\",\"0630\"))","v":"20241231"},{"$f":"+'Incoming Remittances (Value)'!E83","v":0}]
["CMREM_11520","FR",{"$f":"+'Incoming Remittances (Value)'!$E$5","v":"20240930"},{"$f":"+'COVER SHEET'!$D$12","v":0},11520,{"$f":"'COVER SHEET'!$D$16&IF(MID('COVER SHEET'!$I$18,6,10)=\"december\",\"1231\",IF(MID('COVER SHEET'!$I$18,6,10)=\"june\",\"0630\"))","v":"20241231"},{"$f":"+'Incoming Remittances (Value)'!E84","v":0}]
["CMREM_11520","PF",{"$f":"+'Incoming Remittances (Value)'!$E$5","v":"20240930"},{"$f":"+'COVER SHEET'!$D$12","v":0},11520,{"$f":"'COVER SHEET'!$D$16&IF(MID('COVER SHEET'!$I$18,6,10)=\"december\",\"1231\",IF(MID('COVER SHEET'!$I$18,6,10)=\"june\",\"0630\"))","v":"20241231"},{"$f":"+'Incoming Remittances (Value)'!E85","v":0}]
["CMREM_11520","TF",{"$f":"+'Incoming Remittances (Value)'!$E$5","v":"20240930"},{"$f":"+'COVER SHEET'!$D$12","v":0},11520,{"$f":"'COVER SHEET'!$D$16&IF(MID('COVER SHEET'!$I$18,6,10)=\"december\",\"1231\",IF(MID('COVER SHEET'!$I$18,6,10)=\"june\",\"0630\"))","v":"20241231"},{"$f":"+'Incoming Remittances (Value)'!E86","v":0}]
["CMREM_11520","GA",{"$f":"+'Incoming Remittances (Value)'!$E$5","v":"20240930"},{"$f":"+'COVER SHEET'!$D$12","v":0},11520,{"$f":"'COVER SHEET'!$D$16&IF(MID('COVER SHEET'!$I$18,6,10)=\"december\",\"1231\",IF(MID('COVER SHEET'!$I$18,6,10)=\"june\",\"0630\"))","v":"20241231"},{"$f":"+'Incoming Remittances (Value)'!E87","v":0}]
["CMREM_11520","GM",{"$f":"+'Incoming Remittances (Value)'!$E$5","v":"20240930"},{"$f":"+'COVER SHEET'!$D$12","v":0},11520,{"$f":"'COVER SHEET'!$D$16&IF(MID('COVER SHEET'!$I$18,6,10)=\"december\",\"1231\",IF(MID('COVER SHEET'!$I$18,6,10)=\"june\",\"0630\"))","v":"20241231"},{"$f":"+'Incoming Remittances (Value)'!E88","v":0}]
["CMREM_11520","GE",{"$f":"+'Incoming Remittances (Value)'!$E$5","v":"20240930"},{"$f":"+'COVER SHEET'!$D$12","v":0},11520,{"$f":"'COVER SHEET'!$D$16&IF(MID('COVER SHEET'!$I$18,6,10)=\"december\",\"1231\",IF(MID('COVER SHEET'!$I$18,6,10)=\"june\",\"0630\"))","v":"20241231"},{"$f":"+'Incoming Remittances (Value)'!E89","v":0}]
["CMREM_11520","DE",{"$f":"+'Incoming Remittances (Value)'!$E$5","v":"20240930"},{"$f":"+'COVER SHEET'!$D$12","v":0},11520,{"$f":"'COVER SHEET'!$D$16&IF(MID('COVER SHEET'!$I$18,6,10)=\"december\",\"1231\",IF(MID('COVER SHEET'!$I$18,6,10)=\"june\",\"0630\"))","v":"20241231"},{"$f":"+'Incoming Remittances (Value)'!E90","v":0}]
["CMREM_11520","GH",{"$f":"+'Incoming Remittances (Value)'!$E$5","v":"20240930"},{"$f":"+'COVER SHEET'!$D$12","v":0},11520,{"$f":"'COVER SHEET'!$D$16&IF(MID('COVER SHEET'!$I$18,6,10)=\"december\",\"1231\",IF(MID('COVER SHEET'!$I$18,6,10)=\"june\",\"0630\"))","v":"20241231"},{"$f":"+'Incoming Remittances (Value)'!E91","v":0}]
["CMREM_11520","GI",{"$f":"+'Incoming Remittances (Value)'!$E$5","v":"20240930"},{"$f":"+'COVER SHEET'!$D$12","v":0},11520,{"$f":"'COVER SHEET'!$D$16&IF(MID('COVER SHEET'!$I$18,6,10)=\"december\",\"1231\",IF(MID('COVER SHEET'!$I$18,6,10)=\"june\",\"0630\"))","v":"20241231"},{"$f":"+'Incoming Remittances (Value)'!E92","v":0}]
["CMREM_11520","GR",{"$f":"+'Incoming Remittances (Value)'!$E$5","v":"20240930"},{"$f":"+'COVER SHEET'!$D$12","v":0},11520,{"$f":"'COVER SHEET'!$D$16&IF(MID('COVER SHEET'!$I$18,6,10)=\"december\",\"1231\",IF(MID('COVER SHEET'!$I$18,6,10)=\"june\",\"0630\"))","v":"20241231"},{"$f":"+'Incoming Remittances (Value)'!E93","v":0}]
["CMREM_11520","GL",{"$f":"+'Incoming Remittances (Value)'!$E$5","v":"20240930"},{"$f":"+'COVER SHEET'!$D$12","v":0},11520,{"$f":"'COVER SHEET'!$D$16&IF(MID('COVER SHEET'!$I$18,6,10)=\"december\",\"1231\",IF(MID('COVER SHEET'!$I$18,6,10)=\"june\",\"0630\"))","v":"20241231"},{"$f":"+'Incoming Remittances (Value)'!E94","v":0}]
["CMREM_11520","GD",{"$f":"+'Incoming Remittances (Value)'!$E$5","v":"20240930"},{"$f":"+'COVER SHEET'!$D$12","v":0},11520,{"$f":"'COVER SHEET'!$D$16&IF(MID('COVER SHEET'!$I$18,6,10)=\"december\",\"1231\",IF(MID('COVER SHEET'!$I$18,6,10)=\"june\",\"0630\"))","v":"20241231"},{"$f":"+'Incoming Remittances (Value)'!E95","v":0}]
["CMREM_11520","GU",{"$f":"+'Incoming Remittances (Value)'!$E$5","v":"20240930"},{"$f":"+'COVER SHEET'!$D$12","v":0},11520,{"$f":"'COVER SHEET'!$D$16&IF(MID('COVER SHEET'!$I$18,6,10)=\"december\",\"1231\",IF(MID('COVER SHEET'!$I$18,6,10)=\"june\",\"0630\"))","v":"20241231"},{"$f":"+'Incoming Remittances (Value)'!E96","v":0}]
["CMREM_11520","GT",{"$f":"+'Incoming Remittances (Value)'!$E$5","v":"20240930"},{"$f":"+'COVER SHEET'!$D$12","v":0},11520,{"$f":"'COVER SHEET'!$D$16&IF(MID('COVER SHEET'!$I$18,6,10)=\"december\",\"1231\",IF(MID('COVER SHEET'!$I$18,6,10)=\"june\",\"0630\"))","v":"20241231"},{"$f":"+'Incoming Remittances (Value)'!E97","v":0}]
["CMREM_11520","GG",{"$f":"+'Incoming Remittances (Value)'!$E$5","v":"20240930"},{"$f":"+'COVER SHEET'!$D$12","v":0},11520,{"$f":"'COVER SHEET'!$D$16&IF(MID('COVER SHEET'!$I$18,6,10)=\"december\",\"1231\",IF(MID('COVER SHEET'!$I$18,6,10)=\"june\",\"0630\"))","v":"20241231"},{"$f":"+'Incoming Remittances (Value)'!E98","v":0}]
["CMREM_11520","GN",{"$f":"+'Incoming Remittances (Value)'!$E$5","v":"20240930"},{"$f":"+'COVER SHEET'!$D$12","v":0},11520,{"$f":"'COVER SHEET'!$D$16&IF(MID('COVER SHEET'!$I$18,6,10)=\"december\",\"1231\",IF(MID('COVER SHEET'!$I$18,6,10)=\"june\",\"0630\"))","v":"20241231"},{"$f":"+'Incoming Remittances (Value)'!E99","v":0}]
["CMREM_11520","GW",{"$f":"+'Incoming Remittances (Value)'!$E$5","v":"20240930"},{"$f":"+'COVER SHEET'!$D$12","v":0},11520,{"$f":"'COVER SHEET'!$D$16&IF(MID('COVER SHEET'!$I$18,6,10)=\"december\",\"1231\",IF(MID('COVER SHEET'!$I$18,6,10)=\"june\",\"0630\"))","v":"20241231"},{"$f":"+'Incoming Remittances (Value)'!E100","v":0}]
["CMREM_11520","GY",{"$f":"+'Incoming Remittances (Value)'!$E$5","v":"20240930"},{"$f":"+'COVER SHEET'!$D$12","v":0},11520,{"$f":"'COVER SHEET'!$D$16&IF(MID('COVER SHEET'!$I$18,6,10)=\"december\",\"1231\",IF(MID('COVER SHEET'!$I$18,6,10)=\"june\",\"0630\"))","v":"20241231"},{"$f":"+'Incoming Remittances (Value)'!E101","v":0}]
["CMREM_11520","HT",{"$f":"+'Incoming Remittances (Value)'!$E$5","v":"20240930"},{"$f":"+'COVER SHEET'!$D$12","v":0},11520,{"$f":"'COVER SHEET'!$D$16&IF(MID('COVER SHEET'!$I$18,6,10)=\"december\",\"1231\",IF(MID('COVER SHEET'!$I$18,6,10)=\"june\",\"0630\"))","v":"20241231"},{"$f":"+'Incoming Remittances (Value)'!E102","v":0}]
["CMREM_11520","HM",{"$f":"+'Incoming Remittances (Value)'!$E$5","v":"20240930"},{"$f":"+'COVER SHEET'!$D$12","v":0},11520,{"$f":"'COVER SHEET'!$D$16&IF(MID('COVER SHEET'!$I$18,6,10)=\"december\",\"1231\",IF(MID('COVER SHEET'!$I$18,6,10)=\"june\",\"0630\"))","v":"20241231"},{"$f":"+'Incoming Remittances (Value)'!E103","v":0}]
["CMREM_11520","VA",{"$f":"+'Incoming Remittances (Value)'!$E$5","v":"20240930"},{"$f":"+'COVER SHEET'!$D$12","v":0},11520,{"$f":"'COVER SHEET'!$D$16&IF(MID('COVER SHEET'!$I$18,6,10)=\"december\",\"1231\",IF(MID('COVER SHEET'!$I$18,6,10)=\"june\",\"0630\"))","v":"20241231"},{"$f":"+'Incoming Remittances (Value)'!E104","v":0}]
["CMREM_11520","HN",{"$f":"+'Incoming Remittances (Value)'!$E$5","v":"20240930"},{"$f":"+'COVER SHEET'!$D$12","v":0},11520,{"$f":"'COVER SHEET'!$D$16&IF(MID('COVER SHEET'!$I$18,6,10)=\"december\",\"1231\",IF(MID('COVER SHEET'!$I$18,6,10)=\"june\",\"0630\"))","v":"20241231"},{"$f":"+'Incoming Remittances (Value)'!E105","v":0}]
["CMREM_11520","HK",{"$f":"+'Incoming Remittances (Value)'!$E$5","v":"20240930"},{"$f":"+'COVER SHEET'!$D$12","v":0},11520,{"$f":"'COVER SHEET'!$D$16&IF(MID('COVER SHEET'!$I$18,6,10)=\"december\",\"1231\",IF(MID('COVER SHEET'!$I$18,6,10)=\"june\",\"0630\"))","v":"20241231"},{"$f":"+'Incoming Remittances (Value)'!E106","v":0}]
["CMREM_11520","HU",{"$f":"+'Incoming Remittances (Value)'!$E$5","v":"20240930"},{"$f":"+'COVER SHEET'!$D$12","v":0},11520,{"$f":"'COVER SHEET'!$D$16&IF(MID('COVER SHEET'!$I$18,6,10)=\"december\",\"1231\",IF(MID('COVER SHEET'!$I$18,6,10)=\"june\",\"0630\"))","v":"20241231"},{"$f":"+'Incoming Remittances (Value)'!E107","v":0}]
["CMREM_11520","IS",{"$f":"+'Incoming Remittances (Value)'!$E$5","v":"20240930"},{"$f":"+'COVER SHEET'!$D$12","v":0},11520,{"$f":"'COVER SHEET'!$D$16&IF(MID('COVER SHEET'!$I$18,6,10)=\"december\",\"1231\",IF(MID('COVER SHEET'!$I$18,6,10)=\"june\",\"0630\"))","v":"20241231"},{"$f":"+'Incoming Remittances (Value)'!E108","v":0}]
["CMREM_11520","IN",{"$f":"+'Incoming Remittances (Value)'!$E$5","v":"20240930"},{"$f":"+'COVER SHEET'!$D$12","v":0},11520,{"$f":"'COVER SHEET'!$D$16&IF(MID('COVER SHEET'!$I$18,6,10)=\"december\",\"1231\",IF(MID('COVER SHEET'!$I$18,6,10)=\"june\",\"0630\"))","v":"20241231"},{"$f":"+'Incoming Remittances (Value)'!E109","v":0}]
["CMREM_11520","ID",{"$f":"+'Incoming Remittances (Value)'!$E$5","v":"20240930"},{"$f":"+'COVER SHEET'!$D$12","v":0},11520,{"$f":"'COVER SHEET'!$D$16&IF(MID('COVER SHEET'!$I$18,6,10)=\"december\",\"1231\",IF(MID('COVER SHEET'!$I$18,6,10)=\"june\",\"0630\"))","v":"20241231"},{"$f":"+'Incoming Remittances (Value)'!E110","v":0}]
["CMREM_11520","IR",{"$f":"+'Incoming Remittances (Value)'!$E$5","v":"20240930"},{"$f":"+'COVER SHEET'!$D$12","v":0},11520,{"$f":"'COVER SHEET'!$D$16&IF(MID('COVER SHEET'!$I$18,6,10)=\"december\",\"1231\",IF(MID('COVER SHEET'!$I$18,6,10)=\"june\",\"0630\"))","v":"20241231"},{"$f":"+'Incoming Remittances (Value)'!E111","v":0}]
["CMREM_11520","IQ",{"$f":"+'Incoming Remittances (Value)'!$E$5","v":"20240930"},{"$f":"+'COVER SHEET'!$D$12","v":0},11520,{"$f":"'COVER SHEET'!$D$16&IF(MID('COVER SHEET'!$I$18,6,10)=\"december\",\"1231\",IF(MID('COVER SHEET'!$I$18,6,10)=\"june\",\"0630\"))","v":"20241231"},{"$f":"+'Incoming Remittances (Value)'!E112","v":0}]
["CMREM_11520","IE",{"$f":"+'Incoming Remittances (Value)'!$E$5","v":"20240930"},{"$f":"+'COVER SHEET'!$D$12","v":0},11520,{"$f":"'COVER SHEET'!$D$16&IF(MID('COVER SHEET'!$I$18,6,10)=\"december\",\"1231\",IF(MID('COVER SHEET'!$I$18,6,10)=\"june\",\"0630\"))","v":"20241231"},{"$f":"+'Incoming Remittances (Value)'!E113","v":0}]
["CMREM_11520","IM",{"$f":"+'Incoming Remittances (Value)'!$E$5","v":"20240930"},{"$f":"+'COVER SHEET'!$D$12","v":0},11520,{"$f":"'COVER SHEET'!$D$16&IF(MID('COVER SHEET'!$I$18,6,10)=\"december\",\"1231\",IF(MID('COVER SHEET'!$I$18,6,10)=\"june\",\"0630\"))","v":"20241231"},{"$f":"+'Incoming Remittances (Value)'!E114","v":0}]
["CMREM_11520","IL",{"$f":"+'Incoming Remittances (Value)'!$E$5","v":"20240930"},{"$f":"+'COVER SHEET'!$D$12","v":0},11520,{"$f":"'COVER SHEET'!$D$16&IF(MID('COVER SHEET'!$I$18,6,10)=\"december\",\"1231\",IF(MID('COVER SHEET'!$I$18,6,10)=\"june\",\"0630\"))","v":"20241231"},{"$f":"+'Incoming Remittances (Value)'!E115","v":0}]
["CMREM_11520","IT",{"$f":"+'Incoming Remittances (Value)'!$E$5","v":"20240930"},{"$f":"+'COVER SHEET'!$D$12","v":0},11520,{"$f":"'COVER SHEET'!$D$16&IF(MID('COVER SHEET'!$I$18,6,10)=\"december\",\"1231\",IF(MID('COVER SHEET'!$I$18,6,10)=\"june\",\"0630\"))","v":"20241231"},{"$f":"+'Incoming Remittances (Value)'!E116","v":0}]
["CMREM_11520","CI",{"$f":"+'Incoming Remittances (Value)'!$E$5","v":"20240930"},{"$f":"+'COVER SHEET'!$D$12","v":0},11520,{"$f":"'COVER SHEET'!$D$16&IF(MID('COVER SHEET'!$I$18,6,10)=\"december\",\"1231\",IF(MID('COVER SHEET'!$I$18,6,10)=\"june\",\"0630\"))","v":"20241231"},{"$f":"+'Incoming Remittances (Value)'!E117","v":0}]
["CMREM_11520","JM",{"$f":"+'Incoming Remittances (Value)'!$E$5","v":"20240930"},{"$f":"+'COVER SHEET'!$D$12","v":0},11520,{"$f":"'COVER SHEET'!$D$16&IF(MID('COVER SHEET'!$I$18,6,10)=\"december\",\"1231\",IF(MID('COVER SHEET'!$I$18,6,10)=\"june\",\"0630\"))","v":"20241231"},{"$f":"+'Incoming Remittances (Value)'!E118","v":0}]
["CMREM_11520","JP",{"$f":"+'Incoming Remittances (Value)'!$E$5","v":"20240930"},{"$f":"+'COVER SHEET'!$D$12","v":0},11520,{"$f":"'COVER SHEET'!$D$16&IF(MID('COVER SHEET'!$I$18,6,10)=\"december\",\"1231\",IF(MID('COVER SHEET'!$I$18,6,10)=\"june\",\"0630\"))","v":"20241231"},{"$f":"+'Incoming Remittances (Value)'!E119","v":0}]
["CMREM_11520","JE",{"$f":"+'Incoming Remittances (Value)'!$E$5","v":"20240930"},{"$f":"+'COVER SHEET'!$D$12","v":0},11520,{"$f":"'COVER SHEET'!$D$16&IF(MID('COVER SHEET'!$I$18,6,10)=\"december\",\"1231\",IF(MID('COVER SHEET'!$I$18,6,10)=\"june\",\"0630\"))","v":"20241231"},{"$f":"+'Incoming Remittances (Value)'!E120","v":0}]
["CMREM_11520","JO",{"$f":"+'Incoming Remittances (Value)'!$E$5","v":"20240930"},{"$f":"+'COVER SHEET'!$D$12","v":0},11520,{"$f":"'COVER SHEET'!$D$16&IF(MID('COVER SHEET'!$I$18,6,10)=\"december\",\"1231\",IF(MID('COVER SHEET'!$I$18,6,10)=\"june\",\"0630\"))","v":"20241231"},{"$f":"+'Incoming Remittances (Value)'!E121","v":0}]
["CMREM_11520","KZ",{"$f":"+'Incoming Remittances (Value)'!$E$5","v":"20240930"},{"$f":"+'COVER SHEET'!$D$12","v":0},11520,{"$f":"'COVER SHEET'!$D$16&IF(MID('COVER SHEET'!$I$18,6,10)=\"december\",\"1231\",IF(MID('COVER SHEET'!$I$18,6,10)=\"june\",\"0630\"))","v":"20241231"},{"$f":"+'Incoming Remittances (Value)'!E122","v":0}]
["CMREM_11520","KE",{"$f":"+'Incoming Remittances (Value)'!$E$5","v":"20240930"},{"$f":"+'COVER SHEET'!$D$12","v":0},11520,{"$f":"'COVER SHEET'!$D$16&IF(MID('COVER SHEET'!$I$18,6,10)=\"december\",\"1231\",IF(MID('COVER SHEET'!$I$18,6,10)=\"june\",\"0630\"))","v":"20241231"},{"$f":"+'Incoming Remittances (Value)'!E123","v":0}]
["CMREM_11520","KI",{"$f":"+'Incoming Remittances (Value)'!$E$5","v":"20240930"},{"$f":"+'COVER SHEET'!$D$12","v":0},11520,{"$f":"'COVER SHEET'!$D$16&IF(MID('COVER SHEET'!$I$18,6,10)=\"december\",\"1231\",IF(MID('COVER SHEET'!$I$18,6,10)=\"june\",\"0630\"))","v":"20241231"},{"$f":"+'Incoming Remittances (Value)'!E124","v":0}]
["CMREM_11520","KP",{"$f":"+'Incoming Remittances (Value)'!$E$5","v":"20240930"},{"$f":"+'COVER SHEET'!$D$12","v":0},11520,{"$f":"'COVER SHEET'!$D$16&IF(MID('COVER SHEET'!$I$18,6,10)=\"december\",\"1231\",IF(MID('COVER SHEET'!$I$18,6,10)=\"june\",\"0630\"))","v":"20241231"},{"$f":"+'Incoming Remittances (Value)'!E125","v":0}]
["CMREM_11520","KR",{"$f":"+'Incoming Remittances (Value)'!$E$5","v":"20240930"},{"$f":"+'COVER SHEET'!$D$12","v":0},11520,{"$f":"'COVER SHEET'!$D$16&IF(MID('COVER SHEET'!$I$18,6,10)=\"december\",\"1231\",IF(MID('COVER SHEET'!$I$18,6,10)=\"june\",\"0630\"))","v":"20241231"},{"$f":"+'Incoming Remittances (Value)'!E126","v":0}]
["CMREM_11520","XK",{"$f":"+'Incoming Remittances (Value)'!$E$5","v":"20240930"},{"$f":"+'COVER SHEET'!$D$12","v":0},11520,{"$f":"'COVER SHEET'!$D$16&IF(MID('COVER SHEET'!$I$18,6,10)=\"december\",\"1231\",IF(MID('COVER SHEET'!$I$18,6,10)=\"june\",\"0630\"))","v":"20241231"},{"$f":"+'Incoming Remittances (Value)'!E127","v":0}]
["CMREM_11520","KW",{"$f":"+'Incoming Remittances (Value)'!$E$5","v":"20240930"},{"$f":"+'COVER SHEET'!$D$12","v":0},11520,{"$f":"'COVER SHEET'!$D$16&IF(MID('COVER SHEET'!$I$18,6,10)=\"december\",\"1231\",IF(MID('COVER SHEET'!$I$18,6,10)=\"june\",\"0630\"))","v":"20241231"},{"$f":"+'Incoming Remittances (Value)'!E128","v":0}]
["CMREM_11520","KG",{"$f":"+'Incoming Remittances (Value)'!$E$5","v":"20240930"},{"$f":"+'COVER SHEET'!$D$12","v":0},11520,{"$f":"'COVER SHEET'!$D$16&IF(MID('COVER SHEET'!$I$18,6,10)=\"december\",\"1231\",IF(MID('COVER SHEET'!$I$18,6,10)=\"june\",\"0630\"))","v":"20241231"},{"$f":"+'Incoming Remittances (Value)'!E129","v":0}]
["CMREM_11520","LA",{"$f":"+'Incoming Remittances (Value)'!$E$5","v":"20240930"},{"$f":"+'COVER SHEET'!$D$12","v":0},11520,{"$f":"'COVER SHEET'!$D$16&IF(MID('COVER SHEET'!$I$18,6,10)=\"december\",\"1231\",IF(MID('COVER SHEET'!$I$18,6,10)=\"june\",\"0630\"))","v":"20241231"},{"$f":"+'Incoming Remittances (Value)'!E130","v":0}]
["CMREM_11520","LV",{"$f":"+'Incoming Remittances (Value)'!$E$5","v":"20240930"},{"$f":"+'COVER SHEET'!$D$12","v":0},11520,{"$f":"'COVER SHEET'!$D$16&IF(MID('COVER SHEET'!$I$18,6,10)=\"december\",\"1231\",IF(MID('COVER SHEET'!$I$18,6,10)=\"june\",\"0630\"))","v":"20241231"},{"$f":"+'Incoming Remittances (Value)'!E131","v":0}]
["CMREM_11520","LB",{"$f":"+'Incoming Remittances (Value)'!$E$5","v":"20240930"},{"$f":"+'COVER SHEET'!$D$12","v":0},11520,{"$f":"'COVER SHEET'!$D$16&IF(MID('COVER SHEET'!$I$18,6,10)=\"december\",\"1231\",IF(MID('COVER SHEET'!$I$18,6,10)=\"june\",\"0630\"))","v":"20241231"},{"$f":"+'Incoming Remittances (Value)'!E132","v":0}]
["CMREM_11520","LS",{"$f":"+'Incoming Remittances (Value)'!$E$5","v":"20240930"},{"$f":"+'COVER SHEET'!$D$12","v":0},11520,{"$f":"'COVER SHEET'!$D$16&IF(MID('COVER SHEET'!$I$18,6,10)=\"december\",\"1231\",IF(MID('COVER SHEET'!$I$18,6,10)=\"june\",\"0630\"))","v":"20241231"},{"$f":"+'Incoming Remittances (Value)'!E133","v":0}]
["CMREM_11520","LR",{"$f":"+'Incoming Remittances (Value)'!$E$5","v":"20240930"},{"$f":"+'COVER SHEET'!$D$12","v":0},11520,{"$f":"'COVER SHEET'!$D$16&IF(MID('COVER SHEET'!$I$18,6,10)=\"december\",\"1231\",IF(MID('COVER SHEET'!$I$18,6,10)=\"june\",\"0630\"))","v":"20241231"},{"$f":"+'Incoming Remittances (Value)'!E134","v":0}]
["CMREM_11520","LY",{"$f":"+'Incoming Remittances (Value)'!$E$5","v":"20240930"},{"$f":"+'COVER SHEET'!$D$12","v":0},11520,{"$f":"'COVER SHEET'!$D$16&IF(MID('COVER SHEET'!$I$18,6,10)=\"december\",\"1231\",IF(MID('COVER SHEET'!$I$18,6,10)=\"june\",\"0630\"))","v":"20241231"},{"$f":"+'Incoming Remittances (Value)'!E135","v":0}]
["CMREM_11520","LI",{"$f":"+'Incoming Remittances (Value)'!$E$5","v":"20240930"},{"$f":"+'COVER SHEET'!$D$12","v":0},11520,{"$f":"'COVER SHEET'!$D$16&IF(MID('COVER SHEET'!$I$18,6,10)=\"december\",\"1231\",IF(MID('COVER SHEET'!$I$18,6,10)=\"june\",\"0630\"))","v":"20241231"},{"$f":"+'Incoming Remittances (Value)'!E136","v":0}]
["CMREM_11520","LT",{"$f":"+'Incoming Remittances (Value)'!$E$5","v":"20240930"},{"$f":"+'COVER SHEET'!$D$12","v":0},11520,{"$f":"'COVER SHEET'!$D$16&IF(MID('COVER SHEET'!$I$18,6,10)=\"december\",\"1231\",IF(MID('COVER SHEET'!$I$18,6,10)=\"june\",\"0630\"))","v":"20241231"},{"$f":"+'Incoming Remittances (Value)'!E137","v":0}]
["CMREM_11520","LU",{"$f":"+'Incoming Remittances (Value)'!$E$5","v":"20240930"},{"$f":"+'COVER SHEET'!$D$12","v":0},11520,{"$f":"'COVER SHEET'!$D$16&IF(MID('COVER SHEET'!$I$18,6,10)=\"december\",\"1231\",IF(MID('COVER SHEET'!$I$18,6,10)=\"june\",\"0630\"))","v":"20241231"},{"$f":"+'Incoming Remittances (Value)'!E138","v":0}]
["CMREM_11520","MO",{"$f":"+'Incoming Remittances (Value)'!$E$5","v":"20240930"},{"$f":"+'COVER SHEET'!$D$12","v":0},11520,{"$f":"'COVER SHEET'!$D$16&IF(MID('COVER SHEET'!$I$18,6,10)=\"december\",\"1231\",IF(MID('COVER SHEET'!$I$18,6,10)=\"june\",\"0630\"))","v":"20241231"},{"$f":"+'Incoming Remittances (Value)'!E139","v":0}]
["CMREM_11520","MK",{"$f":"+'Incoming Remittances (Value)'!$E$5","v":"20240930"},{"$f":"+'COVER SHEET'!$D$12","v":0},11520,{"$f":"'COVER SHEET'!$D$16&IF(MID('COVER SHEET'!$I$18,6,10)=\"december\",\"1231\",IF(MID('COVER SHEET'!$I$18,6,10)=\"june\",\"0630\"))","v":"20241231"},{"$f":"+'Incoming Remittances (Value)'!E140","v":0}]
["CMREM_11520","MG",{"$f":"+'Incoming Remittances (Value)'!$E$5","v":"20240930"},{"$f":"+'COVER SHEET'!$D$12","v":0},11520,{"$f":"'COVER SHEET'!$D$16&IF(MID('COVER SHEET'!$I$18,6,10)=\"december\",\"1231\",IF(MID('COVER SHEET'!$I$18,6,10)=\"june\",\"0630\"))","v":"20241231"},{"$f":"+'Incoming Remittances (Value)'!E141","v":0}]
["CMREM_11520","MW",{"$f":"+'Incoming Remittances (Value)'!$E$5","v":"20240930"},{"$f":"+'COVER SHEET'!$D$12","v":0},11520,{"$f":"'COVER SHEET'!$D$16&IF(MID('COVER SHEET'!$I$18,6,10)=\"december\",\"1231\",IF(MID('COVER SHEET'!$I$18,6,10)=\"june\",\"0630\"))","v":"20241231"},{"$f":"+'Incoming Remittances (Value)'!E142","v":0}]
["CMREM_11520","MY",{"$f":"+'Incoming Remittances (Value)'!$E$5","v":"20240930"},{"$f":"+'COVER SHEET'!$D$12","v":0},11520,{"$f":"'COVER SHEET'!$D$16&IF(MID('COVER SHEET'!$I$18,6,10)=\"december\",\"1231\",IF(MID('COVER SHEET'!$I$18,6,10)=\"june\",\"0630\"))","v":"20241231"},{"$f":"+'Incoming Remittances (Value)'!E143","v":0}]
["CMREM_11520","MV",{"$f":"+'Incoming Remittances (Value)'!$E$5","v":"20240930"},{"$f":"+'COVER SHEET'!$D$12","v":0},11520,{"$f":"'COVER SHEET'!$D$16&IF(MID('COVER SHEET'!$I$18,6,10)=\"december\",\"1231\",IF(MID('COVER SHEET'!$I$18,6,10)=\"june\",\"0630\"))","v":"20241231"},{"$f":"+'Incoming Remittances (Value)'!E144","v":0}]
["CMREM_11520","ML",{"$f":"+'Incoming Remittances (Value)'!$E$5","v":"20240930"},{"$f":"+'COVER SHEET'!$D$12","v":0},11520,{"$f":"'COVER SHEET'!$D$16&IF(MID('COVER SHEET'!$I$18,6,10)=\"december\",\"1231\",IF(MID('COVER SHEET'!$I$18,6,10)=\"june\",\"0630\"))","v":"20241231"},{"$f":"+'Incoming Remittances (Value)'!E145","v":0}]
["CMREM_11520","MH",{"$f":"+'Incoming Remittances (Value)'!$E$5","v":"20240930"},{"$f":"+'COVER SHEET'!$D$12","v":0},11520,{"$f":"'COVER SHEET'!$D$16&IF(MID('COVER SHEET'!$I$18,6,10)=\"december\",\"1231\",IF(MID('COVER SHEET'!$I$18,6,10)=\"june\",\"0630\"))","v":"20241231"},{"$f":"+'Incoming Remittances (Value)'!E146","v":0}]
["CMREM_11520","MR",{"$f":"+'Incoming Remittances (Value)'!$E$5","v":"20240930"},{"$f":"+'COVER SHEET'!$D$12","v":0},11520,{"$f":"'COVER SHEET'!$D$16&IF(MID('COVER SHEET'!$I$18,6,10)=\"december\",\"1231\",IF(MID('COVER SHEET'!$I$18,6,10)=\"june\",\"0630\"))","v":"20241231"},{"$f":"+'Incoming Remittances (Value)'!E147","v":0}]
["CMREM_11520","MU",{"$f":"+'Incoming Remittances (Value)'!$E$5","v":"20240930"},{"$f":"+'COVER SHEET'!$D$12","v":0},11520,{"$f":"'COVER SHEET'!$D$16&IF(MID('COVER SHEET'!$I$18,6,10)=\"december\",\"1231\",IF(MID('COVER SHEET'!$I$18,6,10)=\"june\",\"0630\"))","v":"20241231"},{"$f":"+'Incoming Remittances (Value)'!E148","v":0}]
["CMREM_11520","MX",{"$f":"+'Incoming Remittances (Value)'!$E$5","v":"20240930"},{"$f":"+'COVER SHEET'!$D$12","v":0},11520,{"$f":"'COVER SHEET'!$D$16&IF(MID('COVER SHEET'!$I$18,6,10)=\"december\",\"1231\",IF(MID('COVER SHEET'!$I$18,6,10)=\"june\",\"0630\"))","v":"20241231"},{"$f":"+'Incoming Remittances (Value)'!E149","v":0}]
["CMREM_11520","FM",{"$f":"+'Incoming Remittances (Value)'!$E$5","v":"20240930"},{"$f":"+'COVER SHEET'!$D$12","v":0},11520,{"$f":"'COVER SHEET'!$D$16&IF(MID('COVER SHEET'!$I$18,6,10)=\"december\",\"1231\",IF(MID('COVER SHEET'!$I$18,6,10)=\"june\",\"0630\"))","v":"20241231"},{"$f":"+'Incoming Remittances (Value)'!E150","v":0}]
["CMREM_11520","MD",{"$f":"+'Incoming Remittances (Value)'!$E$5","v":"20240930"},{"$f":"+'COVER SHEET'!$D$12","v":0},11520,{"$f":"'COVER SHEET'!$D$16&IF(MID('COVER SHEET'!$I$18,6,10)=\"december\",\"1231\",IF(MID('COVER SHEET'!$I$18,6,10)=\"june\",\"0630\"))","v":"20241231"},{"$f":"+'Incoming Remittances (Value)'!E151","v":0}]
["CMREM_11520","MN",{"$f":"+'Incoming Remittances (Value)'!$E$5","v":"20240930"},{"$f":"+'COVER SHEET'!$D$12","v":0},11520,{"$f":"'COVER SHEET'!$D$16&IF(MID('COVER SHEET'!$I$18,6,10)=\"december\",\"1231\",IF(MID('COVER SHEET'!$I$18,6,10)=\"june\",\"0630\"))","v":"20241231"},{"$f":"+'Incoming Remittances (Value)'!E152","v":0}]
["CMREM_11520","ME",{"$f":"+'Incoming Remittances (Value)'!$E$5","v":"20240930"},{"$f":"+'COVER SHEET'!$D$12","v":0},11520,{"$f":"'COVER SHEET'!$D$16&IF(MID('COVER SHEET'!$I$18,6,10)=\"december\",\"1231\",IF(MID('COVER SHEET'!$I$18,6,10)=\"june\",\"0630\"))","v":"20241231"},{"$f":"+'Incoming Remittances (Value)'!E153","v":0}]
["CMREM_11520","MS",{"$f":"+'Incoming Remittances (Value)'!$E$5","v":"20240930"},{"$f":"+'COVER SHEET'!$D$12","v":0},11520,{"$f":"'COVER SHEET'!$D$16&IF(MID('COVER SHEET'!$I$18,6,10)=\"december\",\"1231\",IF(MID('COVER SHEET'!$I$18,6,10)=\"june\",\"0630\"))","v":"20241231"},{"$f":"+'Incoming Remittances (Value)'!E154","v":0}]
["CMREM_11520","MA",{"$f":"+'Incoming Remittances (Value)'!$E$5","v":"20240930"},{"$f":"+'COVER SHEET'!$D$12","v":0},11520,{"$f":"'COVER SHEET'!$D$16&IF(MID('COVER SHEET'!$I$18,6,10)=\"december\",\"1231\",IF(MID('COVER SHEET'!$I$18,6,10)=\"june\",\"0630\"))","v":"20241231"},{"$f":"+'Incoming Remittances (Value)'!E155","v":0}]
["CMREM_11520","MZ",{"$f":"+'Incoming Remittances (Value)'!$E$5","v":"20240930"},{"$f":"+'COVER SHEET'!$D$12","v":0},11520,{"$f":"'COVER SHEET'!$D$16&IF(MID('COVER SHEET'!$I$18,6,10)=\"december\",\"1231\",IF(MID('COVER SHEET'!$I$18,6,10)=\"june\",\"0630\"))","v":"20241231"},{"$f":"+'Incoming Remittances (Value)'!E156","v":0}]
["CMREM_11520","MM",{"$f":"+'Incoming Remittances (Value)'!$E$5","v":"20240930"},{"$f":"+'COVER SHEET'!$D$12","v":0},11520,{"$f":"'COVER SHEET'!$D$16&IF(MID('COVER SHEET'!$I$18,6,10)=\"december\",\"1231\",IF(MID('COVER SHEET'!$I$18,6,10)=\"june\",\"0630\"))","v":"20241231"},{"$f":"+'Incoming Remittances (Value)'!E157","v":0}]
["CMREM_11520","NA",{"$f":"+'Incoming Remittances (Value)'!$E$5","v":"20240930"},{"$f":"+'COVER SHEET'!$D$12","v":0},11520,{"$f":"'COVER SHEET'!$D$16&IF(MID('COVER SHEET'!$I$18,6,10)=\"december\",\"1231\",IF(MID('COVER SHEET'!$I$18,6,10)=\"june\",\"0630\"))","v":"20241231"},{"$f":"+'Incoming Remittances (Value)'!E158","v":0}]
["CMREM_11520","NR",{"$f":"+'Incoming Remittances (Value)'!$E$5","v":"20240930"},{"$f":"+'COVER SHEET'!$D$12","v":0},11520,{"$f":"'COVER SHEET'!$D$16&IF(MID('COVER SHEET'!$I$18,6,10)=\"december\",\"1231\",IF(MID('COVER SHEET'!$I$18,6,10)=\"june\",\"0630\"))","v":"20241231"},{"$f":"+'Incoming Remittances (Value)'!E159","v":0}]
["CMREM_11520","NP",{"$f":"+'Incoming Remittances (Value)'!$E$5","v":"20240930"},{"$f":"+'COVER SHEET'!$D$12","v":0},11520,{"$f":"'COVER SHEET'!$D$16&IF(MID('COVER SHEET'!$I$18,6,10)=\"december\",\"1231\",IF(MID('COVER SHEET'!$I$18,6,10)=\"june\",\"0630\"))","v":"20241231"},{"$f":"+'Incoming Remittances (Value)'!E160","v":0}]
["CMREM_11520","NL",{"$f":"+'Incoming Remittances (Value)'!$E$5","v":"20240930"},{"$f":"+'COVER SHEET'!$D$12","v":0},11520,{"$f":"'COVER SHEET'!$D$16&IF(MID('COVER SHEET'!$I$18,6,10)=\"december\",\"1231\",IF(MID('COVER SHEET'!$I$18,6,10)=\"june\",\"0630\"))","v":"20241231"},{"$f":"+'Incoming Remittances (Value)'!E161","v":0}]
["CMREM_11520","NC",{"$f":"+'Incoming Remittances (Value)'!$E$5","v":"20240930"},{"$f":"+'COVER SHEET'!$D$12","v":0},11520,{"$f":"'COVER SHEET'!$D$16&IF(MID('COVER SHEET'!$I$18,6,10)=\"december\",\"1231\",IF(MID('COVER SHEET'!$I$18,6,10)=\"june\",\"0630\"))","v":"20241231"},{"$f":"+'Incoming Remittances (Value)'!E162","v":0}]
["CMREM_11520","NZ",{"$f":"+'Incoming Remittances (Value)'!$E$5","v":"20240930"},{"$f":"+'COVER SHEET'!$D$12","v":0},11520,{"$f":"'COVER SHEET'!$D$16&IF(MID('COVER SHEET'!$I$18,6,10)=\"december\",\"1231\",IF(MID('COVER SHEET'!$I$18,6,10)=\"june\",\"0630\"))","v":"20241231"},{"$f":"+'Incoming Remittances (Value)'!E163","v":0}]
["CMREM_11520","NI",{"$f":"+'Incoming Remittances (Value)'!$E$5","v":"20240930"},{"$f":"+'COVER SHEET'!$D$12","v":0},11520,{"$f":"'COVER SHEET'!$D$16&IF(MID('COVER SHEET'!$I$18,6,10)=\"december\",\"1231\",IF(MID('COVER SHEET'!$I$18,6,10)=\"june\",\"0630\"))","v":"20241231"},{"$f":"+'Incoming Remittances (Value)'!E164","v":0}]
["CMREM_11520","NE",{"$f":"+'Incoming Remittances (Value)'!$E$5","v":"20240930"},{"$f":"+'COVER SHEET'!$D$12","v":0},11520,{"$f":"'COVER SHEET'!$D$16&IF(MID('COVER SHEET'!$I$18,6,10)=\"december\",\"1231\",IF(MID('COVER SHEET'!$I$18,6,10)=\"june\",\"0630\"))","v":"20241231"},{"$f":"+'Incoming Remittances (Value)'!E165","v":0}]
["CMREM_11520","NG",{"$f":"+'Incoming Remittances (Value)'!$E$5","v":"20240930"},{"$f":"+'COVER SHEET'!$D$12","v":0},11520,{"$f":"'COVER SHEET'!$D$16&IF(MID('COVER SHEET'!$I$18,6,10)=\"december\",\"1231\",IF(MID('COVER SHEET'!$I$18,6,10)=\"june\",\"0630\"))","v":"20241231"},{"$f":"+'Incoming Remittances (Value)'!E166","v":0}]
["CMREM_11520","NU",{"$f":"+'Incoming Remittances (Value)'!$E$5","v":"20240930"},{"$f":"+'COVER SHEET'!$D$12","v":0},11520,{"$f":"'COVER SHEET'!$D$16&IF(MID('COVER SHEET'!$I$18,6,10)=\"december\",\"1231\",IF(MID('COVER SHEET'!$I$18,6,10)=\"june\",\"0630\"))","v":"20241231"},{"$f":"+'Incoming Remittances (Value)'!E167","v":0}]
["CMREM_11520","NF",{"$f":"+'Incoming Remittances (Value)'!$E$5","v":"20240930"},{"$f":"+'COVER SHEET'!$D$12","v":0},11520,{"$f":"'COVER SHEET'!$D$16&IF(MID('COVER SHEET'!$I$18,6,10)=\"december\",\"1231\",IF(MID('COVER SHEET'!$I$18,6,10)=\"june\",\"0630\"))","v":"20241231"},{"$f":"+'Incoming Remittances (Value)'!E168","v":0}]
["CMREM_11520","MP",{"$f":"+'Incoming Remittances (Value)'!$E$5","v":"20240930"},{"$f":"+'COVER SHEET'!$D$12","v":0},11520,{"$f":"'COVER SHEET'!$D$16&IF(MID('COVER SHEET'!$I$18,6,10)=\"december\",\"1231\",IF(MID('COVER SHEET'!$I$18,6,10)=\"june\",\"0630\"))","v":"20241231"},{"$f":"+'Incoming Remittances (Value)'!E169","v":0}]
["CMREM_11520","NO",{"$f":"+'Incoming Remittances (Value)'!$E$5","v":"20240930"},{"$f":"+'COVER SHEET'!$D$12","v":0},11520,{"$f":"'COVER SHEET'!$D$16&IF(MID('COVER SHEET'!$I$18,6,10)=\"december\",\"1231\",IF(MID('COVER SHEET'!$I$18,6,10)=\"june\",\"0630\"))","v":"20241231"},{"$f":"+'Incoming Remittances (Value)'!E170","v":0}]
["CMREM_11520","OM",{"$f":"+'Incoming Remittances (Value)'!$E$5","v":"20240930"},{"$f":"+'COVER SHEET'!$D$12","v":0},11520,{"$f":"'COVER SHEET'!$D$16&IF(MID('COVER SHEET'!$I$18,6,10)=\"december\",\"1231\",IF(MID('COVER SHEET'!$I$18,6,10)=\"june\",\"0630\"))","v":"20241231"},{"$f":"+'Incoming Remittances (Value)'!E171","v":0}]
["CMREM_11520","PK",{"$f":"+'Incoming Remittances (Value)'!$E$5","v":"20240930"},{"$f":"+'COVER SHEET'!$D$12","v":0},11520,{"$f":"'COVER SHEET'!$D$16&IF(MID('COVER SHEET'!$I$18,6,10)=\"december\",\"1231\",IF(MID('COVER SHEET'!$I$18,6,10)=\"june\",\"0630\"))","v":"20241231"},{"$f":"+'Incoming Remittances (Value)'!E172","v":0}]
["CMREM_11520","PW",{"$f":"+'Incoming Remittances (Value)'!$E$5","v":"20240930"},{"$f":"+'COVER SHEET'!$D$12","v":0},11520,{"$f":"'COVER SHEET'!$D$16&IF(MID('COVER SHEET'!$I$18,6,10)=\"december\",\"1231\",IF(MID('COVER SHEET'!$I$18,6,10)=\"june\",\"0630\"))","v":"20241231"},{"$f":"+'Incoming Remittances (Value)'!E173","v":0}]
["CMREM_11520","PS",{"$f":"+'Incoming Remittances (Value)'!$E$5","v":"20240930"},{"$f":"+'COVER SHEET'!$D$12","v":0},11520,{"$f":"'COVER SHEET'!$D$16&IF(MID('COVER SHEET'!$I$18,6,10)=\"december\",\"1231\",IF(MID('COVER SHEET'!$I$18,6,10)=\"june\",\"0630\"))","v":"20241231"},{"$f":"+'Incoming Remittances (Value)'!E174","v":0}]
["CMREM_11520","PA",{"$f":"+'Incoming Remittances (Value)'!$E$5","v":"20240930"},{"$f":"+'COVER SHEET'!$D$12","v":0},11520,{"$f":"'COVER SHEET'!$D$16&IF(MID('COVER SHEET'!$I$18,6,10)=\"december\",\"1231\",IF(MID('COVER SHEET'!$I$18,6,10)=\"june\",\"0630\"))","v":"20241231"},{"$f":"+'Incoming Remittances (Value)'!E175","v":0}]
["CMREM_11520","PG",{"$f":"+'Incoming Remittances (Value)'!$E$5","v":"20240930"},{"$f":"+'COVER SHEET'!$D$12","v":0},11520,{"$f":"'COVER SHEET'!$D$16&IF(MID('COVER SHEET'!$I$18,6,10)=\"december\",\"1231\",IF(MID('COVER SHEET'!$I$18,6,10)=\"june\",\"0630\"))","v":"20241231"},{"$f":"+'Incoming Remittances (Value)'!E176","v":0}]
["CMREM_11520","PY",{"$f":"+'Incoming Remittances (Value)'!$E$5","v":"20240930"},{"$f":"+'COVER SHEET'!$D$12","v":0},11520,{"$f":"'COVER SHEET'!$D$16&IF(MID('COVER SHEET'!$I$18,6,10)=\"december\",\"1231\",IF(MID('COVER SHEET'!$I$18,6,10)=\"june\",\"0630\"))","v":"20241231"},{"$f":"+'Incoming Remittances (Value)'!E177","v":0}]
["CMREM_11520","PE",{"$f":"+'Incoming Remittances (Value)'!$E$5","v":"20240930"},{"$f":"+'COVER SHEET'!$D$12","v":0},11520,{"$f":"'COVER SHEET'!$D$16&IF(MID('COVER SHEET'!$I$18,6,10)=\"december\",\"1231\",IF(MID('COVER SHEET'!$I$18,6,10)=\"june\",\"0630\"))","v":"20241231"},{"$f":"+'Incoming Remittances (Value)'!E178","v":0}]
["CMREM_11520","PH",{"$f":"+'Incoming Remittances (Value)'!$E$5","v":"20240930"},{"$f":"+'COVER SHEET'!$D$12","v":0},11520,{"$f":"'COVER SHEET'!$D$16&IF(MID('COVER SHEET'!$I$18,6,10)=\"december\",\"1231\",IF(MID('COVER SHEET'!$I$18,6,10)=\"june\",\"0630\"))","v":"20241231"},{"$f":"+'Incoming Remittances (Value)'!E179","v":0}]
["CMREM_11520","PN",{"$f":"+'Incoming Remittances (Value)'!$E$5","v":"20240930"},{"$f":"+'COVER SHEET'!$D$12","v":0},11520,{"$f":"'COVER SHEET'!$D$16&IF(MID('COVER SHEET'!$I$18,6,10)=\"december\",\"1231\",IF(MID('COVER SHEET'!$I$18,6,10)=\"june\",\"0630\"))","v":"20241231"},{"$f":"+'Incoming Remittances (Value)'!E180","v":0}]
["CMREM_11520","PL",{"$f":"+'Incoming Remittances (Value)'!$E$5","v":"20240930"},{"$f":"+'COVER SHEET'!$D$12","v":0},11520,{"$f":"'COVER SHEET'!$D$16&IF(MID('COVER SHEET'!$I$18,6,10)=\"december\",\"1231\",IF(MID('COVER SHEET'!$I$18,6,10)=\"june\",\"0630\"))","v":"20241231"},{"$f":"+'Incoming Remittances (Value)'!E181","v":0}]
["CMREM_11520","PT",{"$f":"+'Incoming Remittances (Value)'!$E$5","v":"20240930"},{"$f":"+'COVER SHEET'!$D$12","v":0},11520,{"$f":"'COVER SHEET'!$D$16&IF(MID('COVER SHEET'!$I$18,6,10)=\"december\",\"1231\",IF(MID('COVER SHEET'!$I$18,6,10)=\"june\",\"0630\"))","v":"20241231"},{"$f":"+'Incoming Remittances (Value)'!E182","v":0}]
["CMREM_11520","QA",{"$f":"+'Incoming Remittances (Value)'!$E$5","v":"20240930"},{"$f":"+'COVER SHEET'!$D$12","v":0},11520,{"$f":"'COVER SHEET'!$D$16&IF(MID('COVER SHEET'!$I$18,6,10)=\"december\",\"1231\",IF(MID('COVER SHEET'!$I$18,6,10)=\"june\",\"0630\"))","v":"20241231"},{"$f":"+'Incoming Remittances (Value)'!E183","v":0}]
["CMREM_11520","RO",{"$f":"+'Incoming Remittances (Value)'!$E$5","v":"20240930"},{"$f":"+'COVER SHEET'!$D$12","v":0},11520,{"$f":"'COVER SHEET'!$D$16&IF(MID('COVER SHEET'!$I$18,6,10)=\"december\",\"1231\",IF(MID('COVER SHEET'!$I$18,6,10)=\"june\",\"0630\"))","v":"20241231"},{"$f":"+'Incoming Remittances (Value)'!E184","v":0}]
["CMREM_11520","RU",{"$f":"+'Incoming Remittances (Value)'!$E$5","v":"20240930"},{"$f":"+'COVER SHEET'!$D$12","v":0},11520,{"$f":"'COVER SHEET'!$D$16&IF(MID('COVER SHEET'!$I$18,6,10)=\"december\",\"1231\",IF(MID('COVER SHEET'!$I$18,6,10)=\"june\",\"0630\"))","v":"20241231"},{"$f":"+'Incoming Remittances (Value)'!E185","v":0}]
["CMREM_11520","RW",{"$f":"+'Incoming Remittances (Value)'!$E$5","v":"20240930"},{"$f":"+'COVER SHEET'!$D$12","v":0},11520,{"$f":"'COVER SHEET'!$D$16&IF(MID('COVER SHEET'!$I$18,6,10)=\"december\",\"1231\",IF(MID('COVER SHEET'!$I$18,6,10)=\"june\",\"0630\"))","v":"20241231"},{"$f":"+'Incoming Remittances (Value)'!E186","v":0}]
["CMREM_11520","SH",{"$f":"+'Incoming Remittances (Value)'!$E$5","v":"20240930"},{"$f":"+'COVER SHEET'!$D$12","v":0},11520,{"$f":"'COVER SHEET'!$D$16&IF(MID('COVER SHEET'!$I$18,6,10)=\"december\",\"1231\",IF(MID('COVER SHEET'!$I$18,6,10)=\"june\",\"0630\"))","v":"20241231"},{"$f":"+'Incoming Remittances (Value)'!E187","v":0}]
["CMREM_11520","KN",{"$f":"+'Incoming Remittances (Value)'!$E$5","v":"20240930"},{"$f":"+'COVER SHEET'!$D$12","v":0},11520,{"$f":"'COVER SHEET'!$D$16&IF(MID('COVER SHEET'!$I$18,6,10)=\"december\",\"1231\",IF(MID('COVER SHEET'!$I$18,6,10)=\"june\",\"0630\"))","v":"20241231"},{"$f":"+'Incoming Remittances (Value)'!E188","v":0}]
["CMREM_11520","LC",{"$f":"+'Incoming Remittances (Value)'!$E$5","v":"20240930"},{"$f":"+'COVER SHEET'!$D$12","v":0},11520,{"$f":"'COVER SHEET'!$D$16&IF(MID('COVER SHEET'!$I$18,6,10)=\"december\",\"1231\",IF(MID('COVER SHEET'!$I$18,6,10)=\"june\",\"0630\"))","v":"20241231"},{"$f":"+'Incoming Remittances (Value)'!E189","v":0}]
["CMREM_11520","VC",{"$f":"+'Incoming Remittances (Value)'!$E$5","v":"20240930"},{"$f":"+'COVER SHEET'!$D$12","v":0},11520,{"$f":"'COVER SHEET'!$D$16&IF(MID('COVER SHEET'!$I$18,6,10)=\"december\",\"1231\",IF(MID('COVER SHEET'!$I$18,6,10)=\"june\",\"0630\"))","v":"20241231"},{"$f":"+'Incoming Remittances (Value)'!E190","v":0}]
["CMREM_11520","WS",{"$f":"+'Incoming Remittances (Value)'!$E$5","v":"20240930"},{"$f":"+'COVER SHEET'!$D$12","v":0},11520,{"$f":"'COVER SHEET'!$D$16&IF(MID('COVER SHEET'!$I$18,6,10)=\"december\",\"1231\",IF(MID('COVER SHEET'!$I$18,6,10)=\"june\",\"0630\"))","v":"20241231"},{"$f":"+'Incoming Remittances (Value)'!E191","v":0}]
["CMREM_11520","SM",{"$f":"+'Incoming Remittances (Value)'!$E$5","v":"20240930"},{"$f":"+'COVER SHEET'!$D$12","v":0},11520,{"$f":"'COVER SHEET'!$D$16&IF(MID('COVER SHEET'!$I$18,6,10)=\"december\",\"1231\",IF(MID('COVER SHEET'!$I$18,6,10)=\"june\",\"0630\"))","v":"20241231"},{"$f":"+'Incoming Remittances (Value)'!E192","v":0}]
["CMREM_11520","ST",{"$f":"+'Incoming Remittances (Value)'!$E$5","v":"20240930"},{"$f":"+'COVER SHEET'!$D$12","v":0},11520,{"$f":"'COVER SHEET'!$D$16&IF(MID('COVER SHEET'!$I$18,6,10)=\"december\",\"1231\",IF(MID('COVER SHEET'!$I$18,6,10)=\"june\",\"0630\"))","v":"20241231"},{"$f":"+'Incoming Remittances (Value)'!E193","v":0}]
["CMREM_11520","SA",{"$f":"+'Incoming Remittances (Value)'!$E$5","v":"20240930"},{"$f":"+'COVER SHEET'!$D$12","v":0},11520,{"$f":"'COVER SHEET'!$D$16&IF(MID('COVER SHEET'!$I$18,6,10)=\"december\",\"1231\",IF(MID('COVER SHEET'!$I$18,6,10)=\"june\",\"0630\"))","v":"20241231"},{"$f":"+'Incoming Remittances (Value)'!E194","v":0}]
["CMREM_11520","SN",{"$f":"+'Incoming Remittances (Value)'!$E$5","v":"20240930"},{"$f":"+'COVER SHEET'!$D$12","v":0},11520,{"$f":"'COVER SHEET'!$D$16&IF(MID('COVER SHEET'!$I$18,6,10)=\"december\",\"1231\",IF(MID('COVER SHEET'!$I$18,6,10)=\"june\",\"0630\"))","v":"20241231"},{"$f":"+'Incoming Remittances (Value)'!E195","v":0}]
["CMREM_11520","RS",{"$f":"+'Incoming Remittances (Value)'!$E$5","v":"20240930"},{"$f":"+'COVER SHEET'!$D$12","v":0},11520,{"$f":"'COVER SHEET'!$D$16&IF(MID('COVER SHEET'!$I$18,6,10)=\"december\",\"1231\",IF(MID('COVER SHEET'!$I$18,6,10)=\"june\",\"0630\"))","v":"20241231"},{"$f":"+'Incoming Remittances (Value)'!E196","v":0}]
["CMREM_11520","SC",{"$f":"+'Incoming Remittances (Value)'!$E$5","v":"20240930"},{"$f":"+'COVER SHEET'!$D$12","v":0},11520,{"$f":"'COVER SHEET'!$D$16&IF(MID('COVER SHEET'!$I$18,6,10)=\"december\",\"1231\",IF(MID('COVER SHEET'!$I$18,6,10)=\"june\",\"0630\"))","v":"20241231"},{"$f":"+'Incoming Remittances (Value)'!E197","v":0}]
["CMREM_11520","SL",{"$f":"+'Incoming Remittances (Value)'!$E$5","v":"20240930"},{"$f":"+'COVER SHEET'!$D$12","v":0},11520,{"$f":"'COVER SHEET'!$D$16&IF(MID('COVER SHEET'!$I$18,6,10)=\"december\",\"1231\",IF(MID('COVER SHEET'!$I$18,6,10)=\"june\",\"0630\"))","v":"20241231"},{"$f":"+'Incoming Remittances (Value)'!E198","v":0}]
["CMREM_11520","SG",{"$f":"+'Incoming Remittances (Value)'!$E$5","v":"20240930"},{"$f":"+'COVER SHEET'!$D$12","v":0},11520,{"$f":"'COVER SHEET'!$D$16&IF(MID('COVER SHEET'!$I$18,6,10)=\"december\",\"1231\",IF(MID('COVER SHEET'!$I$18,6,10)=\"june\",\"0630\"))","v":"20241231"},{"$f":"+'Incoming Remittances (Value)'!E199","v":0}]
["CMREM_11520","SX",{"$f":"+'Incoming Remittances (Value)'!$E$5","v":"20240930"},{"$f":"+'COVER SHEET'!$D$12","v":0},11520,{"$f":"'COVER SHEET'!$D$16&IF(MID('COVER SHEET'!$I$18,6,10)=\"december\",\"1231\",IF(MID('COVER SHEET'!$I$18,6,10)=\"june\",\"0630\"))","v":"20241231"},{"$f":"+'Incoming Remittances (Value)'!E200","v":0}]
["CMREM_11520","SK",{"$f":"+'Incoming Remittances (Value)'!$E$5","v":"20240930"},{"$f":"+'COVER SHEET'!$D$12","v":0},11520,{"$f":"'COVER SHEET'!$D$16&IF(MID('COVER SHEET'!$I$18,6,10)=\"december\",\"1231\",IF(MID('COVER SHEET'!$I$18,6,10)=\"june\",\"0630\"))","v":"20241231"},{"$f":"+'Incoming Remittances (Value)'!E201","v":0}]
["CMREM_11520","SI",{"$f":"+'Incoming Remittances (Value)'!$E$5","v":"20240930"},{"$f":"+'COVER SHEET'!$D$12","v":0},11520,{"$f":"'COVER SHEET'!$D$16&IF(MID('COVER SHEET'!$I$18,6,10)=\"december\",\"1231\",IF(MID('COVER SHEET'!$I$18,6,10)=\"june\",\"0630\"))","v":"20241231"},{"$f":"+'Incoming Remittances (Value)'!E202","v":0}]
["CMREM_11520","SB",{"$f":"+'Incoming Remittances (Value)'!$E$5","v":"20240930"},{"$f":"+'COVER SHEET'!$D$12","v":0},11520,{"$f":"'COVER SHEET'!$D$16&IF(MID('COVER SHEET'!$I$18,6,10)=\"december\",\"1231\",IF(MID('COVER SHEET'!$I$18,6,10)=\"june\",\"0630\"))","v":"20241231"},{"$f":"+'Incoming Remittances (Value)'!E203","v":0}]
["CMREM_11520","SO",{"$f":"+'Incoming Remittances (Value)'!$E$5","v":"20240930"},{"$f":"+'COVER SHEET'!$D$12","v":0},11520,{"$f":"'COVER SHEET'!$D$16&IF(MID('COVER SHEET'!$I$18,6,10)=\"december\",\"1231\",IF(MID('COVER SHEET'!$I$18,6,10)=\"june\",\"0630\"))","v":"20241231"},{"$f":"+'Incoming Remittances (Value)'!E204","v":0}]
["CMREM_11520","ZA",{"$f":"+'Incoming Remittances (Value)'!$E$5","v":"20240930"},{"$f":"+'COVER SHEET'!$D$12","v":0},11520,{"$f":"'COVER SHEET'!$D$16&IF(MID('COVER SHEET'!$I$18,6,10)=\"december\",\"1231\",IF(MID('COVER SHEET'!$I$18,6,10)=\"june\",\"0630\"))","v":"20241231"},{"$f":"+'Incoming Remittances (Value)'!E205","v":0}]
["CMREM_11520","GS",{"$f":"+'Incoming Remittances (Value)'!$E$5","v":"20240930"},{"$f":"+'COVER SHEET'!$D$12","v":0},11520,{"$f":"'COVER SHEET'!$D$16&IF(MID('COVER SHEET'!$I$18,6,10)=\"december\",\"1231\",IF(MID('COVER SHEET'!$I$18,6,10)=\"june\",\"0630\"))","v":"20241231"},{"$f":"+'Incoming Remittances (Value)'!E206","v":0}]
["CMREM_11520","SS",{"$f":"+'Incoming Remittances (Value)'!$E$5","v":"20240930"},{"$f":"+'COVER SHEET'!$D$12","v":0},11520,{"$f":"'COVER SHEET'!$D$16&IF(MID('COVER SHEET'!$I$18,6,10)=\"december\",\"1231\",IF(MID('COVER SHEET'!$I$18,6,10)=\"june\",\"0630\"))","v":"20241231"},{"$f":"+'Incoming Remittances (Value)'!E207","v":0}]
["CMREM_11520","ES",{"$f":"+'Incoming Remittances (Value)'!$E$5","v":"20240930"},{"$f":"+'COVER SHEET'!$D$12","v":0},11520,{"$f":"'COVER SHEET'!$D$16&IF(MID('COVER SHEET'!$I$18,6,10)=\"december\",\"1231\",IF(MID('COVER SHEET'!$I$18,6,10)=\"june\",\"0630\"))","v":"20241231"},{"$f":"+'Incoming Remittances (Value)'!E208","v":0}]
["CMREM_11520","LK",{"$f":"+'Incoming Remittances (Value)'!$E$5","v":"20240930"},{"$f":"+'COVER SHEET'!$D$12","v":0},11520,{"$f":"'COVER SHEET'!$D$16&IF(MID('COVER SHEET'!$I$18,6,10)=\"december\",\"1231\",IF(MID('COVER SHEET'!$I$18,6,10)=\"june\",\"0630\"))","v":"20241231"},{"$f":"+'Incoming Remittances (Value)'!E209","v":0}]
["CMREM_11520","SD",{"$f":"+'Incoming Remittances (Value)'!$E$5","v":"20240930"},{"$f":"+'COVER SHEET'!$D$12","v":0},11520,{"$f":"'COVER SHEET'!$D$16&IF(MID('COVER SHEET'!$I$18,6,10)=\"december\",\"1231\",IF(MID('COVER SHEET'!$I$18,6,10)=\"june\",\"0630\"))","v":"20241231"},{"$f":"+'Incoming Remittances (Value)'!E210","v":0}]
["CMREM_11520","SR",{"$f":"+'Incoming Remittances (Value)'!$E$5","v":"20240930"},{"$f":"+'COVER SHEET'!$D$12","v":0},11520,{"$f":"'COVER SHEET'!$D$16&IF(MID('COVER SHEET'!$I$18,6,10)=\"december\",\"1231\",IF(MID('COVER SHEET'!$I$18,6,10)=\"june\",\"0630\"))","v":"20241231"},{"$f":"+'Incoming Remittances (Value)'!E211","v":0}]
["CMREM_11520","SZ",{"$f":"+'Incoming Remittances (Value)'!$E$5","v":"20240930"},{"$f":"+'COVER SHEET'!$D$12","v":0},11520,{"$f":"'COVER SHEET'!$D$16&IF(MID('COVER SHEET'!$I$18,6,10)=\"december\",\"1231\",IF(MID('COVER SHEET'!$I$18,6,10)=\"june\",\"0630\"))","v":"20241231"},{"$f":"+'Incoming Remittances (Value)'!E212","v":0}]
["CMREM_11520","SE",{"$f":"+'Incoming Remittances (Value)'!$E$5","v":"20240930"},{"$f":"+'COVER SHEET'!$D$12","v":0},11520,{"$f":"'COVER SHEET'!$D$16&IF(MID('COVER SHEET'!$I$18,6,10)=\"december\",\"1231\",IF(MID('COVER SHEET'!$I$18,6,10)=\"june\",\"0630\"))","v":"20241231"},{"$f":"+'Incoming Remittances (Value)'!E213","v":0}]
["CMREM_11520","CH",{"$f":"+'Incoming Remittances (Value)'!$E$5","v":"20240930"},{"$f":"+'COVER SHEET'!$D$12","v":0},11520,{"$f":"'COVER SHEET'!$D$16&IF(MID('COVER SHEET'!$I$18,6,10)=\"december\",\"1231\",IF(MID('COVER SHEET'!$I$18,6,10)=\"june\",\"0630\"))","v":"20241231"},{"$f":"+'Incoming Remittances (Value)'!E214","v":0}]
["CMREM_11520","SY",{"$f":"+'Incoming Remittances (Value)'!$E$5","v":"20240930"},{"$f":"+'COVER SHEET'!$D$12","v":0},11520,{"$f":"'COVER SHEET'!$D$16&IF(MID('COVER SHEET'!$I$18,6,10)=\"december\",\"1231\",IF(MID('COVER SHEET'!$I$18,6,10)=\"june\",\"0630\"))","v":"20241231"},{"$f":"+'Incoming Remittances (Value)'!E215","v":0}]
["CMREM_11520","TW",{"$f":"+'Incoming Remittances (Value)'!$E$5","v":"20240930"},{"$f":"+'COVER SHEET'!$D$12","v":0},11520,{"$f":"'COVER SHEET'!$D$16&IF(MID('COVER SHEET'!$I$18,6,10)=\"december\",\"1231\",IF(MID('COVER SHEET'!$I$18,6,10)=\"june\",\"0630\"))","v":"20241231"},{"$f":"+'Incoming Remittances (Value)'!E216","v":0}]
["CMREM_11520","TJ",{"$f":"+'Incoming Remittances (Value)'!$E$5","v":"20240930"},{"$f":"+'COVER SHEET'!$D$12","v":0},11520,{"$f":"'COVER SHEET'!$D$16&IF(MID('COVER SHEET'!$I$18,6,10)=\"december\",\"1231\",IF(MID('COVER SHEET'!$I$18,6,10)=\"june\",\"0630\"))","v":"20241231"},{"$f":"+'Incoming Remittances (Value)'!E217","v":0}]
["CMREM_11520","TZ",{"$f":"+'Incoming Remittances (Value)'!$E$5","v":"20240930"},{"$f":"+'COVER SHEET'!$D$12","v":0},11520,{"$f":"'COVER SHEET'!$D$16&IF(MID('COVER SHEET'!$I$18,6,10)=\"december\",\"1231\",IF(MID('COVER SHEET'!$I$18,6,10)=\"june\",\"0630\"))","v":"20241231"},{"$f":"+'Incoming Remittances (Value)'!E218","v":0}]
["CMREM_11520","TH",{"$f":"+'Incoming Remittances (Value)'!$E$5","v":"20240930"},{"$f":"+'COVER SHEET'!$D$12","v":0},11520,{"$f":"'COVER SHEET'!$D$16&IF(MID('COVER SHEET'!$I$18,6,10)=\"december\",\"1231\",IF(MID('COVER SHEET'!$I$18,6,10)=\"june\",\"0630\"))","v":"20241231"},{"$f":"+'Incoming Remittances (Value)'!E219","v":0}]
["CMREM_11520","TG",{"$f":"+'Incoming Remittances (Value)'!$E$5","v":"20240930"},{"$f":"+'COVER SHEET'!$D$12","v":0},11520,{"$f":"'COVER SHEET'!$D$16&IF(MID('COVER SHEET'!$I$18,6,10)=\"december\",\"1231\",IF(MID('COVER SHEET'!$I$18,6,10)=\"june\",\"0630\"))","v":"20241231"},{"$f":"+'Incoming Remittances (Value)'!E220","v":0}]
["CMREM_11520","TK",{"$f":"+'Incoming Remittances (Value)'!$E$5","v":"20240930"},{"$f":"+'COVER SHEET'!$D$12","v":0},11520,{"$f":"'COVER SHEET'!$D$16&IF(MID('COVER SHEET'!$I$18,6,10)=\"december\",\"1231\",IF(MID('COVER SHEET'!$I$18,6,10)=\"june\",\"0630\"))","v":"20241231"},{"$f":"+'Incoming Remittances (Value)'!E221","v":0}]
["CMREM_11520","TO",{"$f":"+'Incoming Remittances (Value)'!$E$5","v":"20240930"},{"$f":"+'COVER SHEET'!$D$12","v":0},11520,{"$f":"'COVER SHEET'!$D$16&IF(MID('COVER SHEET'!$I$18,6,10)=\"december\",\"1231\",IF(MID('COVER SHEET'!$I$18,6,10)=\"june\",\"0630\"))","v":"20241231"},{"$f":"+'Incoming Remittances (Value)'!E222","v":0}]
["CMREM_11520","TT",{"$f":"+'Incoming Remittances (Value)'!$E$5","v":"20240930"},{"$f":"+'COVER SHEET'!$D$12","v":0},11520,{"$f":"'COVER SHEET'!$D$16&IF(MID('COVER SHEET'!$I$18,6,10)=\"december\",\"1231\",IF(MID('COVER SHEET'!$I$18,6,10)=\"june\",\"0630\"))","v":"20241231"},{"$f":"+'Incoming Remittances (Value)'!E223","v":0}]
["CMREM_11520","TN",{"$f":"+'Incoming Remittances (Value)'!$E$5","v":"20240930"},{"$f":"+'COVER SHEET'!$D$12","v":0},11520,{"$f":"'COVER SHEET'!$D$16&IF(MID('COVER SHEET'!$I$18,6,10)=\"december\",\"1231\",IF(MID('COVER SHEET'!$I$18,6,10)=\"june\",\"0630\"))","v":"20241231"},{"$f":"+'Incoming Remittances (Value)'!E224","v":0}]
["CMREM_11520","TR",{"$f":"+'Incoming Remittances (Value)'!$E$5","v":"20240930"},{"$f":"+'COVER SHEET'!$D$12","v":0},11520,{"$f":"'COVER SHEET'!$D$16&IF(MID('COVER SHEET'!$I$18,6,10)=\"december\",\"1231\",IF(MID('COVER SHEET'!$I$18,6,10)=\"june\",\"0630\"))","v":"20241231"},{"$f":"+'Incoming Remittances (Value)'!E225","v":0}]
["CMREM_11520","TM",{"$f":"+'Incoming Remittances (Value)'!$E$5","v":"20240930"},{"$f":"+'COVER SHEET'!$D$12","v":0},11520,{"$f":"'COVER SHEET'!$D$16&IF(MID('COVER SHEET'!$I$18,6,10)=\"december\",\"1231\",IF(MID('COVER SHEET'!$I$18,6,10)=\"june\",\"0630\"))","v":"20241231"},{"$f":"+'Incoming Remittances (Value)'!E226","v":0}]
["CMREM_11520","TC",{"$f":"+'Incoming Remittances (Value)'!$E$5","v":"20240930"},{"$f":"+'COVER SHEET'!$D$12","v":0},11520,{"$f":"'COVER SHEET'!$D$16&IF(MID('COVER SHEET'!$I$18,6,10)=\"december\",\"1231\",IF(MID('COVER SHEET'!$I$18,6,10)=\"june\",\"0630\"))","v":"20241231"},{"$f":"+'Incoming Remittances (Value)'!E227","v":0}]
["CMREM_11520","TV",{"$f":"+'Incoming Remittances (Value)'!$E$5","v":"20240930"},{"$f":"+'COVER SHEET'!$D$12","v":0},11520,{"$f":"'COVER SHEET'!$D$16&IF(MID('COVER SHEET'!$I$18,6,10)=\"december\",\"1231\",IF(MID('COVER SHEET'!$I$18,6,10)=\"june\",\"0630\"))","v":"20241231"},{"$f":"+'Incoming Remittances (Value)'!E228","v":0}]
["CMREM_11520","UG",{"$f":"+'Incoming Remittances (Value)'!$E$5","v":"20240930"},{"$f":"+'COVER SHEET'!$D$12","v":0},11520,{"$f":"'COVER SHEET'!$D$16&IF(MID('COVER SHEET'!$I$18,6,10)=\"december\",\"1231\",IF(MID('COVER SHEET'!$I$18,6,10)=\"june\",\"0630\"))","v":"20241231"},{"$f":"+'Incoming Remittances (Value)'!E229","v":0}]
["CMREM_11520","UA",{"$f":"+'Incoming Remittances (Value)'!$E$5","v":"20240930"},{"$f":"+'COVER SHEET'!$D$12","v":0},11520,{"$f":"'COVER SHEET'!$D$16&IF(MID('COVER SHEET'!$I$18,6,10)=\"december\",\"1231\",IF(MID('COVER SHEET'!$I$18,6,10)=\"june\",\"0630\"))","v":"20241231"},{"$f":"+'Incoming Remittances (Value)'!E230","v":0}]
["CMREM_11520","AE",{"$f":"+'Incoming Remittances (Value)'!$E$5","v":"20240930"},{"$f":"+'COVER SHEET'!$D$12","v":0},11520,{"$f":"'COVER SHEET'!$D$16&IF(MID('COVER SHEET'!$I$18,6,10)=\"december\",\"1231\",IF(MID('COVER SHEET'!$I$18,6,10)=\"june\",\"0630\"))","v":"20241231"},{"$f":"+'Incoming Remittances (Value)'!E231","v":0}]
["CMREM_11520","GB",{"$f":"+'Incoming Remittances (Value)'!$E$5","v":"20240930"},{"$f":"+'COVER SHEET'!$D$12","v":0},11520,{"$f":"'COVER SHEET'!$D$16&IF(MID('COVER SHEET'!$I$18,6,10)=\"december\",\"1231\",IF(MID('COVER SHEET'!$I$18,6,10)=\"june\",\"0630\"))","v":"20241231"},{"$f":"+'Incoming Remittances (Value)'!E232","v":0}]
["CMREM_11520","US",{"$f":"+'Incoming Remittances (Value)'!$E$5","v":"20240930"},{"$f":"+'COVER SHEET'!$D$12","v":0},11520,{"$f":"'COVER SHEET'!$D$16&IF(MID('COVER SHEET'!$I$18,6,10)=\"december\",\"1231\",IF(MID('COVER SHEET'!$I$18,6,10)=\"june\",\"0630\"))","v":"20241231"},{"$f":"+'Incoming Remittances (Value)'!E233","v":0}]
["CMREM_11520","UY",{"$f":"+'Incoming Remittances (Value)'!$E$5","v":"20240930"},{"$f":"+'COVER SHEET'!$D$12","v":0},11520,{"$f":"'COVER SHEET'!$D$16&IF(MID('COVER SHEET'!$I$18,6,10)=\"december\",\"1231\",IF(MID('COVER SHEET'!$I$18,6,10)=\"june\",\"0630\"))","v":"20241231"},{"$f":"+'Incoming Remittances (Value)'!E234","v":0}]
["CMREM_11520","UM",{"$f":"+'Incoming Remittances (Value)'!$E$5","v":"20240930"},{"$f":"+'COVER SHEET'!$D$12","v":0},11520,{"$f":"'COVER SHEET'!$D$16&IF(MID('COVER SHEET'!$I$18,6,10)=\"december\",\"1231\",IF(MID('COVER SHEET'!$I$18,6,10)=\"june\",\"0630\"))","v":"20241231"},{"$f":"+'Incoming Remittances (Value)'!E235","v":0}]
["CMREM_11520","UZ",{"$f":"+'Incoming Remittances (Value)'!$E$5","v":"20240930"},{"$f":"+'COVER SHEET'!$D$12","v":0},11520,{"$f":"'COVER SHEET'!$D$16&IF(MID('COVER SHEET'!$I$18,6,10)=\"december\",\"1231\",IF(MID('COVER SHEET'!$I$18,6,10)=\"june\",\"0630\"))","v":"20241231"},{"$f":"+'Incoming Remittances (Value)'!E236","v":0}]
["CMREM_11520","VU",{"$f":"+'Incoming Remittances (Value)'!$E$5","v":"20240930"},{"$f":"+'COVER SHEET'!$D$12","v":0},11520,{"$f":"'COVER SHEET'!$D$16&IF(MID('COVER SHEET'!$I$18,6,10)=\"december\",\"1231\",IF(MID('COVER SHEET'!$I$18,6,10)=\"june\",\"0630\"))","v":"20241231"},{"$f":"+'Incoming Remittances (Value)'!E237","v":0}]
["CMREM_11520","VE",{"$f":"+'Incoming Remittances (Value)'!$E$5","v":"20240930"},{"$f":"+'COVER SHEET'!$D$12","v":0},11520,{"$f":"'COVER SHEET'!$D$16&IF(MID('COVER SHEET'!$I$18,6,10)=\"december\",\"1231\",IF(MID('COVER SHEET'!$I$18,6,10)=\"june\",\"0630\"))","v":"20241231"},{"$f":"+'Incoming Remittances (Value)'!E238","v":0}]
["CMREM_11520","VN",{"$f":"+'Incoming Remittances (Value)'!$E$5","v":"20240930"},{"$f":"+'COVER SHEET'!$D$12","v":0},11520,{"$f":"'COVER SHEET'!$D$16&IF(MID('COVER SHEET'!$I$18,6,10)=\"december\",\"1231\",IF(MID('COVER SHEET'!$I$18,6,10)=\"june\",\"0630\"))","v":"20241231"},{"$f":"+'Incoming Remittances (Value)'!E239","v":0}]
["CMREM_11520","VI",{"$f":"+'Incoming Remittances (Value)'!$E$5","v":"20240930"},{"$f":"+'COVER SHEET'!$D$12","v":0},11520,{"$f":"'COVER SHEET'!$D$16&IF(MID('COVER SHEET'!$I$18,6,10)=\"december\",\"1231\",IF(MID('COVER SHEET'!$I$18,6,10)=\"june\",\"0630\"))","v":"20241231"},{"$f":"+'Incoming Remittances (Value)'!E240","v":0}]
["CMREM_11520","WF",{"$f":"+'Incoming Remittances (Value)'!$E$5","v":"20240930"},{"$f":"+'COVER SHEET'!$D$12","v":0},11520,{"$f":"'COVER SHEET'!$D$16&IF(MID('COVER SHEET'!$I$18,6,10)=\"december\",\"1231\",IF(MID('COVER SHEET'!$I$18,6,10)=\"june\",\"0630\"))","v":"20241231"},{"$f":"+'Incoming Remittances (Value)'!E241","v":0}]
["CMREM_11520","YE",{"$f":"+'Incoming Remittances (Value)'!$E$5","v":"20240930"},{"$f":"+'COVER SHEET'!$D$12","v":0},11520,{"$f":"'COVER SHEET'!$D$16&IF(MID('COVER SHEET'!$I$18,6,10)=\"december\",\"1231\",IF(MID('COVER SHEET'!$I$18,6,10)=\"june\",\"0630\"))","v":"20241231"},{"$f":"+'Incoming Remittances (Value)'!E242","v":0}]
["CMREM_11520","ZM",{"$f":"+'Incoming Remittances (Value)'!$E$5","v":"20240930"},{"$f":"+'COVER SHEET'!$D$12","v":0},11520,{"$f":"'COVER SHEET'!$D$16&IF(MID('COVER SHEET'!$I$18,6,10)=\"december\",\"1231\",IF(MID('COVER SHEET'!$I$18,6,10)=\"june\",\"0630\"))","v":"20241231"},{"$f":"+'Incoming Remittances (Value)'!E243","v":0}]
["CMREM_11520","ZW",{"$f":"+'Incoming Remittances (Value)'!$E$5","v":"20240930"},{"$f":"+'COVER SHEET'!$D$12","v":0},11520,{"$f":"'COVER SHEET'!$D$16&IF(MID('COVER SHEET'!$I$18,6,10)=\"december\",\"1231\",IF(MID('COVER SHEET'!$I$18,6,10)=\"june\",\"0630\"))","v":"20241231"},{"$f":"+'Incoming Remittances (Value)'!E244","v":0}]
["CMREM_11530","AF",{"$f":"+'Outgoing Remittances (Value)'!$E$5","v":"20240930"},{"$f":"+'COVER SHEET'!$D$12","v":0},11530,{"$f":"'COVER SHEET'!$D$16&IF(MID('COVER SHEET'!$I$18,6,10)=\"december\",\"1231\",IF(MID('COVER SHEET'!$I$18,6,10)=\"june\",\"0630\"))","v":"20241231"},{"$f":"+'Outgoing Remittances (Value)'!E9","v":0}]
["CMREM_11530","AL",{"$f":"+'Outgoing Remittances (Value)'!$E$5","v":"20240930"},{"$f":"+'COVER SHEET'!$D$12","v":0},11530,{"$f":"'COVER SHEET'!$D$16&IF(MID('COVER SHEET'!$I$18,6,10)=\"december\",\"1231\",IF(MID('COVER SHEET'!$I$18,6,10)=\"june\",\"0630\"))","v":"20241231"},{"$f":"+'Outgoing Remittances (Value)'!E10","v":0}]
["CMREM_11530","DZ",{"$f":"+'Outgoing Remittances (Value)'!$E$5","v":"20240930"},{"$f":"+'COVER SHEET'!$D$12","v":0},11530,{"$f":"'COVER SHEET'!$D$16&IF(MID('COVER SHEET'!$I$18,6,10)=\"december\",\"1231\",IF(MID('COVER SHEET'!$I$18,6,10)=\"june\",\"0630\"))","v":"20241231"},{"$f":"+'Outgoing Remittances (Value)'!E11","v":0}]
["CMREM_11530","AS",{"$f":"+'Outgoing Remittances (Value)'!$E$5","v":"20240930"},{"$f":"+'COVER SHEET'!$D$12","v":0},11530,{"$f":"'COVER SHEET'!$D$16&IF(MID('COVER SHEET'!$I$18,6,10)=\"december\",\"1231\",IF(MID('COVER SHEET'!$I$18,6,10)=\"june\",\"0630\"))","v":"20241231"},{"$f":"+'Outgoing Remittances (Value)'!E12","v":0}]
["CMREM_11530","AD",{"$f":"+'Outgoing Remittances (Value)'!$E$5","v":"20240930"},{"$f":"+'COVER SHEET'!$D$12","v":0},11530,{"$f":"'COVER SHEET'!$D$16&IF(MID('COVER SHEET'!$I$18,6,10)=\"december\",\"1231\",IF(MID('COVER SHEET'!$I$18,6,10)=\"june\",\"0630\"))","v":"20241231"},{"$f":"+'Outgoing Remittances (Value)'!E13","v":0}]
["CMREM_11530","AO",{"$f":"+'Outgoing Remittances (Value)'!$E$5","v":"20240930"},{"$f":"+'COVER SHEET'!$D$12","v":0},11530,{"$f":"'COVER SHEET'!$D$16&IF(MID('COVER SHEET'!$I$18,6,10)=\"december\",\"1231\",IF(MID('COVER SHEET'!$I$18,6,10)=\"june\",\"0630\"))","v":"20241231"},{"$f":"+'Outgoing Remittances (Value)'!E14","v":0}]
["CMREM_11530","AI",{"$f":"+'Outgoing Remittances (Value)'!$E$5","v":"20240930"},{"$f":"+'COVER SHEET'!$D$12","v":0},11530,{"$f":"'COVER SHEET'!$D$16&IF(MID('COVER SHEET'!$I$18,6,10)=\"december\",\"1231\",IF(MID('COVER SHEET'!$I$18,6,10)=\"june\",\"0630\"))","v":"20241231"},{"$f":"+'Outgoing Remittances (Value)'!E15","v":0}]
["CMREM_11530","AQ",{"$f":"+'Outgoing Remittances (Value)'!$E$5","v":"20240930"},{"$f":"+'COVER SHEET'!$D$12","v":0},11530,{"$f":"'COVER SHEET'!$D$16&IF(MID('COVER SHEET'!$I$18,6,10)=\"december\",\"1231\",IF(MID('COVER SHEET'!$I$18,6,10)=\"june\",\"0630\"))","v":"20241231"},{"$f":"+'Outgoing Remittances (Value)'!E16","v":0}]
["CMREM_11530","AG",{"$f":"+'Outgoing Remittances (Value)'!$E$5","v":"20240930"},{"$f":"+'COVER SHEET'!$D$12","v":0},11530,{"$f":"'COVER SHEET'!$D$16&IF(MID('COVER SHEET'!$I$18,6,10)=\"december\",\"1231\",IF(MID('COVER SHEET'!$I$18,6,10)=\"june\",\"0630\"))","v":"20241231"},{"$f":"+'Outgoing Remittances (Value)'!E17","v":0}]
["CMREM_11530","AR",{"$f":"+'Outgoing Remittances (Value)'!$E$5","v":"20240930"},{"$f":"+'COVER SHEET'!$D$12","v":0},11530,{"$f":"'COVER SHEET'!$D$16&IF(MID('COVER SHEET'!$I$18,6,10)=\"december\",\"1231\",IF(MID('COVER SHEET'!$I$18,6,10)=\"june\",\"0630\"))","v":"20241231"},{"$f":"+'Outgoing Remittances (Value)'!E18","v":0}]
["CMREM_11530","AM",{"$f":"+'Outgoing Remittances (Value)'!$E$5","v":"20240930"},{"$f":"+'COVER SHEET'!$D$12","v":0},11530,{"$f":"'COVER SHEET'!$D$16&IF(MID('COVER SHEET'!$I$18,6,10)=\"december\",\"1231\",IF(MID('COVER SHEET'!$I$18,6,10)=\"june\",\"0630\"))","v":"20241231"},{"$f":"+'Outgoing Remittances (Value)'!E19","v":0}]
["CMREM_11530","AW",{"$f":"+'Outgoing Remittances (Value)'!$E$5","v":"20240930"},{"$f":"+'COVER SHEET'!$D$12","v":0},11530,{"$f":"'COVER SHEET'!$D$16&IF(MID('COVER SHEET'!$I$18,6,10)=\"december\",\"1231\",IF(MID('COVER SHEET'!$I$18,6,10)=\"june\",\"0630\"))","v":"20241231"},{"$f":"+'Outgoing Remittances (Value)'!E20","v":0}]
["CMREM_11530","AU",{"$f":"+'Outgoing Remittances (Value)'!$E$5","v":"20240930"},{"$f":"+'COVER SHEET'!$D$12","v":0},11530,{"$f":"'COVER SHEET'!$D$16&IF(MID('COVER SHEET'!$I$18,6,10)=\"december\",\"1231\",IF(MID('COVER SHEET'!$I$18,6,10)=\"june\",\"0630\"))","v":"20241231"},{"$f":"+'Outgoing Remittances (Value)'!E21","v":0}]
["CMREM_11530","AT",{"$f":"+'Outgoing Remittances (Value)'!$E$5","v":"20240930"},{"$f":"+'COVER SHEET'!$D$12","v":0},11530,{"$f":"'COVER SHEET'!$D$16&IF(MID('COVER SHEET'!$I$18,6,10)=\"december\",\"1231\",IF(MID('COVER SHEET'!$I$18,6,10)=\"june\",\"0630\"))","v":"20241231"},{"$f":"+'Outgoing Remittances (Value)'!E22","v":0}]
["CMREM_11530","AZ",{"$f":"+'Outgoing Remittances (Value)'!$E$5","v":"20240930"},{"$f":"+'COVER SHEET'!$D$12","v":0},11530,{"$f":"'COVER SHEET'!$D$16&IF(MID('COVER SHEET'!$I$18,6,10)=\"december\",\"1231\",IF(MID('COVER SHEET'!$I$18,6,10)=\"june\",\"0630\"))","v":"20241231"},{"$f":"+'Outgoing Remittances (Value)'!E23","v":0}]
["CMREM_11530","BS",{"$f":"+'Outgoing Remittances (Value)'!$E$5","v":"20240930"},{"$f":"+'COVER SHEET'!$D$12","v":0},11530,{"$f":"'COVER SHEET'!$D$16&IF(MID('COVER SHEET'!$I$18,6,10)=\"december\",\"1231\",IF(MID('COVER SHEET'!$I$18,6,10)=\"june\",\"0630\"))","v":"20241231"},{"$f":"+'Outgoing Remittances (Value)'!E24","v":0}]
["CMREM_11530","BH",{"$f":"+'Outgoing Remittances (Value)'!$E$5","v":"20240930"},{"$f":"+'COVER SHEET'!$D$12","v":0},11530,{"$f":"'COVER SHEET'!$D$16&IF(MID('COVER SHEET'!$I$18,6,10)=\"december\",\"1231\",IF(MID('COVER SHEET'!$I$18,6,10)=\"june\",\"0630\"))","v":"20241231"},{"$f":"+'Outgoing Remittances (Value)'!E25","v":0}]
["CMREM_11530","BD",{"$f":"+'Outgoing Remittances (Value)'!$E$5","v":"20240930"},{"$f":"+'COVER SHEET'!$D$12","v":0},11530,{"$f":"'COVER SHEET'!$D$16&IF(MID('COVER SHEET'!$I$18,6,10)=\"december\",\"1231\",IF(MID('COVER SHEET'!$I$18,6,10)=\"june\",\"0630\"))","v":"20241231"},{"$f":"+'Outgoing Remittances (Value)'!E26","v":0}]
["CMREM_11530","BB",{"$f":"+'Outgoing Remittances (Value)'!$E$5","v":"20240930"},{"$f":"+'COVER SHEET'!$D$12","v":0},11530,{"$f":"'COVER SHEET'!$D$16&IF(MID('COVER SHEET'!$I$18,6,10)=\"december\",\"1231\",IF(MID('COVER SHEET'!$I$18,6,10)=\"june\",\"0630\"))","v":"20241231"},{"$f":"+'Outgoing Remittances (Value)'!E27","v":0}]
["CMREM_11530","BY",{"$f":"+'Outgoing Remittances (Value)'!$E$5","v":"20240930"},{"$f":"+'COVER SHEET'!$D$12","v":0},11530,{"$f":"'COVER SHEET'!$D$16&IF(MID('COVER SHEET'!$I$18,6,10)=\"december\",\"1231\",IF(MID('COVER SHEET'!$I$18,6,10)=\"june\",\"0630\"))","v":"20241231"},{"$f":"+'Outgoing Remittances (Value)'!E28","v":0}]
["CMREM_11530","BE",{"$f":"+'Outgoing Remittances (Value)'!$E$5","v":"20240930"},{"$f":"+'COVER SHEET'!$D$12","v":0},11530,{"$f":"'COVER SHEET'!$D$16&IF(MID('COVER SHEET'!$I$18,6,10)=\"december\",\"1231\",IF(MID('COVER SHEET'!$I$18,6,10)=\"june\",\"0630\"))","v":"20241231"},{"$f":"+'Outgoing Remittances (Value)'!E29","v":0}]
["CMREM_11530","BZ",{"$f":"+'Outgoing Remittances (Value)'!$E$5","v":"20240930"},{"$f":"+'COVER SHEET'!$D$12","v":0},11530,{"$f":"'COVER SHEET'!$D$16&IF(MID('COVER SHEET'!$I$18,6,10)=\"december\",\"1231\",IF(MID('COVER SHEET'!$I$18,6,10)=\"june\",\"0630\"))","v":"20241231"},{"$f":"+'Outgoing Remittances (Value)'!E30","v":0}]
["CMREM_11530","BJ",{"$f":"+'Outgoing Remittances (Value)'!$E$5","v":"20240930"},{"$f":"+'COVER SHEET'!$D$12","v":0},11530,{"$f":"'COVER SHEET'!$D$16&IF(MID('COVER SHEET'!$I$18,6,10)=\"december\",\"1231\",IF(MID('COVER SHEET'!$I$18,6,10)=\"june\",\"0630\"))","v":"20241231"},{"$f":"+'Outgoing Remittances (Value)'!E31","v":0}]
["CMREM_11530","BM",{"$f":"+'Outgoing Remittances (Value)'!$E$5","v":"20240930"},{"$f":"+'COVER SHEET'!$D$12","v":0},11530,{"$f":"'COVER SHEET'!$D$16&IF(MID('COVER SHEET'!$I$18,6,10)=\"december\",\"1231\",IF(MID('COVER SHEET'!$I$18,6,10)=\"june\",\"0630\"))","v":"20241231"},{"$f":"+'Outgoing Remittances (Value)'!E32","v":0}]
["CMREM_11530","BQ",{"$f":"+'Outgoing Remittances (Value)'!$E$5","v":"20240930"},{"$f":"+'COVER SHEET'!$D$12","v":0},11530,{"$f":"'COVER SHEET'!$D$16&IF(MID('COVER SHEET'!$I$18,6,10)=\"december\",\"1231\",IF(MID('COVER SHEET'!$I$18,6,10)=\"june\",\"0630\"))","v":"20241231"},{"$f":"+'Outgoing Remittances (Value)'!E33","v":0}]
["CMREM_11530","BT",{"$f":"+'Outgoing Remittances (Value)'!$E$5","v":"20240930"},{"$f":"+'COVER SHEET'!$D$12","v":0},11530,{"$f":"'COVER SHEET'!$D$16&IF(MID('COVER SHEET'!$I$18,6,10)=\"december\",\"1231\",IF(MID('COVER SHEET'!$I$18,6,10)=\"june\",\"0630\"))","v":"20241231"},{"$f":"+'Outgoing Remittances (Value)'!E34","v":0}]
["CMREM_11530","BO",{"$f":"+'Outgoing Remittances (Value)'!$E$5","v":"20240930"},{"$f":"+'COVER SHEET'!$D$12","v":0},11530,{"$f":"'COVER SHEET'!$D$16&IF(MID('COVER SHEET'!$I$18,6,10)=\"december\",\"1231\",IF(MID('COVER SHEET'!$I$18,6,10)=\"june\",\"0630\"))","v":"20241231"},{"$f":"+'Outgoing Remittances (Value)'!E35","v":0}]
["CMREM_11530","BA",{"$f":"+'Outgoing Remittances (Value)'!$E$5","v":"20240930"},{"$f":"+'COVER SHEET'!$D$12","v":0},11530,{"$f":"'COVER SHEET'!$D$16&IF(MID('COVER SHEET'!$I$18,6,10)=\"december\",\"1231\",IF(MID('COVER SHEET'!$I$18,6,10)=\"june\",\"0630\"))","v":"20241231"},{"$f":"+'Outgoing Remittances (Value)'!E36","v":0}]
["CMREM_11530","BW",{"$f":"+'Outgoing Remittances (Value)'!$E$5","v":"20240930"},{"$f":"+'COVER SHEET'!$D$12","v":0},11530,{"$f":"'COVER SHEET'!$D$16&IF(MID('COVER SHEET'!$I$18,6,10)=\"december\",\"1231\",IF(MID('COVER SHEET'!$I$18,6,10)=\"june\",\"0630\"))","v":"20241231"},{"$f":"+'Outgoing Remittances (Value)'!E37","v":0}]
["CMREM_11530","BV",{"$f":"+'Outgoing Remittances (Value)'!$E$5","v":"20240930"},{"$f":"+'COVER SHEET'!$D$12","v":0},11530,{"$f":"'COVER SHEET'!$D$16&IF(MID('COVER SHEET'!$I$18,6,10)=\"december\",\"1231\",IF(MID('COVER SHEET'!$I$18,6,10)=\"june\",\"0630\"))","v":"20241231"},{"$f":"+'Outgoing Remittances (Value)'!E38","v":0}]
["CMREM_11530","BR",{"$f":"+'Outgoing Remittances (Value)'!$E$5","v":"20240930"},{"$f":"+'COVER SHEET'!$D$12","v":0},11530,{"$f":"'COVER SHEET'!$D$16&IF(MID('COVER SHEET'!$I$18,6,10)=\"december\",\"1231\",IF(MID('COVER SHEET'!$I$18,6,10)=\"june\",\"0630\"))","v":"20241231"},{"$f":"+'Outgoing Remittances (Value)'!E39","v":0}]
["CMREM_11530","IO",{"$f":"+'Outgoing Remittances (Value)'!$E$5","v":"20240930"},{"$f":"+'COVER SHEET'!$D$12","v":0},11530,{"$f":"'COVER SHEET'!$D$16&IF(MID('COVER SHEET'!$I$18,6,10)=\"december\",\"1231\",IF(MID('COVER SHEET'!$I$18,6,10)=\"june\",\"0630\"))","v":"20241231"},{"$f":"+'Outgoing Remittances (Value)'!E40","v":0}]
["CMREM_11530","VG",{"$f":"+'Outgoing Remittances (Value)'!$E$5","v":"20240930"},{"$f":"+'COVER SHEET'!$D$12","v":0},11530,{"$f":"'COVER SHEET'!$D$16&IF(MID('COVER SHEET'!$I$18,6,10)=\"december\",\"1231\",IF(MID('COVER SHEET'!$I$18,6,10)=\"june\",\"0630\"))","v":"20241231"},{"$f":"+'Outgoing Remittances (Value)'!E41","v":0}]
["CMREM_11530","BN",{"$f":"+'Outgoing Remittances (Value)'!$E$5","v":"20240930"},{"$f":"+'COVER SHEET'!$D$12","v":0},11530,{"$f":"'COVER SHEET'!$D$16&IF(MID('COVER SHEET'!$I$18,6,10)=\"december\",\"1231\",IF(MID('COVER SHEET'!$I$18,6,10)=\"june\",\"0630\"))","v":"20241231"},{"$f":"+'Outgoing Remittances (Value)'!E42","v":0}]
["CMREM_11530","BG",{"$f":"+'Outgoing Remittances (Value)'!$E$5","v":"20240930"},{"$f":"+'COVER SHEET'!$D$12","v":0},11530,{"$f":"'COVER SHEET'!$D$16&IF(MID('COVER SHEET'!$I$18,6,10)=\"december\",\"1231\",IF(MID('COVER SHEET'!$I$18,6,10)=\"june\",\"0630\"))","v":"20241231"},{"$f":"+'Outgoing Remittances (Value)'!E43","v":0}]
["CMREM_11530","BF",{"$f":"+'Outgoing Remittances (Value)'!$E$5","v":"20240930"},{"$f":"+'COVER SHEET'!$D$12","v":0},11530,{"$f":"'COVER SHEET'!$D$16&IF(MID('COVER SHEET'!$I$18,6,10)=\"december\",\"1231\",IF(MID('COVER SHEET'!$I$18,6,10)=\"june\",\"0630\"))","v":"20241231"},{"$f":"+'Outgoing Remittances (Value)'!E44","v":0}]
["CMREM_11530","BI",{"$f":"+'Outgoing Remittances (Value)'!$E$5","v":"20240930"},{"$f":"+'COVER SHEET'!$D$12","v":0},11530,{"$f":"'COVER SHEET'!$D$16&IF(MID('COVER SHEET'!$I$18,6,10)=\"december\",\"1231\",IF(MID('COVER SHEET'!$I$18,6,10)=\"june\",\"0630\"))","v":"20241231"},{"$f":"+'Outgoing Remittances (Value)'!E45","v":0}]
["CMREM_11530","KH",{"$f":"+'Outgoing Remittances (Value)'!$E$5","v":"20240930"},{"$f":"+'COVER SHEET'!$D$12","v":0},11530,{"$f":"'COVER SHEET'!$D$16&IF(MID('COVER SHEET'!$I$18,6,10)=\"december\",\"1231\",IF(MID('COVER SHEET'!$I$18,6,10)=\"june\",\"0630\"))","v":"20241231"},{"$f":"+'Outgoing Remittances (Value)'!E46","v":0}]
["CMREM_11530","CM",{"$f":"+'Outgoing Remittances (Value)'!$E$5","v":"20240930"},{"$f":"+'COVER SHEET'!$D$12","v":0},11530,{"$f":"'COVER SHEET'!$D$16&IF(MID('COVER SHEET'!$I$18,6,10)=\"december\",\"1231\",IF(MID('COVER SHEET'!$I$18,6,10)=\"june\",\"0630\"))","v":"20241231"},{"$f":"+'Outgoing Remittances (Value)'!E47","v":0}]
["CMREM_11530","CA",{"$f":"+'Outgoing Remittances (Value)'!$E$5","v":"20240930"},{"$f":"+'COVER SHEET'!$D$12","v":0},11530,{"$f":"'COVER SHEET'!$D$16&IF(MID('COVER SHEET'!$I$18,6,10)=\"december\",\"1231\",IF(MID('COVER SHEET'!$I$18,6,10)=\"june\",\"0630\"))","v":"20241231"},{"$f":"+'Outgoing Remittances (Value)'!E48","v":0}]
["CMREM_11530","CV",{"$f":"+'Outgoing Remittances (Value)'!$E$5","v":"20240930"},{"$f":"+'COVER SHEET'!$D$12","v":0},11530,{"$f":"'COVER SHEET'!$D$16&IF(MID('COVER SHEET'!$I$18,6,10)=\"december\",\"1231\",IF(MID('COVER SHEET'!$I$18,6,10)=\"june\",\"0630\"))","v":"20241231"},{"$f":"+'Outgoing Remittances (Value)'!E49","v":0}]
["CMREM_11530","KY",{"$f":"+'Outgoing Remittances (Value)'!$E$5","v":"20240930"},{"$f":"+'COVER SHEET'!$D$12","v":0},11530,{"$f":"'COVER SHEET'!$D$16&IF(MID('COVER SHEET'!$I$18,6,10)=\"december\",\"1231\",IF(MID('COVER SHEET'!$I$18,6,10)=\"june\",\"0630\"))","v":"20241231"},{"$f":"+'Outgoing Remittances (Value)'!E50","v":0}]
["CMREM_11530","CF",{"$f":"+'Outgoing Remittances (Value)'!$E$5","v":"20240930"},{"$f":"+'COVER SHEET'!$D$12","v":0},11530,{"$f":"'COVER SHEET'!$D$16&IF(MID('COVER SHEET'!$I$18,6,10)=\"december\",\"1231\",IF(MID('COVER SHEET'!$I$18,6,10)=\"june\",\"0630\"))","v":"20241231"},{"$f":"+'Outgoing Remittances (Value)'!E51","v":0}]
["CMREM_11530","TD",{"$f":"+'Outgoing Remittances (Value)'!$E$5","v":"20240930"},{"$f":"+'COVER SHEET'!$D$12","v":0},11530,{"$f":"'COVER SHEET'!$D$16&IF(MID('COVER SHEET'!$I$18,6,10)=\"december\",\"1231\",IF(MID('COVER SHEET'!$I$18,6,10)=\"june\",\"0630\"))","v":"20241231"},{"$f":"+'Outgoing Remittances (Value)'!E52","v":0}]
["CMREM_11530","CL",{"$f":"+'Outgoing Remittances (Value)'!$E$5","v":"20240930"},{"$f":"+'COVER SHEET'!$D$12","v":0},11530,{"$f":"'COVER SHEET'!$D$16&IF(MID('COVER SHEET'!$I$18,6,10)=\"december\",\"1231\",IF(MID('COVER SHEET'!$I$18,6,10)=\"june\",\"0630\"))","v":"20241231"},{"$f":"+'Outgoing Remittances (Value)'!E53","v":0}]
["CMREM_11530","CN",{"$f":"+'Outgoing Remittances (Value)'!$E$5","v":"20240930"},{"$f":"+'COVER SHEET'!$D$12","v":0},11530,{"$f":"'COVER SHEET'!$D$16&IF(MID('COVER SHEET'!$I$18,6,10)=\"december\",\"1231\",IF(MID('COVER SHEET'!$I$18,6,10)=\"june\",\"0630\"))","v":"20241231"},{"$f":"+'Outgoing Remittances (Value)'!E54","v":0}]
["CMREM_11530","CX",{"$f":"+'Outgoing Remittances (Value)'!$E$5","v":"20240930"},{"$f":"+'COVER SHEET'!$D$12","v":0},11530,{"$f":"'COVER SHEET'!$D$16&IF(MID('COVER SHEET'!$I$18,6,10)=\"december\",\"1231\",IF(MID('COVER SHEET'!$I$18,6,10)=\"june\",\"0630\"))","v":"20241231"},{"$f":"+'Outgoing Remittances (Value)'!E55","v":0}]
["CMREM_11530","CC",{"$f":"+'Outgoing Remittances (Value)'!$E$5","v":"20240930"},{"$f":"+'COVER SHEET'!$D$12","v":0},11530,{"$f":"'COVER SHEET'!$D$16&IF(MID('COVER SHEET'!$I$18,6,10)=\"december\",\"1231\",IF(MID('COVER SHEET'!$I$18,6,10)=\"june\",\"0630\"))","v":"20241231"},{"$f":"+'Outgoing Remittances (Value)'!E56","v":0}]
["CMREM_11530","CO",{"$f":"+'Outgoing Remittances (Value)'!$E$5","v":"20240930"},{"$f":"+'COVER SHEET'!$D$12","v":0},11530,{"$f":"'COVER SHEET'!$D$16&IF(MID('COVER SHEET'!$I$18,6,10)=\"december\",\"1231\",IF(MID('COVER SHEET'!$I$18,6,10)=\"june\",\"0630\"))","v":"20241231"},{"$f":"+'Outgoing Remittances (Value)'!E57","v":0}]
["CMREM_11530","KM",{"$f":"+'Outgoing Remittances (Value)'!$E$5","v":"20240930"},{"$f":"+'COVER SHEET'!$D$12","v":0},11530,{"$f":"'COVER SHEET'!$D$16&IF(MID('COVER SHEET'!$I$18,6,10)=\"december\",\"1231\",IF(MID('COVER SHEET'!$I$18,6,10)=\"june\",\"0630\"))","v":"20241231"},{"$f":"+'Outgoing Remittances (Value)'!E58","v":0}]
["CMREM_11530","CG",{"$f":"+'Outgoing Remittances (Value)'!$E$5","v":"20240930"},{"$f":"+'COVER SHEET'!$D$12","v":0},11530,{"$f":"'COVER SHEET'!$D$16&IF(MID('COVER SHEET'!$I$18,6,10)=\"december\",\"1231\",IF(MID('COVER SHEET'!$I$18,6,10)=\"june\",\"0630\"))","v":"20241231"},{"$f":"+'Outgoing Remittances (Value)'!E59","v":0}]
["CMREM_11530","CD",{"$f":"+'Outgoing Remittances (Value)'!$E$5","v":"20240930"},{"$f":"+'COVER SHEET'!$D$12","v":0},11530,{"$f":"'COVER SHEET'!$D$16&IF(MID('COVER SHEET'!$I$18,6,10)=\"december\",\"1231\",IF(MID('COVER SHEET'!$I$18,6,10)=\"june\",\"0630\"))","v":"20241231"},{"$f":"+'Outgoing Remittances (Value)'!E60","v":0}]
["CMREM_11530","CK",{"$f":"+'Outgoing Remittances (Value)'!$E$5","v":"20240930"},{"$f":"+'COVER SHEET'!$D$12","v":0},11530,{"$f":"'COVER SHEET'!$D$16&IF(MID('COVER SHEET'!$I$18,6,10)=\"december\",\"1231\",IF(MID('COVER SHEET'!$I$18,6,10)=\"june\",\"0630\"))","v":"20241231"},{"$f":"+'Outgoing Remittances (Value)'!E61","v":0}]
["CMREM_11530","CR",{"$f":"+'Outgoing Remittances (Value)'!$E$5","v":"20240930"},{"$f":"+'COVER SHEET'!$D$12","v":0},11530,{"$f":"'COVER SHEET'!$D$16&IF(MID('COVER SHEET'!$I$18,6,10)=\"december\",\"1231\",IF(MID('COVER SHEET'!$I$18,6,10)=\"june\",\"0630\"))","v":"20241231"},{"$f":"+'Outgoing Remittances (Value)'!E62","v":0}]
["CMREM_11530","HR",{"$f":"+'Outgoing Remittances (Value)'!$E$5","v":"20240930"},{"$f":"+'COVER SHEET'!$D$12","v":0},11530,{"$f":"'COVER SHEET'!$D$16&IF(MID('COVER SHEET'!$I$18,6,10)=\"december\",\"1231\",IF(MID('COVER SHEET'!$I$18,6,10)=\"june\",\"0630\"))","v":"20241231"},{"$f":"+'Outgoing Remittances (Value)'!E63","v":0}]
["CMREM_11530","CU",{"$f":"+'Outgoing Remittances (Value)'!$E$5","v":"20240930"},{"$f":"+'COVER SHEET'!$D$12","v":0},11530,{"$f":"'COVER SHEET'!$D$16&IF(MID('COVER SHEET'!$I$18,6,10)=\"december\",\"1231\",IF(MID('COVER SHEET'!$I$18,6,10)=\"june\",\"0630\"))","v":"20241231"},{"$f":"+'Outgoing Remittances (Value)'!E64","v":0}]
["CMREM_11530","CW",{"$f":"+'Outgoing Remittances (Value)'!$E$5","v":"20240930"},{"$f":"+'COVER SHEET'!$D$12","v":0},11530,{"$f":"'COVER SHEET'!$D$16&IF(MID('COVER SHEET'!$I$18,6,10)=\"december\",\"1231\",IF(MID('COVER SHEET'!$I$18,6,10)=\"june\",\"0630\"))","v":"20241231"},{"$f":"+'Outgoing Remittances (Value)'!E65","v":0}]
["CMREM_11530","CY",{"$f":"+'Outgoing Remittances (Value)'!$E$5","v":"20240930"},{"$f":"+'COVER SHEET'!$D$12","v":0},11530,{"$f":"'COVER SHEET'!$D$16&IF(MID('COVER SHEET'!$I$18,6,10)=\"december\",\"1231\",IF(MID('COVER SHEET'!$I$18,6,10)=\"june\",\"0630\"))","v":"20241231"},{"$f":"+'Outgoing Remittances (Value)'!E66","v":0}]
["CMREM_11530","CZ",{"$f":"+'Outgoing Remittances (Value)'!$E$5","v":"20240930"},{"$f":"+'COVER SHEET'!$D$12","v":0},11530,{"$f":"'COVER SHEET'!$D$16&IF(MID('COVER SHEET'!$I$18,6,10)=\"december\",\"1231\",IF(MID('COVER SHEET'!$I$18,6,10)=\"june\",\"0630\"))","v":"20241231"},{"$f":"+'Outgoing Remittances (Value)'!E67","v":0}]
["CMREM_11530","DK",{"$f":"+'Outgoing Remittances (Value)'!$E$5","v":"20240930"},{"$f":"+'COVER SHEET'!$D$12","v":0},11530,{"$f":"'COVER SHEET'!$D$16&IF(MID('COVER SHEET'!$I$18,6,10)=\"december\",\"1231\",IF(MID('COVER SHEET'!$I$18,6,10)=\"june\",\"0630\"))","v":"20241231"},{"$f":"+'Outgoing Remittances (Value)'!E68","v":0}]
["CMREM_11530","DJ",{"$f":"+'Outgoing Remittances (Value)'!$E$5","v":"20240930"},{"$f":"+'COVER SHEET'!$D$12","v":0},11530,{"$f":"'COVER SHEET'!$D$16&IF(MID('COVER SHEET'!$I$18,6,10)=\"december\",\"1231\",IF(MID('COVER SHEET'!$I$18,6,10)=\"june\",\"0630\"))","v":"20241231"},{"$f":"+'Outgoing Remittances (Value)'!E69","v":0}]
["CMREM_11530","DM",{"$f":"+'Outgoing Remittances (Value)'!$E$5","v":"20240930"},{"$f":"+'COVER SHEET'!$D$12","v":0},11530,{"$f":"'COVER SHEET'!$D$16&IF(MID('COVER SHEET'!$I$18,6,10)=\"december\",\"1231\",IF(MID('COVER SHEET'!$I$18,6,10)=\"june\",\"0630\"))","v":"20241231"},{"$f":"+'Outgoing Remittances (Value)'!E70","v":0}]
["CMREM_11530","DO",{"$f":"+'Outgoing Remittances (Value)'!$E$5","v":"20240930"},{"$f":"+'COVER SHEET'!$D$12","v":0},11530,{"$f":"'COVER SHEET'!$D$16&IF(MID('COVER SHEET'!$I$18,6,10)=\"december\",\"1231\",IF(MID('COVER SHEET'!$I$18,6,10)=\"june\",\"0630\"))","v":"20241231"},{"$f":"+'Outgoing Remittances (Value)'!E71","v":0}]
["CMREM_11530","TL",{"$f":"+'Outgoing Remittances (Value)'!$E$5","v":"20240930"},{"$f":"+'COVER SHEET'!$D$12","v":0},11530,{"$f":"'COVER SHEET'!$D$16&IF(MID('COVER SHEET'!$I$18,6,10)=\"december\",\"1231\",IF(MID('COVER SHEET'!$I$18,6,10)=\"june\",\"0630\"))","v":"20241231"},{"$f":"+'Outgoing Remittances (Value)'!E72","v":0}]
["CMREM_11530","EC",{"$f":"+'Outgoing Remittances (Value)'!$E$5","v":"20240930"},{"$f":"+'COVER SHEET'!$D$12","v":0},11530,{"$f":"'COVER SHEET'!$D$16&IF(MID('COVER SHEET'!$I$18,6,10)=\"december\",\"1231\",IF(MID('COVER SHEET'!$I$18,6,10)=\"june\",\"0630\"))","v":"20241231"},{"$f":"+'Outgoing Remittances (Value)'!E73","v":0}]
["CMREM_11530","EG",{"$f":"+'Outgoing Remittances (Value)'!$E$5","v":"20240930"},{"$f":"+'COVER SHEET'!$D$12","v":0},11530,{"$f":"'COVER SHEET'!$D$16&IF(MID('COVER SHEET'!$I$18,6,10)=\"december\",\"1231\",IF(MID('COVER SHEET'!$I$18,6,10)=\"june\",\"0630\"))","v":"20241231"},{"$f":"+'Outgoing Remittances (Value)'!E74","v":0}]
["CMREM_11530","SV",{"$f":"+'Outgoing Remittances (Value)'!$E$5","v":"20240930"},{"$f":"+'COVER SHEET'!$D$12","v":0},11530,{"$f":"'COVER SHEET'!$D$16&IF(MID('COVER SHEET'!$I$18,6,10)=\"december\",\"1231\",IF(MID('COVER SHEET'!$I$18,6,10)=\"june\",\"0630\"))","v":"20241231"},{"$f":"+'Outgoing Remittances (Value)'!E75","v":0}]
["CMREM_11530","GQ",{"$f":"+'Outgoing Remittances (Value)'!$E$5","v":"20240930"},{"$f":"+'COVER SHEET'!$D$12","v":0},11530,{"$f":"'COVER SHEET'!$D$16&IF(MID('COVER SHEET'!$I$18,6,10)=\"december\",\"1231\",IF(MID('COVER SHEET'!$I$18,6,10)=\"june\",\"0630\"))","v":"20241231"},{"$f":"+'Outgoing Remittances (Value)'!E76","v":0}]
["CMREM_11530","ER",{"$f":"+'Outgoing Remittances (Value)'!$E$5","v":"20240930"},{"$f":"+'COVER SHEET'!$D$12","v":0},11530,{"$f":"'COVER SHEET'!$D$16&IF(MID('COVER SHEET'!$I$18,6,10)=\"december\",\"1231\",IF(MID('COVER SHEET'!$I$18,6,10)=\"june\",\"0630\"))","v":"20241231"},{"$f":"+'Outgoing Remittances (Value)'!E77","v":0}]
["CMREM_11530","EE",{"$f":"+'Outgoing Remittances (Value)'!$E$5","v":"20240930"},{"$f":"+'COVER SHEET'!$D$12","v":0},11530,{"$f":"'COVER SHEET'!$D$16&IF(MID('COVER SHEET'!$I$18,6,10)=\"december\",\"1231\",IF(MID('COVER SHEET'!$I$18,6,10)=\"june\",\"0630\"))","v":"20241231"},{"$f":"+'Outgoing Remittances (Value)'!E78","v":0}]
["CMREM_11530","ET",{"$f":"+'Outgoing Remittances (Value)'!$E$5","v":"20240930"},{"$f":"+'COVER SHEET'!$D$12","v":0},11530,{"$f":"'COVER SHEET'!$D$16&IF(MID('COVER SHEET'!$I$18,6,10)=\"december\",\"1231\",IF(MID('COVER SHEET'!$I$18,6,10)=\"june\",\"0630\"))","v":"20241231"},{"$f":"+'Outgoing Remittances (Value)'!E79","v":0}]
["CMREM_11530","FK",{"$f":"+'Outgoing Remittances (Value)'!$E$5","v":"20240930"},{"$f":"+'COVER SHEET'!$D$12","v":0},11530,{"$f":"'COVER SHEET'!$D$16&IF(MID('COVER SHEET'!$I$18,6,10)=\"december\",\"1231\",IF(MID('COVER SHEET'!$I$18,6,10)=\"june\",\"0630\"))","v":"20241231"},{"$f":"+'Outgoing Remittances (Value)'!E80","v":0}]
["CMREM_11530","FO",{"$f":"+'Outgoing Remittances (Value)'!$E$5","v":"20240930"},{"$f":"+'COVER SHEET'!$D$12","v":0},11530,{"$f":"'COVER SHEET'!$D$16&IF(MID('COVER SHEET'!$I$18,6,10)=\"december\",\"1231\",IF(MID('COVER SHEET'!$I$18,6,10)=\"june\",\"0630\"))","v":"20241231"},{"$f":"+'Outgoing Remittances (Value)'!E81","v":0}]
["CMREM_11530","FJ",{"$f":"+'Outgoing Remittances (Value)'!$E$5","v":"20240930"},{"$f":"+'COVER SHEET'!$D$12","v":0},11530,{"$f":"'COVER SHEET'!$D$16&IF(MID('COVER SHEET'!$I$18,6,10)=\"december\",\"1231\",IF(MID('COVER SHEET'!$I$18,6,10)=\"june\",\"0630\"))","v":"20241231"},{"$f":"+'Outgoing Remittances (Value)'!E82","v":0}]
["CMREM_11530","FI",{"$f":"+'Outgoing Remittances (Value)'!$E$5","v":"20240930"},{"$f":"+'COVER SHEET'!$D$12","v":0},11530,{"$f":"'COVER SHEET'!$D$16&IF(MID('COVER SHEET'!$I$18,6,10)=\"december\",\"1231\",IF(MID('COVER SHEET'!$I$18,6,10)=\"june\",\"0630\"))","v":"20241231"},{"$f":"+'Outgoing Remittances (Value)'!E83","v":0}]
["CMREM_11530","FR",{"$f":"+'Outgoing Remittances (Value)'!$E$5","v":"20240930"},{"$f":"+'COVER SHEET'!$D$12","v":0},11530,{"$f":"'COVER SHEET'!$D$16&IF(MID('COVER SHEET'!$I$18,6,10)=\"december\",\"1231\",IF(MID('COVER SHEET'!$I$18,6,10)=\"june\",\"0630\"))","v":"20241231"},{"$f":"+'Outgoing Remittances (Value)'!E84","v":0}]
["CMREM_11530","PF",{"$f":"+'Outgoing Remittances (Value)'!$E$5","v":"20240930"},{"$f":"+'COVER SHEET'!$D$12","v":0},11530,{"$f":"'COVER SHEET'!$D$16&IF(MID('COVER SHEET'!$I$18,6,10)=\"december\",\"1231\",IF(MID('COVER SHEET'!$I$18,6,10)=\"june\",\"0630\"))","v":"20241231"},{"$f":"+'Outgoing Remittances (Value)'!E85","v":0}]
["CMREM_11530","TF",{"$f":"+'Outgoing Remittances (Value)'!$E$5","v":"20240930"},{"$f":"+'COVER SHEET'!$D$12","v":0},11530,{"$f":"'COVER SHEET'!$D$16&IF(MID('COVER SHEET'!$I$18,6,10)=\"december\",\"1231\",IF(MID('COVER SHEET'!$I$18,6,10)=\"june\",\"0630\"))","v":"20241231"},{"$f":"+'Outgoing Remittances (Value)'!E86","v":0}]
["CMREM_11530","GA",{"$f":"+'Outgoing Remittances (Value)'!$E$5","v":"20240930"},{"$f":"+'COVER SHEET'!$D$12","v":0},11530,{"$f":"'COVER SHEET'!$D$16&IF(MID('COVER SHEET'!$I$18,6,10)=\"december\",\"1231\",IF(MID('COVER SHEET'!$I$18,6,10)=\"june\",\"0630\"))","v":"20241231"},{"$f":"+'Outgoing Remittances (Value)'!E87","v":0}]
["CMREM_11530","GM",{"$f":"+'Outgoing Remittances (Value)'!$E$5","v":"20240930"},{"$f":"+'COVER SHEET'!$D$12","v":0},11530,{"$f":"'COVER SHEET'!$D$16&IF(MID('COVER SHEET'!$I$18,6,10)=\"december\",\"1231\",IF(MID('COVER SHEET'!$I$18,6,10)=\"june\",\"0630\"))","v":"20241231"},{"$f":"+'Outgoing Remittances (Value)'!E88","v":0}]
["CMREM_11530","GE",{"$f":"+'Outgoing Remittances (Value)'!$E$5","v":"20240930"},{"$f":"+'COVER SHEET'!$D$12","v":0},11530,{"$f":"'COVER SHEET'!$D$16&IF(MID('COVER SHEET'!$I$18,6,10)=\"december\",\"1231\",IF(MID('COVER SHEET'!$I$18,6,10)=\"june\",\"0630\"))","v":"20241231"},{"$f":"+'Outgoing Remittances (Value)'!E89","v":0}]
["CMREM_11530","DE",{"$f":"+'Outgoing Remittances (Value)'!$E$5","v":"20240930"},{"$f":"+'COVER SHEET'!$D$12","v":0},11530,{"$f":"'COVER SHEET'!$D$16&IF(MID('COVER SHEET'!$I$18,6,10)=\"december\",\"1231\",IF(MID('COVER SHEET'!$I$18,6,10)=\"june\",\"0630\"))","v":"20241231"},{"$f":"+'Outgoing Remittances (Value)'!E90","v":0}]
["CMREM_11530","GH",{"$f":"+'Outgoing Remittances (Value)'!$E$5","v":"20240930"},{"$f":"+'COVER SHEET'!$D$12","v":0},11530,{"$f":"'COVER SHEET'!$D$16&IF(MID('COVER SHEET'!$I$18,6,10)=\"december\",\"1231\",IF(MID('COVER SHEET'!$I$18,6,10)=\"june\",\"0630\"))","v":"20241231"},{"$f":"+'Outgoing Remittances (Value)'!E91","v":0}]
["CMREM_11530","GI",{"$f":"+'Outgoing Remittances (Value)'!$E$5","v":"20240930"},{"$f":"+'COVER SHEET'!$D$12","v":0},11530,{"$f":"'COVER SHEET'!$D$16&IF(MID('COVER SHEET'!$I$18,6,10)=\"december\",\"1231\",IF(MID('COVER SHEET'!$I$18,6,10)=\"june\",\"0630\"))","v":"20241231"},{"$f":"+'Outgoing Remittances (Value)'!E92","v":0}]
["CMREM_11530","GR",{"$f":"+'Outgoing Remittances (Value)'!$E$5","v":"20240930"},{"$f":"+'COVER SHEET'!$D$12","v":0},11530,{"$f":"'COVER SHEET'!$D$16&IF(MID('COVER SHEET'!$I$18,6,10)=\"december\",\"1231\",IF(MID('COVER SHEET'!$I$18,6,10)=\"june\",\"0630\"))","v":"20241231"},{"$f":"+'Outgoing Remittances (Value)'!E93","v":0}]
["CMREM_11530","GL",{"$f":"+'Outgoing Remittances (Value)'!$E$5","v":"20240930"},{"$f":"+'COVER SHEET'!$D$12","v":0},11530,{"$f":"'COVER SHEET'!$D$16&IF(MID('COVER SHEET'!$I$18,6,10)=\"december\",\"1231\",IF(MID('COVER SHEET'!$I$18,6,10)=\"june\",\"0630\"))","v":"20241231"},{"$f":"+'Outgoing Remittances (Value)'!E94","v":0}]
["CMREM_11530","GD",{"$f":"+'Outgoing Remittances (Value)'!$E$5","v":"20240930"},{"$f":"+'COVER SHEET'!$D$12","v":0},11530,{"$f":"'COVER SHEET'!$D$16&IF(MID('COVER SHEET'!$I$18,6,10)=\"december\",\"1231\",IF(MID('COVER SHEET'!$I$18,6,10)=\"june\",\"0630\"))","v":"20241231"},{"$f":"+'Outgoing Remittances (Value)'!E95","v":0}]
["CMREM_11530","GU",{"$f":"+'Outgoing Remittances (Value)'!$E$5","v":"20240930"},{"$f":"+'COVER SHEET'!$D$12","v":0},11530,{"$f":"'COVER SHEET'!$D$16&IF(MID('COVER SHEET'!$I$18,6,10)=\"december\",\"1231\",IF(MID('COVER SHEET'!$I$18,6,10)=\"june\",\"0630\"))","v":"20241231"},{"$f":"+'Outgoing Remittances (Value)'!E96","v":0}]
["CMREM_11530","GT",{"$f":"+'Outgoing Remittances (Value)'!$E$5","v":"20240930"},{"$f":"+'COVER SHEET'!$D$12","v":0},11530,{"$f":"'COVER SHEET'!$D$16&IF(MID('COVER SHEET'!$I$18,6,10)=\"december\",\"1231\",IF(MID('COVER SHEET'!$I$18,6,10)=\"june\",\"0630\"))","v":"20241231"},{"$f":"+'Outgoing Remittances (Value)'!E97","v":0}]
["CMREM_11530","GG",{"$f":"+'Outgoing Remittances (Value)'!$E$5","v":"20240930"},{"$f":"+'COVER SHEET'!$D$12","v":0},11530,{"$f":"'COVER SHEET'!$D$16&IF(MID('COVER SHEET'!$I$18,6,10)=\"december\",\"1231\",IF(MID('COVER SHEET'!$I$18,6,10)=\"june\",\"0630\"))","v":"20241231"},{"$f":"+'Outgoing Remittances (Value)'!E98","v":0}]
["CMREM_11530","GN",{"$f":"+'Outgoing Remittances (Value)'!$E$5","v":"20240930"},{"$f":"+'COVER SHEET'!$D$12","v":0},11530,{"$f":"'COVER SHEET'!$D$16&IF(MID('COVER SHEET'!$I$18,6,10)=\"december\",\"1231\",IF(MID('COVER SHEET'!$I$18,6,10)=\"june\",\"0630\"))","v":"20241231"},{"$f":"+'Outgoing Remittances (Value)'!E99","v":0}]
["CMREM_11530","GW",{"$f":"+'Outgoing Remittances (Value)'!$E$5","v":"20240930"},{"$f":"+'COVER SHEET'!$D$12","v":0},11530,{"$f":"'COVER SHEET'!$D$16&IF(MID('COVER SHEET'!$I$18,6,10)=\"december\",\"1231\",IF(MID('COVER SHEET'!$I$18,6,10)=\"june\",\"0630\"))","v":"20241231"},{"$f":"+'Outgoing Remittances (Value)'!E100","v":0}]
["CMREM_11530","GY",{"$f":"+'Outgoing Remittances (Value)'!$E$5","v":"20240930"},{"$f":"+'COVER SHEET'!$D$12","v":0},11530,{"$f":"'COVER SHEET'!$D$16&IF(MID('COVER SHEET'!$I$18,6,10)=\"december\",\"1231\",IF(MID('COVER SHEET'!$I$18,6,10)=\"june\",\"0630\"))","v":"20241231"},{"$f":"+'Outgoing Remittances (Value)'!E101","v":0}]
["CMREM_11530","HT",{"$f":"+'Outgoing Remittances (Value)'!$E$5","v":"20240930"},{"$f":"+'COVER SHEET'!$D$12","v":0},11530,{"$f":"'COVER SHEET'!$D$16&IF(MID('COVER SHEET'!$I$18,6,10)=\"december\",\"1231\",IF(MID('COVER SHEET'!$I$18,6,10)=\"june\",\"0630\"))","v":"20241231"},{"$f":"+'Outgoing Remittances (Value)'!E102","v":0}]
["CMREM_11530","HM",{"$f":"+'Outgoing Remittances (Value)'!$E$5","v":"20240930"},{"$f":"+'COVER SHEET'!$D$12","v":0},11530,{"$f":"'COVER SHEET'!$D$16&IF(MID('COVER SHEET'!$I$18,6,10)=\"december\",\"1231\",IF(MID('COVER SHEET'!$I$18,6,10)=\"june\",\"0630\"))","v":"20241231"},{"$f":"+'Outgoing Remittances (Value)'!E103","v":0}]
["CMREM_11530","VA",{"$f":"+'Outgoing Remittances (Value)'!$E$5","v":"20240930"},{"$f":"+'COVER SHEET'!$D$12","v":0},11530,{"$f":"'COVER SHEET'!$D$16&IF(MID('COVER SHEET'!$I$18,6,10)=\"december\",\"1231\",IF(MID('COVER SHEET'!$I$18,6,10)=\"june\",\"0630\"))","v":"20241231"},{"$f":"+'Outgoing Remittances (Value)'!E104","v":0}]
["CMREM_11530","HN",{"$f":"+'Outgoing Remittances (Value)'!$E$5","v":"20240930"},{"$f":"+'COVER SHEET'!$D$12","v":0},11530,{"$f":"'COVER SHEET'!$D$16&IF(MID('COVER SHEET'!$I$18,6,10)=\"december\",\"1231\",IF(MID('COVER SHEET'!$I$18,6,10)=\"june\",\"0630\"))","v":"20241231"},{"$f":"+'Outgoing Remittances (Value)'!E105","v":0}]
["CMREM_11530","HK",{"$f":"+'Outgoing Remittances (Value)'!$E$5","v":"20240930"},{"$f":"+'COVER SHEET'!$D$12","v":0},11530,{"$f":"'COVER SHEET'!$D$16&IF(MID('COVER SHEET'!$I$18,6,10)=\"december\",\"1231\",IF(MID('COVER SHEET'!$I$18,6,10)=\"june\",\"0630\"))","v":"20241231"},{"$f":"+'Outgoing Remittances (Value)'!E106","v":0}]
["CMREM_11530","HU",{"$f":"+'Outgoing Remittances (Value)'!$E$5","v":"20240930"},{"$f":"+'COVER SHEET'!$D$12","v":0},11530,{"$f":"'COVER SHEET'!$D$16&IF(MID('COVER SHEET'!$I$18,6,10)=\"december\",\"1231\",IF(MID('COVER SHEET'!$I$18,6,10)=\"june\",\"0630\"))","v":"20241231"},{"$f":"+'Outgoing Remittances (Value)'!E107","v":0}]
["CMREM_11530","IS",{"$f":"+'Outgoing Remittances (Value)'!$E$5","v":"20240930"},{"$f":"+'COVER SHEET'!$D$12","v":0},11530,{"$f":"'COVER SHEET'!$D$16&IF(MID('COVER SHEET'!$I$18,6,10)=\"december\",\"1231\",IF(MID('COVER SHEET'!$I$18,6,10)=\"june\",\"0630\"))","v":"20241231"},{"$f":"+'Outgoing Remittances (Value)'!E108","v":0}]
["CMREM_11530","IN",{"$f":"+'Outgoing Remittances (Value)'!$E$5","v":"20240930"},{"$f":"+'COVER SHEET'!$D$12","v":0},11530,{"$f":"'COVER SHEET'!$D$16&IF(MID('COVER SHEET'!$I$18,6,10)=\"december\",\"1231\",IF(MID('COVER SHEET'!$I$18,6,10)=\"june\",\"0630\"))","v":"20241231"},{"$f":"+'Outgoing Remittances (Value)'!E109","v":0}]
["CMREM_11530","ID",{"$f":"+'Outgoing Remittances (Value)'!$E$5","v":"20240930"},{"$f":"+'COVER SHEET'!$D$12","v":0},11530,{"$f":"'COVER SHEET'!$D$16&IF(MID('COVER SHEET'!$I$18,6,10)=\"december\",\"1231\",IF(MID('COVER SHEET'!$I$18,6,10)=\"june\",\"0630\"))","v":"20241231"},{"$f":"+'Outgoing Remittances (Value)'!E110","v":0}]
["CMREM_11530","IR",{"$f":"+'Outgoing Remittances (Value)'!$E$5","v":"20240930"},{"$f":"+'COVER SHEET'!$D$12","v":0},11530,{"$f":"'COVER SHEET'!$D$16&IF(MID('COVER SHEET'!$I$18,6,10)=\"december\",\"1231\",IF(MID('COVER SHEET'!$I$18,6,10)=\"june\",\"0630\"))","v":"20241231"},{"$f":"+'Outgoing Remittances (Value)'!E111","v":0}]
["CMREM_11530","IQ",{"$f":"+'Outgoing Remittances (Value)'!$E$5","v":"20240930"},{"$f":"+'COVER SHEET'!$D$12","v":0},11530,{"$f":"'COVER SHEET'!$D$16&IF(MID('COVER SHEET'!$I$18,6,10)=\"december\",\"1231\",IF(MID('COVER SHEET'!$I$18,6,10)=\"june\",\"0630\"))","v":"20241231"},{"$f":"+'Outgoing Remittances (Value)'!E112","v":0}]
["CMREM_11530","IE",{"$f":"+'Outgoing Remittances (Value)'!$E$5","v":"20240930"},{"$f":"+'COVER SHEET'!$D$12","v":0},11530,{"$f":"'COVER SHEET'!$D$16&IF(MID('COVER SHEET'!$I$18,6,10)=\"december\",\"1231\",IF(MID('COVER SHEET'!$I$18,6,10)=\"june\",\"0630\"))","v":"20241231"},{"$f":"+'Outgoing Remittances (Value)'!E113","v":0}]
["CMREM_11530","IM",{"$f":"+'Outgoing Remittances (Value)'!$E$5","v":"20240930"},{"$f":"+'COVER SHEET'!$D$12","v":0},11530,{"$f":"'COVER SHEET'!$D$16&IF(MID('COVER SHEET'!$I$18,6,10)=\"december\",\"1231\",IF(MID('COVER SHEET'!$I$18,6,10)=\"june\",\"0630\"))","v":"20241231"},{"$f":"+'Outgoing Remittances (Value)'!E114","v":0}]
["CMREM_11530","IL",{"$f":"+'Outgoing Remittances (Value)'!$E$5","v":"20240930"},{"$f":"+'COVER SHEET'!$D$12","v":0},11530,{"$f":"'COVER SHEET'!$D$16&IF(MID('COVER SHEET'!$I$18,6,10)=\"december\",\"1231\",IF(MID('COVER SHEET'!$I$18,6,10)=\"june\",\"0630\"))","v":"20241231"},{"$f":"+'Outgoing Remittances (Value)'!E115","v":0}]
["CMREM_11530","IT",{"$f":"+'Outgoing Remittances (Value)'!$E$5","v":"20240930"},{"$f":"+'COVER SHEET'!$D$12","v":0},11530,{"$f":"'COVER SHEET'!$D$16&IF(MID('COVER SHEET'!$I$18,6,10)=\"december\",\"1231\",IF(MID('COVER SHEET'!$I$18,6,10)=\"june\",\"0630\"))","v":"20241231"},{"$f":"+'Outgoing Remittances (Value)'!E116","v":0}]
["CMREM_11530","CI",{"$f":"+'Outgoing Remittances (Value)'!$E$5","v":"20240930"},{"$f":"+'COVER SHEET'!$D$12","v":0},11530,{"$f":"'COVER SHEET'!$D$16&IF(MID('COVER SHEET'!$I$18,6,10)=\"december\",\"1231\",IF(MID('COVER SHEET'!$I$18,6,10)=\"june\",\"0630\"))","v":"20241231"},{"$f":"+'Outgoing Remittances (Value)'!E117","v":0}]
["CMREM_11530","JM",{"$f":"+'Outgoing Remittances (Value)'!$E$5","v":"20240930"},{"$f":"+'COVER SHEET'!$D$12","v":0},11530,{"$f":"'COVER SHEET'!$D$16&IF(MID('COVER SHEET'!$I$18,6,10)=\"december\",\"1231\",IF(MID('COVER SHEET'!$I$18,6,10)=\"june\",\"0630\"))","v":"20241231"},{"$f":"+'Outgoing Remittances (Value)'!E118","v":0}]
["CMREM_11530","JP",{"$f":"+'Outgoing Remittances (Value)'!$E$5","v":"20240930"},{"$f":"+'COVER SHEET'!$D$12","v":0},11530,{"$f":"'COVER SHEET'!$D$16&IF(MID('COVER SHEET'!$I$18,6,10)=\"december\",\"1231\",IF(MID('COVER SHEET'!$I$18,6,10)=\"june\",\"0630\"))","v":"20241231"},{"$f":"+'Outgoing Remittances (Value)'!E119","v":0}]
["CMREM_11530","JE",{"$f":"+'Outgoing Remittances (Value)'!$E$5","v":"20240930"},{"$f":"+'COVER SHEET'!$D$12","v":0},11530,{"$f":"'COVER SHEET'!$D$16&IF(MID('COVER SHEET'!$I$18,6,10)=\"december\",\"1231\",IF(MID('COVER SHEET'!$I$18,6,10)=\"june\",\"0630\"))","v":"20241231"},{"$f":"+'Outgoing Remittances (Value)'!E120","v":0}]
["CMREM_11530","JO",{"$f":"+'Outgoing Remittances (Value)'!$E$5","v":"20240930"},{"$f":"+'COVER SHEET'!$D$12","v":0},11530,{"$f":"'COVER SHEET'!$D$16&IF(MID('COVER SHEET'!$I$18,6,10)=\"december\",\"1231\",IF(MID('COVER SHEET'!$I$18,6,10)=\"june\",\"0630\"))","v":"20241231"},{"$f":"+'Outgoing Remittances (Value)'!E121","v":0}]
["CMREM_11530","KZ",{"$f":"+'Outgoing Remittances (Value)'!$E$5","v":"20240930"},{"$f":"+'COVER SHEET'!$D$12","v":0},11530,{"$f":"'COVER SHEET'!$D$16&IF(MID('COVER SHEET'!$I$18,6,10)=\"december\",\"1231\",IF(MID('COVER SHEET'!$I$18,6,10)=\"june\",\"0630\"))","v":"20241231"},{"$f":"+'Outgoing Remittances (Value)'!E122","v":0}]
["CMREM_11530","KE",{"$f":"+'Outgoing Remittances (Value)'!$E$5","v":"20240930"},{"$f":"+'COVER SHEET'!$D$12","v":0},11530,{"$f":"'COVER SHEET'!$D$16&IF(MID('COVER SHEET'!$I$18,6,10)=\"december\",\"1231\",IF(MID('COVER SHEET'!$I$18,6,10)=\"june\",\"0630\"))","v":"20241231"},{"$f":"+'Outgoing Remittances (Value)'!E123","v":0}]
["CMREM_11530","KI",{"$f":"+'Outgoing Remittances (Value)'!$E$5","v":"20240930"},{"$f":"+'COVER SHEET'!$D$12","v":0},11530,{"$f":"'COVER SHEET'!$D$16&IF(MID('COVER SHEET'!$I$18,6,10)=\"december\",\"1231\",IF(MID('COVER SHEET'!$I$18,6,10)=\"june\",\"0630\"))","v":"20241231"},{"$f":"+'Outgoing Remittances (Value)'!E124","v":0}]
["CMREM_11530","KP",{"$f":"+'Outgoing Remittances (Value)'!$E$5","v":"20240930"},{"$f":"+'COVER SHEET'!$D$12","v":0},11530,{"$f":"'COVER SHEET'!$D$16&IF(MID('COVER SHEET'!$I$18,6,10)=\"december\",\"1231\",IF(MID('COVER SHEET'!$I$18,6,10)=\"june\",\"0630\"))","v":"20241231"},{"$f":"+'Outgoing Remittances (Value)'!E125","v":0}]
["CMREM_11530","KR",{"$f":"+'Outgoing Remittances (Value)'!$E$5","v":"20240930"},{"$f":"+'COVER SHEET'!$D$12","v":0},11530,{"$f":"'COVER SHEET'!$D$16&IF(MID('COVER SHEET'!$I$18,6,10)=\"december\",\"1231\",IF(MID('COVER SHEET'!$I$18,6,10)=\"june\",\"0630\"))","v":"20241231"},{"$f":"+'Outgoing Remittances (Value)'!E126","v":0}]
["CMREM_11530","XK",{"$f":"+'Outgoing Remittances (Value)'!$E$5","v":"20240930"},{"$f":"+'COVER SHEET'!$D$12","v":0},11530,{"$f":"'COVER SHEET'!$D$16&IF(MID('COVER SHEET'!$I$18,6,10)=\"december\",\"1231\",IF(MID('COVER SHEET'!$I$18,6,10)=\"june\",\"0630\"))","v":"20241231"},{"$f":"+'Outgoing Remittances (Value)'!E127","v":0}]
["CMREM_11530","KW",{"$f":"+'Outgoing Remittances (Value)'!$E$5","v":"20240930"},{"$f":"+'COVER SHEET'!$D$12","v":0},11530,{"$f":"'COVER SHEET'!$D$16&IF(MID('COVER SHEET'!$I$18,6,10)=\"december\",\"1231\",IF(MID('COVER SHEET'!$I$18,6,10)=\"june\",\"0630\"))","v":"20241231"},{"$f":"+'Outgoing Remittances (Value)'!E128","v":0}]
["CMREM_11530","KG",{"$f":"+'Outgoing Remittances (Value)'!$E$5","v":"20240930"},{"$f":"+'COVER SHEET'!$D$12","v":0},11530,{"$f":"'COVER SHEET'!$D$16&IF(MID('COVER SHEET'!$I$18,6,10)=\"december\",\"1231\",IF(MID('COVER SHEET'!$I$18,6,10)=\"june\",\"0630\"))","v":"20241231"},{"$f":"+'Outgoing Remittances (Value)'!E129","v":0}]
["CMREM_11530","LA",{"$f":"+'Outgoing Remittances (Value)'!$E$5","v":"20240930"},{"$f":"+'COVER SHEET'!$D$12","v":0},11530,{"$f":"'COVER SHEET'!$D$16&IF(MID('COVER SHEET'!$I$18,6,10)=\"december\",\"1231\",IF(MID('COVER SHEET'!$I$18,6,10)=\"june\",\"0630\"))","v":"20241231"},{"$f":"+'Outgoing Remittances (Value)'!E130","v":0}]
["CMREM_11530","LV",{"$f":"+'Outgoing Remittances (Value)'!$E$5","v":"20240930"},{"$f":"+'COVER SHEET'!$D$12","v":0},11530,{"$f":"'COVER SHEET'!$D$16&IF(MID('COVER SHEET'!$I$18,6,10)=\"december\",\"1231\",IF(MID('COVER SHEET'!$I$18,6,10)=\"june\",\"0630\"))","v":"20241231"},{"$f":"+'Outgoing Remittances (Value)'!E131","v":0}]
["CMREM_11530","LB",{"$f":"+'Outgoing Remittances (Value)'!$E$5","v":"20240930"},{"$f":"+'COVER SHEET'!$D$12","v":0},11530,{"$f":"'COVER SHEET'!$D$16&IF(MID('COVER SHEET'!$I$18,6,10)=\"december\",\"1231\",IF(MID('COVER SHEET'!$I$18,6,10)=\"june\",\"0630\"))","v":"20241231"},{"$f":"+'Outgoing Remittances (Value)'!E132","v":0}]
["CMREM_11530","LS",{"$f":"+'Outgoing Remittances (Value)'!$E$5","v":"20240930"},{"$f":"+'COVER SHEET'!$D$12","v":0},11530,{"$f":"'COVER SHEET'!$D$16&IF(MID('COVER SHEET'!$I$18,6,10)=\"december\",\"1231\",IF(MID('COVER SHEET'!$I$18,6,10)=\"june\",\"0630\"))","v":"20241231"},{"$f":"+'Outgoing Remittances (Value)'!E133","v":0}]
["CMREM_11530","LR",{"$f":"+'Outgoing Remittances (Value)'!$E$5","v":"20240930"},{"$f":"+'COVER SHEET'!$D$12","v":0},11530,{"$f":"'COVER SHEET'!$D$16&IF(MID('COVER SHEET'!$I$18,6,10)=\"december\",\"1231\",IF(MID('COVER SHEET'!$I$18,6,10)=\"june\",\"0630\"))","v":"20241231"},{"$f":"+'Outgoing Remittances (Value)'!E134","v":0}]
["CMREM_11530","LY",{"$f":"+'Outgoing Remittances (Value)'!$E$5","v":"20240930"},{"$f":"+'COVER SHEET'!$D$12","v":0},11530,{"$f":"'COVER SHEET'!$D$16&IF(MID('COVER SHEET'!$I$18,6,10)=\"december\",\"1231\",IF(MID('COVER SHEET'!$I$18,6,10)=\"june\",\"0630\"))","v":"20241231"},{"$f":"+'Outgoing Remittances (Value)'!E135","v":0}]
["CMREM_11530","LI",{"$f":"+'Outgoing Remittances (Value)'!$E$5","v":"20240930"},{"$f":"+'COVER SHEET'!$D$12","v":0},11530,{"$f":"'COVER SHEET'!$D$16&IF(MID('COVER SHEET'!$I$18,6,10)=\"december\",\"1231\",IF(MID('COVER SHEET'!$I$18,6,10)=\"june\",\"0630\"))","v":"20241231"},{"$f":"+'Outgoing Remittances (Value)'!E136","v":0}]
["CMREM_11530","LT",{"$f":"+'Outgoing Remittances (Value)'!$E$5","v":"20240930"},{"$f":"+'COVER SHEET'!$D$12","v":0},11530,{"$f":"'COVER SHEET'!$D$16&IF(MID('COVER SHEET'!$I$18,6,10)=\"december\",\"1231\",IF(MID('COVER SHEET'!$I$18,6,10)=\"june\",\"0630\"))","v":"20241231"},{"$f":"+'Outgoing Remittances (Value)'!E137","v":0}]
["CMREM_11530","LU",{"$f":"+'Outgoing Remittances (Value)'!$E$5","v":"20240930"},{"$f":"+'COVER SHEET'!$D$12","v":0},11530,{"$f":"'COVER SHEET'!$D$16&IF(MID('COVER SHEET'!$I$18,6,10)=\"december\",\"1231\",IF(MID('COVER SHEET'!$I$18,6,10)=\"june\",\"0630\"))","v":"20241231"},{"$f":"+'Outgoing Remittances (Value)'!E138","v":0}]
["CMREM_11530","MO",{"$f":"+'Outgoing Remittances (Value)'!$E$5","v":"20240930"},{"$f":"+'COVER SHEET'!$D$12","v":0},11530,{"$f":"'COVER SHEET'!$D$16&IF(MID('COVER SHEET'!$I$18,6,10)=\"december\",\"1231\",IF(MID('COVER SHEET'!$I$18,6,10)=\"june\",\"0630\"))","v":"20241231"},{"$f":"+'Outgoing Remittances (Value)'!E139","v":0}]
["CMREM_11530","MK",{"$f":"+'Outgoing Remittances (Value)'!$E$5","v":"20240930"},{"$f":"+'COVER SHEET'!$D$12","v":0},11530,{"$f":"'COVER SHEET'!$D$16&IF(MID('COVER SHEET'!$I$18,6,10)=\"december\",\"1231\",IF(MID('COVER SHEET'!$I$18,6,10)=\"june\",\"0630\"))","v":"20241231"},{"$f":"+'Outgoing Remittances (Value)'!E140","v":0}]
["CMREM_11530","MG",{"$f":"+'Outgoing Remittances (Value)'!$E$5","v":"20240930"},{"$f":"+'COVER SHEET'!$D$12","v":0},11530,{"$f":"'COVER SHEET'!$D$16&IF(MID('COVER SHEET'!$I$18,6,10)=\"december\",\"1231\",IF(MID('COVER SHEET'!$I$18,6,10)=\"june\",\"0630\"))","v":"20241231"},{"$f":"+'Outgoing Remittances (Value)'!E141","v":0}]
["CMREM_11530","MW",{"$f":"+'Outgoing Remittances (Value)'!$E$5","v":"20240930"},{"$f":"+'COVER SHEET'!$D$12","v":0},11530,{"$f":"'COVER SHEET'!$D$16&IF(MID('COVER SHEET'!$I$18,6,10)=\"december\",\"1231\",IF(MID('COVER SHEET'!$I$18,6,10)=\"june\",\"0630\"))","v":"20241231"},{"$f":"+'Outgoing Remittances (Value)'!E142","v":0}]
["CMREM_11530","MY",{"$f":"+'Outgoing Remittances (Value)'!$E$5","v":"20240930"},{"$f":"+'COVER SHEET'!$D$12","v":0},11530,{"$f":"'COVER SHEET'!$D$16&IF(MID('COVER SHEET'!$I$18,6,10)=\"december\",\"1231\",IF(MID('COVER SHEET'!$I$18,6,10)=\"june\",\"0630\"))","v":"20241231"},{"$f":"+'Outgoing Remittances (Value)'!E143","v":0}]
["CMREM_11530","MV",{"$f":"+'Outgoing Remittances (Value)'!$E$5","v":"20240930"},{"$f":"+'COVER SHEET'!$D$12","v":0},11530,{"$f":"'COVER SHEET'!$D$16&IF(MID('COVER SHEET'!$I$18,6,10)=\"december\",\"1231\",IF(MID('COVER SHEET'!$I$18,6,10)=\"june\",\"0630\"))","v":"20241231"},{"$f":"+'Outgoing Remittances (Value)'!E144","v":0}]
["CMREM_11530","ML",{"$f":"+'Outgoing Remittances (Value)'!$E$5","v":"20240930"},{"$f":"+'COVER SHEET'!$D$12","v":0},11530,{"$f":"'COVER SHEET'!$D$16&IF(MID('COVER SHEET'!$I$18,6,10)=\"december\",\"1231\",IF(MID('COVER SHEET'!$I$18,6,10)=\"june\",\"0630\"))","v":"20241231"},{"$f":"+'Outgoing Remittances (Value)'!E145","v":0}]
["CMREM_11530","MH",{"$f":"+'Outgoing Remittances (Value)'!$E$5","v":"20240930"},{"$f":"+'COVER SHEET'!$D$12","v":0},11530,{"$f":"'COVER SHEET'!$D$16&IF(MID('COVER SHEET'!$I$18,6,10)=\"december\",\"1231\",IF(MID('COVER SHEET'!$I$18,6,10)=\"june\",\"0630\"))","v":"20241231"},{"$f":"+'Outgoing Remittances (Value)'!E146","v":0}]
["CMREM_11530","MR",{"$f":"+'Outgoing Remittances (Value)'!$E$5","v":"20240930"},{"$f":"+'COVER SHEET'!$D$12","v":0},11530,{"$f":"'COVER SHEET'!$D$16&IF(MID('COVER SHEET'!$I$18,6,10)=\"december\",\"1231\",IF(MID('COVER SHEET'!$I$18,6,10)=\"june\",\"0630\"))","v":"20241231"},{"$f":"+'Outgoing Remittances (Value)'!E147","v":0}]
["CMREM_11530","MU",{"$f":"+'Outgoing Remittances (Value)'!$E$5","v":"20240930"},{"$f":"+'COVER SHEET'!$D$12","v":0},11530,{"$f":"'COVER SHEET'!$D$16&IF(MID('COVER SHEET'!$I$18,6,10)=\"december\",\"1231\",IF(MID('COVER SHEET'!$I$18,6,10)=\"june\",\"0630\"))","v":"20241231"},{"$f":"+'Outgoing Remittances (Value)'!E148","v":0}]
["CMREM_11530","MX",{"$f":"+'Outgoing Remittances (Value)'!$E$5","v":"20240930"},{"$f":"+'COVER SHEET'!$D$12","v":0},11530,{"$f":"'COVER SHEET'!$D$16&IF(MID('COVER SHEET'!$I$18,6,10)=\"december\",\"1231\",IF(MID('COVER SHEET'!$I$18,6,10)=\"june\",\"0630\"))","v":"20241231"},{"$f":"+'Outgoing Remittances (Value)'!E149","v":0}]
["CMREM_11530","FM",{"$f":"+'Outgoing Remittances (Value)'!$E$5","v":"20240930"},{"$f":"+'COVER SHEET'!$D$12","v":0},11530,{"$f":"'COVER SHEET'!$D$16&IF(MID('COVER SHEET'!$I$18,6,10)=\"december\",\"1231\",IF(MID('COVER SHEET'!$I$18,6,10)=\"june\",\"0630\"))","v":"20241231"},{"$f":"+'Outgoing Remittances (Value)'!E150","v":0}]
["CMREM_11530","MD",{"$f":"+'Outgoing Remittances (Value)'!$E$5","v":"20240930"},{"$f":"+'COVER SHEET'!$D$12","v":0},11530,{"$f":"'COVER SHEET'!$D$16&IF(MID('COVER SHEET'!$I$18,6,10)=\"december\",\"1231\",IF(MID('COVER SHEET'!$I$18,6,10)=\"june\",\"0630\"))","v":"20241231"},{"$f":"+'Outgoing Remittances (Value)'!E151","v":0}]
["CMREM_11530","MN",{"$f":"+'Outgoing Remittances (Value)'!$E$5","v":"20240930"},{"$f":"+'COVER SHEET'!$D$12","v":0},11530,{"$f":"'COVER SHEET'!$D$16&IF(MID('COVER SHEET'!$I$18,6,10)=\"december\",\"1231\",IF(MID('COVER SHEET'!$I$18,6,10)=\"june\",\"0630\"))","v":"20241231"},{"$f":"+'Outgoing Remittances (Value)'!E152","v":0}]
["CMREM_11530","ME",{"$f":"+'Outgoing Remittances (Value)'!$E$5","v":"20240930"},{"$f":"+'COVER SHEET'!$D$12","v":0},11530,{"$f":"'COVER SHEET'!$D$16&IF(MID('COVER SHEET'!$I$18,6,10)=\"december\",\"1231\",IF(MID('COVER SHEET'!$I$18,6,10)=\"june\",\"0630\"))","v":"20241231"},{"$f":"+'Outgoing Remittances (Value)'!E153","v":0}]
["CMREM_11530","MS",{"$f":"+'Outgoing Remittances (Value)'!$E$5","v":"20240930"},{"$f":"+'COVER SHEET'!$D$12","v":0},11530,{"$f":"'COVER SHEET'!$D$16&IF(MID('COVER SHEET'!$I$18,6,10)=\"december\",\"1231\",IF(MID('COVER SHEET'!$I$18,6,10)=\"june\",\"0630\"))","v":"20241231"},{"$f":"+'Outgoing Remittances (Value)'!E154","v":0}]
["CMREM_11530","MA",{"$f":"+'Outgoing Remittances (Value)'!$E$5","v":"20240930"},{"$f":"+'COVER SHEET'!$D$12","v":0},11530,{"$f":"'COVER SHEET'!$D$16&IF(MID('COVER SHEET'!$I$18,6,10)=\"december\",\"1231\",IF(MID('COVER SHEET'!$I$18,6,10)=\"june\",\"0630\"))","v":"20241231"},{"$f":"+'Outgoing Remittances (Value)'!E155","v":0}]
["CMREM_11530","MZ",{"$f":"+'Outgoing Remittances (Value)'!$E$5","v":"20240930"},{"$f":"+'COVER SHEET'!$D$12","v":0},11530,{"$f":"'COVER SHEET'!$D$16&IF(MID('COVER SHEET'!$I$18,6,10)=\"december\",\"1231\",IF(MID('COVER SHEET'!$I$18,6,10)=\"june\",\"0630\"))","v":"20241231"},{"$f":"+'Outgoing Remittances (Value)'!E156","v":0}]
["CMREM_11530","MM",{"$f":"+'Outgoing Remittances (Value)'!$E$5","v":"20240930"},{"$f":"+'COVER SHEET'!$D$12","v":0},11530,{"$f":"'COVER SHEET'!$D$16&IF(MID('COVER SHEET'!$I$18,6,10)=\"december\",\"1231\",IF(MID('COVER SHEET'!$I$18,6,10)=\"june\",\"0630\"))","v":"20241231"},{"$f":"+'Outgoing Remittances (Value)'!E157","v":0}]
["CMREM_11530","NA",{"$f":"+'Outgoing Remittances (Value)'!$E$5","v":"20240930"},{"$f":"+'COVER SHEET'!$D$12","v":0},11530,{"$f":"'COVER SHEET'!$D$16&IF(MID('COVER SHEET'!$I$18,6,10)=\"december\",\"1231\",IF(MID('COVER SHEET'!$I$18,6,10)=\"june\",\"0630\"))","v":"20241231"},{"$f":"+'Outgoing Remittances (Value)'!E158","v":0}]
["CMREM_11530","NR",{"$f":"+'Outgoing Remittances (Value)'!$E$5","v":"20240930"},{"$f":"+'COVER SHEET'!$D$12","v":0},11530,{"$f":"'COVER SHEET'!$D$16&IF(MID('COVER SHEET'!$I$18,6,10)=\"december\",\"1231\",IF(MID('COVER SHEET'!$I$18,6,10)=\"june\",\"0630\"))","v":"20241231"},{"$f":"+'Outgoing Remittances (Value)'!E159","v":0}]
["CMREM_11530","NP",{"$f":"+'Outgoing Remittances (Value)'!$E$5","v":"20240930"},{"$f":"+'COVER SHEET'!$D$12","v":0},11530,{"$f":"'COVER SHEET'!$D$16&IF(MID('COVER SHEET'!$I$18,6,10)=\"december\",\"1231\",IF(MID('COVER SHEET'!$I$18,6,10)=\"june\",\"0630\"))","v":"20241231"},{"$f":"+'Outgoing Remittances (Value)'!E160","v":0}]
["CMREM_11530","NL",{"$f":"+'Outgoing Remittances (Value)'!$E$5","v":"20240930"},{"$f":"+'COVER SHEET'!$D$12","v":0},11530,{"$f":"'COVER SHEET'!$D$16&IF(MID('COVER SHEET'!$I$18,6,10)=\"december\",\"1231\",IF(MID('COVER SHEET'!$I$18,6,10)=\"june\",\"0630\"))","v":"20241231"},{"$f":"+'Outgoing Remittances (Value)'!E161","v":0}]
["CMREM_11530","NC",{"$f":"+'Outgoing Remittances (Value)'!$E$5","v":"20240930"},{"$f":"+'COVER SHEET'!$D$12","v":0},11530,{"$f":"'COVER SHEET'!$D$16&IF(MID('COVER SHEET'!$I$18,6,10)=\"december\",\"1231\",IF(MID('COVER SHEET'!$I$18,6,10)=\"june\",\"0630\"))","v":"20241231"},{"$f":"+'Outgoing Remittances (Value)'!E162","v":0}]
["CMREM_11530","NZ",{"$f":"+'Outgoing Remittances (Value)'!$E$5","v":"20240930"},{"$f":"+'COVER SHEET'!$D$12","v":0},11530,{"$f":"'COVER SHEET'!$D$16&IF(MID('COVER SHEET'!$I$18,6,10)=\"december\",\"1231\",IF(MID('COVER SHEET'!$I$18,6,10)=\"june\",\"0630\"))","v":"20241231"},{"$f":"+'Outgoing Remittances (Value)'!E163","v":0}]
["CMREM_11530","NI",{"$f":"+'Outgoing Remittances (Value)'!$E$5","v":"20240930"},{"$f":"+'COVER SHEET'!$D$12","v":0},11530,{"$f":"'COVER SHEET'!$D$16&IF(MID('COVER SHEET'!$I$18,6,10)=\"december\",\"1231\",IF(MID('COVER SHEET'!$I$18,6,10)=\"june\",\"0630\"))","v":"20241231"},{"$f":"+'Outgoing Remittances (Value)'!E164","v":0}]
["CMREM_11530","NE",{"$f":"+'Outgoing Remittances (Value)'!$E$5","v":"20240930"},{"$f":"+'COVER SHEET'!$D$12","v":0},11530,{"$f":"'COVER SHEET'!$D$16&IF(MID('COVER SHEET'!$I$18,6,10)=\"december\",\"1231\",IF(MID('COVER SHEET'!$I$18,6,10)=\"june\",\"0630\"))","v":"20241231"},{"$f":"+'Outgoing Remittances (Value)'!E165","v":0}]
["CMREM_11530","NG",{"$f":"+'Outgoing Remittances (Value)'!$E$5","v":"20240930"},{"$f":"+'COVER SHEET'!$D$12","v":0},11530,{"$f":"'COVER SHEET'!$D$16&IF(MID('COVER SHEET'!$I$18,6,10)=\"december\",\"1231\",IF(MID('COVER SHEET'!$I$18,6,10)=\"june\",\"0630\"))","v":"20241231"},{"$f":"+'Outgoing Remittances (Value)'!E166","v":0}]
["CMREM_11530","NU",{"$f":"+'Outgoing Remittances (Value)'!$E$5","v":"20240930"},{"$f":"+'COVER SHEET'!$D$12","v":0},11530,{"$f":"'COVER SHEET'!$D$16&IF(MID('COVER SHEET'!$I$18,6,10)=\"december\",\"1231\",IF(MID('COVER SHEET'!$I$18,6,10)=\"june\",\"0630\"))","v":"20241231"},{"$f":"+'Outgoing Remittances (Value)'!E167","v":0}]
["CMREM_11530","NF",{"$f":"+'Outgoing Remittances (Value)'!$E$5","v":"20240930"},{"$f":"+'COVER SHEET'!$D$12","v":0},11530,{"$f":"'COVER SHEET'!$D$16&IF(MID('COVER SHEET'!$I$18,6,10)=\"december\",\"1231\",IF(MID('COVER SHEET'!$I$18,6,10)=\"june\",\"0630\"))","v":"20241231"},{"$f":"+'Outgoing Remittances (Value)'!E168","v":0}]
["CMREM_11530","MP",{"$f":"+'Outgoing Remittances (Value)'!$E$5","v":"20240930"},{"$f":"+'COVER SHEET'!$D$12","v":0},11530,{"$f":"'COVER SHEET'!$D$16&IF(MID('COVER SHEET'!$I$18,6,10)=\"december\",\"1231\",IF(MID('COVER SHEET'!$I$18,6,10)=\"june\",\"0630\"))","v":"20241231"},{"$f":"+'Outgoing Remittances (Value)'!E169","v":0}]
["CMREM_11530","NO",{"$f":"+'Outgoing Remittances (Value)'!$E$5","v":"20240930"},{"$f":"+'COVER SHEET'!$D$12","v":0},11530,{"$f":"'COVER SHEET'!$D$16&IF(MID('COVER SHEET'!$I$18,6,10)=\"december\",\"1231\",IF(MID('COVER SHEET'!$I$18,6,10)=\"june\",\"0630\"))","v":"20241231"},{"$f":"+'Outgoing Remittances (Value)'!E170","v":0}]
["CMREM_11530","OM",{"$f":"+'Outgoing Remittances (Value)'!$E$5","v":"20240930"},{"$f":"+'COVER SHEET'!$D$12","v":0},11530,{"$f":"'COVER SHEET'!$D$16&IF(MID('COVER SHEET'!$I$18,6,10)=\"december\",\"1231\",IF(MID('COVER SHEET'!$I$18,6,10)=\"june\",\"0630\"))","v":"20241231"},{"$f":"+'Outgoing Remittances (Value)'!E171","v":0}]
["CMREM_11530","PK",{"$f":"+'Outgoing Remittances (Value)'!$E$5","v":"20240930"},{"$f":"+'COVER SHEET'!$D$12","v":0},11530,{"$f":"'COVER SHEET'!$D$16&IF(MID('COVER SHEET'!$I$18,6,10)=\"december\",\"1231\",IF(MID('COVER SHEET'!$I$18,6,10)=\"june\",\"0630\"))","v":"20241231"},{"$f":"+'Outgoing Remittances (Value)'!E172","v":0}]
["CMREM_11530","PW",{"$f":"+'Outgoing Remittances (Value)'!$E$5","v":"20240930"},{"$f":"+'COVER SHEET'!$D$12","v":0},11530,{"$f":"'COVER SHEET'!$D$16&IF(MID('COVER SHEET'!$I$18,6,10)=\"december\",\"1231\",IF(MID('COVER SHEET'!$I$18,6,10)=\"june\",\"0630\"))","v":"20241231"},{"$f":"+'Outgoing Remittances (Value)'!E173","v":0}]
["CMREM_11530","PS",{"$f":"+'Outgoing Remittances (Value)'!$E$5","v":"20240930"},{"$f":"+'COVER SHEET'!$D$12","v":0},11530,{"$f":"'COVER SHEET'!$D$16&IF(MID('COVER SHEET'!$I$18,6,10)=\"december\",\"1231\",IF(MID('COVER SHEET'!$I$18,6,10)=\"june\",\"0630\"))","v":"20241231"},{"$f":"+'Outgoing Remittances (Value)'!E174","v":0}]
["CMREM_11530","PA",{"$f":"+'Outgoing Remittances (Value)'!$E$5","v":"20240930"},{"$f":"+'COVER SHEET'!$D$12","v":0},11530,{"$f":"'COVER SHEET'!$D$16&IF(MID('COVER SHEET'!$I$18,6,10)=\"december\",\"1231\",IF(MID('COVER SHEET'!$I$18,6,10)=\"june\",\"0630\"))","v":"20241231"},{"$f":"+'Outgoing Remittances (Value)'!E175","v":0}]
["CMREM_11530","PG",{"$f":"+'Outgoing Remittances (Value)'!$E$5","v":"20240930"},{"$f":"+'COVER SHEET'!$D$12","v":0},11530,{"$f":"'COVER SHEET'!$D$16&IF(MID('COVER SHEET'!$I$18,6,10)=\"december\",\"1231\",IF(MID('COVER SHEET'!$I$18,6,10)=\"june\",\"0630\"))","v":"20241231"},{"$f":"+'Outgoing Remittances (Value)'!E176","v":0}]
["CMREM_11530","PY",{"$f":"+'Outgoing Remittances (Value)'!$E$5","v":"20240930"},{"$f":"+'COVER SHEET'!$D$12","v":0},11530,{"$f":"'COVER SHEET'!$D$16&IF(MID('COVER SHEET'!$I$18,6,10)=\"december\",\"1231\",IF(MID('COVER SHEET'!$I$18,6,10)=\"june\",\"0630\"))","v":"20241231"},{"$f":"+'Outgoing Remittances (Value)'!E177","v":0}]
["CMREM_11530","PE",{"$f":"+'Outgoing Remittances (Value)'!$E$5","v":"20240930"},{"$f":"+'COVER SHEET'!$D$12","v":0},11530,{"$f":"'COVER SHEET'!$D$16&IF(MID('COVER SHEET'!$I$18,6,10)=\"december\",\"1231\",IF(MID('COVER SHEET'!$I$18,6,10)=\"june\",\"0630\"))","v":"20241231"},{"$f":"+'Outgoing Remittances (Value)'!E178","v":0}]
["CMREM_11530","PH",{"$f":"+'Outgoing Remittances (Value)'!$E$5","v":"20240930"},{"$f":"+'COVER SHEET'!$D$12","v":0},11530,{"$f":"'COVER SHEET'!$D$16&IF(MID('COVER SHEET'!$I$18,6,10)=\"december\",\"1231\",IF(MID('COVER SHEET'!$I$18,6,10)=\"june\",\"0630\"))","v":"20241231"},{"$f":"+'Outgoing Remittances (Value)'!E179","v":0}]
["CMREM_11530","PN",{"$f":"+'Outgoing Remittances (Value)'!$E$5","v":"20240930"},{"$f":"+'COVER SHEET'!$D$12","v":0},11530,{"$f":"'COVER SHEET'!$D$16&IF(MID('COVER SHEET'!$I$18,6,10)=\"december\",\"1231\",IF(MID('COVER SHEET'!$I$18,6,10)=\"june\",\"0630\"))","v":"20241231"},{"$f":"+'Outgoing Remittances (Value)'!E180","v":0}]
["CMREM_11530","PL",{"$f":"+'Outgoing Remittances (Value)'!$E$5","v":"20240930"},{"$f":"+'COVER SHEET'!$D$12","v":0},11530,{"$f":"'COVER SHEET'!$D$16&IF(MID('COVER SHEET'!$I$18,6,10)=\"december\",\"1231\",IF(MID('COVER SHEET'!$I$18,6,10)=\"june\",\"0630\"))","v":"20241231"},{"$f":"+'Outgoing Remittances (Value)'!E181","v":0}]
["CMREM_11530","PT",{"$f":"+'Outgoing Remittances (Value)'!$E$5","v":"20240930"},{"$f":"+'COVER SHEET'!$D$12","v":0},11530,{"$f":"'COVER SHEET'!$D$16&IF(MID('COVER SHEET'!$I$18,6,10)=\"december\",\"1231\",IF(MID('COVER SHEET'!$I$18,6,10)=\"june\",\"0630\"))","v":"20241231"},{"$f":"+'Outgoing Remittances (Value)'!E182","v":0}]
["CMREM_11530","QA",{"$f":"+'Outgoing Remittances (Value)'!$E$5","v":"20240930"},{"$f":"+'COVER SHEET'!$D$12","v":0},11530,{"$f":"'COVER SHEET'!$D$16&IF(MID('COVER SHEET'!$I$18,6,10)=\"december\",\"1231\",IF(MID('COVER SHEET'!$I$18,6,10)=\"june\",\"0630\"))","v":"20241231"},{"$f":"+'Outgoing Remittances (Value)'!E183","v":0}]
["CMREM_11530","RO",{"$f":"+'Outgoing Remittances (Value)'!$E$5","v":"20240930"},{"$f":"+'COVER SHEET'!$D$12","v":0},11530,{"$f":"'COVER SHEET'!$D$16&IF(MID('COVER SHEET'!$I$18,6,10)=\"december\",\"1231\",IF(MID('COVER SHEET'!$I$18,6,10)=\"june\",\"0630\"))","v":"20241231"},{"$f":"+'Outgoing Remittances (Value)'!E184","v":0}]
["CMREM_11530","RU",{"$f":"+'Outgoing Remittances (Value)'!$E$5","v":"20240930"},{"$f":"+'COVER SHEET'!$D$12","v":0},11530,{"$f":"'COVER SHEET'!$D$16&IF(MID('COVER SHEET'!$I$18,6,10)=\"december\",\"1231\",IF(MID('COVER SHEET'!$I$18,6,10)=\"june\",\"0630\"))","v":"20241231"},{"$f":"+'Outgoing Remittances (Value)'!E185","v":0}]
["CMREM_11530","RW",{"$f":"+'Outgoing Remittances (Value)'!$E$5","v":"20240930"},{"$f":"+'COVER SHEET'!$D$12","v":0},11530,{"$f":"'COVER SHEET'!$D$16&IF(MID('COVER SHEET'!$I$18,6,10)=\"december\",\"1231\",IF(MID('COVER SHEET'!$I$18,6,10)=\"june\",\"0630\"))","v":"20241231"},{"$f":"+'Outgoing Remittances (Value)'!E186","v":0}]
["CMREM_11530","SH",{"$f":"+'Outgoing Remittances (Value)'!$E$5","v":"20240930"},{"$f":"+'COVER SHEET'!$D$12","v":0},11530,{"$f":"'COVER SHEET'!$D$16&IF(MID('COVER SHEET'!$I$18,6,10)=\"december\",\"1231\",IF(MID('COVER SHEET'!$I$18,6,10)=\"june\",\"0630\"))","v":"20241231"},{"$f":"+'Outgoing Remittances (Value)'!E187","v":0}]
["CMREM_11530","KN",{"$f":"+'Outgoing Remittances (Value)'!$E$5","v":"20240930"},{"$f":"+'COVER SHEET'!$D$12","v":0},11530,{"$f":"'COVER SHEET'!$D$16&IF(MID('COVER SHEET'!$I$18,6,10)=\"december\",\"1231\",IF(MID('COVER SHEET'!$I$18,6,10)=\"june\",\"0630\"))","v":"20241231"},{"$f":"+'Outgoing Remittances (Value)'!E188","v":0}]
["CMREM_11530","LC",{"$f":"+'Outgoing Remittances (Value)'!$E$5","v":"20240930"},{"$f":"+'COVER SHEET'!$D$12","v":0},11530,{"$f":"'COVER SHEET'!$D$16&IF(MID('COVER SHEET'!$I$18,6,10)=\"december\",\"1231\",IF(MID('COVER SHEET'!$I$18,6,10)=\"june\",\"0630\"))","v":"20241231"},{"$f":"+'Outgoing Remittances (Value)'!E189","v":0}]
["CMREM_11530","VC",{"$f":"+'Outgoing Remittances (Value)'!$E$5","v":"20240930"},{"$f":"+'COVER SHEET'!$D$12","v":0},11530,{"$f":"'COVER SHEET'!$D$16&IF(MID('COVER SHEET'!$I$18,6,10)=\"december\",\"1231\",IF(MID('COVER SHEET'!$I$18,6,10)=\"june\",\"0630\"))","v":"20241231"},{"$f":"+'Outgoing Remittances (Value)'!E190","v":0}]
["CMREM_11530","WS",{"$f":"+'Outgoing Remittances (Value)'!$E$5","v":"20240930"},{"$f":"+'COVER SHEET'!$D$12","v":0},11530,{"$f":"'COVER SHEET'!$D$16&IF(MID('COVER SHEET'!$I$18,6,10)=\"december\",\"1231\",IF(MID('COVER SHEET'!$I$18,6,10)=\"june\",\"0630\"))","v":"20241231"},{"$f":"+'Outgoing Remittances (Value)'!E191","v":0}]
["CMREM_11530","SM",{"$f":"+'Outgoing Remittances (Value)'!$E$5","v":"20240930"},{"$f":"+'COVER SHEET'!$D$12","v":0},11530,{"$f":"'COVER SHEET'!$D$16&IF(MID('COVER SHEET'!$I$18,6,10)=\"december\",\"1231\",IF(MID('COVER SHEET'!$I$18,6,10)=\"june\",\"0630\"))","v":"20241231"},{"$f":"+'Outgoing Remittances (Value)'!E192","v":0}]
["CMREM_11530","ST",{"$f":"+'Outgoing Remittances (Value)'!$E$5","v":"20240930"},{"$f":"+'COVER SHEET'!$D$12","v":0},11530,{"$f":"'COVER SHEET'!$D$16&IF(MID('COVER SHEET'!$I$18,6,10)=\"december\",\"1231\",IF(MID('COVER SHEET'!$I$18,6,10)=\"june\",\"0630\"))","v":"20241231"},{"$f":"+'Outgoing Remittances (Value)'!E193","v":0}]
["CMREM_11530","SA",{"$f":"+'Outgoing Remittances (Value)'!$E$5","v":"20240930"},{"$f":"+'COVER SHEET'!$D$12","v":0},11530,{"$f":"'COVER SHEET'!$D$16&IF(MID('COVER SHEET'!$I$18,6,10)=\"december\",\"1231\",IF(MID('COVER SHEET'!$I$18,6,10)=\"june\",\"0630\"))","v":"20241231"},{"$f":"+'Outgoing Remittances (Value)'!E194","v":0}]
["CMREM_11530","SN",{"$f":"+'Outgoing Remittances (Value)'!$E$5","v":"20240930"},{"$f":"+'COVER SHEET'!$D$12","v":0},11530,{"$f":"'COVER SHEET'!$D$16&IF(MID('COVER SHEET'!$I$18,6,10)=\"december\",\"1231\",IF(MID('COVER SHEET'!$I$18,6,10)=\"june\",\"0630\"))","v":"20241231"},{"$f":"+'Outgoing Remittances (Value)'!E195","v":0}]
["CMREM_11530","RS",{"$f":"+'Outgoing Remittances (Value)'!$E$5","v":"20240930"},{"$f":"+'COVER SHEET'!$D$12","v":0},11530,{"$f":"'COVER SHEET'!$D$16&IF(MID('COVER SHEET'!$I$18,6,10)=\"december\",\"1231\",IF(MID('COVER SHEET'!$I$18,6,10)=\"june\",\"0630\"))","v":"20241231"},{"$f":"+'Outgoing Remittances (Value)'!E196","v":0}]
["CMREM_11530","SC",{"$f":"+'Outgoing Remittances (Value)'!$E$5","v":"20240930"},{"$f":"+'COVER SHEET'!$D$12","v":0},11530,{"$f":"'COVER SHEET'!$D$16&IF(MID('COVER SHEET'!$I$18,6,10)=\"december\",\"1231\",IF(MID('COVER SHEET'!$I$18,6,10)=\"june\",\"0630\"))","v":"20241231"},{"$f":"+'Outgoing Remittances (Value)'!E197","v":0}]
["CMREM_11530","SL",{"$f":"+'Outgoing Remittances (Value)'!$E$5","v":"20240930"},{"$f":"+'COVER SHEET'!$D$12","v":0},11530,{"$f":"'COVER SHEET'!$D$16&IF(MID('COVER SHEET'!$I$18,6,10)=\"december\",\"1231\",IF(MID('COVER SHEET'!$I$18,6,10)=\"june\",\"0630\"))","v":"20241231"},{"$f":"+'Outgoing Remittances (Value)'!E198","v":0}]
["CMREM_11530","SG",{"$f":"+'Outgoing Remittances (Value)'!$E$5","v":"20240930"},{"$f":"+'COVER SHEET'!$D$12","v":0},11530,{"$f":"'COVER SHEET'!$D$16&IF(MID('COVER SHEET'!$I$18,6,10)=\"december\",\"1231\",IF(MID('COVER SHEET'!$I$18,6,10)=\"june\",\"0630\"))","v":"20241231"},{"$f":"+'Outgoing Remittances (Value)'!E199","v":0}]
["CMREM_11530","SX",{"$f":"+'Outgoing Remittances (Value)'!$E$5","v":"20240930"},{"$f":"+'COVER SHEET'!$D$12","v":0},11530,{"$f":"'COVER SHEET'!$D$16&IF(MID('COVER SHEET'!$I$18,6,10)=\"december\",\"1231\",IF(MID('COVER SHEET'!$I$18,6,10)=\"june\",\"0630\"))","v":"20241231"},{"$f":"+'Outgoing Remittances (Value)'!E200","v":0}]
["CMREM_11530","SK",{"$f":"+'Outgoing Remittances (Value)'!$E$5","v":"20240930"},{"$f":"+'COVER SHEET'!$D$12","v":0},11530,{"$f":"'COVER SHEET'!$D$16&IF(MID('COVER SHEET'!$I$18,6,10)=\"december\",\"1231\",IF(MID('COVER SHEET'!$I$18,6,10)=\"june\",\"0630\"))","v":"20241231"},{"$f":"+'Outgoing Remittances (Value)'!E201","v":0}]
["CMREM_11530","SI",{"$f":"+'Outgoing Remittances (Value)'!$E$5","v":"20240930"},{"$f":"+'COVER SHEET'!$D$12","v":0},11530,{"$f":"'COVER SHEET'!$D$16&IF(MID('COVER SHEET'!$I$18,6,10)=\"december\",\"1231\",IF(MID('COVER SHEET'!$I$18,6,10)=\"june\",\"0630\"))","v":"20241231"},{"$f":"+'Outgoing Remittances (Value)'!E202","v":0}]
["CMREM_11530","SB",{"$f":"+'Outgoing Remittances (Value)'!$E$5","v":"20240930"},{"$f":"+'COVER SHEET'!$D$12","v":0},11530,{"$f":"'COVER SHEET'!$D$16&IF(MID('COVER SHEET'!$I$18,6,10)=\"december\",\"1231\",IF(MID('COVER SHEET'!$I$18,6,10)=\"june\",\"0630\"))","v":"20241231"},{"$f":"+'Outgoing Remittances (Value)'!E203","v":0}]
["CMREM_11530","SO",{"$f":"+'Outgoing Remittances (Value)'!$E$5","v":"20240930"},{"$f":"+'COVER SHEET'!$D$12","v":0},11530,{"$f":"'COVER SHEET'!$D$16&IF(MID('COVER SHEET'!$I$18,6,10)=\"december\",\"1231\",IF(MID('COVER SHEET'!$I$18,6,10)=\"june\",\"0630\"))","v":"20241231"},{"$f":"+'Outgoing Remittances (Value)'!E204","v":0}]
["CMREM_11530","ZA",{"$f":"+'Outgoing Remittances (Value)'!$E$5","v":"20240930"},{"$f":"+'COVER SHEET'!$D$12","v":0},11530,{"$f":"'COVER SHEET'!$D$16&IF(MID('COVER SHEET'!$I$18,6,10)=\"december\",\"1231\",IF(MID('COVER SHEET'!$I$18,6,10)=\"june\",\"0630\"))","v":"20241231"},{"$f":"+'Outgoing Remittances (Value)'!E205","v":0}]
["CMREM_11530","GS",{"$f":"+'Outgoing Remittances (Value)'!$E$5","v":"20240930"},{"$f":"+'COVER SHEET'!$D$12","v":0},11530,{"$f":"'COVER SHEET'!$D$16&IF(MID('COVER SHEET'!$I$18,6,10)=\"december\",\"1231\",IF(MID('COVER SHEET'!$I$18,6,10)=\"june\",\"0630\"))","v":"20241231"},{"$f":"+'Outgoing Remittances (Value)'!E206","v":0}]
["CMREM_11530","SS",{"$f":"+'Outgoing Remittances (Value)'!$E$5","v":"20240930"},{"$f":"+'COVER SHEET'!$D$12","v":0},11530,{"$f":"'COVER SHEET'!$D$16&IF(MID('COVER SHEET'!$I$18,6,10)=\"december\",\"1231\",IF(MID('COVER SHEET'!$I$18,6,10)=\"june\",\"0630\"))","v":"20241231"},{"$f":"+'Outgoing Remittances (Value)'!E207","v":0}]
["CMREM_11530","ES",{"$f":"+'Outgoing Remittances (Value)'!$E$5","v":"20240930"},{"$f":"+'COVER SHEET'!$D$12","v":0},11530,{"$f":"'COVER SHEET'!$D$16&IF(MID('COVER SHEET'!$I$18,6,10)=\"december\",\"1231\",IF(MID('COVER SHEET'!$I$18,6,10)=\"june\",\"0630\"))","v":"20241231"},{"$f":"+'Outgoing Remittances (Value)'!E208","v":0}]
["CMREM_11530","LK",{"$f":"+'Outgoing Remittances (Value)'!$E$5","v":"20240930"},{"$f":"+'COVER SHEET'!$D$12","v":0},11530,{"$f":"'COVER SHEET'!$D$16&IF(MID('COVER SHEET'!$I$18,6,10)=\"december\",\"1231\",IF(MID('COVER SHEET'!$I$18,6,10)=\"june\",\"0630\"))","v":"20241231"},{"$f":"+'Outgoing Remittances (Value)'!E209","v":0}]
["CMREM_11530","SD",{"$f":"+'Outgoing Remittances (Value)'!$E$5","v":"20240930"},{"$f":"+'COVER SHEET'!$D$12","v":0},11530,{"$f":"'COVER SHEET'!$D$16&IF(MID('COVER SHEET'!$I$18,6,10)=\"december\",\"1231\",IF(MID('COVER SHEET'!$I$18,6,10)=\"june\",\"0630\"))","v":"20241231"},{"$f":"+'Outgoing Remittances (Value)'!E210","v":0}]
["CMREM_11530","SR",{"$f":"+'Outgoing Remittances (Value)'!$E$5","v":"20240930"},{"$f":"+'COVER SHEET'!$D$12","v":0},11530,{"$f":"'COVER SHEET'!$D$16&IF(MID('COVER SHEET'!$I$18,6,10)=\"december\",\"1231\",IF(MID('COVER SHEET'!$I$18,6,10)=\"june\",\"0630\"))","v":"20241231"},{"$f":"+'Outgoing Remittances (Value)'!E211","v":0}]
["CMREM_11530","SZ",{"$f":"+'Outgoing Remittances (Value)'!$E$5","v":"20240930"},{"$f":"+'COVER SHEET'!$D$12","v":0},11530,{"$f":"'COVER SHEET'!$D$16&IF(MID('COVER SHEET'!$I$18,6,10)=\"december\",\"1231\",IF(MID('COVER SHEET'!$I$18,6,10)=\"june\",\"0630\"))","v":"20241231"},{"$f":"+'Outgoing Remittances (Value)'!E212","v":0}]
["CMREM_11530","SE",{"$f":"+'Outgoing Remittances (Value)'!$E$5","v":"20240930"},{"$f":"+'COVER SHEET'!$D$12","v":0},11530,{"$f":"'COVER SHEET'!$D$16&IF(MID('COVER SHEET'!$I$18,6,10)=\"december\",\"1231\",IF(MID('COVER SHEET'!$I$18,6,10)=\"june\",\"0630\"))","v":"20241231"},{"$f":"+'Outgoing Remittances (Value)'!E213","v":0}]
["CMREM_11530","CH",{"$f":"+'Outgoing Remittances (Value)'!$E$5","v":"20240930"},{"$f":"+'COVER SHEET'!$D$12","v":0},11530,{"$f":"'COVER SHEET'!$D$16&IF(MID('COVER SHEET'!$I$18,6,10)=\"december\",\"1231\",IF(MID('COVER SHEET'!$I$18,6,10)=\"june\",\"0630\"))","v":"20241231"},{"$f":"+'Outgoing Remittances (Value)'!E214","v":0}]
["CMREM_11530","SY",{"$f":"+'Outgoing Remittances (Value)'!$E$5","v":"20240930"},{"$f":"+'COVER SHEET'!$D$12","v":0},11530,{"$f":"'COVER SHEET'!$D$16&IF(MID('COVER SHEET'!$I$18,6,10)=\"december\",\"1231\",IF(MID('COVER SHEET'!$I$18,6,10)=\"june\",\"0630\"))","v":"20241231"},{"$f":"+'Outgoing Remittances (Value)'!E215","v":0}]
["CMREM_11530","TW",{"$f":"+'Outgoing Remittances (Value)'!$E$5","v":"20240930"},{"$f":"+'COVER SHEET'!$D$12","v":0},11530,{"$f":"'COVER SHEET'!$D$16&IF(MID('COVER SHEET'!$I$18,6,10)=\"december\",\"1231\",IF(MID('COVER SHEET'!$I$18,6,10)=\"june\",\"0630\"))","v":"20241231"},{"$f":"+'Outgoing Remittances (Value)'!E216","v":0}]
["CMREM_11530","TJ",{"$f":"+'Outgoing Remittances (Value)'!$E$5","v":"20240930"},{"$f":"+'COVER SHEET'!$D$12","v":0},11530,{"$f":"'COVER SHEET'!$D$16&IF(MID('COVER SHEET'!$I$18,6,10)=\"december\",\"1231\",IF(MID('COVER SHEET'!$I$18,6,10)=\"june\",\"0630\"))","v":"20241231"},{"$f":"+'Outgoing Remittances (Value)'!E217","v":0}]
["CMREM_11530","TZ",{"$f":"+'Outgoing Remittances (Value)'!$E$5","v":"20240930"},{"$f":"+'COVER SHEET'!$D$12","v":0},11530,{"$f":"'COVER SHEET'!$D$16&IF(MID('COVER SHEET'!$I$18,6,10)=\"december\",\"1231\",IF(MID('COVER SHEET'!$I$18,6,10)=\"june\",\"0630\"))","v":"20241231"},{"$f":"+'Outgoing Remittances (Value)'!E218","v":0}]
["CMREM_11530","TH",{"$f":"+'Outgoing Remittances (Value)'!$E$5","v":"20240930"},{"$f":"+'COVER SHEET'!$D$12","v":0},11530,{"$f":"'COVER SHEET'!$D$16&IF(MID('COVER SHEET'!$I$18,6,10)=\"december\",\"1231\",IF(MID('COVER SHEET'!$I$18,6,10)=\"june\",\"0630\"))","v":"20241231"},{"$f":"+'Outgoing Remittances (Value)'!E219","v":0}]
["CMREM_11530","TG",{"$f":"+'Outgoing Remittances (Value)'!$E$5","v":"20240930"},{"$f":"+'COVER SHEET'!$D$12","v":0},11530,{"$f":"'COVER SHEET'!$D$16&IF(MID('COVER SHEET'!$I$18,6,10)=\"december\",\"1231\",IF(MID('COVER SHEET'!$I$18,6,10)=\"june\",\"0630\"))","v":"20241231"},{"$f":"+'Outgoing Remittances (Value)'!E220","v":0}]
["CMREM_11530","TK",{"$f":"+'Outgoing Remittances (Value)'!$E$5","v":"20240930"},{"$f":"+'COVER SHEET'!$D$12","v":0},11530,{"$f":"'COVER SHEET'!$D$16&IF(MID('COVER SHEET'!$I$18,6,10)=\"december\",\"1231\",IF(MID('COVER SHEET'!$I$18,6,10)=\"june\",\"0630\"))","v":"20241231"},{"$f":"+'Outgoing Remittances (Value)'!E221","v":0}]
["CMREM_11530","TO",{"$f":"+'Outgoing Remittances (Value)'!$E$5","v":"20240930"},{"$f":"+'COVER SHEET'!$D$12","v":0},11530,{"$f":"'COVER SHEET'!$D$16&IF(MID('COVER SHEET'!$I$18,6,10)=\"december\",\"1231\",IF(MID('COVER SHEET'!$I$18,6,10)=\"june\",\"0630\"))","v":"20241231"},{"$f":"+'Outgoing Remittances (Value)'!E222","v":0}]
["CMREM_11530","TT",{"$f":"+'Outgoing Remittances (Value)'!$E$5","v":"20240930"},{"$f":"+'COVER SHEET'!$D$12","v":0},11530,{"$f":"'COVER SHEET'!$D$16&IF(MID('COVER SHEET'!$I$18,6,10)=\"december\",\"1231\",IF(MID('COVER SHEET'!$I$18,6,10)=\"june\",\"0630\"))","v":"20241231"},{"$f":"+'Outgoing Remittances (Value)'!E223","v":0}]
["CMREM_11530","TN",{"$f":"+'Outgoing Remittances (Value)'!$E$5","v":"20240930"},{"$f":"+'COVER SHEET'!$D$12","v":0},11530,{"$f":"'COVER SHEET'!$D$16&IF(MID('COVER SHEET'!$I$18,6,10)=\"december\",\"1231\",IF(MID('COVER SHEET'!$I$18,6,10)=\"june\",\"0630\"))","v":"20241231"},{"$f":"+'Outgoing Remittances (Value)'!E224","v":0}]
["CMREM_11530","TR",{"$f":"+'Outgoing Remittances (Value)'!$E$5","v":"20240930"},{"$f":"+'COVER SHEET'!$D$12","v":0},11530,{"$f":"'COVER SHEET'!$D$16&IF(MID('COVER SHEET'!$I$18,6,10)=\"december\",\"1231\",IF(MID('COVER SHEET'!$I$18,6,10)=\"june\",\"0630\"))","v":"20241231"},{"$f":"+'Outgoing Remittances (Value)'!E225","v":0}]
["CMREM_11530","TM",{"$f":"+'Outgoing Remittances (Value)'!$E$5","v":"20240930"},{"$f":"+'COVER SHEET'!$D$12","v":0},11530,{"$f":"'COVER SHEET'!$D$16&IF(MID('COVER SHEET'!$I$18,6,10)=\"december\",\"1231\",IF(MID('COVER SHEET'!$I$18,6,10)=\"june\",\"0630\"))","v":"20241231"},{"$f":"+'Outgoing Remittances (Value)'!E226","v":0}]
["CMREM_11530","TC",{"$f":"+'Outgoing Remittances (Value)'!$E$5","v":"20240930"},{"$f":"+'COVER SHEET'!$D$12","v":0},11530,{"$f":"'COVER SHEET'!$D$16&IF(MID('COVER SHEET'!$I$18,6,10)=\"december\",\"1231\",IF(MID('COVER SHEET'!$I$18,6,10)=\"june\",\"0630\"))","v":"20241231"},{"$f":"+'Outgoing Remittances (Value)'!E227","v":0}]
["CMREM_11530","TV",{"$f":"+'Outgoing Remittances (Value)'!$E$5","v":"20240930"},{"$f":"+'COVER SHEET'!$D$12","v":0},11530,{"$f":"'COVER SHEET'!$D$16&IF(MID('COVER SHEET'!$I$18,6,10)=\"december\",\"1231\",IF(MID('COVER SHEET'!$I$18,6,10)=\"june\",\"0630\"))","v":"20241231"},{"$f":"+'Outgoing Remittances (Value)'!E228","v":0}]
["CMREM_11530","UG",{"$f":"+'Outgoing Remittances (Value)'!$E$5","v":"20240930"},{"$f":"+'COVER SHEET'!$D$12","v":0},11530,{"$f":"'COVER SHEET'!$D$16&IF(MID('COVER SHEET'!$I$18,6,10)=\"december\",\"1231\",IF(MID('COVER SHEET'!$I$18,6,10)=\"june\",\"0630\"))","v":"20241231"},{"$f":"+'Outgoing Remittances (Value)'!E229","v":0}]
["CMREM_11530","UA",{"$f":"+'Outgoing Remittances (Value)'!$E$5","v":"20240930"},{"$f":"+'COVER SHEET'!$D$12","v":0},11530,{"$f":"'COVER SHEET'!$D$16&IF(MID('COVER SHEET'!$I$18,6,10)=\"december\",\"1231\",IF(MID('COVER SHEET'!$I$18,6,10)=\"june\",\"0630\"))","v":"20241231"},{"$f":"+'Outgoing Remittances (Value)'!E230","v":0}]
["CMREM_11530","AE",{"$f":"+'Outgoing Remittances (Value)'!$E$5","v":"20240930"},{"$f":"+'COVER SHEET'!$D$12","v":0},11530,{"$f":"'COVER SHEET'!$D$16&IF(MID('COVER SHEET'!$I$18,6,10)=\"december\",\"1231\",IF(MID('COVER SHEET'!$I$18,6,10)=\"june\",\"0630\"))","v":"20241231"},{"$f":"+'Outgoing Remittances (Value)'!E231","v":0}]
["CMREM_11530","GB",{"$f":"+'Outgoing Remittances (Value)'!$E$5","v":"20240930"},{"$f":"+'COVER SHEET'!$D$12","v":0},11530,{"$f":"'COVER SHEET'!$D$16&IF(MID('COVER SHEET'!$I$18,6,10)=\"december\",\"1231\",IF(MID('COVER SHEET'!$I$18,6,10)=\"june\",\"0630\"))","v":"20241231"},{"$f":"+'Outgoing Remittances (Value)'!E232","v":0}]
["CMREM_11530","US",{"$f":"+'Outgoing Remittances (Value)'!$E$5","v":"20240930"},{"$f":"+'COVER SHEET'!$D$12","v":0},11530,{"$f":"'COVER SHEET'!$D$16&IF(MID('COVER SHEET'!$I$18,6,10)=\"december\",\"1231\",IF(MID('COVER SHEET'!$I$18,6,10)=\"june\",\"0630\"))","v":"20241231"},{"$f":"+'Outgoing Remittances (Value)'!E233","v":0}]
["CMREM_11530","UY",{"$f":"+'Outgoing Remittances (Value)'!$E$5","v":"20240930"},{"$f":"+'COVER SHEET'!$D$12","v":0},11530,{"$f":"'COVER SHEET'!$D$16&IF(MID('COVER SHEET'!$I$18,6,10)=\"december\",\"1231\",IF(MID('COVER SHEET'!$I$18,6,10)=\"june\",\"0630\"))","v":"20241231"},{"$f":"+'Outgoing Remittances (Value)'!E234","v":0}]
["CMREM_11530","UM",{"$f":"+'Outgoing Remittances (Value)'!$E$5","v":"20240930"},{"$f":"+'COVER SHEET'!$D$12","v":0},11530,{"$f":"'COVER SHEET'!$D$16&IF(MID('COVER SHEET'!$I$18,6,10)=\"december\",\"1231\",IF(MID('COVER SHEET'!$I$18,6,10)=\"june\",\"0630\"))","v":"20241231"},{"$f":"+'Outgoing Remittances (Value)'!E235","v":0}]
["CMREM_11530","UZ",{"$f":"+'Outgoing Remittances (Value)'!$E$5","v":"20240930"},{"$f":"+'COVER SHEET'!$D$12","v":0},11530,{"$f":"'COVER SHEET'!$D$16&IF(MID('COVER SHEET'!$I$18,6,10)=\"december\",\"1231\",IF(MID('COVER SHEET'!$I$18,6,10)=\"june\",\"0630\"))","v":"20241231"},{"$f":"+'Outgoing Remittances (Value)'!E236","v":0}]
["CMREM_11530","VU",{"$f":"+'Outgoing Remittances (Value)'!$E$5","v":"20240930"},{"$f":"+'COVER SHEET'!$D$12","v":0},11530,{"$f":"'COVER SHEET'!$D$16&IF(MID('COVER SHEET'!$I$18,6,10)=\"december\",\"1231\",IF(MID('COVER SHEET'!$I$18,6,10)=\"june\",\"0630\"))","v":"20241231"},{"$f":"+'Outgoing Remittances (Value)'!E237","v":0}]
["CMREM_11530","VE",{"$f":"+'Outgoing Remittances (Value)'!$E$5","v":"20240930"},{"$f":"+'COVER SHEET'!$D$12","v":0},11530,{"$f":"'COVER SHEET'!$D$16&IF(MID('COVER SHEET'!$I$18,6,10)=\"december\",\"1231\",IF(MID('COVER SHEET'!$I$18,6,10)=\"june\",\"0630\"))","v":"20241231"},{"$f":"+'Outgoing Remittances (Value)'!E238","v":0}]
["CMREM_11530","VN",{"$f":"+'Outgoing Remittances (Value)'!$E$5","v":"20240930"},{"$f":"+'COVER SHEET'!$D$12","v":0},11530,{"$f":"'COVER SHEET'!$D$16&IF(MID('COVER SHEET'!$I$18,6,10)=\"december\",\"1231\",IF(MID('COVER SHEET'!$I$18,6,10)=\"june\",\"0630\"))","v":"20241231"},{"$f":"+'Outgoing Remittances (Value)'!E239","v":0}]
["CMREM_11530","VI",{"$f":"+'Outgoing Remittances (Value)'!$E$5","v":"20240930"},{"$f":"+'COVER SHEET'!$D$12","v":0},11530,{"$f":"'COVER SHEET'!$D$16&IF(MID('COVER SHEET'!$I$18,6,10)=\"december\",\"1231\",IF(MID('COVER SHEET'!$I$18,6,10)=\"june\",\"0630\"))","v":"20241231"},{"$f":"+'Outgoing Remittances (Value)'!E240","v":0}]
["CMREM_11530","WF",{"$f":"+'Outgoing Remittances (Value)'!$E$5","v":"20240930"},{"$f":"+'COVER SHEET'!$D$12","v":0},11530,{"$f":"'COVER SHEET'!$D$16&IF(MID('COVER SHEET'!$I$18,6,10)=\"december\",\"1231\",IF(MID('COVER SHEET'!$I$18,6,10)=\"june\",\"0630\"))","v":"20241231"},{"$f":"+'Outgoing Remittances (Value)'!E241","v":0}]
["CMREM_11530","YE",{"$f":"+'Outgoing Remittances (Value)'!$E$5","v":"20240930"},{"$f":"+'COVER SHEET'!$D$12","v":0},11530,{"$f":"'COVER SHEET'!$D$16&IF(MID('COVER SHEET'!$I$18,6,10)=\"december\",\"1231\",IF(MID('COVER SHEET'!$I$18,6,10)=\"june\",\"0630\"))","v":"20241231"},{"$f":"+'Outgoing Remittances (Value)'!E242","v":0}]
["CMREM_11530","ZM",{"$f":"+'Outgoing Remittances (Value)'!$E$5","v":"20240930"},{"$f":"+'COVER SHEET'!$D$12","v":0},11530,{"$f":"'COVER SHEET'!$D$16&IF(MID('COVER SHEET'!$I$18,6,10)=\"december\",\"1231\",IF(MID('COVER SHEET'!$I$18,6,10)=\"june\",\"0630\"))","v":"20241231"},{"$f":"+'Outgoing Remittances (Value)'!E243","v":0}]
["CMREM_11530","ZW",{"$f":"+'Outgoing Remittances (Value)'!$E$5","v":"20240930"},{"$f":"+'COVER SHEET'!$D$12","v":0},11530,{"$f":"'COVER SHEET'!$D$16&IF(MID('COVER SHEET'!$I$18,6,10)=\"december\",\"1231\",IF(MID('COVER SHEET'!$I$18,6,10)=\"june\",\"0630\"))","v":"20241231"},{"$f":"+'Outgoing Remittances (Value)'!E244","v":0}]
["CMREM_11500","AF",{"$f":"+'Incoming Remittances (Volume)'!$G$5","v":"20241031"},{"$f":"+'COVER SHEET'!$D$12","v":0},11500,{"$f":"'COVER SHEET'!$D$16&IF(MID('COVER SHEET'!$I$18,6,10)=\"december\",\"1231\",IF(MID('COVER SHEET'!$I$18,6,10)=\"june\",\"0630\"))","v":"20241231"},{"$f":"+'Incoming Remittances (Volume)'!G9","v":0}]
["CMREM_11500","AL",{"$f":"+'Incoming Remittances (Volume)'!$G$5","v":"20241031"},{"$f":"+'COVER SHEET'!$D$12","v":0},11500,{"$f":"'COVER SHEET'!$D$16&IF(MID('COVER SHEET'!$I$18,6,10)=\"december\",\"1231\",IF(MID('COVER SHEET'!$I$18,6,10)=\"june\",\"0630\"))","v":"20241231"},{"$f":"+'Incoming Remittances (Volume)'!G10","v":0}]
["CMREM_11500","DZ",{"$f":"+'Incoming Remittances (Volume)'!$G$5","v":"20241031"},{"$f":"+'COVER SHEET'!$D$12","v":0},11500,{"$f":"'COVER SHEET'!$D$16&IF(MID('COVER SHEET'!$I$18,6,10)=\"december\",\"1231\",IF(MID('COVER SHEET'!$I$18,6,10)=\"june\",\"0630\"))","v":"20241231"},{"$f":"+'Incoming Remittances (Volume)'!G11","v":0}]
["CMREM_11500","AS",{"$f":"+'Incoming Remittances (Volume)'!$G$5","v":"20241031"},{"$f":"+'COVER SHEET'!$D$12","v":0},11500,{"$f":"'COVER SHEET'!$D$16&IF(MID('COVER SHEET'!$I$18,6,10)=\"december\",\"1231\",IF(MID('COVER SHEET'!$I$18,6,10)=\"june\",\"0630\"))","v":"20241231"},{"$f":"+'Incoming Remittances (Volume)'!G12","v":0}]
["CMREM_11500","AD",{"$f":"+'Incoming Remittances (Volume)'!$G$5","v":"20241031"},{"$f":"+'COVER SHEET'!$D$12","v":0},11500,{"$f":"'COVER SHEET'!$D$16&IF(MID('COVER SHEET'!$I$18,6,10)=\"december\",\"1231\",IF(MID('COVER SHEET'!$I$18,6,10)=\"june\",\"0630\"))","v":"20241231"},{"$f":"+'Incoming Remittances (Volume)'!G13","v":0}]
["CMREM_11500","AO",{"$f":"+'Incoming Remittances (Volume)'!$G$5","v":"20241031"},{"$f":"+'COVER SHEET'!$D$12","v":0},11500,{"$f":"'COVER SHEET'!$D$16&IF(MID('COVER SHEET'!$I$18,6,10)=\"december\",\"1231\",IF(MID('COVER SHEET'!$I$18,6,10)=\"june\",\"0630\"))","v":"20241231"},{"$f":"+'Incoming Remittances (Volume)'!G14","v":0}]
["CMREM_11500","AI",{"$f":"+'Incoming Remittances (Volume)'!$G$5","v":"20241031"},{"$f":"+'COVER SHEET'!$D$12","v":0},11500,{"$f":"'COVER SHEET'!$D$16&IF(MID('COVER SHEET'!$I$18,6,10)=\"december\",\"1231\",IF(MID('COVER SHEET'!$I$18,6,10)=\"june\",\"0630\"))","v":"20241231"},{"$f":"+'Incoming Remittances (Volume)'!G15","v":0}]
["CMREM_11500","AQ",{"$f":"+'Incoming Remittances (Volume)'!$G$5","v":"20241031"},{"$f":"+'COVER SHEET'!$D$12","v":0},11500,{"$f":"'COVER SHEET'!$D$16&IF(MID('COVER SHEET'!$I$18,6,10)=\"december\",\"1231\",IF(MID('COVER SHEET'!$I$18,6,10)=\"june\",\"0630\"))","v":"20241231"},{"$f":"+'Incoming Remittances (Volume)'!G16","v":0}]
["CMREM_11500","AG",{"$f":"+'Incoming Remittances (Volume)'!$G$5","v":"20241031"},{"$f":"+'COVER SHEET'!$D$12","v":0},11500,{"$f":"'COVER SHEET'!$D$16&IF(MID('COVER SHEET'!$I$18,6,10)=\"december\",\"1231\",IF(MID('COVER SHEET'!$I$18,6,10)=\"june\",\"0630\"))","v":"20241231"},{"$f":"+'Incoming Remittances (Volume)'!G17","v":0}]
["CMREM_11500","AR",{"$f":"+'Incoming Remittances (Volume)'!$G$5","v":"20241031"},{"$f":"+'COVER SHEET'!$D$12","v":0},11500,{"$f":"'COVER SHEET'!$D$16&IF(MID('COVER SHEET'!$I$18,6,10)=\"december\",\"1231\",IF(MID('COVER SHEET'!$I$18,6,10)=\"june\",\"0630\"))","v":"20241231"},{"$f":"+'Incoming Remittances (Volume)'!G18","v":0}]
["CMREM_11500","AM",{"$f":"+'Incoming Remittances (Volume)'!$G$5","v":"20241031"},{"$f":"+'COVER SHEET'!$D$12","v":0},11500,{"$f":"'COVER SHEET'!$D$16&IF(MID('COVER SHEET'!$I$18,6,10)=\"december\",\"1231\",IF(MID('COVER SHEET'!$I$18,6,10)=\"june\",\"0630\"))","v":"20241231"},{"$f":"+'Incoming Remittances (Volume)'!G19","v":0}]
["CMREM_11500","AW",{"$f":"+'Incoming Remittances (Volume)'!$G$5","v":"20241031"},{"$f":"+'COVER SHEET'!$D$12","v":0},11500,{"$f":"'COVER SHEET'!$D$16&IF(MID('COVER SHEET'!$I$18,6,10)=\"december\",\"1231\",IF(MID('COVER SHEET'!$I$18,6,10)=\"june\",\"0630\"))","v":"20241231"},{"$f":"+'Incoming Remittances (Volume)'!G20","v":0}]
["CMREM_11500","AU",{"$f":"+'Incoming Remittances (Volume)'!$G$5","v":"20241031"},{"$f":"+'COVER SHEET'!$D$12","v":0},11500,{"$f":"'COVER SHEET'!$D$16&IF(MID('COVER SHEET'!$I$18,6,10)=\"december\",\"1231\",IF(MID('COVER SHEET'!$I$18,6,10)=\"june\",\"0630\"))","v":"20241231"},{"$f":"+'Incoming Remittances (Volume)'!G21","v":0}]
["CMREM_11500","AT",{"$f":"+'Incoming Remittances (Volume)'!$G$5","v":"20241031"},{"$f":"+'COVER SHEET'!$D$12","v":0},11500,{"$f":"'COVER SHEET'!$D$16&IF(MID('COVER SHEET'!$I$18,6,10)=\"december\",\"1231\",IF(MID('COVER SHEET'!$I$18,6,10)=\"june\",\"0630\"))","v":"20241231"},{"$f":"+'Incoming Remittances (Volume)'!G22","v":0}]
["CMREM_11500","AZ",{"$f":"+'Incoming Remittances (Volume)'!$G$5","v":"20241031"},{"$f":"+'COVER SHEET'!$D$12","v":0},11500,{"$f":"'COVER SHEET'!$D$16&IF(MID('COVER SHEET'!$I$18,6,10)=\"december\",\"1231\",IF(MID('COVER SHEET'!$I$18,6,10)=\"june\",\"0630\"))","v":"20241231"},{"$f":"+'Incoming Remittances (Volume)'!G23","v":0}]
["CMREM_11500","BS",{"$f":"+'Incoming Remittances (Volume)'!$G$5","v":"20241031"},{"$f":"+'COVER SHEET'!$D$12","v":0},11500,{"$f":"'COVER SHEET'!$D$16&IF(MID('COVER SHEET'!$I$18,6,10)=\"december\",\"1231\",IF(MID('COVER SHEET'!$I$18,6,10)=\"june\",\"0630\"))","v":"20241231"},{"$f":"+'Incoming Remittances (Volume)'!G24","v":0}]
["CMREM_11500","BH",{"$f":"+'Incoming Remittances (Volume)'!$G$5","v":"20241031"},{"$f":"+'COVER SHEET'!$D$12","v":0},11500,{"$f":"'COVER SHEET'!$D$16&IF(MID('COVER SHEET'!$I$18,6,10)=\"december\",\"1231\",IF(MID('COVER SHEET'!$I$18,6,10)=\"june\",\"0630\"))","v":"20241231"},{"$f":"+'Incoming Remittances (Volume)'!G25","v":0}]
["CMREM_11500","BD",{"$f":"+'Incoming Remittances (Volume)'!$G$5","v":"20241031"},{"$f":"+'COVER SHEET'!$D$12","v":0},11500,{"$f":"'COVER SHEET'!$D$16&IF(MID('COVER SHEET'!$I$18,6,10)=\"december\",\"1231\",IF(MID('COVER SHEET'!$I$18,6,10)=\"june\",\"0630\"))","v":"20241231"},{"$f":"+'Incoming Remittances (Volume)'!G26","v":0}]
["CMREM_11500","BB",{"$f":"+'Incoming Remittances (Volume)'!$G$5","v":"20241031"},{"$f":"+'COVER SHEET'!$D$12","v":0},11500,{"$f":"'COVER SHEET'!$D$16&IF(MID('COVER SHEET'!$I$18,6,10)=\"december\",\"1231\",IF(MID('COVER SHEET'!$I$18,6,10)=\"june\",\"0630\"))","v":"20241231"},{"$f":"+'Incoming Remittances (Volume)'!G27","v":0}]
["CMREM_11500","BY",{"$f":"+'Incoming Remittances (Volume)'!$G$5","v":"20241031"},{"$f":"+'COVER SHEET'!$D$12","v":0},11500,{"$f":"'COVER SHEET'!$D$16&IF(MID('COVER SHEET'!$I$18,6,10)=\"december\",\"1231\",IF(MID('COVER SHEET'!$I$18,6,10)=\"june\",\"0630\"))","v":"20241231"},{"$f":"+'Incoming Remittances (Volume)'!G28","v":0}]
["CMREM_11500","BE",{"$f":"+'Incoming Remittances (Volume)'!$G$5","v":"20241031"},{"$f":"+'COVER SHEET'!$D$12","v":0},11500,{"$f":"'COVER SHEET'!$D$16&IF(MID('COVER SHEET'!$I$18,6,10)=\"december\",\"1231\",IF(MID('COVER SHEET'!$I$18,6,10)=\"june\",\"0630\"))","v":"20241231"},{"$f":"+'Incoming Remittances (Volume)'!G29","v":0}]
["CMREM_11500","BZ",{"$f":"+'Incoming Remittances (Volume)'!$G$5","v":"20241031"},{"$f":"+'COVER SHEET'!$D$12","v":0},11500,{"$f":"'COVER SHEET'!$D$16&IF(MID('COVER SHEET'!$I$18,6,10)=\"december\",\"1231\",IF(MID('COVER SHEET'!$I$18,6,10)=\"june\",\"0630\"))","v":"20241231"},{"$f":"+'Incoming Remittances (Volume)'!G30","v":0}]
["CMREM_11500","BJ",{"$f":"+'Incoming Remittances (Volume)'!$G$5","v":"20241031"},{"$f":"+'COVER SHEET'!$D$12","v":0},11500,{"$f":"'COVER SHEET'!$D$16&IF(MID('COVER SHEET'!$I$18,6,10)=\"december\",\"1231\",IF(MID('COVER SHEET'!$I$18,6,10)=\"june\",\"0630\"))","v":"20241231"},{"$f":"+'Incoming Remittances (Volume)'!G31","v":0}]
["CMREM_11500","BM",{"$f":"+'Incoming Remittances (Volume)'!$G$5","v":"20241031"},{"$f":"+'COVER SHEET'!$D$12","v":0},11500,{"$f":"'COVER SHEET'!$D$16&IF(MID('COVER SHEET'!$I$18,6,10)=\"december\",\"1231\",IF(MID('COVER SHEET'!$I$18,6,10)=\"june\",\"0630\"))","v":"20241231"},{"$f":"+'Incoming Remittances (Volume)'!G32","v":0}]
["CMREM_11500","BQ",{"$f":"+'Incoming Remittances (Volume)'!$G$5","v":"20241031"},{"$f":"+'COVER SHEET'!$D$12","v":0},11500,{"$f":"'COVER SHEET'!$D$16&IF(MID('COVER SHEET'!$I$18,6,10)=\"december\",\"1231\",IF(MID('COVER SHEET'!$I$18,6,10)=\"june\",\"0630\"))","v":"20241231"},{"$f":"+'Incoming Remittances (Volume)'!G33","v":0}]
["CMREM_11500","BT",{"$f":"+'Incoming Remittances (Volume)'!$G$5","v":"20241031"},{"$f":"+'COVER SHEET'!$D$12","v":0},11500,{"$f":"'COVER SHEET'!$D$16&IF(MID('COVER SHEET'!$I$18,6,10)=\"december\",\"1231\",IF(MID('COVER SHEET'!$I$18,6,10)=\"june\",\"0630\"))","v":"20241231"},{"$f":"+'Incoming Remittances (Volume)'!G34","v":0}]
["CMREM_11500","BO",{"$f":"+'Incoming Remittances (Volume)'!$G$5","v":"20241031"},{"$f":"+'COVER SHEET'!$D$12","v":0},11500,{"$f":"'COVER SHEET'!$D$16&IF(MID('COVER SHEET'!$I$18,6,10)=\"december\",\"1231\",IF(MID('COVER SHEET'!$I$18,6,10)=\"june\",\"0630\"))","v":"20241231"},{"$f":"+'Incoming Remittances (Volume)'!G35","v":0}]
["CMREM_11500","BA",{"$f":"+'Incoming Remittances (Volume)'!$G$5","v":"20241031"},{"$f":"+'COVER SHEET'!$D$12","v":0},11500,{"$f":"'COVER SHEET'!$D$16&IF(MID('COVER SHEET'!$I$18,6,10)=\"december\",\"1231\",IF(MID('COVER SHEET'!$I$18,6,10)=\"june\",\"0630\"))","v":"20241231"},{"$f":"+'Incoming Remittances (Volume)'!G36","v":0}]
["CMREM_11500","BW",{"$f":"+'Incoming Remittances (Volume)'!$G$5","v":"20241031"},{"$f":"+'COVER SHEET'!$D$12","v":0},11500,{"$f":"'COVER SHEET'!$D$16&IF(MID('COVER SHEET'!$I$18,6,10)=\"december\",\"1231\",IF(MID('COVER SHEET'!$I$18,6,10)=\"june\",\"0630\"))","v":"20241231"},{"$f":"+'Incoming Remittances (Volume)'!G37","v":0}]
["CMREM_11500","BV",{"$f":"+'Incoming Remittances (Volume)'!$G$5","v":"20241031"},{"$f":"+'COVER SHEET'!$D$12","v":0},11500,{"$f":"'COVER SHEET'!$D$16&IF(MID('COVER SHEET'!$I$18,6,10)=\"december\",\"1231\",IF(MID('COVER SHEET'!$I$18,6,10)=\"june\",\"0630\"))","v":"20241231"},{"$f":"+'Incoming Remittances (Volume)'!G38","v":0}]
["CMREM_11500","BR",{"$f":"+'Incoming Remittances (Volume)'!$G$5","v":"20241031"},{"$f":"+'COVER SHEET'!$D$12","v":0},11500,{"$f":"'COVER SHEET'!$D$16&IF(MID('COVER SHEET'!$I$18,6,10)=\"december\",\"1231\",IF(MID('COVER SHEET'!$I$18,6,10)=\"june\",\"0630\"))","v":"20241231"},{"$f":"+'Incoming Remittances (Volume)'!G39","v":0}]
["CMREM_11500","IO",{"$f":"+'Incoming Remittances (Volume)'!$G$5","v":"20241031"},{"$f":"+'COVER SHEET'!$D$12","v":0},11500,{"$f":"'COVER SHEET'!$D$16&IF(MID('COVER SHEET'!$I$18,6,10)=\"december\",\"1231\",IF(MID('COVER SHEET'!$I$18,6,10)=\"june\",\"0630\"))","v":"20241231"},{"$f":"+'Incoming Remittances (Volume)'!G40","v":0}]
["CMREM_11500","VG",{"$f":"+'Incoming Remittances (Volume)'!$G$5","v":"20241031"},{"$f":"+'COVER SHEET'!$D$12","v":0},11500,{"$f":"'COVER SHEET'!$D$16&IF(MID('COVER SHEET'!$I$18,6,10)=\"december\",\"1231\",IF(MID('COVER SHEET'!$I$18,6,10)=\"june\",\"0630\"))","v":"20241231"},{"$f":"+'Incoming Remittances (Volume)'!G41","v":0}]
["CMREM_11500","BN",{"$f":"+'Incoming Remittances (Volume)'!$G$5","v":"20241031"},{"$f":"+'COVER SHEET'!$D$12","v":0},11500,{"$f":"'COVER SHEET'!$D$16&IF(MID('COVER SHEET'!$I$18,6,10)=\"december\",\"1231\",IF(MID('COVER SHEET'!$I$18,6,10)=\"june\",\"0630\"))","v":"20241231"},{"$f":"+'Incoming Remittances (Volume)'!G42","v":0}]
["CMREM_11500","BG",{"$f":"+'Incoming Remittances (Volume)'!$G$5","v":"20241031"},{"$f":"+'COVER SHEET'!$D$12","v":0},11500,{"$f":"'COVER SHEET'!$D$16&IF(MID('COVER SHEET'!$I$18,6,10)=\"december\",\"1231\",IF(MID('COVER SHEET'!$I$18,6,10)=\"june\",\"0630\"))","v":"20241231"},{"$f":"+'Incoming Remittances (Volume)'!G43","v":0}]
["CMREM_11500","BF",{"$f":"+'Incoming Remittances (Volume)'!$G$5","v":"20241031"},{"$f":"+'COVER SHEET'!$D$12","v":0},11500,{"$f":"'COVER SHEET'!$D$16&IF(MID('COVER SHEET'!$I$18,6,10)=\"december\",\"1231\",IF(MID('COVER SHEET'!$I$18,6,10)=\"june\",\"0630\"))","v":"20241231"},{"$f":"+'Incoming Remittances (Volume)'!G44","v":0}]
["CMREM_11500","BI",{"$f":"+'Incoming Remittances (Volume)'!$G$5","v":"20241031"},{"$f":"+'COVER SHEET'!$D$12","v":0},11500,{"$f":"'COVER SHEET'!$D$16&IF(MID('COVER SHEET'!$I$18,6,10)=\"december\",\"1231\",IF(MID('COVER SHEET'!$I$18,6,10)=\"june\",\"0630\"))","v":"20241231"},{"$f":"+'Incoming Remittances (Volume)'!G45","v":0}]
["CMREM_11500","KH",{"$f":"+'Incoming Remittances (Volume)'!$G$5","v":"20241031"},{"$f":"+'COVER SHEET'!$D$12","v":0},11500,{"$f":"'COVER SHEET'!$D$16&IF(MID('COVER SHEET'!$I$18,6,10)=\"december\",\"1231\",IF(MID('COVER SHEET'!$I$18,6,10)=\"june\",\"0630\"))","v":"20241231"},{"$f":"+'Incoming Remittances (Volume)'!G46","v":0}]
["CMREM_11500","CM",{"$f":"+'Incoming Remittances (Volume)'!$G$5","v":"20241031"},{"$f":"+'COVER SHEET'!$D$12","v":0},11500,{"$f":"'COVER SHEET'!$D$16&IF(MID('COVER SHEET'!$I$18,6,10)=\"december\",\"1231\",IF(MID('COVER SHEET'!$I$18,6,10)=\"june\",\"0630\"))","v":"20241231"},{"$f":"+'Incoming Remittances (Volume)'!G47","v":0}]
["CMREM_11500","CA",{"$f":"+'Incoming Remittances (Volume)'!$G$5","v":"20241031"},{"$f":"+'COVER SHEET'!$D$12","v":0},11500,{"$f":"'COVER SHEET'!$D$16&IF(MID('COVER SHEET'!$I$18,6,10)=\"december\",\"1231\",IF(MID('COVER SHEET'!$I$18,6,10)=\"june\",\"0630\"))","v":"20241231"},{"$f":"+'Incoming Remittances (Volume)'!G48","v":0}]
["CMREM_11500","CV",{"$f":"+'Incoming Remittances (Volume)'!$G$5","v":"20241031"},{"$f":"+'COVER SHEET'!$D$12","v":0},11500,{"$f":"'COVER SHEET'!$D$16&IF(MID('COVER SHEET'!$I$18,6,10)=\"december\",\"1231\",IF(MID('COVER SHEET'!$I$18,6,10)=\"june\",\"0630\"))","v":"20241231"},{"$f":"+'Incoming Remittances (Volume)'!G49","v":0}]
["CMREM_11500","KY",{"$f":"+'Incoming Remittances (Volume)'!$G$5","v":"20241031"},{"$f":"+'COVER SHEET'!$D$12","v":0},11500,{"$f":"'COVER SHEET'!$D$16&IF(MID('COVER SHEET'!$I$18,6,10)=\"december\",\"1231\",IF(MID('COVER SHEET'!$I$18,6,10)=\"june\",\"0630\"))","v":"20241231"},{"$f":"+'Incoming Remittances (Volume)'!G50","v":0}]
["CMREM_11500","CF",{"$f":"+'Incoming Remittances (Volume)'!$G$5","v":"20241031"},{"$f":"+'COVER SHEET'!$D$12","v":0},11500,{"$f":"'COVER SHEET'!$D$16&IF(MID('COVER SHEET'!$I$18,6,10)=\"december\",\"1231\",IF(MID('COVER SHEET'!$I$18,6,10)=\"june\",\"0630\"))","v":"20241231"},{"$f":"+'Incoming Remittances (Volume)'!G51","v":0}]
["CMREM_11500","TD",{"$f":"+'Incoming Remittances (Volume)'!$G$5","v":"20241031"},{"$f":"+'COVER SHEET'!$D$12","v":0},11500,{"$f":"'COVER SHEET'!$D$16&IF(MID('COVER SHEET'!$I$18,6,10)=\"december\",\"1231\",IF(MID('COVER SHEET'!$I$18,6,10)=\"june\",\"0630\"))","v":"20241231"},{"$f":"+'Incoming Remittances (Volume)'!G52","v":0}]
["CMREM_11500","CL",{"$f":"+'Incoming Remittances (Volume)'!$G$5","v":"20241031"},{"$f":"+'COVER SHEET'!$D$12","v":0},11500,{"$f":"'COVER SHEET'!$D$16&IF(MID('COVER SHEET'!$I$18,6,10)=\"december\",\"1231\",IF(MID('COVER SHEET'!$I$18,6,10)=\"june\",\"0630\"))","v":"20241231"},{"$f":"+'Incoming Remittances (Volume)'!G53","v":0}]
["CMREM_11500","CN",{"$f":"+'Incoming Remittances (Volume)'!$G$5","v":"20241031"},{"$f":"+'COVER SHEET'!$D$12","v":0},11500,{"$f":"'COVER SHEET'!$D$16&IF(MID('COVER SHEET'!$I$18,6,10)=\"december\",\"1231\",IF(MID('COVER SHEET'!$I$18,6,10)=\"june\",\"0630\"))","v":"20241231"},{"$f":"+'Incoming Remittances (Volume)'!G54","v":0}]
["CMREM_11500","CX",{"$f":"+'Incoming Remittances (Volume)'!$G$5","v":"20241031"},{"$f":"+'COVER SHEET'!$D$12","v":0},11500,{"$f":"'COVER SHEET'!$D$16&IF(MID('COVER SHEET'!$I$18,6,10)=\"december\",\"1231\",IF(MID('COVER SHEET'!$I$18,6,10)=\"june\",\"0630\"))","v":"20241231"},{"$f":"+'Incoming Remittances (Volume)'!G55","v":0}]
["CMREM_11500","CC",{"$f":"+'Incoming Remittances (Volume)'!$G$5","v":"20241031"},{"$f":"+'COVER SHEET'!$D$12","v":0},11500,{"$f":"'COVER SHEET'!$D$16&IF(MID('COVER SHEET'!$I$18,6,10)=\"december\",\"1231\",IF(MID('COVER SHEET'!$I$18,6,10)=\"june\",\"0630\"))","v":"20241231"},{"$f":"+'Incoming Remittances (Volume)'!G56","v":0}]
["CMREM_11500","CO",{"$f":"+'Incoming Remittances (Volume)'!$G$5","v":"20241031"},{"$f":"+'COVER SHEET'!$D$12","v":0},11500,{"$f":"'COVER SHEET'!$D$16&IF(MID('COVER SHEET'!$I$18,6,10)=\"december\",\"1231\",IF(MID('COVER SHEET'!$I$18,6,10)=\"june\",\"0630\"))","v":"20241231"},{"$f":"+'Incoming Remittances (Volume)'!G57","v":0}]
["CMREM_11500","KM",{"$f":"+'Incoming Remittances (Volume)'!$G$5","v":"20241031"},{"$f":"+'COVER SHEET'!$D$12","v":0},11500,{"$f":"'COVER SHEET'!$D$16&IF(MID('COVER SHEET'!$I$18,6,10)=\"december\",\"1231\",IF(MID('COVER SHEET'!$I$18,6,10)=\"june\",\"0630\"))","v":"20241231"},{"$f":"+'Incoming Remittances (Volume)'!G58","v":0}]
["CMREM_11500","CG",{"$f":"+'Incoming Remittances (Volume)'!$G$5","v":"20241031"},{"$f":"+'COVER SHEET'!$D$12","v":0},11500,{"$f":"'COVER SHEET'!$D$16&IF(MID('COVER SHEET'!$I$18,6,10)=\"december\",\"1231\",IF(MID('COVER SHEET'!$I$18,6,10)=\"june\",\"0630\"))","v":"20241231"},{"$f":"+'Incoming Remittances (Volume)'!G59","v":0}]
["CMREM_11500","CD",{"$f":"+'Incoming Remittances (Volume)'!$G$5","v":"20241031"},{"$f":"+'COVER SHEET'!$D$12","v":0},11500,{"$f":"'COVER SHEET'!$D$16&IF(MID('COVER SHEET'!$I$18,6,10)=\"december\",\"1231\",IF(MID('COVER SHEET'!$I$18,6,10)=\"june\",\"0630\"))","v":"20241231"},{"$f":"+'Incoming Remittances (Volume)'!G60","v":0}]
["CMREM_11500","CK",{"$f":"+'Incoming Remittances (Volume)'!$G$5","v":"20241031"},{"$f":"+'COVER SHEET'!$D$12","v":0},11500,{"$f":"'COVER SHEET'!$D$16&IF(MID('COVER SHEET'!$I$18,6,10)=\"december\",\"1231\",IF(MID('COVER SHEET'!$I$18,6,10)=\"june\",\"0630\"))","v":"20241231"},{"$f":"+'Incoming Remittances (Volume)'!G61","v":0}]
["CMREM_11500","CR",{"$f":"+'Incoming Remittances (Volume)'!$G$5","v":"20241031"},{"$f":"+'COVER SHEET'!$D$12","v":0},11500,{"$f":"'COVER SHEET'!$D$16&IF(MID('COVER SHEET'!$I$18,6,10)=\"december\",\"1231\",IF(MID('COVER SHEET'!$I$18,6,10)=\"june\",\"0630\"))","v":"20241231"},{"$f":"+'Incoming Remittances (Volume)'!G62","v":0}]
["CMREM_11500","HR",{"$f":"+'Incoming Remittances (Volume)'!$G$5","v":"20241031"},{"$f":"+'COVER SHEET'!$D$12","v":0},11500,{"$f":"'COVER SHEET'!$D$16&IF(MID('COVER SHEET'!$I$18,6,10)=\"december\",\"1231\",IF(MID('COVER SHEET'!$I$18,6,10)=\"june\",\"0630\"))","v":"20241231"},{"$f":"+'Incoming Remittances (Volume)'!G63","v":0}]
["CMREM_11500","CU",{"$f":"+'Incoming Remittances (Volume)'!$G$5","v":"20241031"},{"$f":"+'COVER SHEET'!$D$12","v":0},11500,{"$f":"'COVER SHEET'!$D$16&IF(MID('COVER SHEET'!$I$18,6,10)=\"december\",\"1231\",IF(MID('COVER SHEET'!$I$18,6,10)=\"june\",\"0630\"))","v":"20241231"},{"$f":"+'Incoming Remittances (Volume)'!G64","v":0}]
["CMREM_11500","CW",{"$f":"+'Incoming Remittances (Volume)'!$G$5","v":"20241031"},{"$f":"+'COVER SHEET'!$D$12","v":0},11500,{"$f":"'COVER SHEET'!$D$16&IF(MID('COVER SHEET'!$I$18,6,10)=\"december\",\"1231\",IF(MID('COVER SHEET'!$I$18,6,10)=\"june\",\"0630\"))","v":"20241231"},{"$f":"+'Incoming Remittances (Volume)'!G65","v":0}]
["CMREM_11500","CY",{"$f":"+'Incoming Remittances (Volume)'!$G$5","v":"20241031"},{"$f":"+'COVER SHEET'!$D$12","v":0},11500,{"$f":"'COVER SHEET'!$D$16&IF(MID('COVER SHEET'!$I$18,6,10)=\"december\",\"1231\",IF(MID('COVER SHEET'!$I$18,6,10)=\"june\",\"0630\"))","v":"20241231"},{"$f":"+'Incoming Remittances (Volume)'!G66","v":0}]
["CMREM_11500","CZ",{"$f":"+'Incoming Remittances (Volume)'!$G$5","v":"20241031"},{"$f":"+'COVER SHEET'!$D$12","v":0},11500,{"$f":"'COVER SHEET'!$D$16&IF(MID('COVER SHEET'!$I$18,6,10)=\"december\",\"1231\",IF(MID('COVER SHEET'!$I$18,6,10)=\"june\",\"0630\"))","v":"20241231"},{"$f":"+'Incoming Remittances (Volume)'!G67","v":0}]
["CMREM_11500","DK",{"$f":"+'Incoming Remittances (Volume)'!$G$5","v":"20241031"},{"$f":"+'COVER SHEET'!$D$12","v":0},11500,{"$f":"'COVER SHEET'!$D$16&IF(MID('COVER SHEET'!$I$18,6,10)=\"december\",\"1231\",IF(MID('COVER SHEET'!$I$18,6,10)=\"june\",\"0630\"))","v":"20241231"},{"$f":"+'Incoming Remittances (Volume)'!G68","v":0}]
["CMREM_11500","DJ",{"$f":"+'Incoming Remittances (Volume)'!$G$5","v":"20241031"},{"$f":"+'COVER SHEET'!$D$12","v":0},11500,{"$f":"'COVER SHEET'!$D$16&IF(MID('COVER SHEET'!$I$18,6,10)=\"december\",\"1231\",IF(MID('COVER SHEET'!$I$18,6,10)=\"june\",\"0630\"))","v":"20241231"},{"$f":"+'Incoming Remittances (Volume)'!G69","v":0}]
["CMREM_11500","DM",{"$f":"+'Incoming Remittances (Volume)'!$G$5","v":"20241031"},{"$f":"+'COVER SHEET'!$D$12","v":0},11500,{"$f":"'COVER SHEET'!$D$16&IF(MID('COVER SHEET'!$I$18,6,10)=\"december\",\"1231\",IF(MID('COVER SHEET'!$I$18,6,10)=\"june\",\"0630\"))","v":"20241231"},{"$f":"+'Incoming Remittances (Volume)'!G70","v":0}]
["CMREM_11500","DO",{"$f":"+'Incoming Remittances (Volume)'!$G$5","v":"20241031"},{"$f":"+'COVER SHEET'!$D$12","v":0},11500,{"$f":"'COVER SHEET'!$D$16&IF(MID('COVER SHEET'!$I$18,6,10)=\"december\",\"1231\",IF(MID('COVER SHEET'!$I$18,6,10)=\"june\",\"0630\"))","v":"20241231"},{"$f":"+'Incoming Remittances (Volume)'!G71","v":0}]
["CMREM_11500","TL",{"$f":"+'Incoming Remittances (Volume)'!$G$5","v":"20241031"},{"$f":"+'COVER SHEET'!$D$12","v":0},11500,{"$f":"'COVER SHEET'!$D$16&IF(MID('COVER SHEET'!$I$18,6,10)=\"december\",\"1231\",IF(MID('COVER SHEET'!$I$18,6,10)=\"june\",\"0630\"))","v":"20241231"},{"$f":"+'Incoming Remittances (Volume)'!G72","v":0}]
["CMREM_11500","EC",{"$f":"+'Incoming Remittances (Volume)'!$G$5","v":"20241031"},{"$f":"+'COVER SHEET'!$D$12","v":0},11500,{"$f":"'COVER SHEET'!$D$16&IF(MID('COVER SHEET'!$I$18,6,10)=\"december\",\"1231\",IF(MID('COVER SHEET'!$I$18,6,10)=\"june\",\"0630\"))","v":"20241231"},{"$f":"+'Incoming Remittances (Volume)'!G73","v":0}]
["CMREM_11500","EG",{"$f":"+'Incoming Remittances (Volume)'!$G$5","v":"20241031"},{"$f":"+'COVER SHEET'!$D$12","v":0},11500,{"$f":"'COVER SHEET'!$D$16&IF(MID('COVER SHEET'!$I$18,6,10)=\"december\",\"1231\",IF(MID('COVER SHEET'!$I$18,6,10)=\"june\",\"0630\"))","v":"20241231"},{"$f":"+'Incoming Remittances (Volume)'!G74","v":0}]
["CMREM_11500","SV",{"$f":"+'Incoming Remittances (Volume)'!$G$5","v":"20241031"},{"$f":"+'COVER SHEET'!$D$12","v":0},11500,{"$f":"'COVER SHEET'!$D$16&IF(MID('COVER SHEET'!$I$18,6,10)=\"december\",\"1231\",IF(MID('COVER SHEET'!$I$18,6,10)=\"june\",\"0630\"))","v":"20241231"},{"$f":"+'Incoming Remittances (Volume)'!G75","v":0}]
["CMREM_11500","GQ",{"$f":"+'Incoming Remittances (Volume)'!$G$5","v":"20241031"},{"$f":"+'COVER SHEET'!$D$12","v":0},11500,{"$f":"'COVER SHEET'!$D$16&IF(MID('COVER SHEET'!$I$18,6,10)=\"december\",\"1231\",IF(MID('COVER SHEET'!$I$18,6,10)=\"june\",\"0630\"))","v":"20241231"},{"$f":"+'Incoming Remittances (Volume)'!G76","v":0}]
["CMREM_11500","ER",{"$f":"+'Incoming Remittances (Volume)'!$G$5","v":"20241031"},{"$f":"+'COVER SHEET'!$D$12","v":0},11500,{"$f":"'COVER SHEET'!$D$16&IF(MID('COVER SHEET'!$I$18,6,10)=\"december\",\"1231\",IF(MID('COVER SHEET'!$I$18,6,10)=\"june\",\"0630\"))","v":"20241231"},{"$f":"+'Incoming Remittances (Volume)'!G77","v":0}]
["CMREM_11500","EE",{"$f":"+'Incoming Remittances (Volume)'!$G$5","v":"20241031"},{"$f":"+'COVER SHEET'!$D$12","v":0},11500,{"$f":"'COVER SHEET'!$D$16&IF(MID('COVER SHEET'!$I$18,6,10)=\"december\",\"1231\",IF(MID('COVER SHEET'!$I$18,6,10)=\"june\",\"0630\"))","v":"20241231"},{"$f":"+'Incoming Remittances (Volume)'!G78","v":0}]
["CMREM_11500","ET",{"$f":"+'Incoming Remittances (Volume)'!$G$5","v":"20241031"},{"$f":"+'COVER SHEET'!$D$12","v":0},11500,{"$f":"'COVER SHEET'!$D$16&IF(MID('COVER SHEET'!$I$18,6,10)=\"december\",\"1231\",IF(MID('COVER SHEET'!$I$18,6,10)=\"june\",\"0630\"))","v":"20241231"},{"$f":"+'Incoming Remittances (Volume)'!G79","v":0}]
["CMREM_11500","FK",{"$f":"+'Incoming Remittances (Volume)'!$G$5","v":"20241031"},{"$f":"+'COVER SHEET'!$D$12","v":0},11500,{"$f":"'COVER SHEET'!$D$16&IF(MID('COVER SHEET'!$I$18,6,10)=\"december\",\"1231\",IF(MID('COVER SHEET'!$I$18,6,10)=\"june\",\"0630\"))","v":"20241231"},{"$f":"+'Incoming Remittances (Volume)'!G80","v":0}]
["CMREM_11500","FO",{"$f":"+'Incoming Remittances (Volume)'!$G$5","v":"20241031"},{"$f":"+'COVER SHEET'!$D$12","v":0},11500,{"$f":"'COVER SHEET'!$D$16&IF(MID('COVER SHEET'!$I$18,6,10)=\"december\",\"1231\",IF(MID('COVER SHEET'!$I$18,6,10)=\"june\",\"0630\"))","v":"20241231"},{"$f":"+'Incoming Remittances (Volume)'!G81","v":0}]
["CMREM_11500","FJ",{"$f":"+'Incoming Remittances (Volume)'!$G$5","v":"20241031"},{"$f":"+'COVER SHEET'!$D$12","v":0},11500,{"$f":"'COVER SHEET'!$D$16&IF(MID('COVER SHEET'!$I$18,6,10)=\"december\",\"1231\",IF(MID('COVER SHEET'!$I$18,6,10)=\"june\",\"0630\"))","v":"20241231"},{"$f":"+'Incoming Remittances (Volume)'!G82","v":0}]
["CMREM_11500","FI",{"$f":"+'Incoming Remittances (Volume)'!$G$5","v":"20241031"},{"$f":"+'COVER SHEET'!$D$12","v":0},11500,{"$f":"'COVER SHEET'!$D$16&IF(MID('COVER SHEET'!$I$18,6,10)=\"december\",\"1231\",IF(MID('COVER SHEET'!$I$18,6,10)=\"june\",\"0630\"))","v":"20241231"},{"$f":"+'Incoming Remittances (Volume)'!G83","v":0}]
["CMREM_11500","FR",{"$f":"+'Incoming Remittances (Volume)'!$G$5","v":"20241031"},{"$f":"+'COVER SHEET'!$D$12","v":0},11500,{"$f":"'COVER SHEET'!$D$16&IF(MID('COVER SHEET'!$I$18,6,10)=\"december\",\"1231\",IF(MID('COVER SHEET'!$I$18,6,10)=\"june\",\"0630\"))","v":"20241231"},{"$f":"+'Incoming Remittances (Volume)'!G84","v":0}]
["CMREM_11500","PF",{"$f":"+'Incoming Remittances (Volume)'!$G$5","v":"20241031"},{"$f":"+'COVER SHEET'!$D$12","v":0},11500,{"$f":"'COVER SHEET'!$D$16&IF(MID('COVER SHEET'!$I$18,6,10)=\"december\",\"1231\",IF(MID('COVER SHEET'!$I$18,6,10)=\"june\",\"0630\"))","v":"20241231"},{"$f":"+'Incoming Remittances (Volume)'!G85","v":0}]
["CMREM_11500","TF",{"$f":"+'Incoming Remittances (Volume)'!$G$5","v":"20241031"},{"$f":"+'COVER SHEET'!$D$12","v":0},11500,{"$f":"'COVER SHEET'!$D$16&IF(MID('COVER SHEET'!$I$18,6,10)=\"december\",\"1231\",IF(MID('COVER SHEET'!$I$18,6,10)=\"june\",\"0630\"))","v":"20241231"},{"$f":"+'Incoming Remittances (Volume)'!G86","v":0}]
["CMREM_11500","GA",{"$f":"+'Incoming Remittances (Volume)'!$G$5","v":"20241031"},{"$f":"+'COVER SHEET'!$D$12","v":0},11500,{"$f":"'COVER SHEET'!$D$16&IF(MID('COVER SHEET'!$I$18,6,10)=\"december\",\"1231\",IF(MID('COVER SHEET'!$I$18,6,10)=\"june\",\"0630\"))","v":"20241231"},{"$f":"+'Incoming Remittances (Volume)'!G87","v":0}]
["CMREM_11500","GM",{"$f":"+'Incoming Remittances (Volume)'!$G$5","v":"20241031"},{"$f":"+'COVER SHEET'!$D$12","v":0},11500,{"$f":"'COVER SHEET'!$D$16&IF(MID('COVER SHEET'!$I$18,6,10)=\"december\",\"1231\",IF(MID('COVER SHEET'!$I$18,6,10)=\"june\",\"0630\"))","v":"20241231"},{"$f":"+'Incoming Remittances (Volume)'!G88","v":0}]
["CMREM_11500","GE",{"$f":"+'Incoming Remittances (Volume)'!$G$5","v":"20241031"},{"$f":"+'COVER SHEET'!$D$12","v":0},11500,{"$f":"'COVER SHEET'!$D$16&IF(MID('COVER SHEET'!$I$18,6,10)=\"december\",\"1231\",IF(MID('COVER SHEET'!$I$18,6,10)=\"june\",\"0630\"))","v":"20241231"},{"$f":"+'Incoming Remittances (Volume)'!G89","v":0}]
["CMREM_11500","DE",{"$f":"+'Incoming Remittances (Volume)'!$G$5","v":"20241031"},{"$f":"+'COVER SHEET'!$D$12","v":0},11500,{"$f":"'COVER SHEET'!$D$16&IF(MID('COVER SHEET'!$I$18,6,10)=\"december\",\"1231\",IF(MID('COVER SHEET'!$I$18,6,10)=\"june\",\"0630\"))","v":"20241231"},{"$f":"+'Incoming Remittances (Volume)'!G90","v":0}]
["CMREM_11500","GH",{"$f":"+'Incoming Remittances (Volume)'!$G$5","v":"20241031"},{"$f":"+'COVER SHEET'!$D$12","v":0},11500,{"$f":"'COVER SHEET'!$D$16&IF(MID('COVER SHEET'!$I$18,6,10)=\"december\",\"1231\",IF(MID('COVER SHEET'!$I$18,6,10)=\"june\",\"0630\"))","v":"20241231"},{"$f":"+'Incoming Remittances (Volume)'!G91","v":0}]
["CMREM_11500","GI",{"$f":"+'Incoming Remittances (Volume)'!$G$5","v":"20241031"},{"$f":"+'COVER SHEET'!$D$12","v":0},11500,{"$f":"'COVER SHEET'!$D$16&IF(MID('COVER SHEET'!$I$18,6,10)=\"december\",\"1231\",IF(MID('COVER SHEET'!$I$18,6,10)=\"june\",\"0630\"))","v":"20241231"},{"$f":"+'Incoming Remittances (Volume)'!G92","v":0}]
["CMREM_11500","GR",{"$f":"+'Incoming Remittances (Volume)'!$G$5","v":"20241031"},{"$f":"+'COVER SHEET'!$D$12","v":0},11500,{"$f":"'COVER SHEET'!$D$16&IF(MID('COVER SHEET'!$I$18,6,10)=\"december\",\"1231\",IF(MID('COVER SHEET'!$I$18,6,10)=\"june\",\"0630\"))","v":"20241231"},{"$f":"+'Incoming Remittances (Volume)'!G93","v":0}]
["CMREM_11500","GL",{"$f":"+'Incoming Remittances (Volume)'!$G$5","v":"20241031"},{"$f":"+'COVER SHEET'!$D$12","v":0},11500,{"$f":"'COVER SHEET'!$D$16&IF(MID('COVER SHEET'!$I$18,6,10)=\"december\",\"1231\",IF(MID('COVER SHEET'!$I$18,6,10)=\"june\",\"0630\"))","v":"20241231"},{"$f":"+'Incoming Remittances (Volume)'!G94","v":0}]
["CMREM_11500","GD",{"$f":"+'Incoming Remittances (Volume)'!$G$5","v":"20241031"},{"$f":"+'COVER SHEET'!$D$12","v":0},11500,{"$f":"'COVER SHEET'!$D$16&IF(MID('COVER SHEET'!$I$18,6,10)=\"december\",\"1231\",IF(MID('COVER SHEET'!$I$18,6,10)=\"june\",\"0630\"))","v":"20241231"},{"$f":"+'Incoming Remittances (Volume)'!G95","v":0}]
["CMREM_11500","GU",{"$f":"+'Incoming Remittances (Volume)'!$G$5","v":"20241031"},{"$f":"+'COVER SHEET'!$D$12","v":0},11500,{"$f":"'COVER SHEET'!$D$16&IF(MID('COVER SHEET'!$I$18,6,10)=\"december\",\"1231\",IF(MID('COVER SHEET'!$I$18,6,10)=\"june\",\"0630\"))","v":"20241231"},{"$f":"+'Incoming Remittances (Volume)'!G96","v":0}]
["CMREM_11500","GT",{"$f":"+'Incoming Remittances (Volume)'!$G$5","v":"20241031"},{"$f":"+'COVER SHEET'!$D$12","v":0},11500,{"$f":"'COVER SHEET'!$D$16&IF(MID('COVER SHEET'!$I$18,6,10)=\"december\",\"1231\",IF(MID('COVER SHEET'!$I$18,6,10)=\"june\",\"0630\"))","v":"20241231"},{"$f":"+'Incoming Remittances (Volume)'!G97","v":0}]
["CMREM_11500","GG",{"$f":"+'Incoming Remittances (Volume)'!$G$5","v":"20241031"},{"$f":"+'COVER SHEET'!$D$12","v":0},11500,{"$f":"'COVER SHEET'!$D$16&IF(MID('COVER SHEET'!$I$18,6,10)=\"december\",\"1231\",IF(MID('COVER SHEET'!$I$18,6,10)=\"june\",\"0630\"))","v":"20241231"},{"$f":"+'Incoming Remittances (Volume)'!G98","v":0}]
["CMREM_11500","GN",{"$f":"+'Incoming Remittances (Volume)'!$G$5","v":"20241031"},{"$f":"+'COVER SHEET'!$D$12","v":0},11500,{"$f":"'COVER SHEET'!$D$16&IF(MID('COVER SHEET'!$I$18,6,10)=\"december\",\"1231\",IF(MID('COVER SHEET'!$I$18,6,10)=\"june\",\"0630\"))","v":"20241231"},{"$f":"+'Incoming Remittances (Volume)'!G99","v":0}]
["CMREM_11500","GW",{"$f":"+'Incoming Remittances (Volume)'!$G$5","v":"20241031"},{"$f":"+'COVER SHEET'!$D$12","v":0},11500,{"$f":"'COVER SHEET'!$D$16&IF(MID('COVER SHEET'!$I$18,6,10)=\"december\",\"1231\",IF(MID('COVER SHEET'!$I$18,6,10)=\"june\",\"0630\"))","v":"20241231"},{"$f":"+'Incoming Remittances (Volume)'!G100","v":0}]
["CMREM_11500","GY",{"$f":"+'Incoming Remittances (Volume)'!$G$5","v":"20241031"},{"$f":"+'COVER SHEET'!$D$12","v":0},11500,{"$f":"'COVER SHEET'!$D$16&IF(MID('COVER SHEET'!$I$18,6,10)=\"december\",\"1231\",IF(MID('COVER SHEET'!$I$18,6,10)=\"june\",\"0630\"))","v":"20241231"},{"$f":"+'Incoming Remittances (Volume)'!G101","v":0}]
["CMREM_11500","HT",{"$f":"+'Incoming Remittances (Volume)'!$G$5","v":"20241031"},{"$f":"+'COVER SHEET'!$D$12","v":0},11500,{"$f":"'COVER SHEET'!$D$16&IF(MID('COVER SHEET'!$I$18,6,10)=\"december\",\"1231\",IF(MID('COVER SHEET'!$I$18,6,10)=\"june\",\"0630\"))","v":"20241231"},{"$f":"+'Incoming Remittances (Volume)'!G102","v":0}]
["CMREM_11500","HM",{"$f":"+'Incoming Remittances (Volume)'!$G$5","v":"20241031"},{"$f":"+'COVER SHEET'!$D$12","v":0},11500,{"$f":"'COVER SHEET'!$D$16&IF(MID('COVER SHEET'!$I$18,6,10)=\"december\",\"1231\",IF(MID('COVER SHEET'!$I$18,6,10)=\"june\",\"0630\"))","v":"20241231"},{"$f":"+'Incoming Remittances (Volume)'!G103","v":0}]
["CMREM_11500","VA",{"$f":"+'Incoming Remittances (Volume)'!$G$5","v":"20241031"},{"$f":"+'COVER SHEET'!$D$12","v":0},11500,{"$f":"'COVER SHEET'!$D$16&IF(MID('COVER SHEET'!$I$18,6,10)=\"december\",\"1231\",IF(MID('COVER SHEET'!$I$18,6,10)=\"june\",\"0630\"))","v":"20241231"},{"$f":"+'Incoming Remittances (Volume)'!G104","v":0}]
["CMREM_11500","HN",{"$f":"+'Incoming Remittances (Volume)'!$G$5","v":"20241031"},{"$f":"+'COVER SHEET'!$D$12","v":0},11500,{"$f":"'COVER SHEET'!$D$16&IF(MID('COVER SHEET'!$I$18,6,10)=\"december\",\"1231\",IF(MID('COVER SHEET'!$I$18,6,10)=\"june\",\"0630\"))","v":"20241231"},{"$f":"+'Incoming Remittances (Volume)'!G105","v":0}]
["CMREM_11500","HK",{"$f":"+'Incoming Remittances (Volume)'!$G$5","v":"20241031"},{"$f":"+'COVER SHEET'!$D$12","v":0},11500,{"$f":"'COVER SHEET'!$D$16&IF(MID('COVER SHEET'!$I$18,6,10)=\"december\",\"1231\",IF(MID('COVER SHEET'!$I$18,6,10)=\"june\",\"0630\"))","v":"20241231"},{"$f":"+'Incoming Remittances (Volume)'!G106","v":0}]
["CMREM_11500","HU",{"$f":"+'Incoming Remittances (Volume)'!$G$5","v":"20241031"},{"$f":"+'COVER SHEET'!$D$12","v":0},11500,{"$f":"'COVER SHEET'!$D$16&IF(MID('COVER SHEET'!$I$18,6,10)=\"december\",\"1231\",IF(MID('COVER SHEET'!$I$18,6,10)=\"june\",\"0630\"))","v":"20241231"},{"$f":"+'Incoming Remittances (Volume)'!G107","v":0}]
["CMREM_11500","IS",{"$f":"+'Incoming Remittances (Volume)'!$G$5","v":"20241031"},{"$f":"+'COVER SHEET'!$D$12","v":0},11500,{"$f":"'COVER SHEET'!$D$16&IF(MID('COVER SHEET'!$I$18,6,10)=\"december\",\"1231\",IF(MID('COVER SHEET'!$I$18,6,10)=\"june\",\"0630\"))","v":"20241231"},{"$f":"+'Incoming Remittances (Volume)'!G108","v":0}]
["CMREM_11500","IN",{"$f":"+'Incoming Remittances (Volume)'!$G$5","v":"20241031"},{"$f":"+'COVER SHEET'!$D$12","v":0},11500,{"$f":"'COVER SHEET'!$D$16&IF(MID('COVER SHEET'!$I$18,6,10)=\"december\",\"1231\",IF(MID('COVER SHEET'!$I$18,6,10)=\"june\",\"0630\"))","v":"20241231"},{"$f":"+'Incoming Remittances (Volume)'!G109","v":0}]
["CMREM_11500","ID",{"$f":"+'Incoming Remittances (Volume)'!$G$5","v":"20241031"},{"$f":"+'COVER SHEET'!$D$12","v":0},11500,{"$f":"'COVER SHEET'!$D$16&IF(MID('COVER SHEET'!$I$18,6,10)=\"december\",\"1231\",IF(MID('COVER SHEET'!$I$18,6,10)=\"june\",\"0630\"))","v":"20241231"},{"$f":"+'Incoming Remittances (Volume)'!G110","v":0}]
["CMREM_11500","IR",{"$f":"+'Incoming Remittances (Volume)'!$G$5","v":"20241031"},{"$f":"+'COVER SHEET'!$D$12","v":0},11500,{"$f":"'COVER SHEET'!$D$16&IF(MID('COVER SHEET'!$I$18,6,10)=\"december\",\"1231\",IF(MID('COVER SHEET'!$I$18,6,10)=\"june\",\"0630\"))","v":"20241231"},{"$f":"+'Incoming Remittances (Volume)'!G111","v":0}]
["CMREM_11500","IQ",{"$f":"+'Incoming Remittances (Volume)'!$G$5","v":"20241031"},{"$f":"+'COVER SHEET'!$D$12","v":0},11500,{"$f":"'COVER SHEET'!$D$16&IF(MID('COVER SHEET'!$I$18,6,10)=\"december\",\"1231\",IF(MID('COVER SHEET'!$I$18,6,10)=\"june\",\"0630\"))","v":"20241231"},{"$f":"+'Incoming Remittances (Volume)'!G112","v":0}]
["CMREM_11500","IE",{"$f":"+'Incoming Remittances (Volume)'!$G$5","v":"20241031"},{"$f":"+'COVER SHEET'!$D$12","v":0},11500,{"$f":"'COVER SHEET'!$D$16&IF(MID('COVER SHEET'!$I$18,6,10)=\"december\",\"1231\",IF(MID('COVER SHEET'!$I$18,6,10)=\"june\",\"0630\"))","v":"20241231"},{"$f":"+'Incoming Remittances (Volume)'!G113","v":0}]
["CMREM_11500","IM",{"$f":"+'Incoming Remittances (Volume)'!$G$5","v":"20241031"},{"$f":"+'COVER SHEET'!$D$12","v":0},11500,{"$f":"'COVER SHEET'!$D$16&IF(MID('COVER SHEET'!$I$18,6,10)=\"december\",\"1231\",IF(MID('COVER SHEET'!$I$18,6,10)=\"june\",\"0630\"))","v":"20241231"},{"$f":"+'Incoming Remittances (Volume)'!G114","v":0}]
["CMREM_11500","IL",{"$f":"+'Incoming Remittances (Volume)'!$G$5","v":"20241031"},{"$f":"+'COVER SHEET'!$D$12","v":0},11500,{"$f":"'COVER SHEET'!$D$16&IF(MID('COVER SHEET'!$I$18,6,10)=\"december\",\"1231\",IF(MID('COVER SHEET'!$I$18,6,10)=\"june\",\"0630\"))","v":"20241231"},{"$f":"+'Incoming Remittances (Volume)'!G115","v":0}]
["CMREM_11500","IT",{"$f":"+'Incoming Remittances (Volume)'!$G$5","v":"20241031"},{"$f":"+'COVER SHEET'!$D$12","v":0},11500,{"$f":"'COVER SHEET'!$D$16&IF(MID('COVER SHEET'!$I$18,6,10)=\"december\",\"1231\",IF(MID('COVER SHEET'!$I$18,6,10)=\"june\",\"0630\"))","v":"20241231"},{"$f":"+'Incoming Remittances (Volume)'!G116","v":0}]
["CMREM_11500","CI",{"$f":"+'Incoming Remittances (Volume)'!$G$5","v":"20241031"},{"$f":"+'COVER SHEET'!$D$12","v":0},11500,{"$f":"'COVER SHEET'!$D$16&IF(MID('COVER SHEET'!$I$18,6,10)=\"december\",\"1231\",IF(MID('COVER SHEET'!$I$18,6,10)=\"june\",\"0630\"))","v":"20241231"},{"$f":"+'Incoming Remittances (Volume)'!G117","v":0}]
["CMREM_11500","JM",{"$f":"+'Incoming Remittances (Volume)'!$G$5","v":"20241031"},{"$f":"+'COVER SHEET'!$D$12","v":0},11500,{"$f":"'COVER SHEET'!$D$16&IF(MID('COVER SHEET'!$I$18,6,10)=\"december\",\"1231\",IF(MID('COVER SHEET'!$I$18,6,10)=\"june\",\"0630\"))","v":"20241231"},{"$f":"+'Incoming Remittances (Volume)'!G118","v":0}]
["CMREM_11500","JP",{"$f":"+'Incoming Remittances (Volume)'!$G$5","v":"20241031"},{"$f":"+'COVER SHEET'!$D$12","v":0},11500,{"$f":"'COVER SHEET'!$D$16&IF(MID('COVER SHEET'!$I$18,6,10)=\"december\",\"1231\",IF(MID('COVER SHEET'!$I$18,6,10)=\"june\",\"0630\"))","v":"20241231"},{"$f":"+'Incoming Remittances (Volume)'!G119","v":0}]
["CMREM_11500","JE",{"$f":"+'Incoming Remittances (Volume)'!$G$5","v":"20241031"},{"$f":"+'COVER SHEET'!$D$12","v":0},11500,{"$f":"'COVER SHEET'!$D$16&IF(MID('COVER SHEET'!$I$18,6,10)=\"december\",\"1231\",IF(MID('COVER SHEET'!$I$18,6,10)=\"june\",\"0630\"))","v":"20241231"},{"$f":"+'Incoming Remittances (Volume)'!G120","v":0}]
["CMREM_11500","JO",{"$f":"+'Incoming Remittances (Volume)'!$G$5","v":"20241031"},{"$f":"+'COVER SHEET'!$D$12","v":0},11500,{"$f":"'COVER SHEET'!$D$16&IF(MID('COVER SHEET'!$I$18,6,10)=\"december\",\"1231\",IF(MID('COVER SHEET'!$I$18,6,10)=\"june\",\"0630\"))","v":"20241231"},{"$f":"+'Incoming Remittances (Volume)'!G121","v":0}]
["CMREM_11500","KZ",{"$f":"+'Incoming Remittances (Volume)'!$G$5","v":"20241031"},{"$f":"+'COVER SHEET'!$D$12","v":0},11500,{"$f":"'COVER SHEET'!$D$16&IF(MID('COVER SHEET'!$I$18,6,10)=\"december\",\"1231\",IF(MID('COVER SHEET'!$I$18,6,10)=\"june\",\"0630\"))","v":"20241231"},{"$f":"+'Incoming Remittances (Volume)'!G122","v":0}]
["CMREM_11500","KE",{"$f":"+'Incoming Remittances (Volume)'!$G$5","v":"20241031"},{"$f":"+'COVER SHEET'!$D$12","v":0},11500,{"$f":"'COVER SHEET'!$D$16&IF(MID('COVER SHEET'!$I$18,6,10)=\"december\",\"1231\",IF(MID('COVER SHEET'!$I$18,6,10)=\"june\",\"0630\"))","v":"20241231"},{"$f":"+'Incoming Remittances (Volume)'!G123","v":0}]
["CMREM_11500","KI",{"$f":"+'Incoming Remittances (Volume)'!$G$5","v":"20241031"},{"$f":"+'COVER SHEET'!$D$12","v":0},11500,{"$f":"'COVER SHEET'!$D$16&IF(MID('COVER SHEET'!$I$18,6,10)=\"december\",\"1231\",IF(MID('COVER SHEET'!$I$18,6,10)=\"june\",\"0630\"))","v":"20241231"},{"$f":"+'Incoming Remittances (Volume)'!G124","v":0}]
["CMREM_11500","KP",{"$f":"+'Incoming Remittances (Volume)'!$G$5","v":"20241031"},{"$f":"+'COVER SHEET'!$D$12","v":0},11500,{"$f":"'COVER SHEET'!$D$16&IF(MID('COVER SHEET'!$I$18,6,10)=\"december\",\"1231\",IF(MID('COVER SHEET'!$I$18,6,10)=\"june\",\"0630\"))","v":"20241231"},{"$f":"+'Incoming Remittances (Volume)'!G125","v":0}]
["CMREM_11500","KR",{"$f":"+'Incoming Remittances (Volume)'!$G$5","v":"20241031"},{"$f":"+'COVER SHEET'!$D$12","v":0},11500,{"$f":"'COVER SHEET'!$D$16&IF(MID('COVER SHEET'!$I$18,6,10)=\"december\",\"1231\",IF(MID('COVER SHEET'!$I$18,6,10)=\"june\",\"0630\"))","v":"20241231"},{"$f":"+'Incoming Remittances (Volume)'!G126","v":0}]
["CMREM_11500","XK",{"$f":"+'Incoming Remittances (Volume)'!$G$5","v":"20241031"},{"$f":"+'COVER SHEET'!$D$12","v":0},11500,{"$f":"'COVER SHEET'!$D$16&IF(MID('COVER SHEET'!$I$18,6,10)=\"december\",\"1231\",IF(MID('COVER SHEET'!$I$18,6,10)=\"june\",\"0630\"))","v":"20241231"},{"$f":"+'Incoming Remittances (Volume)'!G127","v":0}]
["CMREM_11500","KW",{"$f":"+'Incoming Remittances (Volume)'!$G$5","v":"20241031"},{"$f":"+'COVER SHEET'!$D$12","v":0},11500,{"$f":"'COVER SHEET'!$D$16&IF(MID('COVER SHEET'!$I$18,6,10)=\"december\",\"1231\",IF(MID('COVER SHEET'!$I$18,6,10)=\"june\",\"0630\"))","v":"20241231"},{"$f":"+'Incoming Remittances (Volume)'!G128","v":0}]
["CMREM_11500","KG",{"$f":"+'Incoming Remittances (Volume)'!$G$5","v":"20241031"},{"$f":"+'COVER SHEET'!$D$12","v":0},11500,{"$f":"'COVER SHEET'!$D$16&IF(MID('COVER SHEET'!$I$18,6,10)=\"december\",\"1231\",IF(MID('COVER SHEET'!$I$18,6,10)=\"june\",\"0630\"))","v":"20241231"},{"$f":"+'Incoming Remittances (Volume)'!G129","v":0}]
["CMREM_11500","LA",{"$f":"+'Incoming Remittances (Volume)'!$G$5","v":"20241031"},{"$f":"+'COVER SHEET'!$D$12","v":0},11500,{"$f":"'COVER SHEET'!$D$16&IF(MID('COVER SHEET'!$I$18,6,10)=\"december\",\"1231\",IF(MID('COVER SHEET'!$I$18,6,10)=\"june\",\"0630\"))","v":"20241231"},{"$f":"+'Incoming Remittances (Volume)'!G130","v":0}]
["CMREM_11500","LV",{"$f":"+'Incoming Remittances (Volume)'!$G$5","v":"20241031"},{"$f":"+'COVER SHEET'!$D$12","v":0},11500,{"$f":"'COVER SHEET'!$D$16&IF(MID('COVER SHEET'!$I$18,6,10)=\"december\",\"1231\",IF(MID('COVER SHEET'!$I$18,6,10)=\"june\",\"0630\"))","v":"20241231"},{"$f":"+'Incoming Remittances (Volume)'!G131","v":0}]
["CMREM_11500","LB",{"$f":"+'Incoming Remittances (Volume)'!$G$5","v":"20241031"},{"$f":"+'COVER SHEET'!$D$12","v":0},11500,{"$f":"'COVER SHEET'!$D$16&IF(MID('COVER SHEET'!$I$18,6,10)=\"december\",\"1231\",IF(MID('COVER SHEET'!$I$18,6,10)=\"june\",\"0630\"))","v":"20241231"},{"$f":"+'Incoming Remittances (Volume)'!G132","v":0}]
["CMREM_11500","LS",{"$f":"+'Incoming Remittances (Volume)'!$G$5","v":"20241031"},{"$f":"+'COVER SHEET'!$D$12","v":0},11500,{"$f":"'COVER SHEET'!$D$16&IF(MID('COVER SHEET'!$I$18,6,10)=\"december\",\"1231\",IF(MID('COVER SHEET'!$I$18,6,10)=\"june\",\"0630\"))","v":"20241231"},{"$f":"+'Incoming Remittances (Volume)'!G133","v":0}]
["CMREM_11500","LR",{"$f":"+'Incoming Remittances (Volume)'!$G$5","v":"20241031"},{"$f":"+'COVER SHEET'!$D$12","v":0},11500,{"$f":"'COVER SHEET'!$D$16&IF(MID('COVER SHEET'!$I$18,6,10)=\"december\",\"1231\",IF(MID('COVER SHEET'!$I$18,6,10)=\"june\",\"0630\"))","v":"20241231"},{"$f":"+'Incoming Remittances (Volume)'!G134","v":0}]
["CMREM_11500","LY",{"$f":"+'Incoming Remittances (Volume)'!$G$5","v":"20241031"},{"$f":"+'COVER SHEET'!$D$12","v":0},11500,{"$f":"'COVER SHEET'!$D$16&IF(MID('COVER SHEET'!$I$18,6,10)=\"december\",\"1231\",IF(MID('COVER SHEET'!$I$18,6,10)=\"june\",\"0630\"))","v":"20241231"},{"$f":"+'Incoming Remittances (Volume)'!G135","v":0}]
["CMREM_11500","LI",{"$f":"+'Incoming Remittances (Volume)'!$G$5","v":"20241031"},{"$f":"+'COVER SHEET'!$D$12","v":0},11500,{"$f":"'COVER SHEET'!$D$16&IF(MID('COVER SHEET'!$I$18,6,10)=\"december\",\"1231\",IF(MID('COVER SHEET'!$I$18,6,10)=\"june\",\"0630\"))","v":"20241231"},{"$f":"+'Incoming Remittances (Volume)'!G136","v":0}]
["CMREM_11500","LT",{"$f":"+'Incoming Remittances (Volume)'!$G$5","v":"20241031"},{"$f":"+'COVER SHEET'!$D$12","v":0},11500,{"$f":"'COVER SHEET'!$D$16&IF(MID('COVER SHEET'!$I$18,6,10)=\"december\",\"1231\",IF(MID('COVER SHEET'!$I$18,6,10)=\"june\",\"0630\"))","v":"20241231"},{"$f":"+'Incoming Remittances (Volume)'!G137","v":0}]
["CMREM_11500","LU",{"$f":"+'Incoming Remittances (Volume)'!$G$5","v":"20241031"},{"$f":"+'COVER SHEET'!$D$12","v":0},11500,{"$f":"'COVER SHEET'!$D$16&IF(MID('COVER SHEET'!$I$18,6,10)=\"december\",\"1231\",IF(MID('COVER SHEET'!$I$18,6,10)=\"june\",\"0630\"))","v":"20241231"},{"$f":"+'Incoming Remittances (Volume)'!G138","v":0}]
["CMREM_11500","MO",{"$f":"+'Incoming Remittances (Volume)'!$G$5","v":"20241031"},{"$f":"+'COVER SHEET'!$D$12","v":0},11500,{"$f":"'COVER SHEET'!$D$16&IF(MID('COVER SHEET'!$I$18,6,10)=\"december\",\"1231\",IF(MID('COVER SHEET'!$I$18,6,10)=\"june\",\"0630\"))","v":"20241231"},{"$f":"+'Incoming Remittances (Volume)'!G139","v":0}]
["CMREM_11500","MK",{"$f":"+'Incoming Remittances (Volume)'!$G$5","v":"20241031"},{"$f":"+'COVER SHEET'!$D$12","v":0},11500,{"$f":"'COVER SHEET'!$D$16&IF(MID('COVER SHEET'!$I$18,6,10)=\"december\",\"1231\",IF(MID('COVER SHEET'!$I$18,6,10)=\"june\",\"0630\"))","v":"20241231"},{"$f":"+'Incoming Remittances (Volume)'!G140","v":0}]
["CMREM_11500","MG",{"$f":"+'Incoming Remittances (Volume)'!$G$5","v":"20241031"},{"$f":"+'COVER SHEET'!$D$12","v":0},11500,{"$f":"'COVER SHEET'!$D$16&IF(MID('COVER SHEET'!$I$18,6,10)=\"december\",\"1231\",IF(MID('COVER SHEET'!$I$18,6,10)=\"june\",\"0630\"))","v":"20241231"},{"$f":"+'Incoming Remittances (Volume)'!G141","v":0}]
["CMREM_11500","MW",{"$f":"+'Incoming Remittances (Volume)'!$G$5","v":"20241031"},{"$f":"+'COVER SHEET'!$D$12","v":0},11500,{"$f":"'COVER SHEET'!$D$16&IF(MID('COVER SHEET'!$I$18,6,10)=\"december\",\"1231\",IF(MID('COVER SHEET'!$I$18,6,10)=\"june\",\"0630\"))","v":"20241231"},{"$f":"+'Incoming Remittances (Volume)'!G142","v":0}]
["CMREM_11500","MY",{"$f":"+'Incoming Remittances (Volume)'!$G$5","v":"20241031"},{"$f":"+'COVER SHEET'!$D$12","v":0},11500,{"$f":"'COVER SHEET'!$D$16&IF(MID('COVER SHEET'!$I$18,6,10)=\"december\",\"1231\",IF(MID('COVER SHEET'!$I$18,6,10)=\"june\",\"0630\"))","v":"20241231"},{"$f":"+'Incoming Remittances (Volume)'!G143","v":0}]
["CMREM_11500","MV",{"$f":"+'Incoming Remittances (Volume)'!$G$5","v":"20241031"},{"$f":"+'COVER SHEET'!$D$12","v":0},11500,{"$f":"'COVER SHEET'!$D$16&IF(MID('COVER SHEET'!$I$18,6,10)=\"december\",\"1231\",IF(MID('COVER SHEET'!$I$18,6,10)=\"june\",\"0630\"))","v":"20241231"},{"$f":"+'Incoming Remittances (Volume)'!G144","v":0}]
["CMREM_11500","ML",{"$f":"+'Incoming Remittances (Volume)'!$G$5","v":"20241031"},{"$f":"+'COVER SHEET'!$D$12","v":0},11500,{"$f":"'COVER SHEET'!$D$16&IF(MID('COVER SHEET'!$I$18,6,10)=\"december\",\"1231\",IF(MID('COVER SHEET'!$I$18,6,10)=\"june\",\"0630\"))","v":"20241231"},{"$f":"+'Incoming Remittances (Volume)'!G145","v":0}]
["CMREM_11500","MH",{"$f":"+'Incoming Remittances (Volume)'!$G$5","v":"20241031"},{"$f":"+'COVER SHEET'!$D$12","v":0},11500,{"$f":"'COVER SHEET'!$D$16&IF(MID('COVER SHEET'!$I$18,6,10)=\"december\",\"1231\",IF(MID('COVER SHEET'!$I$18,6,10)=\"june\",\"0630\"))","v":"20241231"},{"$f":"+'Incoming Remittances (Volume)'!G146","v":0}]
["CMREM_11500","MR",{"$f":"+'Incoming Remittances (Volume)'!$G$5","v":"20241031"},{"$f":"+'COVER SHEET'!$D$12","v":0},11500,{"$f":"'COVER SHEET'!$D$16&IF(MID('COVER SHEET'!$I$18,6,10)=\"december\",\"1231\",IF(MID('COVER SHEET'!$I$18,6,10)=\"june\",\"0630\"))","v":"20241231"},{"$f":"+'Incoming Remittances (Volume)'!G147","v":0}]
["CMREM_11500","MU",{"$f":"+'Incoming Remittances (Volume)'!$G$5","v":"20241031"},{"$f":"+'COVER SHEET'!$D$12","v":0},11500,{"$f":"'COVER SHEET'!$D$16&IF(MID('COVER SHEET'!$I$18,6,10)=\"december\",\"1231\",IF(MID('COVER SHEET'!$I$18,6,10)=\"june\",\"0630\"))","v":"20241231"},{"$f":"+'Incoming Remittances (Volume)'!G148","v":0}]
["CMREM_11500","MX",{"$f":"+'Incoming Remittances (Volume)'!$G$5","v":"20241031"},{"$f":"+'COVER SHEET'!$D$12","v":0},11500,{"$f":"'COVER SHEET'!$D$16&IF(MID('COVER SHEET'!$I$18,6,10)=\"december\",\"1231\",IF(MID('COVER SHEET'!$I$18,6,10)=\"june\",\"0630\"))","v":"20241231"},{"$f":"+'Incoming Remittances (Volume)'!G149","v":0}]
["CMREM_11500","FM",{"$f":"+'Incoming Remittances (Volume)'!$G$5","v":"20241031"},{"$f":"+'COVER SHEET'!$D$12","v":0},11500,{"$f":"'COVER SHEET'!$D$16&IF(MID('COVER SHEET'!$I$18,6,10)=\"december\",\"1231\",IF(MID('COVER SHEET'!$I$18,6,10)=\"june\",\"0630\"))","v":"20241231"},{"$f":"+'Incoming Remittances (Volume)'!G150","v":0}]
["CMREM_11500","MD",{"$f":"+'Incoming Remittances (Volume)'!$G$5","v":"20241031"},{"$f":"+'COVER SHEET'!$D$12","v":0},11500,{"$f":"'COVER SHEET'!$D$16&IF(MID('COVER SHEET'!$I$18,6,10)=\"december\",\"1231\",IF(MID('COVER SHEET'!$I$18,6,10)=\"june\",\"0630\"))","v":"20241231"},{"$f":"+'Incoming Remittances (Volume)'!G151","v":0}]
["CMREM_11500","MN",{"$f":"+'Incoming Remittances (Volume)'!$G$5","v":"20241031"},{"$f":"+'COVER SHEET'!$D$12","v":0},11500,{"$f":"'COVER SHEET'!$D$16&IF(MID('COVER SHEET'!$I$18,6,10)=\"december\",\"1231\",IF(MID('COVER SHEET'!$I$18,6,10)=\"june\",\"0630\"))","v":"20241231"},{"$f":"+'Incoming Remittances (Volume)'!G152","v":0}]
["CMREM_11500","ME",{"$f":"+'Incoming Remittances (Volume)'!$G$5","v":"20241031"},{"$f":"+'COVER SHEET'!$D$12","v":0},11500,{"$f":"'COVER SHEET'!$D$16&IF(MID('COVER SHEET'!$I$18,6,10)=\"december\",\"1231\",IF(MID('COVER SHEET'!$I$18,6,10)=\"june\",\"0630\"))","v":"20241231"},{"$f":"+'Incoming Remittances (Volume)'!G153","v":0}]
["CMREM_11500","MS",{"$f":"+'Incoming Remittances (Volume)'!$G$5","v":"20241031"},{"$f":"+'COVER SHEET'!$D$12","v":0},11500,{"$f":"'COVER SHEET'!$D$16&IF(MID('COVER SHEET'!$I$18,6,10)=\"december\",\"1231\",IF(MID('COVER SHEET'!$I$18,6,10)=\"june\",\"0630\"))","v":"20241231"},{"$f":"+'Incoming Remittances (Volume)'!G154","v":0}]
["CMREM_11500","MA",{"$f":"+'Incoming Remittances (Volume)'!$G$5","v":"20241031"},{"$f":"+'COVER SHEET'!$D$12","v":0},11500,{"$f":"'COVER SHEET'!$D$16&IF(MID('COVER SHEET'!$I$18,6,10)=\"december\",\"1231\",IF(MID('COVER SHEET'!$I$18,6,10)=\"june\",\"0630\"))","v":"20241231"},{"$f":"+'Incoming Remittances (Volume)'!G155","v":0}]
["CMREM_11500","MZ",{"$f":"+'Incoming Remittances (Volume)'!$G$5","v":"20241031"},{"$f":"+'COVER SHEET'!$D$12","v":0},11500,{"$f":"'COVER SHEET'!$D$16&IF(MID('COVER SHEET'!$I$18,6,10)=\"december\",\"1231\",IF(MID('COVER SHEET'!$I$18,6,10)=\"june\",\"0630\"))","v":"20241231"},{"$f":"+'Incoming Remittances (Volume)'!G156","v":0}]
["CMREM_11500","MM",{"$f":"+'Incoming Remittances (Volume)'!$G$5","v":"20241031"},{"$f":"+'COVER SHEET'!$D$12","v":0},11500,{"$f":"'COVER SHEET'!$D$16&IF(MID('COVER SHEET'!$I$18,6,10)=\"december\",\"1231\",IF(MID('COVER SHEET'!$I$18,6,10)=\"june\",\"0630\"))","v":"20241231"},{"$f":"+'Incoming Remittances (Volume)'!G157","v":0}]
["CMREM_11500","NA",{"$f":"+'Incoming Remittances (Volume)'!$G$5","v":"20241031"},{"$f":"+'COVER SHEET'!$D$12","v":0},11500,{"$f":"'COVER SHEET'!$D$16&IF(MID('COVER SHEET'!$I$18,6,10)=\"december\",\"1231\",IF(MID('COVER SHEET'!$I$18,6,10)=\"june\",\"0630\"))","v":"20241231"},{"$f":"+'Incoming Remittances (Volume)'!G158","v":0}]
["CMREM_11500","NR",{"$f":"+'Incoming Remittances (Volume)'!$G$5","v":"20241031"},{"$f":"+'COVER SHEET'!$D$12","v":0},11500,{"$f":"'COVER SHEET'!$D$16&IF(MID('COVER SHEET'!$I$18,6,10)=\"december\",\"1231\",IF(MID('COVER SHEET'!$I$18,6,10)=\"june\",\"0630\"))","v":"20241231"},{"$f":"+'Incoming Remittances (Volume)'!G159","v":0}]
["CMREM_11500","NP",{"$f":"+'Incoming Remittances (Volume)'!$G$5","v":"20241031"},{"$f":"+'COVER SHEET'!$D$12","v":0},11500,{"$f":"'COVER SHEET'!$D$16&IF(MID('COVER SHEET'!$I$18,6,10)=\"december\",\"1231\",IF(MID('COVER SHEET'!$I$18,6,10)=\"june\",\"0630\"))","v":"20241231"},{"$f":"+'Incoming Remittances (Volume)'!G160","v":0}]
["CMREM_11500","NL",{"$f":"+'Incoming Remittances (Volume)'!$G$5","v":"20241031"},{"$f":"+'COVER SHEET'!$D$12","v":0},11500,{"$f":"'COVER SHEET'!$D$16&IF(MID('COVER SHEET'!$I$18,6,10)=\"december\",\"1231\",IF(MID('COVER SHEET'!$I$18,6,10)=\"june\",\"0630\"))","v":"20241231"},{"$f":"+'Incoming Remittances (Volume)'!G161","v":0}]
["CMREM_11500","NC",{"$f":"+'Incoming Remittances (Volume)'!$G$5","v":"20241031"},{"$f":"+'COVER SHEET'!$D$12","v":0},11500,{"$f":"'COVER SHEET'!$D$16&IF(MID('COVER SHEET'!$I$18,6,10)=\"december\",\"1231\",IF(MID('COVER SHEET'!$I$18,6,10)=\"june\",\"0630\"))","v":"20241231"},{"$f":"+'Incoming Remittances (Volume)'!G162","v":0}]
["CMREM_11500","NZ",{"$f":"+'Incoming Remittances (Volume)'!$G$5","v":"20241031"},{"$f":"+'COVER SHEET'!$D$12","v":0},11500,{"$f":"'COVER SHEET'!$D$16&IF(MID('COVER SHEET'!$I$18,6,10)=\"december\",\"1231\",IF(MID('COVER SHEET'!$I$18,6,10)=\"june\",\"0630\"))","v":"20241231"},{"$f":"+'Incoming Remittances (Volume)'!G163","v":0}]
["CMREM_11500","NI",{"$f":"+'Incoming Remittances (Volume)'!$G$5","v":"20241031"},{"$f":"+'COVER SHEET'!$D$12","v":0},11500,{"$f":"'COVER SHEET'!$D$16&IF(MID('COVER SHEET'!$I$18,6,10)=\"december\",\"1231\",IF(MID('COVER SHEET'!$I$18,6,10)=\"june\",\"0630\"))","v":"20241231"},{"$f":"+'Incoming Remittances (Volume)'!G164","v":0}]
["CMREM_11500","NE",{"$f":"+'Incoming Remittances (Volume)'!$G$5","v":"20241031"},{"$f":"+'COVER SHEET'!$D$12","v":0},11500,{"$f":"'COVER SHEET'!$D$16&IF(MID('COVER SHEET'!$I$18,6,10)=\"december\",\"1231\",IF(MID('COVER SHEET'!$I$18,6,10)=\"june\",\"0630\"))","v":"20241231"},{"$f":"+'Incoming Remittances (Volume)'!G165","v":0}]
["CMREM_11500","NG",{"$f":"+'Incoming Remittances (Volume)'!$G$5","v":"20241031"},{"$f":"+'COVER SHEET'!$D$12","v":0},11500,{"$f":"'COVER SHEET'!$D$16&IF(MID('COVER SHEET'!$I$18,6,10)=\"december\",\"1231\",IF(MID('COVER SHEET'!$I$18,6,10)=\"june\",\"0630\"))","v":"20241231"},{"$f":"+'Incoming Remittances (Volume)'!G166","v":0}]
["CMREM_11500","NU",{"$f":"+'Incoming Remittances (Volume)'!$G$5","v":"20241031"},{"$f":"+'COVER SHEET'!$D$12","v":0},11500,{"$f":"'COVER SHEET'!$D$16&IF(MID('COVER SHEET'!$I$18,6,10)=\"december\",\"1231\",IF(MID('COVER SHEET'!$I$18,6,10)=\"june\",\"0630\"))","v":"20241231"},{"$f":"+'Incoming Remittances (Volume)'!G167","v":0}]
["CMREM_11500","NF",{"$f":"+'Incoming Remittances (Volume)'!$G$5","v":"20241031"},{"$f":"+'COVER SHEET'!$D$12","v":0},11500,{"$f":"'COVER SHEET'!$D$16&IF(MID('COVER SHEET'!$I$18,6,10)=\"december\",\"1231\",IF(MID('COVER SHEET'!$I$18,6,10)=\"june\",\"0630\"))","v":"20241231"},{"$f":"+'Incoming Remittances (Volume)'!G168","v":0}]
["CMREM_11500","MP",{"$f":"+'Incoming Remittances (Volume)'!$G$5","v":"20241031"},{"$f":"+'COVER SHEET'!$D$12","v":0},11500,{"$f":"'COVER SHEET'!$D$16&IF(MID('COVER SHEET'!$I$18,6,10)=\"december\",\"1231\",IF(MID('COVER SHEET'!$I$18,6,10)=\"june\",\"0630\"))","v":"20241231"},{"$f":"+'Incoming Remittances (Volume)'!G169","v":0}]
["CMREM_11500","NO",{"$f":"+'Incoming Remittances (Volume)'!$G$5","v":"20241031"},{"$f":"+'COVER SHEET'!$D$12","v":0},11500,{"$f":"'COVER SHEET'!$D$16&IF(MID('COVER SHEET'!$I$18,6,10)=\"december\",\"1231\",IF(MID('COVER SHEET'!$I$18,6,10)=\"june\",\"0630\"))","v":"20241231"},{"$f":"+'Incoming Remittances (Volume)'!G170","v":0}]
["CMREM_11500","OM",{"$f":"+'Incoming Remittances (Volume)'!$G$5","v":"20241031"},{"$f":"+'COVER SHEET'!$D$12","v":0},11500,{"$f":"'COVER SHEET'!$D$16&IF(MID('COVER SHEET'!$I$18,6,10)=\"december\",\"1231\",IF(MID('COVER SHEET'!$I$18,6,10)=\"june\",\"0630\"))","v":"20241231"},{"$f":"+'Incoming Remittances (Volume)'!G171","v":0}]
["CMREM_11500","PK",{"$f":"+'Incoming Remittances (Volume)'!$G$5","v":"20241031"},{"$f":"+'COVER SHEET'!$D$12","v":0},11500,{"$f":"'COVER SHEET'!$D$16&IF(MID('COVER SHEET'!$I$18,6,10)=\"december\",\"1231\",IF(MID('COVER SHEET'!$I$18,6,10)=\"june\",\"0630\"))","v":"20241231"},{"$f":"+'Incoming Remittances (Volume)'!G172","v":0}]
["CMREM_11500","PW",{"$f":"+'Incoming Remittances (Volume)'!$G$5","v":"20241031"},{"$f":"+'COVER SHEET'!$D$12","v":0},11500,{"$f":"'COVER SHEET'!$D$16&IF(MID('COVER SHEET'!$I$18,6,10)=\"december\",\"1231\",IF(MID('COVER SHEET'!$I$18,6,10)=\"june\",\"0630\"))","v":"20241231"},{"$f":"+'Incoming Remittances (Volume)'!G173","v":0}]
["CMREM_11500","PS",{"$f":"+'Incoming Remittances (Volume)'!$G$5","v":"20241031"},{"$f":"+'COVER SHEET'!$D$12","v":0},11500,{"$f":"'COVER SHEET'!$D$16&IF(MID('COVER SHEET'!$I$18,6,10)=\"december\",\"1231\",IF(MID('COVER SHEET'!$I$18,6,10)=\"june\",\"0630\"))","v":"20241231"},{"$f":"+'Incoming Remittances (Volume)'!G174","v":0}]
["CMREM_11500","PA",{"$f":"+'Incoming Remittances (Volume)'!$G$5","v":"20241031"},{"$f":"+'COVER SHEET'!$D$12","v":0},11500,{"$f":"'COVER SHEET'!$D$16&IF(MID('COVER SHEET'!$I$18,6,10)=\"december\",\"1231\",IF(MID('COVER SHEET'!$I$18,6,10)=\"june\",\"0630\"))","v":"20241231"},{"$f":"+'Incoming Remittances (Volume)'!G175","v":0}]
["CMREM_11500","PG",{"$f":"+'Incoming Remittances (Volume)'!$G$5","v":"20241031"},{"$f":"+'COVER SHEET'!$D$12","v":0},11500,{"$f":"'COVER SHEET'!$D$16&IF(MID('COVER SHEET'!$I$18,6,10)=\"december\",\"1231\",IF(MID('COVER SHEET'!$I$18,6,10)=\"june\",\"0630\"))","v":"20241231"},{"$f":"+'Incoming Remittances (Volume)'!G176","v":0}]
["CMREM_11500","PY",{"$f":"+'Incoming Remittances (Volume)'!$G$5","v":"20241031"},{"$f":"+'COVER SHEET'!$D$12","v":0},11500,{"$f":"'COVER SHEET'!$D$16&IF(MID('COVER SHEET'!$I$18,6,10)=\"december\",\"1231\",IF(MID('COVER SHEET'!$I$18,6,10)=\"june\",\"0630\"))","v":"20241231"},{"$f":"+'Incoming Remittances (Volume)'!G177","v":0}]
["CMREM_11500","PE",{"$f":"+'Incoming Remittances (Volume)'!$G$5","v":"20241031"},{"$f":"+'COVER SHEET'!$D$12","v":0},11500,{"$f":"'COVER SHEET'!$D$16&IF(MID('COVER SHEET'!$I$18,6,10)=\"december\",\"1231\",IF(MID('COVER SHEET'!$I$18,6,10)=\"june\",\"0630\"))","v":"20241231"},{"$f":"+'Incoming Remittances (Volume)'!G178","v":0}]
["CMREM_11500","PH",{"$f":"+'Incoming Remittances (Volume)'!$G$5","v":"20241031"},{"$f":"+'COVER SHEET'!$D$12","v":0},11500,{"$f":"'COVER SHEET'!$D$16&IF(MID('COVER SHEET'!$I$18,6,10)=\"december\",\"1231\",IF(MID('COVER SHEET'!$I$18,6,10)=\"june\",\"0630\"))","v":"20241231"},{"$f":"+'Incoming Remittances (Volume)'!G179","v":0}]
["CMREM_11500","PN",{"$f":"+'Incoming Remittances (Volume)'!$G$5","v":"20241031"},{"$f":"+'COVER SHEET'!$D$12","v":0},11500,{"$f":"'COVER SHEET'!$D$16&IF(MID('COVER SHEET'!$I$18,6,10)=\"december\",\"1231\",IF(MID('COVER SHEET'!$I$18,6,10)=\"june\",\"0630\"))","v":"20241231"},{"$f":"+'Incoming Remittances (Volume)'!G180","v":0}]
["CMREM_11500","PL",{"$f":"+'Incoming Remittances (Volume)'!$G$5","v":"20241031"},{"$f":"+'COVER SHEET'!$D$12","v":0},11500,{"$f":"'COVER SHEET'!$D$16&IF(MID('COVER SHEET'!$I$18,6,10)=\"december\",\"1231\",IF(MID('COVER SHEET'!$I$18,6,10)=\"june\",\"0630\"))","v":"20241231"},{"$f":"+'Incoming Remittances (Volume)'!G181","v":0}]
["CMREM_11500","PT",{"$f":"+'Incoming Remittances (Volume)'!$G$5","v":"20241031"},{"$f":"+'COVER SHEET'!$D$12","v":0},11500,{"$f":"'COVER SHEET'!$D$16&IF(MID('COVER SHEET'!$I$18,6,10)=\"december\",\"1231\",IF(MID('COVER SHEET'!$I$18,6,10)=\"june\",\"0630\"))","v":"20241231"},{"$f":"+'Incoming Remittances (Volume)'!G182","v":0}]
["CMREM_11500","QA",{"$f":"+'Incoming Remittances (Volume)'!$G$5","v":"20241031"},{"$f":"+'COVER SHEET'!$D$12","v":0},11500,{"$f":"'COVER SHEET'!$D$16&IF(MID('COVER SHEET'!$I$18,6,10)=\"december\",\"1231\",IF(MID('COVER SHEET'!$I$18,6,10)=\"june\",\"0630\"))","v":"20241231"},{"$f":"+'Incoming Remittances (Volume)'!G183","v":0}]
["CMREM_11500","RO",{"$f":"+'Incoming Remittances (Volume)'!$G$5","v":"20241031"},{"$f":"+'COVER SHEET'!$D$12","v":0},11500,{"$f":"'COVER SHEET'!$D$16&IF(MID('COVER SHEET'!$I$18,6,10)=\"december\",\"1231\",IF(MID('COVER SHEET'!$I$18,6,10)=\"june\",\"0630\"))","v":"20241231"},{"$f":"+'Incoming Remittances (Volume)'!G184","v":0}]
["CMREM_11500","RU",{"$f":"+'Incoming Remittances (Volume)'!$G$5","v":"20241031"},{"$f":"+'COVER SHEET'!$D$12","v":0},11500,{"$f":"'COVER SHEET'!$D$16&IF(MID('COVER SHEET'!$I$18,6,10)=\"december\",\"1231\",IF(MID('COVER SHEET'!$I$18,6,10)=\"june\",\"0630\"))","v":"20241231"},{"$f":"+'Incoming Remittances (Volume)'!G185","v":0}]
["CMREM_11500","RW",{"$f":"+'Incoming Remittances (Volume)'!$G$5","v":"20241031"},{"$f":"+'COVER SHEET'!$D$12","v":0},11500,{"$f":"'COVER SHEET'!$D$16&IF(MID('COVER SHEET'!$I$18,6,10)=\"december\",\"1231\",IF(MID('COVER SHEET'!$I$18,6,10)=\"june\",\"0630\"))","v":"20241231"},{"$f":"+'Incoming Remittances (Volume)'!G186","v":0}]
["CMREM_11500","SH",{"$f":"+'Incoming Remittances (Volume)'!$G$5","v":"20241031"},{"$f":"+'COVER SHEET'!$D$12","v":0},11500,{"$f":"'COVER SHEET'!$D$16&IF(MID('COVER SHEET'!$I$18,6,10)=\"december\",\"1231\",IF(MID('COVER SHEET'!$I$18,6,10)=\"june\",\"0630\"))","v":"20241231"},{"$f":"+'Incoming Remittances (Volume)'!G187","v":0}]
["CMREM_11500","KN",{"$f":"+'Incoming Remittances (Volume)'!$G$5","v":"20241031"},{"$f":"+'COVER SHEET'!$D$12","v":0},11500,{"$f":"'COVER SHEET'!$D$16&IF(MID('COVER SHEET'!$I$18,6,10)=\"december\",\"1231\",IF(MID('COVER SHEET'!$I$18,6,10)=\"june\",\"0630\"))","v":"20241231"},{"$f":"+'Incoming Remittances (Volume)'!G188","v":0}]
["CMREM_11500","LC",{"$f":"+'Incoming Remittances (Volume)'!$G$5","v":"20241031"},{"$f":"+'COVER SHEET'!$D$12","v":0},11500,{"$f":"'COVER SHEET'!$D$16&IF(MID('COVER SHEET'!$I$18,6,10)=\"december\",\"1231\",IF(MID('COVER SHEET'!$I$18,6,10)=\"june\",\"0630\"))","v":"20241231"},{"$f":"+'Incoming Remittances (Volume)'!G189","v":0}]
["CMREM_11500","VC",{"$f":"+'Incoming Remittances (Volume)'!$G$5","v":"20241031"},{"$f":"+'COVER SHEET'!$D$12","v":0},11500,{"$f":"'COVER SHEET'!$D$16&IF(MID('COVER SHEET'!$I$18,6,10)=\"december\",\"1231\",IF(MID('COVER SHEET'!$I$18,6,10)=\"june\",\"0630\"))","v":"20241231"},{"$f":"+'Incoming Remittances (Volume)'!G190","v":0}]
["CMREM_11500","WS",{"$f":"+'Incoming Remittances (Volume)'!$G$5","v":"20241031"},{"$f":"+'COVER SHEET'!$D$12","v":0},11500,{"$f":"'COVER SHEET'!$D$16&IF(MID('COVER SHEET'!$I$18,6,10)=\"december\",\"1231\",IF(MID('COVER SHEET'!$I$18,6,10)=\"june\",\"0630\"))","v":"20241231"},{"$f":"+'Incoming Remittances (Volume)'!G191","v":0}]
["CMREM_11500","SM",{"$f":"+'Incoming Remittances (Volume)'!$G$5","v":"20241031"},{"$f":"+'COVER SHEET'!$D$12","v":0},11500,{"$f":"'COVER SHEET'!$D$16&IF(MID('COVER SHEET'!$I$18,6,10)=\"december\",\"1231\",IF(MID('COVER SHEET'!$I$18,6,10)=\"june\",\"0630\"))","v":"20241231"},{"$f":"+'Incoming Remittances (Volume)'!G192","v":0}]
["CMREM_11500","ST",{"$f":"+'Incoming Remittances (Volume)'!$G$5","v":"20241031"},{"$f":"+'COVER SHEET'!$D$12","v":0},11500,{"$f":"'COVER SHEET'!$D$16&IF(MID('COVER SHEET'!$I$18,6,10)=\"december\",\"1231\",IF(MID('COVER SHEET'!$I$18,6,10)=\"june\",\"0630\"))","v":"20241231"},{"$f":"+'Incoming Remittances (Volume)'!G193","v":0}]
["CMREM_11500","SA",{"$f":"+'Incoming Remittances (Volume)'!$G$5","v":"20241031"},{"$f":"+'COVER SHEET'!$D$12","v":0},11500,{"$f":"'COVER SHEET'!$D$16&IF(MID('COVER SHEET'!$I$18,6,10)=\"december\",\"1231\",IF(MID('COVER SHEET'!$I$18,6,10)=\"june\",\"0630\"))","v":"20241231"},{"$f":"+'Incoming Remittances (Volume)'!G194","v":0}]
["CMREM_11500","SN",{"$f":"+'Incoming Remittances (Volume)'!$G$5","v":"20241031"},{"$f":"+'COVER SHEET'!$D$12","v":0},11500,{"$f":"'COVER SHEET'!$D$16&IF(MID('COVER SHEET'!$I$18,6,10)=\"december\",\"1231\",IF(MID('COVER SHEET'!$I$18,6,10)=\"june\",\"0630\"))","v":"20241231"},{"$f":"+'Incoming Remittances (Volume)'!G195","v":0}]
["CMREM_11500","RS",{"$f":"+'Incoming Remittances (Volume)'!$G$5","v":"20241031"},{"$f":"+'COVER SHEET'!$D$12","v":0},11500,{"$f":"'COVER SHEET'!$D$16&IF(MID('COVER SHEET'!$I$18,6,10)=\"december\",\"1231\",IF(MID('COVER SHEET'!$I$18,6,10)=\"june\",\"0630\"))","v":"20241231"},{"$f":"+'Incoming Remittances (Volume)'!G196","v":0}]
["CMREM_11500","SC",{"$f":"+'Incoming Remittances (Volume)'!$G$5","v":"20241031"},{"$f":"+'COVER SHEET'!$D$12","v":0},11500,{"$f":"'COVER SHEET'!$D$16&IF(MID('COVER SHEET'!$I$18,6,10)=\"december\",\"1231\",IF(MID('COVER SHEET'!$I$18,6,10)=\"june\",\"0630\"))","v":"20241231"},{"$f":"+'Incoming Remittances (Volume)'!G197","v":0}]
["CMREM_11500","SL",{"$f":"+'Incoming Remittances (Volume)'!$G$5","v":"20241031"},{"$f":"+'COVER SHEET'!$D$12","v":0},11500,{"$f":"'COVER SHEET'!$D$16&IF(MID('COVER SHEET'!$I$18,6,10)=\"december\",\"1231\",IF(MID('COVER SHEET'!$I$18,6,10)=\"june\",\"0630\"))","v":"20241231"},{"$f":"+'Incoming Remittances (Volume)'!G198","v":0}]
["CMREM_11500","SG",{"$f":"+'Incoming Remittances (Volume)'!$G$5","v":"20241031"},{"$f":"+'COVER SHEET'!$D$12","v":0},11500,{"$f":"'COVER SHEET'!$D$16&IF(MID('COVER SHEET'!$I$18,6,10)=\"december\",\"1231\",IF(MID('COVER SHEET'!$I$18,6,10)=\"june\",\"0630\"))","v":"20241231"},{"$f":"+'Incoming Remittances (Volume)'!G199","v":0}]
["CMREM_11500","SX",{"$f":"+'Incoming Remittances (Volume)'!$G$5","v":"20241031"},{"$f":"+'COVER SHEET'!$D$12","v":0},11500,{"$f":"'COVER SHEET'!$D$16&IF(MID('COVER SHEET'!$I$18,6,10)=\"december\",\"1231\",IF(MID('COVER SHEET'!$I$18,6,10)=\"june\",\"0630\"))","v":"20241231"},{"$f":"+'Incoming Remittances (Volume)'!G200","v":0}]
["CMREM_11500","SK",{"$f":"+'Incoming Remittances (Volume)'!$G$5","v":"20241031"},{"$f":"+'COVER SHEET'!$D$12","v":0},11500,{"$f":"'COVER SHEET'!$D$16&IF(MID('COVER SHEET'!$I$18,6,10)=\"december\",\"1231\",IF(MID('COVER SHEET'!$I$18,6,10)=\"june\",\"0630\"))","v":"20241231"},{"$f":"+'Incoming Remittances (Volume)'!G201","v":0}]
["CMREM_11500","SI",{"$f":"+'Incoming Remittances (Volume)'!$G$5","v":"20241031"},{"$f":"+'COVER SHEET'!$D$12","v":0},11500,{"$f":"'COVER SHEET'!$D$16&IF(MID('COVER SHEET'!$I$18,6,10)=\"december\",\"1231\",IF(MID('COVER SHEET'!$I$18,6,10)=\"june\",\"0630\"))","v":"20241231"},{"$f":"+'Incoming Remittances (Volume)'!G202","v":0}]
["CMREM_11500","SB",{"$f":"+'Incoming Remittances (Volume)'!$G$5","v":"20241031"},{"$f":"+'COVER SHEET'!$D$12","v":0},11500,{"$f":"'COVER SHEET'!$D$16&IF(MID('COVER SHEET'!$I$18,6,10)=\"december\",\"1231\",IF(MID('COVER SHEET'!$I$18,6,10)=\"june\",\"0630\"))","v":"20241231"},{"$f":"+'Incoming Remittances (Volume)'!G203","v":0}]
["CMREM_11500","SO",{"$f":"+'Incoming Remittances (Volume)'!$G$5","v":"20241031"},{"$f":"+'COVER SHEET'!$D$12","v":0},11500,{"$f":"'COVER SHEET'!$D$16&IF(MID('COVER SHEET'!$I$18,6,10)=\"december\",\"1231\",IF(MID('COVER SHEET'!$I$18,6,10)=\"june\",\"0630\"))","v":"20241231"},{"$f":"+'Incoming Remittances (Volume)'!G204","v":0}]
["CMREM_11500","ZA",{"$f":"+'Incoming Remittances (Volume)'!$G$5","v":"20241031"},{"$f":"+'COVER SHEET'!$D$12","v":0},11500,{"$f":"'COVER SHEET'!$D$16&IF(MID('COVER SHEET'!$I$18,6,10)=\"december\",\"1231\",IF(MID('COVER SHEET'!$I$18,6,10)=\"june\",\"0630\"))","v":"20241231"},{"$f":"+'Incoming Remittances (Volume)'!G205","v":0}]
["CMREM_11500","GS",{"$f":"+'Incoming Remittances (Volume)'!$G$5","v":"20241031"},{"$f":"+'COVER SHEET'!$D$12","v":0},11500,{"$f":"'COVER SHEET'!$D$16&IF(MID('COVER SHEET'!$I$18,6,10)=\"december\",\"1231\",IF(MID('COVER SHEET'!$I$18,6,10)=\"june\",\"0630\"))","v":"20241231"},{"$f":"+'Incoming Remittances (Volume)'!G206","v":0}]
["CMREM_11500","SS",{"$f":"+'Incoming Remittances (Volume)'!$G$5","v":"20241031"},{"$f":"+'COVER SHEET'!$D$12","v":0},11500,{"$f":"'COVER SHEET'!$D$16&IF(MID('COVER SHEET'!$I$18,6,10)=\"december\",\"1231\",IF(MID('COVER SHEET'!$I$18,6,10)=\"june\",\"0630\"))","v":"20241231"},{"$f":"+'Incoming Remittances (Volume)'!G207","v":0}]
["CMREM_11500","ES",{"$f":"+'Incoming Remittances (Volume)'!$G$5","v":"20241031"},{"$f":"+'COVER SHEET'!$D$12","v":0},11500,{"$f":"'COVER SHEET'!$D$16&IF(MID('COVER SHEET'!$I$18,6,10)=\"december\",\"1231\",IF(MID('COVER SHEET'!$I$18,6,10)=\"june\",\"0630\"))","v":"20241231"},{"$f":"+'Incoming Remittances (Volume)'!G208","v":0}]
["CMREM_11500","LK",{"$f":"+'Incoming Remittances (Volume)'!$G$5","v":"20241031"},{"$f":"+'COVER SHEET'!$D$12","v":0},11500,{"$f":"'COVER SHEET'!$D$16&IF(MID('COVER SHEET'!$I$18,6,10)=\"december\",\"1231\",IF(MID('COVER SHEET'!$I$18,6,10)=\"june\",\"0630\"))","v":"20241231"},{"$f":"+'Incoming Remittances (Volume)'!G209","v":0}]
["CMREM_11500","SD",{"$f":"+'Incoming Remittances (Volume)'!$G$5","v":"20241031"},{"$f":"+'COVER SHEET'!$D$12","v":0},11500,{"$f":"'COVER SHEET'!$D$16&IF(MID('COVER SHEET'!$I$18,6,10)=\"december\",\"1231\",IF(MID('COVER SHEET'!$I$18,6,10)=\"june\",\"0630\"))","v":"20241231"},{"$f":"+'Incoming Remittances (Volume)'!G210","v":0}]
["CMREM_11500","SR",{"$f":"+'Incoming Remittances (Volume)'!$G$5","v":"20241031"},{"$f":"+'COVER SHEET'!$D$12","v":0},11500,{"$f":"'COVER SHEET'!$D$16&IF(MID('COVER SHEET'!$I$18,6,10)=\"december\",\"1231\",IF(MID('COVER SHEET'!$I$18,6,10)=\"june\",\"0630\"))","v":"20241231"},{"$f":"+'Incoming Remittances (Volume)'!G211","v":0}]
["CMREM_11500","SZ",{"$f":"+'Incoming Remittances (Volume)'!$G$5","v":"20241031"},{"$f":"+'COVER SHEET'!$D$12","v":0},11500,{"$f":"'COVER SHEET'!$D$16&IF(MID('COVER SHEET'!$I$18,6,10)=\"december\",\"1231\",IF(MID('COVER SHEET'!$I$18,6,10)=\"june\",\"0630\"))","v":"20241231"},{"$f":"+'Incoming Remittances (Volume)'!G212","v":0}]
["CMREM_11500","SE",{"$f":"+'Incoming Remittances (Volume)'!$G$5","v":"20241031"},{"$f":"+'COVER SHEET'!$D$12","v":0},11500,{"$f":"'COVER SHEET'!$D$16&IF(MID('COVER SHEET'!$I$18,6,10)=\"december\",\"1231\",IF(MID('COVER SHEET'!$I$18,6,10)=\"june\",\"0630\"))","v":"20241231"},{"$f":"+'Incoming Remittances (Volume)'!G213","v":0}]
["CMREM_11500","CH",{"$f":"+'Incoming Remittances (Volume)'!$G$5","v":"20241031"},{"$f":"+'COVER SHEET'!$D$12","v":0},11500,{"$f":"'COVER SHEET'!$D$16&IF(MID('COVER SHEET'!$I$18,6,10)=\"december\",\"1231\",IF(MID('COVER SHEET'!$I$18,6,10)=\"june\",\"0630\"))","v":"20241231"},{"$f":"+'Incoming Remittances (Volume)'!G214","v":0}]
["CMREM_11500","SY",{"$f":"+'Incoming Remittances (Volume)'!$G$5","v":"20241031"},{"$f":"+'COVER SHEET'!$D$12","v":0},11500,{"$f":"'COVER SHEET'!$D$16&IF(MID('COVER SHEET'!$I$18,6,10)=\"december\",\"1231\",IF(MID('COVER SHEET'!$I$18,6,10)=\"june\",\"0630\"))","v":"20241231"},{"$f":"+'Incoming Remittances (Volume)'!G215","v":0}]
["CMREM_11500","TW",{"$f":"+'Incoming Remittances (Volume)'!$G$5","v":"20241031"},{"$f":"+'COVER SHEET'!$D$12","v":0},11500,{"$f":"'COVER SHEET'!$D$16&IF(MID('COVER SHEET'!$I$18,6,10)=\"december\",\"1231\",IF(MID('COVER SHEET'!$I$18,6,10)=\"june\",\"0630\"))","v":"20241231"},{"$f":"+'Incoming Remittances (Volume)'!G216","v":0}]
["CMREM_11500","TJ",{"$f":"+'Incoming Remittances (Volume)'!$G$5","v":"20241031"},{"$f":"+'COVER SHEET'!$D$12","v":0},11500,{"$f":"'COVER SHEET'!$D$16&IF(MID('COVER SHEET'!$I$18,6,10)=\"december\",\"1231\",IF(MID('COVER SHEET'!$I$18,6,10)=\"june\",\"0630\"))","v":"20241231"},{"$f":"+'Incoming Remittances (Volume)'!G217","v":0}]
["CMREM_11500","TZ",{"$f":"+'Incoming Remittances (Volume)'!$G$5","v":"20241031"},{"$f":"+'COVER SHEET'!$D$12","v":0},11500,{"$f":"'COVER SHEET'!$D$16&IF(MID('COVER SHEET'!$I$18,6,10)=\"december\",\"1231\",IF(MID('COVER SHEET'!$I$18,6,10)=\"june\",\"0630\"))","v":"20241231"},{"$f":"+'Incoming Remittances (Volume)'!G218","v":0}]
["CMREM_11500","TH",{"$f":"+'Incoming Remittances (Volume)'!$G$5","v":"20241031"},{"$f":"+'COVER SHEET'!$D$12","v":0},11500,{"$f":"'COVER SHEET'!$D$16&IF(MID('COVER SHEET'!$I$18,6,10)=\"december\",\"1231\",IF(MID('COVER SHEET'!$I$18,6,10)=\"june\",\"0630\"))","v":"20241231"},{"$f":"+'Incoming Remittances (Volume)'!G219","v":0}]
["CMREM_11500","TG",{"$f":"+'Incoming Remittances (Volume)'!$G$5","v":"20241031"},{"$f":"+'COVER SHEET'!$D$12","v":0},11500,{"$f":"'COVER SHEET'!$D$16&IF(MID('COVER SHEET'!$I$18,6,10)=\"december\",\"1231\",IF(MID('COVER SHEET'!$I$18,6,10)=\"june\",\"0630\"))","v":"20241231"},{"$f":"+'Incoming Remittances (Volume)'!G220","v":0}]
["CMREM_11500","TK",{"$f":"+'Incoming Remittances (Volume)'!$G$5","v":"20241031"},{"$f":"+'COVER SHEET'!$D$12","v":0},11500,{"$f":"'COVER SHEET'!$D$16&IF(MID('COVER SHEET'!$I$18,6,10)=\"december\",\"1231\",IF(MID('COVER SHEET'!$I$18,6,10)=\"june\",\"0630\"))","v":"20241231"},{"$f":"+'Incoming Remittances (Volume)'!G221","v":0}]
["CMREM_11500","TO",{"$f":"+'Incoming Remittances (Volume)'!$G$5","v":"20241031"},{"$f":"+'COVER SHEET'!$D$12","v":0},11500,{"$f":"'COVER SHEET'!$D$16&IF(MID('COVER SHEET'!$I$18,6,10)=\"december\",\"1231\",IF(MID('COVER SHEET'!$I$18,6,10)=\"june\",\"0630\"))","v":"20241231"},{"$f":"+'Incoming Remittances (Volume)'!G222","v":0}]
["CMREM_11500","TT",{"$f":"+'Incoming Remittances (Volume)'!$G$5","v":"20241031"},{"$f":"+'COVER SHEET'!$D$12","v":0},11500,{"$f":"'COVER SHEET'!$D$16&IF(MID('COVER SHEET'!$I$18,6,10)=\"december\",\"1231\",IF(MID('COVER SHEET'!$I$18,6,10)=\"june\",\"0630\"))","v":"20241231"},{"$f":"+'Incoming Remittances (Volume)'!G223","v":0}]
["CMREM_11500","TN",{"$f":"+'Incoming Remittances (Volume)'!$G$5","v":"20241031"},{"$f":"+'COVER SHEET'!$D$12","v":0},11500,{"$f":"'COVER SHEET'!$D$16&IF(MID('COVER SHEET'!$I$18,6,10)=\"december\",\"1231\",IF(MID('COVER SHEET'!$I$18,6,10)=\"june\",\"0630\"))","v":"20241231"},{"$f":"+'Incoming Remittances (Volume)'!G224","v":0}]
["CMREM_11500","TR",{"$f":"+'Incoming Remittances (Volume)'!$G$5","v":"20241031"},{"$f":"+'COVER SHEET'!$D$12","v":0},11500,{"$f":"'COVER SHEET'!$D$16&IF(MID('COVER SHEET'!$I$18,6,10)=\"december\",\"1231\",IF(MID('COVER SHEET'!$I$18,6,10)=\"june\",\"0630\"))","v":"20241231"},{"$f":"+'Incoming Remittances (Volume)'!G225","v":0}]
["CMREM_11500","TM",{"$f":"+'Incoming Remittances (Volume)'!$G$5","v":"20241031"},{"$f":"+'COVER SHEET'!$D$12","v":0},11500,{"$f":"'COVER SHEET'!$D$16&IF(MID('COVER SHEET'!$I$18,6,10)=\"december\",\"1231\",IF(MID('COVER SHEET'!$I$18,6,10)=\"june\",\"0630\"))","v":"20241231"},{"$f":"+'Incoming Remittances (Volume)'!G226","v":0}]
["CMREM_11500","TC",{"$f":"+'Incoming Remittances (Volume)'!$G$5","v":"20241031"},{"$f":"+'COVER SHEET'!$D$12","v":0},11500,{"$f":"'COVER SHEET'!$D$16&IF(MID('COVER SHEET'!$I$18,6,10)=\"december\",\"1231\",IF(MID('COVER SHEET'!$I$18,6,10)=\"june\",\"0630\"))","v":"20241231"},{"$f":"+'Incoming Remittances (Volume)'!G227","v":0}]
["CMREM_11500","TV",{"$f":"+'Incoming Remittances (Volume)'!$G$5","v":"20241031"},{"$f":"+'COVER SHEET'!$D$12","v":0},11500,{"$f":"'COVER SHEET'!$D$16&IF(MID('COVER SHEET'!$I$18,6,10)=\"december\",\"1231\",IF(MID('COVER SHEET'!$I$18,6,10)=\"june\",\"0630\"))","v":"20241231"},{"$f":"+'Incoming Remittances (Volume)'!G228","v":0}]
["CMREM_11500","UG",{"$f":"+'Incoming Remittances (Volume)'!$G$5","v":"20241031"},{"$f":"+'COVER SHEET'!$D$12","v":0},11500,{"$f":"'COVER SHEET'!$D$16&IF(MID('COVER SHEET'!$I$18,6,10)=\"december\",\"1231\",IF(MID('COVER SHEET'!$I$18,6,10)=\"june\",\"0630\"))","v":"20241231"},{"$f":"+'Incoming Remittances (Volume)'!G229","v":0}]
["CMREM_11500","UA",{"$f":"+'Incoming Remittances (Volume)'!$G$5","v":"20241031"},{"$f":"+'COVER SHEET'!$D$12","v":0},11500,{"$f":"'COVER SHEET'!$D$16&IF(MID('COVER SHEET'!$I$18,6,10)=\"december\",\"1231\",IF(MID('COVER SHEET'!$I$18,6,10)=\"june\",\"0630\"))","v":"20241231"},{"$f":"+'Incoming Remittances (Volume)'!G230","v":0}]
["CMREM_11500","AE",{"$f":"+'Incoming Remittances (Volume)'!$G$5","v":"20241031"},{"$f":"+'COVER SHEET'!$D$12","v":0},11500,{"$f":"'COVER SHEET'!$D$16&IF(MID('COVER SHEET'!$I$18,6,10)=\"december\",\"1231\",IF(MID('COVER SHEET'!$I$18,6,10)=\"june\",\"0630\"))","v":"20241231"},{"$f":"+'Incoming Remittances (Volume)'!G231","v":0}]
["CMREM_11500","GB",{"$f":"+'Incoming Remittances (Volume)'!$G$5","v":"20241031"},{"$f":"+'COVER SHEET'!$D$12","v":0},11500,{"$f":"'COVER SHEET'!$D$16&IF(MID('COVER SHEET'!$I$18,6,10)=\"december\",\"1231\",IF(MID('COVER SHEET'!$I$18,6,10)=\"june\",\"0630\"))","v":"20241231"},{"$f":"+'Incoming Remittances (Volume)'!G232","v":0}]
["CMREM_11500","US",{"$f":"+'Incoming Remittances (Volume)'!$G$5","v":"20241031"},{"$f":"+'COVER SHEET'!$D$12","v":0},11500,{"$f":"'COVER SHEET'!$D$16&IF(MID('COVER SHEET'!$I$18,6,10)=\"december\",\"1231\",IF(MID('COVER SHEET'!$I$18,6,10)=\"june\",\"0630\"))","v":"20241231"},{"$f":"+'Incoming Remittances (Volume)'!G233","v":0}]
["CMREM_11500","UY",{"$f":"+'Incoming Remittances (Volume)'!$G$5","v":"20241031"},{"$f":"+'COVER SHEET'!$D$12","v":0},11500,{"$f":"'COVER SHEET'!$D$16&IF(MID('COVER SHEET'!$I$18,6,10)=\"december\",\"1231\",IF(MID('COVER SHEET'!$I$18,6,10)=\"june\",\"0630\"))","v":"20241231"},{"$f":"+'Incoming Remittances (Volume)'!G234","v":0}]
["CMREM_11500","UM",{"$f":"+'Incoming Remittances (Volume)'!$G$5","v":"20241031"},{"$f":"+'COVER SHEET'!$D$12","v":0},11500,{"$f":"'COVER SHEET'!$D$16&IF(MID('COVER SHEET'!$I$18,6,10)=\"december\",\"1231\",IF(MID('COVER SHEET'!$I$18,6,10)=\"june\",\"0630\"))","v":"20241231"},{"$f":"+'Incoming Remittances (Volume)'!G235","v":0}]
["CMREM_11500","UZ",{"$f":"+'Incoming Remittances (Volume)'!$G$5","v":"20241031"},{"$f":"+'COVER SHEET'!$D$12","v":0},11500,{"$f":"'COVER SHEET'!$D$16&IF(MID('COVER SHEET'!$I$18,6,10)=\"december\",\"1231\",IF(MID('COVER SHEET'!$I$18,6,10)=\"june\",\"0630\"))","v":"20241231"},{"$f":"+'Incoming Remittances (Volume)'!G236","v":0}]
["CMREM_11500","VU",{"$f":"+'Incoming Remittances (Volume)'!$G$5","v":"20241031"},{"$f":"+'COVER SHEET'!$D$12","v":0},11500,{"$f":"'COVER SHEET'!$D$16&IF(MID('COVER SHEET'!$I$18,6,10)=\"december\",\"1231\",IF(MID('COVER SHEET'!$I$18,6,10)=\"june\",\"0630\"))","v":"20241231"},{"$f":"+'Incoming Remittances (Volume)'!G237","v":0}]
["CMREM_11500","VE",{"$f":"+'Incoming Remittances (Volume)'!$G$5","v":"20241031"},{"$f":"+'COVER SHEET'!$D$12","v":0},11500,{"$f":"'COVER SHEET'!$D$16&IF(MID('COVER SHEET'!$I$18,6,10)=\"december\",\"1231\",IF(MID('COVER SHEET'!$I$18,6,10)=\"june\",\"0630\"))","v":"20241231"},{"$f":"+'Incoming Remittances (Volume)'!G238","v":0}]
["CMREM_11500","VN",{"$f":"+'Incoming Remittances (Volume)'!$G$5","v":"20241031"},{"$f":"+'COVER SHEET'!$D$12","v":0},11500,{"$f":"'COVER SHEET'!$D$16&IF(MID('COVER SHEET'!$I$18,6,10)=\"december\",\"1231\",IF(MID('COVER SHEET'!$I$18,6,10)=\"june\",\"0630\"))","v":"20241231"},{"$f":"+'Incoming Remittances (Volume)'!G239","v":0}]
["CMREM_11500","VI",{"$f":"+'Incoming Remittances (Volume)'!$G$5","v":"20241031"},{"$f":"+'COVER SHEET'!$D$12","v":0},11500,{"$f":"'COVER SHEET'!$D$16&IF(MID('COVER SHEET'!$I$18,6,10)=\"december\",\"1231\",IF(MID('COVER SHEET'!$I$18,6,10)=\"june\",\"0630\"))","v":"20241231"},{"$f":"+'Incoming Remittances (Volume)'!G240","v":0}]
["CMREM_11500","WF",{"$f":"+'Incoming Remittances (Volume)'!$G$5","v":"20241031"},{"$f":"+'COVER SHEET'!$D$12","v":0},11500,{"$f":"'COVER SHEET'!$D$16&IF(MID('COVER SHEET'!$I$18,6,10)=\"december\",\"1231\",IF(MID('COVER SHEET'!$I$18,6,10)=\"june\",\"0630\"))","v":"20241231"},{"$f":"+'Incoming Remittances (Volume)'!G241","v":0}]
["CMREM_11500","YE",{"$f":"+'Incoming Remittances (Volume)'!$G$5","v":"20241031"},{"$f":"+'COVER SHEET'!$D$12","v":0},11500,{"$f":"'COVER SHEET'!$D$16&IF(MID('COVER SHEET'!$I$18,6,10)=\"december\",\"1231\",IF(MID('COVER SHEET'!$I$18,6,10)=\"june\",\"0630\"))","v":"20241231"},{"$f":"+'Incoming Remittances (Volume)'!G242","v":0}]
["CMREM_11500","ZM",{"$f":"+'Incoming Remittances (Volume)'!$G$5","v":"20241031"},{"$f":"+'COVER SHEET'!$D$12","v":0},11500,{"$f":"'COVER SHEET'!$D$16&IF(MID('COVER SHEET'!$I$18,6,10)=\"december\",\"1231\",IF(MID('COVER SHEET'!$I$18,6,10)=\"june\",\"0630\"))","v":"20241231"},{"$f":"+'Incoming Remittances (Volume)'!G243","v":0}]
["CMREM_11500","ZW",{"$f":"+'Incoming Remittances (Volume)'!$G$5","v":"20241031"},{"$f":"+'COVER SHEET'!$D$12","v":0},11500,{"$f":"'COVER SHEET'!$D$16&IF(MID('COVER SHEET'!$I$18,6,10)=\"december\",\"1231\",IF(MID('COVER SHEET'!$I$18,6,10)=\"june\",\"0630\"))","v":"20241231"},{"$f":"+'Incoming Remittances (Volume)'!G244","v":0}]
["CMREM_11510","AF",{"$f":"+'Outgoing Remittances (Volume)'!$F$5","v":"20241031"},{"$f":"+'COVER SHEET'!$D$12","v":0},11510,{"$f":"'COVER SHEET'!$D$16&IF(MID('COVER SHEET'!$I$18,6,10)=\"december\",\"1231\",IF(MID('COVER SHEET'!$I$18,6,10)=\"june\",\"0630\"))","v":"20241231"},{"$f":"+'Outgoing Remittances (Volume)'!F9","v":0}]
["CMREM_11510","AL",{"$f":"+'Outgoing Remittances (Volume)'!$F$5","v":"20241031"},{"$f":"+'COVER SHEET'!$D$12","v":0},11510,{"$f":"'COVER SHEET'!$D$16&IF(MID('COVER SHEET'!$I$18,6,10)=\"december\",\"1231\",IF(MID('COVER SHEET'!$I$18,6,10)=\"june\",\"0630\"))","v":"20241231"},{"$f":"+'Outgoing Remittances (Volume)'!F10","v":0}]
["CMREM_11510","DZ",{"$f":"+'Outgoing Remittances (Volume)'!$F$5","v":"20241031"},{"$f":"+'COVER SHEET'!$D$12","v":0},11510,{"$f":"'COVER SHEET'!$D$16&IF(MID('COVER SHEET'!$I$18,6,10)=\"december\",\"1231\",IF(MID('COVER SHEET'!$I$18,6,10)=\"june\",\"0630\"))","v":"20241231"},{"$f":"+'Outgoing Remittances (Volume)'!F11","v":0}]
["CMREM_11510","AS",{"$f":"+'Outgoing Remittances (Volume)'!$F$5","v":"20241031"},{"$f":"+'COVER SHEET'!$D$12","v":0},11510,{"$f":"'COVER SHEET'!$D$16&IF(MID('COVER SHEET'!$I$18,6,10)=\"december\",\"1231\",IF(MID('COVER SHEET'!$I$18,6,10)=\"june\",\"0630\"))","v":"20241231"},{"$f":"+'Outgoing Remittances (Volume)'!F12","v":0}]
["CMREM_11510","AD",{"$f":"+'Outgoing Remittances (Volume)'!$F$5","v":"20241031"},{"$f":"+'COVER SHEET'!$D$12","v":0},11510,{"$f":"'COVER SHEET'!$D$16&IF(MID('COVER SHEET'!$I$18,6,10)=\"december\",\"1231\",IF(MID('COVER SHEET'!$I$18,6,10)=\"june\",\"0630\"))","v":"20241231"},{"$f":"+'Outgoing Remittances (Volume)'!F13","v":0}]
["CMREM_11510","AO",{"$f":"+'Outgoing Remittances (Volume)'!$F$5","v":"20241031"},{"$f":"+'COVER SHEET'!$D$12","v":0},11510,{"$f":"'COVER SHEET'!$D$16&IF(MID('COVER SHEET'!$I$18,6,10)=\"december\",\"1231\",IF(MID('COVER SHEET'!$I$18,6,10)=\"june\",\"0630\"))","v":"20241231"},{"$f":"+'Outgoing Remittances (Volume)'!F14","v":0}]
["CMREM_11510","AI",{"$f":"+'Outgoing Remittances (Volume)'!$F$5","v":"20241031"},{"$f":"+'COVER SHEET'!$D$12","v":0},11510,{"$f":"'COVER SHEET'!$D$16&IF(MID('COVER SHEET'!$I$18,6,10)=\"december\",\"1231\",IF(MID('COVER SHEET'!$I$18,6,10)=\"june\",\"0630\"))","v":"20241231"},{"$f":"+'Outgoing Remittances (Volume)'!F15","v":0}]
["CMREM_11510","AQ",{"$f":"+'Outgoing Remittances (Volume)'!$F$5","v":"20241031"},{"$f":"+'COVER SHEET'!$D$12","v":0},11510,{"$f":"'COVER SHEET'!$D$16&IF(MID('COVER SHEET'!$I$18,6,10)=\"december\",\"1231\",IF(MID('COVER SHEET'!$I$18,6,10)=\"june\",\"0630\"))","v":"20241231"},{"$f":"+'Outgoing Remittances (Volume)'!F16","v":0}]
["CMREM_11510","AG",{"$f":"+'Outgoing Remittances (Volume)'!$F$5","v":"20241031"},{"$f":"+'COVER SHEET'!$D$12","v":0},11510,{"$f":"'COVER SHEET'!$D$16&IF(MID('COVER SHEET'!$I$18,6,10)=\"december\",\"1231\",IF(MID('COVER SHEET'!$I$18,6,10)=\"june\",\"0630\"))","v":"20241231"},{"$f":"+'Outgoing Remittances (Volume)'!F17","v":0}]
["CMREM_11510","AR",{"$f":"+'Outgoing Remittances (Volume)'!$F$5","v":"20241031"},{"$f":"+'COVER SHEET'!$D$12","v":0},11510,{"$f":"'COVER SHEET'!$D$16&IF(MID('COVER SHEET'!$I$18,6,10)=\"december\",\"1231\",IF(MID('COVER SHEET'!$I$18,6,10)=\"june\",\"0630\"))","v":"20241231"},{"$f":"+'Outgoing Remittances (Volume)'!F18","v":0}]
["CMREM_11510","AM",{"$f":"+'Outgoing Remittances (Volume)'!$F$5","v":"20241031"},{"$f":"+'COVER SHEET'!$D$12","v":0},11510,{"$f":"'COVER SHEET'!$D$16&IF(MID('COVER SHEET'!$I$18,6,10)=\"december\",\"1231\",IF(MID('COVER SHEET'!$I$18,6,10)=\"june\",\"0630\"))","v":"20241231"},{"$f":"+'Outgoing Remittances (Volume)'!F19","v":0}]
["CMREM_11510","AW",{"$f":"+'Outgoing Remittances (Volume)'!$F$5","v":"20241031"},{"$f":"+'COVER SHEET'!$D$12","v":0},11510,{"$f":"'COVER SHEET'!$D$16&IF(MID('COVER SHEET'!$I$18,6,10)=\"december\",\"1231\",IF(MID('COVER SHEET'!$I$18,6,10)=\"june\",\"0630\"))","v":"20241231"},{"$f":"+'Outgoing Remittances (Volume)'!F20","v":0}]
["CMREM_11510","AU",{"$f":"+'Outgoing Remittances (Volume)'!$F$5","v":"20241031"},{"$f":"+'COVER SHEET'!$D$12","v":0},11510,{"$f":"'COVER SHEET'!$D$16&IF(MID('COVER SHEET'!$I$18,6,10)=\"december\",\"1231\",IF(MID('COVER SHEET'!$I$18,6,10)=\"june\",\"0630\"))","v":"20241231"},{"$f":"+'Outgoing Remittances (Volume)'!F21","v":0}]
["CMREM_11510","AT",{"$f":"+'Outgoing Remittances (Volume)'!$F$5","v":"20241031"},{"$f":"+'COVER SHEET'!$D$12","v":0},11510,{"$f":"'COVER SHEET'!$D$16&IF(MID('COVER SHEET'!$I$18,6,10)=\"december\",\"1231\",IF(MID('COVER SHEET'!$I$18,6,10)=\"june\",\"0630\"))","v":"20241231"},{"$f":"+'Outgoing Remittances (Volume)'!F22","v":0}]
["CMREM_11510","AZ",{"$f":"+'Outgoing Remittances (Volume)'!$F$5","v":"20241031"},{"$f":"+'COVER SHEET'!$D$12","v":0},11510,{"$f":"'COVER SHEET'!$D$16&IF(MID('COVER SHEET'!$I$18,6,10)=\"december\",\"1231\",IF(MID('COVER SHEET'!$I$18,6,10)=\"june\",\"0630\"))","v":"20241231"},{"$f":"+'Outgoing Remittances (Volume)'!F23","v":0}]
["CMREM_11510","BS",{"$f":"+'Outgoing Remittances (Volume)'!$F$5","v":"20241031"},{"$f":"+'COVER SHEET'!$D$12","v":0},11510,{"$f":"'COVER SHEET'!$D$16&IF(MID('COVER SHEET'!$I$18,6,10)=\"december\",\"1231\",IF(MID('COVER SHEET'!$I$18,6,10)=\"june\",\"0630\"))","v":"20241231"},{"$f":"+'Outgoing Remittances (Volume)'!F24","v":0}]
["CMREM_11510","BH",{"$f":"+'Outgoing Remittances (Volume)'!$F$5","v":"20241031"},{"$f":"+'COVER SHEET'!$D$12","v":0},11510,{"$f":"'COVER SHEET'!$D$16&IF(MID('COVER SHEET'!$I$18,6,10)=\"december\",\"1231\",IF(MID('COVER SHEET'!$I$18,6,10)=\"june\",\"0630\"))","v":"20241231"},{"$f":"+'Outgoing Remittances (Volume)'!F25","v":0}]
["CMREM_11510","BD",{"$f":"+'Outgoing Remittances (Volume)'!$F$5","v":"20241031"},{"$f":"+'COVER SHEET'!$D$12","v":0},11510,{"$f":"'COVER SHEET'!$D$16&IF(MID('COVER SHEET'!$I$18,6,10)=\"december\",\"1231\",IF(MID('COVER SHEET'!$I$18,6,10)=\"june\",\"0630\"))","v":"20241231"},{"$f":"+'Outgoing Remittances (Volume)'!F26","v":0}]
["CMREM_11510","BB",{"$f":"+'Outgoing Remittances (Volume)'!$F$5","v":"20241031"},{"$f":"+'COVER SHEET'!$D$12","v":0},11510,{"$f":"'COVER SHEET'!$D$16&IF(MID('COVER SHEET'!$I$18,6,10)=\"december\",\"1231\",IF(MID('COVER SHEET'!$I$18,6,10)=\"june\",\"0630\"))","v":"20241231"},{"$f":"+'Outgoing Remittances (Volume)'!F27","v":0}]
["CMREM_11510","BY",{"$f":"+'Outgoing Remittances (Volume)'!$F$5","v":"20241031"},{"$f":"+'COVER SHEET'!$D$12","v":0},11510,{"$f":"'COVER SHEET'!$D$16&IF(MID('COVER SHEET'!$I$18,6,10)=\"december\",\"1231\",IF(MID('COVER SHEET'!$I$18,6,10)=\"june\",\"0630\"))","v":"20241231"},{"$f":"+'Outgoing Remittances (Volume)'!F28","v":0}]
["CMREM_11510","BE",{"$f":"+'Outgoing Remittances (Volume)'!$F$5","v":"20241031"},{"$f":"+'COVER SHEET'!$D$12","v":0},11510,{"$f":"'COVER SHEET'!$D$16&IF(MID('COVER SHEET'!$I$18,6,10)=\"december\",\"1231\",IF(MID('COVER SHEET'!$I$18,6,10)=\"june\",\"0630\"))","v":"20241231"},{"$f":"+'Outgoing Remittances (Volume)'!F29","v":0}]
["CMREM_11510","BZ",{"$f":"+'Outgoing Remittances (Volume)'!$F$5","v":"20241031"},{"$f":"+'COVER SHEET'!$D$12","v":0},11510,{"$f":"'COVER SHEET'!$D$16&IF(MID('COVER SHEET'!$I$18,6,10)=\"december\",\"1231\",IF(MID('COVER SHEET'!$I$18,6,10)=\"june\",\"0630\"))","v":"20241231"},{"$f":"+'Outgoing Remittances (Volume)'!F30","v":0}]
["CMREM_11510","BJ",{"$f":"+'Outgoing Remittances (Volume)'!$F$5","v":"20241031"},{"$f":"+'COVER SHEET'!$D$12","v":0},11510,{"$f":"'COVER SHEET'!$D$16&IF(MID('COVER SHEET'!$I$18,6,10)=\"december\",\"1231\",IF(MID('COVER SHEET'!$I$18,6,10)=\"june\",\"0630\"))","v":"20241231"},{"$f":"+'Outgoing Remittances (Volume)'!F31","v":0}]
["CMREM_11510","BM",{"$f":"+'Outgoing Remittances (Volume)'!$F$5","v":"20241031"},{"$f":"+'COVER SHEET'!$D$12","v":0},11510,{"$f":"'COVER SHEET'!$D$16&IF(MID('COVER SHEET'!$I$18,6,10)=\"december\",\"1231\",IF(MID('COVER SHEET'!$I$18,6,10)=\"june\",\"0630\"))","v":"20241231"},{"$f":"+'Outgoing Remittances (Volume)'!F32","v":0}]
["CMREM_11510","BQ",{"$f":"+'Outgoing Remittances (Volume)'!$F$5","v":"20241031"},{"$f":"+'COVER SHEET'!$D$12","v":0},11510,{"$f":"'COVER SHEET'!$D$16&IF(MID('COVER SHEET'!$I$18,6,10)=\"december\",\"1231\",IF(MID('COVER SHEET'!$I$18,6,10)=\"june\",\"0630\"))","v":"20241231"},{"$f":"+'Outgoing Remittances (Volume)'!F33","v":0}]
["CMREM_11510","BT",{"$f":"+'Outgoing Remittances (Volume)'!$F$5","v":"20241031"},{"$f":"+'COVER SHEET'!$D$12","v":0},11510,{"$f":"'COVER SHEET'!$D$16&IF(MID('COVER SHEET'!$I$18,6,10)=\"december\",\"1231\",IF(MID('COVER SHEET'!$I$18,6,10)=\"june\",\"0630\"))","v":"20241231"},{"$f":"+'Outgoing Remittances (Volume)'!F34","v":0}]
["CMREM_11510","BO",{"$f":"+'Outgoing Remittances (Volume)'!$F$5","v":"20241031"},{"$f":"+'COVER SHEET'!$D$12","v":0},11510,{"$f":"'COVER SHEET'!$D$16&IF(MID('COVER SHEET'!$I$18,6,10)=\"december\",\"1231\",IF(MID('COVER SHEET'!$I$18,6,10)=\"june\",\"0630\"))","v":"20241231"},{"$f":"+'Outgoing Remittances (Volume)'!F35","v":0}]
["CMREM_11510","BA",{"$f":"+'Outgoing Remittances (Volume)'!$F$5","v":"20241031"},{"$f":"+'COVER SHEET'!$D$12","v":0},11510,{"$f":"'COVER SHEET'!$D$16&IF(MID('COVER SHEET'!$I$18,6,10)=\"december\",\"1231\",IF(MID('COVER SHEET'!$I$18,6,10)=\"june\",\"0630\"))","v":"20241231"},{"$f":"+'Outgoing Remittances (Volume)'!F36","v":0}]
["CMREM_11510","BW",{"$f":"+'Outgoing Remittances (Volume)'!$F$5","v":"20241031"},{"$f":"+'COVER SHEET'!$D$12","v":0},11510,{"$f":"'COVER SHEET'!$D$16&IF(MID('COVER SHEET'!$I$18,6,10)=\"december\",\"1231\",IF(MID('COVER SHEET'!$I$18,6,10)=\"june\",\"0630\"))","v":"20241231"},{"$f":"+'Outgoing Remittances (Volume)'!F37","v":0}]
["CMREM_11510","BV",{"$f":"+'Outgoing Remittances (Volume)'!$F$5","v":"20241031"},{"$f":"+'COVER SHEET'!$D$12","v":0},11510,{"$f":"'COVER SHEET'!$D$16&IF(MID('COVER SHEET'!$I$18,6,10)=\"december\",\"1231\",IF(MID('COVER SHEET'!$I$18,6,10)=\"june\",\"0630\"))","v":"20241231"},{"$f":"+'Outgoing Remittances (Volume)'!F38","v":0}]
["CMREM_11510","BR",{"$f":"+'Outgoing Remittances (Volume)'!$F$5","v":"20241031"},{"$f":"+'COVER SHEET'!$D$12","v":0},11510,{"$f":"'COVER SHEET'!$D$16&IF(MID('COVER SHEET'!$I$18,6,10)=\"december\",\"1231\",IF(MID('COVER SHEET'!$I$18,6,10)=\"june\",\"0630\"))","v":"20241231"},{"$f":"+'Outgoing Remittances (Volume)'!F39","v":0}]
["CMREM_11510","IO",{"$f":"+'Outgoing Remittances (Volume)'!$F$5","v":"20241031"},{"$f":"+'COVER SHEET'!$D$12","v":0},11510,{"$f":"'COVER SHEET'!$D$16&IF(MID('COVER SHEET'!$I$18,6,10)=\"december\",\"1231\",IF(MID('COVER SHEET'!$I$18,6,10)=\"june\",\"0630\"))","v":"20241231"},{"$f":"+'Outgoing Remittances (Volume)'!F40","v":0}]
["CMREM_11510","VG",{"$f":"+'Outgoing Remittances (Volume)'!$F$5","v":"20241031"},{"$f":"+'COVER SHEET'!$D$12","v":0},11510,{"$f":"'COVER SHEET'!$D$16&IF(MID('COVER SHEET'!$I$18,6,10)=\"december\",\"1231\",IF(MID('COVER SHEET'!$I$18,6,10)=\"june\",\"0630\"))","v":"20241231"},{"$f":"+'Outgoing Remittances (Volume)'!F41","v":0}]
["CMREM_11510","BN",{"$f":"+'Outgoing Remittances (Volume)'!$F$5","v":"20241031"},{"$f":"+'COVER SHEET'!$D$12","v":0},11510,{"$f":"'COVER SHEET'!$D$16&IF(MID('COVER SHEET'!$I$18,6,10)=\"december\",\"1231\",IF(MID('COVER SHEET'!$I$18,6,10)=\"june\",\"0630\"))","v":"20241231"},{"$f":"+'Outgoing Remittances (Volume)'!F42","v":0}]
["CMREM_11510","BG",{"$f":"+'Outgoing Remittances (Volume)'!$F$5","v":"20241031"},{"$f":"+'COVER SHEET'!$D$12","v":0},11510,{"$f":"'COVER SHEET'!$D$16&IF(MID('COVER SHEET'!$I$18,6,10)=\"december\",\"1231\",IF(MID('COVER SHEET'!$I$18,6,10)=\"june\",\"0630\"))","v":"20241231"},{"$f":"+'Outgoing Remittances (Volume)'!F43","v":0}]
["CMREM_11510","BF",{"$f":"+'Outgoing Remittances (Volume)'!$F$5","v":"20241031"},{"$f":"+'COVER SHEET'!$D$12","v":0},11510,{"$f":"'COVER SHEET'!$D$16&IF(MID('COVER SHEET'!$I$18,6,10)=\"december\",\"1231\",IF(MID('COVER SHEET'!$I$18,6,10)=\"june\",\"0630\"))","v":"20241231"},{"$f":"+'Outgoing Remittances (Volume)'!F44","v":0}]
["CMREM_11510","BI",{"$f":"+'Outgoing Remittances (Volume)'!$F$5","v":"20241031"},{"$f":"+'COVER SHEET'!$D$12","v":0},11510,{"$f":"'COVER SHEET'!$D$16&IF(MID('COVER SHEET'!$I$18,6,10)=\"december\",\"1231\",IF(MID('COVER SHEET'!$I$18,6,10)=\"june\",\"0630\"))","v":"20241231"},{"$f":"+'Outgoing Remittances (Volume)'!F45","v":0}]
["CMREM_11510","KH",{"$f":"+'Outgoing Remittances (Volume)'!$F$5","v":"20241031"},{"$f":"+'COVER SHEET'!$D$12","v":0},11510,{"$f":"'COVER SHEET'!$D$16&IF(MID('COVER SHEET'!$I$18,6,10)=\"december\",\"1231\",IF(MID('COVER SHEET'!$I$18,6,10)=\"june\",\"0630\"))","v":"20241231"},{"$f":"+'Outgoing Remittances (Volume)'!F46","v":0}]
["CMREM_11510","CM",{"$f":"+'Outgoing Remittances (Volume)'!$F$5","v":"20241031"},{"$f":"+'COVER SHEET'!$D$12","v":0},11510,{"$f":"'COVER SHEET'!$D$16&IF(MID('COVER SHEET'!$I$18,6,10)=\"december\",\"1231\",IF(MID('COVER SHEET'!$I$18,6,10)=\"june\",\"0630\"))","v":"20241231"},{"$f":"+'Outgoing Remittances (Volume)'!F47","v":0}]
["CMREM_11510","CA",{"$f":"+'Outgoing Remittances (Volume)'!$F$5","v":"20241031"},{"$f":"+'COVER SHEET'!$D$12","v":0},11510,{"$f":"'COVER SHEET'!$D$16&IF(MID('COVER SHEET'!$I$18,6,10)=\"december\",\"1231\",IF(MID('COVER SHEET'!$I$18,6,10)=\"june\",\"0630\"))","v":"20241231"},{"$f":"+'Outgoing Remittances (Volume)'!F48","v":0}]
["CMREM_11510","CV",{"$f":"+'Outgoing Remittances (Volume)'!$F$5","v":"20241031"},{"$f":"+'COVER SHEET'!$D$12","v":0},11510,{"$f":"'COVER SHEET'!$D$16&IF(MID('COVER SHEET'!$I$18,6,10)=\"december\",\"1231\",IF(MID('COVER SHEET'!$I$18,6,10)=\"june\",\"0630\"))","v":"20241231"},{"$f":"+'Outgoing Remittances (Volume)'!F49","v":0}]
["CMREM_11510","KY",{"$f":"+'Outgoing Remittances (Volume)'!$F$5","v":"20241031"},{"$f":"+'COVER SHEET'!$D$12","v":0},11510,{"$f":"'COVER SHEET'!$D$16&IF(MID('COVER SHEET'!$I$18,6,10)=\"december\",\"1231\",IF(MID('COVER SHEET'!$I$18,6,10)=\"june\",\"0630\"))","v":"20241231"},{"$f":"+'Outgoing Remittances (Volume)'!F50","v":0}]
["CMREM_11510","CF",{"$f":"+'Outgoing Remittances (Volume)'!$F$5","v":"20241031"},{"$f":"+'COVER SHEET'!$D$12","v":0},11510,{"$f":"'COVER SHEET'!$D$16&IF(MID('COVER SHEET'!$I$18,6,10)=\"december\",\"1231\",IF(MID('COVER SHEET'!$I$18,6,10)=\"june\",\"0630\"))","v":"20241231"},{"$f":"+'Outgoing Remittances (Volume)'!F51","v":0}]
["CMREM_11510","TD",{"$f":"+'Outgoing Remittances (Volume)'!$F$5","v":"20241031"},{"$f":"+'COVER SHEET'!$D$12","v":0},11510,{"$f":"'COVER SHEET'!$D$16&IF(MID('COVER SHEET'!$I$18,6,10)=\"december\",\"1231\",IF(MID('COVER SHEET'!$I$18,6,10)=\"june\",\"0630\"))","v":"20241231"},{"$f":"+'Outgoing Remittances (Volume)'!F52","v":0}]
["CMREM_11510","CL",{"$f":"+'Outgoing Remittances (Volume)'!$F$5","v":"20241031"},{"$f":"+'COVER SHEET'!$D$12","v":0},11510,{"$f":"'COVER SHEET'!$D$16&IF(MID('COVER SHEET'!$I$18,6,10)=\"december\",\"1231\",IF(MID('COVER SHEET'!$I$18,6,10)=\"june\",\"0630\"))","v":"20241231"},{"$f":"+'Outgoing Remittances (Volume)'!F53","v":0}]
["CMREM_11510","CN",{"$f":"+'Outgoing Remittances (Volume)'!$F$5","v":"20241031"},{"$f":"+'COVER SHEET'!$D$12","v":0},11510,{"$f":"'COVER SHEET'!$D$16&IF(MID('COVER SHEET'!$I$18,6,10)=\"december\",\"1231\",IF(MID('COVER SHEET'!$I$18,6,10)=\"june\",\"0630\"))","v":"20241231"},{"$f":"+'Outgoing Remittances (Volume)'!F54","v":0}]
["CMREM_11510","CX",{"$f":"+'Outgoing Remittances (Volume)'!$F$5","v":"20241031"},{"$f":"+'COVER SHEET'!$D$12","v":0},11510,{"$f":"'COVER SHEET'!$D$16&IF(MID('COVER SHEET'!$I$18,6,10)=\"december\",\"1231\",IF(MID('COVER SHEET'!$I$18,6,10)=\"june\",\"0630\"))","v":"20241231"},{"$f":"+'Outgoing Remittances (Volume)'!F55","v":0}]
["CMREM_11510","CC",{"$f":"+'Outgoing Remittances (Volume)'!$F$5","v":"20241031"},{"$f":"+'COVER SHEET'!$D$12","v":0},11510,{"$f":"'COVER SHEET'!$D$16&IF(MID('COVER SHEET'!$I$18,6,10)=\"december\",\"1231\",IF(MID('COVER SHEET'!$I$18,6,10)=\"june\",\"0630\"))","v":"20241231"},{"$f":"+'Outgoing Remittances (Volume)'!F56","v":0}]
["CMREM_11510","CO",{"$f":"+'Outgoing Remittances (Volume)'!$F$5","v":"20241031"},{"$f":"+'COVER SHEET'!$D$12","v":0},11510,{"$f":"'COVER SHEET'!$D$16&IF(MID('COVER SHEET'!$I$18,6,10)=\"december\",\"1231\",IF(MID('COVER SHEET'!$I$18,6,10)=\"june\",\"0630\"))","v":"20241231"},{"$f":"+'Outgoing Remittances (Volume)'!F57","v":0}]
["CMREM_11510","KM",{"$f":"+'Outgoing Remittances (Volume)'!$F$5","v":"20241031"},{"$f":"+'COVER SHEET'!$D$12","v":0},11510,{"$f":"'COVER SHEET'!$D$16&IF(MID('COVER SHEET'!$I$18,6,10)=\"december\",\"1231\",IF(MID('COVER SHEET'!$I$18,6,10)=\"june\",\"0630\"))","v":"20241231"},{"$f":"+'Outgoing Remittances (Volume)'!F58","v":0}]
["CMREM_11510","CG",{"$f":"+'Outgoing Remittances (Volume)'!$F$5","v":"20241031"},{"$f":"+'COVER SHEET'!$D$12","v":0},11510,{"$f":"'COVER SHEET'!$D$16&IF(MID('COVER SHEET'!$I$18,6,10)=\"december\",\"1231\",IF(MID('COVER SHEET'!$I$18,6,10)=\"june\",\"0630\"))","v":"20241231"},{"$f":"+'Outgoing Remittances (Volume)'!F59","v":0}]
["CMREM_11510","CD",{"$f":"+'Outgoing Remittances (Volume)'!$F$5","v":"20241031"},{"$f":"+'COVER SHEET'!$D$12","v":0},11510,{"$f":"'COVER SHEET'!$D$16&IF(MID('COVER SHEET'!$I$18,6,10)=\"december\",\"1231\",IF(MID('COVER SHEET'!$I$18,6,10)=\"june\",\"0630\"))","v":"20241231"},{"$f":"+'Outgoing Remittances (Volume)'!F60","v":0}]
["CMREM_11510","CK",{"$f":"+'Outgoing Remittances (Volume)'!$F$5","v":"20241031"},{"$f":"+'COVER SHEET'!$D$12","v":0},11510,{"$f":"'COVER SHEET'!$D$16&IF(MID('COVER SHEET'!$I$18,6,10)=\"december\",\"1231\",IF(MID('COVER SHEET'!$I$18,6,10)=\"june\",\"0630\"))","v":"20241231"},{"$f":"+'Outgoing Remittances (Volume)'!F61","v":0}]
["CMREM_11510","CR",{"$f":"+'Outgoing Remittances (Volume)'!$F$5","v":"20241031"},{"$f":"+'COVER SHEET'!$D$12","v":0},11510,{"$f":"'COVER SHEET'!$D$16&IF(MID('COVER SHEET'!$I$18,6,10)=\"december\",\"1231\",IF(MID('COVER SHEET'!$I$18,6,10)=\"june\",\"0630\"))","v":"20241231"},{"$f":"+'Outgoing Remittances (Volume)'!F62","v":0}]
["CMREM_11510","HR",{"$f":"+'Outgoing Remittances (Volume)'!$F$5","v":"20241031"},{"$f":"+'COVER SHEET'!$D$12","v":0},11510,{"$f":"'COVER SHEET'!$D$16&IF(MID('COVER SHEET'!$I$18,6,10)=\"december\",\"1231\",IF(MID('COVER SHEET'!$I$18,6,10)=\"june\",\"0630\"))","v":"20241231"},{"$f":"+'Outgoing Remittances (Volume)'!F63","v":0}]
["CMREM_11510","CU",{"$f":"+'Outgoing Remittances (Volume)'!$F$5","v":"20241031"},{"$f":"+'COVER SHEET'!$D$12","v":0},11510,{"$f":"'COVER SHEET'!$D$16&IF(MID('COVER SHEET'!$I$18,6,10)=\"december\",\"1231\",IF(MID('COVER SHEET'!$I$18,6,10)=\"june\",\"0630\"))","v":"20241231"},{"$f":"+'Outgoing Remittances (Volume)'!F64","v":0}]
["CMREM_11510","CW",{"$f":"+'Outgoing Remittances (Volume)'!$F$5","v":"20241031"},{"$f":"+'COVER SHEET'!$D$12","v":0},11510,{"$f":"'COVER SHEET'!$D$16&IF(MID('COVER SHEET'!$I$18,6,10)=\"december\",\"1231\",IF(MID('COVER SHEET'!$I$18,6,10)=\"june\",\"0630\"))","v":"20241231"},{"$f":"+'Outgoing Remittances (Volume)'!F65","v":0}]
["CMREM_11510","CY",{"$f":"+'Outgoing Remittances (Volume)'!$F$5","v":"20241031"},{"$f":"+'COVER SHEET'!$D$12","v":0},11510,{"$f":"'COVER SHEET'!$D$16&IF(MID('COVER SHEET'!$I$18,6,10)=\"december\",\"1231\",IF(MID('COVER SHEET'!$I$18,6,10)=\"june\",\"0630\"))","v":"20241231"},{"$f":"+'Outgoing Remittances (Volume)'!F66","v":0}]
["CMREM_11510","CZ",{"$f":"+'Outgoing Remittances (Volume)'!$F$5","v":"20241031"},{"$f":"+'COVER SHEET'!$D$12","v":0},11510,{"$f":"'COVER SHEET'!$D$16&IF(MID('COVER SHEET'!$I$18,6,10)=\"december\",\"1231\",IF(MID('COVER SHEET'!$I$18,6,10)=\"june\",\"0630\"))","v":"20241231"},{"$f":"+'Outgoing Remittances (Volume)'!F67","v":0}]
["CMREM_11510","DK",{"$f":"+'Outgoing Remittances (Volume)'!$F$5","v":"20241031"},{"$f":"+'COVER SHEET'!$D$12","v":0},11510,{"$f":"'COVER SHEET'!$D$16&IF(MID('COVER SHEET'!$I$18,6,10)=\"december\",\"1231\",IF(MID('COVER SHEET'!$I$18,6,10)=\"june\",\"0630\"))","v":"20241231"},{"$f":"+'Outgoing Remittances (Volume)'!F68","v":0}]
["CMREM_11510","DJ",{"$f":"+'Outgoing Remittances (Volume)'!$F$5","v":"20241031"},{"$f":"+'COVER SHEET'!$D$12","v":0},11510,{"$f":"'COVER SHEET'!$D$16&IF(MID('COVER SHEET'!$I$18,6,10)=\"december\",\"1231\",IF(MID('COVER SHEET'!$I$18,6,10)=\"june\",\"0630\"))","v":"20241231"},{"$f":"+'Outgoing Remittances (Volume)'!F69","v":0}]
["CMREM_11510","DM",{"$f":"+'Outgoing Remittances (Volume)'!$F$5","v":"20241031"},{"$f":"+'COVER SHEET'!$D$12","v":0},11510,{"$f":"'COVER SHEET'!$D$16&IF(MID('COVER SHEET'!$I$18,6,10)=\"december\",\"1231\",IF(MID('COVER SHEET'!$I$18,6,10)=\"june\",\"0630\"))","v":"20241231"},{"$f":"+'Outgoing Remittances (Volume)'!F70","v":0}]
["CMREM_11510","DO",{"$f":"+'Outgoing Remittances (Volume)'!$F$5","v":"20241031"},{"$f":"+'COVER SHEET'!$D$12","v":0},11510,{"$f":"'COVER SHEET'!$D$16&IF(MID('COVER SHEET'!$I$18,6,10)=\"december\",\"1231\",IF(MID('COVER SHEET'!$I$18,6,10)=\"june\",\"0630\"))","v":"20241231"},{"$f":"+'Outgoing Remittances (Volume)'!F71","v":0}]
["CMREM_11510","TL",{"$f":"+'Outgoing Remittances (Volume)'!$F$5","v":"20241031"},{"$f":"+'COVER SHEET'!$D$12","v":0},11510,{"$f":"'COVER SHEET'!$D$16&IF(MID('COVER SHEET'!$I$18,6,10)=\"december\",\"1231\",IF(MID('COVER SHEET'!$I$18,6,10)=\"june\",\"0630\"))","v":"20241231"},{"$f":"+'Outgoing Remittances (Volume)'!F72","v":0}]
["CMREM_11510","EC",{"$f":"+'Outgoing Remittances (Volume)'!$F$5","v":"20241031"},{"$f":"+'COVER SHEET'!$D$12","v":0},11510,{"$f":"'COVER SHEET'!$D$16&IF(MID('COVER SHEET'!$I$18,6,10)=\"december\",\"1231\",IF(MID('COVER SHEET'!$I$18,6,10)=\"june\",\"0630\"))","v":"20241231"},{"$f":"+'Outgoing Remittances (Volume)'!F73","v":0}]
["CMREM_11510","EG",{"$f":"+'Outgoing Remittances (Volume)'!$F$5","v":"20241031"},{"$f":"+'COVER SHEET'!$D$12","v":0},11510,{"$f":"'COVER SHEET'!$D$16&IF(MID('COVER SHEET'!$I$18,6,10)=\"december\",\"1231\",IF(MID('COVER SHEET'!$I$18,6,10)=\"june\",\"0630\"))","v":"20241231"},{"$f":"+'Outgoing Remittances (Volume)'!F74","v":0}]
["CMREM_11510","SV",{"$f":"+'Outgoing Remittances (Volume)'!$F$5","v":"20241031"},{"$f":"+'COVER SHEET'!$D$12","v":0},11510,{"$f":"'COVER SHEET'!$D$16&IF(MID('COVER SHEET'!$I$18,6,10)=\"december\",\"1231\",IF(MID('COVER SHEET'!$I$18,6,10)=\"june\",\"0630\"))","v":"20241231"},{"$f":"+'Outgoing Remittances (Volume)'!F75","v":0}]
["CMREM_11510","GQ",{"$f":"+'Outgoing Remittances (Volume)'!$F$5","v":"20241031"},{"$f":"+'COVER SHEET'!$D$12","v":0},11510,{"$f":"'COVER SHEET'!$D$16&IF(MID('COVER SHEET'!$I$18,6,10)=\"december\",\"1231\",IF(MID('COVER SHEET'!$I$18,6,10)=\"june\",\"0630\"))","v":"20241231"},{"$f":"+'Outgoing Remittances (Volume)'!F76","v":0}]
["CMREM_11510","ER",{"$f":"+'Outgoing Remittances (Volume)'!$F$5","v":"20241031"},{"$f":"+'COVER SHEET'!$D$12","v":0},11510,{"$f":"'COVER SHEET'!$D$16&IF(MID('COVER SHEET'!$I$18,6,10)=\"december\",\"1231\",IF(MID('COVER SHEET'!$I$18,6,10)=\"june\",\"0630\"))","v":"20241231"},{"$f":"+'Outgoing Remittances (Volume)'!F77","v":0}]
["CMREM_11510","EE",{"$f":"+'Outgoing Remittances (Volume)'!$F$5","v":"20241031"},{"$f":"+'COVER SHEET'!$D$12","v":0},11510,{"$f":"'COVER SHEET'!$D$16&IF(MID('COVER SHEET'!$I$18,6,10)=\"december\",\"1231\",IF(MID('COVER SHEET'!$I$18,6,10)=\"june\",\"0630\"))","v":"20241231"},{"$f":"+'Outgoing Remittances (Volume)'!F78","v":0}]
["CMREM_11510","ET",{"$f":"+'Outgoing Remittances (Volume)'!$F$5","v":"20241031"},{"$f":"+'COVER SHEET'!$D$12","v":0},11510,{"$f":"'COVER SHEET'!$D$16&IF(MID('COVER SHEET'!$I$18,6,10)=\"december\",\"1231\",IF(MID('COVER SHEET'!$I$18,6,10)=\"june\",\"0630\"))","v":"20241231"},{"$f":"+'Outgoing Remittances (Volume)'!F79","v":0}]
["CMREM_11510","FK",{"$f":"+'Outgoing Remittances (Volume)'!$F$5","v":"20241031"},{"$f":"+'COVER SHEET'!$D$12","v":0},11510,{"$f":"'COVER SHEET'!$D$16&IF(MID('COVER SHEET'!$I$18,6,10)=\"december\",\"1231\",IF(MID('COVER SHEET'!$I$18,6,10)=\"june\",\"0630\"))","v":"20241231"},{"$f":"+'Outgoing Remittances (Volume)'!F80","v":0}]
["CMREM_11510","FO",{"$f":"+'Outgoing Remittances (Volume)'!$F$5","v":"20241031"},{"$f":"+'COVER SHEET'!$D$12","v":0},11510,{"$f":"'COVER SHEET'!$D$16&IF(MID('COVER SHEET'!$I$18,6,10)=\"december\",\"1231\",IF(MID('COVER SHEET'!$I$18,6,10)=\"june\",\"0630\"))","v":"20241231"},{"$f":"+'Outgoing Remittances (Volume)'!F81","v":0}]
["CMREM_11510","FJ",{"$f":"+'Outgoing Remittances (Volume)'!$F$5","v":"20241031"},{"$f":"+'COVER SHEET'!$D$12","v":0},11510,{"$f":"'COVER SHEET'!$D$16&IF(MID('COVER SHEET'!$I$18,6,10)=\"december\",\"1231\",IF(MID('COVER SHEET'!$I$18,6,10)=\"june\",\"0630\"))","v":"20241231"},{"$f":"+'Outgoing Remittances (Volume)'!F82","v":0}]
["CMREM_11510","FI",{"$f":"+'Outgoing Remittances (Volume)'!$F$5","v":"20241031"},{"$f":"+'COVER SHEET'!$D$12","v":0},11510,{"$f":"'COVER SHEET'!$D$16&IF(MID('COVER SHEET'!$I$18,6,10)=\"december\",\"1231\",IF(MID('COVER SHEET'!$I$18,6,10)=\"june\",\"0630\"))","v":"20241231"},{"$f":"+'Outgoing Remittances (Volume)'!F83","v":0}]
["CMREM_11510","FR",{"$f":"+'Outgoing Remittances (Volume)'!$F$5","v":"20241031"},{"$f":"+'COVER SHEET'!$D$12","v":0},11510,{"$f":"'COVER SHEET'!$D$16&IF(MID('COVER SHEET'!$I$18,6,10)=\"december\",\"1231\",IF(MID('COVER SHEET'!$I$18,6,10)=\"june\",\"0630\"))","v":"20241231"},{"$f":"+'Outgoing Remittances (Volume)'!F84","v":0}]
["CMREM_11510","PF",{"$f":"+'Outgoing Remittances (Volume)'!$F$5","v":"20241031"},{"$f":"+'COVER SHEET'!$D$12","v":0},11510,{"$f":"'COVER SHEET'!$D$16&IF(MID('COVER SHEET'!$I$18,6,10)=\"december\",\"1231\",IF(MID('COVER SHEET'!$I$18,6,10)=\"june\",\"0630\"))","v":"20241231"},{"$f":"+'Outgoing Remittances (Volume)'!F85","v":0}]
["CMREM_11510","TF",{"$f":"+'Outgoing Remittances (Volume)'!$F$5","v":"20241031"},{"$f":"+'COVER SHEET'!$D$12","v":0},11510,{"$f":"'COVER SHEET'!$D$16&IF(MID('COVER SHEET'!$I$18,6,10)=\"december\",\"1231\",IF(MID('COVER SHEET'!$I$18,6,10)=\"june\",\"0630\"))","v":"20241231"},{"$f":"+'Outgoing Remittances (Volume)'!F86","v":0}]
["CMREM_11510","GA",{"$f":"+'Outgoing Remittances (Volume)'!$F$5","v":"20241031"},{"$f":"+'COVER SHEET'!$D$12","v":0},11510,{"$f":"'COVER SHEET'!$D$16&IF(MID('COVER SHEET'!$I$18,6,10)=\"december\",\"1231\",IF(MID('COVER SHEET'!$I$18,6,10)=\"june\",\"0630\"))","v":"20241231"},{"$f":"+'Outgoing Remittances (Volume)'!F87","v":0}]
["CMREM_11510","GM",{"$f":"+'Outgoing Remittances (Volume)'!$F$5","v":"20241031"},{"$f":"+'COVER SHEET'!$D$12","v":0},11510,{"$f":"'COVER SHEET'!$D$16&IF(MID('COVER SHEET'!$I$18,6,10)=\"december\",\"1231\",IF(MID('COVER SHEET'!$I$18,6,10)=\"june\",\"0630\"))","v":"20241231"},{"$f":"+'Outgoing Remittances (Volume)'!F88","v":0}]
["CMREM_11510","GE",{"$f":"+'Outgoing Remittances (Volume)'!$F$5","v":"20241031"},{"$f":"+'COVER SHEET'!$D$12","v":0},11510,{"$f":"'COVER SHEET'!$D$16&IF(MID('COVER SHEET'!$I$18,6,10)=\"december\",\"1231\",IF(MID('COVER SHEET'!$I$18,6,10)=\"june\",\"0630\"))","v":"20241231"},{"$f":"+'Outgoing Remittances (Volume)'!F89","v":0}]
["CMREM_11510","DE",{"$f":"+'Outgoing Remittances (Volume)'!$F$5","v":"20241031"},{"$f":"+'COVER SHEET'!$D$12","v":0},11510,{"$f":"'COVER SHEET'!$D$16&IF(MID('COVER SHEET'!$I$18,6,10)=\"december\",\"1231\",IF(MID('COVER SHEET'!$I$18,6,10)=\"june\",\"0630\"))","v":"20241231"},{"$f":"+'Outgoing Remittances (Volume)'!F90","v":0}]
["CMREM_11510","GH",{"$f":"+'Outgoing Remittances (Volume)'!$F$5","v":"20241031"},{"$f":"+'COVER SHEET'!$D$12","v":0},11510,{"$f":"'COVER SHEET'!$D$16&IF(MID('COVER SHEET'!$I$18,6,10)=\"december\",\"1231\",IF(MID('COVER SHEET'!$I$18,6,10)=\"june\",\"0630\"))","v":"20241231"},{"$f":"+'Outgoing Remittances (Volume)'!F91","v":0}]
["CMREM_11510","GI",{"$f":"+'Outgoing Remittances (Volume)'!$F$5","v":"20241031"},{"$f":"+'COVER SHEET'!$D$12","v":0},11510,{"$f":"'COVER SHEET'!$D$16&IF(MID('COVER SHEET'!$I$18,6,10)=\"december\",\"1231\",IF(MID('COVER SHEET'!$I$18,6,10)=\"june\",\"0630\"))","v":"20241231"},{"$f":"+'Outgoing Remittances (Volume)'!F92","v":0}]
["CMREM_11510","GR",{"$f":"+'Outgoing Remittances (Volume)'!$F$5","v":"20241031"},{"$f":"+'COVER SHEET'!$D$12","v":0},11510,{"$f":"'COVER SHEET'!$D$16&IF(MID('COVER SHEET'!$I$18,6,10)=\"december\",\"1231\",IF(MID('COVER SHEET'!$I$18,6,10)=\"june\",\"0630\"))","v":"20241231"},{"$f":"+'Outgoing Remittances (Volume)'!F93","v":0}]
["CMREM_11510","GL",{"$f":"+'Outgoing Remittances (Volume)'!$F$5","v":"20241031"},{"$f":"+'COVER SHEET'!$D$12","v":0},11510,{"$f":"'COVER SHEET'!$D$16&IF(MID('COVER SHEET'!$I$18,6,10)=\"december\",\"1231\",IF(MID('COVER SHEET'!$I$18,6,10)=\"june\",\"0630\"))","v":"20241231"},{"$f":"+'Outgoing Remittances (Volume)'!F94","v":0}]
["CMREM_11510","GD",{"$f":"+'Outgoing Remittances (Volume)'!$F$5","v":"20241031"},{"$f":"+'COVER SHEET'!$D$12","v":0},11510,{"$f":"'COVER SHEET'!$D$16&IF(MID('COVER SHEET'!$I$18,6,10)=\"december\",\"1231\",IF(MID('COVER SHEET'!$I$18,6,10)=\"june\",\"0630\"))","v":"20241231"},{"$f":"+'Outgoing Remittances (Volume)'!F95","v":0}]
["CMREM_11510","GU",{"$f":"+'Outgoing Remittances (Volume)'!$F$5","v":"20241031"},{"$f":"+'COVER SHEET'!$D$12","v":0},11510,{"$f":"'COVER SHEET'!$D$16&IF(MID('COVER SHEET'!$I$18,6,10)=\"december\",\"1231\",IF(MID('COVER SHEET'!$I$18,6,10)=\"june\",\"0630\"))","v":"20241231"},{"$f":"+'Outgoing Remittances (Volume)'!F96","v":0}]
["CMREM_11510","GT",{"$f":"+'Outgoing Remittances (Volume)'!$F$5","v":"20241031"},{"$f":"+'COVER SHEET'!$D$12","v":0},11510,{"$f":"'COVER SHEET'!$D$16&IF(MID('COVER SHEET'!$I$18,6,10)=\"december\",\"1231\",IF(MID('COVER SHEET'!$I$18,6,10)=\"june\",\"0630\"))","v":"20241231"},{"$f":"+'Outgoing Remittances (Volume)'!F97","v":0}]
["CMREM_11510","GG",{"$f":"+'Outgoing Remittances (Volume)'!$F$5","v":"20241031"},{"$f":"+'COVER SHEET'!$D$12","v":0},11510,{"$f":"'COVER SHEET'!$D$16&IF(MID('COVER SHEET'!$I$18,6,10)=\"december\",\"1231\",IF(MID('COVER SHEET'!$I$18,6,10)=\"june\",\"0630\"))","v":"20241231"},{"$f":"+'Outgoing Remittances (Volume)'!F98","v":0}]
["CMREM_11510","GN",{"$f":"+'Outgoing Remittances (Volume)'!$F$5","v":"20241031"},{"$f":"+'COVER SHEET'!$D$12","v":0},11510,{"$f":"'COVER SHEET'!$D$16&IF(MID('COVER SHEET'!$I$18,6,10)=\"december\",\"1231\",IF(MID('COVER SHEET'!$I$18,6,10)=\"june\",\"0630\"))","v":"20241231"},{"$f":"+'Outgoing Remittances (Volume)'!F99","v":0}]
["CMREM_11510","GW",{"$f":"+'Outgoing Remittances (Volume)'!$F$5","v":"20241031"},{"$f":"+'COVER SHEET'!$D$12","v":0},11510,{"$f":"'COVER SHEET'!$D$16&IF(MID('COVER SHEET'!$I$18,6,10)=\"december\",\"1231\",IF(MID('COVER SHEET'!$I$18,6,10)=\"june\",\"0630\"))","v":"20241231"},{"$f":"+'Outgoing Remittances (Volume)'!F100","v":0}]
["CMREM_11510","GY",{"$f":"+'Outgoing Remittances (Volume)'!$F$5","v":"20241031"},{"$f":"+'COVER SHEET'!$D$12","v":0},11510,{"$f":"'COVER SHEET'!$D$16&IF(MID('COVER SHEET'!$I$18,6,10)=\"december\",\"1231\",IF(MID('COVER SHEET'!$I$18,6,10)=\"june\",\"0630\"))","v":"20241231"},{"$f":"+'Outgoing Remittances (Volume)'!F101","v":0}]
["CMREM_11510","HT",{"$f":"+'Outgoing Remittances (Volume)'!$F$5","v":"20241031"},{"$f":"+'COVER SHEET'!$D$12","v":0},11510,{"$f":"'COVER SHEET'!$D$16&IF(MID('COVER SHEET'!$I$18,6,10)=\"december\",\"1231\",IF(MID('COVER SHEET'!$I$18,6,10)=\"june\",\"0630\"))","v":"20241231"},{"$f":"+'Outgoing Remittances (Volume)'!F102","v":0}]
["CMREM_11510","HM",{"$f":"+'Outgoing Remittances (Volume)'!$F$5","v":"20241031"},{"$f":"+'COVER SHEET'!$D$12","v":0},11510,{"$f":"'COVER SHEET'!$D$16&IF(MID('COVER SHEET'!$I$18,6,10)=\"december\",\"1231\",IF(MID('COVER SHEET'!$I$18,6,10)=\"june\",\"0630\"))","v":"20241231"},{"$f":"+'Outgoing Remittances (Volume)'!F103","v":0}]
["CMREM_11510","VA",{"$f":"+'Outgoing Remittances (Volume)'!$F$5","v":"20241031"},{"$f":"+'COVER SHEET'!$D$12","v":0},11510,{"$f":"'COVER SHEET'!$D$16&IF(MID('COVER SHEET'!$I$18,6,10)=\"december\",\"1231\",IF(MID('COVER SHEET'!$I$18,6,10)=\"june\",\"0630\"))","v":"20241231"},{"$f":"+'Outgoing Remittances (Volume)'!F104","v":0}]
["CMREM_11510","HN",{"$f":"+'Outgoing Remittances (Volume)'!$F$5","v":"20241031"},{"$f":"+'COVER SHEET'!$D$12","v":0},11510,{"$f":"'COVER SHEET'!$D$16&IF(MID('COVER SHEET'!$I$18,6,10)=\"december\",\"1231\",IF(MID('COVER SHEET'!$I$18,6,10)=\"june\",\"0630\"))","v":"20241231"},{"$f":"+'Outgoing Remittances (Volume)'!F105","v":0}]
["CMREM_11510","HK",{"$f":"+'Outgoing Remittances (Volume)'!$F$5","v":"20241031"},{"$f":"+'COVER SHEET'!$D$12","v":0},11510,{"$f":"'COVER SHEET'!$D$16&IF(MID('COVER SHEET'!$I$18,6,10)=\"december\",\"1231\",IF(MID('COVER SHEET'!$I$18,6,10)=\"june\",\"0630\"))","v":"20241231"},{"$f":"+'Outgoing Remittances (Volume)'!F106","v":0}]
["CMREM_11510","HU",{"$f":"+'Outgoing Remittances (Volume)'!$F$5","v":"20241031"},{"$f":"+'COVER SHEET'!$D$12","v":0},11510,{"$f":"'COVER SHEET'!$D$16&IF(MID('COVER SHEET'!$I$18,6,10)=\"december\",\"1231\",IF(MID('COVER SHEET'!$I$18,6,10)=\"june\",\"0630\"))","v":"20241231"},{"$f":"+'Outgoing Remittances (Volume)'!F107","v":0}]
["CMREM_11510","IS",{"$f":"+'Outgoing Remittances (Volume)'!$F$5","v":"20241031"},{"$f":"+'COVER SHEET'!$D$12","v":0},11510,{"$f":"'COVER SHEET'!$D$16&IF(MID('COVER SHEET'!$I$18,6,10)=\"december\",\"1231\",IF(MID('COVER SHEET'!$I$18,6,10)=\"june\",\"0630\"))","v":"20241231"},{"$f":"+'Outgoing Remittances (Volume)'!F108","v":0}]
["CMREM_11510","IN",{"$f":"+'Outgoing Remittances (Volume)'!$F$5","v":"20241031"},{"$f":"+'COVER SHEET'!$D$12","v":0},11510,{"$f":"'COVER SHEET'!$D$16&IF(MID('COVER SHEET'!$I$18,6,10)=\"december\",\"1231\",IF(MID('COVER SHEET'!$I$18,6,10)=\"june\",\"0630\"))","v":"20241231"},{"$f":"+'Outgoing Remittances (Volume)'!F109","v":0}]
["CMREM_11510","ID",{"$f":"+'Outgoing Remittances (Volume)'!$F$5","v":"20241031"},{"$f":"+'COVER SHEET'!$D$12","v":0},11510,{"$f":"'COVER SHEET'!$D$16&IF(MID('COVER SHEET'!$I$18,6,10)=\"december\",\"1231\",IF(MID('COVER SHEET'!$I$18,6,10)=\"june\",\"0630\"))","v":"20241231"},{"$f":"+'Outgoing Remittances (Volume)'!F110","v":0}]
["CMREM_11510","IR",{"$f":"+'Outgoing Remittances (Volume)'!$F$5","v":"20241031"},{"$f":"+'COVER SHEET'!$D$12","v":0},11510,{"$f":"'COVER SHEET'!$D$16&IF(MID('COVER SHEET'!$I$18,6,10)=\"december\",\"1231\",IF(MID('COVER SHEET'!$I$18,6,10)=\"june\",\"0630\"))","v":"20241231"},{"$f":"+'Outgoing Remittances (Volume)'!F111","v":0}]
["CMREM_11510","IQ",{"$f":"+'Outgoing Remittances (Volume)'!$F$5","v":"20241031"},{"$f":"+'COVER SHEET'!$D$12","v":0},11510,{"$f":"'COVER SHEET'!$D$16&IF(MID('COVER SHEET'!$I$18,6,10)=\"december\",\"1231\",IF(MID('COVER SHEET'!$I$18,6,10)=\"june\",\"0630\"))","v":"20241231"},{"$f":"+'Outgoing Remittances (Volume)'!F112","v":0}]
["CMREM_11510","IE",{"$f":"+'Outgoing Remittances (Volume)'!$F$5","v":"20241031"},{"$f":"+'COVER SHEET'!$D$12","v":0},11510,{"$f":"'COVER SHEET'!$D$16&IF(MID('COVER SHEET'!$I$18,6,10)=\"december\",\"1231\",IF(MID('COVER SHEET'!$I$18,6,10)=\"june\",\"0630\"))","v":"20241231"},{"$f":"+'Outgoing Remittances (Volume)'!F113","v":0}]
["CMREM_11510","IM",{"$f":"+'Outgoing Remittances (Volume)'!$F$5","v":"20241031"},{"$f":"+'COVER SHEET'!$D$12","v":0},11510,{"$f":"'COVER SHEET'!$D$16&IF(MID('COVER SHEET'!$I$18,6,10)=\"december\",\"1231\",IF(MID('COVER SHEET'!$I$18,6,10)=\"june\",\"0630\"))","v":"20241231"},{"$f":"+'Outgoing Remittances (Volume)'!F114","v":0}]
["CMREM_11510","IL",{"$f":"+'Outgoing Remittances (Volume)'!$F$5","v":"20241031"},{"$f":"+'COVER SHEET'!$D$12","v":0},11510,{"$f":"'COVER SHEET'!$D$16&IF(MID('COVER SHEET'!$I$18,6,10)=\"december\",\"1231\",IF(MID('COVER SHEET'!$I$18,6,10)=\"june\",\"0630\"))","v":"20241231"},{"$f":"+'Outgoing Remittances (Volume)'!F115","v":0}]
["CMREM_11510","IT",{"$f":"+'Outgoing Remittances (Volume)'!$F$5","v":"20241031"},{"$f":"+'COVER SHEET'!$D$12","v":0},11510,{"$f":"'COVER SHEET'!$D$16&IF(MID('COVER SHEET'!$I$18,6,10)=\"december\",\"1231\",IF(MID('COVER SHEET'!$I$18,6,10)=\"june\",\"0630\"))","v":"20241231"},{"$f":"+'Outgoing Remittances (Volume)'!F116","v":0}]
["CMREM_11510","CI",{"$f":"+'Outgoing Remittances (Volume)'!$F$5","v":"20241031"},{"$f":"+'COVER SHEET'!$D$12","v":0},11510,{"$f":"'COVER SHEET'!$D$16&IF(MID('COVER SHEET'!$I$18,6,10)=\"december\",\"1231\",IF(MID('COVER SHEET'!$I$18,6,10)=\"june\",\"0630\"))","v":"20241231"},{"$f":"+'Outgoing Remittances (Volume)'!F117","v":0}]
["CMREM_11510","JM",{"$f":"+'Outgoing Remittances (Volume)'!$F$5","v":"20241031"},{"$f":"+'COVER SHEET'!$D$12","v":0},11510,{"$f":"'COVER SHEET'!$D$16&IF(MID('COVER SHEET'!$I$18,6,10)=\"december\",\"1231\",IF(MID('COVER SHEET'!$I$18,6,10)=\"june\",\"0630\"))","v":"20241231"},{"$f":"+'Outgoing Remittances (Volume)'!F118","v":0}]
["CMREM_11510","JP",{"$f":"+'Outgoing Remittances (Volume)'!$F$5","v":"20241031"},{"$f":"+'COVER SHEET'!$D$12","v":0},11510,{"$f":"'COVER SHEET'!$D$16&IF(MID('COVER SHEET'!$I$18,6,10)=\"december\",\"1231\",IF(MID('COVER SHEET'!$I$18,6,10)=\"june\",\"0630\"))","v":"20241231"},{"$f":"+'Outgoing Remittances (Volume)'!F119","v":0}]
["CMREM_11510","JE",{"$f":"+'Outgoing Remittances (Volume)'!$F$5","v":"20241031"},{"$f":"+'COVER SHEET'!$D$12","v":0},11510,{"$f":"'COVER SHEET'!$D$16&IF(MID('COVER SHEET'!$I$18,6,10)=\"december\",\"1231\",IF(MID('COVER SHEET'!$I$18,6,10)=\"june\",\"0630\"))","v":"20241231"},{"$f":"+'Outgoing Remittances (Volume)'!F120","v":0}]
["CMREM_11510","JO",{"$f":"+'Outgoing Remittances (Volume)'!$F$5","v":"20241031"},{"$f":"+'COVER SHEET'!$D$12","v":0},11510,{"$f":"'COVER SHEET'!$D$16&IF(MID('COVER SHEET'!$I$18,6,10)=\"december\",\"1231\",IF(MID('COVER SHEET'!$I$18,6,10)=\"june\",\"0630\"))","v":"20241231"},{"$f":"+'Outgoing Remittances (Volume)'!F121","v":0}]
["CMREM_11510","KZ",{"$f":"+'Outgoing Remittances (Volume)'!$F$5","v":"20241031"},{"$f":"+'COVER SHEET'!$D$12","v":0},11510,{"$f":"'COVER SHEET'!$D$16&IF(MID('COVER SHEET'!$I$18,6,10)=\"december\",\"1231\",IF(MID('COVER SHEET'!$I$18,6,10)=\"june\",\"0630\"))","v":"20241231"},{"$f":"+'Outgoing Remittances (Volume)'!F122","v":0}]
["CMREM_11510","KE",{"$f":"+'Outgoing Remittances (Volume)'!$F$5","v":"20241031"},{"$f":"+'COVER SHEET'!$D$12","v":0},11510,{"$f":"'COVER SHEET'!$D$16&IF(MID('COVER SHEET'!$I$18,6,10)=\"december\",\"1231\",IF(MID('COVER SHEET'!$I$18,6,10)=\"june\",\"0630\"))","v":"20241231"},{"$f":"+'Outgoing Remittances (Volume)'!F123","v":0}]
["CMREM_11510","KI",{"$f":"+'Outgoing Remittances (Volume)'!$F$5","v":"20241031"},{"$f":"+'COVER SHEET'!$D$12","v":0},11510,{"$f":"'COVER SHEET'!$D$16&IF(MID('COVER SHEET'!$I$18,6,10)=\"december\",\"1231\",IF(MID('COVER SHEET'!$I$18,6,10)=\"june\",\"0630\"))","v":"20241231"},{"$f":"+'Outgoing Remittances (Volume)'!F124","v":0}]
["CMREM_11510","KP",{"$f":"+'Outgoing Remittances (Volume)'!$F$5","v":"20241031"},{"$f":"+'COVER SHEET'!$D$12","v":0},11510,{"$f":"'COVER SHEET'!$D$16&IF(MID('COVER SHEET'!$I$18,6,10)=\"december\",\"1231\",IF(MID('COVER SHEET'!$I$18,6,10)=\"june\",\"0630\"))","v":"20241231"},{"$f":"+'Outgoing Remittances (Volume)'!F125","v":0}]
["CMREM_11510","KR",{"$f":"+'Outgoing Remittances (Volume)'!$F$5","v":"20241031"},{"$f":"+'COVER SHEET'!$D$12","v":0},11510,{"$f":"'COVER SHEET'!$D$16&IF(MID('COVER SHEET'!$I$18,6,10)=\"december\",\"1231\",IF(MID('COVER SHEET'!$I$18,6,10)=\"june\",\"0630\"))","v":"20241231"},{"$f":"+'Outgoing Remittances (Volume)'!F126","v":0}]
["CMREM_11510","XK",{"$f":"+'Outgoing Remittances (Volume)'!$F$5","v":"20241031"},{"$f":"+'COVER SHEET'!$D$12","v":0},11510,{"$f":"'COVER SHEET'!$D$16&IF(MID('COVER SHEET'!$I$18,6,10)=\"december\",\"1231\",IF(MID('COVER SHEET'!$I$18,6,10)=\"june\",\"0630\"))","v":"20241231"},{"$f":"+'Outgoing Remittances (Volume)'!F127","v":0}]
["CMREM_11510","KW",{"$f":"+'Outgoing Remittances (Volume)'!$F$5","v":"20241031"},{"$f":"+'COVER SHEET'!$D$12","v":0},11510,{"$f":"'COVER SHEET'!$D$16&IF(MID('COVER SHEET'!$I$18,6,10)=\"december\",\"1231\",IF(MID('COVER SHEET'!$I$18,6,10)=\"june\",\"0630\"))","v":"20241231"},{"$f":"+'Outgoing Remittances (Volume)'!F128","v":0}]
["CMREM_11510","KG",{"$f":"+'Outgoing Remittances (Volume)'!$F$5","v":"20241031"},{"$f":"+'COVER SHEET'!$D$12","v":0},11510,{"$f":"'COVER SHEET'!$D$16&IF(MID('COVER SHEET'!$I$18,6,10)=\"december\",\"1231\",IF(MID('COVER SHEET'!$I$18,6,10)=\"june\",\"0630\"))","v":"20241231"},{"$f":"+'Outgoing Remittances (Volume)'!F129","v":0}]
["CMREM_11510","LA",{"$f":"+'Outgoing Remittances (Volume)'!$F$5","v":"20241031"},{"$f":"+'COVER SHEET'!$D$12","v":0},11510,{"$f":"'COVER SHEET'!$D$16&IF(MID('COVER SHEET'!$I$18,6,10)=\"december\",\"1231\",IF(MID('COVER SHEET'!$I$18,6,10)=\"june\",\"0630\"))","v":"20241231"},{"$f":"+'Outgoing Remittances (Volume)'!F130","v":0}]
["CMREM_11510","LV",{"$f":"+'Outgoing Remittances (Volume)'!$F$5","v":"20241031"},{"$f":"+'COVER SHEET'!$D$12","v":0},11510,{"$f":"'COVER SHEET'!$D$16&IF(MID('COVER SHEET'!$I$18,6,10)=\"december\",\"1231\",IF(MID('COVER SHEET'!$I$18,6,10)=\"june\",\"0630\"))","v":"20241231"},{"$f":"+'Outgoing Remittances (Volume)'!F131","v":0}]
["CMREM_11510","LB",{"$f":"+'Outgoing Remittances (Volume)'!$F$5","v":"20241031"},{"$f":"+'COVER SHEET'!$D$12","v":0},11510,{"$f":"'COVER SHEET'!$D$16&IF(MID('COVER SHEET'!$I$18,6,10)=\"december\",\"1231\",IF(MID('COVER SHEET'!$I$18,6,10)=\"june\",\"0630\"))","v":"20241231"},{"$f":"+'Outgoing Remittances (Volume)'!F132","v":0}]
["CMREM_11510","LS",{"$f":"+'Outgoing Remittances (Volume)'!$F$5","v":"20241031"},{"$f":"+'COVER SHEET'!$D$12","v":0},11510,{"$f":"'COVER SHEET'!$D$16&IF(MID('COVER SHEET'!$I$18,6,10)=\"december\",\"1231\",IF(MID('COVER SHEET'!$I$18,6,10)=\"june\",\"0630\"))","v":"20241231"},{"$f":"+'Outgoing Remittances (Volume)'!F133","v":0}]
["CMREM_11510","LR",{"$f":"+'Outgoing Remittances (Volume)'!$F$5","v":"20241031"},{"$f":"+'COVER SHEET'!$D$12","v":0},11510,{"$f":"'COVER SHEET'!$D$16&IF(MID('COVER SHEET'!$I$18,6,10)=\"december\",\"1231\",IF(MID('COVER SHEET'!$I$18,6,10)=\"june\",\"0630\"))","v":"20241231"},{"$f":"+'Outgoing Remittances (Volume)'!F134","v":0}]
["CMREM_11510","LY",{"$f":"+'Outgoing Remittances (Volume)'!$F$5","v":"20241031"},{"$f":"+'COVER SHEET'!$D$12","v":0},11510,{"$f":"'COVER SHEET'!$D$16&IF(MID('COVER SHEET'!$I$18,6,10)=\"december\",\"1231\",IF(MID('COVER SHEET'!$I$18,6,10)=\"june\",\"0630\"))","v":"20241231"},{"$f":"+'Outgoing Remittances (Volume)'!F135","v":0}]
["CMREM_11510","LI",{"$f":"+'Outgoing Remittances (Volume)'!$F$5","v":"20241031"},{"$f":"+'COVER SHEET'!$D$12","v":0},11510,{"$f":"'COVER SHEET'!$D$16&IF(MID('COVER SHEET'!$I$18,6,10)=\"december\",\"1231\",IF(MID('COVER SHEET'!$I$18,6,10)=\"june\",\"0630\"))","v":"20241231"},{"$f":"+'Outgoing Remittances (Volume)'!F136","v":0}]
["CMREM_11510","LT",{"$f":"+'Outgoing Remittances (Volume)'!$F$5","v":"20241031"},{"$f":"+'COVER SHEET'!$D$12","v":0},11510,{"$f":"'COVER SHEET'!$D$16&IF(MID('COVER SHEET'!$I$18,6,10)=\"december\",\"1231\",IF(MID('COVER SHEET'!$I$18,6,10)=\"june\",\"0630\"))","v":"20241231"},{"$f":"+'Outgoing Remittances (Volume)'!F137","v":0}]
["CMREM_11510","LU",{"$f":"+'Outgoing Remittances (Volume)'!$F$5","v":"20241031"},{"$f":"+'COVER SHEET'!$D$12","v":0},11510,{"$f":"'COVER SHEET'!$D$16&IF(MID('COVER SHEET'!$I$18,6,10)=\"december\",\"1231\",IF(MID('COVER SHEET'!$I$18,6,10)=\"june\",\"0630\"))","v":"20241231"},{"$f":"+'Outgoing Remittances (Volume)'!F138","v":0}]
["CMREM_11510","MO",{"$f":"+'Outgoing Remittances (Volume)'!$F$5","v":"20241031"},{"$f":"+'COVER SHEET'!$D$12","v":0},11510,{"$f":"'COVER SHEET'!$D$16&IF(MID('COVER SHEET'!$I$18,6,10)=\"december\",\"1231\",IF(MID('COVER SHEET'!$I$18,6,10)=\"june\",\"0630\"))","v":"20241231"},{"$f":"+'Outgoing Remittances (Volume)'!F139","v":0}]
["CMREM_11510","MK",{"$f":"+'Outgoing Remittances (Volume)'!$F$5","v":"20241031"},{"$f":"+'COVER SHEET'!$D$12","v":0},11510,{"$f":"'COVER SHEET'!$D$16&IF(MID('COVER SHEET'!$I$18,6,10)=\"december\",\"1231\",IF(MID('COVER SHEET'!$I$18,6,10)=\"june\",\"0630\"))","v":"20241231"},{"$f":"+'Outgoing Remittances (Volume)'!F140","v":0}]
["CMREM_11510","MG",{"$f":"+'Outgoing Remittances (Volume)'!$F$5","v":"20241031"},{"$f":"+'COVER SHEET'!$D$12","v":0},11510,{"$f":"'COVER SHEET'!$D$16&IF(MID('COVER SHEET'!$I$18,6,10)=\"december\",\"1231\",IF(MID('COVER SHEET'!$I$18,6,10)=\"june\",\"0630\"))","v":"20241231"},{"$f":"+'Outgoing Remittances (Volume)'!F141","v":0}]
["CMREM_11510","MW",{"$f":"+'Outgoing Remittances (Volume)'!$F$5","v":"20241031"},{"$f":"+'COVER SHEET'!$D$12","v":0},11510,{"$f":"'COVER SHEET'!$D$16&IF(MID('COVER SHEET'!$I$18,6,10)=\"december\",\"1231\",IF(MID('COVER SHEET'!$I$18,6,10)=\"june\",\"0630\"))","v":"20241231"},{"$f":"+'Outgoing Remittances (Volume)'!F142","v":0}]
["CMREM_11510","MY",{"$f":"+'Outgoing Remittances (Volume)'!$F$5","v":"20241031"},{"$f":"+'COVER SHEET'!$D$12","v":0},11510,{"$f":"'COVER SHEET'!$D$16&IF(MID('COVER SHEET'!$I$18,6,10)=\"december\",\"1231\",IF(MID('COVER SHEET'!$I$18,6,10)=\"june\",\"0630\"))","v":"20241231"},{"$f":"+'Outgoing Remittances (Volume)'!F143","v":0}]
["CMREM_11510","MV",{"$f":"+'Outgoing Remittances (Volume)'!$F$5","v":"20241031"},{"$f":"+'COVER SHEET'!$D$12","v":0},11510,{"$f":"'COVER SHEET'!$D$16&IF(MID('COVER SHEET'!$I$18,6,10)=\"december\",\"1231\",IF(MID('COVER SHEET'!$I$18,6,10)=\"june\",\"0630\"))","v":"20241231"},{"$f":"+'Outgoing Remittances (Volume)'!F144","v":0}]
["CMREM_11510","ML",{"$f":"+'Outgoing Remittances (Volume)'!$F$5","v":"20241031"},{"$f":"+'COVER SHEET'!$D$12","v":0},11510,{"$f":"'COVER SHEET'!$D$16&IF(MID('COVER SHEET'!$I$18,6,10)=\"december\",\"1231\",IF(MID('COVER SHEET'!$I$18,6,10)=\"june\",\"0630\"))","v":"20241231"},{"$f":"+'Outgoing Remittances (Volume)'!F145","v":0}]
["CMREM_11510","MH",{"$f":"+'Outgoing Remittances (Volume)'!$F$5","v":"20241031"},{"$f":"+'COVER SHEET'!$D$12","v":0},11510,{"$f":"'COVER SHEET'!$D$16&IF(MID('COVER SHEET'!$I$18,6,10)=\"december\",\"1231\",IF(MID('COVER SHEET'!$I$18,6,10)=\"june\",\"0630\"))","v":"20241231"},{"$f":"+'Outgoing Remittances (Volume)'!F146","v":0}]
["CMREM_11510","MR",{"$f":"+'Outgoing Remittances (Volume)'!$F$5","v":"20241031"},{"$f":"+'COVER SHEET'!$D$12","v":0},11510,{"$f":"'COVER SHEET'!$D$16&IF(MID('COVER SHEET'!$I$18,6,10)=\"december\",\"1231\",IF(MID('COVER SHEET'!$I$18,6,10)=\"june\",\"0630\"))","v":"20241231"},{"$f":"+'Outgoing Remittances (Volume)'!F147","v":0}]
["CMREM_11510","MU",{"$f":"+'Outgoing Remittances (Volume)'!$F$5","v":"20241031"},{"$f":"+'COVER SHEET'!$D$12","v":0},11510,{"$f":"'COVER SHEET'!$D$16&IF(MID('COVER SHEET'!$I$18,6,10)=\"december\",\"1231\",IF(MID('COVER SHEET'!$I$18,6,10)=\"june\",\"0630\"))","v":"20241231"},{"$f":"+'Outgoing Remittances (Volume)'!F148","v":0}]
["CMREM_11510","MX",{"$f":"+'Outgoing Remittances (Volume)'!$F$5","v":"20241031"},{"$f":"+'COVER SHEET'!$D$12","v":0},11510,{"$f":"'COVER SHEET'!$D$16&IF(MID('COVER SHEET'!$I$18,6,10)=\"december\",\"1231\",IF(MID('COVER SHEET'!$I$18,6,10)=\"june\",\"0630\"))","v":"20241231"},{"$f":"+'Outgoing Remittances (Volume)'!F149","v":0}]
["CMREM_11510","FM",{"$f":"+'Outgoing Remittances (Volume)'!$F$5","v":"20241031"},{"$f":"+'COVER SHEET'!$D$12","v":0},11510,{"$f":"'COVER SHEET'!$D$16&IF(MID('COVER SHEET'!$I$18,6,10)=\"december\",\"1231\",IF(MID('COVER SHEET'!$I$18,6,10)=\"june\",\"0630\"))","v":"20241231"},{"$f":"+'Outgoing Remittances (Volume)'!F150","v":0}]
["CMREM_11510","MD",{"$f":"+'Outgoing Remittances (Volume)'!$F$5","v":"20241031"},{"$f":"+'COVER SHEET'!$D$12","v":0},11510,{"$f":"'COVER SHEET'!$D$16&IF(MID('COVER SHEET'!$I$18,6,10)=\"december\",\"1231\",IF(MID('COVER SHEET'!$I$18,6,10)=\"june\",\"0630\"))","v":"20241231"},{"$f":"+'Outgoing Remittances (Volume)'!F151","v":0}]
["CMREM_11510","MN",{"$f":"+'Outgoing Remittances (Volume)'!$F$5","v":"20241031"},{"$f":"+'COVER SHEET'!$D$12","v":0},11510,{"$f":"'COVER SHEET'!$D$16&IF(MID('COVER SHEET'!$I$18,6,10)=\"december\",\"1231\",IF(MID('COVER SHEET'!$I$18,6,10)=\"june\",\"0630\"))","v":"20241231"},{"$f":"+'Outgoing Remittances (Volume)'!F152","v":0}]
["CMREM_11510","ME",{"$f":"+'Outgoing Remittances (Volume)'!$F$5","v":"20241031"},{"$f":"+'COVER SHEET'!$D$12","v":0},11510,{"$f":"'COVER SHEET'!$D$16&IF(MID('COVER SHEET'!$I$18,6,10)=\"december\",\"1231\",IF(MID('COVER SHEET'!$I$18,6,10)=\"june\",\"0630\"))","v":"20241231"},{"$f":"+'Outgoing Remittances (Volume)'!F153","v":0}]
["CMREM_11510","MS",{"$f":"+'Outgoing Remittances (Volume)'!$F$5","v":"20241031"},{"$f":"+'COVER SHEET'!$D$12","v":0},11510,{"$f":"'COVER SHEET'!$D$16&IF(MID('COVER SHEET'!$I$18,6,10)=\"december\",\"1231\",IF(MID('COVER SHEET'!$I$18,6,10)=\"june\",\"0630\"))","v":"20241231"},{"$f":"+'Outgoing Remittances (Volume)'!F154","v":0}]
["CMREM_11510","MA",{"$f":"+'Outgoing Remittances (Volume)'!$F$5","v":"20241031"},{"$f":"+'COVER SHEET'!$D$12","v":0},11510,{"$f":"'COVER SHEET'!$D$16&IF(MID('COVER SHEET'!$I$18,6,10)=\"december\",\"1231\",IF(MID('COVER SHEET'!$I$18,6,10)=\"june\",\"0630\"))","v":"20241231"},{"$f":"+'Outgoing Remittances (Volume)'!F155","v":0}]
["CMREM_11510","MZ",{"$f":"+'Outgoing Remittances (Volume)'!$F$5","v":"20241031"},{"$f":"+'COVER SHEET'!$D$12","v":0},11510,{"$f":"'COVER SHEET'!$D$16&IF(MID('COVER SHEET'!$I$18,6,10)=\"december\",\"1231\",IF(MID('COVER SHEET'!$I$18,6,10)=\"june\",\"0630\"))","v":"20241231"},{"$f":"+'Outgoing Remittances (Volume)'!F156","v":0}]
["CMREM_11510","MM",{"$f":"+'Outgoing Remittances (Volume)'!$F$5","v":"20241031"},{"$f":"+'COVER SHEET'!$D$12","v":0},11510,{"$f":"'COVER SHEET'!$D$16&IF(MID('COVER SHEET'!$I$18,6,10)=\"december\",\"1231\",IF(MID('COVER SHEET'!$I$18,6,10)=\"june\",\"0630\"))","v":"20241231"},{"$f":"+'Outgoing Remittances (Volume)'!F157","v":0}]
["CMREM_11510","NA",{"$f":"+'Outgoing Remittances (Volume)'!$F$5","v":"20241031"},{"$f":"+'COVER SHEET'!$D$12","v":0},11510,{"$f":"'COVER SHEET'!$D$16&IF(MID('COVER SHEET'!$I$18,6,10)=\"december\",\"1231\",IF(MID('COVER SHEET'!$I$18,6,10)=\"june\",\"0630\"))","v":"20241231"},{"$f":"+'Outgoing Remittances (Volume)'!F158","v":0}]
["CMREM_11510","NR",{"$f":"+'Outgoing Remittances (Volume)'!$F$5","v":"20241031"},{"$f":"+'COVER SHEET'!$D$12","v":0},11510,{"$f":"'COVER SHEET'!$D$16&IF(MID('COVER SHEET'!$I$18,6,10)=\"december\",\"1231\",IF(MID('COVER SHEET'!$I$18,6,10)=\"june\",\"0630\"))","v":"20241231"},{"$f":"+'Outgoing Remittances (Volume)'!F159","v":0}]
["CMREM_11510","NP",{"$f":"+'Outgoing Remittances (Volume)'!$F$5","v":"20241031"},{"$f":"+'COVER SHEET'!$D$12","v":0},11510,{"$f":"'COVER SHEET'!$D$16&IF(MID('COVER SHEET'!$I$18,6,10)=\"december\",\"1231\",IF(MID('COVER SHEET'!$I$18,6,10)=\"june\",\"0630\"))","v":"20241231"},{"$f":"+'Outgoing Remittances (Volume)'!F160","v":0}]
["CMREM_11510","NL",{"$f":"+'Outgoing Remittances (Volume)'!$F$5","v":"20241031"},{"$f":"+'COVER SHEET'!$D$12","v":0},11510,{"$f":"'COVER SHEET'!$D$16&IF(MID('COVER SHEET'!$I$18,6,10)=\"december\",\"1231\",IF(MID('COVER SHEET'!$I$18,6,10)=\"june\",\"0630\"))","v":"20241231"},{"$f":"+'Outgoing Remittances (Volume)'!F161","v":0}]
["CMREM_11510","NC",{"$f":"+'Outgoing Remittances (Volume)'!$F$5","v":"20241031"},{"$f":"+'COVER SHEET'!$D$12","v":0},11510,{"$f":"'COVER SHEET'!$D$16&IF(MID('COVER SHEET'!$I$18,6,10)=\"december\",\"1231\",IF(MID('COVER SHEET'!$I$18,6,10)=\"june\",\"0630\"))","v":"20241231"},{"$f":"+'Outgoing Remittances (Volume)'!F162","v":0}]
["CMREM_11510","NZ",{"$f":"+'Outgoing Remittances (Volume)'!$F$5","v":"20241031"},{"$f":"+'COVER SHEET'!$D$12","v":0},11510,{"$f":"'COVER SHEET'!$D$16&IF(MID('COVER SHEET'!$I$18,6,10)=\"december\",\"1231\",IF(MID('COVER SHEET'!$I$18,6,10)=\"june\",\"0630\"))","v":"20241231"},{"$f":"+'Outgoing Remittances (Volume)'!F163","v":0}]
["CMREM_11510","NI",{"$f":"+'Outgoing Remittances (Volume)'!$F$5","v":"20241031"},{"$f":"+'COVER SHEET'!$D$12","v":0},11510,{"$f":"'COVER SHEET'!$D$16&IF(MID('COVER SHEET'!$I$18,6,10)=\"december\",\"1231\",IF(MID('COVER SHEET'!$I$18,6,10)=\"june\",\"0630\"))","v":"20241231"},{"$f":"+'Outgoing Remittances (Volume)'!F164","v":0}]
["CMREM_11510","NE",{"$f":"+'Outgoing Remittances (Volume)'!$F$5","v":"20241031"},{"$f":"+'COVER SHEET'!$D$12","v":0},11510,{"$f":"'COVER SHEET'!$D$16&IF(MID('COVER SHEET'!$I$18,6,10)=\"december\",\"1231\",IF(MID('COVER SHEET'!$I$18,6,10)=\"june\",\"0630\"))","v":"20241231"},{"$f":"+'Outgoing Remittances (Volume)'!F165","v":0}]
["CMREM_11510","NG",{"$f":"+'Outgoing Remittances (Volume)'!$F$5","v":"20241031"},{"$f":"+'COVER SHEET'!$D$12","v":0},11510,{"$f":"'COVER SHEET'!$D$16&IF(MID('COVER SHEET'!$I$18,6,10)=\"december\",\"1231\",IF(MID('COVER SHEET'!$I$18,6,10)=\"june\",\"0630\"))","v":"20241231"},{"$f":"+'Outgoing Remittances (Volume)'!F166","v":0}]
["CMREM_11510","NU",{"$f":"+'Outgoing Remittances (Volume)'!$F$5","v":"20241031"},{"$f":"+'COVER SHEET'!$D$12","v":0},11510,{"$f":"'COVER SHEET'!$D$16&IF(MID('COVER SHEET'!$I$18,6,10)=\"december\",\"1231\",IF(MID('COVER SHEET'!$I$18,6,10)=\"june\",\"0630\"))","v":"20241231"},{"$f":"+'Outgoing Remittances (Volume)'!F167","v":0}]
["CMREM_11510","NF",{"$f":"+'Outgoing Remittances (Volume)'!$F$5","v":"20241031"},{"$f":"+'COVER SHEET'!$D$12","v":0},11510,{"$f":"'COVER SHEET'!$D$16&IF(MID('COVER SHEET'!$I$18,6,10)=\"december\",\"1231\",IF(MID('COVER SHEET'!$I$18,6,10)=\"june\",\"0630\"))","v":"20241231"},{"$f":"+'Outgoing Remittances (Volume)'!F168","v":0}]
["CMREM_11510","MP",{"$f":"+'Outgoing Remittances (Volume)'!$F$5","v":"20241031"},{"$f":"+'COVER SHEET'!$D$12","v":0},11510,{"$f":"'COVER SHEET'!$D$16&IF(MID('COVER SHEET'!$I$18,6,10)=\"december\",\"1231\",IF(MID('COVER SHEET'!$I$18,6,10)=\"june\",\"0630\"))","v":"20241231"},{"$f":"+'Outgoing Remittances (Volume)'!F169","v":0}]
["CMREM_11510","NO",{"$f":"+'Outgoing Remittances (Volume)'!$F$5","v":"20241031"},{"$f":"+'COVER SHEET'!$D$12","v":0},11510,{"$f":"'COVER SHEET'!$D$16&IF(MID('COVER SHEET'!$I$18,6,10)=\"december\",\"1231\",IF(MID('COVER SHEET'!$I$18,6,10)=\"june\",\"0630\"))","v":"20241231"},{"$f":"+'Outgoing Remittances (Volume)'!F170","v":0}]
["CMREM_11510","OM",{"$f":"+'Outgoing Remittances (Volume)'!$F$5","v":"20241031"},{"$f":"+'COVER SHEET'!$D$12","v":0},11510,{"$f":"'COVER SHEET'!$D$16&IF(MID('COVER SHEET'!$I$18,6,10)=\"december\",\"1231\",IF(MID('COVER SHEET'!$I$18,6,10)=\"june\",\"0630\"))","v":"20241231"},{"$f":"+'Outgoing Remittances (Volume)'!F171","v":0}]
["CMREM_11510","PK",{"$f":"+'Outgoing Remittances (Volume)'!$F$5","v":"20241031"},{"$f":"+'COVER SHEET'!$D$12","v":0},11510,{"$f":"'COVER SHEET'!$D$16&IF(MID('COVER SHEET'!$I$18,6,10)=\"december\",\"1231\",IF(MID('COVER SHEET'!$I$18,6,10)=\"june\",\"0630\"))","v":"20241231"},{"$f":"+'Outgoing Remittances (Volume)'!F172","v":0}]
["CMREM_11510","PW",{"$f":"+'Outgoing Remittances (Volume)'!$F$5","v":"20241031"},{"$f":"+'COVER SHEET'!$D$12","v":0},11510,{"$f":"'COVER SHEET'!$D$16&IF(MID('COVER SHEET'!$I$18,6,10)=\"december\",\"1231\",IF(MID('COVER SHEET'!$I$18,6,10)=\"june\",\"0630\"))","v":"20241231"},{"$f":"+'Outgoing Remittances (Volume)'!F173","v":0}]
["CMREM_11510","PS",{"$f":"+'Outgoing Remittances (Volume)'!$F$5","v":"20241031"},{"$f":"+'COVER SHEET'!$D$12","v":0},11510,{"$f":"'COVER SHEET'!$D$16&IF(MID('COVER SHEET'!$I$18,6,10)=\"december\",\"1231\",IF(MID('COVER SHEET'!$I$18,6,10)=\"june\",\"0630\"))","v":"20241231"},{"$f":"+'Outgoing Remittances (Volume)'!F174","v":0}]
["CMREM_11510","PA",{"$f":"+'Outgoing Remittances (Volume)'!$F$5","v":"20241031"},{"$f":"+'COVER SHEET'!$D$12","v":0},11510,{"$f":"'COVER SHEET'!$D$16&IF(MID('COVER SHEET'!$I$18,6,10)=\"december\",\"1231\",IF(MID('COVER SHEET'!$I$18,6,10)=\"june\",\"0630\"))","v":"20241231"},{"$f":"+'Outgoing Remittances (Volume)'!F175","v":0}]
["CMREM_11510","PG",{"$f":"+'Outgoing Remittances (Volume)'!$F$5","v":"20241031"},{"$f":"+'COVER SHEET'!$D$12","v":0},11510,{"$f":"'COVER SHEET'!$D$16&IF(MID('COVER SHEET'!$I$18,6,10)=\"december\",\"1231\",IF(MID('COVER SHEET'!$I$18,6,10)=\"june\",\"0630\"))","v":"20241231"},{"$f":"+'Outgoing Remittances (Volume)'!F176","v":0}]
["CMREM_11510","PY",{"$f":"+'Outgoing Remittances (Volume)'!$F$5","v":"20241031"},{"$f":"+'COVER SHEET'!$D$12","v":0},11510,{"$f":"'COVER SHEET'!$D$16&IF(MID('COVER SHEET'!$I$18,6,10)=\"december\",\"1231\",IF(MID('COVER SHEET'!$I$18,6,10)=\"june\",\"0630\"))","v":"20241231"},{"$f":"+'Outgoing Remittances (Volume)'!F177","v":0}]
["CMREM_11510","PE",{"$f":"+'Outgoing Remittances (Volume)'!$F$5","v":"20241031"},{"$f":"+'COVER SHEET'!$D$12","v":0},11510,{"$f":"'COVER SHEET'!$D$16&IF(MID('COVER SHEET'!$I$18,6,10)=\"december\",\"1231\",IF(MID('COVER SHEET'!$I$18,6,10)=\"june\",\"0630\"))","v":"20241231"},{"$f":"+'Outgoing Remittances (Volume)'!F178","v":0}]
["CMREM_11510","PH",{"$f":"+'Outgoing Remittances (Volume)'!$F$5","v":"20241031"},{"$f":"+'COVER SHEET'!$D$12","v":0},11510,{"$f":"'COVER SHEET'!$D$16&IF(MID('COVER SHEET'!$I$18,6,10)=\"december\",\"1231\",IF(MID('COVER SHEET'!$I$18,6,10)=\"june\",\"0630\"))","v":"20241231"},{"$f":"+'Outgoing Remittances (Volume)'!F179","v":0}]
["CMREM_11510","PN",{"$f":"+'Outgoing Remittances (Volume)'!$F$5","v":"20241031"},{"$f":"+'COVER SHEET'!$D$12","v":0},11510,{"$f":"'COVER SHEET'!$D$16&IF(MID('COVER SHEET'!$I$18,6,10)=\"december\",\"1231\",IF(MID('COVER SHEET'!$I$18,6,10)=\"june\",\"0630\"))","v":"20241231"},{"$f":"+'Outgoing Remittances (Volume)'!F180","v":0}]
["CMREM_11510","PL",{"$f":"+'Outgoing Remittances (Volume)'!$F$5","v":"20241031"},{"$f":"+'COVER SHEET'!$D$12","v":0},11510,{"$f":"'COVER SHEET'!$D$16&IF(MID('COVER SHEET'!$I$18,6,10)=\"december\",\"1231\",IF(MID('COVER SHEET'!$I$18,6,10)=\"june\",\"0630\"))","v":"20241231"},{"$f":"+'Outgoing Remittances (Volume)'!F181","v":0}]
["CMREM_11510","PT",{"$f":"+'Outgoing Remittances (Volume)'!$F$5","v":"20241031"},{"$f":"+'COVER SHEET'!$D$12","v":0},11510,{"$f":"'COVER SHEET'!$D$16&IF(MID('COVER SHEET'!$I$18,6,10)=\"december\",\"1231\",IF(MID('COVER SHEET'!$I$18,6,10)=\"june\",\"0630\"))","v":"20241231"},{"$f":"+'Outgoing Remittances (Volume)'!F182","v":0}]
["CMREM_11510","QA",{"$f":"+'Outgoing Remittances (Volume)'!$F$5","v":"20241031"},{"$f":"+'COVER SHEET'!$D$12","v":0},11510,{"$f":"'COVER SHEET'!$D$16&IF(MID('COVER SHEET'!$I$18,6,10)=\"december\",\"1231\",IF(MID('COVER SHEET'!$I$18,6,10)=\"june\",\"0630\"))","v":"20241231"},{"$f":"+'Outgoing Remittances (Volume)'!F183","v":0}]
["CMREM_11510","RO",{"$f":"+'Outgoing Remittances (Volume)'!$F$5","v":"20241031"},{"$f":"+'COVER SHEET'!$D$12","v":0},11510,{"$f":"'COVER SHEET'!$D$16&IF(MID('COVER SHEET'!$I$18,6,10)=\"december\",\"1231\",IF(MID('COVER SHEET'!$I$18,6,10)=\"june\",\"0630\"))","v":"20241231"},{"$f":"+'Outgoing Remittances (Volume)'!F184","v":0}]
["CMREM_11510","RU",{"$f":"+'Outgoing Remittances (Volume)'!$F$5","v":"20241031"},{"$f":"+'COVER SHEET'!$D$12","v":0},11510,{"$f":"'COVER SHEET'!$D$16&IF(MID('COVER SHEET'!$I$18,6,10)=\"december\",\"1231\",IF(MID('COVER SHEET'!$I$18,6,10)=\"june\",\"0630\"))","v":"20241231"},{"$f":"+'Outgoing Remittances (Volume)'!F185","v":0}]
["CMREM_11510","RW",{"$f":"+'Outgoing Remittances (Volume)'!$F$5","v":"20241031"},{"$f":"+'COVER SHEET'!$D$12","v":0},11510,{"$f":"'COVER SHEET'!$D$16&IF(MID('COVER SHEET'!$I$18,6,10)=\"december\",\"1231\",IF(MID('COVER SHEET'!$I$18,6,10)=\"june\",\"0630\"))","v":"20241231"},{"$f":"+'Outgoing Remittances (Volume)'!F186","v":0}]
["CMREM_11510","SH",{"$f":"+'Outgoing Remittances (Volume)'!$F$5","v":"20241031"},{"$f":"+'COVER SHEET'!$D$12","v":0},11510,{"$f":"'COVER SHEET'!$D$16&IF(MID('COVER SHEET'!$I$18,6,10)=\"december\",\"1231\",IF(MID('COVER SHEET'!$I$18,6,10)=\"june\",\"0630\"))","v":"20241231"},{"$f":"+'Outgoing Remittances (Volume)'!F187","v":0}]
["CMREM_11510","KN",{"$f":"+'Outgoing Remittances (Volume)'!$F$5","v":"20241031"},{"$f":"+'COVER SHEET'!$D$12","v":0},11510,{"$f":"'COVER SHEET'!$D$16&IF(MID('COVER SHEET'!$I$18,6,10)=\"december\",\"1231\",IF(MID('COVER SHEET'!$I$18,6,10)=\"june\",\"0630\"))","v":"20241231"},{"$f":"+'Outgoing Remittances (Volume)'!F188","v":0}]
["CMREM_11510","LC",{"$f":"+'Outgoing Remittances (Volume)'!$F$5","v":"20241031"},{"$f":"+'COVER SHEET'!$D$12","v":0},11510,{"$f":"'COVER SHEET'!$D$16&IF(MID('COVER SHEET'!$I$18,6,10)=\"december\",\"1231\",IF(MID('COVER SHEET'!$I$18,6,10)=\"june\",\"0630\"))","v":"20241231"},{"$f":"+'Outgoing Remittances (Volume)'!F189","v":0}]
["CMREM_11510","VC",{"$f":"+'Outgoing Remittances (Volume)'!$F$5","v":"20241031"},{"$f":"+'COVER SHEET'!$D$12","v":0},11510,{"$f":"'COVER SHEET'!$D$16&IF(MID('COVER SHEET'!$I$18,6,10)=\"december\",\"1231\",IF(MID('COVER SHEET'!$I$18,6,10)=\"june\",\"0630\"))","v":"20241231"},{"$f":"+'Outgoing Remittances (Volume)'!F190","v":0}]
["CMREM_11510","WS",{"$f":"+'Outgoing Remittances (Volume)'!$F$5","v":"20241031"},{"$f":"+'COVER SHEET'!$D$12","v":0},11510,{"$f":"'COVER SHEET'!$D$16&IF(MID('COVER SHEET'!$I$18,6,10)=\"december\",\"1231\",IF(MID('COVER SHEET'!$I$18,6,10)=\"june\",\"0630\"))","v":"20241231"},{"$f":"+'Outgoing Remittances (Volume)'!F191","v":0}]
["CMREM_11510","SM",{"$f":"+'Outgoing Remittances (Volume)'!$F$5","v":"20241031"},{"$f":"+'COVER SHEET'!$D$12","v":0},11510,{"$f":"'COVER SHEET'!$D$16&IF(MID('COVER SHEET'!$I$18,6,10)=\"december\",\"1231\",IF(MID('COVER SHEET'!$I$18,6,10)=\"june\",\"0630\"))","v":"20241231"},{"$f":"+'Outgoing Remittances (Volume)'!F192","v":0}]
["CMREM_11510","ST",{"$f":"+'Outgoing Remittances (Volume)'!$F$5","v":"20241031"},{"$f":"+'COVER SHEET'!$D$12","v":0},11510,{"$f":"'COVER SHEET'!$D$16&IF(MID('COVER SHEET'!$I$18,6,10)=\"december\",\"1231\",IF(MID('COVER SHEET'!$I$18,6,10)=\"june\",\"0630\"))","v":"20241231"},{"$f":"+'Outgoing Remittances (Volume)'!F193","v":0}]
["CMREM_11510","SA",{"$f":"+'Outgoing Remittances (Volume)'!$F$5","v":"20241031"},{"$f":"+'COVER SHEET'!$D$12","v":0},11510,{"$f":"'COVER SHEET'!$D$16&IF(MID('COVER SHEET'!$I$18,6,10)=\"december\",\"1231\",IF(MID('COVER SHEET'!$I$18,6,10)=\"june\",\"0630\"))","v":"20241231"},{"$f":"+'Outgoing Remittances (Volume)'!F194","v":0}]
["CMREM_11510","SN",{"$f":"+'Outgoing Remittances (Volume)'!$F$5","v":"20241031"},{"$f":"+'COVER SHEET'!$D$12","v":0},11510,{"$f":"'COVER SHEET'!$D$16&IF(MID('COVER SHEET'!$I$18,6,10)=\"december\",\"1231\",IF(MID('COVER SHEET'!$I$18,6,10)=\"june\",\"0630\"))","v":"20241231"},{"$f":"+'Outgoing Remittances (Volume)'!F195","v":0}]
["CMREM_11510","RS",{"$f":"+'Outgoing Remittances (Volume)'!$F$5","v":"20241031"},{"$f":"+'COVER SHEET'!$D$12","v":0},11510,{"$f":"'COVER SHEET'!$D$16&IF(MID('COVER SHEET'!$I$18,6,10)=\"december\",\"1231\",IF(MID('COVER SHEET'!$I$18,6,10)=\"june\",\"0630\"))","v":"20241231"},{"$f":"+'Outgoing Remittances (Volume)'!F196","v":0}]
["CMREM_11510","SC",{"$f":"+'Outgoing Remittances (Volume)'!$F$5","v":"20241031"},{"$f":"+'COVER SHEET'!$D$12","v":0},11510,{"$f":"'COVER SHEET'!$D$16&IF(MID('COVER SHEET'!$I$18,6,10)=\"december\",\"1231\",IF(MID('COVER SHEET'!$I$18,6,10)=\"june\",\"0630\"))","v":"20241231"},{"$f":"+'Outgoing Remittances (Volume)'!F197","v":0}]
["CMREM_11510","SL",{"$f":"+'Outgoing Remittances (Volume)'!$F$5","v":"20241031"},{"$f":"+'COVER SHEET'!$D$12","v":0},11510,{"$f":"'COVER SHEET'!$D$16&IF(MID('COVER SHEET'!$I$18,6,10)=\"december\",\"1231\",IF(MID('COVER SHEET'!$I$18,6,10)=\"june\",\"0630\"))","v":"20241231"},{"$f":"+'Outgoing Remittances (Volume)'!F198","v":0}]
["CMREM_11510","SG",{"$f":"+'Outgoing Remittances (Volume)'!$F$5","v":"20241031"},{"$f":"+'COVER SHEET'!$D$12","v":0},11510,{"$f":"'COVER SHEET'!$D$16&IF(MID('COVER SHEET'!$I$18,6,10)=\"december\",\"1231\",IF(MID('COVER SHEET'!$I$18,6,10)=\"june\",\"0630\"))","v":"20241231"},{"$f":"+'Outgoing Remittances (Volume)'!F199","v":0}]
["CMREM_11510","SX",{"$f":"+'Outgoing Remittances (Volume)'!$F$5","v":"20241031"},{"$f":"+'COVER SHEET'!$D$12","v":0},11510,{"$f":"'COVER SHEET'!$D$16&IF(MID('COVER SHEET'!$I$18,6,10)=\"december\",\"1231\",IF(MID('COVER SHEET'!$I$18,6,10)=\"june\",\"0630\"))","v":"20241231"},{"$f":"+'Outgoing Remittances (Volume)'!F200","v":0}]
["CMREM_11510","SK",{"$f":"+'Outgoing Remittances (Volume)'!$F$5","v":"20241031"},{"$f":"+'COVER SHEET'!$D$12","v":0},11510,{"$f":"'COVER SHEET'!$D$16&IF(MID('COVER SHEET'!$I$18,6,10)=\"december\",\"1231\",IF(MID('COVER SHEET'!$I$18,6,10)=\"june\",\"0630\"))","v":"20241231"},{"$f":"+'Outgoing Remittances (Volume)'!F201","v":0}]
["CMREM_11510","SI",{"$f":"+'Outgoing Remittances (Volume)'!$F$5","v":"20241031"},{"$f":"+'COVER SHEET'!$D$12","v":0},11510,{"$f":"'COVER SHEET'!$D$16&IF(MID('COVER SHEET'!$I$18,6,10)=\"december\",\"1231\",IF(MID('COVER SHEET'!$I$18,6,10)=\"june\",\"0630\"))","v":"20241231"},{"$f":"+'Outgoing Remittances (Volume)'!F202","v":0}]
["CMREM_11510","SB",{"$f":"+'Outgoing Remittances (Volume)'!$F$5","v":"20241031"},{"$f":"+'COVER SHEET'!$D$12","v":0},11510,{"$f":"'COVER SHEET'!$D$16&IF(MID('COVER SHEET'!$I$18,6,10)=\"december\",\"1231\",IF(MID('COVER SHEET'!$I$18,6,10)=\"june\",\"0630\"))","v":"20241231"},{"$f":"+'Outgoing Remittances (Volume)'!F203","v":0}]
["CMREM_11510","SO",{"$f":"+'Outgoing Remittances (Volume)'!$F$5","v":"20241031"},{"$f":"+'COVER SHEET'!$D$12","v":0},11510,{"$f":"'COVER SHEET'!$D$16&IF(MID('COVER SHEET'!$I$18,6,10)=\"december\",\"1231\",IF(MID('COVER SHEET'!$I$18,6,10)=\"june\",\"0630\"))","v":"20241231"},{"$f":"+'Outgoing Remittances (Volume)'!F204","v":0}]
["CMREM_11510","ZA",{"$f":"+'Outgoing Remittances (Volume)'!$F$5","v":"20241031"},{"$f":"+'COVER SHEET'!$D$12","v":0},11510,{"$f":"'COVER SHEET'!$D$16&IF(MID('COVER SHEET'!$I$18,6,10)=\"december\",\"1231\",IF(MID('COVER SHEET'!$I$18,6,10)=\"june\",\"0630\"))","v":"20241231"},{"$f":"+'Outgoing Remittances (Volume)'!F205","v":0}]
["CMREM_11510","GS",{"$f":"+'Outgoing Remittances (Volume)'!$F$5","v":"20241031"},{"$f":"+'COVER SHEET'!$D$12","v":0},11510,{"$f":"'COVER SHEET'!$D$16&IF(MID('COVER SHEET'!$I$18,6,10)=\"december\",\"1231\",IF(MID('COVER SHEET'!$I$18,6,10)=\"june\",\"0630\"))","v":"20241231"},{"$f":"+'Outgoing Remittances (Volume)'!F206","v":0}]
["CMREM_11510","SS",{"$f":"+'Outgoing Remittances (Volume)'!$F$5","v":"20241031"},{"$f":"+'COVER SHEET'!$D$12","v":0},11510,{"$f":"'COVER SHEET'!$D$16&IF(MID('COVER SHEET'!$I$18,6,10)=\"december\",\"1231\",IF(MID('COVER SHEET'!$I$18,6,10)=\"june\",\"0630\"))","v":"20241231"},{"$f":"+'Outgoing Remittances (Volume)'!F207","v":0}]
["CMREM_11510","ES",{"$f":"+'Outgoing Remittances (Volume)'!$F$5","v":"20241031"},{"$f":"+'COVER SHEET'!$D$12","v":0},11510,{"$f":"'COVER SHEET'!$D$16&IF(MID('COVER SHEET'!$I$18,6,10)=\"december\",\"1231\",IF(MID('COVER SHEET'!$I$18,6,10)=\"june\",\"0630\"))","v":"20241231"},{"$f":"+'Outgoing Remittances (Volume)'!F208","v":0}]
["CMREM_11510","LK",{"$f":"+'Outgoing Remittances (Volume)'!$F$5","v":"20241031"},{"$f":"+'COVER SHEET'!$D$12","v":0},11510,{"$f":"'COVER SHEET'!$D$16&IF(MID('COVER SHEET'!$I$18,6,10)=\"december\",\"1231\",IF(MID('COVER SHEET'!$I$18,6,10)=\"june\",\"0630\"))","v":"20241231"},{"$f":"+'Outgoing Remittances (Volume)'!F209","v":0}]
["CMREM_11510","SD",{"$f":"+'Outgoing Remittances (Volume)'!$F$5","v":"20241031"},{"$f":"+'COVER SHEET'!$D$12","v":0},11510,{"$f":"'COVER SHEET'!$D$16&IF(MID('COVER SHEET'!$I$18,6,10)=\"december\",\"1231\",IF(MID('COVER SHEET'!$I$18,6,10)=\"june\",\"0630\"))","v":"20241231"},{"$f":"+'Outgoing Remittances (Volume)'!F210","v":0}]
["CMREM_11510","SR",{"$f":"+'Outgoing Remittances (Volume)'!$F$5","v":"20241031"},{"$f":"+'COVER SHEET'!$D$12","v":0},11510,{"$f":"'COVER SHEET'!$D$16&IF(MID('COVER SHEET'!$I$18,6,10)=\"december\",\"1231\",IF(MID('COVER SHEET'!$I$18,6,10)=\"june\",\"0630\"))","v":"20241231"},{"$f":"+'Outgoing Remittances (Volume)'!F211","v":0}]
["CMREM_11510","SZ",{"$f":"+'Outgoing Remittances (Volume)'!$F$5","v":"20241031"},{"$f":"+'COVER SHEET'!$D$12","v":0},11510,{"$f":"'COVER SHEET'!$D$16&IF(MID('COVER SHEET'!$I$18,6,10)=\"december\",\"1231\",IF(MID('COVER SHEET'!$I$18,6,10)=\"june\",\"0630\"))","v":"20241231"},{"$f":"+'Outgoing Remittances (Volume)'!F212","v":0}]
["CMREM_11510","SE",{"$f":"+'Outgoing Remittances (Volume)'!$F$5","v":"20241031"},{"$f":"+'COVER SHEET'!$D$12","v":0},11510,{"$f":"'COVER SHEET'!$D$16&IF(MID('COVER SHEET'!$I$18,6,10)=\"december\",\"1231\",IF(MID('COVER SHEET'!$I$18,6,10)=\"june\",\"0630\"))","v":"20241231"},{"$f":"+'Outgoing Remittances (Volume)'!F213","v":0}]
["CMREM_11510","CH",{"$f":"+'Outgoing Remittances (Volume)'!$F$5","v":"20241031"},{"$f":"+'COVER SHEET'!$D$12","v":0},11510,{"$f":"'COVER SHEET'!$D$16&IF(MID('COVER SHEET'!$I$18,6,10)=\"december\",\"1231\",IF(MID('COVER SHEET'!$I$18,6,10)=\"june\",\"0630\"))","v":"20241231"},{"$f":"+'Outgoing Remittances (Volume)'!F214","v":0}]
["CMREM_11510","SY",{"$f":"+'Outgoing Remittances (Volume)'!$F$5","v":"20241031"},{"$f":"+'COVER SHEET'!$D$12","v":0},11510,{"$f":"'COVER SHEET'!$D$16&IF(MID('COVER SHEET'!$I$18,6,10)=\"december\",\"1231\",IF(MID('COVER SHEET'!$I$18,6,10)=\"june\",\"0630\"))","v":"20241231"},{"$f":"+'Outgoing Remittances (Volume)'!F215","v":0}]
["CMREM_11510","TW",{"$f":"+'Outgoing Remittances (Volume)'!$F$5","v":"20241031"},{"$f":"+'COVER SHEET'!$D$12","v":0},11510,{"$f":"'COVER SHEET'!$D$16&IF(MID('COVER SHEET'!$I$18,6,10)=\"december\",\"1231\",IF(MID('COVER SHEET'!$I$18,6,10)=\"june\",\"0630\"))","v":"20241231"},{"$f":"+'Outgoing Remittances (Volume)'!F216","v":0}]
["CMREM_11510","TJ",{"$f":"+'Outgoing Remittances (Volume)'!$F$5","v":"20241031"},{"$f":"+'COVER SHEET'!$D$12","v":0},11510,{"$f":"'COVER SHEET'!$D$16&IF(MID('COVER SHEET'!$I$18,6,10)=\"december\",\"1231\",IF(MID('COVER SHEET'!$I$18,6,10)=\"june\",\"0630\"))","v":"20241231"},{"$f":"+'Outgoing Remittances (Volume)'!F217","v":0}]
["CMREM_11510","TZ",{"$f":"+'Outgoing Remittances (Volume)'!$F$5","v":"20241031"},{"$f":"+'COVER SHEET'!$D$12","v":0},11510,{"$f":"'COVER SHEET'!$D$16&IF(MID('COVER SHEET'!$I$18,6,10)=\"december\",\"1231\",IF(MID('COVER SHEET'!$I$18,6,10)=\"june\",\"0630\"))","v":"20241231"},{"$f":"+'Outgoing Remittances (Volume)'!F218","v":0}]
["CMREM_11510","TH",{"$f":"+'Outgoing Remittances (Volume)'!$F$5","v":"20241031"},{"$f":"+'COVER SHEET'!$D$12","v":0},11510,{"$f":"'COVER SHEET'!$D$16&IF(MID('COVER SHEET'!$I$18,6,10)=\"december\",\"1231\",IF(MID('COVER SHEET'!$I$18,6,10)=\"june\",\"0630\"))","v":"20241231"},{"$f":"+'Outgoing Remittances (Volume)'!F219","v":0}]
["CMREM_11510","TG",{"$f":"+'Outgoing Remittances (Volume)'!$F$5","v":"20241031"},{"$f":"+'COVER SHEET'!$D$12","v":0},11510,{"$f":"'COVER SHEET'!$D$16&IF(MID('COVER SHEET'!$I$18,6,10)=\"december\",\"1231\",IF(MID('COVER SHEET'!$I$18,6,10)=\"june\",\"0630\"))","v":"20241231"},{"$f":"+'Outgoing Remittances (Volume)'!F220","v":0}]
["CMREM_11510","TK",{"$f":"+'Outgoing Remittances (Volume)'!$F$5","v":"20241031"},{"$f":"+'COVER SHEET'!$D$12","v":0},11510,{"$f":"'COVER SHEET'!$D$16&IF(MID('COVER SHEET'!$I$18,6,10)=\"december\",\"1231\",IF(MID('COVER SHEET'!$I$18,6,10)=\"june\",\"0630\"))","v":"20241231"},{"$f":"+'Outgoing Remittances (Volume)'!F221","v":0}]
["CMREM_11510","TO",{"$f":"+'Outgoing Remittances (Volume)'!$F$5","v":"20241031"},{"$f":"+'COVER SHEET'!$D$12","v":0},11510,{"$f":"'COVER SHEET'!$D$16&IF(MID('COVER SHEET'!$I$18,6,10)=\"december\",\"1231\",IF(MID('COVER SHEET'!$I$18,6,10)=\"june\",\"0630\"))","v":"20241231"},{"$f":"+'Outgoing Remittances (Volume)'!F222","v":0}]
["CMREM_11510","TT",{"$f":"+'Outgoing Remittances (Volume)'!$F$5","v":"20241031"},{"$f":"+'COVER SHEET'!$D$12","v":0},11510,{"$f":"'COVER SHEET'!$D$16&IF(MID('COVER SHEET'!$I$18,6,10)=\"december\",\"1231\",IF(MID('COVER SHEET'!$I$18,6,10)=\"june\",\"0630\"))","v":"20241231"},{"$f":"+'Outgoing Remittances (Volume)'!F223","v":0}]
["CMREM_11510","TN",{"$f":"+'Outgoing Remittances (Volume)'!$F$5","v":"20241031"},{"$f":"+'COVER SHEET'!$D$12","v":0},11510,{"$f":"'COVER SHEET'!$D$16&IF(MID('COVER SHEET'!$I$18,6,10)=\"december\",\"1231\",IF(MID('COVER SHEET'!$I$18,6,10)=\"june\",\"0630\"))","v":"20241231"},{"$f":"+'Outgoing Remittances (Volume)'!F224","v":0}]
["CMREM_11510","TR",{"$f":"+'Outgoing Remittances (Volume)'!$F$5","v":"20241031"},{"$f":"+'COVER SHEET'!$D$12","v":0},11510,{"$f":"'COVER SHEET'!$D$16&IF(MID('COVER SHEET'!$I$18,6,10)=\"december\",\"1231\",IF(MID('COVER SHEET'!$I$18,6,10)=\"june\",\"0630\"))","v":"20241231"},{"$f":"+'Outgoing Remittances (Volume)'!F225","v":0}]
["CMREM_11510","TM",{"$f":"+'Outgoing Remittances (Volume)'!$F$5","v":"20241031"},{"$f":"+'COVER SHEET'!$D$12","v":0},11510,{"$f":"'COVER SHEET'!$D$16&IF(MID('COVER SHEET'!$I$18,6,10)=\"december\",\"1231\",IF(MID('COVER SHEET'!$I$18,6,10)=\"june\",\"0630\"))","v":"20241231"},{"$f":"+'Outgoing Remittances (Volume)'!F226","v":0}]
["CMREM_11510","TC",{"$f":"+'Outgoing Remittances (Volume)'!$F$5","v":"20241031"},{"$f":"+'COVER SHEET'!$D$12","v":0},11510,{"$f":"'COVER SHEET'!$D$16&IF(MID('COVER SHEET'!$I$18,6,10)=\"december\",\"1231\",IF(MID('COVER SHEET'!$I$18,6,10)=\"june\",\"0630\"))","v":"20241231"},{"$f":"+'Outgoing Remittances (Volume)'!F227","v":0}]
["CMREM_11510","TV",{"$f":"+'Outgoing Remittances (Volume)'!$F$5","v":"20241031"},{"$f":"+'COVER SHEET'!$D$12","v":0},11510,{"$f":"'COVER SHEET'!$D$16&IF(MID('COVER SHEET'!$I$18,6,10)=\"december\",\"1231\",IF(MID('COVER SHEET'!$I$18,6,10)=\"june\",\"0630\"))","v":"20241231"},{"$f":"+'Outgoing Remittances (Volume)'!F228","v":0}]
["CMREM_11510","UG",{"$f":"+'Outgoing Remittances (Volume)'!$F$5","v":"20241031"},{"$f":"+'COVER SHEET'!$D$12","v":0},11510,{"$f":"'COVER SHEET'!$D$16&IF(MID('COVER SHEET'!$I$18,6,10)=\"december\",\"1231\",IF(MID('COVER SHEET'!$I$18,6,10)=\"june\",\"0630\"))","v":"20241231"},{"$f":"+'Outgoing Remittances (Volume)'!F229","v":0}]
["CMREM_11510","UA",{"$f":"+'Outgoing Remittances (Volume)'!$F$5","v":"20241031"},{"$f":"+'COVER SHEET'!$D$12","v":0},11510,{"$f":"'COVER SHEET'!$D$16&IF(MID('COVER SHEET'!$I$18,6,10)=\"december\",\"1231\",IF(MID('COVER SHEET'!$I$18,6,10)=\"june\",\"0630\"))","v":"20241231"},{"$f":"+'Outgoing Remittances (Volume)'!F230","v":0}]
["CMREM_11510","AE",{"$f":"+'Outgoing Remittances (Volume)'!$F$5","v":"20241031"},{"$f":"+'COVER SHEET'!$D$12","v":0},11510,{"$f":"'COVER SHEET'!$D$16&IF(MID('COVER SHEET'!$I$18,6,10)=\"december\",\"1231\",IF(MID('COVER SHEET'!$I$18,6,10)=\"june\",\"0630\"))","v":"20241231"},{"$f":"+'Outgoing Remittances (Volume)'!F231","v":0}]
["CMREM_11510","GB",{"$f":"+'Outgoing Remittances (Volume)'!$F$5","v":"20241031"},{"$f":"+'COVER SHEET'!$D$12","v":0},11510,{"$f":"'COVER SHEET'!$D$16&IF(MID('COVER SHEET'!$I$18,6,10)=\"december\",\"1231\",IF(MID('COVER SHEET'!$I$18,6,10)=\"june\",\"0630\"))","v":"20241231"},{"$f":"+'Outgoing Remittances (Volume)'!F232","v":0}]
["CMREM_11510","US",{"$f":"+'Outgoing Remittances (Volume)'!$F$5","v":"20241031"},{"$f":"+'COVER SHEET'!$D$12","v":0},11510,{"$f":"'COVER SHEET'!$D$16&IF(MID('COVER SHEET'!$I$18,6,10)=\"december\",\"1231\",IF(MID('COVER SHEET'!$I$18,6,10)=\"june\",\"0630\"))","v":"20241231"},{"$f":"+'Outgoing Remittances (Volume)'!F233","v":0}]
["CMREM_11510","UY",{"$f":"+'Outgoing Remittances (Volume)'!$F$5","v":"20241031"},{"$f":"+'COVER SHEET'!$D$12","v":0},11510,{"$f":"'COVER SHEET'!$D$16&IF(MID('COVER SHEET'!$I$18,6,10)=\"december\",\"1231\",IF(MID('COVER SHEET'!$I$18,6,10)=\"june\",\"0630\"))","v":"20241231"},{"$f":"+'Outgoing Remittances (Volume)'!F234","v":0}]
["CMREM_11510","UM",{"$f":"+'Outgoing Remittances (Volume)'!$F$5","v":"20241031"},{"$f":"+'COVER SHEET'!$D$12","v":0},11510,{"$f":"'COVER SHEET'!$D$16&IF(MID('COVER SHEET'!$I$18,6,10)=\"december\",\"1231\",IF(MID('COVER SHEET'!$I$18,6,10)=\"june\",\"0630\"))","v":"20241231"},{"$f":"+'Outgoing Remittances (Volume)'!F235","v":0}]
["CMREM_11510","UZ",{"$f":"+'Outgoing Remittances (Volume)'!$F$5","v":"20241031"},{"$f":"+'COVER SHEET'!$D$12","v":0},11510,{"$f":"'COVER SHEET'!$D$16&IF(MID('COVER SHEET'!$I$18,6,10)=\"december\",\"1231\",IF(MID('COVER SHEET'!$I$18,6,10)=\"june\",\"0630\"))","v":"20241231"},{"$f":"+'Outgoing Remittances (Volume)'!F236","v":0}]
["CMREM_11510","VU",{"$f":"+'Outgoing Remittances (Volume)'!$F$5","v":"20241031"},{"$f":"+'COVER SHEET'!$D$12","v":0},11510,{"$f":"'COVER SHEET'!$D$16&IF(MID('COVER SHEET'!$I$18,6,10)=\"december\",\"1231\",IF(MID('COVER SHEET'!$I$18,6,10)=\"june\",\"0630\"))","v":"20241231"},{"$f":"+'Outgoing Remittances (Volume)'!F237","v":0}]
["CMREM_11510","VE",{"$f":"+'Outgoing Remittances (Volume)'!$F$5","v":"20241031"},{"$f":"+'COVER SHEET'!$D$12","v":0},11510,{"$f":"'COVER SHEET'!$D$16&IF(MID('COVER SHEET'!$I$18,6,10)=\"december\",\"1231\",IF(MID('COVER SHEET'!$I$18,6,10)=\"june\",\"0630\"))","v":"20241231"},{"$f":"+'Outgoing Remittances (Volume)'!F238","v":0}]
["CMREM_11510","VN",{"$f":"+'Outgoing Remittances (Volume)'!$F$5","v":"20241031"},{"$f":"+'COVER SHEET'!$D$12","v":0},11510,{"$f":"'COVER SHEET'!$D$16&IF(MID('COVER SHEET'!$I$18,6,10)=\"december\",\"1231\",IF(MID('COVER SHEET'!$I$18,6,10)=\"june\",\"0630\"))","v":"20241231"},{"$f":"+'Outgoing Remittances (Volume)'!F239","v":0}]
["CMREM_11510","VI",{"$f":"+'Outgoing Remittances (Volume)'!$F$5","v":"20241031"},{"$f":"+'COVER SHEET'!$D$12","v":0},11510,{"$f":"'COVER SHEET'!$D$16&IF(MID('COVER SHEET'!$I$18,6,10)=\"december\",\"1231\",IF(MID('COVER SHEET'!$I$18,6,10)=\"june\",\"0630\"))","v":"20241231"},{"$f":"+'Outgoing Remittances (Volume)'!F240","v":0}]
["CMREM_11510","WF",{"$f":"+'Outgoing Remittances (Volume)'!$F$5","v":"20241031"},{"$f":"+'COVER SHEET'!$D$12","v":0},11510,{"$f":"'COVER SHEET'!$D$16&IF(MID('COVER SHEET'!$I$18,6,10)=\"december\",\"1231\",IF(MID('COVER SHEET'!$I$18,6,10)=\"june\",\"0630\"))","v":"20241231"},{"$f":"+'Outgoing Remittances (Volume)'!F241","v":0}]
["CMREM_11510","YE",{"$f":"+'Outgoing Remittances (Volume)'!$F$5","v":"20241031"},{"$f":"+'COVER SHEET'!$D$12","v":0},11510,{"$f":"'COVER SHEET'!$D$16&IF(MID('COVER SHEET'!$I$18,6,10)=\"december\",\"1231\",IF(MID('COVER SHEET'!$I$18,6,10)=\"june\",\"0630\"))","v":"20241231"},{"$f":"+'Outgoing Remittances (Volume)'!F242","v":0}]
["CMREM_11510","ZM",{"$f":"+'Outgoing Remittances (Volume)'!$F$5","v":"20241031"},{"$f":"+'COVER SHEET'!$D$12","v":0},11510,{"$f":"'COVER SHEET'!$D$16&IF(MID('COVER SHEET'!$I$18,6,10)=\"december\",\"1231\",IF(MID('COVER SHEET'!$I$18,6,10)=\"june\",\"0630\"))","v":"20241231"},{"$f":"+'Outgoing Remittances (Volume)'!F243","v":0}]
["CMREM_11510","ZW",{"$f":"+'Outgoing Remittances (Volume)'!$F$5","v":"20241031"},{"$f":"+'COVER SHEET'!$D$12","v":0},11510,{"$f":"'COVER SHEET'!$D$16&IF(MID('COVER SHEET'!$I$18,6,10)=\"december\",\"1231\",IF(MID('COVER SHEET'!$I$18,6,10)=\"june\",\"0630\"))","v":"20241231"},{"$f":"+'Outgoing Remittances (Volume)'!F244","v":0}]
["CMREM_11520","AF",{"$f":"+'Incoming Remittances (Value)'!$F$5","v":"20241031"},{"$f":"+'COVER SHEET'!$D$12","v":0},11520,{"$f":"'COVER SHEET'!$D$16&IF(MID('COVER SHEET'!$I$18,6,10)=\"december\",\"1231\",IF(MID('COVER SHEET'!$I$18,6,10)=\"june\",\"0630\"))","v":"20241231"},{"$f":"+'Incoming Remittances (Value)'!F9","v":0}]
["CMREM_11520","AL",{"$f":"+'Incoming Remittances (Value)'!$F$5","v":"20241031"},{"$f":"+'COVER SHEET'!$D$12","v":0},11520,{"$f":"'COVER SHEET'!$D$16&IF(MID('COVER SHEET'!$I$18,6,10)=\"december\",\"1231\",IF(MID('COVER SHEET'!$I$18,6,10)=\"june\",\"0630\"))","v":"20241231"},{"$f":"+'Incoming Remittances (Value)'!F10","v":0}]
["CMREM_11520","DZ",{"$f":"+'Incoming Remittances (Value)'!$F$5","v":"20241031"},{"$f":"+'COVER SHEET'!$D$12","v":0},11520,{"$f":"'COVER SHEET'!$D$16&IF(MID('COVER SHEET'!$I$18,6,10)=\"december\",\"1231\",IF(MID('COVER SHEET'!$I$18,6,10)=\"june\",\"0630\"))","v":"20241231"},{"$f":"+'Incoming Remittances (Value)'!F11","v":0}]
["CMREM_11520","AS",{"$f":"+'Incoming Remittances (Value)'!$F$5","v":"20241031"},{"$f":"+'COVER SHEET'!$D$12","v":0},11520,{"$f":"'COVER SHEET'!$D$16&IF(MID('COVER SHEET'!$I$18,6,10)=\"december\",\"1231\",IF(MID('COVER SHEET'!$I$18,6,10)=\"june\",\"0630\"))","v":"20241231"},{"$f":"+'Incoming Remittances (Value)'!F12","v":0}]
["CMREM_11520","AD",{"$f":"+'Incoming Remittances (Value)'!$F$5","v":"20241031"},{"$f":"+'COVER SHEET'!$D$12","v":0},11520,{"$f":"'COVER SHEET'!$D$16&IF(MID('COVER SHEET'!$I$18,6,10)=\"december\",\"1231\",IF(MID('COVER SHEET'!$I$18,6,10)=\"june\",\"0630\"))","v":"20241231"},{"$f":"+'Incoming Remittances (Value)'!F13","v":0}]
["CMREM_11520","AO",{"$f":"+'Incoming Remittances (Value)'!$F$5","v":"20241031"},{"$f":"+'COVER SHEET'!$D$12","v":0},11520,{"$f":"'COVER SHEET'!$D$16&IF(MID('COVER SHEET'!$I$18,6,10)=\"december\",\"1231\",IF(MID('COVER SHEET'!$I$18,6,10)=\"june\",\"0630\"))","v":"20241231"},{"$f":"+'Incoming Remittances (Value)'!F14","v":0}]
["CMREM_11520","AI",{"$f":"+'Incoming Remittances (Value)'!$F$5","v":"20241031"},{"$f":"+'COVER SHEET'!$D$12","v":0},11520,{"$f":"'COVER SHEET'!$D$16&IF(MID('COVER SHEET'!$I$18,6,10)=\"december\",\"1231\",IF(MID('COVER SHEET'!$I$18,6,10)=\"june\",\"0630\"))","v":"20241231"},{"$f":"+'Incoming Remittances (Value)'!F15","v":0}]
["CMREM_11520","AQ",{"$f":"+'Incoming Remittances (Value)'!$F$5","v":"20241031"},{"$f":"+'COVER SHEET'!$D$12","v":0},11520,{"$f":"'COVER SHEET'!$D$16&IF(MID('COVER SHEET'!$I$18,6,10)=\"december\",\"1231\",IF(MID('COVER SHEET'!$I$18,6,10)=\"june\",\"0630\"))","v":"20241231"},{"$f":"+'Incoming Remittances (Value)'!F16","v":0}]
["CMREM_11520","AG",{"$f":"+'Incoming Remittances (Value)'!$F$5","v":"20241031"},{"$f":"+'COVER SHEET'!$D$12","v":0},11520,{"$f":"'COVER SHEET'!$D$16&IF(MID('COVER SHEET'!$I$18,6,10)=\"december\",\"1231\",IF(MID('COVER SHEET'!$I$18,6,10)=\"june\",\"0630\"))","v":"20241231"},{"$f":"+'Incoming Remittances (Value)'!F17","v":0}]
["CMREM_11520","AR",{"$f":"+'Incoming Remittances (Value)'!$F$5","v":"20241031"},{"$f":"+'COVER SHEET'!$D$12","v":0},11520,{"$f":"'COVER SHEET'!$D$16&IF(MID('COVER SHEET'!$I$18,6,10)=\"december\",\"1231\",IF(MID('COVER SHEET'!$I$18,6,10)=\"june\",\"0630\"))","v":"20241231"},{"$f":"+'Incoming Remittances (Value)'!F18","v":0}]
["CMREM_11520","AM",{"$f":"+'Incoming Remittances (Value)'!$F$5","v":"20241031"},{"$f":"+'COVER SHEET'!$D$12","v":0},11520,{"$f":"'COVER SHEET'!$D$16&IF(MID('COVER SHEET'!$I$18,6,10)=\"december\",\"1231\",IF(MID('COVER SHEET'!$I$18,6,10)=\"june\",\"0630\"))","v":"20241231"},{"$f":"+'Incoming Remittances (Value)'!F19","v":0}]
["CMREM_11520","AW",{"$f":"+'Incoming Remittances (Value)'!$F$5","v":"20241031"},{"$f":"+'COVER SHEET'!$D$12","v":0},11520,{"$f":"'COVER SHEET'!$D$16&IF(MID('COVER SHEET'!$I$18,6,10)=\"december\",\"1231\",IF(MID('COVER SHEET'!$I$18,6,10)=\"june\",\"0630\"))","v":"20241231"},{"$f":"+'Incoming Remittances (Value)'!F20","v":0}]
["CMREM_11520","AU",{"$f":"+'Incoming Remittances (Value)'!$F$5","v":"20241031"},{"$f":"+'COVER SHEET'!$D$12","v":0},11520,{"$f":"'COVER SHEET'!$D$16&IF(MID('COVER SHEET'!$I$18,6,10)=\"december\",\"1231\",IF(MID('COVER SHEET'!$I$18,6,10)=\"june\",\"0630\"))","v":"20241231"},{"$f":"+'Incoming Remittances (Value)'!F21","v":0}]
["CMREM_11520","AT",{"$f":"+'Incoming Remittances (Value)'!$F$5","v":"20241031"},{"$f":"+'COVER SHEET'!$D$12","v":0},11520,{"$f":"'COVER SHEET'!$D$16&IF(MID('COVER SHEET'!$I$18,6,10)=\"december\",\"1231\",IF(MID('COVER SHEET'!$I$18,6,10)=\"june\",\"0630\"))","v":"20241231"},{"$f":"+'Incoming Remittances (Value)'!F22","v":0}]
["CMREM_11520","AZ",{"$f":"+'Incoming Remittances (Value)'!$F$5","v":"20241031"},{"$f":"+'COVER SHEET'!$D$12","v":0},11520,{"$f":"'COVER SHEET'!$D$16&IF(MID('COVER SHEET'!$I$18,6,10)=\"december\",\"1231\",IF(MID('COVER SHEET'!$I$18,6,10)=\"june\",\"0630\"))","v":"20241231"},{"$f":"+'Incoming Remittances (Value)'!F23","v":0}]
["CMREM_11520","BS",{"$f":"+'Incoming Remittances (Value)'!$F$5","v":"20241031"},{"$f":"+'COVER SHEET'!$D$12","v":0},11520,{"$f":"'COVER SHEET'!$D$16&IF(MID('COVER SHEET'!$I$18,6,10)=\"december\",\"1231\",IF(MID('COVER SHEET'!$I$18,6,10)=\"june\",\"0630\"))","v":"20241231"},{"$f":"+'Incoming Remittances (Value)'!F24","v":0}]
["CMREM_11520","BH",{"$f":"+'Incoming Remittances (Value)'!$F$5","v":"20241031"},{"$f":"+'COVER SHEET'!$D$12","v":0},11520,{"$f":"'COVER SHEET'!$D$16&IF(MID('COVER SHEET'!$I$18,6,10)=\"december\",\"1231\",IF(MID('COVER SHEET'!$I$18,6,10)=\"june\",\"0630\"))","v":"20241231"},{"$f":"+'Incoming Remittances (Value)'!F25","v":0}]
["CMREM_11520","BD",{"$f":"+'Incoming Remittances (Value)'!$F$5","v":"20241031"},{"$f":"+'COVER SHEET'!$D$12","v":0},11520,{"$f":"'COVER SHEET'!$D$16&IF(MID('COVER SHEET'!$I$18,6,10)=\"december\",\"1231\",IF(MID('COVER SHEET'!$I$18,6,10)=\"june\",\"0630\"))","v":"20241231"},{"$f":"+'Incoming Remittances (Value)'!F26","v":0}]
["CMREM_11520","BB",{"$f":"+'Incoming Remittances (Value)'!$F$5","v":"20241031"},{"$f":"+'COVER SHEET'!$D$12","v":0},11520,{"$f":"'COVER SHEET'!$D$16&IF(MID('COVER SHEET'!$I$18,6,10)=\"december\",\"1231\",IF(MID('COVER SHEET'!$I$18,6,10)=\"june\",\"0630\"))","v":"20241231"},{"$f":"+'Incoming Remittances (Value)'!F27","v":0}]
["CMREM_11520","BY",{"$f":"+'Incoming Remittances (Value)'!$F$5","v":"20241031"},{"$f":"+'COVER SHEET'!$D$12","v":0},11520,{"$f":"'COVER SHEET'!$D$16&IF(MID('COVER SHEET'!$I$18,6,10)=\"december\",\"1231\",IF(MID('COVER SHEET'!$I$18,6,10)=\"june\",\"0630\"))","v":"20241231"},{"$f":"+'Incoming Remittances (Value)'!F28","v":0}]
["CMREM_11520","BE",{"$f":"+'Incoming Remittances (Value)'!$F$5","v":"20241031"},{"$f":"+'COVER SHEET'!$D$12","v":0},11520,{"$f":"'COVER SHEET'!$D$16&IF(MID('COVER SHEET'!$I$18,6,10)=\"december\",\"1231\",IF(MID('COVER SHEET'!$I$18,6,10)=\"june\",\"0630\"))","v":"20241231"},{"$f":"+'Incoming Remittances (Value)'!F29","v":0}]
["CMREM_11520","BZ",{"$f":"+'Incoming Remittances (Value)'!$F$5","v":"20241031"},{"$f":"+'COVER SHEET'!$D$12","v":0},11520,{"$f":"'COVER SHEET'!$D$16&IF(MID('COVER SHEET'!$I$18,6,10)=\"december\",\"1231\",IF(MID('COVER SHEET'!$I$18,6,10)=\"june\",\"0630\"))","v":"20241231"},{"$f":"+'Incoming Remittances (Value)'!F30","v":0}]
["CMREM_11520","BJ",{"$f":"+'Incoming Remittances (Value)'!$F$5","v":"20241031"},{"$f":"+'COVER SHEET'!$D$12","v":0},11520,{"$f":"'COVER SHEET'!$D$16&IF(MID('COVER SHEET'!$I$18,6,10)=\"december\",\"1231\",IF(MID('COVER SHEET'!$I$18,6,10)=\"june\",\"0630\"))","v":"20241231"},{"$f":"+'Incoming Remittances (Value)'!F31","v":0}]
["CMREM_11520","BM",{"$f":"+'Incoming Remittances (Value)'!$F$5","v":"20241031"},{"$f":"+'COVER SHEET'!$D$12","v":0},11520,{"$f":"'COVER SHEET'!$D$16&IF(MID('COVER SHEET'!$I$18,6,10)=\"december\",\"1231\",IF(MID('COVER SHEET'!$I$18,6,10)=\"june\",\"0630\"))","v":"20241231"},{"$f":"+'Incoming Remittances (Value)'!F32","v":0}]
["CMREM_11520","BQ",{"$f":"+'Incoming Remittances (Value)'!$F$5","v":"20241031"},{"$f":"+'COVER SHEET'!$D$12","v":0},11520,{"$f":"'COVER SHEET'!$D$16&IF(MID('COVER SHEET'!$I$18,6,10)=\"december\",\"1231\",IF(MID('COVER SHEET'!$I$18,6,10)=\"june\",\"0630\"))","v":"20241231"},{"$f":"+'Incoming Remittances (Value)'!F33","v":0}]
["CMREM_11520","BT",{"$f":"+'Incoming Remittances (Value)'!$F$5","v":"20241031"},{"$f":"+'COVER SHEET'!$D$12","v":0},11520,{"$f":"'COVER SHEET'!$D$16&IF(MID('COVER SHEET'!$I$18,6,10)=\"december\",\"1231\",IF(MID('COVER SHEET'!$I$18,6,10)=\"june\",\"0630\"))","v":"20241231"},{"$f":"+'Incoming Remittances (Value)'!F34","v":0}]
["CMREM_11520","BO",{"$f":"+'Incoming Remittances (Value)'!$F$5","v":"20241031"},{"$f":"+'COVER SHEET'!$D$12","v":0},11520,{"$f":"'COVER SHEET'!$D$16&IF(MID('COVER SHEET'!$I$18,6,10)=\"december\",\"1231\",IF(MID('COVER SHEET'!$I$18,6,10)=\"june\",\"0630\"))","v":"20241231"},{"$f":"+'Incoming Remittances (Value)'!F35","v":0}]
["CMREM_11520","BA",{"$f":"+'Incoming Remittances (Value)'!$F$5","v":"20241031"},{"$f":"+'COVER SHEET'!$D$12","v":0},11520,{"$f":"'COVER SHEET'!$D$16&IF(MID('COVER SHEET'!$I$18,6,10)=\"december\",\"1231\",IF(MID('COVER SHEET'!$I$18,6,10)=\"june\",\"0630\"))","v":"20241231"},{"$f":"+'Incoming Remittances (Value)'!F36","v":0}]
["CMREM_11520","BW",{"$f":"+'Incoming Remittances (Value)'!$F$5","v":"20241031"},{"$f":"+'COVER SHEET'!$D$12","v":0},11520,{"$f":"'COVER SHEET'!$D$16&IF(MID('COVER SHEET'!$I$18,6,10)=\"december\",\"1231\",IF(MID('COVER SHEET'!$I$18,6,10)=\"june\",\"0630\"))","v":"20241231"},{"$f":"+'Incoming Remittances (Value)'!F37","v":0}]
["CMREM_11520","BV",{"$f":"+'Incoming Remittances (Value)'!$F$5","v":"20241031"},{"$f":"+'COVER SHEET'!$D$12","v":0},11520,{"$f":"'COVER SHEET'!$D$16&IF(MID('COVER SHEET'!$I$18,6,10)=\"december\",\"1231\",IF(MID('COVER SHEET'!$I$18,6,10)=\"june\",\"0630\"))","v":"20241231"},{"$f":"+'Incoming Remittances (Value)'!F38","v":0}]
["CMREM_11520","BR",{"$f":"+'Incoming Remittances (Value)'!$F$5","v":"20241031"},{"$f":"+'COVER SHEET'!$D$12","v":0},11520,{"$f":"'COVER SHEET'!$D$16&IF(MID('COVER SHEET'!$I$18,6,10)=\"december\",\"1231\",IF(MID('COVER SHEET'!$I$18,6,10)=\"june\",\"0630\"))","v":"20241231"},{"$f":"+'Incoming Remittances (Value)'!F39","v":0}]
["CMREM_11520","IO",{"$f":"+'Incoming Remittances (Value)'!$F$5","v":"20241031"},{"$f":"+'COVER SHEET'!$D$12","v":0},11520,{"$f":"'COVER SHEET'!$D$16&IF(MID('COVER SHEET'!$I$18,6,10)=\"december\",\"1231\",IF(MID('COVER SHEET'!$I$18,6,10)=\"june\",\"0630\"))","v":"20241231"},{"$f":"+'Incoming Remittances (Value)'!F40","v":0}]
["CMREM_11520","VG",{"$f":"+'Incoming Remittances (Value)'!$F$5","v":"20241031"},{"$f":"+'COVER SHEET'!$D$12","v":0},11520,{"$f":"'COVER SHEET'!$D$16&IF(MID('COVER SHEET'!$I$18,6,10)=\"december\",\"1231\",IF(MID('COVER SHEET'!$I$18,6,10)=\"june\",\"0630\"))","v":"20241231"},{"$f":"+'Incoming Remittances (Value)'!F41","v":0}]
["CMREM_11520","BN",{"$f":"+'Incoming Remittances (Value)'!$F$5","v":"20241031"},{"$f":"+'COVER SHEET'!$D$12","v":0},11520,{"$f":"'COVER SHEET'!$D$16&IF(MID('COVER SHEET'!$I$18,6,10)=\"december\",\"1231\",IF(MID('COVER SHEET'!$I$18,6,10)=\"june\",\"0630\"))","v":"20241231"},{"$f":"+'Incoming Remittances (Value)'!F42","v":0}]
["CMREM_11520","BG",{"$f":"+'Incoming Remittances (Value)'!$F$5","v":"20241031"},{"$f":"+'COVER SHEET'!$D$12","v":0},11520,{"$f":"'COVER SHEET'!$D$16&IF(MID('COVER SHEET'!$I$18,6,10)=\"december\",\"1231\",IF(MID('COVER SHEET'!$I$18,6,10)=\"june\",\"0630\"))","v":"20241231"},{"$f":"+'Incoming Remittances (Value)'!F43","v":0}]
["CMREM_11520","BF",{"$f":"+'Incoming Remittances (Value)'!$F$5","v":"20241031"},{"$f":"+'COVER SHEET'!$D$12","v":0},11520,{"$f":"'COVER SHEET'!$D$16&IF(MID('COVER SHEET'!$I$18,6,10)=\"december\",\"1231\",IF(MID('COVER SHEET'!$I$18,6,10)=\"june\",\"0630\"))","v":"20241231"},{"$f":"+'Incoming Remittances (Value)'!F44","v":0}]
["CMREM_11520","BI",{"$f":"+'Incoming Remittances (Value)'!$F$5","v":"20241031"},{"$f":"+'COVER SHEET'!$D$12","v":0},11520,{"$f":"'COVER SHEET'!$D$16&IF(MID('COVER SHEET'!$I$18,6,10)=\"december\",\"1231\",IF(MID('COVER SHEET'!$I$18,6,10)=\"june\",\"0630\"))","v":"20241231"},{"$f":"+'Incoming Remittances (Value)'!F45","v":0}]
["CMREM_11520","KH",{"$f":"+'Incoming Remittances (Value)'!$F$5","v":"20241031"},{"$f":"+'COVER SHEET'!$D$12","v":0},11520,{"$f":"'COVER SHEET'!$D$16&IF(MID('COVER SHEET'!$I$18,6,10)=\"december\",\"1231\",IF(MID('COVER SHEET'!$I$18,6,10)=\"june\",\"0630\"))","v":"20241231"},{"$f":"+'Incoming Remittances (Value)'!F46","v":0}]
["CMREM_11520","CM",{"$f":"+'Incoming Remittances (Value)'!$F$5","v":"20241031"},{"$f":"+'COVER SHEET'!$D$12","v":0},11520,{"$f":"'COVER SHEET'!$D$16&IF(MID('COVER SHEET'!$I$18,6,10)=\"december\",\"1231\",IF(MID('COVER SHEET'!$I$18,6,10)=\"june\",\"0630\"))","v":"20241231"},{"$f":"+'Incoming Remittances (Value)'!F47","v":0}]
["CMREM_11520","CA",{"$f":"+'Incoming Remittances (Value)'!$F$5","v":"20241031"},{"$f":"+'COVER SHEET'!$D$12","v":0},11520,{"$f":"'COVER SHEET'!$D$16&IF(MID('COVER SHEET'!$I$18,6,10)=\"december\",\"1231\",IF(MID('COVER SHEET'!$I$18,6,10)=\"june\",\"0630\"))","v":"20241231"},{"$f":"+'Incoming Remittances (Value)'!F48","v":0}]
["CMREM_11520","CV",{"$f":"+'Incoming Remittances (Value)'!$F$5","v":"20241031"},{"$f":"+'COVER SHEET'!$D$12","v":0},11520,{"$f":"'COVER SHEET'!$D$16&IF(MID('COVER SHEET'!$I$18,6,10)=\"december\",\"1231\",IF(MID('COVER SHEET'!$I$18,6,10)=\"june\",\"0630\"))","v":"20241231"},{"$f":"+'Incoming Remittances (Value)'!F49","v":0}]
["CMREM_11520","KY",{"$f":"+'Incoming Remittances (Value)'!$F$5","v":"20241031"},{"$f":"+'COVER SHEET'!$D$12","v":0},11520,{"$f":"'COVER SHEET'!$D$16&IF(MID('COVER SHEET'!$I$18,6,10)=\"december\",\"1231\",IF(MID('COVER SHEET'!$I$18,6,10)=\"june\",\"0630\"))","v":"20241231"},{"$f":"+'Incoming Remittances (Value)'!F50","v":0}]
["CMREM_11520","CF",{"$f":"+'Incoming Remittances (Value)'!$F$5","v":"20241031"},{"$f":"+'COVER SHEET'!$D$12","v":0},11520,{"$f":"'COVER SHEET'!$D$16&IF(MID('COVER SHEET'!$I$18,6,10)=\"december\",\"1231\",IF(MID('COVER SHEET'!$I$18,6,10)=\"june\",\"0630\"))","v":"20241231"},{"$f":"+'Incoming Remittances (Value)'!F51","v":0}]
["CMREM_11520","TD",{"$f":"+'Incoming Remittances (Value)'!$F$5","v":"20241031"},{"$f":"+'COVER SHEET'!$D$12","v":0},11520,{"$f":"'COVER SHEET'!$D$16&IF(MID('COVER SHEET'!$I$18,6,10)=\"december\",\"1231\",IF(MID('COVER SHEET'!$I$18,6,10)=\"june\",\"0630\"))","v":"20241231"},{"$f":"+'Incoming Remittances (Value)'!F52","v":0}]
["CMREM_11520","CL",{"$f":"+'Incoming Remittances (Value)'!$F$5","v":"20241031"},{"$f":"+'COVER SHEET'!$D$12","v":0},11520,{"$f":"'COVER SHEET'!$D$16&IF(MID('COVER SHEET'!$I$18,6,10)=\"december\",\"1231\",IF(MID('COVER SHEET'!$I$18,6,10)=\"june\",\"0630\"))","v":"20241231"},{"$f":"+'Incoming Remittances (Value)'!F53","v":0}]
["CMREM_11520","CN",{"$f":"+'Incoming Remittances (Value)'!$F$5","v":"20241031"},{"$f":"+'COVER SHEET'!$D$12","v":0},11520,{"$f":"'COVER SHEET'!$D$16&IF(MID('COVER SHEET'!$I$18,6,10)=\"december\",\"1231\",IF(MID('COVER SHEET'!$I$18,6,10)=\"june\",\"0630\"))","v":"20241231"},{"$f":"+'Incoming Remittances (Value)'!F54","v":0}]
["CMREM_11520","CX",{"$f":"+'Incoming Remittances (Value)'!$F$5","v":"20241031"},{"$f":"+'COVER SHEET'!$D$12","v":0},11520,{"$f":"'COVER SHEET'!$D$16&IF(MID('COVER SHEET'!$I$18,6,10)=\"december\",\"1231\",IF(MID('COVER SHEET'!$I$18,6,10)=\"june\",\"0630\"))","v":"20241231"},{"$f":"+'Incoming Remittances (Value)'!F55","v":0}]
["CMREM_11520","CC",{"$f":"+'Incoming Remittances (Value)'!$F$5","v":"20241031"},{"$f":"+'COVER SHEET'!$D$12","v":0},11520,{"$f":"'COVER SHEET'!$D$16&IF(MID('COVER SHEET'!$I$18,6,10)=\"december\",\"1231\",IF(MID('COVER SHEET'!$I$18,6,10)=\"june\",\"0630\"))","v":"20241231"},{"$f":"+'Incoming Remittances (Value)'!F56","v":0}]
["CMREM_11520","CO",{"$f":"+'Incoming Remittances (Value)'!$F$5","v":"20241031"},{"$f":"+'COVER SHEET'!$D$12","v":0},11520,{"$f":"'COVER SHEET'!$D$16&IF(MID('COVER SHEET'!$I$18,6,10)=\"december\",\"1231\",IF(MID('COVER SHEET'!$I$18,6,10)=\"june\",\"0630\"))","v":"20241231"},{"$f":"+'Incoming Remittances (Value)'!F57","v":0}]
["CMREM_11520","KM",{"$f":"+'Incoming Remittances (Value)'!$F$5","v":"20241031"},{"$f":"+'COVER SHEET'!$D$12","v":0},11520,{"$f":"'COVER SHEET'!$D$16&IF(MID('COVER SHEET'!$I$18,6,10)=\"december\",\"1231\",IF(MID('COVER SHEET'!$I$18,6,10)=\"june\",\"0630\"))","v":"20241231"},{"$f":"+'Incoming Remittances (Value)'!F58","v":0}]
["CMREM_11520","CG",{"$f":"+'Incoming Remittances (Value)'!$F$5","v":"20241031"},{"$f":"+'COVER SHEET'!$D$12","v":0},11520,{"$f":"'COVER SHEET'!$D$16&IF(MID('COVER SHEET'!$I$18,6,10)=\"december\",\"1231\",IF(MID('COVER SHEET'!$I$18,6,10)=\"june\",\"0630\"))","v":"20241231"},{"$f":"+'Incoming Remittances (Value)'!F59","v":0}]
["CMREM_11520","CD",{"$f":"+'Incoming Remittances (Value)'!$F$5","v":"20241031"},{"$f":"+'COVER SHEET'!$D$12","v":0},11520,{"$f":"'COVER SHEET'!$D$16&IF(MID('COVER SHEET'!$I$18,6,10)=\"december\",\"1231\",IF(MID('COVER SHEET'!$I$18,6,10)=\"june\",\"0630\"))","v":"20241231"},{"$f":"+'Incoming Remittances (Value)'!F60","v":0}]
["CMREM_11520","CK",{"$f":"+'Incoming Remittances (Value)'!$F$5","v":"20241031"},{"$f":"+'COVER SHEET'!$D$12","v":0},11520,{"$f":"'COVER SHEET'!$D$16&IF(MID('COVER SHEET'!$I$18,6,10)=\"december\",\"1231\",IF(MID('COVER SHEET'!$I$18,6,10)=\"june\",\"0630\"))","v":"20241231"},{"$f":"+'Incoming Remittances (Value)'!F61","v":0}]
["CMREM_11520","CR",{"$f":"+'Incoming Remittances (Value)'!$F$5","v":"20241031"},{"$f":"+'COVER SHEET'!$D$12","v":0},11520,{"$f":"'COVER SHEET'!$D$16&IF(MID('COVER SHEET'!$I$18,6,10)=\"december\",\"1231\",IF(MID('COVER SHEET'!$I$18,6,10)=\"june\",\"0630\"))","v":"20241231"},{"$f":"+'Incoming Remittances (Value)'!F62","v":0}]
["CMREM_11520","HR",{"$f":"+'Incoming Remittances (Value)'!$F$5","v":"20241031"},{"$f":"+'COVER SHEET'!$D$12","v":0},11520,{"$f":"'COVER SHEET'!$D$16&IF(MID('COVER SHEET'!$I$18,6,10)=\"december\",\"1231\",IF(MID('COVER SHEET'!$I$18,6,10)=\"june\",\"0630\"))","v":"20241231"},{"$f":"+'Incoming Remittances (Value)'!F63","v":0}]
["CMREM_11520","CU",{"$f":"+'Incoming Remittances (Value)'!$F$5","v":"20241031"},{"$f":"+'COVER SHEET'!$D$12","v":0},11520,{"$f":"'COVER SHEET'!$D$16&IF(MID('COVER SHEET'!$I$18,6,10)=\"december\",\"1231\",IF(MID('COVER SHEET'!$I$18,6,10)=\"june\",\"0630\"))","v":"20241231"},{"$f":"+'Incoming Remittances (Value)'!F64","v":0}]
["CMREM_11520","CW",{"$f":"+'Incoming Remittances (Value)'!$F$5","v":"20241031"},{"$f":"+'COVER SHEET'!$D$12","v":0},11520,{"$f":"'COVER SHEET'!$D$16&IF(MID('COVER SHEET'!$I$18,6,10)=\"december\",\"1231\",IF(MID('COVER SHEET'!$I$18,6,10)=\"june\",\"0630\"))","v":"20241231"},{"$f":"+'Incoming Remittances (Value)'!F65","v":0}]
["CMREM_11520","CY",{"$f":"+'Incoming Remittances (Value)'!$F$5","v":"20241031"},{"$f":"+'COVER SHEET'!$D$12","v":0},11520,{"$f":"'COVER SHEET'!$D$16&IF(MID('COVER SHEET'!$I$18,6,10)=\"december\",\"1231\",IF(MID('COVER SHEET'!$I$18,6,10)=\"june\",\"0630\"))","v":"20241231"},{"$f":"+'Incoming Remittances (Value)'!F66","v":0}]
["CMREM_11520","CZ",{"$f":"+'Incoming Remittances (Value)'!$F$5","v":"20241031"},{"$f":"+'COVER SHEET'!$D$12","v":0},11520,{"$f":"'COVER SHEET'!$D$16&IF(MID('COVER SHEET'!$I$18,6,10)=\"december\",\"1231\",IF(MID('COVER SHEET'!$I$18,6,10)=\"june\",\"0630\"))","v":"20241231"},{"$f":"+'Incoming Remittances (Value)'!F67","v":0}]
["CMREM_11520","DK",{"$f":"+'Incoming Remittances (Value)'!$F$5","v":"20241031"},{"$f":"+'COVER SHEET'!$D$12","v":0},11520,{"$f":"'COVER SHEET'!$D$16&IF(MID('COVER SHEET'!$I$18,6,10)=\"december\",\"1231\",IF(MID('COVER SHEET'!$I$18,6,10)=\"june\",\"0630\"))","v":"20241231"},{"$f":"+'Incoming Remittances (Value)'!F68","v":0}]
["CMREM_11520","DJ",{"$f":"+'Incoming Remittances (Value)'!$F$5","v":"20241031"},{"$f":"+'COVER SHEET'!$D$12","v":0},11520,{"$f":"'COVER SHEET'!$D$16&IF(MID('COVER SHEET'!$I$18,6,10)=\"december\",\"1231\",IF(MID('COVER SHEET'!$I$18,6,10)=\"june\",\"0630\"))","v":"20241231"},{"$f":"+'Incoming Remittances (Value)'!F69","v":0}]
["CMREM_11520","DM",{"$f":"+'Incoming Remittances (Value)'!$F$5","v":"20241031"},{"$f":"+'COVER SHEET'!$D$12","v":0},11520,{"$f":"'COVER SHEET'!$D$16&IF(MID('COVER SHEET'!$I$18,6,10)=\"december\",\"1231\",IF(MID('COVER SHEET'!$I$18,6,10)=\"june\",\"0630\"))","v":"20241231"},{"$f":"+'Incoming Remittances (Value)'!F70","v":0}]
["CMREM_11520","DO",{"$f":"+'Incoming Remittances (Value)'!$F$5","v":"20241031"},{"$f":"+'COVER SHEET'!$D$12","v":0},11520,{"$f":"'COVER SHEET'!$D$16&IF(MID('COVER SHEET'!$I$18,6,10)=\"december\",\"1231\",IF(MID('COVER SHEET'!$I$18,6,10)=\"june\",\"0630\"))","v":"20241231"},{"$f":"+'Incoming Remittances (Value)'!F71","v":0}]
["CMREM_11520","TL",{"$f":"+'Incoming Remittances (Value)'!$F$5","v":"20241031"},{"$f":"+'COVER SHEET'!$D$12","v":0},11520,{"$f":"'COVER SHEET'!$D$16&IF(MID('COVER SHEET'!$I$18,6,10)=\"december\",\"1231\",IF(MID('COVER SHEET'!$I$18,6,10)=\"june\",\"0630\"))","v":"20241231"},{"$f":"+'Incoming Remittances (Value)'!F72","v":0}]
["CMREM_11520","EC",{"$f":"+'Incoming Remittances (Value)'!$F$5","v":"20241031"},{"$f":"+'COVER SHEET'!$D$12","v":0},11520,{"$f":"'COVER SHEET'!$D$16&IF(MID('COVER SHEET'!$I$18,6,10)=\"december\",\"1231\",IF(MID('COVER SHEET'!$I$18,6,10)=\"june\",\"0630\"))","v":"20241231"},{"$f":"+'Incoming Remittances (Value)'!F73","v":0}]
["CMREM_11520","EG",{"$f":"+'Incoming Remittances (Value)'!$F$5","v":"20241031"},{"$f":"+'COVER SHEET'!$D$12","v":0},11520,{"$f":"'COVER SHEET'!$D$16&IF(MID('COVER SHEET'!$I$18,6,10)=\"december\",\"1231\",IF(MID('COVER SHEET'!$I$18,6,10)=\"june\",\"0630\"))","v":"20241231"},{"$f":"+'Incoming Remittances (Value)'!F74","v":0}]
["CMREM_11520","SV",{"$f":"+'Incoming Remittances (Value)'!$F$5","v":"20241031"},{"$f":"+'COVER SHEET'!$D$12","v":0},11520,{"$f":"'COVER SHEET'!$D$16&IF(MID('COVER SHEET'!$I$18,6,10)=\"december\",\"1231\",IF(MID('COVER SHEET'!$I$18,6,10)=\"june\",\"0630\"))","v":"20241231"},{"$f":"+'Incoming Remittances (Value)'!F75","v":0}]
["CMREM_11520","GQ",{"$f":"+'Incoming Remittances (Value)'!$F$5","v":"20241031"},{"$f":"+'COVER SHEET'!$D$12","v":0},11520,{"$f":"'COVER SHEET'!$D$16&IF(MID('COVER SHEET'!$I$18,6,10)=\"december\",\"1231\",IF(MID('COVER SHEET'!$I$18,6,10)=\"june\",\"0630\"))","v":"20241231"},{"$f":"+'Incoming Remittances (Value)'!F76","v":0}]
["CMREM_11520","ER",{"$f":"+'Incoming Remittances (Value)'!$F$5","v":"20241031"},{"$f":"+'COVER SHEET'!$D$12","v":0},11520,{"$f":"'COVER SHEET'!$D$16&IF(MID('COVER SHEET'!$I$18,6,10)=\"december\",\"1231\",IF(MID('COVER SHEET'!$I$18,6,10)=\"june\",\"0630\"))","v":"20241231"},{"$f":"+'Incoming Remittances (Value)'!F77","v":0}]
["CMREM_11520","EE",{"$f":"+'Incoming Remittances (Value)'!$F$5","v":"20241031"},{"$f":"+'COVER SHEET'!$D$12","v":0},11520,{"$f":"'COVER SHEET'!$D$16&IF(MID('COVER SHEET'!$I$18,6,10)=\"december\",\"1231\",IF(MID('COVER SHEET'!$I$18,6,10)=\"june\",\"0630\"))","v":"20241231"},{"$f":"+'Incoming Remittances (Value)'!F78","v":0}]
["CMREM_11520","ET",{"$f":"+'Incoming Remittances (Value)'!$F$5","v":"20241031"},{"$f":"+'COVER SHEET'!$D$12","v":0},11520,{"$f":"'COVER SHEET'!$D$16&IF(MID('COVER SHEET'!$I$18,6,10)=\"december\",\"1231\",IF(MID('COVER SHEET'!$I$18,6,10)=\"june\",\"0630\"))","v":"20241231"},{"$f":"+'Incoming Remittances (Value)'!F79","v":0}]
["CMREM_11520","FK",{"$f":"+'Incoming Remittances (Value)'!$F$5","v":"20241031"},{"$f":"+'COVER SHEET'!$D$12","v":0},11520,{"$f":"'COVER SHEET'!$D$16&IF(MID('COVER SHEET'!$I$18,6,10)=\"december\",\"1231\",IF(MID('COVER SHEET'!$I$18,6,10)=\"june\",\"0630\"))","v":"20241231"},{"$f":"+'Incoming Remittances (Value)'!F80","v":0}]
["CMREM_11520","FO",{"$f":"+'Incoming Remittances (Value)'!$F$5","v":"20241031"},{"$f":"+'COVER SHEET'!$D$12","v":0},11520,{"$f":"'COVER SHEET'!$D$16&IF(MID('COVER SHEET'!$I$18,6,10)=\"december\",\"1231\",IF(MID('COVER SHEET'!$I$18,6,10)=\"june\",\"0630\"))","v":"20241231"},{"$f":"+'Incoming Remittances (Value)'!F81","v":0}]
["CMREM_11520","FJ",{"$f":"+'Incoming Remittances (Value)'!$F$5","v":"20241031"},{"$f":"+'COVER SHEET'!$D$12","v":0},11520,{"$f":"'COVER SHEET'!$D$16&IF(MID('COVER SHEET'!$I$18,6,10)=\"december\",\"1231\",IF(MID('COVER SHEET'!$I$18,6,10)=\"june\",\"0630\"))","v":"20241231"},{"$f":"+'Incoming Remittances (Value)'!F82","v":0}]
["CMREM_11520","FI",{"$f":"+'Incoming Remittances (Value)'!$F$5","v":"20241031"},{"$f":"+'COVER SHEET'!$D$12","v":0},11520,{"$f":"'COVER SHEET'!$D$16&IF(MID('COVER SHEET'!$I$18,6,10)=\"december\",\"1231\",IF(MID('COVER SHEET'!$I$18,6,10)=\"june\",\"0630\"))","v":"20241231"},{"$f":"+'Incoming Remittances (Value)'!F83","v":0}]
["CMREM_11520","FR",{"$f":"+'Incoming Remittances (Value)'!$F$5","v":"20241031"},{"$f":"+'COVER SHEET'!$D$12","v":0},11520,{"$f":"'COVER SHEET'!$D$16&IF(MID('COVER SHEET'!$I$18,6,10)=\"december\",\"1231\",IF(MID('COVER SHEET'!$I$18,6,10)=\"june\",\"0630\"))","v":"20241231"},{"$f":"+'Incoming Remittances (Value)'!F84","v":0}]
["CMREM_11520","PF",{"$f":"+'Incoming Remittances (Value)'!$F$5","v":"20241031"},{"$f":"+'COVER SHEET'!$D$12","v":0},11520,{"$f":"'COVER SHEET'!$D$16&IF(MID('COVER SHEET'!$I$18,6,10)=\"december\",\"1231\",IF(MID('COVER SHEET'!$I$18,6,10)=\"june\",\"0630\"))","v":"20241231"},{"$f":"+'Incoming Remittances (Value)'!F85","v":0}]
["CMREM_11520","TF",{"$f":"+'Incoming Remittances (Value)'!$F$5","v":"20241031"},{"$f":"+'COVER SHEET'!$D$12","v":0},11520,{"$f":"'COVER SHEET'!$D$16&IF(MID('COVER SHEET'!$I$18,6,10)=\"december\",\"1231\",IF(MID('COVER SHEET'!$I$18,6,10)=\"june\",\"0630\"))","v":"20241231"},{"$f":"+'Incoming Remittances (Value)'!F86","v":0}]
["CMREM_11520","GA",{"$f":"+'Incoming Remittances (Value)'!$F$5","v":"20241031"},{"$f":"+'COVER SHEET'!$D$12","v":0},11520,{"$f":"'COVER SHEET'!$D$16&IF(MID('COVER SHEET'!$I$18,6,10)=\"december\",\"1231\",IF(MID('COVER SHEET'!$I$18,6,10)=\"june\",\"0630\"))","v":"20241231"},{"$f":"+'Incoming Remittances (Value)'!F87","v":0}]
["CMREM_11520","GM",{"$f":"+'Incoming Remittances (Value)'!$F$5","v":"20241031"},{"$f":"+'COVER SHEET'!$D$12","v":0},11520,{"$f":"'COVER SHEET'!$D$16&IF(MID('COVER SHEET'!$I$18,6,10)=\"december\",\"1231\",IF(MID('COVER SHEET'!$I$18,6,10)=\"june\",\"0630\"))","v":"20241231"},{"$f":"+'Incoming Remittances (Value)'!F88","v":0}]
["CMREM_11520","GE",{"$f":"+'Incoming Remittances (Value)'!$F$5","v":"20241031"},{"$f":"+'COVER SHEET'!$D$12","v":0},11520,{"$f":"'COVER SHEET'!$D$16&IF(MID('COVER SHEET'!$I$18,6,10)=\"december\",\"1231\",IF(MID('COVER SHEET'!$I$18,6,10)=\"june\",\"0630\"))","v":"20241231"},{"$f":"+'Incoming Remittances (Value)'!F89","v":0}]
["CMREM_11520","DE",{"$f":"+'Incoming Remittances (Value)'!$F$5","v":"20241031"},{"$f":"+'COVER SHEET'!$D$12","v":0},11520,{"$f":"'COVER SHEET'!$D$16&IF(MID('COVER SHEET'!$I$18,6,10)=\"december\",\"1231\",IF(MID('COVER SHEET'!$I$18,6,10)=\"june\",\"0630\"))","v":"20241231"},{"$f":"+'Incoming Remittances (Value)'!F90","v":0}]
["CMREM_11520","GH",{"$f":"+'Incoming Remittances (Value)'!$F$5","v":"20241031"},{"$f":"+'COVER SHEET'!$D$12","v":0},11520,{"$f":"'COVER SHEET'!$D$16&IF(MID('COVER SHEET'!$I$18,6,10)=\"december\",\"1231\",IF(MID('COVER SHEET'!$I$18,6,10)=\"june\",\"0630\"))","v":"20241231"},{"$f":"+'Incoming Remittances (Value)'!F91","v":0}]
["CMREM_11520","GI",{"$f":"+'Incoming Remittances (Value)'!$F$5","v":"20241031"},{"$f":"+'COVER SHEET'!$D$12","v":0},11520,{"$f":"'COVER SHEET'!$D$16&IF(MID('COVER SHEET'!$I$18,6,10)=\"december\",\"1231\",IF(MID('COVER SHEET'!$I$18,6,10)=\"june\",\"0630\"))","v":"20241231"},{"$f":"+'Incoming Remittances (Value)'!F92","v":0}]
["CMREM_11520","GR",{"$f":"+'Incoming Remittances (Value)'!$F$5","v":"20241031"},{"$f":"+'COVER SHEET'!$D$12","v":0},11520,{"$f":"'COVER SHEET'!$D$16&IF(MID('COVER SHEET'!$I$18,6,10)=\"december\",\"1231\",IF(MID('COVER SHEET'!$I$18,6,10)=\"june\",\"0630\"))","v":"20241231"},{"$f":"+'Incoming Remittances (Value)'!F93","v":0}]
["CMREM_11520","GL",{"$f":"+'Incoming Remittances (Value)'!$F$5","v":"20241031"},{"$f":"+'COVER SHEET'!$D$12","v":0},11520,{"$f":"'COVER SHEET'!$D$16&IF(MID('COVER SHEET'!$I$18,6,10)=\"december\",\"1231\",IF(MID('COVER SHEET'!$I$18,6,10)=\"june\",\"0630\"))","v":"20241231"},{"$f":"+'Incoming Remittances (Value)'!F94","v":0}]
["CMREM_11520","GD",{"$f":"+'Incoming Remittances (Value)'!$F$5","v":"20241031"},{"$f":"+'COVER SHEET'!$D$12","v":0},11520,{"$f":"'COVER SHEET'!$D$16&IF(MID('COVER SHEET'!$I$18,6,10)=\"december\",\"1231\",IF(MID('COVER SHEET'!$I$18,6,10)=\"june\",\"0630\"))","v":"20241231"},{"$f":"+'Incoming Remittances (Value)'!F95","v":0}]
["CMREM_11520","GU",{"$f":"+'Incoming Remittances (Value)'!$F$5","v":"20241031"},{"$f":"+'COVER SHEET'!$D$12","v":0},11520,{"$f":"'COVER SHEET'!$D$16&IF(MID('COVER SHEET'!$I$18,6,10)=\"december\",\"1231\",IF(MID('COVER SHEET'!$I$18,6,10)=\"june\",\"0630\"))","v":"20241231"},{"$f":"+'Incoming Remittances (Value)'!F96","v":0}]
["CMREM_11520","GT",{"$f":"+'Incoming Remittances (Value)'!$F$5","v":"20241031"},{"$f":"+'COVER SHEET'!$D$12","v":0},11520,{"$f":"'COVER SHEET'!$D$16&IF(MID('COVER SHEET'!$I$18,6,10)=\"december\",\"1231\",IF(MID('COVER SHEET'!$I$18,6,10)=\"june\",\"0630\"))","v":"20241231"},{"$f":"+'Incoming Remittances (Value)'!F97","v":0}]
["CMREM_11520","GG",{"$f":"+'Incoming Remittances (Value)'!$F$5","v":"20241031"},{"$f":"+'COVER SHEET'!$D$12","v":0},11520,{"$f":"'COVER SHEET'!$D$16&IF(MID('COVER SHEET'!$I$18,6,10)=\"december\",\"1231\",IF(MID('COVER SHEET'!$I$18,6,10)=\"june\",\"0630\"))","v":"20241231"},{"$f":"+'Incoming Remittances (Value)'!F98","v":0}]
["CMREM_11520","GN",{"$f":"+'Incoming Remittances (Value)'!$F$5","v":"20241031"},{"$f":"+'COVER SHEET'!$D$12","v":0},11520,{"$f":"'COVER SHEET'!$D$16&IF(MID('COVER SHEET'!$I$18,6,10)=\"december\",\"1231\",IF(MID('COVER SHEET'!$I$18,6,10)=\"june\",\"0630\"))","v":"20241231"},{"$f":"+'Incoming Remittances (Value)'!F99","v":0}]
["CMREM_11520","GW",{"$f":"+'Incoming Remittances (Value)'!$F$5","v":"20241031"},{"$f":"+'COVER SHEET'!$D$12","v":0},11520,{"$f":"'COVER SHEET'!$D$16&IF(MID('COVER SHEET'!$I$18,6,10)=\"december\",\"1231\",IF(MID('COVER SHEET'!$I$18,6,10)=\"june\",\"0630\"))","v":"20241231"},{"$f":"+'Incoming Remittances (Value)'!F100","v":0}]
["CMREM_11520","GY",{"$f":"+'Incoming Remittances (Value)'!$F$5","v":"20241031"},{"$f":"+'COVER SHEET'!$D$12","v":0},11520,{"$f":"'COVER SHEET'!$D$16&IF(MID('COVER SHEET'!$I$18,6,10)=\"december\",\"1231\",IF(MID('COVER SHEET'!$I$18,6,10)=\"june\",\"0630\"))","v":"20241231"},{"$f":"+'Incoming Remittances (Value)'!F101","v":0}]
["CMREM_11520","HT",{"$f":"+'Incoming Remittances (Value)'!$F$5","v":"20241031"},{"$f":"+'COVER SHEET'!$D$12","v":0},11520,{"$f":"'COVER SHEET'!$D$16&IF(MID('COVER SHEET'!$I$18,6,10)=\"december\",\"1231\",IF(MID('COVER SHEET'!$I$18,6,10)=\"june\",\"0630\"))","v":"20241231"},{"$f":"+'Incoming Remittances (Value)'!F102","v":0}]
["CMREM_11520","HM",{"$f":"+'Incoming Remittances (Value)'!$F$5","v":"20241031"},{"$f":"+'COVER SHEET'!$D$12","v":0},11520,{"$f":"'COVER SHEET'!$D$16&IF(MID('COVER SHEET'!$I$18,6,10)=\"december\",\"1231\",IF(MID('COVER SHEET'!$I$18,6,10)=\"june\",\"0630\"))","v":"20241231"},{"$f":"+'Incoming Remittances (Value)'!F103","v":0}]
["CMREM_11520","VA",{"$f":"+'Incoming Remittances (Value)'!$F$5","v":"20241031"},{"$f":"+'COVER SHEET'!$D$12","v":0},11520,{"$f":"'COVER SHEET'!$D$16&IF(MID('COVER SHEET'!$I$18,6,10)=\"december\",\"1231\",IF(MID('COVER SHEET'!$I$18,6,10)=\"june\",\"0630\"))","v":"20241231"},{"$f":"+'Incoming Remittances (Value)'!F104","v":0}]
["CMREM_11520","HN",{"$f":"+'Incoming Remittances (Value)'!$F$5","v":"20241031"},{"$f":"+'COVER SHEET'!$D$12","v":0},11520,{"$f":"'COVER SHEET'!$D$16&IF(MID('COVER SHEET'!$I$18,6,10)=\"december\",\"1231\",IF(MID('COVER SHEET'!$I$18,6,10)=\"june\",\"0630\"))","v":"20241231"},{"$f":"+'Incoming Remittances (Value)'!F105","v":0}]
["CMREM_11520","HK",{"$f":"+'Incoming Remittances (Value)'!$F$5","v":"20241031"},{"$f":"+'COVER SHEET'!$D$12","v":0},11520,{"$f":"'COVER SHEET'!$D$16&IF(MID('COVER SHEET'!$I$18,6,10)=\"december\",\"1231\",IF(MID('COVER SHEET'!$I$18,6,10)=\"june\",\"0630\"))","v":"20241231"},{"$f":"+'Incoming Remittances (Value)'!F106","v":0}]
["CMREM_11520","HU",{"$f":"+'Incoming Remittances (Value)'!$F$5","v":"20241031"},{"$f":"+'COVER SHEET'!$D$12","v":0},11520,{"$f":"'COVER SHEET'!$D$16&IF(MID('COVER SHEET'!$I$18,6,10)=\"december\",\"1231\",IF(MID('COVER SHEET'!$I$18,6,10)=\"june\",\"0630\"))","v":"20241231"},{"$f":"+'Incoming Remittances (Value)'!F107","v":0}]
["CMREM_11520","IS",{"$f":"+'Incoming Remittances (Value)'!$F$5","v":"20241031"},{"$f":"+'COVER SHEET'!$D$12","v":0},11520,{"$f":"'COVER SHEET'!$D$16&IF(MID('COVER SHEET'!$I$18,6,10)=\"december\",\"1231\",IF(MID('COVER SHEET'!$I$18,6,10)=\"june\",\"0630\"))","v":"20241231"},{"$f":"+'Incoming Remittances (Value)'!F108","v":0}]
["CMREM_11520","IN",{"$f":"+'Incoming Remittances (Value)'!$F$5","v":"20241031"},{"$f":"+'COVER SHEET'!$D$12","v":0},11520,{"$f":"'COVER SHEET'!$D$16&IF(MID('COVER SHEET'!$I$18,6,10)=\"december\",\"1231\",IF(MID('COVER SHEET'!$I$18,6,10)=\"june\",\"0630\"))","v":"20241231"},{"$f":"+'Incoming Remittances (Value)'!F109","v":0}]
["CMREM_11520","ID",{"$f":"+'Incoming Remittances (Value)'!$F$5","v":"20241031"},{"$f":"+'COVER SHEET'!$D$12","v":0},11520,{"$f":"'COVER SHEET'!$D$16&IF(MID('COVER SHEET'!$I$18,6,10)=\"december\",\"1231\",IF(MID('COVER SHEET'!$I$18,6,10)=\"june\",\"0630\"))","v":"20241231"},{"$f":"+'Incoming Remittances (Value)'!F110","v":0}]
["CMREM_11520","IR",{"$f":"+'Incoming Remittances (Value)'!$F$5","v":"20241031"},{"$f":"+'COVER SHEET'!$D$12","v":0},11520,{"$f":"'COVER SHEET'!$D$16&IF(MID('COVER SHEET'!$I$18,6,10)=\"december\",\"1231\",IF(MID('COVER SHEET'!$I$18,6,10)=\"june\",\"0630\"))","v":"20241231"},{"$f":"+'Incoming Remittances (Value)'!F111","v":0}]
["CMREM_11520","IQ",{"$f":"+'Incoming Remittances (Value)'!$F$5","v":"20241031"},{"$f":"+'COVER SHEET'!$D$12","v":0},11520,{"$f":"'COVER SHEET'!$D$16&IF(MID('COVER SHEET'!$I$18,6,10)=\"december\",\"1231\",IF(MID('COVER SHEET'!$I$18,6,10)=\"june\",\"0630\"))","v":"20241231"},{"$f":"+'Incoming Remittances (Value)'!F112","v":0}]
["CMREM_11520","IE",{"$f":"+'Incoming Remittances (Value)'!$F$5","v":"20241031"},{"$f":"+'COVER SHEET'!$D$12","v":0},11520,{"$f":"'COVER SHEET'!$D$16&IF(MID('COVER SHEET'!$I$18,6,10)=\"december\",\"1231\",IF(MID('COVER SHEET'!$I$18,6,10)=\"june\",\"0630\"))","v":"20241231"},{"$f":"+'Incoming Remittances (Value)'!F113","v":0}]
["CMREM_11520","IM",{"$f":"+'Incoming Remittances (Value)'!$F$5","v":"20241031"},{"$f":"+'COVER SHEET'!$D$12","v":0},11520,{"$f":"'COVER SHEET'!$D$16&IF(MID('COVER SHEET'!$I$18,6,10)=\"december\",\"1231\",IF(MID('COVER SHEET'!$I$18,6,10)=\"june\",\"0630\"))","v":"20241231"},{"$f":"+'Incoming Remittances (Value)'!F114","v":0}]
["CMREM_11520","IL",{"$f":"+'Incoming Remittances (Value)'!$F$5","v":"20241031"},{"$f":"+'COVER SHEET'!$D$12","v":0},11520,{"$f":"'COVER SHEET'!$D$16&IF(MID('COVER SHEET'!$I$18,6,10)=\"december\",\"1231\",IF(MID('COVER SHEET'!$I$18,6,10)=\"june\",\"0630\"))","v":"20241231"},{"$f":"+'Incoming Remittances (Value)'!F115","v":0}]
["CMREM_11520","IT",{"$f":"+'Incoming Remittances (Value)'!$F$5","v":"20241031"},{"$f":"+'COVER SHEET'!$D$12","v":0},11520,{"$f":"'COVER SHEET'!$D$16&IF(MID('COVER SHEET'!$I$18,6,10)=\"december\",\"1231\",IF(MID('COVER SHEET'!$I$18,6,10)=\"june\",\"0630\"))","v":"20241231"},{"$f":"+'Incoming Remittances (Value)'!F116","v":0}]
["CMREM_11520","CI",{"$f":"+'Incoming Remittances (Value)'!$F$5","v":"20241031"},{"$f":"+'COVER SHEET'!$D$12","v":0},11520,{"$f":"'COVER SHEET'!$D$16&IF(MID('COVER SHEET'!$I$18,6,10)=\"december\",\"1231\",IF(MID('COVER SHEET'!$I$18,6,10)=\"june\",\"0630\"))","v":"20241231"},{"$f":"+'Incoming Remittances (Value)'!F117","v":0}]
["CMREM_11520","JM",{"$f":"+'Incoming Remittances (Value)'!$F$5","v":"20241031"},{"$f":"+'COVER SHEET'!$D$12","v":0},11520,{"$f":"'COVER SHEET'!$D$16&IF(MID('COVER SHEET'!$I$18,6,10)=\"december\",\"1231\",IF(MID('COVER SHEET'!$I$18,6,10)=\"june\",\"0630\"))","v":"20241231"},{"$f":"+'Incoming Remittances (Value)'!F118","v":0}]
["CMREM_11520","JP",{"$f":"+'Incoming Remittances (Value)'!$F$5","v":"20241031"},{"$f":"+'COVER SHEET'!$D$12","v":0},11520,{"$f":"'COVER SHEET'!$D$16&IF(MID('COVER SHEET'!$I$18,6,10)=\"december\",\"1231\",IF(MID('COVER SHEET'!$I$18,6,10)=\"june\",\"0630\"))","v":"20241231"},{"$f":"+'Incoming Remittances (Value)'!F119","v":0}]
["CMREM_11520","JE",{"$f":"+'Incoming Remittances (Value)'!$F$5","v":"20241031"},{"$f":"+'COVER SHEET'!$D$12","v":0},11520,{"$f":"'COVER SHEET'!$D$16&IF(MID('COVER SHEET'!$I$18,6,10)=\"december\",\"1231\",IF(MID('COVER SHEET'!$I$18,6,10)=\"june\",\"0630\"))","v":"20241231"},{"$f":"+'Incoming Remittances (Value)'!F120","v":0}]
["CMREM_11520","JO",{"$f":"+'Incoming Remittances (Value)'!$F$5","v":"20241031"},{"$f":"+'COVER SHEET'!$D$12","v":0},11520,{"$f":"'COVER SHEET'!$D$16&IF(MID('COVER SHEET'!$I$18,6,10)=\"december\",\"1231\",IF(MID('COVER SHEET'!$I$18,6,10)=\"june\",\"0630\"))","v":"20241231"},{"$f":"+'Incoming Remittances (Value)'!F121","v":0}]
["CMREM_11520","KZ",{"$f":"+'Incoming Remittances (Value)'!$F$5","v":"20241031"},{"$f":"+'COVER SHEET'!$D$12","v":0},11520,{"$f":"'COVER SHEET'!$D$16&IF(MID('COVER SHEET'!$I$18,6,10)=\"december\",\"1231\",IF(MID('COVER SHEET'!$I$18,6,10)=\"june\",\"0630\"))","v":"20241231"},{"$f":"+'Incoming Remittances (Value)'!F122","v":0}]
["CMREM_11520","KE",{"$f":"+'Incoming Remittances (Value)'!$F$5","v":"20241031"},{"$f":"+'COVER SHEET'!$D$12","v":0},11520,{"$f":"'COVER SHEET'!$D$16&IF(MID('COVER SHEET'!$I$18,6,10)=\"december\",\"1231\",IF(MID('COVER SHEET'!$I$18,6,10)=\"june\",\"0630\"))","v":"20241231"},{"$f":"+'Incoming Remittances (Value)'!F123","v":0}]
["CMREM_11520","KI",{"$f":"+'Incoming Remittances (Value)'!$F$5","v":"20241031"},{"$f":"+'COVER SHEET'!$D$12","v":0},11520,{"$f":"'COVER SHEET'!$D$16&IF(MID('COVER SHEET'!$I$18,6,10)=\"december\",\"1231\",IF(MID('COVER SHEET'!$I$18,6,10)=\"june\",\"0630\"))","v":"20241231"},{"$f":"+'Incoming Remittances (Value)'!F124","v":0}]
["CMREM_11520","KP",{"$f":"+'Incoming Remittances (Value)'!$F$5","v":"20241031"},{"$f":"+'COVER SHEET'!$D$12","v":0},11520,{"$f":"'COVER SHEET'!$D$16&IF(MID('COVER SHEET'!$I$18,6,10)=\"december\",\"1231\",IF(MID('COVER SHEET'!$I$18,6,10)=\"june\",\"0630\"))","v":"20241231"},{"$f":"+'Incoming Remittances (Value)'!F125","v":0}]
["CMREM_11520","KR",{"$f":"+'Incoming Remittances (Value)'!$F$5","v":"20241031"},{"$f":"+'COVER SHEET'!$D$12","v":0},11520,{"$f":"'COVER SHEET'!$D$16&IF(MID('COVER SHEET'!$I$18,6,10)=\"december\",\"1231\",IF(MID('COVER SHEET'!$I$18,6,10)=\"june\",\"0630\"))","v":"20241231"},{"$f":"+'Incoming Remittances (Value)'!F126","v":0}]
["CMREM_11520","XK",{"$f":"+'Incoming Remittances (Value)'!$F$5","v":"20241031"},{"$f":"+'COVER SHEET'!$D$12","v":0},11520,{"$f":"'COVER SHEET'!$D$16&IF(MID('COVER SHEET'!$I$18,6,10)=\"december\",\"1231\",IF(MID('COVER SHEET'!$I$18,6,10)=\"june\",\"0630\"))","v":"20241231"},{"$f":"+'Incoming Remittances (Value)'!F127","v":0}]
["CMREM_11520","KW",{"$f":"+'Incoming Remittances (Value)'!$F$5","v":"20241031"},{"$f":"+'COVER SHEET'!$D$12","v":0},11520,{"$f":"'COVER SHEET'!$D$16&IF(MID('COVER SHEET'!$I$18,6,10)=\"december\",\"1231\",IF(MID('COVER SHEET'!$I$18,6,10)=\"june\",\"0630\"))","v":"20241231"},{"$f":"+'Incoming Remittances (Value)'!F128","v":0}]
["CMREM_11520","KG",{"$f":"+'Incoming Remittances (Value)'!$F$5","v":"20241031"},{"$f":"+'COVER SHEET'!$D$12","v":0},11520,{"$f":"'COVER SHEET'!$D$16&IF(MID('COVER SHEET'!$I$18,6,10)=\"december\",\"1231\",IF(MID('COVER SHEET'!$I$18,6,10)=\"june\",\"0630\"))","v":"20241231"},{"$f":"+'Incoming Remittances (Value)'!F129","v":0}]
["CMREM_11520","LA",{"$f":"+'Incoming Remittances (Value)'!$F$5","v":"20241031"},{"$f":"+'COVER SHEET'!$D$12","v":0},11520,{"$f":"'COVER SHEET'!$D$16&IF(MID('COVER SHEET'!$I$18,6,10)=\"december\",\"1231\",IF(MID('COVER SHEET'!$I$18,6,10)=\"june\",\"0630\"))","v":"20241231"},{"$f":"+'Incoming Remittances (Value)'!F130","v":0}]
["CMREM_11520","LV",{"$f":"+'Incoming Remittances (Value)'!$F$5","v":"20241031"},{"$f":"+'COVER SHEET'!$D$12","v":0},11520,{"$f":"'COVER SHEET'!$D$16&IF(MID('COVER SHEET'!$I$18,6,10)=\"december\",\"1231\",IF(MID('COVER SHEET'!$I$18,6,10)=\"june\",\"0630\"))","v":"20241231"},{"$f":"+'Incoming Remittances (Value)'!F131","v":0}]
["CMREM_11520","LB",{"$f":"+'Incoming Remittances (Value)'!$F$5","v":"20241031"},{"$f":"+'COVER SHEET'!$D$12","v":0},11520,{"$f":"'COVER SHEET'!$D$16&IF(MID('COVER SHEET'!$I$18,6,10)=\"december\",\"1231\",IF(MID('COVER SHEET'!$I$18,6,10)=\"june\",\"0630\"))","v":"20241231"},{"$f":"+'Incoming Remittances (Value)'!F132","v":0}]
["CMREM_11520","LS",{"$f":"+'Incoming Remittances (Value)'!$F$5","v":"20241031"},{"$f":"+'COVER SHEET'!$D$12","v":0},11520,{"$f":"'COVER SHEET'!$D$16&IF(MID('COVER SHEET'!$I$18,6,10)=\"december\",\"1231\",IF(MID('COVER SHEET'!$I$18,6,10)=\"june\",\"0630\"))","v":"20241231"},{"$f":"+'Incoming Remittances (Value)'!F133","v":0}]
["CMREM_11520","LR",{"$f":"+'Incoming Remittances (Value)'!$F$5","v":"20241031"},{"$f":"+'COVER SHEET'!$D$12","v":0},11520,{"$f":"'COVER SHEET'!$D$16&IF(MID('COVER SHEET'!$I$18,6,10)=\"december\",\"1231\",IF(MID('COVER SHEET'!$I$18,6,10)=\"june\",\"0630\"))","v":"20241231"},{"$f":"+'Incoming Remittances (Value)'!F134","v":0}]
["CMREM_11520","LY",{"$f":"+'Incoming Remittances (Value)'!$F$5","v":"20241031"},{"$f":"+'COVER SHEET'!$D$12","v":0},11520,{"$f":"'COVER SHEET'!$D$16&IF(MID('COVER SHEET'!$I$18,6,10)=\"december\",\"1231\",IF(MID('COVER SHEET'!$I$18,6,10)=\"june\",\"0630\"))","v":"20241231"},{"$f":"+'Incoming Remittances (Value)'!F135","v":0}]
["CMREM_11520","LI",{"$f":"+'Incoming Remittances (Value)'!$F$5","v":"20241031"},{"$f":"+'COVER SHEET'!$D$12","v":0},11520,{"$f":"'COVER SHEET'!$D$16&IF(MID('COVER SHEET'!$I$18,6,10)=\"december\",\"1231\",IF(MID('COVER SHEET'!$I$18,6,10)=\"june\",\"0630\"))","v":"20241231"},{"$f":"+'Incoming Remittances (Value)'!F136","v":0}]
["CMREM_11520","LT",{"$f":"+'Incoming Remittances (Value)'!$F$5","v":"20241031"},{"$f":"+'COVER SHEET'!$D$12","v":0},11520,{"$f":"'COVER SHEET'!$D$16&IF(MID('COVER SHEET'!$I$18,6,10)=\"december\",\"1231\",IF(MID('COVER SHEET'!$I$18,6,10)=\"june\",\"0630\"))","v":"20241231"},{"$f":"+'Incoming Remittances (Value)'!F137","v":0}]
["CMREM_11520","LU",{"$f":"+'Incoming Remittances (Value)'!$F$5","v":"20241031"},{"$f":"+'COVER SHEET'!$D$12","v":0},11520,{"$f":"'COVER SHEET'!$D$16&IF(MID('COVER SHEET'!$I$18,6,10)=\"december\",\"1231\",IF(MID('COVER SHEET'!$I$18,6,10)=\"june\",\"0630\"))","v":"20241231"},{"$f":"+'Incoming Remittances (Value)'!F138","v":0}]
["CMREM_11520","MO",{"$f":"+'Incoming Remittances (Value)'!$F$5","v":"20241031"},{"$f":"+'COVER SHEET'!$D$12","v":0},11520,{"$f":"'COVER SHEET'!$D$16&IF(MID('COVER SHEET'!$I$18,6,10)=\"december\",\"1231\",IF(MID('COVER SHEET'!$I$18,6,10)=\"june\",\"0630\"))","v":"20241231"},{"$f":"+'Incoming Remittances (Value)'!F139","v":0}]
["CMREM_11520","MK",{"$f":"+'Incoming Remittances (Value)'!$F$5","v":"20241031"},{"$f":"+'COVER SHEET'!$D$12","v":0},11520,{"$f":"'COVER SHEET'!$D$16&IF(MID('COVER SHEET'!$I$18,6,10)=\"december\",\"1231\",IF(MID('COVER SHEET'!$I$18,6,10)=\"june\",\"0630\"))","v":"20241231"},{"$f":"+'Incoming Remittances (Value)'!F140","v":0}]
["CMREM_11520","MG",{"$f":"+'Incoming Remittances (Value)'!$F$5","v":"20241031"},{"$f":"+'COVER SHEET'!$D$12","v":0},11520,{"$f":"'COVER SHEET'!$D$16&IF(MID('COVER SHEET'!$I$18,6,10)=\"december\",\"1231\",IF(MID('COVER SHEET'!$I$18,6,10)=\"june\",\"0630\"))","v":"20241231"},{"$f":"+'Incoming Remittances (Value)'!F141","v":0}]
["CMREM_11520","MW",{"$f":"+'Incoming Remittances (Value)'!$F$5","v":"20241031"},{"$f":"+'COVER SHEET'!$D$12","v":0},11520,{"$f":"'COVER SHEET'!$D$16&IF(MID('COVER SHEET'!$I$18,6,10)=\"december\",\"1231\",IF(MID('COVER SHEET'!$I$18,6,10)=\"june\",\"0630\"))","v":"20241231"},{"$f":"+'Incoming Remittances (Value)'!F142","v":0}]
["CMREM_11520","MY",{"$f":"+'Incoming Remittances (Value)'!$F$5","v":"20241031"},{"$f":"+'COVER SHEET'!$D$12","v":0},11520,{"$f":"'COVER SHEET'!$D$16&IF(MID('COVER SHEET'!$I$18,6,10)=\"december\",\"1231\",IF(MID('COVER SHEET'!$I$18,6,10)=\"june\",\"0630\"))","v":"20241231"},{"$f":"+'Incoming Remittances (Value)'!F143","v":0}]
["CMREM_11520","MV",{"$f":"+'Incoming Remittances (Value)'!$F$5","v":"20241031"},{"$f":"+'COVER SHEET'!$D$12","v":0},11520,{"$f":"'COVER SHEET'!$D$16&IF(MID('COVER SHEET'!$I$18,6,10)=\"december\",\"1231\",IF(MID('COVER SHEET'!$I$18,6,10)=\"june\",\"0630\"))","v":"20241231"},{"$f":"+'Incoming Remittances (Value)'!F144","v":0}]
["CMREM_11520","ML",{"$f":"+'Incoming Remittances (Value)'!$F$5","v":"20241031"},{"$f":"+'COVER SHEET'!$D$12","v":0},11520,{"$f":"'COVER SHEET'!$D$16&IF(MID('COVER SHEET'!$I$18,6,10)=\"december\",\"1231\",IF(MID('COVER SHEET'!$I$18,6,10)=\"june\",\"0630\"))","v":"20241231"},{"$f":"+'Incoming Remittances (Value)'!F145","v":0}]
["CMREM_11520","MH",{"$f":"+'Incoming Remittances (Value)'!$F$5","v":"20241031"},{"$f":"+'COVER SHEET'!$D$12","v":0},11520,{"$f":"'COVER SHEET'!$D$16&IF(MID('COVER SHEET'!$I$18,6,10)=\"december\",\"1231\",IF(MID('COVER SHEET'!$I$18,6,10)=\"june\",\"0630\"))","v":"20241231"},{"$f":"+'Incoming Remittances (Value)'!F146","v":0}]
["CMREM_11520","MR",{"$f":"+'Incoming Remittances (Value)'!$F$5","v":"20241031"},{"$f":"+'COVER SHEET'!$D$12","v":0},11520,{"$f":"'COVER SHEET'!$D$16&IF(MID('COVER SHEET'!$I$18,6,10)=\"december\",\"1231\",IF(MID('COVER SHEET'!$I$18,6,10)=\"june\",\"0630\"))","v":"20241231"},{"$f":"+'Incoming Remittances (Value)'!F147","v":0}]
["CMREM_11520","MU",{"$f":"+'Incoming Remittances (Value)'!$F$5","v":"20241031"},{"$f":"+'COVER SHEET'!$D$12","v":0},11520,{"$f":"'COVER SHEET'!$D$16&IF(MID('COVER SHEET'!$I$18,6,10)=\"december\",\"1231\",IF(MID('COVER SHEET'!$I$18,6,10)=\"june\",\"0630\"))","v":"20241231"},{"$f":"+'Incoming Remittances (Value)'!F148","v":0}]
["CMREM_11520","MX",{"$f":"+'Incoming Remittances (Value)'!$F$5","v":"20241031"},{"$f":"+'COVER SHEET'!$D$12","v":0},11520,{"$f":"'COVER SHEET'!$D$16&IF(MID('COVER SHEET'!$I$18,6,10)=\"december\",\"1231\",IF(MID('COVER SHEET'!$I$18,6,10)=\"june\",\"0630\"))","v":"20241231"},{"$f":"+'Incoming Remittances (Value)'!F149","v":0}]
["CMREM_11520","FM",{"$f":"+'Incoming Remittances (Value)'!$F$5","v":"20241031"},{"$f":"+'COVER SHEET'!$D$12","v":0},11520,{"$f":"'COVER SHEET'!$D$16&IF(MID('COVER SHEET'!$I$18,6,10)=\"december\",\"1231\",IF(MID('COVER SHEET'!$I$18,6,10)=\"june\",\"0630\"))","v":"20241231"},{"$f":"+'Incoming Remittances (Value)'!F150","v":0}]
["CMREM_11520","MD",{"$f":"+'Incoming Remittances (Value)'!$F$5","v":"20241031"},{"$f":"+'COVER SHEET'!$D$12","v":0},11520,{"$f":"'COVER SHEET'!$D$16&IF(MID('COVER SHEET'!$I$18,6,10)=\"december\",\"1231\",IF(MID('COVER SHEET'!$I$18,6,10)=\"june\",\"0630\"))","v":"20241231"},{"$f":"+'Incoming Remittances (Value)'!F151","v":0}]
["CMREM_11520","MN",{"$f":"+'Incoming Remittances (Value)'!$F$5","v":"20241031"},{"$f":"+'COVER SHEET'!$D$12","v":0},11520,{"$f":"'COVER SHEET'!$D$16&IF(MID('COVER SHEET'!$I$18,6,10)=\"december\",\"1231\",IF(MID('COVER SHEET'!$I$18,6,10)=\"june\",\"0630\"))","v":"20241231"},{"$f":"+'Incoming Remittances (Value)'!F152","v":0}]
["CMREM_11520","ME",{"$f":"+'Incoming Remittances (Value)'!$F$5","v":"20241031"},{"$f":"+'COVER SHEET'!$D$12","v":0},11520,{"$f":"'COVER SHEET'!$D$16&IF(MID('COVER SHEET'!$I$18,6,10)=\"december\",\"1231\",IF(MID('COVER SHEET'!$I$18,6,10)=\"june\",\"0630\"))","v":"20241231"},{"$f":"+'Incoming Remittances (Value)'!F153","v":0}]
["CMREM_11520","MS",{"$f":"+'Incoming Remittances (Value)'!$F$5","v":"20241031"},{"$f":"+'COVER SHEET'!$D$12","v":0},11520,{"$f":"'COVER SHEET'!$D$16&IF(MID('COVER SHEET'!$I$18,6,10)=\"december\",\"1231\",IF(MID('COVER SHEET'!$I$18,6,10)=\"june\",\"0630\"))","v":"20241231"},{"$f":"+'Incoming Remittances (Value)'!F154","v":0}]
["CMREM_11520","MA",{"$f":"+'Incoming Remittances (Value)'!$F$5","v":"20241031"},{"$f":"+'COVER SHEET'!$D$12","v":0},11520,{"$f":"'COVER SHEET'!$D$16&IF(MID('COVER SHEET'!$I$18,6,10)=\"december\",\"1231\",IF(MID('COVER SHEET'!$I$18,6,10)=\"june\",\"0630\"))","v":"20241231"},{"$f":"+'Incoming Remittances (Value)'!F155","v":0}]
["CMREM_11520","MZ",{"$f":"+'Incoming Remittances (Value)'!$F$5","v":"20241031"},{"$f":"+'COVER SHEET'!$D$12","v":0},11520,{"$f":"'COVER SHEET'!$D$16&IF(MID('COVER SHEET'!$I$18,6,10)=\"december\",\"1231\",IF(MID('COVER SHEET'!$I$18,6,10)=\"june\",\"0630\"))","v":"20241231"},{"$f":"+'Incoming Remittances (Value)'!F156","v":0}]
["CMREM_11520","MM",{"$f":"+'Incoming Remittances (Value)'!$F$5","v":"20241031"},{"$f":"+'COVER SHEET'!$D$12","v":0},11520,{"$f":"'COVER SHEET'!$D$16&IF(MID('COVER SHEET'!$I$18,6,10)=\"december\",\"1231\",IF(MID('COVER SHEET'!$I$18,6,10)=\"june\",\"0630\"))","v":"20241231"},{"$f":"+'Incoming Remittances (Value)'!F157","v":0}]
["CMREM_11520","NA",{"$f":"+'Incoming Remittances (Value)'!$F$5","v":"20241031"},{"$f":"+'COVER SHEET'!$D$12","v":0},11520,{"$f":"'COVER SHEET'!$D$16&IF(MID('COVER SHEET'!$I$18,6,10)=\"december\",\"1231\",IF(MID('COVER SHEET'!$I$18,6,10)=\"june\",\"0630\"))","v":"20241231"},{"$f":"+'Incoming Remittances (Value)'!F158","v":0}]
["CMREM_11520","NR",{"$f":"+'Incoming Remittances (Value)'!$F$5","v":"20241031"},{"$f":"+'COVER SHEET'!$D$12","v":0},11520,{"$f":"'COVER SHEET'!$D$16&IF(MID('COVER SHEET'!$I$18,6,10)=\"december\",\"1231\",IF(MID('COVER SHEET'!$I$18,6,10)=\"june\",\"0630\"))","v":"20241231"},{"$f":"+'Incoming Remittances (Value)'!F159","v":0}]
["CMREM_11520","NP",{"$f":"+'Incoming Remittances (Value)'!$F$5","v":"20241031"},{"$f":"+'COVER SHEET'!$D$12","v":0},11520,{"$f":"'COVER SHEET'!$D$16&IF(MID('COVER SHEET'!$I$18,6,10)=\"december\",\"1231\",IF(MID('COVER SHEET'!$I$18,6,10)=\"june\",\"0630\"))","v":"20241231"},{"$f":"+'Incoming Remittances (Value)'!F160","v":0}]
["CMREM_11520","NL",{"$f":"+'Incoming Remittances (Value)'!$F$5","v":"20241031"},{"$f":"+'COVER SHEET'!$D$12","v":0},11520,{"$f":"'COVER SHEET'!$D$16&IF(MID('COVER SHEET'!$I$18,6,10)=\"december\",\"1231\",IF(MID('COVER SHEET'!$I$18,6,10)=\"june\",\"0630\"))","v":"20241231"},{"$f":"+'Incoming Remittances (Value)'!F161","v":0}]
["CMREM_11520","NC",{"$f":"+'Incoming Remittances (Value)'!$F$5","v":"20241031"},{"$f":"+'COVER SHEET'!$D$12","v":0},11520,{"$f":"'COVER SHEET'!$D$16&IF(MID('COVER SHEET'!$I$18,6,10)=\"december\",\"1231\",IF(MID('COVER SHEET'!$I$18,6,10)=\"june\",\"0630\"))","v":"20241231"},{"$f":"+'Incoming Remittances (Value)'!F162","v":0}]
["CMREM_11520","NZ",{"$f":"+'Incoming Remittances (Value)'!$F$5","v":"20241031"},{"$f":"+'COVER SHEET'!$D$12","v":0},11520,{"$f":"'COVER SHEET'!$D$16&IF(MID('COVER SHEET'!$I$18,6,10)=\"december\",\"1231\",IF(MID('COVER SHEET'!$I$18,6,10)=\"june\",\"0630\"))","v":"20241231"},{"$f":"+'Incoming Remittances (Value)'!F163","v":0}]
["CMREM_11520","NI",{"$f":"+'Incoming Remittances (Value)'!$F$5","v":"20241031"},{"$f":"+'COVER SHEET'!$D$12","v":0},11520,{"$f":"'COVER SHEET'!$D$16&IF(MID('COVER SHEET'!$I$18,6,10)=\"december\",\"1231\",IF(MID('COVER SHEET'!$I$18,6,10)=\"june\",\"0630\"))","v":"20241231"},{"$f":"+'Incoming Remittances (Value)'!F164","v":0}]
["CMREM_11520","NE",{"$f":"+'Incoming Remittances (Value)'!$F$5","v":"20241031"},{"$f":"+'COVER SHEET'!$D$12","v":0},11520,{"$f":"'COVER SHEET'!$D$16&IF(MID('COVER SHEET'!$I$18,6,10)=\"december\",\"1231\",IF(MID('COVER SHEET'!$I$18,6,10)=\"june\",\"0630\"))","v":"20241231"},{"$f":"+'Incoming Remittances (Value)'!F165","v":0}]
["CMREM_11520","NG",{"$f":"+'Incoming Remittances (Value)'!$F$5","v":"20241031"},{"$f":"+'COVER SHEET'!$D$12","v":0},11520,{"$f":"'COVER SHEET'!$D$16&IF(MID('COVER SHEET'!$I$18,6,10)=\"december\",\"1231\",IF(MID('COVER SHEET'!$I$18,6,10)=\"june\",\"0630\"))","v":"20241231"},{"$f":"+'Incoming Remittances (Value)'!F166","v":0}]
["CMREM_11520","NU",{"$f":"+'Incoming Remittances (Value)'!$F$5","v":"20241031"},{"$f":"+'COVER SHEET'!$D$12","v":0},11520,{"$f":"'COVER SHEET'!$D$16&IF(MID('COVER SHEET'!$I$18,6,10)=\"december\",\"1231\",IF(MID('COVER SHEET'!$I$18,6,10)=\"june\",\"0630\"))","v":"20241231"},{"$f":"+'Incoming Remittances (Value)'!F167","v":0}]
["CMREM_11520","NF",{"$f":"+'Incoming Remittances (Value)'!$F$5","v":"20241031"},{"$f":"+'COVER SHEET'!$D$12","v":0},11520,{"$f":"'COVER SHEET'!$D$16&IF(MID('COVER SHEET'!$I$18,6,10)=\"december\",\"1231\",IF(MID('COVER SHEET'!$I$18,6,10)=\"june\",\"0630\"))","v":"20241231"},{"$f":"+'Incoming Remittances (Value)'!F168","v":0}]
["CMREM_11520","MP",{"$f":"+'Incoming Remittances (Value)'!$F$5","v":"20241031"},{"$f":"+'COVER SHEET'!$D$12","v":0},11520,{"$f":"'COVER SHEET'!$D$16&IF(MID('COVER SHEET'!$I$18,6,10)=\"december\",\"1231\",IF(MID('COVER SHEET'!$I$18,6,10)=\"june\",\"0630\"))","v":"20241231"},{"$f":"+'Incoming Remittances (Value)'!F169","v":0}]
["CMREM_11520","NO",{"$f":"+'Incoming Remittances (Value)'!$F$5","v":"20241031"},{"$f":"+'COVER SHEET'!$D$12","v":0},11520,{"$f":"'COVER SHEET'!$D$16&IF(MID('COVER SHEET'!$I$18,6,10)=\"december\",\"1231\",IF(MID('COVER SHEET'!$I$18,6,10)=\"june\",\"0630\"))","v":"20241231"},{"$f":"+'Incoming Remittances (Value)'!F170","v":0}]
["CMREM_11520","OM",{"$f":"+'Incoming Remittances (Value)'!$F$5","v":"20241031"},{"$f":"+'COVER SHEET'!$D$12","v":0},11520,{"$f":"'COVER SHEET'!$D$16&IF(MID('COVER SHEET'!$I$18,6,10)=\"december\",\"1231\",IF(MID('COVER SHEET'!$I$18,6,10)=\"june\",\"0630\"))","v":"20241231"},{"$f":"+'Incoming Remittances (Value)'!F171","v":0}]
["CMREM_11520","PK",{"$f":"+'Incoming Remittances (Value)'!$F$5","v":"20241031"},{"$f":"+'COVER SHEET'!$D$12","v":0},11520,{"$f":"'COVER SHEET'!$D$16&IF(MID('COVER SHEET'!$I$18,6,10)=\"december\",\"1231\",IF(MID('COVER SHEET'!$I$18,6,10)=\"june\",\"0630\"))","v":"20241231"},{"$f":"+'Incoming Remittances (Value)'!F172","v":0}]
["CMREM_11520","PW",{"$f":"+'Incoming Remittances (Value)'!$F$5","v":"20241031"},{"$f":"+'COVER SHEET'!$D$12","v":0},11520,{"$f":"'COVER SHEET'!$D$16&IF(MID('COVER SHEET'!$I$18,6,10)=\"december\",\"1231\",IF(MID('COVER SHEET'!$I$18,6,10)=\"june\",\"0630\"))","v":"20241231"},{"$f":"+'Incoming Remittances (Value)'!F173","v":0}]
["CMREM_11520","PS",{"$f":"+'Incoming Remittances (Value)'!$F$5","v":"20241031"},{"$f":"+'COVER SHEET'!$D$12","v":0},11520,{"$f":"'COVER SHEET'!$D$16&IF(MID('COVER SHEET'!$I$18,6,10)=\"december\",\"1231\",IF(MID('COVER SHEET'!$I$18,6,10)=\"june\",\"0630\"))","v":"20241231"},{"$f":"+'Incoming Remittances (Value)'!F174","v":0}]
["CMREM_11520","PA",{"$f":"+'Incoming Remittances (Value)'!$F$5","v":"20241031"},{"$f":"+'COVER SHEET'!$D$12","v":0},11520,{"$f":"'COVER SHEET'!$D$16&IF(MID('COVER SHEET'!$I$18,6,10)=\"december\",\"1231\",IF(MID('COVER SHEET'!$I$18,6,10)=\"june\",\"0630\"))","v":"20241231"},{"$f":"+'Incoming Remittances (Value)'!F175","v":0}]
["CMREM_11520","PG",{"$f":"+'Incoming Remittances (Value)'!$F$5","v":"20241031"},{"$f":"+'COVER SHEET'!$D$12","v":0},11520,{"$f":"'COVER SHEET'!$D$16&IF(MID('COVER SHEET'!$I$18,6,10)=\"december\",\"1231\",IF(MID('COVER SHEET'!$I$18,6,10)=\"june\",\"0630\"))","v":"20241231"},{"$f":"+'Incoming Remittances (Value)'!F176","v":0}]
["CMREM_11520","PY",{"$f":"+'Incoming Remittances (Value)'!$F$5","v":"20241031"},{"$f":"+'COVER SHEET'!$D$12","v":0},11520,{"$f":"'COVER SHEET'!$D$16&IF(MID('COVER SHEET'!$I$18,6,10)=\"december\",\"1231\",IF(MID('COVER SHEET'!$I$18,6,10)=\"june\",\"0630\"))","v":"20241231"},{"$f":"+'Incoming Remittances (Value)'!F177","v":0}]
["CMREM_11520","PE",{"$f":"+'Incoming Remittances (Value)'!$F$5","v":"20241031"},{"$f":"+'COVER SHEET'!$D$12","v":0},11520,{"$f":"'COVER SHEET'!$D$16&IF(MID('COVER SHEET'!$I$18,6,10)=\"december\",\"1231\",IF(MID('COVER SHEET'!$I$18,6,10)=\"june\",\"0630\"))","v":"20241231"},{"$f":"+'Incoming Remittances (Value)'!F178","v":0}]
["CMREM_11520","PH",{"$f":"+'Incoming Remittances (Value)'!$F$5","v":"20241031"},{"$f":"+'COVER SHEET'!$D$12","v":0},11520,{"$f":"'COVER SHEET'!$D$16&IF(MID('COVER SHEET'!$I$18,6,10)=\"december\",\"1231\",IF(MID('COVER SHEET'!$I$18,6,10)=\"june\",\"0630\"))","v":"20241231"},{"$f":"+'Incoming Remittances (Value)'!F179","v":0}]
["CMREM_11520","PN",{"$f":"+'Incoming Remittances (Value)'!$F$5","v":"20241031"},{"$f":"+'COVER SHEET'!$D$12","v":0},11520,{"$f":"'COVER SHEET'!$D$16&IF(MID('COVER SHEET'!$I$18,6,10)=\"december\",\"1231\",IF(MID('COVER SHEET'!$I$18,6,10)=\"june\",\"0630\"))","v":"20241231"},{"$f":"+'Incoming Remittances (Value)'!F180","v":0}]
["CMREM_11520","PL",{"$f":"+'Incoming Remittances (Value)'!$F$5","v":"20241031"},{"$f":"+'COVER SHEET'!$D$12","v":0},11520,{"$f":"'COVER SHEET'!$D$16&IF(MID('COVER SHEET'!$I$18,6,10)=\"december\",\"1231\",IF(MID('COVER SHEET'!$I$18,6,10)=\"june\",\"0630\"))","v":"20241231"},{"$f":"+'Incoming Remittances (Value)'!F181","v":0}]
["CMREM_11520","PT",{"$f":"+'Incoming Remittances (Value)'!$F$5","v":"20241031"},{"$f":"+'COVER SHEET'!$D$12","v":0},11520,{"$f":"'COVER SHEET'!$D$16&IF(MID('COVER SHEET'!$I$18,6,10)=\"december\",\"1231\",IF(MID('COVER SHEET'!$I$18,6,10)=\"june\",\"0630\"))","v":"20241231"},{"$f":"+'Incoming Remittances (Value)'!F182","v":0}]
["CMREM_11520","QA",{"$f":"+'Incoming Remittances (Value)'!$F$5","v":"20241031"},{"$f":"+'COVER SHEET'!$D$12","v":0},11520,{"$f":"'COVER SHEET'!$D$16&IF(MID('COVER SHEET'!$I$18,6,10)=\"december\",\"1231\",IF(MID('COVER SHEET'!$I$18,6,10)=\"june\",\"0630\"))","v":"20241231"},{"$f":"+'Incoming Remittances (Value)'!F183","v":0}]
["CMREM_11520","RO",{"$f":"+'Incoming Remittances (Value)'!$F$5","v":"20241031"},{"$f":"+'COVER SHEET'!$D$12","v":0},11520,{"$f":"'COVER SHEET'!$D$16&IF(MID('COVER SHEET'!$I$18,6,10)=\"december\",\"1231\",IF(MID('COVER SHEET'!$I$18,6,10)=\"june\",\"0630\"))","v":"20241231"},{"$f":"+'Incoming Remittances (Value)'!F184","v":0}]
["CMREM_11520","RU",{"$f":"+'Incoming Remittances (Value)'!$F$5","v":"20241031"},{"$f":"+'COVER SHEET'!$D$12","v":0},11520,{"$f":"'COVER SHEET'!$D$16&IF(MID('COVER SHEET'!$I$18,6,10)=\"december\",\"1231\",IF(MID('COVER SHEET'!$I$18,6,10)=\"june\",\"0630\"))","v":"20241231"},{"$f":"+'Incoming Remittances (Value)'!F185","v":0}]
["CMREM_11520","RW",{"$f":"+'Incoming Remittances (Value)'!$F$5","v":"20241031"},{"$f":"+'COVER SHEET'!$D$12","v":0},11520,{"$f":"'COVER SHEET'!$D$16&IF(MID('COVER SHEET'!$I$18,6,10)=\"december\",\"1231\",IF(MID('COVER SHEET'!$I$18,6,10)=\"june\",\"0630\"))","v":"20241231"},{"$f":"+'Incoming Remittances (Value)'!F186","v":0}]
["CMREM_11520","SH",{"$f":"+'Incoming Remittances (Value)'!$F$5","v":"20241031"},{"$f":"+'COVER SHEET'!$D$12","v":0},11520,{"$f":"'COVER SHEET'!$D$16&IF(MID('COVER SHEET'!$I$18,6,10)=\"december\",\"1231\",IF(MID('COVER SHEET'!$I$18,6,10)=\"june\",\"0630\"))","v":"20241231"},{"$f":"+'Incoming Remittances (Value)'!F187","v":0}]
["CMREM_11520","KN",{"$f":"+'Incoming Remittances (Value)'!$F$5","v":"20241031"},{"$f":"+'COVER SHEET'!$D$12","v":0},11520,{"$f":"'COVER SHEET'!$D$16&IF(MID('COVER SHEET'!$I$18,6,10)=\"december\",\"1231\",IF(MID('COVER SHEET'!$I$18,6,10)=\"june\",\"0630\"))","v":"20241231"},{"$f":"+'Incoming Remittances (Value)'!F188","v":0}]
["CMREM_11520","LC",{"$f":"+'Incoming Remittances (Value)'!$F$5","v":"20241031"},{"$f":"+'COVER SHEET'!$D$12","v":0},11520,{"$f":"'COVER SHEET'!$D$16&IF(MID('COVER SHEET'!$I$18,6,10)=\"december\",\"1231\",IF(MID('COVER SHEET'!$I$18,6,10)=\"june\",\"0630\"))","v":"20241231"},{"$f":"+'Incoming Remittances (Value)'!F189","v":0}]
["CMREM_11520","VC",{"$f":"+'Incoming Remittances (Value)'!$F$5","v":"20241031"},{"$f":"+'COVER SHEET'!$D$12","v":0},11520,{"$f":"'COVER SHEET'!$D$16&IF(MID('COVER SHEET'!$I$18,6,10)=\"december\",\"1231\",IF(MID('COVER SHEET'!$I$18,6,10)=\"june\",\"0630\"))","v":"20241231"},{"$f":"+'Incoming Remittances (Value)'!F190","v":0}]
["CMREM_11520","WS",{"$f":"+'Incoming Remittances (Value)'!$F$5","v":"20241031"},{"$f":"+'COVER SHEET'!$D$12","v":0},11520,{"$f":"'COVER SHEET'!$D$16&IF(MID('COVER SHEET'!$I$18,6,10)=\"december\",\"1231\",IF(MID('COVER SHEET'!$I$18,6,10)=\"june\",\"0630\"))","v":"20241231"},{"$f":"+'Incoming Remittances (Value)'!F191","v":0}]
["CMREM_11520","SM",{"$f":"+'Incoming Remittances (Value)'!$F$5","v":"20241031"},{"$f":"+'COVER SHEET'!$D$12","v":0},11520,{"$f":"'COVER SHEET'!$D$16&IF(MID('COVER SHEET'!$I$18,6,10)=\"december\",\"1231\",IF(MID('COVER SHEET'!$I$18,6,10)=\"june\",\"0630\"))","v":"20241231"},{"$f":"+'Incoming Remittances (Value)'!F192","v":0}]
["CMREM_11520","ST",{"$f":"+'Incoming Remittances (Value)'!$F$5","v":"20241031"},{"$f":"+'COVER SHEET'!$D$12","v":0},11520,{"$f":"'COVER SHEET'!$D$16&IF(MID('COVER SHEET'!$I$18,6,10)=\"december\",\"1231\",IF(MID('COVER SHEET'!$I$18,6,10)=\"june\",\"0630\"))","v":"20241231"},{"$f":"+'Incoming Remittances (Value)'!F193","v":0}]
["CMREM_11520","SA",{"$f":"+'Incoming Remittances (Value)'!$F$5","v":"20241031"},{"$f":"+'COVER SHEET'!$D$12","v":0},11520,{"$f":"'COVER SHEET'!$D$16&IF(MID('COVER SHEET'!$I$18,6,10)=\"december\",\"1231\",IF(MID('COVER SHEET'!$I$18,6,10)=\"june\",\"0630\"))","v":"20241231"},{"$f":"+'Incoming Remittances (Value)'!F194","v":0}]
["CMREM_11520","SN",{"$f":"+'Incoming Remittances (Value)'!$F$5","v":"20241031"},{"$f":"+'COVER SHEET'!$D$12","v":0},11520,{"$f":"'COVER SHEET'!$D$16&IF(MID('COVER SHEET'!$I$18,6,10)=\"december\",\"1231\",IF(MID('COVER SHEET'!$I$18,6,10)=\"june\",\"0630\"))","v":"20241231"},{"$f":"+'Incoming Remittances (Value)'!F195","v":0}]
["CMREM_11520","RS",{"$f":"+'Incoming Remittances (Value)'!$F$5","v":"20241031"},{"$f":"+'COVER SHEET'!$D$12","v":0},11520,{"$f":"'COVER SHEET'!$D$16&IF(MID('COVER SHEET'!$I$18,6,10)=\"december\",\"1231\",IF(MID('COVER SHEET'!$I$18,6,10)=\"june\",\"0630\"))","v":"20241231"},{"$f":"+'Incoming Remittances (Value)'!F196","v":0}]
["CMREM_11520","SC",{"$f":"+'Incoming Remittances (Value)'!$F$5","v":"20241031"},{"$f":"+'COVER SHEET'!$D$12","v":0},11520,{"$f":"'COVER SHEET'!$D$16&IF(MID('COVER SHEET'!$I$18,6,10)=\"december\",\"1231\",IF(MID('COVER SHEET'!$I$18,6,10)=\"june\",\"0630\"))","v":"20241231"},{"$f":"+'Incoming Remittances (Value)'!F197","v":0}]
["CMREM_11520","SL",{"$f":"+'Incoming Remittances (Value)'!$F$5","v":"20241031"},{"$f":"+'COVER SHEET'!$D$12","v":0},11520,{"$f":"'COVER SHEET'!$D$16&IF(MID('COVER SHEET'!$I$18,6,10)=\"december\",\"1231\",IF(MID('COVER SHEET'!$I$18,6,10)=\"june\",\"0630\"))","v":"20241231"},{"$f":"+'Incoming Remittances (Value)'!F198","v":0}]
["CMREM_11520","SG",{"$f":"+'Incoming Remittances (Value)'!$F$5","v":"20241031"},{"$f":"+'COVER SHEET'!$D$12","v":0},11520,{"$f":"'COVER SHEET'!$D$16&IF(MID('COVER SHEET'!$I$18,6,10)=\"december\",\"1231\",IF(MID('COVER SHEET'!$I$18,6,10)=\"june\",\"0630\"))","v":"20241231"},{"$f":"+'Incoming Remittances (Value)'!F199","v":0}]
["CMREM_11520","SX",{"$f":"+'Incoming Remittances (Value)'!$F$5","v":"20241031"},{"$f":"+'COVER SHEET'!$D$12","v":0},11520,{"$f":"'COVER SHEET'!$D$16&IF(MID('COVER SHEET'!$I$18,6,10)=\"december\",\"1231\",IF(MID('COVER SHEET'!$I$18,6,10)=\"june\",\"0630\"))","v":"20241231"},{"$f":"+'Incoming Remittances (Value)'!F200","v":0}]
["CMREM_11520","SK",{"$f":"+'Incoming Remittances (Value)'!$F$5","v":"20241031"},{"$f":"+'COVER SHEET'!$D$12","v":0},11520,{"$f":"'COVER SHEET'!$D$16&IF(MID('COVER SHEET'!$I$18,6,10)=\"december\",\"1231\",IF(MID('COVER SHEET'!$I$18,6,10)=\"june\",\"0630\"))","v":"20241231"},{"$f":"+'Incoming Remittances (Value)'!F201","v":0}]
["CMREM_11520","SI",{"$f":"+'Incoming Remittances (Value)'!$F$5","v":"20241031"},{"$f":"+'COVER SHEET'!$D$12","v":0},11520,{"$f":"'COVER SHEET'!$D$16&IF(MID('COVER SHEET'!$I$18,6,10)=\"december\",\"1231\",IF(MID('COVER SHEET'!$I$18,6,10)=\"june\",\"0630\"))","v":"20241231"},{"$f":"+'Incoming Remittances (Value)'!F202","v":0}]
["CMREM_11520","SB",{"$f":"+'Incoming Remittances (Value)'!$F$5","v":"20241031"},{"$f":"+'COVER SHEET'!$D$12","v":0},11520,{"$f":"'COVER SHEET'!$D$16&IF(MID('COVER SHEET'!$I$18,6,10)=\"december\",\"1231\",IF(MID('COVER SHEET'!$I$18,6,10)=\"june\",\"0630\"))","v":"20241231"},{"$f":"+'Incoming Remittances (Value)'!F203","v":0}]
["CMREM_11520","SO",{"$f":"+'Incoming Remittances (Value)'!$F$5","v":"20241031"},{"$f":"+'COVER SHEET'!$D$12","v":0},11520,{"$f":"'COVER SHEET'!$D$16&IF(MID('COVER SHEET'!$I$18,6,10)=\"december\",\"1231\",IF(MID('COVER SHEET'!$I$18,6,10)=\"june\",\"0630\"))","v":"20241231"},{"$f":"+'Incoming Remittances (Value)'!F204","v":0}]
["CMREM_11520","ZA",{"$f":"+'Incoming Remittances (Value)'!$F$5","v":"20241031"},{"$f":"+'COVER SHEET'!$D$12","v":0},11520,{"$f":"'COVER SHEET'!$D$16&IF(MID('COVER SHEET'!$I$18,6,10)=\"december\",\"1231\",IF(MID('COVER SHEET'!$I$18,6,10)=\"june\",\"0630\"))","v":"20241231"},{"$f":"+'Incoming Remittances (Value)'!F205","v":0}]
["CMREM_11520","GS",{"$f":"+'Incoming Remittances (Value)'!$F$5","v":"20241031"},{"$f":"+'COVER SHEET'!$D$12","v":0},11520,{"$f":"'COVER SHEET'!$D$16&IF(MID('COVER SHEET'!$I$18,6,10)=\"december\",\"1231\",IF(MID('COVER SHEET'!$I$18,6,10)=\"june\",\"0630\"))","v":"20241231"},{"$f":"+'Incoming Remittances (Value)'!F206","v":0}]
["CMREM_11520","SS",{"$f":"+'Incoming Remittances (Value)'!$F$5","v":"20241031"},{"$f":"+'COVER SHEET'!$D$12","v":0},11520,{"$f":"'COVER SHEET'!$D$16&IF(MID('COVER SHEET'!$I$18,6,10)=\"december\",\"1231\",IF(MID('COVER SHEET'!$I$18,6,10)=\"june\",\"0630\"))","v":"20241231"},{"$f":"+'Incoming Remittances (Value)'!F207","v":0}]
["CMREM_11520","ES",{"$f":"+'Incoming Remittances (Value)'!$F$5","v":"20241031"},{"$f":"+'COVER SHEET'!$D$12","v":0},11520,{"$f":"'COVER SHEET'!$D$16&IF(MID('COVER SHEET'!$I$18,6,10)=\"december\",\"1231\",IF(MID('COVER SHEET'!$I$18,6,10)=\"june\",\"0630\"))","v":"20241231"},{"$f":"+'Incoming Remittances (Value)'!F208","v":0}]
["CMREM_11520","LK",{"$f":"+'Incoming Remittances (Value)'!$F$5","v":"20241031"},{"$f":"+'COVER SHEET'!$D$12","v":0},11520,{"$f":"'COVER SHEET'!$D$16&IF(MID('COVER SHEET'!$I$18,6,10)=\"december\",\"1231\",IF(MID('COVER SHEET'!$I$18,6,10)=\"june\",\"0630\"))","v":"20241231"},{"$f":"+'Incoming Remittances (Value)'!F209","v":0}]
["CMREM_11520","SD",{"$f":"+'Incoming Remittances (Value)'!$F$5","v":"20241031"},{"$f":"+'COVER SHEET'!$D$12","v":0},11520,{"$f":"'COVER SHEET'!$D$16&IF(MID('COVER SHEET'!$I$18,6,10)=\"december\",\"1231\",IF(MID('COVER SHEET'!$I$18,6,10)=\"june\",\"0630\"))","v":"20241231"},{"$f":"+'Incoming Remittances (Value)'!F210","v":0}]
["CMREM_11520","SR",{"$f":"+'Incoming Remittances (Value)'!$F$5","v":"20241031"},{"$f":"+'COVER SHEET'!$D$12","v":0},11520,{"$f":"'COVER SHEET'!$D$16&IF(MID('COVER SHEET'!$I$18,6,10)=\"december\",\"1231\",IF(MID('COVER SHEET'!$I$18,6,10)=\"june\",\"0630\"))","v":"20241231"},{"$f":"+'Incoming Remittances (Value)'!F211","v":0}]
["CMREM_11520","SZ",{"$f":"+'Incoming Remittances (Value)'!$F$5","v":"20241031"},{"$f":"+'COVER SHEET'!$D$12","v":0},11520,{"$f":"'COVER SHEET'!$D$16&IF(MID('COVER SHEET'!$I$18,6,10)=\"december\",\"1231\",IF(MID('COVER SHEET'!$I$18,6,10)=\"june\",\"0630\"))","v":"20241231"},{"$f":"+'Incoming Remittances (Value)'!F212","v":0}]
["CMREM_11520","SE",{"$f":"+'Incoming Remittances (Value)'!$F$5","v":"20241031"},{"$f":"+'COVER SHEET'!$D$12","v":0},11520,{"$f":"'COVER SHEET'!$D$16&IF(MID('COVER SHEET'!$I$18,6,10)=\"december\",\"1231\",IF(MID('COVER SHEET'!$I$18,6,10)=\"june\",\"0630\"))","v":"20241231"},{"$f":"+'Incoming Remittances (Value)'!F213","v":0}]
["CMREM_11520","CH",{"$f":"+'Incoming Remittances (Value)'!$F$5","v":"20241031"},{"$f":"+'COVER SHEET'!$D$12","v":0},11520,{"$f":"'COVER SHEET'!$D$16&IF(MID('COVER SHEET'!$I$18,6,10)=\"december\",\"1231\",IF(MID('COVER SHEET'!$I$18,6,10)=\"june\",\"0630\"))","v":"20241231"},{"$f":"+'Incoming Remittances (Value)'!F214","v":0}]
["CMREM_11520","SY",{"$f":"+'Incoming Remittances (Value)'!$F$5","v":"20241031"},{"$f":"+'COVER SHEET'!$D$12","v":0},11520,{"$f":"'COVER SHEET'!$D$16&IF(MID('COVER SHEET'!$I$18,6,10)=\"december\",\"1231\",IF(MID('COVER SHEET'!$I$18,6,10)=\"june\",\"0630\"))","v":"20241231"},{"$f":"+'Incoming Remittances (Value)'!F215","v":0}]
["CMREM_11520","TW",{"$f":"+'Incoming Remittances (Value)'!$F$5","v":"20241031"},{"$f":"+'COVER SHEET'!$D$12","v":0},11520,{"$f":"'COVER SHEET'!$D$16&IF(MID('COVER SHEET'!$I$18,6,10)=\"december\",\"1231\",IF(MID('COVER SHEET'!$I$18,6,10)=\"june\",\"0630\"))","v":"20241231"},{"$f":"+'Incoming Remittances (Value)'!F216","v":0}]
["CMREM_11520","TJ",{"$f":"+'Incoming Remittances (Value)'!$F$5","v":"20241031"},{"$f":"+'COVER SHEET'!$D$12","v":0},11520,{"$f":"'COVER SHEET'!$D$16&IF(MID('COVER SHEET'!$I$18,6,10)=\"december\",\"1231\",IF(MID('COVER SHEET'!$I$18,6,10)=\"june\",\"0630\"))","v":"20241231"},{"$f":"+'Incoming Remittances (Value)'!F217","v":0}]
["CMREM_11520","TZ",{"$f":"+'Incoming Remittances (Value)'!$F$5","v":"20241031"},{"$f":"+'COVER SHEET'!$D$12","v":0},11520,{"$f":"'COVER SHEET'!$D$16&IF(MID('COVER SHEET'!$I$18,6,10)=\"december\",\"1231\",IF(MID('COVER SHEET'!$I$18,6,10)=\"june\",\"0630\"))","v":"20241231"},{"$f":"+'Incoming Remittances (Value)'!F218","v":0}]
["CMREM_11520","TH",{"$f":"+'Incoming Remittances (Value)'!$F$5","v":"20241031"},{"$f":"+'COVER SHEET'!$D$12","v":0},11520,{"$f":"'COVER SHEET'!$D$16&IF(MID('COVER SHEET'!$I$18,6,10)=\"december\",\"1231\",IF(MID('COVER SHEET'!$I$18,6,10)=\"june\",\"0630\"))","v":"20241231"},{"$f":"+'Incoming Remittances (Value)'!F219","v":0}]
["CMREM_11520","TG",{"$f":"+'Incoming Remittances (Value)'!$F$5","v":"20241031"},{"$f":"+'COVER SHEET'!$D$12","v":0},11520,{"$f":"'COVER SHEET'!$D$16&IF(MID('COVER SHEET'!$I$18,6,10)=\"december\",\"1231\",IF(MID('COVER SHEET'!$I$18,6,10)=\"june\",\"0630\"))","v":"20241231"},{"$f":"+'Incoming Remittances (Value)'!F220","v":0}]
["CMREM_11520","TK",{"$f":"+'Incoming Remittances (Value)'!$F$5","v":"20241031"},{"$f":"+'COVER SHEET'!$D$12","v":0},11520,{"$f":"'COVER SHEET'!$D$16&IF(MID('COVER SHEET'!$I$18,6,10)=\"december\",\"1231\",IF(MID('COVER SHEET'!$I$18,6,10)=\"june\",\"0630\"))","v":"20241231"},{"$f":"+'Incoming Remittances (Value)'!F221","v":0}]
["CMREM_11520","TO",{"$f":"+'Incoming Remittances (Value)'!$F$5","v":"20241031"},{"$f":"+'COVER SHEET'!$D$12","v":0},11520,{"$f":"'COVER SHEET'!$D$16&IF(MID('COVER SHEET'!$I$18,6,10)=\"december\",\"1231\",IF(MID('COVER SHEET'!$I$18,6,10)=\"june\",\"0630\"))","v":"20241231"},{"$f":"+'Incoming Remittances (Value)'!F222","v":0}]
["CMREM_11520","TT",{"$f":"+'Incoming Remittances (Value)'!$F$5","v":"20241031"},{"$f":"+'COVER SHEET'!$D$12","v":0},11520,{"$f":"'COVER SHEET'!$D$16&IF(MID('COVER SHEET'!$I$18,6,10)=\"december\",\"1231\",IF(MID('COVER SHEET'!$I$18,6,10)=\"june\",\"0630\"))","v":"20241231"},{"$f":"+'Incoming Remittances (Value)'!F223","v":0}]
["CMREM_11520","TN",{"$f":"+'Incoming Remittances (Value)'!$F$5","v":"20241031"},{"$f":"+'COVER SHEET'!$D$12","v":0},11520,{"$f":"'COVER SHEET'!$D$16&IF(MID('COVER SHEET'!$I$18,6,10)=\"december\",\"1231\",IF(MID('COVER SHEET'!$I$18,6,10)=\"june\",\"0630\"))","v":"20241231"},{"$f":"+'Incoming Remittances (Value)'!F224","v":0}]
["CMREM_11520","TR",{"$f":"+'Incoming Remittances (Value)'!$F$5","v":"20241031"},{"$f":"+'COVER SHEET'!$D$12","v":0},11520,{"$f":"'COVER SHEET'!$D$16&IF(MID('COVER SHEET'!$I$18,6,10)=\"december\",\"1231\",IF(MID('COVER SHEET'!$I$18,6,10)=\"june\",\"0630\"))","v":"20241231"},{"$f":"+'Incoming Remittances (Value)'!F225","v":0}]
["CMREM_11520","TM",{"$f":"+'Incoming Remittances (Value)'!$F$5","v":"20241031"},{"$f":"+'COVER SHEET'!$D$12","v":0},11520,{"$f":"'COVER SHEET'!$D$16&IF(MID('COVER SHEET'!$I$18,6,10)=\"december\",\"1231\",IF(MID('COVER SHEET'!$I$18,6,10)=\"june\",\"0630\"))","v":"20241231"},{"$f":"+'Incoming Remittances (Value)'!F226","v":0}]
["CMREM_11520","TC",{"$f":"+'Incoming Remittances (Value)'!$F$5","v":"20241031"},{"$f":"+'COVER SHEET'!$D$12","v":0},11520,{"$f":"'COVER SHEET'!$D$16&IF(MID('COVER SHEET'!$I$18,6,10)=\"december\",\"1231\",IF(MID('COVER SHEET'!$I$18,6,10)=\"june\",\"0630\"))","v":"20241231"},{"$f":"+'Incoming Remittances (Value)'!F227","v":0}]
["CMREM_11520","TV",{"$f":"+'Incoming Remittances (Value)'!$F$5","v":"20241031"},{"$f":"+'COVER SHEET'!$D$12","v":0},11520,{"$f":"'COVER SHEET'!$D$16&IF(MID('COVER SHEET'!$I$18,6,10)=\"december\",\"1231\",IF(MID('COVER SHEET'!$I$18,6,10)=\"june\",\"0630\"))","v":"20241231"},{"$f":"+'Incoming Remittances (Value)'!F228","v":0}]
["CMREM_11520","UG",{"$f":"+'Incoming Remittances (Value)'!$F$5","v":"20241031"},{"$f":"+'COVER SHEET'!$D$12","v":0},11520,{"$f":"'COVER SHEET'!$D$16&IF(MID('COVER SHEET'!$I$18,6,10)=\"december\",\"1231\",IF(MID('COVER SHEET'!$I$18,6,10)=\"june\",\"0630\"))","v":"20241231"},{"$f":"+'Incoming Remittances (Value)'!F229","v":0}]
["CMREM_11520","UA",{"$f":"+'Incoming Remittances (Value)'!$F$5","v":"20241031"},{"$f":"+'COVER SHEET'!$D$12","v":0},11520,{"$f":"'COVER SHEET'!$D$16&IF(MID('COVER SHEET'!$I$18,6,10)=\"december\",\"1231\",IF(MID('COVER SHEET'!$I$18,6,10)=\"june\",\"0630\"))","v":"20241231"},{"$f":"+'Incoming Remittances (Value)'!F230","v":0}]
["CMREM_11520","AE",{"$f":"+'Incoming Remittances (Value)'!$F$5","v":"20241031"},{"$f":"+'COVER SHEET'!$D$12","v":0},11520,{"$f":"'COVER SHEET'!$D$16&IF(MID('COVER SHEET'!$I$18,6,10)=\"december\",\"1231\",IF(MID('COVER SHEET'!$I$18,6,10)=\"june\",\"0630\"))","v":"20241231"},{"$f":"+'Incoming Remittances (Value)'!F231","v":0}]
["CMREM_11520","GB",{"$f":"+'Incoming Remittances (Value)'!$F$5","v":"20241031"},{"$f":"+'COVER SHEET'!$D$12","v":0},11520,{"$f":"'COVER SHEET'!$D$16&IF(MID('COVER SHEET'!$I$18,6,10)=\"december\",\"1231\",IF(MID('COVER SHEET'!$I$18,6,10)=\"june\",\"0630\"))","v":"20241231"},{"$f":"+'Incoming Remittances (Value)'!F232","v":0}]
["CMREM_11520","US",{"$f":"+'Incoming Remittances (Value)'!$F$5","v":"20241031"},{"$f":"+'COVER SHEET'!$D$12","v":0},11520,{"$f":"'COVER SHEET'!$D$16&IF(MID('COVER SHEET'!$I$18,6,10)=\"december\",\"1231\",IF(MID('COVER SHEET'!$I$18,6,10)=\"june\",\"0630\"))","v":"20241231"},{"$f":"+'Incoming Remittances (Value)'!F233","v":0}]
["CMREM_11520","UY",{"$f":"+'Incoming Remittances (Value)'!$F$5","v":"20241031"},{"$f":"+'COVER SHEET'!$D$12","v":0},11520,{"$f":"'COVER SHEET'!$D$16&IF(MID('COVER SHEET'!$I$18,6,10)=\"december\",\"1231\",IF(MID('COVER SHEET'!$I$18,6,10)=\"june\",\"0630\"))","v":"20241231"},{"$f":"+'Incoming Remittances (Value)'!F234","v":0}]
["CMREM_11520","UM",{"$f":"+'Incoming Remittances (Value)'!$F$5","v":"20241031"},{"$f":"+'COVER SHEET'!$D$12","v":0},11520,{"$f":"'COVER SHEET'!$D$16&IF(MID('COVER SHEET'!$I$18,6,10)=\"december\",\"1231\",IF(MID('COVER SHEET'!$I$18,6,10)=\"june\",\"0630\"))","v":"20241231"},{"$f":"+'Incoming Remittances (Value)'!F235","v":0}]
["CMREM_11520","UZ",{"$f":"+'Incoming Remittances (Value)'!$F$5","v":"20241031"},{"$f":"+'COVER SHEET'!$D$12","v":0},11520,{"$f":"'COVER SHEET'!$D$16&IF(MID('COVER SHEET'!$I$18,6,10)=\"december\",\"1231\",IF(MID('COVER SHEET'!$I$18,6,10)=\"june\",\"0630\"))","v":"20241231"},{"$f":"+'Incoming Remittances (Value)'!F236","v":0}]
["CMREM_11520","VU",{"$f":"+'Incoming Remittances (Value)'!$F$5","v":"20241031"},{"$f":"+'COVER SHEET'!$D$12","v":0},11520,{"$f":"'COVER SHEET'!$D$16&IF(MID('COVER SHEET'!$I$18,6,10)=\"december\",\"1231\",IF(MID('COVER SHEET'!$I$18,6,10)=\"june\",\"0630\"))","v":"20241231"},{"$f":"+'Incoming Remittances (Value)'!F237","v":0}]
["CMREM_11520","VE",{"$f":"+'Incoming Remittances (Value)'!$F$5","v":"20241031"},{"$f":"+'COVER SHEET'!$D$12","v":0},11520,{"$f":"'COVER SHEET'!$D$16&IF(MID('COVER SHEET'!$I$18,6,10)=\"december\",\"1231\",IF(MID('COVER SHEET'!$I$18,6,10)=\"june\",\"0630\"))","v":"20241231"},{"$f":"+'Incoming Remittances (Value)'!F238","v":0}]
["CMREM_11520","VN",{"$f":"+'Incoming Remittances (Value)'!$F$5","v":"20241031"},{"$f":"+'COVER SHEET'!$D$12","v":0},11520,{"$f":"'COVER SHEET'!$D$16&IF(MID('COVER SHEET'!$I$18,6,10)=\"december\",\"1231\",IF(MID('COVER SHEET'!$I$18,6,10)=\"june\",\"0630\"))","v":"20241231"},{"$f":"+'Incoming Remittances (Value)'!F239","v":0}]
["CMREM_11520","VI",{"$f":"+'Incoming Remittances (Value)'!$F$5","v":"20241031"},{"$f":"+'COVER SHEET'!$D$12","v":0},11520,{"$f":"'COVER SHEET'!$D$16&IF(MID('COVER SHEET'!$I$18,6,10)=\"december\",\"1231\",IF(MID('COVER SHEET'!$I$18,6,10)=\"june\",\"0630\"))","v":"20241231"},{"$f":"+'Incoming Remittances (Value)'!F240","v":0}]
["CMREM_11520","WF",{"$f":"+'Incoming Remittances (Value)'!$F$5","v":"20241031"},{"$f":"+'COVER SHEET'!$D$12","v":0},11520,{"$f":"'COVER SHEET'!$D$16&IF(MID('COVER SHEET'!$I$18,6,10)=\"december\",\"1231\",IF(MID('COVER SHEET'!$I$18,6,10)=\"june\",\"0630\"))","v":"20241231"},{"$f":"+'Incoming Remittances (Value)'!F241","v":0}]
["CMREM_11520","YE",{"$f":"+'Incoming Remittances (Value)'!$F$5","v":"20241031"},{"$f":"+'COVER SHEET'!$D$12","v":0},11520,{"$f":"'COVER SHEET'!$D$16&IF(MID('COVER SHEET'!$I$18,6,10)=\"december\",\"1231\",IF(MID('COVER SHEET'!$I$18,6,10)=\"june\",\"0630\"))","v":"20241231"},{"$f":"+'Incoming Remittances (Value)'!F242","v":0}]
["CMREM_11520","ZM",{"$f":"+'Incoming Remittances (Value)'!$F$5","v":"20241031"},{"$f":"+'COVER SHEET'!$D$12","v":0},11520,{"$f":"'COVER SHEET'!$D$16&IF(MID('COVER SHEET'!$I$18,6,10)=\"december\",\"1231\",IF(MID('COVER SHEET'!$I$18,6,10)=\"june\",\"0630\"))","v":"20241231"},{"$f":"+'Incoming Remittances (Value)'!F243","v":0}]
["CMREM_11520","ZW",{"$f":"+'Incoming Remittances (Value)'!$F$5","v":"20241031"},{"$f":"+'COVER SHEET'!$D$12","v":0},11520,{"$f":"'COVER SHEET'!$D$16&IF(MID('COVER SHEET'!$I$18,6,10)=\"december\",\"1231\",IF(MID('COVER SHEET'!$I$18,6,10)=\"june\",\"0630\"))","v":"20241231"},{"$f":"+'Incoming Remittances (Value)'!F244","v":0}]
["CMREM_11530","AF",{"$f":"+'Outgoing Remittances (Value)'!$F$5","v":"20241031"},{"$f":"+'COVER SHEET'!$D$12","v":0},11530,{"$f":"'COVER SHEET'!$D$16&IF(MID('COVER SHEET'!$I$18,6,10)=\"december\",\"1231\",IF(MID('COVER SHEET'!$I$18,6,10)=\"june\",\"0630\"))","v":"20241231"},{"$f":"+'Outgoing Remittances (Value)'!F9","v":0}]
["CMREM_11530","AL",{"$f":"+'Outgoing Remittances (Value)'!$F$5","v":"20241031"},{"$f":"+'COVER SHEET'!$D$12","v":0},11530,{"$f":"'COVER SHEET'!$D$16&IF(MID('COVER SHEET'!$I$18,6,10)=\"december\",\"1231\",IF(MID('COVER SHEET'!$I$18,6,10)=\"june\",\"0630\"))","v":"20241231"},{"$f":"+'Outgoing Remittances (Value)'!F10","v":0}]
["CMREM_11530","DZ",{"$f":"+'Outgoing Remittances (Value)'!$F$5","v":"20241031"},{"$f":"+'COVER SHEET'!$D$12","v":0},11530,{"$f":"'COVER SHEET'!$D$16&IF(MID('COVER SHEET'!$I$18,6,10)=\"december\",\"1231\",IF(MID('COVER SHEET'!$I$18,6,10)=\"june\",\"0630\"))","v":"20241231"},{"$f":"+'Outgoing Remittances (Value)'!F11","v":0}]
["CMREM_11530","AS",{"$f":"+'Outgoing Remittances (Value)'!$F$5","v":"20241031"},{"$f":"+'COVER SHEET'!$D$12","v":0},11530,{"$f":"'COVER SHEET'!$D$16&IF(MID('COVER SHEET'!$I$18,6,10)=\"december\",\"1231\",IF(MID('COVER SHEET'!$I$18,6,10)=\"june\",\"0630\"))","v":"20241231"},{"$f":"+'Outgoing Remittances (Value)'!F12","v":0}]
["CMREM_11530","AD",{"$f":"+'Outgoing Remittances (Value)'!$F$5","v":"20241031"},{"$f":"+'COVER SHEET'!$D$12","v":0},11530,{"$f":"'COVER SHEET'!$D$16&IF(MID('COVER SHEET'!$I$18,6,10)=\"december\",\"1231\",IF(MID('COVER SHEET'!$I$18,6,10)=\"june\",\"0630\"))","v":"20241231"},{"$f":"+'Outgoing Remittances (Value)'!F13","v":0}]
["CMREM_11530","AO",{"$f":"+'Outgoing Remittances (Value)'!$F$5","v":"20241031"},{"$f":"+'COVER SHEET'!$D$12","v":0},11530,{"$f":"'COVER SHEET'!$D$16&IF(MID('COVER SHEET'!$I$18,6,10)=\"december\",\"1231\",IF(MID('COVER SHEET'!$I$18,6,10)=\"june\",\"0630\"))","v":"20241231"},{"$f":"+'Outgoing Remittances (Value)'!F14","v":0}]
["CMREM_11530","AI",{"$f":"+'Outgoing Remittances (Value)'!$F$5","v":"20241031"},{"$f":"+'COVER SHEET'!$D$12","v":0},11530,{"$f":"'COVER SHEET'!$D$16&IF(MID('COVER SHEET'!$I$18,6,10)=\"december\",\"1231\",IF(MID('COVER SHEET'!$I$18,6,10)=\"june\",\"0630\"))","v":"20241231"},{"$f":"+'Outgoing Remittances (Value)'!F15","v":0}]
["CMREM_11530","AQ",{"$f":"+'Outgoing Remittances (Value)'!$F$5","v":"20241031"},{"$f":"+'COVER SHEET'!$D$12","v":0},11530,{"$f":"'COVER SHEET'!$D$16&IF(MID('COVER SHEET'!$I$18,6,10)=\"december\",\"1231\",IF(MID('COVER SHEET'!$I$18,6,10)=\"june\",\"0630\"))","v":"20241231"},{"$f":"+'Outgoing Remittances (Value)'!F16","v":0}]
["CMREM_11530","AG",{"$f":"+'Outgoing Remittances (Value)'!$F$5","v":"20241031"},{"$f":"+'COVER SHEET'!$D$12","v":0},11530,{"$f":"'COVER SHEET'!$D$16&IF(MID('COVER SHEET'!$I$18,6,10)=\"december\",\"1231\",IF(MID('COVER SHEET'!$I$18,6,10)=\"june\",\"0630\"))","v":"20241231"},{"$f":"+'Outgoing Remittances (Value)'!F17","v":0}]
["CMREM_11530","AR",{"$f":"+'Outgoing Remittances (Value)'!$F$5","v":"20241031"},{"$f":"+'COVER SHEET'!$D$12","v":0},11530,{"$f":"'COVER SHEET'!$D$16&IF(MID('COVER SHEET'!$I$18,6,10)=\"december\",\"1231\",IF(MID('COVER SHEET'!$I$18,6,10)=\"june\",\"0630\"))","v":"20241231"},{"$f":"+'Outgoing Remittances (Value)'!F18","v":0}]
["CMREM_11530","AM",{"$f":"+'Outgoing Remittances (Value)'!$F$5","v":"20241031"},{"$f":"+'COVER SHEET'!$D$12","v":0},11530,{"$f":"'COVER SHEET'!$D$16&IF(MID('COVER SHEET'!$I$18,6,10)=\"december\",\"1231\",IF(MID('COVER SHEET'!$I$18,6,10)=\"june\",\"0630\"))","v":"20241231"},{"$f":"+'Outgoing Remittances (Value)'!F19","v":0}]
["CMREM_11530","AW",{"$f":"+'Outgoing Remittances (Value)'!$F$5","v":"20241031"},{"$f":"+'COVER SHEET'!$D$12","v":0},11530,{"$f":"'COVER SHEET'!$D$16&IF(MID('COVER SHEET'!$I$18,6,10)=\"december\",\"1231\",IF(MID('COVER SHEET'!$I$18,6,10)=\"june\",\"0630\"))","v":"20241231"},{"$f":"+'Outgoing Remittances (Value)'!F20","v":0}]
["CMREM_11530","AU",{"$f":"+'Outgoing Remittances (Value)'!$F$5","v":"20241031"},{"$f":"+'COVER SHEET'!$D$12","v":0},11530,{"$f":"'COVER SHEET'!$D$16&IF(MID('COVER SHEET'!$I$18,6,10)=\"december\",\"1231\",IF(MID('COVER SHEET'!$I$18,6,10)=\"june\",\"0630\"))","v":"20241231"},{"$f":"+'Outgoing Remittances (Value)'!F21","v":0}]
["CMREM_11530","AT",{"$f":"+'Outgoing Remittances (Value)'!$F$5","v":"20241031"},{"$f":"+'COVER SHEET'!$D$12","v":0},11530,{"$f":"'COVER SHEET'!$D$16&IF(MID('COVER SHEET'!$I$18,6,10)=\"december\",\"1231\",IF(MID('COVER SHEET'!$I$18,6,10)=\"june\",\"0630\"))","v":"20241231"},{"$f":"+'Outgoing Remittances (Value)'!F22","v":0}]
["CMREM_11530","AZ",{"$f":"+'Outgoing Remittances (Value)'!$F$5","v":"20241031"},{"$f":"+'COVER SHEET'!$D$12","v":0},11530,{"$f":"'COVER SHEET'!$D$16&IF(MID('COVER SHEET'!$I$18,6,10)=\"december\",\"1231\",IF(MID('COVER SHEET'!$I$18,6,10)=\"june\",\"0630\"))","v":"20241231"},{"$f":"+'Outgoing Remittances (Value)'!F23","v":0}]
["CMREM_11530","BS",{"$f":"+'Outgoing Remittances (Value)'!$F$5","v":"20241031"},{"$f":"+'COVER SHEET'!$D$12","v":0},11530,{"$f":"'COVER SHEET'!$D$16&IF(MID('COVER SHEET'!$I$18,6,10)=\"december\",\"1231\",IF(MID('COVER SHEET'!$I$18,6,10)=\"june\",\"0630\"))","v":"20241231"},{"$f":"+'Outgoing Remittances (Value)'!F24","v":0}]
["CMREM_11530","BH",{"$f":"+'Outgoing Remittances (Value)'!$F$5","v":"20241031"},{"$f":"+'COVER SHEET'!$D$12","v":0},11530,{"$f":"'COVER SHEET'!$D$16&IF(MID('COVER SHEET'!$I$18,6,10)=\"december\",\"1231\",IF(MID('COVER SHEET'!$I$18,6,10)=\"june\",\"0630\"))","v":"20241231"},{"$f":"+'Outgoing Remittances (Value)'!F25","v":0}]
["CMREM_11530","BD",{"$f":"+'Outgoing Remittances (Value)'!$F$5","v":"20241031"},{"$f":"+'COVER SHEET'!$D$12","v":0},11530,{"$f":"'COVER SHEET'!$D$16&IF(MID('COVER SHEET'!$I$18,6,10)=\"december\",\"1231\",IF(MID('COVER SHEET'!$I$18,6,10)=\"june\",\"0630\"))","v":"20241231"},{"$f":"+'Outgoing Remittances (Value)'!F26","v":0}]
["CMREM_11530","BB",{"$f":"+'Outgoing Remittances (Value)'!$F$5","v":"20241031"},{"$f":"+'COVER SHEET'!$D$12","v":0},11530,{"$f":"'COVER SHEET'!$D$16&IF(MID('COVER SHEET'!$I$18,6,10)=\"december\",\"1231\",IF(MID('COVER SHEET'!$I$18,6,10)=\"june\",\"0630\"))","v":"20241231"},{"$f":"+'Outgoing Remittances (Value)'!F27","v":0}]
["CMREM_11530","BY",{"$f":"+'Outgoing Remittances (Value)'!$F$5","v":"20241031"},{"$f":"+'COVER SHEET'!$D$12","v":0},11530,{"$f":"'COVER SHEET'!$D$16&IF(MID('COVER SHEET'!$I$18,6,10)=\"december\",\"1231\",IF(MID('COVER SHEET'!$I$18,6,10)=\"june\",\"0630\"))","v":"20241231"},{"$f":"+'Outgoing Remittances (Value)'!F28","v":0}]
["CMREM_11530","BE",{"$f":"+'Outgoing Remittances (Value)'!$F$5","v":"20241031"},{"$f":"+'COVER SHEET'!$D$12","v":0},11530,{"$f":"'COVER SHEET'!$D$16&IF(MID('COVER SHEET'!$I$18,6,10)=\"december\",\"1231\",IF(MID('COVER SHEET'!$I$18,6,10)=\"june\",\"0630\"))","v":"20241231"},{"$f":"+'Outgoing Remittances (Value)'!F29","v":0}]
["CMREM_11530","BZ",{"$f":"+'Outgoing Remittances (Value)'!$F$5","v":"20241031"},{"$f":"+'COVER SHEET'!$D$12","v":0},11530,{"$f":"'COVER SHEET'!$D$16&IF(MID('COVER SHEET'!$I$18,6,10)=\"december\",\"1231\",IF(MID('COVER SHEET'!$I$18,6,10)=\"june\",\"0630\"))","v":"20241231"},{"$f":"+'Outgoing Remittances (Value)'!F30","v":0}]
["CMREM_11530","BJ",{"$f":"+'Outgoing Remittances (Value)'!$F$5","v":"20241031"},{"$f":"+'COVER SHEET'!$D$12","v":0},11530,{"$f":"'COVER SHEET'!$D$16&IF(MID('COVER SHEET'!$I$18,6,10)=\"december\",\"1231\",IF(MID('COVER SHEET'!$I$18,6,10)=\"june\",\"0630\"))","v":"20241231"},{"$f":"+'Outgoing Remittances (Value)'!F31","v":0}]
["CMREM_11530","BM",{"$f":"+'Outgoing Remittances (Value)'!$F$5","v":"20241031"},{"$f":"+'COVER SHEET'!$D$12","v":0},11530,{"$f":"'COVER SHEET'!$D$16&IF(MID('COVER SHEET'!$I$18,6,10)=\"december\",\"1231\",IF(MID('COVER SHEET'!$I$18,6,10)=\"june\",\"0630\"))","v":"20241231"},{"$f":"+'Outgoing Remittances (Value)'!F32","v":0}]
["CMREM_11530","BQ",{"$f":"+'Outgoing Remittances (Value)'!$F$5","v":"20241031"},{"$f":"+'COVER SHEET'!$D$12","v":0},11530,{"$f":"'COVER SHEET'!$D$16&IF(MID('COVER SHEET'!$I$18,6,10)=\"december\",\"1231\",IF(MID('COVER SHEET'!$I$18,6,10)=\"june\",\"0630\"))","v":"20241231"},{"$f":"+'Outgoing Remittances (Value)'!F33","v":0}]
["CMREM_11530","BT",{"$f":"+'Outgoing Remittances (Value)'!$F$5","v":"20241031"},{"$f":"+'COVER SHEET'!$D$12","v":0},11530,{"$f":"'COVER SHEET'!$D$16&IF(MID('COVER SHEET'!$I$18,6,10)=\"december\",\"1231\",IF(MID('COVER SHEET'!$I$18,6,10)=\"june\",\"0630\"))","v":"20241231"},{"$f":"+'Outgoing Remittances (Value)'!F34","v":0}]
["CMREM_11530","BO",{"$f":"+'Outgoing Remittances (Value)'!$F$5","v":"20241031"},{"$f":"+'COVER SHEET'!$D$12","v":0},11530,{"$f":"'COVER SHEET'!$D$16&IF(MID('COVER SHEET'!$I$18,6,10)=\"december\",\"1231\",IF(MID('COVER SHEET'!$I$18,6,10)=\"june\",\"0630\"))","v":"20241231"},{"$f":"+'Outgoing Remittances (Value)'!F35","v":0}]
["CMREM_11530","BA",{"$f":"+'Outgoing Remittances (Value)'!$F$5","v":"20241031"},{"$f":"+'COVER SHEET'!$D$12","v":0},11530,{"$f":"'COVER SHEET'!$D$16&IF(MID('COVER SHEET'!$I$18,6,10)=\"december\",\"1231\",IF(MID('COVER SHEET'!$I$18,6,10)=\"june\",\"0630\"))","v":"20241231"},{"$f":"+'Outgoing Remittances (Value)'!F36","v":0}]
["CMREM_11530","BW",{"$f":"+'Outgoing Remittances (Value)'!$F$5","v":"20241031"},{"$f":"+'COVER SHEET'!$D$12","v":0},11530,{"$f":"'COVER SHEET'!$D$16&IF(MID('COVER SHEET'!$I$18,6,10)=\"december\",\"1231\",IF(MID('COVER SHEET'!$I$18,6,10)=\"june\",\"0630\"))","v":"20241231"},{"$f":"+'Outgoing Remittances (Value)'!F37","v":0}]
["CMREM_11530","BV",{"$f":"+'Outgoing Remittances (Value)'!$F$5","v":"20241031"},{"$f":"+'COVER SHEET'!$D$12","v":0},11530,{"$f":"'COVER SHEET'!$D$16&IF(MID('COVER SHEET'!$I$18,6,10)=\"december\",\"1231\",IF(MID('COVER SHEET'!$I$18,6,10)=\"june\",\"0630\"))","v":"20241231"},{"$f":"+'Outgoing Remittances (Value)'!F38","v":0}]
["CMREM_11530","BR",{"$f":"+'Outgoing Remittances (Value)'!$F$5","v":"20241031"},{"$f":"+'COVER SHEET'!$D$12","v":0},11530,{"$f":"'COVER SHEET'!$D$16&IF(MID('COVER SHEET'!$I$18,6,10)=\"december\",\"1231\",IF(MID('COVER SHEET'!$I$18,6,10)=\"june\",\"0630\"))","v":"20241231"},{"$f":"+'Outgoing Remittances (Value)'!F39","v":0}]
["CMREM_11530","IO",{"$f":"+'Outgoing Remittances (Value)'!$F$5","v":"20241031"},{"$f":"+'COVER SHEET'!$D$12","v":0},11530,{"$f":"'COVER SHEET'!$D$16&IF(MID('COVER SHEET'!$I$18,6,10)=\"december\",\"1231\",IF(MID('COVER SHEET'!$I$18,6,10)=\"june\",\"0630\"))","v":"20241231"},{"$f":"+'Outgoing Remittances (Value)'!F40","v":0}]
["CMREM_11530","VG",{"$f":"+'Outgoing Remittances (Value)'!$F$5","v":"20241031"},{"$f":"+'COVER SHEET'!$D$12","v":0},11530,{"$f":"'COVER SHEET'!$D$16&IF(MID('COVER SHEET'!$I$18,6,10)=\"december\",\"1231\",IF(MID('COVER SHEET'!$I$18,6,10)=\"june\",\"0630\"))","v":"20241231"},{"$f":"+'Outgoing Remittances (Value)'!F41","v":0}]
["CMREM_11530","BN",{"$f":"+'Outgoing Remittances (Value)'!$F$5","v":"20241031"},{"$f":"+'COVER SHEET'!$D$12","v":0},11530,{"$f":"'COVER SHEET'!$D$16&IF(MID('COVER SHEET'!$I$18,6,10)=\"december\",\"1231\",IF(MID('COVER SHEET'!$I$18,6,10)=\"june\",\"0630\"))","v":"20241231"},{"$f":"+'Outgoing Remittances (Value)'!F42","v":0}]
["CMREM_11530","BG",{"$f":"+'Outgoing Remittances (Value)'!$F$5","v":"20241031"},{"$f":"+'COVER SHEET'!$D$12","v":0},11530,{"$f":"'COVER SHEET'!$D$16&IF(MID('COVER SHEET'!$I$18,6,10)=\"december\",\"1231\",IF(MID('COVER SHEET'!$I$18,6,10)=\"june\",\"0630\"))","v":"20241231"},{"$f":"+'Outgoing Remittances (Value)'!F43","v":0}]
["CMREM_11530","BF",{"$f":"+'Outgoing Remittances (Value)'!$F$5","v":"20241031"},{"$f":"+'COVER SHEET'!$D$12","v":0},11530,{"$f":"'COVER SHEET'!$D$16&IF(MID('COVER SHEET'!$I$18,6,10)=\"december\",\"1231\",IF(MID('COVER SHEET'!$I$18,6,10)=\"june\",\"0630\"))","v":"20241231"},{"$f":"+'Outgoing Remittances (Value)'!F44","v":0}]
["CMREM_11530","BI",{"$f":"+'Outgoing Remittances (Value)'!$F$5","v":"20241031"},{"$f":"+'COVER SHEET'!$D$12","v":0},11530,{"$f":"'COVER SHEET'!$D$16&IF(MID('COVER SHEET'!$I$18,6,10)=\"december\",\"1231\",IF(MID('COVER SHEET'!$I$18,6,10)=\"june\",\"0630\"))","v":"20241231"},{"$f":"+'Outgoing Remittances (Value)'!F45","v":0}]
["CMREM_11530","KH",{"$f":"+'Outgoing Remittances (Value)'!$F$5","v":"20241031"},{"$f":"+'COVER SHEET'!$D$12","v":0},11530,{"$f":"'COVER SHEET'!$D$16&IF(MID('COVER SHEET'!$I$18,6,10)=\"december\",\"1231\",IF(MID('COVER SHEET'!$I$18,6,10)=\"june\",\"0630\"))","v":"20241231"},{"$f":"+'Outgoing Remittances (Value)'!F46","v":0}]
["CMREM_11530","CM",{"$f":"+'Outgoing Remittances (Value)'!$F$5","v":"20241031"},{"$f":"+'COVER SHEET'!$D$12","v":0},11530,{"$f":"'COVER SHEET'!$D$16&IF(MID('COVER SHEET'!$I$18,6,10)=\"december\",\"1231\",IF(MID('COVER SHEET'!$I$18,6,10)=\"june\",\"0630\"))","v":"20241231"},{"$f":"+'Outgoing Remittances (Value)'!F47","v":0}]
["CMREM_11530","CA",{"$f":"+'Outgoing Remittances (Value)'!$F$5","v":"20241031"},{"$f":"+'COVER SHEET'!$D$12","v":0},11530,{"$f":"'COVER SHEET'!$D$16&IF(MID('COVER SHEET'!$I$18,6,10)=\"december\",\"1231\",IF(MID('COVER SHEET'!$I$18,6,10)=\"june\",\"0630\"))","v":"20241231"},{"$f":"+'Outgoing Remittances (Value)'!F48","v":0}]
["CMREM_11530","CV",{"$f":"+'Outgoing Remittances (Value)'!$F$5","v":"20241031"},{"$f":"+'COVER SHEET'!$D$12","v":0},11530,{"$f":"'COVER SHEET'!$D$16&IF(MID('COVER SHEET'!$I$18,6,10)=\"december\",\"1231\",IF(MID('COVER SHEET'!$I$18,6,10)=\"june\",\"0630\"))","v":"20241231"},{"$f":"+'Outgoing Remittances (Value)'!F49","v":0}]
["CMREM_11530","KY",{"$f":"+'Outgoing Remittances (Value)'!$F$5","v":"20241031"},{"$f":"+'COVER SHEET'!$D$12","v":0},11530,{"$f":"'COVER SHEET'!$D$16&IF(MID('COVER SHEET'!$I$18,6,10)=\"december\",\"1231\",IF(MID('COVER SHEET'!$I$18,6,10)=\"june\",\"0630\"))","v":"20241231"},{"$f":"+'Outgoing Remittances (Value)'!F50","v":0}]
["CMREM_11530","CF",{"$f":"+'Outgoing Remittances (Value)'!$F$5","v":"20241031"},{"$f":"+'COVER SHEET'!$D$12","v":0},11530,{"$f":"'COVER SHEET'!$D$16&IF(MID('COVER SHEET'!$I$18,6,10)=\"december\",\"1231\",IF(MID('COVER SHEET'!$I$18,6,10)=\"june\",\"0630\"))","v":"20241231"},{"$f":"+'Outgoing Remittances (Value)'!F51","v":0}]
["CMREM_11530","TD",{"$f":"+'Outgoing Remittances (Value)'!$F$5","v":"20241031"},{"$f":"+'COVER SHEET'!$D$12","v":0},11530,{"$f":"'COVER SHEET'!$D$16&IF(MID('COVER SHEET'!$I$18,6,10)=\"december\",\"1231\",IF(MID('COVER SHEET'!$I$18,6,10)=\"june\",\"0630\"))","v":"20241231"},{"$f":"+'Outgoing Remittances (Value)'!F52","v":0}]
["CMREM_11530","CL",{"$f":"+'Outgoing Remittances (Value)'!$F$5","v":"20241031"},{"$f":"+'COVER SHEET'!$D$12","v":0},11530,{"$f":"'COVER SHEET'!$D$16&IF(MID('COVER SHEET'!$I$18,6,10)=\"december\",\"1231\",IF(MID('COVER SHEET'!$I$18,6,10)=\"june\",\"0630\"))","v":"20241231"},{"$f":"+'Outgoing Remittances (Value)'!F53","v":0}]
["CMREM_11530","CN",{"$f":"+'Outgoing Remittances (Value)'!$F$5","v":"20241031"},{"$f":"+'COVER SHEET'!$D$12","v":0},11530,{"$f":"'COVER SHEET'!$D$16&IF(MID('COVER SHEET'!$I$18,6,10)=\"december\",\"1231\",IF(MID('COVER SHEET'!$I$18,6,10)=\"june\",\"0630\"))","v":"20241231"},{"$f":"+'Outgoing Remittances (Value)'!F54","v":0}]
["CMREM_11530","CX",{"$f":"+'Outgoing Remittances (Value)'!$F$5","v":"20241031"},{"$f":"+'COVER SHEET'!$D$12","v":0},11530,{"$f":"'COVER SHEET'!$D$16&IF(MID('COVER SHEET'!$I$18,6,10)=\"december\",\"1231\",IF(MID('COVER SHEET'!$I$18,6,10)=\"june\",\"0630\"))","v":"20241231"},{"$f":"+'Outgoing Remittances (Value)'!F55","v":0}]
["CMREM_11530","CC",{"$f":"+'Outgoing Remittances (Value)'!$F$5","v":"20241031"},{"$f":"+'COVER SHEET'!$D$12","v":0},11530,{"$f":"'COVER SHEET'!$D$16&IF(MID('COVER SHEET'!$I$18,6,10)=\"december\",\"1231\",IF(MID('COVER SHEET'!$I$18,6,10)=\"june\",\"0630\"))","v":"20241231"},{"$f":"+'Outgoing Remittances (Value)'!F56","v":0}]
["CMREM_11530","CO",{"$f":"+'Outgoing Remittances (Value)'!$F$5","v":"20241031"},{"$f":"+'COVER SHEET'!$D$12","v":0},11530,{"$f":"'COVER SHEET'!$D$16&IF(MID('COVER SHEET'!$I$18,6,10)=\"december\",\"1231\",IF(MID('COVER SHEET'!$I$18,6,10)=\"june\",\"0630\"))","v":"20241231"},{"$f":"+'Outgoing Remittances (Value)'!F57","v":0}]
["CMREM_11530","KM",{"$f":"+'Outgoing Remittances (Value)'!$F$5","v":"20241031"},{"$f":"+'COVER SHEET'!$D$12","v":0},11530,{"$f":"'COVER SHEET'!$D$16&IF(MID('COVER SHEET'!$I$18,6,10)=\"december\",\"1231\",IF(MID('COVER SHEET'!$I$18,6,10)=\"june\",\"0630\"))","v":"20241231"},{"$f":"+'Outgoing Remittances (Value)'!F58","v":0}]
["CMREM_11530","CG",{"$f":"+'Outgoing Remittances (Value)'!$F$5","v":"20241031"},{"$f":"+'COVER SHEET'!$D$12","v":0},11530,{"$f":"'COVER SHEET'!$D$16&IF(MID('COVER SHEET'!$I$18,6,10)=\"december\",\"1231\",IF(MID('COVER SHEET'!$I$18,6,10)=\"june\",\"0630\"))","v":"20241231"},{"$f":"+'Outgoing Remittances (Value)'!F59","v":0}]
["CMREM_11530","CD",{"$f":"+'Outgoing Remittances (Value)'!$F$5","v":"20241031"},{"$f":"+'COVER SHEET'!$D$12","v":0},11530,{"$f":"'COVER SHEET'!$D$16&IF(MID('COVER SHEET'!$I$18,6,10)=\"december\",\"1231\",IF(MID('COVER SHEET'!$I$18,6,10)=\"june\",\"0630\"))","v":"20241231"},{"$f":"+'Outgoing Remittances (Value)'!F60","v":0}]
["CMREM_11530","CK",{"$f":"+'Outgoing Remittances (Value)'!$F$5","v":"20241031"},{"$f":"+'COVER SHEET'!$D$12","v":0},11530,{"$f":"'COVER SHEET'!$D$16&IF(MID('COVER SHEET'!$I$18,6,10)=\"december\",\"1231\",IF(MID('COVER SHEET'!$I$18,6,10)=\"june\",\"0630\"))","v":"20241231"},{"$f":"+'Outgoing Remittances (Value)'!F61","v":0}]
["CMREM_11530","CR",{"$f":"+'Outgoing Remittances (Value)'!$F$5","v":"20241031"},{"$f":"+'COVER SHEET'!$D$12","v":0},11530,{"$f":"'COVER SHEET'!$D$16&IF(MID('COVER SHEET'!$I$18,6,10)=\"december\",\"1231\",IF(MID('COVER SHEET'!$I$18,6,10)=\"june\",\"0630\"))","v":"20241231"},{"$f":"+'Outgoing Remittances (Value)'!F62","v":0}]
["CMREM_11530","HR",{"$f":"+'Outgoing Remittances (Value)'!$F$5","v":"20241031"},{"$f":"+'COVER SHEET'!$D$12","v":0},11530,{"$f":"'COVER SHEET'!$D$16&IF(MID('COVER SHEET'!$I$18,6,10)=\"december\",\"1231\",IF(MID('COVER SHEET'!$I$18,6,10)=\"june\",\"0630\"))","v":"20241231"},{"$f":"+'Outgoing Remittances (Value)'!F63","v":0}]
["CMREM_11530","CU",{"$f":"+'Outgoing Remittances (Value)'!$F$5","v":"20241031"},{"$f":"+'COVER SHEET'!$D$12","v":0},11530,{"$f":"'COVER SHEET'!$D$16&IF(MID('COVER SHEET'!$I$18,6,10)=\"december\",\"1231\",IF(MID('COVER SHEET'!$I$18,6,10)=\"june\",\"0630\"))","v":"20241231"},{"$f":"+'Outgoing Remittances (Value)'!F64","v":0}]
["CMREM_11530","CW",{"$f":"+'Outgoing Remittances (Value)'!$F$5","v":"20241031"},{"$f":"+'COVER SHEET'!$D$12","v":0},11530,{"$f":"'COVER SHEET'!$D$16&IF(MID('COVER SHEET'!$I$18,6,10)=\"december\",\"1231\",IF(MID('COVER SHEET'!$I$18,6,10)=\"june\",\"0630\"))","v":"20241231"},{"$f":"+'Outgoing Remittances (Value)'!F65","v":0}]
["CMREM_11530","CY",{"$f":"+'Outgoing Remittances (Value)'!$F$5","v":"20241031"},{"$f":"+'COVER SHEET'!$D$12","v":0},11530,{"$f":"'COVER SHEET'!$D$16&IF(MID('COVER SHEET'!$I$18,6,10)=\"december\",\"1231\",IF(MID('COVER SHEET'!$I$18,6,10)=\"june\",\"0630\"))","v":"20241231"},{"$f":"+'Outgoing Remittances (Value)'!F66","v":0}]
["CMREM_11530","CZ",{"$f":"+'Outgoing Remittances (Value)'!$F$5","v":"20241031"},{"$f":"+'COVER SHEET'!$D$12","v":0},11530,{"$f":"'COVER SHEET'!$D$16&IF(MID('COVER SHEET'!$I$18,6,10)=\"december\",\"1231\",IF(MID('COVER SHEET'!$I$18,6,10)=\"june\",\"0630\"))","v":"20241231"},{"$f":"+'Outgoing Remittances (Value)'!F67","v":0}]
["CMREM_11530","DK",{"$f":"+'Outgoing Remittances (Value)'!$F$5","v":"20241031"},{"$f":"+'COVER SHEET'!$D$12","v":0},11530,{"$f":"'COVER SHEET'!$D$16&IF(MID('COVER SHEET'!$I$18,6,10)=\"december\",\"1231\",IF(MID('COVER SHEET'!$I$18,6,10)=\"june\",\"0630\"))","v":"20241231"},{"$f":"+'Outgoing Remittances (Value)'!F68","v":0}]
["CMREM_11530","DJ",{"$f":"+'Outgoing Remittances (Value)'!$F$5","v":"20241031"},{"$f":"+'COVER SHEET'!$D$12","v":0},11530,{"$f":"'COVER SHEET'!$D$16&IF(MID('COVER SHEET'!$I$18,6,10)=\"december\",\"1231\",IF(MID('COVER SHEET'!$I$18,6,10)=\"june\",\"0630\"))","v":"20241231"},{"$f":"+'Outgoing Remittances (Value)'!F69","v":0}]
["CMREM_11530","DM",{"$f":"+'Outgoing Remittances (Value)'!$F$5","v":"20241031"},{"$f":"+'COVER SHEET'!$D$12","v":0},11530,{"$f":"'COVER SHEET'!$D$16&IF(MID('COVER SHEET'!$I$18,6,10)=\"december\",\"1231\",IF(MID('COVER SHEET'!$I$18,6,10)=\"june\",\"0630\"))","v":"20241231"},{"$f":"+'Outgoing Remittances (Value)'!F70","v":0}]
["CMREM_11530","DO",{"$f":"+'Outgoing Remittances (Value)'!$F$5","v":"20241031"},{"$f":"+'COVER SHEET'!$D$12","v":0},11530,{"$f":"'COVER SHEET'!$D$16&IF(MID('COVER SHEET'!$I$18,6,10)=\"december\",\"1231\",IF(MID('COVER SHEET'!$I$18,6,10)=\"june\",\"0630\"))","v":"20241231"},{"$f":"+'Outgoing Remittances (Value)'!F71","v":0}]
["CMREM_11530","TL",{"$f":"+'Outgoing Remittances (Value)'!$F$5","v":"20241031"},{"$f":"+'COVER SHEET'!$D$12","v":0},11530,{"$f":"'COVER SHEET'!$D$16&IF(MID('COVER SHEET'!$I$18,6,10)=\"december\",\"1231\",IF(MID('COVER SHEET'!$I$18,6,10)=\"june\",\"0630\"))","v":"20241231"},{"$f":"+'Outgoing Remittances (Value)'!F72","v":0}]
["CMREM_11530","EC",{"$f":"+'Outgoing Remittances (Value)'!$F$5","v":"20241031"},{"$f":"+'COVER SHEET'!$D$12","v":0},11530,{"$f":"'COVER SHEET'!$D$16&IF(MID('COVER SHEET'!$I$18,6,10)=\"december\",\"1231\",IF(MID('COVER SHEET'!$I$18,6,10)=\"june\",\"0630\"))","v":"20241231"},{"$f":"+'Outgoing Remittances (Value)'!F73","v":0}]
["CMREM_11530","EG",{"$f":"+'Outgoing Remittances (Value)'!$F$5","v":"20241031"},{"$f":"+'COVER SHEET'!$D$12","v":0},11530,{"$f":"'COVER SHEET'!$D$16&IF(MID('COVER SHEET'!$I$18,6,10)=\"december\",\"1231\",IF(MID('COVER SHEET'!$I$18,6,10)=\"june\",\"0630\"))","v":"20241231"},{"$f":"+'Outgoing Remittances (Value)'!F74","v":0}]
["CMREM_11530","SV",{"$f":"+'Outgoing Remittances (Value)'!$F$5","v":"20241031"},{"$f":"+'COVER SHEET'!$D$12","v":0},11530,{"$f":"'COVER SHEET'!$D$16&IF(MID('COVER SHEET'!$I$18,6,10)=\"december\",\"1231\",IF(MID('COVER SHEET'!$I$18,6,10)=\"june\",\"0630\"))","v":"20241231"},{"$f":"+'Outgoing Remittances (Value)'!F75","v":0}]
["CMREM_11530","GQ",{"$f":"+'Outgoing Remittances (Value)'!$F$5","v":"20241031"},{"$f":"+'COVER SHEET'!$D$12","v":0},11530,{"$f":"'COVER SHEET'!$D$16&IF(MID('COVER SHEET'!$I$18,6,10)=\"december\",\"1231\",IF(MID('COVER SHEET'!$I$18,6,10)=\"june\",\"0630\"))","v":"20241231"},{"$f":"+'Outgoing Remittances (Value)'!F76","v":0}]
["CMREM_11530","ER",{"$f":"+'Outgoing Remittances (Value)'!$F$5","v":"20241031"},{"$f":"+'COVER SHEET'!$D$12","v":0},11530,{"$f":"'COVER SHEET'!$D$16&IF(MID('COVER SHEET'!$I$18,6,10)=\"december\",\"1231\",IF(MID('COVER SHEET'!$I$18,6,10)=\"june\",\"0630\"))","v":"20241231"},{"$f":"+'Outgoing Remittances (Value)'!F77","v":0}]
["CMREM_11530","EE",{"$f":"+'Outgoing Remittances (Value)'!$F$5","v":"20241031"},{"$f":"+'COVER SHEET'!$D$12","v":0},11530,{"$f":"'COVER SHEET'!$D$16&IF(MID('COVER SHEET'!$I$18,6,10)=\"december\",\"1231\",IF(MID('COVER SHEET'!$I$18,6,10)=\"june\",\"0630\"))","v":"20241231"},{"$f":"+'Outgoing Remittances (Value)'!F78","v":0}]
["CMREM_11530","ET",{"$f":"+'Outgoing Remittances (Value)'!$F$5","v":"20241031"},{"$f":"+'COVER SHEET'!$D$12","v":0},11530,{"$f":"'COVER SHEET'!$D$16&IF(MID('COVER SHEET'!$I$18,6,10)=\"december\",\"1231\",IF(MID('COVER SHEET'!$I$18,6,10)=\"june\",\"0630\"))","v":"20241231"},{"$f":"+'Outgoing Remittances (Value)'!F79","v":0}]
["CMREM_11530","FK",{"$f":"+'Outgoing Remittances (Value)'!$F$5","v":"20241031"},{"$f":"+'COVER SHEET'!$D$12","v":0},11530,{"$f":"'COVER SHEET'!$D$16&IF(MID('COVER SHEET'!$I$18,6,10)=\"december\",\"1231\",IF(MID('COVER SHEET'!$I$18,6,10)=\"june\",\"0630\"))","v":"20241231"},{"$f":"+'Outgoing Remittances (Value)'!F80","v":0}]
["CMREM_11530","FO",{"$f":"+'Outgoing Remittances (Value)'!$F$5","v":"20241031"},{"$f":"+'COVER SHEET'!$D$12","v":0},11530,{"$f":"'COVER SHEET'!$D$16&IF(MID('COVER SHEET'!$I$18,6,10)=\"december\",\"1231\",IF(MID('COVER SHEET'!$I$18,6,10)=\"june\",\"0630\"))","v":"20241231"},{"$f":"+'Outgoing Remittances (Value)'!F81","v":0}]
["CMREM_11530","FJ",{"$f":"+'Outgoing Remittances (Value)'!$F$5","v":"20241031"},{"$f":"+'COVER SHEET'!$D$12","v":0},11530,{"$f":"'COVER SHEET'!$D$16&IF(MID('COVER SHEET'!$I$18,6,10)=\"december\",\"1231\",IF(MID('COVER SHEET'!$I$18,6,10)=\"june\",\"0630\"))","v":"20241231"},{"$f":"+'Outgoing Remittances (Value)'!F82","v":0}]
["CMREM_11530","FI",{"$f":"+'Outgoing Remittances (Value)'!$F$5","v":"20241031"},{"$f":"+'COVER SHEET'!$D$12","v":0},11530,{"$f":"'COVER SHEET'!$D$16&IF(MID('COVER SHEET'!$I$18,6,10)=\"december\",\"1231\",IF(MID('COVER SHEET'!$I$18,6,10)=\"june\",\"0630\"))","v":"20241231"},{"$f":"+'Outgoing Remittances (Value)'!F83","v":0}]
["CMREM_11530","FR",{"$f":"+'Outgoing Remittances (Value)'!$F$5","v":"20241031"},{"$f":"+'COVER SHEET'!$D$12","v":0},11530,{"$f":"'COVER SHEET'!$D$16&IF(MID('COVER SHEET'!$I$18,6,10)=\"december\",\"1231\",IF(MID('COVER SHEET'!$I$18,6,10)=\"june\",\"0630\"))","v":"20241231"},{"$f":"+'Outgoing Remittances (Value)'!F84","v":0}]
["CMREM_11530","PF",{"$f":"+'Outgoing Remittances (Value)'!$F$5","v":"20241031"},{"$f":"+'COVER SHEET'!$D$12","v":0},11530,{"$f":"'COVER SHEET'!$D$16&IF(MID('COVER SHEET'!$I$18,6,10)=\"december\",\"1231\",IF(MID('COVER SHEET'!$I$18,6,10)=\"june\",\"0630\"))","v":"20241231"},{"$f":"+'Outgoing Remittances (Value)'!F85","v":0}]
["CMREM_11530","TF",{"$f":"+'Outgoing Remittances (Value)'!$F$5","v":"20241031"},{"$f":"+'COVER SHEET'!$D$12","v":0},11530,{"$f":"'COVER SHEET'!$D$16&IF(MID('COVER SHEET'!$I$18,6,10)=\"december\",\"1231\",IF(MID('COVER SHEET'!$I$18,6,10)=\"june\",\"0630\"))","v":"20241231"},{"$f":"+'Outgoing Remittances (Value)'!F86","v":0}]
["CMREM_11530","GA",{"$f":"+'Outgoing Remittances (Value)'!$F$5","v":"20241031"},{"$f":"+'COVER SHEET'!$D$12","v":0},11530,{"$f":"'COVER SHEET'!$D$16&IF(MID('COVER SHEET'!$I$18,6,10)=\"december\",\"1231\",IF(MID('COVER SHEET'!$I$18,6,10)=\"june\",\"0630\"))","v":"20241231"},{"$f":"+'Outgoing Remittances (Value)'!F87","v":0}]
["CMREM_11530","GM",{"$f":"+'Outgoing Remittances (Value)'!$F$5","v":"20241031"},{"$f":"+'COVER SHEET'!$D$12","v":0},11530,{"$f":"'COVER SHEET'!$D$16&IF(MID('COVER SHEET'!$I$18,6,10)=\"december\",\"1231\",IF(MID('COVER SHEET'!$I$18,6,10)=\"june\",\"0630\"))","v":"20241231"},{"$f":"+'Outgoing Remittances (Value)'!F88","v":0}]
["CMREM_11530","GE",{"$f":"+'Outgoing Remittances (Value)'!$F$5","v":"20241031"},{"$f":"+'COVER SHEET'!$D$12","v":0},11530,{"$f":"'COVER SHEET'!$D$16&IF(MID('COVER SHEET'!$I$18,6,10)=\"december\",\"1231\",IF(MID('COVER SHEET'!$I$18,6,10)=\"june\",\"0630\"))","v":"20241231"},{"$f":"+'Outgoing Remittances (Value)'!F89","v":0}]
["CMREM_11530","DE",{"$f":"+'Outgoing Remittances (Value)'!$F$5","v":"20241031"},{"$f":"+'COVER SHEET'!$D$12","v":0},11530,{"$f":"'COVER SHEET'!$D$16&IF(MID('COVER SHEET'!$I$18,6,10)=\"december\",\"1231\",IF(MID('COVER SHEET'!$I$18,6,10)=\"june\",\"0630\"))","v":"20241231"},{"$f":"+'Outgoing Remittances (Value)'!F90","v":0}]
["CMREM_11530","GH",{"$f":"+'Outgoing Remittances (Value)'!$F$5","v":"20241031"},{"$f":"+'COVER SHEET'!$D$12","v":0},11530,{"$f":"'COVER SHEET'!$D$16&IF(MID('COVER SHEET'!$I$18,6,10)=\"december\",\"1231\",IF(MID('COVER SHEET'!$I$18,6,10)=\"june\",\"0630\"))","v":"20241231"},{"$f":"+'Outgoing Remittances (Value)'!F91","v":0}]
["CMREM_11530","GI",{"$f":"+'Outgoing Remittances (Value)'!$F$5","v":"20241031"},{"$f":"+'COVER SHEET'!$D$12","v":0},11530,{"$f":"'COVER SHEET'!$D$16&IF(MID('COVER SHEET'!$I$18,6,10)=\"december\",\"1231\",IF(MID('COVER SHEET'!$I$18,6,10)=\"june\",\"0630\"))","v":"20241231"},{"$f":"+'Outgoing Remittances (Value)'!F92","v":0}]
["CMREM_11530","GR",{"$f":"+'Outgoing Remittances (Value)'!$F$5","v":"20241031"},{"$f":"+'COVER SHEET'!$D$12","v":0},11530,{"$f":"'COVER SHEET'!$D$16&IF(MID('COVER SHEET'!$I$18,6,10)=\"december\",\"1231\",IF(MID('COVER SHEET'!$I$18,6,10)=\"june\",\"0630\"))","v":"20241231"},{"$f":"+'Outgoing Remittances (Value)'!F93","v":0}]
["CMREM_11530","GL",{"$f":"+'Outgoing Remittances (Value)'!$F$5","v":"20241031"},{"$f":"+'COVER SHEET'!$D$12","v":0},11530,{"$f":"'COVER SHEET'!$D$16&IF(MID('COVER SHEET'!$I$18,6,10)=\"december\",\"1231\",IF(MID('COVER SHEET'!$I$18,6,10)=\"june\",\"0630\"))","v":"20241231"},{"$f":"+'Outgoing Remittances (Value)'!F94","v":0}]
["CMREM_11530","GD",{"$f":"+'Outgoing Remittances (Value)'!$F$5","v":"20241031"},{"$f":"+'COVER SHEET'!$D$12","v":0},11530,{"$f":"'COVER SHEET'!$D$16&IF(MID('COVER SHEET'!$I$18,6,10)=\"december\",\"1231\",IF(MID('COVER SHEET'!$I$18,6,10)=\"june\",\"0630\"))","v":"20241231"},{"$f":"+'Outgoing Remittances (Value)'!F95","v":0}]
["CMREM_11530","GU",{"$f":"+'Outgoing Remittances (Value)'!$F$5","v":"20241031"},{"$f":"+'COVER SHEET'!$D$12","v":0},11530,{"$f":"'COVER SHEET'!$D$16&IF(MID('COVER SHEET'!$I$18,6,10)=\"december\",\"1231\",IF(MID('COVER SHEET'!$I$18,6,10)=\"june\",\"0630\"))","v":"20241231"},{"$f":"+'Outgoing Remittances (Value)'!F96","v":0}]
["CMREM_11530","GT",{"$f":"+'Outgoing Remittances (Value)'!$F$5","v":"20241031"},{"$f":"+'COVER SHEET'!$D$12","v":0},11530,{"$f":"'COVER SHEET'!$D$16&IF(MID('COVER SHEET'!$I$18,6,10)=\"december\",\"1231\",IF(MID('COVER SHEET'!$I$18,6,10)=\"june\",\"0630\"))","v":"20241231"},{"$f":"+'Outgoing Remittances (Value)'!F97","v":0}]
["CMREM_11530","GG",{"$f":"+'Outgoing Remittances (Value)'!$F$5","v":"20241031"},{"$f":"+'COVER SHEET'!$D$12","v":0},11530,{"$f":"'COVER SHEET'!$D$16&IF(MID('COVER SHEET'!$I$18,6,10)=\"december\",\"1231\",IF(MID('COVER SHEET'!$I$18,6,10)=\"june\",\"0630\"))","v":"20241231"},{"$f":"+'Outgoing Remittances (Value)'!F98","v":0}]
["CMREM_11530","GN",{"$f":"+'Outgoing Remittances (Value)'!$F$5","v":"20241031"},{"$f":"+'COVER SHEET'!$D$12","v":0},11530,{"$f":"'COVER SHEET'!$D$16&IF(MID('COVER SHEET'!$I$18,6,10)=\"december\",\"1231\",IF(MID('COVER SHEET'!$I$18,6,10)=\"june\",\"0630\"))","v":"20241231"},{"$f":"+'Outgoing Remittances (Value)'!F99","v":0}]
["CMREM_11530","GW",{"$f":"+'Outgoing Remittances (Value)'!$F$5","v":"20241031"},{"$f":"+'COVER SHEET'!$D$12","v":0},11530,{"$f":"'COVER SHEET'!$D$16&IF(MID('COVER SHEET'!$I$18,6,10)=\"december\",\"1231\",IF(MID('COVER SHEET'!$I$18,6,10)=\"june\",\"0630\"))","v":"20241231"},{"$f":"+'Outgoing Remittances (Value)'!F100","v":0}]
["CMREM_11530","GY",{"$f":"+'Outgoing Remittances (Value)'!$F$5","v":"20241031"},{"$f":"+'COVER SHEET'!$D$12","v":0},11530,{"$f":"'COVER SHEET'!$D$16&IF(MID('COVER SHEET'!$I$18,6,10)=\"december\",\"1231\",IF(MID('COVER SHEET'!$I$18,6,10)=\"june\",\"0630\"))","v":"20241231"},{"$f":"+'Outgoing Remittances (Value)'!F101","v":0}]
["CMREM_11530","HT",{"$f":"+'Outgoing Remittances (Value)'!$F$5","v":"20241031"},{"$f":"+'COVER SHEET'!$D$12","v":0},11530,{"$f":"'COVER SHEET'!$D$16&IF(MID('COVER SHEET'!$I$18,6,10)=\"december\",\"1231\",IF(MID('COVER SHEET'!$I$18,6,10)=\"june\",\"0630\"))","v":"20241231"},{"$f":"+'Outgoing Remittances (Value)'!F102","v":0}]
["CMREM_11530","HM",{"$f":"+'Outgoing Remittances (Value)'!$F$5","v":"20241031"},{"$f":"+'COVER SHEET'!$D$12","v":0},11530,{"$f":"'COVER SHEET'!$D$16&IF(MID('COVER SHEET'!$I$18,6,10)=\"december\",\"1231\",IF(MID('COVER SHEET'!$I$18,6,10)=\"june\",\"0630\"))","v":"20241231"},{"$f":"+'Outgoing Remittances (Value)'!F103","v":0}]
["CMREM_11530","VA",{"$f":"+'Outgoing Remittances (Value)'!$F$5","v":"20241031"},{"$f":"+'COVER SHEET'!$D$12","v":0},11530,{"$f":"'COVER SHEET'!$D$16&IF(MID('COVER SHEET'!$I$18,6,10)=\"december\",\"1231\",IF(MID('COVER SHEET'!$I$18,6,10)=\"june\",\"0630\"))","v":"20241231"},{"$f":"+'Outgoing Remittances (Value)'!F104","v":0}]
["CMREM_11530","HN",{"$f":"+'Outgoing Remittances (Value)'!$F$5","v":"20241031"},{"$f":"+'COVER SHEET'!$D$12","v":0},11530,{"$f":"'COVER SHEET'!$D$16&IF(MID('COVER SHEET'!$I$18,6,10)=\"december\",\"1231\",IF(MID('COVER SHEET'!$I$18,6,10)=\"june\",\"0630\"))","v":"20241231"},{"$f":"+'Outgoing Remittances (Value)'!F105","v":0}]
["CMREM_11530","HK",{"$f":"+'Outgoing Remittances (Value)'!$F$5","v":"20241031"},{"$f":"+'COVER SHEET'!$D$12","v":0},11530,{"$f":"'COVER SHEET'!$D$16&IF(MID('COVER SHEET'!$I$18,6,10)=\"december\",\"1231\",IF(MID('COVER SHEET'!$I$18,6,10)=\"june\",\"0630\"))","v":"20241231"},{"$f":"+'Outgoing Remittances (Value)'!F106","v":0}]
["CMREM_11530","HU",{"$f":"+'Outgoing Remittances (Value)'!$F$5","v":"20241031"},{"$f":"+'COVER SHEET'!$D$12","v":0},11530,{"$f":"'COVER SHEET'!$D$16&IF(MID('COVER SHEET'!$I$18,6,10)=\"december\",\"1231\",IF(MID('COVER SHEET'!$I$18,6,10)=\"june\",\"0630\"))","v":"20241231"},{"$f":"+'Outgoing Remittances (Value)'!F107","v":0}]
["CMREM_11530","IS",{"$f":"+'Outgoing Remittances (Value)'!$F$5","v":"20241031"},{"$f":"+'COVER SHEET'!$D$12","v":0},11530,{"$f":"'COVER SHEET'!$D$16&IF(MID('COVER SHEET'!$I$18,6,10)=\"december\",\"1231\",IF(MID('COVER SHEET'!$I$18,6,10)=\"june\",\"0630\"))","v":"20241231"},{"$f":"+'Outgoing Remittances (Value)'!F108","v":0}]
["CMREM_11530","IN",{"$f":"+'Outgoing Remittances (Value)'!$F$5","v":"20241031"},{"$f":"+'COVER SHEET'!$D$12","v":0},11530,{"$f":"'COVER SHEET'!$D$16&IF(MID('COVER SHEET'!$I$18,6,10)=\"december\",\"1231\",IF(MID('COVER SHEET'!$I$18,6,10)=\"june\",\"0630\"))","v":"20241231"},{"$f":"+'Outgoing Remittances (Value)'!F109","v":0}]
["CMREM_11530","ID",{"$f":"+'Outgoing Remittances (Value)'!$F$5","v":"20241031"},{"$f":"+'COVER SHEET'!$D$12","v":0},11530,{"$f":"'COVER SHEET'!$D$16&IF(MID('COVER SHEET'!$I$18,6,10)=\"december\",\"1231\",IF(MID('COVER SHEET'!$I$18,6,10)=\"june\",\"0630\"))","v":"20241231"},{"$f":"+'Outgoing Remittances (Value)'!F110","v":0}]
["CMREM_11530","IR",{"$f":"+'Outgoing Remittances (Value)'!$F$5","v":"20241031"},{"$f":"+'COVER SHEET'!$D$12","v":0},11530,{"$f":"'COVER SHEET'!$D$16&IF(MID('COVER SHEET'!$I$18,6,10)=\"december\",\"1231\",IF(MID('COVER SHEET'!$I$18,6,10)=\"june\",\"0630\"))","v":"20241231"},{"$f":"+'Outgoing Remittances (Value)'!F111","v":0}]
["CMREM_11530","IQ",{"$f":"+'Outgoing Remittances (Value)'!$F$5","v":"20241031"},{"$f":"+'COVER SHEET'!$D$12","v":0},11530,{"$f":"'COVER SHEET'!$D$16&IF(MID('COVER SHEET'!$I$18,6,10)=\"december\",\"1231\",IF(MID('COVER SHEET'!$I$18,6,10)=\"june\",\"0630\"))","v":"20241231"},{"$f":"+'Outgoing Remittances (Value)'!F112","v":0}]
["CMREM_11530","IE",{"$f":"+'Outgoing Remittances (Value)'!$F$5","v":"20241031"},{"$f":"+'COVER SHEET'!$D$12","v":0},11530,{"$f":"'COVER SHEET'!$D$16&IF(MID('COVER SHEET'!$I$18,6,10)=\"december\",\"1231\",IF(MID('COVER SHEET'!$I$18,6,10)=\"june\",\"0630\"))","v":"20241231"},{"$f":"+'Outgoing Remittances (Value)'!F113","v":0}]
["CMREM_11530","IM",{"$f":"+'Outgoing Remittances (Value)'!$F$5","v":"20241031"},{"$f":"+'COVER SHEET'!$D$12","v":0},11530,{"$f":"'COVER SHEET'!$D$16&IF(MID('COVER SHEET'!$I$18,6,10)=\"december\",\"1231\",IF(MID('COVER SHEET'!$I$18,6,10)=\"june\",\"0630\"))","v":"20241231"},{"$f":"+'Outgoing Remittances (Value)'!F114","v":0}]
["CMREM_11530","IL",{"$f":"+'Outgoing Remittances (Value)'!$F$5","v":"20241031"},{"$f":"+'COVER SHEET'!$D$12","v":0},11530,{"$f":"'COVER SHEET'!$D$16&IF(MID('COVER SHEET'!$I$18,6,10)=\"december\",\"1231\",IF(MID('COVER SHEET'!$I$18,6,10)=\"june\",\"0630\"))","v":"20241231"},{"$f":"+'Outgoing Remittances (Value)'!F115","v":0}]
["CMREM_11530","IT",{"$f":"+'Outgoing Remittances (Value)'!$F$5","v":"20241031"},{"$f":"+'COVER SHEET'!$D$12","v":0},11530,{"$f":"'COVER SHEET'!$D$16&IF(MID('COVER SHEET'!$I$18,6,10)=\"december\",\"1231\",IF(MID('COVER SHEET'!$I$18,6,10)=\"june\",\"0630\"))","v":"20241231"},{"$f":"+'Outgoing Remittances (Value)'!F116","v":0}]
["CMREM_11530","CI",{"$f":"+'Outgoing Remittances (Value)'!$F$5","v":"20241031"},{"$f":"+'COVER SHEET'!$D$12","v":0},11530,{"$f":"'COVER SHEET'!$D$16&IF(MID('COVER SHEET'!$I$18,6,10)=\"december\",\"1231\",IF(MID('COVER SHEET'!$I$18,6,10)=\"june\",\"0630\"))","v":"20241231"},{"$f":"+'Outgoing Remittances (Value)'!F117","v":0}]
["CMREM_11530","JM",{"$f":"+'Outgoing Remittances (Value)'!$F$5","v":"20241031"},{"$f":"+'COVER SHEET'!$D$12","v":0},11530,{"$f":"'COVER SHEET'!$D$16&IF(MID('COVER SHEET'!$I$18,6,10)=\"december\",\"1231\",IF(MID('COVER SHEET'!$I$18,6,10)=\"june\",\"0630\"))","v":"20241231"},{"$f":"+'Outgoing Remittances (Value)'!F118","v":0}]
["CMREM_11530","JP",{"$f":"+'Outgoing Remittances (Value)'!$F$5","v":"20241031"},{"$f":"+'COVER SHEET'!$D$12","v":0},11530,{"$f":"'COVER SHEET'!$D$16&IF(MID('COVER SHEET'!$I$18,6,10)=\"december\",\"1231\",IF(MID('COVER SHEET'!$I$18,6,10)=\"june\",\"0630\"))","v":"20241231"},{"$f":"+'Outgoing Remittances (Value)'!F119","v":0}]
["CMREM_11530","JE",{"$f":"+'Outgoing Remittances (Value)'!$F$5","v":"20241031"},{"$f":"+'COVER SHEET'!$D$12","v":0},11530,{"$f":"'COVER SHEET'!$D$16&IF(MID('COVER SHEET'!$I$18,6,10)=\"december\",\"1231\",IF(MID('COVER SHEET'!$I$18,6,10)=\"june\",\"0630\"))","v":"20241231"},{"$f":"+'Outgoing Remittances (Value)'!F120","v":0}]
["CMREM_11530","JO",{"$f":"+'Outgoing Remittances (Value)'!$F$5","v":"20241031"},{"$f":"+'COVER SHEET'!$D$12","v":0},11530,{"$f":"'COVER SHEET'!$D$16&IF(MID('COVER SHEET'!$I$18,6,10)=\"december\",\"1231\",IF(MID('COVER SHEET'!$I$18,6,10)=\"june\",\"0630\"))","v":"20241231"},{"$f":"+'Outgoing Remittances (Value)'!F121","v":0}]
["CMREM_11530","KZ",{"$f":"+'Outgoing Remittances (Value)'!$F$5","v":"20241031"},{"$f":"+'COVER SHEET'!$D$12","v":0},11530,{"$f":"'COVER SHEET'!$D$16&IF(MID('COVER SHEET'!$I$18,6,10)=\"december\",\"1231\",IF(MID('COVER SHEET'!$I$18,6,10)=\"june\",\"0630\"))","v":"20241231"},{"$f":"+'Outgoing Remittances (Value)'!F122","v":0}]
["CMREM_11530","KE",{"$f":"+'Outgoing Remittances (Value)'!$F$5","v":"20241031"},{"$f":"+'COVER SHEET'!$D$12","v":0},11530,{"$f":"'COVER SHEET'!$D$16&IF(MID('COVER SHEET'!$I$18,6,10)=\"december\",\"1231\",IF(MID('COVER SHEET'!$I$18,6,10)=\"june\",\"0630\"))","v":"20241231"},{"$f":"+'Outgoing Remittances (Value)'!F123","v":0}]
["CMREM_11530","KI",{"$f":"+'Outgoing Remittances (Value)'!$F$5","v":"20241031"},{"$f":"+'COVER SHEET'!$D$12","v":0},11530,{"$f":"'COVER SHEET'!$D$16&IF(MID('COVER SHEET'!$I$18,6,10)=\"december\",\"1231\",IF(MID('COVER SHEET'!$I$18,6,10)=\"june\",\"0630\"))","v":"20241231"},{"$f":"+'Outgoing Remittances (Value)'!F124","v":0}]
["CMREM_11530","KP",{"$f":"+'Outgoing Remittances (Value)'!$F$5","v":"20241031"},{"$f":"+'COVER SHEET'!$D$12","v":0},11530,{"$f":"'COVER SHEET'!$D$16&IF(MID('COVER SHEET'!$I$18,6,10)=\"december\",\"1231\",IF(MID('COVER SHEET'!$I$18,6,10)=\"june\",\"0630\"))","v":"20241231"},{"$f":"+'Outgoing Remittances (Value)'!F125","v":0}]
["CMREM_11530","KR",{"$f":"+'Outgoing Remittances (Value)'!$F$5","v":"20241031"},{"$f":"+'COVER SHEET'!$D$12","v":0},11530,{"$f":"'COVER SHEET'!$D$16&IF(MID('COVER SHEET'!$I$18,6,10)=\"december\",\"1231\",IF(MID('COVER SHEET'!$I$18,6,10)=\"june\",\"0630\"))","v":"20241231"},{"$f":"+'Outgoing Remittances (Value)'!F126","v":0}]
["CMREM_11530","XK",{"$f":"+'Outgoing Remittances (Value)'!$F$5","v":"20241031"},{"$f":"+'COVER SHEET'!$D$12","v":0},11530,{"$f":"'COVER SHEET'!$D$16&IF(MID('COVER SHEET'!$I$18,6,10)=\"december\",\"1231\",IF(MID('COVER SHEET'!$I$18,6,10)=\"june\",\"0630\"))","v":"20241231"},{"$f":"+'Outgoing Remittances (Value)'!F127","v":0}]
["CMREM_11530","KW",{"$f":"+'Outgoing Remittances (Value)'!$F$5","v":"20241031"},{"$f":"+'COVER SHEET'!$D$12","v":0},11530,{"$f":"'COVER SHEET'!$D$16&IF(MID('COVER SHEET'!$I$18,6,10)=\"december\",\"1231\",IF(MID('COVER SHEET'!$I$18,6,10)=\"june\",\"0630\"))","v":"20241231"},{"$f":"+'Outgoing Remittances (Value)'!F128","v":0}]
["CMREM_11530","KG",{"$f":"+'Outgoing Remittances (Value)'!$F$5","v":"20241031"},{"$f":"+'COVER SHEET'!$D$12","v":0},11530,{"$f":"'COVER SHEET'!$D$16&IF(MID('COVER SHEET'!$I$18,6,10)=\"december\",\"1231\",IF(MID('COVER SHEET'!$I$18,6,10)=\"june\",\"0630\"))","v":"20241231"},{"$f":"+'Outgoing Remittances (Value)'!F129","v":0}]
["CMREM_11530","LA",{"$f":"+'Outgoing Remittances (Value)'!$F$5","v":"20241031"},{"$f":"+'COVER SHEET'!$D$12","v":0},11530,{"$f":"'COVER SHEET'!$D$16&IF(MID('COVER SHEET'!$I$18,6,10)=\"december\",\"1231\",IF(MID('COVER SHEET'!$I$18,6,10)=\"june\",\"0630\"))","v":"20241231"},{"$f":"+'Outgoing Remittances (Value)'!F130","v":0}]
["CMREM_11530","LV",{"$f":"+'Outgoing Remittances (Value)'!$F$5","v":"20241031"},{"$f":"+'COVER SHEET'!$D$12","v":0},11530,{"$f":"'COVER SHEET'!$D$16&IF(MID('COVER SHEET'!$I$18,6,10)=\"december\",\"1231\",IF(MID('COVER SHEET'!$I$18,6,10)=\"june\",\"0630\"))","v":"20241231"},{"$f":"+'Outgoing Remittances (Value)'!F131","v":0}]
["CMREM_11530","LB",{"$f":"+'Outgoing Remittances (Value)'!$F$5","v":"20241031"},{"$f":"+'COVER SHEET'!$D$12","v":0},11530,{"$f":"'COVER SHEET'!$D$16&IF(MID('COVER SHEET'!$I$18,6,10)=\"december\",\"1231\",IF(MID('COVER SHEET'!$I$18,6,10)=\"june\",\"0630\"))","v":"20241231"},{"$f":"+'Outgoing Remittances (Value)'!F132","v":0}]
["CMREM_11530","LS",{"$f":"+'Outgoing Remittances (Value)'!$F$5","v":"20241031"},{"$f":"+'COVER SHEET'!$D$12","v":0},11530,{"$f":"'COVER SHEET'!$D$16&IF(MID('COVER SHEET'!$I$18,6,10)=\"december\",\"1231\",IF(MID('COVER SHEET'!$I$18,6,10)=\"june\",\"0630\"))","v":"20241231"},{"$f":"+'Outgoing Remittances (Value)'!F133","v":0}]
["CMREM_11530","LR",{"$f":"+'Outgoing Remittances (Value)'!$F$5","v":"20241031"},{"$f":"+'COVER SHEET'!$D$12","v":0},11530,{"$f":"'COVER SHEET'!$D$16&IF(MID('COVER SHEET'!$I$18,6,10)=\"december\",\"1231\",IF(MID('COVER SHEET'!$I$18,6,10)=\"june\",\"0630\"))","v":"20241231"},{"$f":"+'Outgoing Remittances (Value)'!F134","v":0}]
["CMREM_11530","LY",{"$f":"+'Outgoing Remittances (Value)'!$F$5","v":"20241031"},{"$f":"+'COVER SHEET'!$D$12","v":0},11530,{"$f":"'COVER SHEET'!$D$16&IF(MID('COVER SHEET'!$I$18,6,10)=\"december\",\"1231\",IF(MID('COVER SHEET'!$I$18,6,10)=\"june\",\"0630\"))","v":"20241231"},{"$f":"+'Outgoing Remittances (Value)'!F135","v":0}]
["CMREM_11530","LI",{"$f":"+'Outgoing Remittances (Value)'!$F$5","v":"20241031"},{"$f":"+'COVER SHEET'!$D$12","v":0},11530,{"$f":"'COVER SHEET'!$D$16&IF(MID('COVER SHEET'!$I$18,6,10)=\"december\",\"1231\",IF(MID('COVER SHEET'!$I$18,6,10)=\"june\",\"0630\"))","v":"20241231"},{"$f":"+'Outgoing Remittances (Value)'!F136","v":0}]
["CMREM_11530","LT",{"$f":"+'Outgoing Remittances (Value)'!$F$5","v":"20241031"},{"$f":"+'COVER SHEET'!$D$12","v":0},11530,{"$f":"'COVER SHEET'!$D$16&IF(MID('COVER SHEET'!$I$18,6,10)=\"december\",\"1231\",IF(MID('COVER SHEET'!$I$18,6,10)=\"june\",\"0630\"))","v":"20241231"},{"$f":"+'Outgoing Remittances (Value)'!F137","v":0}]
["CMREM_11530","LU",{"$f":"+'Outgoing Remittances (Value)'!$F$5","v":"20241031"},{"$f":"+'COVER SHEET'!$D$12","v":0},11530,{"$f":"'COVER SHEET'!$D$16&IF(MID('COVER SHEET'!$I$18,6,10)=\"december\",\"1231\",IF(MID('COVER SHEET'!$I$18,6,10)=\"june\",\"0630\"))","v":"20241231"},{"$f":"+'Outgoing Remittances (Value)'!F138","v":0}]
["CMREM_11530","MO",{"$f":"+'Outgoing Remittances (Value)'!$F$5","v":"20241031"},{"$f":"+'COVER SHEET'!$D$12","v":0},11530,{"$f":"'COVER SHEET'!$D$16&IF(MID('COVER SHEET'!$I$18,6,10)=\"december\",\"1231\",IF(MID('COVER SHEET'!$I$18,6,10)=\"june\",\"0630\"))","v":"20241231"},{"$f":"+'Outgoing Remittances (Value)'!F139","v":0}]
["CMREM_11530","MK",{"$f":"+'Outgoing Remittances (Value)'!$F$5","v":"20241031"},{"$f":"+'COVER SHEET'!$D$12","v":0},11530,{"$f":"'COVER SHEET'!$D$16&IF(MID('COVER SHEET'!$I$18,6,10)=\"december\",\"1231\",IF(MID('COVER SHEET'!$I$18,6,10)=\"june\",\"0630\"))","v":"20241231"},{"$f":"+'Outgoing Remittances (Value)'!F140","v":0}]
["CMREM_11530","MG",{"$f":"+'Outgoing Remittances (Value)'!$F$5","v":"20241031"},{"$f":"+'COVER SHEET'!$D$12","v":0},11530,{"$f":"'COVER SHEET'!$D$16&IF(MID('COVER SHEET'!$I$18,6,10)=\"december\",\"1231\",IF(MID('COVER SHEET'!$I$18,6,10)=\"june\",\"0630\"))","v":"20241231"},{"$f":"+'Outgoing Remittances (Value)'!F141","v":0}]
["CMREM_11530","MW",{"$f":"+'Outgoing Remittances (Value)'!$F$5","v":"20241031"},{"$f":"+'COVER SHEET'!$D$12","v":0},11530,{"$f":"'COVER SHEET'!$D$16&IF(MID('COVER SHEET'!$I$18,6,10)=\"december\",\"1231\",IF(MID('COVER SHEET'!$I$18,6,10)=\"june\",\"0630\"))","v":"20241231"},{"$f":"+'Outgoing Remittances (Value)'!F142","v":0}]
["CMREM_11530","MY",{"$f":"+'Outgoing Remittances (Value)'!$F$5","v":"20241031"},{"$f":"+'COVER SHEET'!$D$12","v":0},11530,{"$f":"'COVER SHEET'!$D$16&IF(MID('COVER SHEET'!$I$18,6,10)=\"december\",\"1231\",IF(MID('COVER SHEET'!$I$18,6,10)=\"june\",\"0630\"))","v":"20241231"},{"$f":"+'Outgoing Remittances (Value)'!F143","v":0}]
["CMREM_11530","MV",{"$f":"+'Outgoing Remittances (Value)'!$F$5","v":"20241031"},{"$f":"+'COVER SHEET'!$D$12","v":0},11530,{"$f":"'COVER SHEET'!$D$16&IF(MID('COVER SHEET'!$I$18,6,10)=\"december\",\"1231\",IF(MID('COVER SHEET'!$I$18,6,10)=\"june\",\"0630\"))","v":"20241231"},{"$f":"+'Outgoing Remittances (Value)'!F144","v":0}]
["CMREM_11530","ML",{"$f":"+'Outgoing Remittances (Value)'!$F$5","v":"20241031"},{"$f":"+'COVER SHEET'!$D$12","v":0},11530,{"$f":"'COVER SHEET'!$D$16&IF(MID('COVER SHEET'!$I$18,6,10)=\"december\",\"1231\",IF(MID('COVER SHEET'!$I$18,6,10)=\"june\",\"0630\"))","v":"20241231"},{"$f":"+'Outgoing Remittances (Value)'!F145","v":0}]
["CMREM_11530","MH",{"$f":"+'Outgoing Remittances (Value)'!$F$5","v":"20241031"},{"$f":"+'COVER SHEET'!$D$12","v":0},11530,{"$f":"'COVER SHEET'!$D$16&IF(MID('COVER SHEET'!$I$18,6,10)=\"december\",\"1231\",IF(MID('COVER SHEET'!$I$18,6,10)=\"june\",\"0630\"))","v":"20241231"},{"$f":"+'Outgoing Remittances (Value)'!F146","v":0}]
["CMREM_11530","MR",{"$f":"+'Outgoing Remittances (Value)'!$F$5","v":"20241031"},{"$f":"+'COVER SHEET'!$D$12","v":0},11530,{"$f":"'COVER SHEET'!$D$16&IF(MID('COVER SHEET'!$I$18,6,10)=\"december\",\"1231\",IF(MID('COVER SHEET'!$I$18,6,10)=\"june\",\"0630\"))","v":"20241231"},{"$f":"+'Outgoing Remittances (Value)'!F147","v":0}]
["CMREM_11530","MU",{"$f":"+'Outgoing Remittances (Value)'!$F$5","v":"20241031"},{"$f":"+'COVER SHEET'!$D$12","v":0},11530,{"$f":"'COVER SHEET'!$D$16&IF(MID('COVER SHEET'!$I$18,6,10)=\"december\",\"1231\",IF(MID('COVER SHEET'!$I$18,6,10)=\"june\",\"0630\"))","v":"20241231"},{"$f":"+'Outgoing Remittances (Value)'!F148","v":0}]
["CMREM_11530","MX",{"$f":"+'Outgoing Remittances (Value)'!$F$5","v":"20241031"},{"$f":"+'COVER SHEET'!$D$12","v":0},11530,{"$f":"'COVER SHEET'!$D$16&IF(MID('COVER SHEET'!$I$18,6,10)=\"december\",\"1231\",IF(MID('COVER SHEET'!$I$18,6,10)=\"june\",\"0630\"))","v":"20241231"},{"$f":"+'Outgoing Remittances (Value)'!F149","v":0}]
["CMREM_11530","FM",{"$f":"+'Outgoing Remittances (Value)'!$F$5","v":"20241031"},{"$f":"+'COVER SHEET'!$D$12","v":0},11530,{"$f":"'COVER SHEET'!$D$16&IF(MID('COVER SHEET'!$I$18,6,10)=\"december\",\"1231\",IF(MID('COVER SHEET'!$I$18,6,10)=\"june\",\"0630\"))","v":"20241231"},{"$f":"+'Outgoing Remittances (Value)'!F150","v":0}]
["CMREM_11530","MD",{"$f":"+'Outgoing Remittances (Value)'!$F$5","v":"20241031"},{"$f":"+'COVER SHEET'!$D$12","v":0},11530,{"$f":"'COVER SHEET'!$D$16&IF(MID('COVER SHEET'!$I$18,6,10)=\"december\",\"1231\",IF(MID('COVER SHEET'!$I$18,6,10)=\"june\",\"0630\"))","v":"20241231"},{"$f":"+'Outgoing Remittances (Value)'!F151","v":0}]
["CMREM_11530","MN",{"$f":"+'Outgoing Remittances (Value)'!$F$5","v":"20241031"},{"$f":"+'COVER SHEET'!$D$12","v":0},11530,{"$f":"'COVER SHEET'!$D$16&IF(MID('COVER SHEET'!$I$18,6,10)=\"december\",\"1231\",IF(MID('COVER SHEET'!$I$18,6,10)=\"june\",\"0630\"))","v":"20241231"},{"$f":"+'Outgoing Remittances (Value)'!F152","v":0}]
["CMREM_11530","ME",{"$f":"+'Outgoing Remittances (Value)'!$F$5","v":"20241031"},{"$f":"+'COVER SHEET'!$D$12","v":0},11530,{"$f":"'COVER SHEET'!$D$16&IF(MID('COVER SHEET'!$I$18,6,10)=\"december\",\"1231\",IF(MID('COVER SHEET'!$I$18,6,10)=\"june\",\"0630\"))","v":"20241231"},{"$f":"+'Outgoing Remittances (Value)'!F153","v":0}]
["CMREM_11530","MS",{"$f":"+'Outgoing Remittances (Value)'!$F$5","v":"20241031"},{"$f":"+'COVER SHEET'!$D$12","v":0},11530,{"$f":"'COVER SHEET'!$D$16&IF(MID('COVER SHEET'!$I$18,6,10)=\"december\",\"1231\",IF(MID('COVER SHEET'!$I$18,6,10)=\"june\",\"0630\"))","v":"20241231"},{"$f":"+'Outgoing Remittances (Value)'!F154","v":0}]
["CMREM_11530","MA",{"$f":"+'Outgoing Remittances (Value)'!$F$5","v":"20241031"},{"$f":"+'COVER SHEET'!$D$12","v":0},11530,{"$f":"'COVER SHEET'!$D$16&IF(MID('COVER SHEET'!$I$18,6,10)=\"december\",\"1231\",IF(MID('COVER SHEET'!$I$18,6,10)=\"june\",\"0630\"))","v":"20241231"},{"$f":"+'Outgoing Remittances (Value)'!F155","v":0}]
["CMREM_11530","MZ",{"$f":"+'Outgoing Remittances (Value)'!$F$5","v":"20241031"},{"$f":"+'COVER SHEET'!$D$12","v":0},11530,{"$f":"'COVER SHEET'!$D$16&IF(MID('COVER SHEET'!$I$18,6,10)=\"december\",\"1231\",IF(MID('COVER SHEET'!$I$18,6,10)=\"june\",\"0630\"))","v":"20241231"},{"$f":"+'Outgoing Remittances (Value)'!F156","v":0}]
["CMREM_11530","MM",{"$f":"+'Outgoing Remittances (Value)'!$F$5","v":"20241031"},{"$f":"+'COVER SHEET'!$D$12","v":0},11530,{"$f":"'COVER SHEET'!$D$16&IF(MID('COVER SHEET'!$I$18,6,10)=\"december\",\"1231\",IF(MID('COVER SHEET'!$I$18,6,10)=\"june\",\"0630\"))","v":"20241231"},{"$f":"+'Outgoing Remittances (Value)'!F157","v":0}]
["CMREM_11530","NA",{"$f":"+'Outgoing Remittances (Value)'!$F$5","v":"20241031"},{"$f":"+'COVER SHEET'!$D$12","v":0},11530,{"$f":"'COVER SHEET'!$D$16&IF(MID('COVER SHEET'!$I$18,6,10)=\"december\",\"1231\",IF(MID('COVER SHEET'!$I$18,6,10)=\"june\",\"0630\"))","v":"20241231"},{"$f":"+'Outgoing Remittances (Value)'!F158","v":0}]
["CMREM_11530","NR",{"$f":"+'Outgoing Remittances (Value)'!$F$5","v":"20241031"},{"$f":"+'COVER SHEET'!$D$12","v":0},11530,{"$f":"'COVER SHEET'!$D$16&IF(MID('COVER SHEET'!$I$18,6,10)=\"december\",\"1231\",IF(MID('COVER SHEET'!$I$18,6,10)=\"june\",\"0630\"))","v":"20241231"},{"$f":"+'Outgoing Remittances (Value)'!F159","v":0}]
["CMREM_11530","NP",{"$f":"+'Outgoing Remittances (Value)'!$F$5","v":"20241031"},{"$f":"+'COVER SHEET'!$D$12","v":0},11530,{"$f":"'COVER SHEET'!$D$16&IF(MID('COVER SHEET'!$I$18,6,10)=\"december\",\"1231\",IF(MID('COVER SHEET'!$I$18,6,10)=\"june\",\"0630\"))","v":"20241231"},{"$f":"+'Outgoing Remittances (Value)'!F160","v":0}]
["CMREM_11530","NL",{"$f":"+'Outgoing Remittances (Value)'!$F$5","v":"20241031"},{"$f":"+'COVER SHEET'!$D$12","v":0},11530,{"$f":"'COVER SHEET'!$D$16&IF(MID('COVER SHEET'!$I$18,6,10)=\"december\",\"1231\",IF(MID('COVER SHEET'!$I$18,6,10)=\"june\",\"0630\"))","v":"20241231"},{"$f":"+'Outgoing Remittances (Value)'!F161","v":0}]
["CMREM_11530","NC",{"$f":"+'Outgoing Remittances (Value)'!$F$5","v":"20241031"},{"$f":"+'COVER SHEET'!$D$12","v":0},11530,{"$f":"'COVER SHEET'!$D$16&IF(MID('COVER SHEET'!$I$18,6,10)=\"december\",\"1231\",IF(MID('COVER SHEET'!$I$18,6,10)=\"june\",\"0630\"))","v":"20241231"},{"$f":"+'Outgoing Remittances (Value)'!F162","v":0}]
["CMREM_11530","NZ",{"$f":"+'Outgoing Remittances (Value)'!$F$5","v":"20241031"},{"$f":"+'COVER SHEET'!$D$12","v":0},11530,{"$f":"'COVER SHEET'!$D$16&IF(MID('COVER SHEET'!$I$18,6,10)=\"december\",\"1231\",IF(MID('COVER SHEET'!$I$18,6,10)=\"june\",\"0630\"))","v":"20241231"},{"$f":"+'Outgoing Remittances (Value)'!F163","v":0}]
["CMREM_11530","NI",{"$f":"+'Outgoing Remittances (Value)'!$F$5","v":"20241031"},{"$f":"+'COVER SHEET'!$D$12","v":0},11530,{"$f":"'COVER SHEET'!$D$16&IF(MID('COVER SHEET'!$I$18,6,10)=\"december\",\"1231\",IF(MID('COVER SHEET'!$I$18,6,10)=\"june\",\"0630\"))","v":"20241231"},{"$f":"+'Outgoing Remittances (Value)'!F164","v":0}]
["CMREM_11530","NE",{"$f":"+'Outgoing Remittances (Value)'!$F$5","v":"20241031"},{"$f":"+'COVER SHEET'!$D$12","v":0},11530,{"$f":"'COVER SHEET'!$D$16&IF(MID('COVER SHEET'!$I$18,6,10)=\"december\",\"1231\",IF(MID('COVER SHEET'!$I$18,6,10)=\"june\",\"0630\"))","v":"20241231"},{"$f":"+'Outgoing Remittances (Value)'!F165","v":0}]
["CMREM_11530","NG",{"$f":"+'Outgoing Remittances (Value)'!$F$5","v":"20241031"},{"$f":"+'COVER SHEET'!$D$12","v":0},11530,{"$f":"'COVER SHEET'!$D$16&IF(MID('COVER SHEET'!$I$18,6,10)=\"december\",\"1231\",IF(MID('COVER SHEET'!$I$18,6,10)=\"june\",\"0630\"))","v":"20241231"},{"$f":"+'Outgoing Remittances (Value)'!F166","v":0}]
["CMREM_11530","NU",{"$f":"+'Outgoing Remittances (Value)'!$F$5","v":"20241031"},{"$f":"+'COVER SHEET'!$D$12","v":0},11530,{"$f":"'COVER SHEET'!$D$16&IF(MID('COVER SHEET'!$I$18,6,10)=\"december\",\"1231\",IF(MID('COVER SHEET'!$I$18,6,10)=\"june\",\"0630\"))","v":"20241231"},{"$f":"+'Outgoing Remittances (Value)'!F167","v":0}]
["CMREM_11530","NF",{"$f":"+'Outgoing Remittances (Value)'!$F$5","v":"20241031"},{"$f":"+'COVER SHEET'!$D$12","v":0},11530,{"$f":"'COVER SHEET'!$D$16&IF(MID('COVER SHEET'!$I$18,6,10)=\"december\",\"1231\",IF(MID('COVER SHEET'!$I$18,6,10)=\"june\",\"0630\"))","v":"20241231"},{"$f":"+'Outgoing Remittances (Value)'!F168","v":0}]
["CMREM_11530","MP",{"$f":"+'Outgoing Remittances (Value)'!$F$5","v":"20241031"},{"$f":"+'COVER SHEET'!$D$12","v":0},11530,{"$f":"'COVER SHEET'!$D$16&IF(MID('COVER SHEET'!$I$18,6,10)=\"december\",\"1231\",IF(MID('COVER SHEET'!$I$18,6,10)=\"june\",\"0630\"))","v":"20241231"},{"$f":"+'Outgoing Remittances (Value)'!F169","v":0}]
["CMREM_11530","NO",{"$f":"+'Outgoing Remittances (Value)'!$F$5","v":"20241031"},{"$f":"+'COVER SHEET'!$D$12","v":0},11530,{"$f":"'COVER SHEET'!$D$16&IF(MID('COVER SHEET'!$I$18,6,10)=\"december\",\"1231\",IF(MID('COVER SHEET'!$I$18,6,10)=\"june\",\"0630\"))","v":"20241231"},{"$f":"+'Outgoing Remittances (Value)'!F170","v":0}]
["CMREM_11530","OM",{"$f":"+'Outgoing Remittances (Value)'!$F$5","v":"20241031"},{"$f":"+'COVER SHEET'!$D$12","v":0},11530,{"$f":"'COVER SHEET'!$D$16&IF(MID('COVER SHEET'!$I$18,6,10)=\"december\",\"1231\",IF(MID('COVER SHEET'!$I$18,6,10)=\"june\",\"0630\"))","v":"20241231"},{"$f":"+'Outgoing Remittances (Value)'!F171","v":0}]
["CMREM_11530","PK",{"$f":"+'Outgoing Remittances (Value)'!$F$5","v":"20241031"},{"$f":"+'COVER SHEET'!$D$12","v":0},11530,{"$f":"'COVER SHEET'!$D$16&IF(MID('COVER SHEET'!$I$18,6,10)=\"december\",\"1231\",IF(MID('COVER SHEET'!$I$18,6,10)=\"june\",\"0630\"))","v":"20241231"},{"$f":"+'Outgoing Remittances (Value)'!F172","v":0}]
["CMREM_11530","PW",{"$f":"+'Outgoing Remittances (Value)'!$F$5","v":"20241031"},{"$f":"+'COVER SHEET'!$D$12","v":0},11530,{"$f":"'COVER SHEET'!$D$16&IF(MID('COVER SHEET'!$I$18,6,10)=\"december\",\"1231\",IF(MID('COVER SHEET'!$I$18,6,10)=\"june\",\"0630\"))","v":"20241231"},{"$f":"+'Outgoing Remittances (Value)'!F173","v":0}]
["CMREM_11530","PS",{"$f":"+'Outgoing Remittances (Value)'!$F$5","v":"20241031"},{"$f":"+'COVER SHEET'!$D$12","v":0},11530,{"$f":"'COVER SHEET'!$D$16&IF(MID('COVER SHEET'!$I$18,6,10)=\"december\",\"1231\",IF(MID('COVER SHEET'!$I$18,6,10)=\"june\",\"0630\"))","v":"20241231"},{"$f":"+'Outgoing Remittances (Value)'!F174","v":0}]
["CMREM_11530","PA",{"$f":"+'Outgoing Remittances (Value)'!$F$5","v":"20241031"},{"$f":"+'COVER SHEET'!$D$12","v":0},11530,{"$f":"'COVER SHEET'!$D$16&IF(MID('COVER SHEET'!$I$18,6,10)=\"december\",\"1231\",IF(MID('COVER SHEET'!$I$18,6,10)=\"june\",\"0630\"))","v":"20241231"},{"$f":"+'Outgoing Remittances (Value)'!F175","v":0}]
["CMREM_11530","PG",{"$f":"+'Outgoing Remittances (Value)'!$F$5","v":"20241031"},{"$f":"+'COVER SHEET'!$D$12","v":0},11530,{"$f":"'COVER SHEET'!$D$16&IF(MID('COVER SHEET'!$I$18,6,10)=\"december\",\"1231\",IF(MID('COVER SHEET'!$I$18,6,10)=\"june\",\"0630\"))","v":"20241231"},{"$f":"+'Outgoing Remittances (Value)'!F176","v":0}]
["CMREM_11530","PY",{"$f":"+'Outgoing Remittances (Value)'!$F$5","v":"20241031"},{"$f":"+'COVER SHEET'!$D$12","v":0},11530,{"$f":"'COVER SHEET'!$D$16&IF(MID('COVER SHEET'!$I$18,6,10)=\"december\",\"1231\",IF(MID('COVER SHEET'!$I$18,6,10)=\"june\",\"0630\"))","v":"20241231"},{"$f":"+'Outgoing Remittances (Value)'!F177","v":0}]
["CMREM_11530","PE",{"$f":"+'Outgoing Remittances (Value)'!$F$5","v":"20241031"},{"$f":"+'COVER SHEET'!$D$12","v":0},11530,{"$f":"'COVER SHEET'!$D$16&IF(MID('COVER SHEET'!$I$18,6,10)=\"december\",\"1231\",IF(MID('COVER SHEET'!$I$18,6,10)=\"june\",\"0630\"))","v":"20241231"},{"$f":"+'Outgoing Remittances (Value)'!F178","v":0}]
["CMREM_11530","PH",{"$f":"+'Outgoing Remittances (Value)'!$F$5","v":"20241031"},{"$f":"+'COVER SHEET'!$D$12","v":0},11530,{"$f":"'COVER SHEET'!$D$16&IF(MID('COVER SHEET'!$I$18,6,10)=\"december\",\"1231\",IF(MID('COVER SHEET'!$I$18,6,10)=\"june\",\"0630\"))","v":"20241231"},{"$f":"+'Outgoing Remittances (Value)'!F179","v":0}]
["CMREM_11530","PN",{"$f":"+'Outgoing Remittances (Value)'!$F$5","v":"20241031"},{"$f":"+'COVER SHEET'!$D$12","v":0},11530,{"$f":"'COVER SHEET'!$D$16&IF(MID('COVER SHEET'!$I$18,6,10)=\"december\",\"1231\",IF(MID('COVER SHEET'!$I$18,6,10)=\"june\",\"0630\"))","v":"20241231"},{"$f":"+'Outgoing Remittances (Value)'!F180","v":0}]
["CMREM_11530","PL",{"$f":"+'Outgoing Remittances (Value)'!$F$5","v":"20241031"},{"$f":"+'COVER SHEET'!$D$12","v":0},11530,{"$f":"'COVER SHEET'!$D$16&IF(MID('COVER SHEET'!$I$18,6,10)=\"december\",\"1231\",IF(MID('COVER SHEET'!$I$18,6,10)=\"june\",\"0630\"))","v":"20241231"},{"$f":"+'Outgoing Remittances (Value)'!F181","v":0}]
["CMREM_11530","PT",{"$f":"+'Outgoing Remittances (Value)'!$F$5","v":"20241031"},{"$f":"+'COVER SHEET'!$D$12","v":0},11530,{"$f":"'COVER SHEET'!$D$16&IF(MID('COVER SHEET'!$I$18,6,10)=\"december\",\"1231\",IF(MID('COVER SHEET'!$I$18,6,10)=\"june\",\"0630\"))","v":"20241231"},{"$f":"+'Outgoing Remittances (Value)'!F182","v":0}]
["CMREM_11530","QA",{"$f":"+'Outgoing Remittances (Value)'!$F$5","v":"20241031"},{"$f":"+'COVER SHEET'!$D$12","v":0},11530,{"$f":"'COVER SHEET'!$D$16&IF(MID('COVER SHEET'!$I$18,6,10)=\"december\",\"1231\",IF(MID('COVER SHEET'!$I$18,6,10)=\"june\",\"0630\"))","v":"20241231"},{"$f":"+'Outgoing Remittances (Value)'!F183","v":0}]
["CMREM_11530","RO",{"$f":"+'Outgoing Remittances (Value)'!$F$5","v":"20241031"},{"$f":"+'COVER SHEET'!$D$12","v":0},11530,{"$f":"'COVER SHEET'!$D$16&IF(MID('COVER SHEET'!$I$18,6,10)=\"december\",\"1231\",IF(MID('COVER SHEET'!$I$18,6,10)=\"june\",\"0630\"))","v":"20241231"},{"$f":"+'Outgoing Remittances (Value)'!F184","v":0}]
["CMREM_11530","RU",{"$f":"+'Outgoing Remittances (Value)'!$F$5","v":"20241031"},{"$f":"+'COVER SHEET'!$D$12","v":0},11530,{"$f":"'COVER SHEET'!$D$16&IF(MID('COVER SHEET'!$I$18,6,10)=\"december\",\"1231\",IF(MID('COVER SHEET'!$I$18,6,10)=\"june\",\"0630\"))","v":"20241231"},{"$f":"+'Outgoing Remittances (Value)'!F185","v":0}]
["CMREM_11530","RW",{"$f":"+'Outgoing Remittances (Value)'!$F$5","v":"20241031"},{"$f":"+'COVER SHEET'!$D$12","v":0},11530,{"$f":"'COVER SHEET'!$D$16&IF(MID('COVER SHEET'!$I$18,6,10)=\"december\",\"1231\",IF(MID('COVER SHEET'!$I$18,6,10)=\"june\",\"0630\"))","v":"20241231"},{"$f":"+'Outgoing Remittances (Value)'!F186","v":0}]
["CMREM_11530","SH",{"$f":"+'Outgoing Remittances (Value)'!$F$5","v":"20241031"},{"$f":"+'COVER SHEET'!$D$12","v":0},11530,{"$f":"'COVER SHEET'!$D$16&IF(MID('COVER SHEET'!$I$18,6,10)=\"december\",\"1231\",IF(MID('COVER SHEET'!$I$18,6,10)=\"june\",\"0630\"))","v":"20241231"},{"$f":"+'Outgoing Remittances (Value)'!F187","v":0}]
["CMREM_11530","KN",{"$f":"+'Outgoing Remittances (Value)'!$F$5","v":"20241031"},{"$f":"+'COVER SHEET'!$D$12","v":0},11530,{"$f":"'COVER SHEET'!$D$16&IF(MID('COVER SHEET'!$I$18,6,10)=\"december\",\"1231\",IF(MID('COVER SHEET'!$I$18,6,10)=\"june\",\"0630\"))","v":"20241231"},{"$f":"+'Outgoing Remittances (Value)'!F188","v":0}]
["CMREM_11530","LC",{"$f":"+'Outgoing Remittances (Value)'!$F$5","v":"20241031"},{"$f":"+'COVER SHEET'!$D$12","v":0},11530,{"$f":"'COVER SHEET'!$D$16&IF(MID('COVER SHEET'!$I$18,6,10)=\"december\",\"1231\",IF(MID('COVER SHEET'!$I$18,6,10)=\"june\",\"0630\"))","v":"20241231"},{"$f":"+'Outgoing Remittances (Value)'!F189","v":0}]
["CMREM_11530","VC",{"$f":"+'Outgoing Remittances (Value)'!$F$5","v":"20241031"},{"$f":"+'COVER SHEET'!$D$12","v":0},11530,{"$f":"'COVER SHEET'!$D$16&IF(MID('COVER SHEET'!$I$18,6,10)=\"december\",\"1231\",IF(MID('COVER SHEET'!$I$18,6,10)=\"june\",\"0630\"))","v":"20241231"},{"$f":"+'Outgoing Remittances (Value)'!F190","v":0}]
["CMREM_11530","WS",{"$f":"+'Outgoing Remittances (Value)'!$F$5","v":"20241031"},{"$f":"+'COVER SHEET'!$D$12","v":0},11530,{"$f":"'COVER SHEET'!$D$16&IF(MID('COVER SHEET'!$I$18,6,10)=\"december\",\"1231\",IF(MID('COVER SHEET'!$I$18,6,10)=\"june\",\"0630\"))","v":"20241231"},{"$f":"+'Outgoing Remittances (Value)'!F191","v":0}]
["CMREM_11530","SM",{"$f":"+'Outgoing Remittances (Value)'!$F$5","v":"20241031"},{"$f":"+'COVER SHEET'!$D$12","v":0},11530,{"$f":"'COVER SHEET'!$D$16&IF(MID('COVER SHEET'!$I$18,6,10)=\"december\",\"1231\",IF(MID('COVER SHEET'!$I$18,6,10)=\"june\",\"0630\"))","v":"20241231"},{"$f":"+'Outgoing Remittances (Value)'!F192","v":0}]
["CMREM_11530","ST",{"$f":"+'Outgoing Remittances (Value)'!$F$5","v":"20241031"},{"$f":"+'COVER SHEET'!$D$12","v":0},11530,{"$f":"'COVER SHEET'!$D$16&IF(MID('COVER SHEET'!$I$18,6,10)=\"december\",\"1231\",IF(MID('COVER SHEET'!$I$18,6,10)=\"june\",\"0630\"))","v":"20241231"},{"$f":"+'Outgoing Remittances (Value)'!F193","v":0}]
["CMREM_11530","SA",{"$f":"+'Outgoing Remittances (Value)'!$F$5","v":"20241031"},{"$f":"+'COVER SHEET'!$D$12","v":0},11530,{"$f":"'COVER SHEET'!$D$16&IF(MID('COVER SHEET'!$I$18,6,10)=\"december\",\"1231\",IF(MID('COVER SHEET'!$I$18,6,10)=\"june\",\"0630\"))","v":"20241231"},{"$f":"+'Outgoing Remittances (Value)'!F194","v":0}]
["CMREM_11530","SN",{"$f":"+'Outgoing Remittances (Value)'!$F$5","v":"20241031"},{"$f":"+'COVER SHEET'!$D$12","v":0},11530,{"$f":"'COVER SHEET'!$D$16&IF(MID('COVER SHEET'!$I$18,6,10)=\"december\",\"1231\",IF(MID('COVER SHEET'!$I$18,6,10)=\"june\",\"0630\"))","v":"20241231"},{"$f":"+'Outgoing Remittances (Value)'!F195","v":0}]
["CMREM_11530","RS",{"$f":"+'Outgoing Remittances (Value)'!$F$5","v":"20241031"},{"$f":"+'COVER SHEET'!$D$12","v":0},11530,{"$f":"'COVER SHEET'!$D$16&IF(MID('COVER SHEET'!$I$18,6,10)=\"december\",\"1231\",IF(MID('COVER SHEET'!$I$18,6,10)=\"june\",\"0630\"))","v":"20241231"},{"$f":"+'Outgoing Remittances (Value)'!F196","v":0}]
["CMREM_11530","SC",{"$f":"+'Outgoing Remittances (Value)'!$F$5","v":"20241031"},{"$f":"+'COVER SHEET'!$D$12","v":0},11530,{"$f":"'COVER SHEET'!$D$16&IF(MID('COVER SHEET'!$I$18,6,10)=\"december\",\"1231\",IF(MID('COVER SHEET'!$I$18,6,10)=\"june\",\"0630\"))","v":"20241231"},{"$f":"+'Outgoing Remittances (Value)'!F197","v":0}]
["CMREM_11530","SL",{"$f":"+'Outgoing Remittances (Value)'!$F$5","v":"20241031"},{"$f":"+'COVER SHEET'!$D$12","v":0},11530,{"$f":"'COVER SHEET'!$D$16&IF(MID('COVER SHEET'!$I$18,6,10)=\"december\",\"1231\",IF(MID('COVER SHEET'!$I$18,6,10)=\"june\",\"0630\"))","v":"20241231"},{"$f":"+'Outgoing Remittances (Value)'!F198","v":0}]
["CMREM_11530","SG",{"$f":"+'Outgoing Remittances (Value)'!$F$5","v":"20241031"},{"$f":"+'COVER SHEET'!$D$12","v":0},11530,{"$f":"'COVER SHEET'!$D$16&IF(MID('COVER SHEET'!$I$18,6,10)=\"december\",\"1231\",IF(MID('COVER SHEET'!$I$18,6,10)=\"june\",\"0630\"))","v":"20241231"},{"$f":"+'Outgoing Remittances (Value)'!F199","v":0}]
["CMREM_11530","SX",{"$f":"+'Outgoing Remittances (Value)'!$F$5","v":"20241031"},{"$f":"+'COVER SHEET'!$D$12","v":0},11530,{"$f":"'COVER SHEET'!$D$16&IF(MID('COVER SHEET'!$I$18,6,10)=\"december\",\"1231\",IF(MID('COVER SHEET'!$I$18,6,10)=\"june\",\"0630\"))","v":"20241231"},{"$f":"+'Outgoing Remittances (Value)'!F200","v":0}]
["CMREM_11530","SK",{"$f":"+'Outgoing Remittances (Value)'!$F$5","v":"20241031"},{"$f":"+'COVER SHEET'!$D$12","v":0},11530,{"$f":"'COVER SHEET'!$D$16&IF(MID('COVER SHEET'!$I$18,6,10)=\"december\",\"1231\",IF(MID('COVER SHEET'!$I$18,6,10)=\"june\",\"0630\"))","v":"20241231"},{"$f":"+'Outgoing Remittances (Value)'!F201","v":0}]
["CMREM_11530","SI",{"$f":"+'Outgoing Remittances (Value)'!$F$5","v":"20241031"},{"$f":"+'COVER SHEET'!$D$12","v":0},11530,{"$f":"'COVER SHEET'!$D$16&IF(MID('COVER SHEET'!$I$18,6,10)=\"december\",\"1231\",IF(MID('COVER SHEET'!$I$18,6,10)=\"june\",\"0630\"))","v":"20241231"},{"$f":"+'Outgoing Remittances (Value)'!F202","v":0}]
["CMREM_11530","SB",{"$f":"+'Outgoing Remittances (Value)'!$F$5","v":"20241031"},{"$f":"+'COVER SHEET'!$D$12","v":0},11530,{"$f":"'COVER SHEET'!$D$16&IF(MID('COVER SHEET'!$I$18,6,10)=\"december\",\"1231\",IF(MID('COVER SHEET'!$I$18,6,10)=\"june\",\"0630\"))","v":"20241231"},{"$f":"+'Outgoing Remittances (Value)'!F203","v":0}]
["CMREM_11530","SO",{"$f":"+'Outgoing Remittances (Value)'!$F$5","v":"20241031"},{"$f":"+'COVER SHEET'!$D$12","v":0},11530,{"$f":"'COVER SHEET'!$D$16&IF(MID('COVER SHEET'!$I$18,6,10)=\"december\",\"1231\",IF(MID('COVER SHEET'!$I$18,6,10)=\"june\",\"0630\"))","v":"20241231"},{"$f":"+'Outgoing Remittances (Value)'!F204","v":0}]
["CMREM_11530","ZA",{"$f":"+'Outgoing Remittances (Value)'!$F$5","v":"20241031"},{"$f":"+'COVER SHEET'!$D$12","v":0},11530,{"$f":"'COVER SHEET'!$D$16&IF(MID('COVER SHEET'!$I$18,6,10)=\"december\",\"1231\",IF(MID('COVER SHEET'!$I$18,6,10)=\"june\",\"0630\"))","v":"20241231"},{"$f":"+'Outgoing Remittances (Value)'!F205","v":0}]
["CMREM_11530","GS",{"$f":"+'Outgoing Remittances (Value)'!$F$5","v":"20241031"},{"$f":"+'COVER SHEET'!$D$12","v":0},11530,{"$f":"'COVER SHEET'!$D$16&IF(MID('COVER SHEET'!$I$18,6,10)=\"december\",\"1231\",IF(MID('COVER SHEET'!$I$18,6,10)=\"june\",\"0630\"))","v":"20241231"},{"$f":"+'Outgoing Remittances (Value)'!F206","v":0}]
["CMREM_11530","SS",{"$f":"+'Outgoing Remittances (Value)'!$F$5","v":"20241031"},{"$f":"+'COVER SHEET'!$D$12","v":0},11530,{"$f":"'COVER SHEET'!$D$16&IF(MID('COVER SHEET'!$I$18,6,10)=\"december\",\"1231\",IF(MID('COVER SHEET'!$I$18,6,10)=\"june\",\"0630\"))","v":"20241231"},{"$f":"+'Outgoing Remittances (Value)'!F207","v":0}]
["CMREM_11530","ES",{"$f":"+'Outgoing Remittances (Value)'!$F$5","v":"20241031"},{"$f":"+'COVER SHEET'!$D$12","v":0},11530,{"$f":"'COVER SHEET'!$D$16&IF(MID('COVER SHEET'!$I$18,6,10)=\"december\",\"1231\",IF(MID('COVER SHEET'!$I$18,6,10)=\"june\",\"0630\"))","v":"20241231"},{"$f":"+'Outgoing Remittances (Value)'!F208","v":0}]
["CMREM_11530","LK",{"$f":"+'Outgoing Remittances (Value)'!$F$5","v":"20241031"},{"$f":"+'COVER SHEET'!$D$12","v":0},11530,{"$f":"'COVER SHEET'!$D$16&IF(MID('COVER SHEET'!$I$18,6,10)=\"december\",\"1231\",IF(MID('COVER SHEET'!$I$18,6,10)=\"june\",\"0630\"))","v":"20241231"},{"$f":"+'Outgoing Remittances (Value)'!F209","v":0}]
["CMREM_11530","SD",{"$f":"+'Outgoing Remittances (Value)'!$F$5","v":"20241031"},{"$f":"+'COVER SHEET'!$D$12","v":0},11530,{"$f":"'COVER SHEET'!$D$16&IF(MID('COVER SHEET'!$I$18,6,10)=\"december\",\"1231\",IF(MID('COVER SHEET'!$I$18,6,10)=\"june\",\"0630\"))","v":"20241231"},{"$f":"+'Outgoing Remittances (Value)'!F210","v":0}]
["CMREM_11530","SR",{"$f":"+'Outgoing Remittances (Value)'!$F$5","v":"20241031"},{"$f":"+'COVER SHEET'!$D$12","v":0},11530,{"$f":"'COVER SHEET'!$D$16&IF(MID('COVER SHEET'!$I$18,6,10)=\"december\",\"1231\",IF(MID('COVER SHEET'!$I$18,6,10)=\"june\",\"0630\"))","v":"20241231"},{"$f":"+'Outgoing Remittances (Value)'!F211","v":0}]
["CMREM_11530","SZ",{"$f":"+'Outgoing Remittances (Value)'!$F$5","v":"20241031"},{"$f":"+'COVER SHEET'!$D$12","v":0},11530,{"$f":"'COVER SHEET'!$D$16&IF(MID('COVER SHEET'!$I$18,6,10)=\"december\",\"1231\",IF(MID('COVER SHEET'!$I$18,6,10)=\"june\",\"0630\"))","v":"20241231"},{"$f":"+'Outgoing Remittances (Value)'!F212","v":0}]
["CMREM_11530","SE",{"$f":"+'Outgoing Remittances (Value)'!$F$5","v":"20241031"},{"$f":"+'COVER SHEET'!$D$12","v":0},11530,{"$f":"'COVER SHEET'!$D$16&IF(MID('COVER SHEET'!$I$18,6,10)=\"december\",\"1231\",IF(MID('COVER SHEET'!$I$18,6,10)=\"june\",\"0630\"))","v":"20241231"},{"$f":"+'Outgoing Remittances (Value)'!F213","v":0}]
["CMREM_11530","CH",{"$f":"+'Outgoing Remittances (Value)'!$F$5","v":"20241031"},{"$f":"+'COVER SHEET'!$D$12","v":0},11530,{"$f":"'COVER SHEET'!$D$16&IF(MID('COVER SHEET'!$I$18,6,10)=\"december\",\"1231\",IF(MID('COVER SHEET'!$I$18,6,10)=\"june\",\"0630\"))","v":"20241231"},{"$f":"+'Outgoing Remittances (Value)'!F214","v":0}]
["CMREM_11530","SY",{"$f":"+'Outgoing Remittances (Value)'!$F$5","v":"20241031"},{"$f":"+'COVER SHEET'!$D$12","v":0},11530,{"$f":"'COVER SHEET'!$D$16&IF(MID('COVER SHEET'!$I$18,6,10)=\"december\",\"1231\",IF(MID('COVER SHEET'!$I$18,6,10)=\"june\",\"0630\"))","v":"20241231"},{"$f":"+'Outgoing Remittances (Value)'!F215","v":0}]
["CMREM_11530","TW",{"$f":"+'Outgoing Remittances (Value)'!$F$5","v":"20241031"},{"$f":"+'COVER SHEET'!$D$12","v":0},11530,{"$f":"'COVER SHEET'!$D$16&IF(MID('COVER SHEET'!$I$18,6,10)=\"december\",\"1231\",IF(MID('COVER SHEET'!$I$18,6,10)=\"june\",\"0630\"))","v":"20241231"},{"$f":"+'Outgoing Remittances (Value)'!F216","v":0}]
["CMREM_11530","TJ",{"$f":"+'Outgoing Remittances (Value)'!$F$5","v":"20241031"},{"$f":"+'COVER SHEET'!$D$12","v":0},11530,{"$f":"'COVER SHEET'!$D$16&IF(MID('COVER SHEET'!$I$18,6,10)=\"december\",\"1231\",IF(MID('COVER SHEET'!$I$18,6,10)=\"june\",\"0630\"))","v":"20241231"},{"$f":"+'Outgoing Remittances (Value)'!F217","v":0}]
["CMREM_11530","TZ",{"$f":"+'Outgoing Remittances (Value)'!$F$5","v":"20241031"},{"$f":"+'COVER SHEET'!$D$12","v":0},11530,{"$f":"'COVER SHEET'!$D$16&IF(MID('COVER SHEET'!$I$18,6,10)=\"december\",\"1231\",IF(MID('COVER SHEET'!$I$18,6,10)=\"june\",\"0630\"))","v":"20241231"},{"$f":"+'Outgoing Remittances (Value)'!F218","v":0}]
["CMREM_11530","TH",{"$f":"+'Outgoing Remittances (Value)'!$F$5","v":"20241031"},{"$f":"+'COVER SHEET'!$D$12","v":0},11530,{"$f":"'COVER SHEET'!$D$16&IF(MID('COVER SHEET'!$I$18,6,10)=\"december\",\"1231\",IF(MID('COVER SHEET'!$I$18,6,10)=\"june\",\"0630\"))","v":"20241231"},{"$f":"+'Outgoing Remittances (Value)'!F219","v":0}]
["CMREM_11530","TG",{"$f":"+'Outgoing Remittances (Value)'!$F$5","v":"20241031"},{"$f":"+'COVER SHEET'!$D$12","v":0},11530,{"$f":"'COVER SHEET'!$D$16&IF(MID('COVER SHEET'!$I$18,6,10)=\"december\",\"1231\",IF(MID('COVER SHEET'!$I$18,6,10)=\"june\",\"0630\"))","v":"20241231"},{"$f":"+'Outgoing Remittances (Value)'!F220","v":0}]
["CMREM_11530","TK",{"$f":"+'Outgoing Remittances (Value)'!$F$5","v":"20241031"},{"$f":"+'COVER SHEET'!$D$12","v":0},11530,{"$f":"'COVER SHEET'!$D$16&IF(MID('COVER SHEET'!$I$18,6,10)=\"december\",\"1231\",IF(MID('COVER SHEET'!$I$18,6,10)=\"june\",\"0630\"))","v":"20241231"},{"$f":"+'Outgoing Remittances (Value)'!F221","v":0}]
["CMREM_11530","TO",{"$f":"+'Outgoing Remittances (Value)'!$F$5","v":"20241031"},{"$f":"+'COVER SHEET'!$D$12","v":0},11530,{"$f":"'COVER SHEET'!$D$16&IF(MID('COVER SHEET'!$I$18,6,10)=\"december\",\"1231\",IF(MID('COVER SHEET'!$I$18,6,10)=\"june\",\"0630\"))","v":"20241231"},{"$f":"+'Outgoing Remittances (Value)'!F222","v":0}]
["CMREM_11530","TT",{"$f":"+'Outgoing Remittances (Value)'!$F$5","v":"20241031"},{"$f":"+'COVER SHEET'!$D$12","v":0},11530,{"$f":"'COVER SHEET'!$D$16&IF(MID('COVER SHEET'!$I$18,6,10)=\"december\",\"1231\",IF(MID('COVER SHEET'!$I$18,6,10)=\"june\",\"0630\"))","v":"20241231"},{"$f":"+'Outgoing Remittances (Value)'!F223","v":0}]
["CMREM_11530","TN",{"$f":"+'Outgoing Remittances (Value)'!$F$5","v":"20241031"},{"$f":"+'COVER SHEET'!$D$12","v":0},11530,{"$f":"'COVER SHEET'!$D$16&IF(MID('COVER SHEET'!$I$18,6,10)=\"december\",\"1231\",IF(MID('COVER SHEET'!$I$18,6,10)=\"june\",\"0630\"))","v":"20241231"},{"$f":"+'Outgoing Remittances (Value)'!F224","v":0}]
["CMREM_11530","TR",{"$f":"+'Outgoing Remittances (Value)'!$F$5","v":"20241031"},{"$f":"+'COVER SHEET'!$D$12","v":0},11530,{"$f":"'COVER SHEET'!$D$16&IF(MID('COVER SHEET'!$I$18,6,10)=\"december\",\"1231\",IF(MID('COVER SHEET'!$I$18,6,10)=\"june\",\"0630\"))","v":"20241231"},{"$f":"+'Outgoing Remittances (Value)'!F225","v":0}]
["CMREM_11530","TM",{"$f":"+'Outgoing Remittances (Value)'!$F$5","v":"20241031"},{"$f":"+'COVER SHEET'!$D$12","v":0},11530,{"$f":"'COVER SHEET'!$D$16&IF(MID('COVER SHEET'!$I$18,6,10)=\"december\",\"1231\",IF(MID('COVER SHEET'!$I$18,6,10)=\"june\",\"0630\"))","v":"20241231"},{"$f":"+'Outgoing Remittances (Value)'!F226","v":0}]
["CMREM_11530","TC",{"$f":"+'Outgoing Remittances (Value)'!$F$5","v":"20241031"},{"$f":"+'COVER SHEET'!$D$12","v":0},11530,{"$f":"'COVER SHEET'!$D$16&IF(MID('COVER SHEET'!$I$18,6,10)=\"december\",\"1231\",IF(MID('COVER SHEET'!$I$18,6,10)=\"june\",\"0630\"))","v":"20241231"},{"$f":"+'Outgoing Remittances (Value)'!F227","v":0}]
["CMREM_11530","TV",{"$f":"+'Outgoing Remittances (Value)'!$F$5","v":"20241031"},{"$f":"+'COVER SHEET'!$D$12","v":0},11530,{"$f":"'COVER SHEET'!$D$16&IF(MID('COVER SHEET'!$I$18,6,10)=\"december\",\"1231\",IF(MID('COVER SHEET'!$I$18,6,10)=\"june\",\"0630\"))","v":"20241231"},{"$f":"+'Outgoing Remittances (Value)'!F228","v":0}]
["CMREM_11530","UG",{"$f":"+'Outgoing Remittances (Value)'!$F$5","v":"20241031"},{"$f":"+'COVER SHEET'!$D$12","v":0},11530,{"$f":"'COVER SHEET'!$D$16&IF(MID('COVER SHEET'!$I$18,6,10)=\"december\",\"1231\",IF(MID('COVER SHEET'!$I$18,6,10)=\"june\",\"0630\"))","v":"20241231"},{"$f":"+'Outgoing Remittances (Value)'!F229","v":0}]
["CMREM_11530","UA",{"$f":"+'Outgoing Remittances (Value)'!$F$5","v":"20241031"},{"$f":"+'COVER SHEET'!$D$12","v":0},11530,{"$f":"'COVER SHEET'!$D$16&IF(MID('COVER SHEET'!$I$18,6,10)=\"december\",\"1231\",IF(MID('COVER SHEET'!$I$18,6,10)=\"june\",\"0630\"))","v":"20241231"},{"$f":"+'Outgoing Remittances (Value)'!F230","v":0}]
["CMREM_11530","AE",{"$f":"+'Outgoing Remittances (Value)'!$F$5","v":"20241031"},{"$f":"+'COVER SHEET'!$D$12","v":0},11530,{"$f":"'COVER SHEET'!$D$16&IF(MID('COVER SHEET'!$I$18,6,10)=\"december\",\"1231\",IF(MID('COVER SHEET'!$I$18,6,10)=\"june\",\"0630\"))","v":"20241231"},{"$f":"+'Outgoing Remittances (Value)'!F231","v":0}]
["CMREM_11530","GB",{"$f":"+'Outgoing Remittances (Value)'!$F$5","v":"20241031"},{"$f":"+'COVER SHEET'!$D$12","v":0},11530,{"$f":"'COVER SHEET'!$D$16&IF(MID('COVER SHEET'!$I$18,6,10)=\"december\",\"1231\",IF(MID('COVER SHEET'!$I$18,6,10)=\"june\",\"0630\"))","v":"20241231"},{"$f":"+'Outgoing Remittances (Value)'!F232","v":0}]
["CMREM_11530","US",{"$f":"+'Outgoing Remittances (Value)'!$F$5","v":"20241031"},{"$f":"+'COVER SHEET'!$D$12","v":0},11530,{"$f":"'COVER SHEET'!$D$16&IF(MID('COVER SHEET'!$I$18,6,10)=\"december\",\"1231\",IF(MID('COVER SHEET'!$I$18,6,10)=\"june\",\"0630\"))","v":"20241231"},{"$f":"+'Outgoing Remittances (Value)'!F233","v":0}]
["CMREM_11530","UY",{"$f":"+'Outgoing Remittances (Value)'!$F$5","v":"20241031"},{"$f":"+'COVER SHEET'!$D$12","v":0},11530,{"$f":"'COVER SHEET'!$D$16&IF(MID('COVER SHEET'!$I$18,6,10)=\"december\",\"1231\",IF(MID('COVER SHEET'!$I$18,6,10)=\"june\",\"0630\"))","v":"20241231"},{"$f":"+'Outgoing Remittances (Value)'!F234","v":0}]
["CMREM_11530","UM",{"$f":"+'Outgoing Remittances (Value)'!$F$5","v":"20241031"},{"$f":"+'COVER SHEET'!$D$12","v":0},11530,{"$f":"'COVER SHEET'!$D$16&IF(MID('COVER SHEET'!$I$18,6,10)=\"december\",\"1231\",IF(MID('COVER SHEET'!$I$18,6,10)=\"june\",\"0630\"))","v":"20241231"},{"$f":"+'Outgoing Remittances (Value)'!F235","v":0}]
["CMREM_11530","UZ",{"$f":"+'Outgoing Remittances (Value)'!$F$5","v":"20241031"},{"$f":"+'COVER SHEET'!$D$12","v":0},11530,{"$f":"'COVER SHEET'!$D$16&IF(MID('COVER SHEET'!$I$18,6,10)=\"december\",\"1231\",IF(MID('COVER SHEET'!$I$18,6,10)=\"june\",\"0630\"))","v":"20241231"},{"$f":"+'Outgoing Remittances (Value)'!F236","v":0}]
["CMREM_11530","VU",{"$f":"+'Outgoing Remittances (Value)'!$F$5","v":"20241031"},{"$f":"+'COVER SHEET'!$D$12","v":0},11530,{"$f":"'COVER SHEET'!$D$16&IF(MID('COVER SHEET'!$I$18,6,10)=\"december\",\"1231\",IF(MID('COVER SHEET'!$I$18,6,10)=\"june\",\"0630\"))","v":"20241231"},{"$f":"+'Outgoing Remittances (Value)'!F237","v":0}]
["CMREM_11530","VE",{"$f":"+'Outgoing Remittances (Value)'!$F$5","v":"20241031"},{"$f":"+'COVER SHEET'!$D$12","v":0},11530,{"$f":"'COVER SHEET'!$D$16&IF(MID('COVER SHEET'!$I$18,6,10)=\"december\",\"1231\",IF(MID('COVER SHEET'!$I$18,6,10)=\"june\",\"0630\"))","v":"20241231"},{"$f":"+'Outgoing Remittances (Value)'!F238","v":0}]
["CMREM_11530","VN",{"$f":"+'Outgoing Remittances (Value)'!$F$5","v":"20241031"},{"$f":"+'COVER SHEET'!$D$12","v":0},11530,{"$f":"'COVER SHEET'!$D$16&IF(MID('COVER SHEET'!$I$18,6,10)=\"december\",\"1231\",IF(MID('COVER SHEET'!$I$18,6,10)=\"june\",\"0630\"))","v":"20241231"},{"$f":"+'Outgoing Remittances (Value)'!F239","v":0}]
["CMREM_11530","VI",{"$f":"+'Outgoing Remittances (Value)'!$F$5","v":"20241031"},{"$f":"+'COVER SHEET'!$D$12","v":0},11530,{"$f":"'COVER SHEET'!$D$16&IF(MID('COVER SHEET'!$I$18,6,10)=\"december\",\"1231\",IF(MID('COVER SHEET'!$I$18,6,10)=\"june\",\"0630\"))","v":"20241231"},{"$f":"+'Outgoing Remittances (Value)'!F240","v":0}]
["CMREM_11530","WF",{"$f":"+'Outgoing Remittances (Value)'!$F$5","v":"20241031"},{"$f":"+'COVER SHEET'!$D$12","v":0},11530,{"$f":"'COVER SHEET'!$D$16&IF(MID('COVER SHEET'!$I$18,6,10)=\"december\",\"1231\",IF(MID('COVER SHEET'!$I$18,6,10)=\"june\",\"0630\"))","v":"20241231"},{"$f":"+'Outgoing Remittances (Value)'!F241","v":0}]
["CMREM_11530","YE",{"$f":"+'Outgoing Remittances (Value)'!$F$5","v":"20241031"},{"$f":"+'COVER SHEET'!$D$12","v":0},11530,{"$f":"'COVER SHEET'!$D$16&IF(MID('COVER SHEET'!$I$18,6,10)=\"december\",\"1231\",IF(MID('COVER SHEET'!$I$18,6,10)=\"june\",\"0630\"))","v":"20241231"},{"$f":"+'Outgoing Remittances (Value)'!F242","v":0}]
["CMREM_11530","ZM",{"$f":"+'Outgoing Remittances (Value)'!$F$5","v":"20241031"},{"$f":"+'COVER SHEET'!$D$12","v":0},11530,{"$f":"'COVER SHEET'!$D$16&IF(MID('COVER SHEET'!$I$18,6,10)=\"december\",\"1231\",IF(MID('COVER SHEET'!$I$18,6,10)=\"june\",\"0630\"))","v":"20241231"},{"$f":"+'Outgoing Remittances (Value)'!F243","v":0}]
["CMREM_11530","ZW",{"$f":"+'Outgoing Remittances (Value)'!$F$5","v":"20241031"},{"$f":"+'COVER SHEET'!$D$12","v":0},11530,{"$f":"'COVER SHEET'!$D$16&IF(MID('COVER SHEET'!$I$18,6,10)=\"december\",\"1231\",IF(MID('COVER SHEET'!$I$18,6,10)=\"june\",\"0630\"))","v":"20241231"},{"$f":"+'Outgoing Remittances (Value)'!F244","v":0}]
["CMREM_11500","AF",{"$f":"+'Incoming Remittances (Volume)'!$H$5","v":"20241130"},{"$f":"+'COVER SHEET'!$D$12","v":0},11500,{"$f":"'COVER SHEET'!$D$16&IF(MID('COVER SHEET'!$I$18,6,10)=\"december\",\"1231\",IF(MID('COVER SHEET'!$I$18,6,10)=\"june\",\"0630\"))","v":"20241231"},{"$f":"+'Incoming Remittances (Volume)'!H9","v":0}]
["CMREM_11500","AL",{"$f":"+'Incoming Remittances (Volume)'!$H$5","v":"20241130"},{"$f":"+'COVER SHEET'!$D$12","v":0},11500,{"$f":"'COVER SHEET'!$D$16&IF(MID('COVER SHEET'!$I$18,6,10)=\"december\",\"1231\",IF(MID('COVER SHEET'!$I$18,6,10)=\"june\",\"0630\"))","v":"20241231"},{"$f":"+'Incoming Remittances (Volume)'!H10","v":0}]
["CMREM_11500","DZ",{"$f":"+'Incoming Remittances (Volume)'!$H$5","v":"20241130"},{"$f":"+'COVER SHEET'!$D$12","v":0},11500,{"$f":"'COVER SHEET'!$D$16&IF(MID('COVER SHEET'!$I$18,6,10)=\"december\",\"1231\",IF(MID('COVER SHEET'!$I$18,6,10)=\"june\",\"0630\"))","v":"20241231"},{"$f":"+'Incoming Remittances (Volume)'!H11","v":0}]
["CMREM_11500","AS",{"$f":"+'Incoming Remittances (Volume)'!$H$5","v":"20241130"},{"$f":"+'COVER SHEET'!$D$12","v":0},11500,{"$f":"'COVER SHEET'!$D$16&IF(MID('COVER SHEET'!$I$18,6,10)=\"december\",\"1231\",IF(MID('COVER SHEET'!$I$18,6,10)=\"june\",\"0630\"))","v":"20241231"},{"$f":"+'Incoming Remittances (Volume)'!H12","v":0}]
["CMREM_11500","AD",{"$f":"+'Incoming Remittances (Volume)'!$H$5","v":"20241130"},{"$f":"+'COVER SHEET'!$D$12","v":0},11500,{"$f":"'COVER SHEET'!$D$16&IF(MID('COVER SHEET'!$I$18,6,10)=\"december\",\"1231\",IF(MID('COVER SHEET'!$I$18,6,10)=\"june\",\"0630\"))","v":"20241231"},{"$f":"+'Incoming Remittances (Volume)'!H13","v":0}]
["CMREM_11500","AO",{"$f":"+'Incoming Remittances (Volume)'!$H$5","v":"20241130"},{"$f":"+'COVER SHEET'!$D$12","v":0},11500,{"$f":"'COVER SHEET'!$D$16&IF(MID('COVER SHEET'!$I$18,6,10)=\"december\",\"1231\",IF(MID('COVER SHEET'!$I$18,6,10)=\"june\",\"0630\"))","v":"20241231"},{"$f":"+'Incoming Remittances (Volume)'!H14","v":0}]
["CMREM_11500","AI",{"$f":"+'Incoming Remittances (Volume)'!$H$5","v":"20241130"},{"$f":"+'COVER SHEET'!$D$12","v":0},11500,{"$f":"'COVER SHEET'!$D$16&IF(MID('COVER SHEET'!$I$18,6,10)=\"december\",\"1231\",IF(MID('COVER SHEET'!$I$18,6,10)=\"june\",\"0630\"))","v":"20241231"},{"$f":"+'Incoming Remittances (Volume)'!H15","v":0}]
["CMREM_11500","AQ",{"$f":"+'Incoming Remittances (Volume)'!$H$5","v":"20241130"},{"$f":"+'COVER SHEET'!$D$12","v":0},11500,{"$f":"'COVER SHEET'!$D$16&IF(MID('COVER SHEET'!$I$18,6,10)=\"december\",\"1231\",IF(MID('COVER SHEET'!$I$18,6,10)=\"june\",\"0630\"))","v":"20241231"},{"$f":"+'Incoming Remittances (Volume)'!H16","v":0}]
["CMREM_11500","AG",{"$f":"+'Incoming Remittances (Volume)'!$H$5","v":"20241130"},{"$f":"+'COVER SHEET'!$D$12","v":0},11500,{"$f":"'COVER SHEET'!$D$16&IF(MID('COVER SHEET'!$I$18,6,10)=\"december\",\"1231\",IF(MID('COVER SHEET'!$I$18,6,10)=\"june\",\"0630\"))","v":"20241231"},{"$f":"+'Incoming Remittances (Volume)'!H17","v":0}]
["CMREM_11500","AR",{"$f":"+'Incoming Remittances (Volume)'!$H$5","v":"20241130"},{"$f":"+'COVER SHEET'!$D$12","v":0},11500,{"$f":"'COVER SHEET'!$D$16&IF(MID('COVER SHEET'!$I$18,6,10)=\"december\",\"1231\",IF(MID('COVER SHEET'!$I$18,6,10)=\"june\",\"0630\"))","v":"20241231"},{"$f":"+'Incoming Remittances (Volume)'!H18","v":0}]
["CMREM_11500","AM",{"$f":"+'Incoming Remittances (Volume)'!$H$5","v":"20241130"},{"$f":"+'COVER SHEET'!$D$12","v":0},11500,{"$f":"'COVER SHEET'!$D$16&IF(MID('COVER SHEET'!$I$18,6,10)=\"december\",\"1231\",IF(MID('COVER SHEET'!$I$18,6,10)=\"june\",\"0630\"))","v":"20241231"},{"$f":"+'Incoming Remittances (Volume)'!H19","v":0}]
["CMREM_11500","AW",{"$f":"+'Incoming Remittances (Volume)'!$H$5","v":"20241130"},{"$f":"+'COVER SHEET'!$D$12","v":0},11500,{"$f":"'COVER SHEET'!$D$16&IF(MID('COVER SHEET'!$I$18,6,10)=\"december\",\"1231\",IF(MID('COVER SHEET'!$I$18,6,10)=\"june\",\"0630\"))","v":"20241231"},{"$f":"+'Incoming Remittances (Volume)'!H20","v":0}]
["CMREM_11500","AU",{"$f":"+'Incoming Remittances (Volume)'!$H$5","v":"20241130"},{"$f":"+'COVER SHEET'!$D$12","v":0},11500,{"$f":"'COVER SHEET'!$D$16&IF(MID('COVER SHEET'!$I$18,6,10)=\"december\",\"1231\",IF(MID('COVER SHEET'!$I$18,6,10)=\"june\",\"0630\"))","v":"20241231"},{"$f":"+'Incoming Remittances (Volume)'!H21","v":0}]
["CMREM_11500","AT",{"$f":"+'Incoming Remittances (Volume)'!$H$5","v":"20241130"},{"$f":"+'COVER SHEET'!$D$12","v":0},11500,{"$f":"'COVER SHEET'!$D$16&IF(MID('COVER SHEET'!$I$18,6,10)=\"december\",\"1231\",IF(MID('COVER SHEET'!$I$18,6,10)=\"june\",\"0630\"))","v":"20241231"},{"$f":"+'Incoming Remittances (Volume)'!H22","v":0}]
["CMREM_11500","AZ",{"$f":"+'Incoming Remittances (Volume)'!$H$5","v":"20241130"},{"$f":"+'COVER SHEET'!$D$12","v":0},11500,{"$f":"'COVER SHEET'!$D$16&IF(MID('COVER SHEET'!$I$18,6,10)=\"december\",\"1231\",IF(MID('COVER SHEET'!$I$18,6,10)=\"june\",\"0630\"))","v":"20241231"},{"$f":"+'Incoming Remittances (Volume)'!H23","v":0}]
["CMREM_11500","BS",{"$f":"+'Incoming Remittances (Volume)'!$H$5","v":"20241130"},{"$f":"+'COVER SHEET'!$D$12","v":0},11500,{"$f":"'COVER SHEET'!$D$16&IF(MID('COVER SHEET'!$I$18,6,10)=\"december\",\"1231\",IF(MID('COVER SHEET'!$I$18,6,10)=\"june\",\"0630\"))","v":"20241231"},{"$f":"+'Incoming Remittances (Volume)'!H24","v":0}]
["CMREM_11500","BH",{"$f":"+'Incoming Remittances (Volume)'!$H$5","v":"20241130"},{"$f":"+'COVER SHEET'!$D$12","v":0},11500,{"$f":"'COVER SHEET'!$D$16&IF(MID('COVER SHEET'!$I$18,6,10)=\"december\",\"1231\",IF(MID('COVER SHEET'!$I$18,6,10)=\"june\",\"0630\"))","v":"20241231"},{"$f":"+'Incoming Remittances (Volume)'!H25","v":0}]
["CMREM_11500","BD",{"$f":"+'Incoming Remittances (Volume)'!$H$5","v":"20241130"},{"$f":"+'COVER SHEET'!$D$12","v":0},11500,{"$f":"'COVER SHEET'!$D$16&IF(MID('COVER SHEET'!$I$18,6,10)=\"december\",\"1231\",IF(MID('COVER SHEET'!$I$18,6,10)=\"june\",\"0630\"))","v":"20241231"},{"$f":"+'Incoming Remittances (Volume)'!H26","v":0}]
["CMREM_11500","BB",{"$f":"+'Incoming Remittances (Volume)'!$H$5","v":"20241130"},{"$f":"+'COVER SHEET'!$D$12","v":0},11500,{"$f":"'COVER SHEET'!$D$16&IF(MID('COVER SHEET'!$I$18,6,10)=\"december\",\"1231\",IF(MID('COVER SHEET'!$I$18,6,10)=\"june\",\"0630\"))","v":"20241231"},{"$f":"+'Incoming Remittances (Volume)'!H27","v":0}]
["CMREM_11500","BY",{"$f":"+'Incoming Remittances (Volume)'!$H$5","v":"20241130"},{"$f":"+'COVER SHEET'!$D$12","v":0},11500,{"$f":"'COVER SHEET'!$D$16&IF(MID('COVER SHEET'!$I$18,6,10)=\"december\",\"1231\",IF(MID('COVER SHEET'!$I$18,6,10)=\"june\",\"0630\"))","v":"20241231"},{"$f":"+'Incoming Remittances (Volume)'!H28","v":0}]
["CMREM_11500","BE",{"$f":"+'Incoming Remittances (Volume)'!$H$5","v":"20241130"},{"$f":"+'COVER SHEET'!$D$12","v":0},11500,{"$f":"'COVER SHEET'!$D$16&IF(MID('COVER SHEET'!$I$18,6,10)=\"december\",\"1231\",IF(MID('COVER SHEET'!$I$18,6,10)=\"june\",\"0630\"))","v":"20241231"},{"$f":"+'Incoming Remittances (Volume)'!H29","v":0}]
["CMREM_11500","BZ",{"$f":"+'Incoming Remittances (Volume)'!$H$5","v":"20241130"},{"$f":"+'COVER SHEET'!$D$12","v":0},11500,{"$f":"'COVER SHEET'!$D$16&IF(MID('COVER SHEET'!$I$18,6,10)=\"december\",\"1231\",IF(MID('COVER SHEET'!$I$18,6,10)=\"june\",\"0630\"))","v":"20241231"},{"$f":"+'Incoming Remittances (Volume)'!H30","v":0}]
["CMREM_11500","BJ",{"$f":"+'Incoming Remittances (Volume)'!$H$5","v":"20241130"},{"$f":"+'COVER SHEET'!$D$12","v":0},11500,{"$f":"'COVER SHEET'!$D$16&IF(MID('COVER SHEET'!$I$18,6,10)=\"december\",\"1231\",IF(MID('COVER SHEET'!$I$18,6,10)=\"june\",\"0630\"))","v":"20241231"},{"$f":"+'Incoming Remittances (Volume)'!H31","v":0}]
["CMREM_11500","BM",{"$f":"+'Incoming Remittances (Volume)'!$H$5","v":"20241130"},{"$f":"+'COVER SHEET'!$D$12","v":0},11500,{"$f":"'COVER SHEET'!$D$16&IF(MID('COVER SHEET'!$I$18,6,10)=\"december\",\"1231\",IF(MID('COVER SHEET'!$I$18,6,10)=\"june\",\"0630\"))","v":"20241231"},{"$f":"+'Incoming Remittances (Volume)'!H32","v":0}]
["CMREM_11500","BQ",{"$f":"+'Incoming Remittances (Volume)'!$H$5","v":"20241130"},{"$f":"+'COVER SHEET'!$D$12","v":0},11500,{"$f":"'COVER SHEET'!$D$16&IF(MID('COVER SHEET'!$I$18,6,10)=\"december\",\"1231\",IF(MID('COVER SHEET'!$I$18,6,10)=\"june\",\"0630\"))","v":"20241231"},{"$f":"+'Incoming Remittances (Volume)'!H33","v":0}]
["CMREM_11500","BT",{"$f":"+'Incoming Remittances (Volume)'!$H$5","v":"20241130"},{"$f":"+'COVER SHEET'!$D$12","v":0},11500,{"$f":"'COVER SHEET'!$D$16&IF(MID('COVER SHEET'!$I$18,6,10)=\"december\",\"1231\",IF(MID('COVER SHEET'!$I$18,6,10)=\"june\",\"0630\"))","v":"20241231"},{"$f":"+'Incoming Remittances (Volume)'!H34","v":0}]
["CMREM_11500","BO",{"$f":"+'Incoming Remittances (Volume)'!$H$5","v":"20241130"},{"$f":"+'COVER SHEET'!$D$12","v":0},11500,{"$f":"'COVER SHEET'!$D$16&IF(MID('COVER SHEET'!$I$18,6,10)=\"december\",\"1231\",IF(MID('COVER SHEET'!$I$18,6,10)=\"june\",\"0630\"))","v":"20241231"},{"$f":"+'Incoming Remittances (Volume)'!H35","v":0}]
["CMREM_11500","BA",{"$f":"+'Incoming Remittances (Volume)'!$H$5","v":"20241130"},{"$f":"+'COVER SHEET'!$D$12","v":0},11500,{"$f":"'COVER SHEET'!$D$16&IF(MID('COVER SHEET'!$I$18,6,10)=\"december\",\"1231\",IF(MID('COVER SHEET'!$I$18,6,10)=\"june\",\"0630\"))","v":"20241231"},{"$f":"+'Incoming Remittances (Volume)'!H36","v":0}]
["CMREM_11500","BW",{"$f":"+'Incoming Remittances (Volume)'!$H$5","v":"20241130"},{"$f":"+'COVER SHEET'!$D$12","v":0},11500,{"$f":"'COVER SHEET'!$D$16&IF(MID('COVER SHEET'!$I$18,6,10)=\"december\",\"1231\",IF(MID('COVER SHEET'!$I$18,6,10)=\"june\",\"0630\"))","v":"20241231"},{"$f":"+'Incoming Remittances (Volume)'!H37","v":0}]
["CMREM_11500","BV",{"$f":"+'Incoming Remittances (Volume)'!$H$5","v":"20241130"},{"$f":"+'COVER SHEET'!$D$12","v":0},11500,{"$f":"'COVER SHEET'!$D$16&IF(MID('COVER SHEET'!$I$18,6,10)=\"december\",\"1231\",IF(MID('COVER SHEET'!$I$18,6,10)=\"june\",\"0630\"))","v":"20241231"},{"$f":"+'Incoming Remittances (Volume)'!H38","v":0}]
["CMREM_11500","BR",{"$f":"+'Incoming Remittances (Volume)'!$H$5","v":"20241130"},{"$f":"+'COVER SHEET'!$D$12","v":0},11500,{"$f":"'COVER SHEET'!$D$16&IF(MID('COVER SHEET'!$I$18,6,10)=\"december\",\"1231\",IF(MID('COVER SHEET'!$I$18,6,10)=\"june\",\"0630\"))","v":"20241231"},{"$f":"+'Incoming Remittances (Volume)'!H39","v":0}]
["CMREM_11500","IO",{"$f":"+'Incoming Remittances (Volume)'!$H$5","v":"20241130"},{"$f":"+'COVER SHEET'!$D$12","v":0},11500,{"$f":"'COVER SHEET'!$D$16&IF(MID('COVER SHEET'!$I$18,6,10)=\"december\",\"1231\",IF(MID('COVER SHEET'!$I$18,6,10)=\"june\",\"0630\"))","v":"20241231"},{"$f":"+'Incoming Remittances (Volume)'!H40","v":0}]
["CMREM_11500","VG",{"$f":"+'Incoming Remittances (Volume)'!$H$5","v":"20241130"},{"$f":"+'COVER SHEET'!$D$12","v":0},11500,{"$f":"'COVER SHEET'!$D$16&IF(MID('COVER SHEET'!$I$18,6,10)=\"december\",\"1231\",IF(MID('COVER SHEET'!$I$18,6,10)=\"june\",\"0630\"))","v":"20241231"},{"$f":"+'Incoming Remittances (Volume)'!H41","v":0}]
["CMREM_11500","BN",{"$f":"+'Incoming Remittances (Volume)'!$H$5","v":"20241130"},{"$f":"+'COVER SHEET'!$D$12","v":0},11500,{"$f":"'COVER SHEET'!$D$16&IF(MID('COVER SHEET'!$I$18,6,10)=\"december\",\"1231\",IF(MID('COVER SHEET'!$I$18,6,10)=\"june\",\"0630\"))","v":"20241231"},{"$f":"+'Incoming Remittances (Volume)'!H42","v":0}]
["CMREM_11500","BG",{"$f":"+'Incoming Remittances (Volume)'!$H$5","v":"20241130"},{"$f":"+'COVER SHEET'!$D$12","v":0},11500,{"$f":"'COVER SHEET'!$D$16&IF(MID('COVER SHEET'!$I$18,6,10)=\"december\",\"1231\",IF(MID('COVER SHEET'!$I$18,6,10)=\"june\",\"0630\"))","v":"20241231"},{"$f":"+'Incoming Remittances (Volume)'!H43","v":0}]
["CMREM_11500","BF",{"$f":"+'Incoming Remittances (Volume)'!$H$5","v":"20241130"},{"$f":"+'COVER SHEET'!$D$12","v":0},11500,{"$f":"'COVER SHEET'!$D$16&IF(MID('COVER SHEET'!$I$18,6,10)=\"december\",\"1231\",IF(MID('COVER SHEET'!$I$18,6,10)=\"june\",\"0630\"))","v":"20241231"},{"$f":"+'Incoming Remittances (Volume)'!H44","v":0}]
["CMREM_11500","BI",{"$f":"+'Incoming Remittances (Volume)'!$H$5","v":"20241130"},{"$f":"+'COVER SHEET'!$D$12","v":0},11500,{"$f":"'COVER SHEET'!$D$16&IF(MID('COVER SHEET'!$I$18,6,10)=\"december\",\"1231\",IF(MID('COVER SHEET'!$I$18,6,10)=\"june\",\"0630\"))","v":"20241231"},{"$f":"+'Incoming Remittances (Volume)'!H45","v":0}]
["CMREM_11500","KH",{"$f":"+'Incoming Remittances (Volume)'!$H$5","v":"20241130"},{"$f":"+'COVER SHEET'!$D$12","v":0},11500,{"$f":"'COVER SHEET'!$D$16&IF(MID('COVER SHEET'!$I$18,6,10)=\"december\",\"1231\",IF(MID('COVER SHEET'!$I$18,6,10)=\"june\",\"0630\"))","v":"20241231"},{"$f":"+'Incoming Remittances (Volume)'!H46","v":0}]
["CMREM_11500","CM",{"$f":"+'Incoming Remittances (Volume)'!$H$5","v":"20241130"},{"$f":"+'COVER SHEET'!$D$12","v":0},11500,{"$f":"'COVER SHEET'!$D$16&IF(MID('COVER SHEET'!$I$18,6,10)=\"december\",\"1231\",IF(MID('COVER SHEET'!$I$18,6,10)=\"june\",\"0630\"))","v":"20241231"},{"$f":"+'Incoming Remittances (Volume)'!H47","v":0}]
["CMREM_11500","CA",{"$f":"+'Incoming Remittances (Volume)'!$H$5","v":"20241130"},{"$f":"+'COVER SHEET'!$D$12","v":0},11500,{"$f":"'COVER SHEET'!$D$16&IF(MID('COVER SHEET'!$I$18,6,10)=\"december\",\"1231\",IF(MID('COVER SHEET'!$I$18,6,10)=\"june\",\"0630\"))","v":"20241231"},{"$f":"+'Incoming Remittances (Volume)'!H48","v":0}]
["CMREM_11500","CV",{"$f":"+'Incoming Remittances (Volume)'!$H$5","v":"20241130"},{"$f":"+'COVER SHEET'!$D$12","v":0},11500,{"$f":"'COVER SHEET'!$D$16&IF(MID('COVER SHEET'!$I$18,6,10)=\"december\",\"1231\",IF(MID('COVER SHEET'!$I$18,6,10)=\"june\",\"0630\"))","v":"20241231"},{"$f":"+'Incoming Remittances (Volume)'!H49","v":0}]
["CMREM_11500","KY",{"$f":"+'Incoming Remittances (Volume)'!$H$5","v":"20241130"},{"$f":"+'COVER SHEET'!$D$12","v":0},11500,{"$f":"'COVER SHEET'!$D$16&IF(MID('COVER SHEET'!$I$18,6,10)=\"december\",\"1231\",IF(MID('COVER SHEET'!$I$18,6,10)=\"june\",\"0630\"))","v":"20241231"},{"$f":"+'Incoming Remittances (Volume)'!H50","v":0}]
["CMREM_11500","CF",{"$f":"+'Incoming Remittances (Volume)'!$H$5","v":"20241130"},{"$f":"+'COVER SHEET'!$D$12","v":0},11500,{"$f":"'COVER SHEET'!$D$16&IF(MID('COVER SHEET'!$I$18,6,10)=\"december\",\"1231\",IF(MID('COVER SHEET'!$I$18,6,10)=\"june\",\"0630\"))","v":"20241231"},{"$f":"+'Incoming Remittances (Volume)'!H51","v":0}]
["CMREM_11500","TD",{"$f":"+'Incoming Remittances (Volume)'!$H$5","v":"20241130"},{"$f":"+'COVER SHEET'!$D$12","v":0},11500,{"$f":"'COVER SHEET'!$D$16&IF(MID('COVER SHEET'!$I$18,6,10)=\"december\",\"1231\",IF(MID('COVER SHEET'!$I$18,6,10)=\"june\",\"0630\"))","v":"20241231"},{"$f":"+'Incoming Remittances (Volume)'!H52","v":0}]
["CMREM_11500","CL",{"$f":"+'Incoming Remittances (Volume)'!$H$5","v":"20241130"},{"$f":"+'COVER SHEET'!$D$12","v":0},11500,{"$f":"'COVER SHEET'!$D$16&IF(MID('COVER SHEET'!$I$18,6,10)=\"december\",\"1231\",IF(MID('COVER SHEET'!$I$18,6,10)=\"june\",\"0630\"))","v":"20241231"},{"$f":"+'Incoming Remittances (Volume)'!H53","v":0}]
["CMREM_11500","CN",{"$f":"+'Incoming Remittances (Volume)'!$H$5","v":"20241130"},{"$f":"+'COVER SHEET'!$D$12","v":0},11500,{"$f":"'COVER SHEET'!$D$16&IF(MID('COVER SHEET'!$I$18,6,10)=\"december\",\"1231\",IF(MID('COVER SHEET'!$I$18,6,10)=\"june\",\"0630\"))","v":"20241231"},{"$f":"+'Incoming Remittances (Volume)'!H54","v":0}]
["CMREM_11500","CX",{"$f":"+'Incoming Remittances (Volume)'!$H$5","v":"20241130"},{"$f":"+'COVER SHEET'!$D$12","v":0},11500,{"$f":"'COVER SHEET'!$D$16&IF(MID('COVER SHEET'!$I$18,6,10)=\"december\",\"1231\",IF(MID('COVER SHEET'!$I$18,6,10)=\"june\",\"0630\"))","v":"20241231"},{"$f":"+'Incoming Remittances (Volume)'!H55","v":0}]
["CMREM_11500","CC",{"$f":"+'Incoming Remittances (Volume)'!$H$5","v":"20241130"},{"$f":"+'COVER SHEET'!$D$12","v":0},11500,{"$f":"'COVER SHEET'!$D$16&IF(MID('COVER SHEET'!$I$18,6,10)=\"december\",\"1231\",IF(MID('COVER SHEET'!$I$18,6,10)=\"june\",\"0630\"))","v":"20241231"},{"$f":"+'Incoming Remittances (Volume)'!H56","v":0}]
["CMREM_11500","CO",{"$f":"+'Incoming Remittances (Volume)'!$H$5","v":"20241130"},{"$f":"+'COVER SHEET'!$D$12","v":0},11500,{"$f":"'COVER SHEET'!$D$16&IF(MID('COVER SHEET'!$I$18,6,10)=\"december\",\"1231\",IF(MID('COVER SHEET'!$I$18,6,10)=\"june\",\"0630\"))","v":"20241231"},{"$f":"+'Incoming Remittances (Volume)'!H57","v":0}]
["CMREM_11500","KM",{"$f":"+'Incoming Remittances (Volume)'!$H$5","v":"20241130"},{"$f":"+'COVER SHEET'!$D$12","v":0},11500,{"$f":"'COVER SHEET'!$D$16&IF(MID('COVER SHEET'!$I$18,6,10)=\"december\",\"1231\",IF(MID('COVER SHEET'!$I$18,6,10)=\"june\",\"0630\"))","v":"20241231"},{"$f":"+'Incoming Remittances (Volume)'!H58","v":0}]
["CMREM_11500","CG",{"$f":"+'Incoming Remittances (Volume)'!$H$5","v":"20241130"},{"$f":"+'COVER SHEET'!$D$12","v":0},11500,{"$f":"'COVER SHEET'!$D$16&IF(MID('COVER SHEET'!$I$18,6,10)=\"december\",\"1231\",IF(MID('COVER SHEET'!$I$18,6,10)=\"june\",\"0630\"))","v":"20241231"},{"$f":"+'Incoming Remittances (Volume)'!H59","v":0}]
["CMREM_11500","CD",{"$f":"+'Incoming Remittances (Volume)'!$H$5","v":"20241130"},{"$f":"+'COVER SHEET'!$D$12","v":0},11500,{"$f":"'COVER SHEET'!$D$16&IF(MID('COVER SHEET'!$I$18,6,10)=\"december\",\"1231\",IF(MID('COVER SHEET'!$I$18,6,10)=\"june\",\"0630\"))","v":"20241231"},{"$f":"+'Incoming Remittances (Volume)'!H60","v":0}]
["CMREM_11500","CK",{"$f":"+'Incoming Remittances (Volume)'!$H$5","v":"20241130"},{"$f":"+'COVER SHEET'!$D$12","v":0},11500,{"$f":"'COVER SHEET'!$D$16&IF(MID('COVER SHEET'!$I$18,6,10)=\"december\",\"1231\",IF(MID('COVER SHEET'!$I$18,6,10)=\"june\",\"0630\"))","v":"20241231"},{"$f":"+'Incoming Remittances (Volume)'!H61","v":0}]
["CMREM_11500","CR",{"$f":"+'Incoming Remittances (Volume)'!$H$5","v":"20241130"},{"$f":"+'COVER SHEET'!$D$12","v":0},11500,{"$f":"'COVER SHEET'!$D$16&IF(MID('COVER SHEET'!$I$18,6,10)=\"december\",\"1231\",IF(MID('COVER SHEET'!$I$18,6,10)=\"june\",\"0630\"))","v":"20241231"},{"$f":"+'Incoming Remittances (Volume)'!H62","v":0}]
["CMREM_11500","HR",{"$f":"+'Incoming Remittances (Volume)'!$H$5","v":"20241130"},{"$f":"+'COVER SHEET'!$D$12","v":0},11500,{"$f":"'COVER SHEET'!$D$16&IF(MID('COVER SHEET'!$I$18,6,10)=\"december\",\"1231\",IF(MID('COVER SHEET'!$I$18,6,10)=\"june\",\"0630\"))","v":"20241231"},{"$f":"+'Incoming Remittances (Volume)'!H63","v":0}]
["CMREM_11500","CU",{"$f":"+'Incoming Remittances (Volume)'!$H$5","v":"20241130"},{"$f":"+'COVER SHEET'!$D$12","v":0},11500,{"$f":"'COVER SHEET'!$D$16&IF(MID('COVER SHEET'!$I$18,6,10)=\"december\",\"1231\",IF(MID('COVER SHEET'!$I$18,6,10)=\"june\",\"0630\"))","v":"20241231"},{"$f":"+'Incoming Remittances (Volume)'!H64","v":0}]
["CMREM_11500","CW",{"$f":"+'Incoming Remittances (Volume)'!$H$5","v":"20241130"},{"$f":"+'COVER SHEET'!$D$12","v":0},11500,{"$f":"'COVER SHEET'!$D$16&IF(MID('COVER SHEET'!$I$18,6,10)=\"december\",\"1231\",IF(MID('COVER SHEET'!$I$18,6,10)=\"june\",\"0630\"))","v":"20241231"},{"$f":"+'Incoming Remittances (Volume)'!H65","v":0}]
["CMREM_11500","CY",{"$f":"+'Incoming Remittances (Volume)'!$H$5","v":"20241130"},{"$f":"+'COVER SHEET'!$D$12","v":0},11500,{"$f":"'COVER SHEET'!$D$16&IF(MID('COVER SHEET'!$I$18,6,10)=\"december\",\"1231\",IF(MID('COVER SHEET'!$I$18,6,10)=\"june\",\"0630\"))","v":"20241231"},{"$f":"+'Incoming Remittances (Volume)'!H66","v":0}]
["CMREM_11500","CZ",{"$f":"+'Incoming Remittances (Volume)'!$H$5","v":"20241130"},{"$f":"+'COVER SHEET'!$D$12","v":0},11500,{"$f":"'COVER SHEET'!$D$16&IF(MID('COVER SHEET'!$I$18,6,10)=\"december\",\"1231\",IF(MID('COVER SHEET'!$I$18,6,10)=\"june\",\"0630\"))","v":"20241231"},{"$f":"+'Incoming Remittances (Volume)'!H67","v":0}]
["CMREM_11500","DK",{"$f":"+'Incoming Remittances (Volume)'!$H$5","v":"20241130"},{"$f":"+'COVER SHEET'!$D$12","v":0},11500,{"$f":"'COVER SHEET'!$D$16&IF(MID('COVER SHEET'!$I$18,6,10)=\"december\",\"1231\",IF(MID('COVER SHEET'!$I$18,6,10)=\"june\",\"0630\"))","v":"20241231"},{"$f":"+'Incoming Remittances (Volume)'!H68","v":0}]
["CMREM_11500","DJ",{"$f":"+'Incoming Remittances (Volume)'!$H$5","v":"20241130"},{"$f":"+'COVER SHEET'!$D$12","v":0},11500,{"$f":"'COVER SHEET'!$D$16&IF(MID('COVER SHEET'!$I$18,6,10)=\"december\",\"1231\",IF(MID('COVER SHEET'!$I$18,6,10)=\"june\",\"0630\"))","v":"20241231"},{"$f":"+'Incoming Remittances (Volume)'!H69","v":0}]
["CMREM_11500","DM",{"$f":"+'Incoming Remittances (Volume)'!$H$5","v":"20241130"},{"$f":"+'COVER SHEET'!$D$12","v":0},11500,{"$f":"'COVER SHEET'!$D$16&IF(MID('COVER SHEET'!$I$18,6,10)=\"december\",\"1231\",IF(MID('COVER SHEET'!$I$18,6,10)=\"june\",\"0630\"))","v":"20241231"},{"$f":"+'Incoming Remittances (Volume)'!H70","v":0}]
["CMREM_11500","DO",{"$f":"+'Incoming Remittances (Volume)'!$H$5","v":"20241130"},{"$f":"+'COVER SHEET'!$D$12","v":0},11500,{"$f":"'COVER SHEET'!$D$16&IF(MID('COVER SHEET'!$I$18,6,10)=\"december\",\"1231\",IF(MID('COVER SHEET'!$I$18,6,10)=\"june\",\"0630\"))","v":"20241231"},{"$f":"+'Incoming Remittances (Volume)'!H71","v":0}]
["CMREM_11500","TL",{"$f":"+'Incoming Remittances (Volume)'!$H$5","v":"20241130"},{"$f":"+'COVER SHEET'!$D$12","v":0},11500,{"$f":"'COVER SHEET'!$D$16&IF(MID('COVER SHEET'!$I$18,6,10)=\"december\",\"1231\",IF(MID('COVER SHEET'!$I$18,6,10)=\"june\",\"0630\"))","v":"20241231"},{"$f":"+'Incoming Remittances (Volume)'!H72","v":0}]
["CMREM_11500","EC",{"$f":"+'Incoming Remittances (Volume)'!$H$5","v":"20241130"},{"$f":"+'COVER SHEET'!$D$12","v":0},11500,{"$f":"'COVER SHEET'!$D$16&IF(MID('COVER SHEET'!$I$18,6,10)=\"december\",\"1231\",IF(MID('COVER SHEET'!$I$18,6,10)=\"june\",\"0630\"))","v":"20241231"},{"$f":"+'Incoming Remittances (Volume)'!H73","v":0}]
["CMREM_11500","EG",{"$f":"+'Incoming Remittances (Volume)'!$H$5","v":"20241130"},{"$f":"+'COVER SHEET'!$D$12","v":0},11500,{"$f":"'COVER SHEET'!$D$16&IF(MID('COVER SHEET'!$I$18,6,10)=\"december\",\"1231\",IF(MID('COVER SHEET'!$I$18,6,10)=\"june\",\"0630\"))","v":"20241231"},{"$f":"+'Incoming Remittances (Volume)'!H74","v":0}]
["CMREM_11500","SV",{"$f":"+'Incoming Remittances (Volume)'!$H$5","v":"20241130"},{"$f":"+'COVER SHEET'!$D$12","v":0},11500,{"$f":"'COVER SHEET'!$D$16&IF(MID('COVER SHEET'!$I$18,6,10)=\"december\",\"1231\",IF(MID('COVER SHEET'!$I$18,6,10)=\"june\",\"0630\"))","v":"20241231"},{"$f":"+'Incoming Remittances (Volume)'!H75","v":0}]
["CMREM_11500","GQ",{"$f":"+'Incoming Remittances (Volume)'!$H$5","v":"20241130"},{"$f":"+'COVER SHEET'!$D$12","v":0},11500,{"$f":"'COVER SHEET'!$D$16&IF(MID('COVER SHEET'!$I$18,6,10)=\"december\",\"1231\",IF(MID('COVER SHEET'!$I$18,6,10)=\"june\",\"0630\"))","v":"20241231"},{"$f":"+'Incoming Remittances (Volume)'!H76","v":0}]
["CMREM_11500","ER",{"$f":"+'Incoming Remittances (Volume)'!$H$5","v":"20241130"},{"$f":"+'COVER SHEET'!$D$12","v":0},11500,{"$f":"'COVER SHEET'!$D$16&IF(MID('COVER SHEET'!$I$18,6,10)=\"december\",\"1231\",IF(MID('COVER SHEET'!$I$18,6,10)=\"june\",\"0630\"))","v":"20241231"},{"$f":"+'Incoming Remittances (Volume)'!H77","v":0}]
["CMREM_11500","EE",{"$f":"+'Incoming Remittances (Volume)'!$H$5","v":"20241130"},{"$f":"+'COVER SHEET'!$D$12","v":0},11500,{"$f":"'COVER SHEET'!$D$16&IF(MID('COVER SHEET'!$I$18,6,10)=\"december\",\"1231\",IF(MID('COVER SHEET'!$I$18,6,10)=\"june\",\"0630\"))","v":"20241231"},{"$f":"+'Incoming Remittances (Volume)'!H78","v":0}]
["CMREM_11500","ET",{"$f":"+'Incoming Remittances (Volume)'!$H$5","v":"20241130"},{"$f":"+'COVER SHEET'!$D$12","v":0},11500,{"$f":"'COVER SHEET'!$D$16&IF(MID('COVER SHEET'!$I$18,6,10)=\"december\",\"1231\",IF(MID('COVER SHEET'!$I$18,6,10)=\"june\",\"0630\"))","v":"20241231"},{"$f":"+'Incoming Remittances (Volume)'!H79","v":0}]
["CMREM_11500","FK",{"$f":"+'Incoming Remittances (Volume)'!$H$5","v":"20241130"},{"$f":"+'COVER SHEET'!$D$12","v":0},11500,{"$f":"'COVER SHEET'!$D$16&IF(MID('COVER SHEET'!$I$18,6,10)=\"december\",\"1231\",IF(MID('COVER SHEET'!$I$18,6,10)=\"june\",\"0630\"))","v":"20241231"},{"$f":"+'Incoming Remittances (Volume)'!H80","v":0}]
["CMREM_11500","FO",{"$f":"+'Incoming Remittances (Volume)'!$H$5","v":"20241130"},{"$f":"+'COVER SHEET'!$D$12","v":0},11500,{"$f":"'COVER SHEET'!$D$16&IF(MID('COVER SHEET'!$I$18,6,10)=\"december\",\"1231\",IF(MID('COVER SHEET'!$I$18,6,10)=\"june\",\"0630\"))","v":"20241231"},{"$f":"+'Incoming Remittances (Volume)'!H81","v":0}]
["CMREM_11500","FJ",{"$f":"+'Incoming Remittances (Volume)'!$H$5","v":"20241130"},{"$f":"+'COVER SHEET'!$D$12","v":0},11500,{"$f":"'COVER SHEET'!$D$16&IF(MID('COVER SHEET'!$I$18,6,10)=\"december\",\"1231\",IF(MID('COVER SHEET'!$I$18,6,10)=\"june\",\"0630\"))","v":"20241231"},{"$f":"+'Incoming Remittances (Volume)'!H82","v":0}]
["CMREM_11500","FI",{"$f":"+'Incoming Remittances (Volume)'!$H$5","v":"20241130"},{"$f":"+'COVER SHEET'!$D$12","v":0},11500,{"$f":"'COVER SHEET'!$D$16&IF(MID('COVER SHEET'!$I$18,6,10)=\"december\",\"1231\",IF(MID('COVER SHEET'!$I$18,6,10)=\"june\",\"0630\"))","v":"20241231"},{"$f":"+'Incoming Remittances (Volume)'!H83","v":0}]
["CMREM_11500","FR",{"$f":"+'Incoming Remittances (Volume)'!$H$5","v":"20241130"},{"$f":"+'COVER SHEET'!$D$12","v":0},11500,{"$f":"'COVER SHEET'!$D$16&IF(MID('COVER SHEET'!$I$18,6,10)=\"december\",\"1231\",IF(MID('COVER SHEET'!$I$18,6,10)=\"june\",\"0630\"))","v":"20241231"},{"$f":"+'Incoming Remittances (Volume)'!H84","v":0}]
["CMREM_11500","PF",{"$f":"+'Incoming Remittances (Volume)'!$H$5","v":"20241130"},{"$f":"+'COVER SHEET'!$D$12","v":0},11500,{"$f":"'COVER SHEET'!$D$16&IF(MID('COVER SHEET'!$I$18,6,10)=\"december\",\"1231\",IF(MID('COVER SHEET'!$I$18,6,10)=\"june\",\"0630\"))","v":"20241231"},{"$f":"+'Incoming Remittances (Volume)'!H85","v":0}]
["CMREM_11500","TF",{"$f":"+'Incoming Remittances (Volume)'!$H$5","v":"20241130"},{"$f":"+'COVER SHEET'!$D$12","v":0},11500,{"$f":"'COVER SHEET'!$D$16&IF(MID('COVER SHEET'!$I$18,6,10)=\"december\",\"1231\",IF(MID('COVER SHEET'!$I$18,6,10)=\"june\",\"0630\"))","v":"20241231"},{"$f":"+'Incoming Remittances (Volume)'!H86","v":0}]
["CMREM_11500","GA",{"$f":"+'Incoming Remittances (Volume)'!$H$5","v":"20241130"},{"$f":"+'COVER SHEET'!$D$12","v":0},11500,{"$f":"'COVER SHEET'!$D$16&IF(MID('COVER SHEET'!$I$18,6,10)=\"december\",\"1231\",IF(MID('COVER SHEET'!$I$18,6,10)=\"june\",\"0630\"))","v":"20241231"},{"$f":"+'Incoming Remittances (Volume)'!H87","v":0}]
["CMREM_11500","GM",{"$f":"+'Incoming Remittances (Volume)'!$H$5","v":"20241130"},{"$f":"+'COVER SHEET'!$D$12","v":0},11500,{"$f":"'COVER SHEET'!$D$16&IF(MID('COVER SHEET'!$I$18,6,10)=\"december\",\"1231\",IF(MID('COVER SHEET'!$I$18,6,10)=\"june\",\"0630\"))","v":"20241231"},{"$f":"+'Incoming Remittances (Volume)'!H88","v":0}]
["CMREM_11500","GE",{"$f":"+'Incoming Remittances (Volume)'!$H$5","v":"20241130"},{"$f":"+'COVER SHEET'!$D$12","v":0},11500,{"$f":"'COVER SHEET'!$D$16&IF(MID('COVER SHEET'!$I$18,6,10)=\"december\",\"1231\",IF(MID('COVER SHEET'!$I$18,6,10)=\"june\",\"0630\"))","v":"20241231"},{"$f":"+'Incoming Remittances (Volume)'!H89","v":0}]
["CMREM_11500","DE",{"$f":"+'Incoming Remittances (Volume)'!$H$5","v":"20241130"},{"$f":"+'COVER SHEET'!$D$12","v":0},11500,{"$f":"'COVER SHEET'!$D$16&IF(MID('COVER SHEET'!$I$18,6,10)=\"december\",\"1231\",IF(MID('COVER SHEET'!$I$18,6,10)=\"june\",\"0630\"))","v":"20241231"},{"$f":"+'Incoming Remittances (Volume)'!H90","v":0}]
["CMREM_11500","GH",{"$f":"+'Incoming Remittances (Volume)'!$H$5","v":"20241130"},{"$f":"+'COVER SHEET'!$D$12","v":0},11500,{"$f":"'COVER SHEET'!$D$16&IF(MID('COVER SHEET'!$I$18,6,10)=\"december\",\"1231\",IF(MID('COVER SHEET'!$I$18,6,10)=\"june\",\"0630\"))","v":"20241231"},{"$f":"+'Incoming Remittances (Volume)'!H91","v":0}]
["CMREM_11500","GI",{"$f":"+'Incoming Remittances (Volume)'!$H$5","v":"20241130"},{"$f":"+'COVER SHEET'!$D$12","v":0},11500,{"$f":"'COVER SHEET'!$D$16&IF(MID('COVER SHEET'!$I$18,6,10)=\"december\",\"1231\",IF(MID('COVER SHEET'!$I$18,6,10)=\"june\",\"0630\"))","v":"20241231"},{"$f":"+'Incoming Remittances (Volume)'!H92","v":0}]
["CMREM_11500","GR",{"$f":"+'Incoming Remittances (Volume)'!$H$5","v":"20241130"},{"$f":"+'COVER SHEET'!$D$12","v":0},11500,{"$f":"'COVER SHEET'!$D$16&IF(MID('COVER SHEET'!$I$18,6,10)=\"december\",\"1231\",IF(MID('COVER SHEET'!$I$18,6,10)=\"june\",\"0630\"))","v":"20241231"},{"$f":"+'Incoming Remittances (Volume)'!H93","v":0}]
["CMREM_11500","GL",{"$f":"+'Incoming Remittances (Volume)'!$H$5","v":"20241130"},{"$f":"+'COVER SHEET'!$D$12","v":0},11500,{"$f":"'COVER SHEET'!$D$16&IF(MID('COVER SHEET'!$I$18,6,10)=\"december\",\"1231\",IF(MID('COVER SHEET'!$I$18,6,10)=\"june\",\"0630\"))","v":"20241231"},{"$f":"+'Incoming Remittances (Volume)'!H94","v":0}]
["CMREM_11500","GD",{"$f":"+'Incoming Remittances (Volume)'!$H$5","v":"20241130"},{"$f":"+'COVER SHEET'!$D$12","v":0},11500,{"$f":"'COVER SHEET'!$D$16&IF(MID('COVER SHEET'!$I$18,6,10)=\"december\",\"1231\",IF(MID('COVER SHEET'!$I$18,6,10)=\"june\",\"0630\"))","v":"20241231"},{"$f":"+'Incoming Remittances (Volume)'!H95","v":0}]
["CMREM_11500","GU",{"$f":"+'Incoming Remittances (Volume)'!$H$5","v":"20241130"},{"$f":"+'COVER SHEET'!$D$12","v":0},11500,{"$f":"'COVER SHEET'!$D$16&IF(MID('COVER SHEET'!$I$18,6,10)=\"december\",\"1231\",IF(MID('COVER SHEET'!$I$18,6,10)=\"june\",\"0630\"))","v":"20241231"},{"$f":"+'Incoming Remittances (Volume)'!H96","v":0}]
["CMREM_11500","GT",{"$f":"+'Incoming Remittances (Volume)'!$H$5","v":"20241130"},{"$f":"+'COVER SHEET'!$D$12","v":0},11500,{"$f":"'COVER SHEET'!$D$16&IF(MID('COVER SHEET'!$I$18,6,10)=\"december\",\"1231\",IF(MID('COVER SHEET'!$I$18,6,10)=\"june\",\"0630\"))","v":"20241231"},{"$f":"+'Incoming Remittances (Volume)'!H97","v":0}]
["CMREM_11500","GG",{"$f":"+'Incoming Remittances (Volume)'!$H$5","v":"20241130"},{"$f":"+'COVER SHEET'!$D$12","v":0},11500,{"$f":"'COVER SHEET'!$D$16&IF(MID('COVER SHEET'!$I$18,6,10)=\"december\",\"1231\",IF(MID('COVER SHEET'!$I$18,6,10)=\"june\",\"0630\"))","v":"20241231"},{"$f":"+'Incoming Remittances (Volume)'!H98","v":0}]
["CMREM_11500","GN",{"$f":"+'Incoming Remittances (Volume)'!$H$5","v":"20241130"},{"$f":"+'COVER SHEET'!$D$12","v":0},11500,{"$f":"'COVER SHEET'!$D$16&IF(MID('COVER SHEET'!$I$18,6,10)=\"december\",\"1231\",IF(MID('COVER SHEET'!$I$18,6,10)=\"june\",\"0630\"))","v":"20241231"},{"$f":"+'Incoming Remittances (Volume)'!H99","v":0}]
["CMREM_11500","GW",{"$f":"+'Incoming Remittances (Volume)'!$H$5","v":"20241130"},{"$f":"+'COVER SHEET'!$D$12","v":0},11500,{"$f":"'COVER SHEET'!$D$16&IF(MID('COVER SHEET'!$I$18,6,10)=\"december\",\"1231\",IF(MID('COVER SHEET'!$I$18,6,10)=\"june\",\"0630\"))","v":"20241231"},{"$f":"+'Incoming Remittances (Volume)'!H100","v":0}]
["CMREM_11500","GY",{"$f":"+'Incoming Remittances (Volume)'!$H$5","v":"20241130"},{"$f":"+'COVER SHEET'!$D$12","v":0},11500,{"$f":"'COVER SHEET'!$D$16&IF(MID('COVER SHEET'!$I$18,6,10)=\"december\",\"1231\",IF(MID('COVER SHEET'!$I$18,6,10)=\"june\",\"0630\"))","v":"20241231"},{"$f":"+'Incoming Remittances (Volume)'!H101","v":0}]
["CMREM_11500","HT",{"$f":"+'Incoming Remittances (Volume)'!$H$5","v":"20241130"},{"$f":"+'COVER SHEET'!$D$12","v":0},11500,{"$f":"'COVER SHEET'!$D$16&IF(MID('COVER SHEET'!$I$18,6,10)=\"december\",\"1231\",IF(MID('COVER SHEET'!$I$18,6,10)=\"june\",\"0630\"))","v":"20241231"},{"$f":"+'Incoming Remittances (Volume)'!H102","v":0}]
["CMREM_11500","HM",{"$f":"+'Incoming Remittances (Volume)'!$H$5","v":"20241130"},{"$f":"+'COVER SHEET'!$D$12","v":0},11500,{"$f":"'COVER SHEET'!$D$16&IF(MID('COVER SHEET'!$I$18,6,10)=\"december\",\"1231\",IF(MID('COVER SHEET'!$I$18,6,10)=\"june\",\"0630\"))","v":"20241231"},{"$f":"+'Incoming Remittances (Volume)'!H103","v":0}]
["CMREM_11500","VA",{"$f":"+'Incoming Remittances (Volume)'!$H$5","v":"20241130"},{"$f":"+'COVER SHEET'!$D$12","v":0},11500,{"$f":"'COVER SHEET'!$D$16&IF(MID('COVER SHEET'!$I$18,6,10)=\"december\",\"1231\",IF(MID('COVER SHEET'!$I$18,6,10)=\"june\",\"0630\"))","v":"20241231"},{"$f":"+'Incoming Remittances (Volume)'!H104","v":0}]
["CMREM_11500","HN",{"$f":"+'Incoming Remittances (Volume)'!$H$5","v":"20241130"},{"$f":"+'COVER SHEET'!$D$12","v":0},11500,{"$f":"'COVER SHEET'!$D$16&IF(MID('COVER SHEET'!$I$18,6,10)=\"december\",\"1231\",IF(MID('COVER SHEET'!$I$18,6,10)=\"june\",\"0630\"))","v":"20241231"},{"$f":"+'Incoming Remittances (Volume)'!H105","v":0}]
["CMREM_11500","HK",{"$f":"+'Incoming Remittances (Volume)'!$H$5","v":"20241130"},{"$f":"+'COVER SHEET'!$D$12","v":0},11500,{"$f":"'COVER SHEET'!$D$16&IF(MID('COVER SHEET'!$I$18,6,10)=\"december\",\"1231\",IF(MID('COVER SHEET'!$I$18,6,10)=\"june\",\"0630\"))","v":"20241231"},{"$f":"+'Incoming Remittances (Volume)'!H106","v":0}]
["CMREM_11500","HU",{"$f":"+'Incoming Remittances (Volume)'!$H$5","v":"20241130"},{"$f":"+'COVER SHEET'!$D$12","v":0},11500,{"$f":"'COVER SHEET'!$D$16&IF(MID('COVER SHEET'!$I$18,6,10)=\"december\",\"1231\",IF(MID('COVER SHEET'!$I$18,6,10)=\"june\",\"0630\"))","v":"20241231"},{"$f":"+'Incoming Remittances (Volume)'!H107","v":0}]
["CMREM_11500","IS",{"$f":"+'Incoming Remittances (Volume)'!$H$5","v":"20241130"},{"$f":"+'COVER SHEET'!$D$12","v":0},11500,{"$f":"'COVER SHEET'!$D$16&IF(MID('COVER SHEET'!$I$18,6,10)=\"december\",\"1231\",IF(MID('COVER SHEET'!$I$18,6,10)=\"june\",\"0630\"))","v":"20241231"},{"$f":"+'Incoming Remittances (Volume)'!H108","v":0}]
["CMREM_11500","IN",{"$f":"+'Incoming Remittances (Volume)'!$H$5","v":"20241130"},{"$f":"+'COVER SHEET'!$D$12","v":0},11500,{"$f":"'COVER SHEET'!$D$16&IF(MID('COVER SHEET'!$I$18,6,10)=\"december\",\"1231\",IF(MID('COVER SHEET'!$I$18,6,10)=\"june\",\"0630\"))","v":"20241231"},{"$f":"+'Incoming Remittances (Volume)'!H109","v":0}]
["CMREM_11500","ID",{"$f":"+'Incoming Remittances (Volume)'!$H$5","v":"20241130"},{"$f":"+'COVER SHEET'!$D$12","v":0},11500,{"$f":"'COVER SHEET'!$D$16&IF(MID('COVER SHEET'!$I$18,6,10)=\"december\",\"1231\",IF(MID('COVER SHEET'!$I$18,6,10)=\"june\",\"0630\"))","v":"20241231"},{"$f":"+'Incoming Remittances (Volume)'!H110","v":0}]
["CMREM_11500","IR",{"$f":"+'Incoming Remittances (Volume)'!$H$5","v":"20241130"},{"$f":"+'COVER SHEET'!$D$12","v":0},11500,{"$f":"'COVER SHEET'!$D$16&IF(MID('COVER SHEET'!$I$18,6,10)=\"december\",\"1231\",IF(MID('COVER SHEET'!$I$18,6,10)=\"june\",\"0630\"))","v":"20241231"},{"$f":"+'Incoming Remittances (Volume)'!H111","v":0}]
["CMREM_11500","IQ",{"$f":"+'Incoming Remittances (Volume)'!$H$5","v":"20241130"},{"$f":"+'COVER SHEET'!$D$12","v":0},11500,{"$f":"'COVER SHEET'!$D$16&IF(MID('COVER SHEET'!$I$18,6,10)=\"december\",\"1231\",IF(MID('COVER SHEET'!$I$18,6,10)=\"june\",\"0630\"))","v":"20241231"},{"$f":"+'Incoming Remittances (Volume)'!H112","v":0}]
["CMREM_11500","IE",{"$f":"+'Incoming Remittances (Volume)'!$H$5","v":"20241130"},{"$f":"+'COVER SHEET'!$D$12","v":0},11500,{"$f":"'COVER SHEET'!$D$16&IF(MID('COVER SHEET'!$I$18,6,10)=\"december\",\"1231\",IF(MID('COVER SHEET'!$I$18,6,10)=\"june\",\"0630\"))","v":"20241231"},{"$f":"+'Incoming Remittances (Volume)'!H113","v":0}]
["CMREM_11500","IM",{"$f":"+'Incoming Remittances (Volume)'!$H$5","v":"20241130"},{"$f":"+'COVER SHEET'!$D$12","v":0},11500,{"$f":"'COVER SHEET'!$D$16&IF(MID('COVER SHEET'!$I$18,6,10)=\"december\",\"1231\",IF(MID('COVER SHEET'!$I$18,6,10)=\"june\",\"0630\"))","v":"20241231"},{"$f":"+'Incoming Remittances (Volume)'!H114","v":0}]
["CMREM_11500","IL",{"$f":"+'Incoming Remittances (Volume)'!$H$5","v":"20241130"},{"$f":"+'COVER SHEET'!$D$12","v":0},11500,{"$f":"'COVER SHEET'!$D$16&IF(MID('COVER SHEET'!$I$18,6,10)=\"december\",\"1231\",IF(MID('COVER SHEET'!$I$18,6,10)=\"june\",\"0630\"))","v":"20241231"},{"$f":"+'Incoming Remittances (Volume)'!H115","v":0}]
["CMREM_11500","IT",{"$f":"+'Incoming Remittances (Volume)'!$H$5","v":"20241130"},{"$f":"+'COVER SHEET'!$D$12","v":0},11500,{"$f":"'COVER SHEET'!$D$16&IF(MID('COVER SHEET'!$I$18,6,10)=\"december\",\"1231\",IF(MID('COVER SHEET'!$I$18,6,10)=\"june\",\"0630\"))","v":"20241231"},{"$f":"+'Incoming Remittances (Volume)'!H116","v":0}]
["CMREM_11500","CI",{"$f":"+'Incoming Remittances (Volume)'!$H$5","v":"20241130"},{"$f":"+'COVER SHEET'!$D$12","v":0},11500,{"$f":"'COVER SHEET'!$D$16&IF(MID('COVER SHEET'!$I$18,6,10)=\"december\",\"1231\",IF(MID('COVER SHEET'!$I$18,6,10)=\"june\",\"0630\"))","v":"20241231"},{"$f":"+'Incoming Remittances (Volume)'!H117","v":0}]
["CMREM_11500","JM",{"$f":"+'Incoming Remittances (Volume)'!$H$5","v":"20241130"},{"$f":"+'COVER SHEET'!$D$12","v":0},11500,{"$f":"'COVER SHEET'!$D$16&IF(MID('COVER SHEET'!$I$18,6,10)=\"december\",\"1231\",IF(MID('COVER SHEET'!$I$18,6,10)=\"june\",\"0630\"))","v":"20241231"},{"$f":"+'Incoming Remittances (Volume)'!H118","v":0}]
["CMREM_11500","JP",{"$f":"+'Incoming Remittances (Volume)'!$H$5","v":"20241130"},{"$f":"+'COVER SHEET'!$D$12","v":0},11500,{"$f":"'COVER SHEET'!$D$16&IF(MID('COVER SHEET'!$I$18,6,10)=\"december\",\"1231\",IF(MID('COVER SHEET'!$I$18,6,10)=\"june\",\"0630\"))","v":"20241231"},{"$f":"+'Incoming Remittances (Volume)'!H119","v":0}]
["CMREM_11500","JE",{"$f":"+'Incoming Remittances (Volume)'!$H$5","v":"20241130"},{"$f":"+'COVER SHEET'!$D$12","v":0},11500,{"$f":"'COVER SHEET'!$D$16&IF(MID('COVER SHEET'!$I$18,6,10)=\"december\",\"1231\",IF(MID('COVER SHEET'!$I$18,6,10)=\"june\",\"0630\"))","v":"20241231"},{"$f":"+'Incoming Remittances (Volume)'!H120","v":0}]
["CMREM_11500","JO",{"$f":"+'Incoming Remittances (Volume)'!$H$5","v":"20241130"},{"$f":"+'COVER SHEET'!$D$12","v":0},11500,{"$f":"'COVER SHEET'!$D$16&IF(MID('COVER SHEET'!$I$18,6,10)=\"december\",\"1231\",IF(MID('COVER SHEET'!$I$18,6,10)=\"june\",\"0630\"))","v":"20241231"},{"$f":"+'Incoming Remittances (Volume)'!H121","v":0}]
["CMREM_11500","KZ",{"$f":"+'Incoming Remittances (Volume)'!$H$5","v":"20241130"},{"$f":"+'COVER SHEET'!$D$12","v":0},11500,{"$f":"'COVER SHEET'!$D$16&IF(MID('COVER SHEET'!$I$18,6,10)=\"december\",\"1231\",IF(MID('COVER SHEET'!$I$18,6,10)=\"june\",\"0630\"))","v":"20241231"},{"$f":"+'Incoming Remittances (Volume)'!H122","v":0}]
["CMREM_11500","KE",{"$f":"+'Incoming Remittances (Volume)'!$H$5","v":"20241130"},{"$f":"+'COVER SHEET'!$D$12","v":0},11500,{"$f":"'COVER SHEET'!$D$16&IF(MID('COVER SHEET'!$I$18,6,10)=\"december\",\"1231\",IF(MID('COVER SHEET'!$I$18,6,10)=\"june\",\"0630\"))","v":"20241231"},{"$f":"+'Incoming Remittances (Volume)'!H123","v":0}]
["CMREM_11500","KI",{"$f":"+'Incoming Remittances (Volume)'!$H$5","v":"20241130"},{"$f":"+'COVER SHEET'!$D$12","v":0},11500,{"$f":"'COVER SHEET'!$D$16&IF(MID('COVER SHEET'!$I$18,6,10)=\"december\",\"1231\",IF(MID('COVER SHEET'!$I$18,6,10)=\"june\",\"0630\"))","v":"20241231"},{"$f":"+'Incoming Remittances (Volume)'!H124","v":0}]
["CMREM_11500","KP",{"$f":"+'Incoming Remittances (Volume)'!$H$5","v":"20241130"},{"$f":"+'COVER SHEET'!$D$12","v":0},11500,{"$f":"'COVER SHEET'!$D$16&IF(MID('COVER SHEET'!$I$18,6,10)=\"december\",\"1231\",IF(MID('COVER SHEET'!$I$18,6,10)=\"june\",\"0630\"))","v":"20241231"},{"$f":"+'Incoming Remittances (Volume)'!H125","v":0}]
["CMREM_11500","KR",{"$f":"+'Incoming Remittances (Volume)'!$H$5","v":"20241130"},{"$f":"+'COVER SHEET'!$D$12","v":0},11500,{"$f":"'COVER SHEET'!$D$16&IF(MID('COVER SHEET'!$I$18,6,10)=\"december\",\"1231\",IF(MID('COVER SHEET'!$I$18,6,10)=\"june\",\"0630\"))","v":"20241231"},{"$f":"+'Incoming Remittances (Volume)'!H126","v":0}]
["CMREM_11500","XK",{"$f":"+'Incoming Remittances (Volume)'!$H$5","v":"20241130"},{"$f":"+'COVER SHEET'!$D$12","v":0},11500,{"$f":"'COVER SHEET'!$D$16&IF(MID('COVER SHEET'!$I$18,6,10)=\"december\",\"1231\",IF(MID('COVER SHEET'!$I$18,6,10)=\"june\",\"0630\"))","v":"20241231"},{"$f":"+'Incoming Remittances (Volume)'!H127","v":0}]
["CMREM_11500","KW",{"$f":"+'Incoming Remittances (Volume)'!$H$5","v":"20241130"},{"$f":"+'COVER SHEET'!$D$12","v":0},11500,{"$f":"'COVER SHEET'!$D$16&IF(MID('COVER SHEET'!$I$18,6,10)=\"december\",\"1231\",IF(MID('COVER SHEET'!$I$18,6,10)=\"june\",\"0630\"))","v":"20241231"},{"$f":"+'Incoming Remittances (Volume)'!H128","v":0}]
["CMREM_11500","KG",{"$f":"+'Incoming Remittances (Volume)'!$H$5","v":"20241130"},{"$f":"+'COVER SHEET'!$D$12","v":0},11500,{"$f":"'COVER SHEET'!$D$16&IF(MID('COVER SHEET'!$I$18,6,10)=\"december\",\"1231\",IF(MID('COVER SHEET'!$I$18,6,10)=\"june\",\"0630\"))","v":"20241231"},{"$f":"+'Incoming Remittances (Volume)'!H129","v":0}]
["CMREM_11500","LA",{"$f":"+'Incoming Remittances (Volume)'!$H$5","v":"20241130"},{"$f":"+'COVER SHEET'!$D$12","v":0},11500,{"$f":"'COVER SHEET'!$D$16&IF(MID('COVER SHEET'!$I$18,6,10)=\"december\",\"1231\",IF(MID('COVER SHEET'!$I$18,6,10)=\"june\",\"0630\"))","v":"20241231"},{"$f":"+'Incoming Remittances (Volume)'!H130","v":0}]
["CMREM_11500","LV",{"$f":"+'Incoming Remittances (Volume)'!$H$5","v":"20241130"},{"$f":"+'COVER SHEET'!$D$12","v":0},11500,{"$f":"'COVER SHEET'!$D$16&IF(MID('COVER SHEET'!$I$18,6,10)=\"december\",\"1231\",IF(MID('COVER SHEET'!$I$18,6,10)=\"june\",\"0630\"))","v":"20241231"},{"$f":"+'Incoming Remittances (Volume)'!H131","v":0}]
["CMREM_11500","LB",{"$f":"+'Incoming Remittances (Volume)'!$H$5","v":"20241130"},{"$f":"+'COVER SHEET'!$D$12","v":0},11500,{"$f":"'COVER SHEET'!$D$16&IF(MID('COVER SHEET'!$I$18,6,10)=\"december\",\"1231\",IF(MID('COVER SHEET'!$I$18,6,10)=\"june\",\"0630\"))","v":"20241231"},{"$f":"+'Incoming Remittances (Volume)'!H132","v":0}]
["CMREM_11500","LS",{"$f":"+'Incoming Remittances (Volume)'!$H$5","v":"20241130"},{"$f":"+'COVER SHEET'!$D$12","v":0},11500,{"$f":"'COVER SHEET'!$D$16&IF(MID('COVER SHEET'!$I$18,6,10)=\"december\",\"1231\",IF(MID('COVER SHEET'!$I$18,6,10)=\"june\",\"0630\"))","v":"20241231"},{"$f":"+'Incoming Remittances (Volume)'!H133","v":0}]
["CMREM_11500","LR",{"$f":"+'Incoming Remittances (Volume)'!$H$5","v":"20241130"},{"$f":"+'COVER SHEET'!$D$12","v":0},11500,{"$f":"'COVER SHEET'!$D$16&IF(MID('COVER SHEET'!$I$18,6,10)=\"december\",\"1231\",IF(MID('COVER SHEET'!$I$18,6,10)=\"june\",\"0630\"))","v":"20241231"},{"$f":"+'Incoming Remittances (Volume)'!H134","v":0}]
["CMREM_11500","LY",{"$f":"+'Incoming Remittances (Volume)'!$H$5","v":"20241130"},{"$f":"+'COVER SHEET'!$D$12","v":0},11500,{"$f":"'COVER SHEET'!$D$16&IF(MID('COVER SHEET'!$I$18,6,10)=\"december\",\"1231\",IF(MID('COVER SHEET'!$I$18,6,10)=\"june\",\"0630\"))","v":"20241231"},{"$f":"+'Incoming Remittances (Volume)'!H135","v":0}]
["CMREM_11500","LI",{"$f":"+'Incoming Remittances (Volume)'!$H$5","v":"20241130"},{"$f":"+'COVER SHEET'!$D$12","v":0},11500,{"$f":"'COVER SHEET'!$D$16&IF(MID('COVER SHEET'!$I$18,6,10)=\"december\",\"1231\",IF(MID('COVER SHEET'!$I$18,6,10)=\"june\",\"0630\"))","v":"20241231"},{"$f":"+'Incoming Remittances (Volume)'!H136","v":0}]
["CMREM_11500","LT",{"$f":"+'Incoming Remittances (Volume)'!$H$5","v":"20241130"},{"$f":"+'COVER SHEET'!$D$12","v":0},11500,{"$f":"'COVER SHEET'!$D$16&IF(MID('COVER SHEET'!$I$18,6,10)=\"december\",\"1231\",IF(MID('COVER SHEET'!$I$18,6,10)=\"june\",\"0630\"))","v":"20241231"},{"$f":"+'Incoming Remittances (Volume)'!H137","v":0}]
["CMREM_11500","LU",{"$f":"+'Incoming Remittances (Volume)'!$H$5","v":"20241130"},{"$f":"+'COVER SHEET'!$D$12","v":0},11500,{"$f":"'COVER SHEET'!$D$16&IF(MID('COVER SHEET'!$I$18,6,10)=\"december\",\"1231\",IF(MID('COVER SHEET'!$I$18,6,10)=\"june\",\"0630\"))","v":"20241231"},{"$f":"+'Incoming Remittances (Volume)'!H138","v":0}]
["CMREM_11500","MO",{"$f":"+'Incoming Remittances (Volume)'!$H$5","v":"20241130"},{"$f":"+'COVER SHEET'!$D$12","v":0},11500,{"$f":"'COVER SHEET'!$D$16&IF(MID('COVER SHEET'!$I$18,6,10)=\"december\",\"1231\",IF(MID('COVER SHEET'!$I$18,6,10)=\"june\",\"0630\"))","v":"20241231"},{"$f":"+'Incoming Remittances (Volume)'!H139","v":0}]
["CMREM_11500","MK",{"$f":"+'Incoming Remittances (Volume)'!$H$5","v":"20241130"},{"$f":"+'COVER SHEET'!$D$12","v":0},11500,{"$f":"'COVER SHEET'!$D$16&IF(MID('COVER SHEET'!$I$18,6,10)=\"december\",\"1231\",IF(MID('COVER SHEET'!$I$18,6,10)=\"june\",\"0630\"))","v":"20241231"},{"$f":"+'Incoming Remittances (Volume)'!H140","v":0}]
["CMREM_11500","MG",{"$f":"+'Incoming Remittances (Volume)'!$H$5","v":"20241130"},{"$f":"+'COVER SHEET'!$D$12","v":0},11500,{"$f":"'COVER SHEET'!$D$16&IF(MID('COVER SHEET'!$I$18,6,10)=\"december\",\"1231\",IF(MID('COVER SHEET'!$I$18,6,10)=\"june\",\"0630\"))","v":"20241231"},{"$f":"+'Incoming Remittances (Volume)'!H141","v":0}]
["CMREM_11500","MW",{"$f":"+'Incoming Remittances (Volume)'!$H$5","v":"20241130"},{"$f":"+'COVER SHEET'!$D$12","v":0},11500,{"$f":"'COVER SHEET'!$D$16&IF(MID('COVER SHEET'!$I$18,6,10)=\"december\",\"1231\",IF(MID('COVER SHEET'!$I$18,6,10)=\"june\",\"0630\"))","v":"20241231"},{"$f":"+'Incoming Remittances (Volume)'!H142","v":0}]
["CMREM_11500","MY",{"$f":"+'Incoming Remittances (Volume)'!$H$5","v":"20241130"},{"$f":"+'COVER SHEET'!$D$12","v":0},11500,{"$f":"'COVER SHEET'!$D$16&IF(MID('COVER SHEET'!$I$18,6,10)=\"december\",\"1231\",IF(MID('COVER SHEET'!$I$18,6,10)=\"june\",\"0630\"))","v":"20241231"},{"$f":"+'Incoming Remittances (Volume)'!H143","v":0}]
["CMREM_11500","MV",{"$f":"+'Incoming Remittances (Volume)'!$H$5","v":"20241130"},{"$f":"+'COVER SHEET'!$D$12","v":0},11500,{"$f":"'COVER SHEET'!$D$16&IF(MID('COVER SHEET'!$I$18,6,10)=\"december\",\"1231\",IF(MID('COVER SHEET'!$I$18,6,10)=\"june\",\"0630\"))","v":"20241231"},{"$f":"+'Incoming Remittances (Volume)'!H144","v":0}]
["CMREM_11500","ML",{"$f":"+'Incoming Remittances (Volume)'!$H$5","v":"20241130"},{"$f":"+'COVER SHEET'!$D$12","v":0},11500,{"$f":"'COVER SHEET'!$D$16&IF(MID('COVER SHEET'!$I$18,6,10)=\"december\",\"1231\",IF(MID('COVER SHEET'!$I$18,6,10)=\"june\",\"0630\"))","v":"20241231"},{"$f":"+'Incoming Remittances (Volume)'!H145","v":0}]
["CMREM_11500","MH",{"$f":"+'Incoming Remittances (Volume)'!$H$5","v":"20241130"},{"$f":"+'COVER SHEET'!$D$12","v":0},11500,{"$f":"'COVER SHEET'!$D$16&IF(MID('COVER SHEET'!$I$18,6,10)=\"december\",\"1231\",IF(MID('COVER SHEET'!$I$18,6,10)=\"june\",\"0630\"))","v":"20241231"},{"$f":"+'Incoming Remittances (Volume)'!H146","v":0}]
["CMREM_11500","MR",{"$f":"+'Incoming Remittances (Volume)'!$H$5","v":"20241130"},{"$f":"+'COVER SHEET'!$D$12","v":0},11500,{"$f":"'COVER SHEET'!$D$16&IF(MID('COVER SHEET'!$I$18,6,10)=\"december\",\"1231\",IF(MID('COVER SHEET'!$I$18,6,10)=\"june\",\"0630\"))","v":"20241231"},{"$f":"+'Incoming Remittances (Volume)'!H147","v":0}]
["CMREM_11500","MU",{"$f":"+'Incoming Remittances (Volume)'!$H$5","v":"20241130"},{"$f":"+'COVER SHEET'!$D$12","v":0},11500,{"$f":"'COVER SHEET'!$D$16&IF(MID('COVER SHEET'!$I$18,6,10)=\"december\",\"1231\",IF(MID('COVER SHEET'!$I$18,6,10)=\"june\",\"0630\"))","v":"20241231"},{"$f":"+'Incoming Remittances (Volume)'!H148","v":0}]
["CMREM_11500","MX",{"$f":"+'Incoming Remittances (Volume)'!$H$5","v":"20241130"},{"$f":"+'COVER SHEET'!$D$12","v":0},11500,{"$f":"'COVER SHEET'!$D$16&IF(MID('COVER SHEET'!$I$18,6,10)=\"december\",\"1231\",IF(MID('COVER SHEET'!$I$18,6,10)=\"june\",\"0630\"))","v":"20241231"},{"$f":"+'Incoming Remittances (Volume)'!H149","v":0}]
["CMREM_11500","FM",{"$f":"+'Incoming Remittances (Volume)'!$H$5","v":"20241130"},{"$f":"+'COVER SHEET'!$D$12","v":0},11500,{"$f":"'COVER SHEET'!$D$16&IF(MID('COVER SHEET'!$I$18,6,10)=\"december\",\"1231\",IF(MID('COVER SHEET'!$I$18,6,10)=\"june\",\"0630\"))","v":"20241231"},{"$f":"+'Incoming Remittances (Volume)'!H150","v":0}]
["CMREM_11500","MD",{"$f":"+'Incoming Remittances (Volume)'!$H$5","v":"20241130"},{"$f":"+'COVER SHEET'!$D$12","v":0},11500,{"$f":"'COVER SHEET'!$D$16&IF(MID('COVER SHEET'!$I$18,6,10)=\"december\",\"1231\",IF(MID('COVER SHEET'!$I$18,6,10)=\"june\",\"0630\"))","v":"20241231"},{"$f":"+'Incoming Remittances (Volume)'!H151","v":0}]
["CMREM_11500","MN",{"$f":"+'Incoming Remittances (Volume)'!$H$5","v":"20241130"},{"$f":"+'COVER SHEET'!$D$12","v":0},11500,{"$f":"'COVER SHEET'!$D$16&IF(MID('COVER SHEET'!$I$18,6,10)=\"december\",\"1231\",IF(MID('COVER SHEET'!$I$18,6,10)=\"june\",\"0630\"))","v":"20241231"},{"$f":"+'Incoming Remittances (Volume)'!H152","v":0}]
["CMREM_11500","ME",{"$f":"+'Incoming Remittances (Volume)'!$H$5","v":"20241130"},{"$f":"+'COVER SHEET'!$D$12","v":0},11500,{"$f":"'COVER SHEET'!$D$16&IF(MID('COVER SHEET'!$I$18,6,10)=\"december\",\"1231\",IF(MID('COVER SHEET'!$I$18,6,10)=\"june\",\"0630\"))","v":"20241231"},{"$f":"+'Incoming Remittances (Volume)'!H153","v":0}]
["CMREM_11500","MS",{"$f":"+'Incoming Remittances (Volume)'!$H$5","v":"20241130"},{"$f":"+'COVER SHEET'!$D$12","v":0},11500,{"$f":"'COVER SHEET'!$D$16&IF(MID('COVER SHEET'!$I$18,6,10)=\"december\",\"1231\",IF(MID('COVER SHEET'!$I$18,6,10)=\"june\",\"0630\"))","v":"20241231"},{"$f":"+'Incoming Remittances (Volume)'!H154","v":0}]
["CMREM_11500","MA",{"$f":"+'Incoming Remittances (Volume)'!$H$5","v":"20241130"},{"$f":"+'COVER SHEET'!$D$12","v":0},11500,{"$f":"'COVER SHEET'!$D$16&IF(MID('COVER SHEET'!$I$18,6,10)=\"december\",\"1231\",IF(MID('COVER SHEET'!$I$18,6,10)=\"june\",\"0630\"))","v":"20241231"},{"$f":"+'Incoming Remittances (Volume)'!H155","v":0}]
["CMREM_11500","MZ",{"$f":"+'Incoming Remittances (Volume)'!$H$5","v":"20241130"},{"$f":"+'COVER SHEET'!$D$12","v":0},11500,{"$f":"'COVER SHEET'!$D$16&IF(MID('COVER SHEET'!$I$18,6,10)=\"december\",\"1231\",IF(MID('COVER SHEET'!$I$18,6,10)=\"june\",\"0630\"))","v":"20241231"},{"$f":"+'Incoming Remittances (Volume)'!H156","v":0}]
["CMREM_11500","MM",{"$f":"+'Incoming Remittances (Volume)'!$H$5","v":"20241130"},{"$f":"+'COVER SHEET'!$D$12","v":0},11500,{"$f":"'COVER SHEET'!$D$16&IF(MID('COVER SHEET'!$I$18,6,10)=\"december\",\"1231\",IF(MID('COVER SHEET'!$I$18,6,10)=\"june\",\"0630\"))","v":"20241231"},{"$f":"+'Incoming Remittances (Volume)'!H157","v":0}]
["CMREM_11500","NA",{"$f":"+'Incoming Remittances (Volume)'!$H$5","v":"20241130"},{"$f":"+'COVER SHEET'!$D$12","v":0},11500,{"$f":"'COVER SHEET'!$D$16&IF(MID('COVER SHEET'!$I$18,6,10)=\"december\",\"1231\",IF(MID('COVER SHEET'!$I$18,6,10)=\"june\",\"0630\"))","v":"20241231"},{"$f":"+'Incoming Remittances (Volume)'!H158","v":0}]
["CMREM_11500","NR",{"$f":"+'Incoming Remittances (Volume)'!$H$5","v":"20241130"},{"$f":"+'COVER SHEET'!$D$12","v":0},11500,{"$f":"'COVER SHEET'!$D$16&IF(MID('COVER SHEET'!$I$18,6,10)=\"december\",\"1231\",IF(MID('COVER SHEET'!$I$18,6,10)=\"june\",\"0630\"))","v":"20241231"},{"$f":"+'Incoming Remittances (Volume)'!H159","v":0}]
["CMREM_11500","NP",{"$f":"+'Incoming Remittances (Volume)'!$H$5","v":"20241130"},{"$f":"+'COVER SHEET'!$D$12","v":0},11500,{"$f":"'COVER SHEET'!$D$16&IF(MID('COVER SHEET'!$I$18,6,10)=\"december\",\"1231\",IF(MID('COVER SHEET'!$I$18,6,10)=\"june\",\"0630\"))","v":"20241231"},{"$f":"+'Incoming Remittances (Volume)'!H160","v":0}]
["CMREM_11500","NL",{"$f":"+'Incoming Remittances (Volume)'!$H$5","v":"20241130"},{"$f":"+'COVER SHEET'!$D$12","v":0},11500,{"$f":"'COVER SHEET'!$D$16&IF(MID('COVER SHEET'!$I$18,6,10)=\"december\",\"1231\",IF(MID('COVER SHEET'!$I$18,6,10)=\"june\",\"0630\"))","v":"20241231"},{"$f":"+'Incoming Remittances (Volume)'!H161","v":0}]
["CMREM_11500","NC",{"$f":"+'Incoming Remittances (Volume)'!$H$5","v":"20241130"},{"$f":"+'COVER SHEET'!$D$12","v":0},11500,{"$f":"'COVER SHEET'!$D$16&IF(MID('COVER SHEET'!$I$18,6,10)=\"december\",\"1231\",IF(MID('COVER SHEET'!$I$18,6,10)=\"june\",\"0630\"))","v":"20241231"},{"$f":"+'Incoming Remittances (Volume)'!H162","v":0}]
["CMREM_11500","NZ",{"$f":"+'Incoming Remittances (Volume)'!$H$5","v":"20241130"},{"$f":"+'COVER SHEET'!$D$12","v":0},11500,{"$f":"'COVER SHEET'!$D$16&IF(MID('COVER SHEET'!$I$18,6,10)=\"december\",\"1231\",IF(MID('COVER SHEET'!$I$18,6,10)=\"june\",\"0630\"))","v":"20241231"},{"$f":"+'Incoming Remittances (Volume)'!H163","v":0}]
["CMREM_11500","NI",{"$f":"+'Incoming Remittances (Volume)'!$H$5","v":"20241130"},{"$f":"+'COVER SHEET'!$D$12","v":0},11500,{"$f":"'COVER SHEET'!$D$16&IF(MID('COVER SHEET'!$I$18,6,10)=\"december\",\"1231\",IF(MID('COVER SHEET'!$I$18,6,10)=\"june\",\"0630\"))","v":"20241231"},{"$f":"+'Incoming Remittances (Volume)'!H164","v":0}]
["CMREM_11500","NE",{"$f":"+'Incoming Remittances (Volume)'!$H$5","v":"20241130"},{"$f":"+'COVER SHEET'!$D$12","v":0},11500,{"$f":"'COVER SHEET'!$D$16&IF(MID('COVER SHEET'!$I$18,6,10)=\"december\",\"1231\",IF(MID('COVER SHEET'!$I$18,6,10)=\"june\",\"0630\"))","v":"20241231"},{"$f":"+'Incoming Remittances (Volume)'!H165","v":0}]
["CMREM_11500","NG",{"$f":"+'Incoming Remittances (Volume)'!$H$5","v":"20241130"},{"$f":"+'COVER SHEET'!$D$12","v":0},11500,{"$f":"'COVER SHEET'!$D$16&IF(MID('COVER SHEET'!$I$18,6,10)=\"december\",\"1231\",IF(MID('COVER SHEET'!$I$18,6,10)=\"june\",\"0630\"))","v":"20241231"},{"$f":"+'Incoming Remittances (Volume)'!H166","v":0}]
["CMREM_11500","NU",{"$f":"+'Incoming Remittances (Volume)'!$H$5","v":"20241130"},{"$f":"+'COVER SHEET'!$D$12","v":0},11500,{"$f":"'COVER SHEET'!$D$16&IF(MID('COVER SHEET'!$I$18,6,10)=\"december\",\"1231\",IF(MID('COVER SHEET'!$I$18,6,10)=\"june\",\"0630\"))","v":"20241231"},{"$f":"+'Incoming Remittances (Volume)'!H167","v":0}]
["CMREM_11500","NF",{"$f":"+'Incoming Remittances (Volume)'!$H$5","v":"20241130"},{"$f":"+'COVER SHEET'!$D$12","v":0},11500,{"$f":"'COVER SHEET'!$D$16&IF(MID('COVER SHEET'!$I$18,6,10)=\"december\",\"1231\",IF(MID('COVER SHEET'!$I$18,6,10)=\"june\",\"0630\"))","v":"20241231"},{"$f":"+'Incoming Remittances (Volume)'!H168","v":0}]
["CMREM_11500","MP",{"$f":"+'Incoming Remittances (Volume)'!$H$5","v":"20241130"},{"$f":"+'COVER SHEET'!$D$12","v":0},11500,{"$f":"'COVER SHEET'!$D$16&IF(MID('COVER SHEET'!$I$18,6,10)=\"december\",\"1231\",IF(MID('COVER SHEET'!$I$18,6,10)=\"june\",\"0630\"))","v":"20241231"},{"$f":"+'Incoming Remittances (Volume)'!H169","v":0}]
["CMREM_11500","NO",{"$f":"+'Incoming Remittances (Volume)'!$H$5","v":"20241130"},{"$f":"+'COVER SHEET'!$D$12","v":0},11500,{"$f":"'COVER SHEET'!$D$16&IF(MID('COVER SHEET'!$I$18,6,10)=\"december\",\"1231\",IF(MID('COVER SHEET'!$I$18,6,10)=\"june\",\"0630\"))","v":"20241231"},{"$f":"+'Incoming Remittances (Volume)'!H170","v":0}]
["CMREM_11500","OM",{"$f":"+'Incoming Remittances (Volume)'!$H$5","v":"20241130"},{"$f":"+'COVER SHEET'!$D$12","v":0},11500,{"$f":"'COVER SHEET'!$D$16&IF(MID('COVER SHEET'!$I$18,6,10)=\"december\",\"1231\",IF(MID('COVER SHEET'!$I$18,6,10)=\"june\",\"0630\"))","v":"20241231"},{"$f":"+'Incoming Remittances (Volume)'!H171","v":0}]
["CMREM_11500","PK",{"$f":"+'Incoming Remittances (Volume)'!$H$5","v":"20241130"},{"$f":"+'COVER SHEET'!$D$12","v":0},11500,{"$f":"'COVER SHEET'!$D$16&IF(MID('COVER SHEET'!$I$18,6,10)=\"december\",\"1231\",IF(MID('COVER SHEET'!$I$18,6,10)=\"june\",\"0630\"))","v":"20241231"},{"$f":"+'Incoming Remittances (Volume)'!H172","v":0}]
["CMREM_11500","PW",{"$f":"+'Incoming Remittances (Volume)'!$H$5","v":"20241130"},{"$f":"+'COVER SHEET'!$D$12","v":0},11500,{"$f":"'COVER SHEET'!$D$16&IF(MID('COVER SHEET'!$I$18,6,10)=\"december\",\"1231\",IF(MID('COVER SHEET'!$I$18,6,10)=\"june\",\"0630\"))","v":"20241231"},{"$f":"+'Incoming Remittances (Volume)'!H173","v":0}]
["CMREM_11500","PS",{"$f":"+'Incoming Remittances (Volume)'!$H$5","v":"20241130"},{"$f":"+'COVER SHEET'!$D$12","v":0},11500,{"$f":"'COVER SHEET'!$D$16&IF(MID('COVER SHEET'!$I$18,6,10)=\"december\",\"1231\",IF(MID('COVER SHEET'!$I$18,6,10)=\"june\",\"0630\"))","v":"20241231"},{"$f":"+'Incoming Remittances (Volume)'!H174","v":0}]
["CMREM_11500","PA",{"$f":"+'Incoming Remittances (Volume)'!$H$5","v":"20241130"},{"$f":"+'COVER SHEET'!$D$12","v":0},11500,{"$f":"'COVER SHEET'!$D$16&IF(MID('COVER SHEET'!$I$18,6,10)=\"december\",\"1231\",IF(MID('COVER SHEET'!$I$18,6,10)=\"june\",\"0630\"))","v":"20241231"},{"$f":"+'Incoming Remittances (Volume)'!H175","v":0}]
["CMREM_11500","PG",{"$f":"+'Incoming Remittances (Volume)'!$H$5","v":"20241130"},{"$f":"+'COVER SHEET'!$D$12","v":0},11500,{"$f":"'COVER SHEET'!$D$16&IF(MID('COVER SHEET'!$I$18,6,10)=\"december\",\"1231\",IF(MID('COVER SHEET'!$I$18,6,10)=\"june\",\"0630\"))","v":"20241231"},{"$f":"+'Incoming Remittances (Volume)'!H176","v":0}]
["CMREM_11500","PY",{"$f":"+'Incoming Remittances (Volume)'!$H$5","v":"20241130"},{"$f":"+'COVER SHEET'!$D$12","v":0},11500,{"$f":"'COVER SHEET'!$D$16&IF(MID('COVER SHEET'!$I$18,6,10)=\"december\",\"1231\",IF(MID('COVER SHEET'!$I$18,6,10)=\"june\",\"0630\"))","v":"20241231"},{"$f":"+'Incoming Remittances (Volume)'!H177","v":0}]
["CMREM_11500","PE",{"$f":"+'Incoming Remittances (Volume)'!$H$5","v":"20241130"},{"$f":"+'COVER SHEET'!$D$12","v":0},11500,{"$f":"'COVER SHEET'!$D$16&IF(MID('COVER SHEET'!$I$18,6,10)=\"december\",\"1231\",IF(MID('COVER SHEET'!$I$18,6,10)=\"june\",\"0630\"))","v":"20241231"},{"$f":"+'Incoming Remittances (Volume)'!H178","v":0}]
["CMREM_11500","PH",{"$f":"+'Incoming Remittances (Volume)'!$H$5","v":"20241130"},{"$f":"+'COVER SHEET'!$D$12","v":0},11500,{"$f":"'COVER SHEET'!$D$16&IF(MID('COVER SHEET'!$I$18,6,10)=\"december\",\"1231\",IF(MID('COVER SHEET'!$I$18,6,10)=\"june\",\"0630\"))","v":"20241231"},{"$f":"+'Incoming Remittances (Volume)'!H179","v":0}]
["CMREM_11500","PN",{"$f":"+'Incoming Remittances (Volume)'!$H$5","v":"20241130"},{"$f":"+'COVER SHEET'!$D$12","v":0},11500,{"$f":"'COVER SHEET'!$D$16&IF(MID('COVER SHEET'!$I$18,6,10)=\"december\",\"1231\",IF(MID('COVER SHEET'!$I$18,6,10)=\"june\",\"0630\"))","v":"20241231"},{"$f":"+'Incoming Remittances (Volume)'!H180","v":0}]
["CMREM_11500","PL",{"$f":"+'Incoming Remittances (Volume)'!$H$5","v":"20241130"},{"$f":"+'COVER SHEET'!$D$12","v":0},11500,{"$f":"'COVER SHEET'!$D$16&IF(MID('COVER SHEET'!$I$18,6,10)=\"december\",\"1231\",IF(MID('COVER SHEET'!$I$18,6,10)=\"june\",\"0630\"))","v":"20241231"},{"$f":"+'Incoming Remittances (Volume)'!H181","v":0}]
["CMREM_11500","PT",{"$f":"+'Incoming Remittances (Volume)'!$H$5","v":"20241130"},{"$f":"+'COVER SHEET'!$D$12","v":0},11500,{"$f":"'COVER SHEET'!$D$16&IF(MID('COVER SHEET'!$I$18,6,10)=\"december\",\"1231\",IF(MID('COVER SHEET'!$I$18,6,10)=\"june\",\"0630\"))","v":"20241231"},{"$f":"+'Incoming Remittances (Volume)'!H182","v":0}]
["CMREM_11500","QA",{"$f":"+'Incoming Remittances (Volume)'!$H$5","v":"20241130"},{"$f":"+'COVER SHEET'!$D$12","v":0},11500,{"$f":"'COVER SHEET'!$D$16&IF(MID('COVER SHEET'!$I$18,6,10)=\"december\",\"1231\",IF(MID('COVER SHEET'!$I$18,6,10)=\"june\",\"0630\"))","v":"20241231"},{"$f":"+'Incoming Remittances (Volume)'!H183","v":0}]
["CMREM_11500","RO",{"$f":"+'Incoming Remittances (Volume)'!$H$5","v":"20241130"},{"$f":"+'COVER SHEET'!$D$12","v":0},11500,{"$f":"'COVER SHEET'!$D$16&IF(MID('COVER SHEET'!$I$18,6,10)=\"december\",\"1231\",IF(MID('COVER SHEET'!$I$18,6,10)=\"june\",\"0630\"))","v":"20241231"},{"$f":"+'Incoming Remittances (Volume)'!H184","v":0}]
["CMREM_11500","RU",{"$f":"+'Incoming Remittances (Volume)'!$H$5","v":"20241130"},{"$f":"+'COVER SHEET'!$D$12","v":0},11500,{"$f":"'COVER SHEET'!$D$16&IF(MID('COVER SHEET'!$I$18,6,10)=\"december\",\"1231\",IF(MID('COVER SHEET'!$I$18,6,10)=\"june\",\"0630\"))","v":"20241231"},{"$f":"+'Incoming Remittances (Volume)'!H185","v":0}]
["CMREM_11500","RW",{"$f":"+'Incoming Remittances (Volume)'!$H$5","v":"20241130"},{"$f":"+'COVER SHEET'!$D$12","v":0},11500,{"$f":"'COVER SHEET'!$D$16&IF(MID('COVER SHEET'!$I$18,6,10)=\"december\",\"1231\",IF(MID('COVER SHEET'!$I$18,6,10)=\"june\",\"0630\"))","v":"20241231"},{"$f":"+'Incoming Remittances (Volume)'!H186","v":0}]
["CMREM_11500","SH",{"$f":"+'Incoming Remittances (Volume)'!$H$5","v":"20241130"},{"$f":"+'COVER SHEET'!$D$12","v":0},11500,{"$f":"'COVER SHEET'!$D$16&IF(MID('COVER SHEET'!$I$18,6,10)=\"december\",\"1231\",IF(MID('COVER SHEET'!$I$18,6,10)=\"june\",\"0630\"))","v":"20241231"},{"$f":"+'Incoming Remittances (Volume)'!H187","v":0}]
["CMREM_11500","KN",{"$f":"+'Incoming Remittances (Volume)'!$H$5","v":"20241130"},{"$f":"+'COVER SHEET'!$D$12","v":0},11500,{"$f":"'COVER SHEET'!$D$16&IF(MID('COVER SHEET'!$I$18,6,10)=\"december\",\"1231\",IF(MID('COVER SHEET'!$I$18,6,10)=\"june\",\"0630\"))","v":"20241231"},{"$f":"+'Incoming Remittances (Volume)'!H188","v":0}]
["CMREM_11500","LC",{"$f":"+'Incoming Remittances (Volume)'!$H$5","v":"20241130"},{"$f":"+'COVER SHEET'!$D$12","v":0},11500,{"$f":"'COVER SHEET'!$D$16&IF(MID('COVER SHEET'!$I$18,6,10)=\"december\",\"1231\",IF(MID('COVER SHEET'!$I$18,6,10)=\"june\",\"0630\"))","v":"20241231"},{"$f":"+'Incoming Remittances (Volume)'!H189","v":0}]
["CMREM_11500","VC",{"$f":"+'Incoming Remittances (Volume)'!$H$5","v":"20241130"},{"$f":"+'COVER SHEET'!$D$12","v":0},11500,{"$f":"'COVER SHEET'!$D$16&IF(MID('COVER SHEET'!$I$18,6,10)=\"december\",\"1231\",IF(MID('COVER SHEET'!$I$18,6,10)=\"june\",\"0630\"))","v":"20241231"},{"$f":"+'Incoming Remittances (Volume)'!H190","v":0}]
["CMREM_11500","WS",{"$f":"+'Incoming Remittances (Volume)'!$H$5","v":"20241130"},{"$f":"+'COVER SHEET'!$D$12","v":0},11500,{"$f":"'COVER SHEET'!$D$16&IF(MID('COVER SHEET'!$I$18,6,10)=\"december\",\"1231\",IF(MID('COVER SHEET'!$I$18,6,10)=\"june\",\"0630\"))","v":"20241231"},{"$f":"+'Incoming Remittances (Volume)'!H191","v":0}]
["CMREM_11500","SM",{"$f":"+'Incoming Remittances (Volume)'!$H$5","v":"20241130"},{"$f":"+'COVER SHEET'!$D$12","v":0},11500,{"$f":"'COVER SHEET'!$D$16&IF(MID('COVER SHEET'!$I$18,6,10)=\"december\",\"1231\",IF(MID('COVER SHEET'!$I$18,6,10)=\"june\",\"0630\"))","v":"20241231"},{"$f":"+'Incoming Remittances (Volume)'!H192","v":0}]
["CMREM_11500","ST",{"$f":"+'Incoming Remittances (Volume)'!$H$5","v":"20241130"},{"$f":"+'COVER SHEET'!$D$12","v":0},11500,{"$f":"'COVER SHEET'!$D$16&IF(MID('COVER SHEET'!$I$18,6,10)=\"december\",\"1231\",IF(MID('COVER SHEET'!$I$18,6,10)=\"june\",\"0630\"))","v":"20241231"},{"$f":"+'Incoming Remittances (Volume)'!H193","v":0}]
["CMREM_11500","SA",{"$f":"+'Incoming Remittances (Volume)'!$H$5","v":"20241130"},{"$f":"+'COVER SHEET'!$D$12","v":0},11500,{"$f":"'COVER SHEET'!$D$16&IF(MID('COVER SHEET'!$I$18,6,10)=\"december\",\"1231\",IF(MID('COVER SHEET'!$I$18,6,10)=\"june\",\"0630\"))","v":"20241231"},{"$f":"+'Incoming Remittances (Volume)'!H194","v":0}]
["CMREM_11500","SN",{"$f":"+'Incoming Remittances (Volume)'!$H$5","v":"20241130"},{"$f":"+'COVER SHEET'!$D$12","v":0},11500,{"$f":"'COVER SHEET'!$D$16&IF(MID('COVER SHEET'!$I$18,6,10)=\"december\",\"1231\",IF(MID('COVER SHEET'!$I$18,6,10)=\"june\",\"0630\"))","v":"20241231"},{"$f":"+'Incoming Remittances (Volume)'!H195","v":0}]
["CMREM_11500","RS",{"$f":"+'Incoming Remittances (Volume)'!$H$5","v":"20241130"},{"$f":"+'COVER SHEET'!$D$12","v":0},11500,{"$f":"'COVER SHEET'!$D$16&IF(MID('COVER SHEET'!$I$18,6,10)=\"december\",\"1231\",IF(MID('COVER SHEET'!$I$18,6,10)=\"june\",\"0630\"))","v":"20241231"},{"$f":"+'Incoming Remittances (Volume)'!H196","v":0}]
["CMREM_11500","SC",{"$f":"+'Incoming Remittances (Volume)'!$H$5","v":"20241130"},{"$f":"+'COVER SHEET'!$D$12","v":0},11500,{"$f":"'COVER SHEET'!$D$16&IF(MID('COVER SHEET'!$I$18,6,10)=\"december\",\"1231\",IF(MID('COVER SHEET'!$I$18,6,10)=\"june\",\"0630\"))","v":"20241231"},{"$f":"+'Incoming Remittances (Volume)'!H197","v":0}]
["CMREM_11500","SL",{"$f":"+'Incoming Remittances (Volume)'!$H$5","v":"20241130"},{"$f":"+'COVER SHEET'!$D$12","v":0},11500,{"$f":"'COVER SHEET'!$D$16&IF(MID('COVER SHEET'!$I$18,6,10)=\"december\",\"1231\",IF(MID('COVER SHEET'!$I$18,6,10)=\"june\",\"0630\"))","v":"20241231"},{"$f":"+'Incoming Remittances (Volume)'!H198","v":0}]
["CMREM_11500","SG",{"$f":"+'Incoming Remittances (Volume)'!$H$5","v":"20241130"},{"$f":"+'COVER SHEET'!$D$12","v":0},11500,{"$f":"'COVER SHEET'!$D$16&IF(MID('COVER SHEET'!$I$18,6,10)=\"december\",\"1231\",IF(MID('COVER SHEET'!$I$18,6,10)=\"june\",\"0630\"))","v":"20241231"},{"$f":"+'Incoming Remittances (Volume)'!H199","v":0}]
["CMREM_11500","SX",{"$f":"+'Incoming Remittances (Volume)'!$H$5","v":"20241130"},{"$f":"+'COVER SHEET'!$D$12","v":0},11500,{"$f":"'COVER SHEET'!$D$16&IF(MID('COVER SHEET'!$I$18,6,10)=\"december\",\"1231\",IF(MID('COVER SHEET'!$I$18,6,10)=\"june\",\"0630\"))","v":"20241231"},{"$f":"+'Incoming Remittances (Volume)'!H200","v":0}]
["CMREM_11500","SK",{"$f":"+'Incoming Remittances (Volume)'!$H$5","v":"20241130"},{"$f":"+'COVER SHEET'!$D$12","v":0},11500,{"$f":"'COVER SHEET'!$D$16&IF(MID('COVER SHEET'!$I$18,6,10)=\"december\",\"1231\",IF(MID('COVER SHEET'!$I$18,6,10)=\"june\",\"0630\"))","v":"20241231"},{"$f":"+'Incoming Remittances (Volume)'!H201","v":0}]
["CMREM_11500","SI",{"$f":"+'Incoming Remittances (Volume)'!$H$5","v":"20241130"},{"$f":"+'COVER SHEET'!$D$12","v":0},11500,{"$f":"'COVER SHEET'!$D$16&IF(MID('COVER SHEET'!$I$18,6,10)=\"december\",\"1231\",IF(MID('COVER SHEET'!$I$18,6,10)=\"june\",\"0630\"))","v":"20241231"},{"$f":"+'Incoming Remittances (Volume)'!H202","v":0}]
["CMREM_11500","SB",{"$f":"+'Incoming Remittances (Volume)'!$H$5","v":"20241130"},{"$f":"+'COVER SHEET'!$D$12","v":0},11500,{"$f":"'COVER SHEET'!$D$16&IF(MID('COVER SHEET'!$I$18,6,10)=\"december\",\"1231\",IF(MID('COVER SHEET'!$I$18,6,10)=\"june\",\"0630\"))","v":"20241231"},{"$f":"+'Incoming Remittances (Volume)'!H203","v":0}]
["CMREM_11500","SO",{"$f":"+'Incoming Remittances (Volume)'!$H$5","v":"20241130"},{"$f":"+'COVER SHEET'!$D$12","v":0},11500,{"$f":"'COVER SHEET'!$D$16&IF(MID('COVER SHEET'!$I$18,6,10)=\"december\",\"1231\",IF(MID('COVER SHEET'!$I$18,6,10)=\"june\",\"0630\"))","v":"20241231"},{"$f":"+'Incoming Remittances (Volume)'!H204","v":0}]
["CMREM_11500","ZA",{"$f":"+'Incoming Remittances (Volume)'!$H$5","v":"20241130"},{"$f":"+'COVER SHEET'!$D$12","v":0},11500,{"$f":"'COVER SHEET'!$D$16&IF(MID('COVER SHEET'!$I$18,6,10)=\"december\",\"1231\",IF(MID('COVER SHEET'!$I$18,6,10)=\"june\",\"0630\"))","v":"20241231"},{"$f":"+'Incoming Remittances (Volume)'!H205","v":0}]
["CMREM_11500","GS",{"$f":"+'Incoming Remittances (Volume)'!$H$5","v":"20241130"},{"$f":"+'COVER SHEET'!$D$12","v":0},11500,{"$f":"'COVER SHEET'!$D$16&IF(MID('COVER SHEET'!$I$18,6,10)=\"december\",\"1231\",IF(MID('COVER SHEET'!$I$18,6,10)=\"june\",\"0630\"))","v":"20241231"},{"$f":"+'Incoming Remittances (Volume)'!H206","v":0}]
["CMREM_11500","SS",{"$f":"+'Incoming Remittances (Volume)'!$H$5","v":"20241130"},{"$f":"+'COVER SHEET'!$D$12","v":0},11500,{"$f":"'COVER SHEET'!$D$16&IF(MID('COVER SHEET'!$I$18,6,10)=\"december\",\"1231\",IF(MID('COVER SHEET'!$I$18,6,10)=\"june\",\"0630\"))","v":"20241231"},{"$f":"+'Incoming Remittances (Volume)'!H207","v":0}]
["CMREM_11500","ES",{"$f":"+'Incoming Remittances (Volume)'!$H$5","v":"20241130"},{"$f":"+'COVER SHEET'!$D$12","v":0},11500,{"$f":"'COVER SHEET'!$D$16&IF(MID('COVER SHEET'!$I$18,6,10)=\"december\",\"1231\",IF(MID('COVER SHEET'!$I$18,6,10)=\"june\",\"0630\"))","v":"20241231"},{"$f":"+'Incoming Remittances (Volume)'!H208","v":0}]
["CMREM_11500","LK",{"$f":"+'Incoming Remittances (Volume)'!$H$5","v":"20241130"},{"$f":"+'COVER SHEET'!$D$12","v":0},11500,{"$f":"'COVER SHEET'!$D$16&IF(MID('COVER SHEET'!$I$18,6,10)=\"december\",\"1231\",IF(MID('COVER SHEET'!$I$18,6,10)=\"june\",\"0630\"))","v":"20241231"},{"$f":"+'Incoming Remittances (Volume)'!H209","v":0}]
["CMREM_11500","SD",{"$f":"+'Incoming Remittances (Volume)'!$H$5","v":"20241130"},{"$f":"+'COVER SHEET'!$D$12","v":0},11500,{"$f":"'COVER SHEET'!$D$16&IF(MID('COVER SHEET'!$I$18,6,10)=\"december\",\"1231\",IF(MID('COVER SHEET'!$I$18,6,10)=\"june\",\"0630\"))","v":"20241231"},{"$f":"+'Incoming Remittances (Volume)'!H210","v":0}]
["CMREM_11500","SR",{"$f":"+'Incoming Remittances (Volume)'!$H$5","v":"20241130"},{"$f":"+'COVER SHEET'!$D$12","v":0},11500,{"$f":"'COVER SHEET'!$D$16&IF(MID('COVER SHEET'!$I$18,6,10)=\"december\",\"1231\",IF(MID('COVER SHEET'!$I$18,6,10)=\"june\",\"0630\"))","v":"20241231"},{"$f":"+'Incoming Remittances (Volume)'!H211","v":0}]
["CMREM_11500","SZ",{"$f":"+'Incoming Remittances (Volume)'!$H$5","v":"20241130"},{"$f":"+'COVER SHEET'!$D$12","v":0},11500,{"$f":"'COVER SHEET'!$D$16&IF(MID('COVER SHEET'!$I$18,6,10)=\"december\",\"1231\",IF(MID('COVER SHEET'!$I$18,6,10)=\"june\",\"0630\"))","v":"20241231"},{"$f":"+'Incoming Remittances (Volume)'!H212","v":0}]
["CMREM_11500","SE",{"$f":"+'Incoming Remittances (Volume)'!$H$5","v":"20241130"},{"$f":"+'COVER SHEET'!$D$12","v":0},11500,{"$f":"'COVER SHEET'!$D$16&IF(MID('COVER SHEET'!$I$18,6,10)=\"december\",\"1231\",IF(MID('COVER SHEET'!$I$18,6,10)=\"june\",\"0630\"))","v":"20241231"},{"$f":"+'Incoming Remittances (Volume)'!H213","v":0}]
["CMREM_11500","CH",{"$f":"+'Incoming Remittances (Volume)'!$H$5","v":"20241130"},{"$f":"+'COVER SHEET'!$D$12","v":0},11500,{"$f":"'COVER SHEET'!$D$16&IF(MID('COVER SHEET'!$I$18,6,10)=\"december\",\"1231\",IF(MID('COVER SHEET'!$I$18,6,10)=\"june\",\"0630\"))","v":"20241231"},{"$f":"+'Incoming Remittances (Volume)'!H214","v":0}]
["CMREM_11500","SY",{"$f":"+'Incoming Remittances (Volume)'!$H$5","v":"20241130"},{"$f":"+'COVER SHEET'!$D$12","v":0},11500,{"$f":"'COVER SHEET'!$D$16&IF(MID('COVER SHEET'!$I$18,6,10)=\"december\",\"1231\",IF(MID('COVER SHEET'!$I$18,6,10)=\"june\",\"0630\"))","v":"20241231"},{"$f":"+'Incoming Remittances (Volume)'!H215","v":0}]
["CMREM_11500","TW",{"$f":"+'Incoming Remittances (Volume)'!$H$5","v":"20241130"},{"$f":"+'COVER SHEET'!$D$12","v":0},11500,{"$f":"'COVER SHEET'!$D$16&IF(MID('COVER SHEET'!$I$18,6,10)=\"december\",\"1231\",IF(MID('COVER SHEET'!$I$18,6,10)=\"june\",\"0630\"))","v":"20241231"},{"$f":"+'Incoming Remittances (Volume)'!H216","v":0}]
["CMREM_11500","TJ",{"$f":"+'Incoming Remittances (Volume)'!$H$5","v":"20241130"},{"$f":"+'COVER SHEET'!$D$12","v":0},11500,{"$f":"'COVER SHEET'!$D$16&IF(MID('COVER SHEET'!$I$18,6,10)=\"december\",\"1231\",IF(MID('COVER SHEET'!$I$18,6,10)=\"june\",\"0630\"))","v":"20241231"},{"$f":"+'Incoming Remittances (Volume)'!H217","v":0}]
["CMREM_11500","TZ",{"$f":"+'Incoming Remittances (Volume)'!$H$5","v":"20241130"},{"$f":"+'COVER SHEET'!$D$12","v":0},11500,{"$f":"'COVER SHEET'!$D$16&IF(MID('COVER SHEET'!$I$18,6,10)=\"december\",\"1231\",IF(MID('COVER SHEET'!$I$18,6,10)=\"june\",\"0630\"))","v":"20241231"},{"$f":"+'Incoming Remittances (Volume)'!H218","v":0}]
["CMREM_11500","TH",{"$f":"+'Incoming Remittances (Volume)'!$H$5","v":"20241130"},{"$f":"+'COVER SHEET'!$D$12","v":0},11500,{"$f":"'COVER SHEET'!$D$16&IF(MID('COVER SHEET'!$I$18,6,10)=\"december\",\"1231\",IF(MID('COVER SHEET'!$I$18,6,10)=\"june\",\"0630\"))","v":"20241231"},{"$f":"+'Incoming Remittances (Volume)'!H219","v":0}]
["CMREM_11500","TG",{"$f":"+'Incoming Remittances (Volume)'!$H$5","v":"20241130"},{"$f":"+'COVER SHEET'!$D$12","v":0},11500,{"$f":"'COVER SHEET'!$D$16&IF(MID('COVER SHEET'!$I$18,6,10)=\"december\",\"1231\",IF(MID('COVER SHEET'!$I$18,6,10)=\"june\",\"0630\"))","v":"20241231"},{"$f":"+'Incoming Remittances (Volume)'!H220","v":0}]
["CMREM_11500","TK",{"$f":"+'Incoming Remittances (Volume)'!$H$5","v":"20241130"},{"$f":"+'COVER SHEET'!$D$12","v":0},11500,{"$f":"'COVER SHEET'!$D$16&IF(MID('COVER SHEET'!$I$18,6,10)=\"december\",\"1231\",IF(MID('COVER SHEET'!$I$18,6,10)=\"june\",\"0630\"))","v":"20241231"},{"$f":"+'Incoming Remittances (Volume)'!H221","v":0}]
["CMREM_11500","TO",{"$f":"+'Incoming Remittances (Volume)'!$H$5","v":"20241130"},{"$f":"+'COVER SHEET'!$D$12","v":0},11500,{"$f":"'COVER SHEET'!$D$16&IF(MID('COVER SHEET'!$I$18,6,10)=\"december\",\"1231\",IF(MID('COVER SHEET'!$I$18,6,10)=\"june\",\"0630\"))","v":"20241231"},{"$f":"+'Incoming Remittances (Volume)'!H222","v":0}]
["CMREM_11500","TT",{"$f":"+'Incoming Remittances (Volume)'!$H$5","v":"20241130"},{"$f":"+'COVER SHEET'!$D$12","v":0},11500,{"$f":"'COVER SHEET'!$D$16&IF(MID('COVER SHEET'!$I$18,6,10)=\"december\",\"1231\",IF(MID('COVER SHEET'!$I$18,6,10)=\"june\",\"0630\"))","v":"20241231"},{"$f":"+'Incoming Remittances (Volume)'!H223","v":0}]
["CMREM_11500","TN",{"$f":"+'Incoming Remittances (Volume)'!$H$5","v":"20241130"},{"$f":"+'COVER SHEET'!$D$12","v":0},11500,{"$f":"'COVER SHEET'!$D$16&IF(MID('COVER SHEET'!$I$18,6,10)=\"december\",\"1231\",IF(MID('COVER SHEET'!$I$18,6,10)=\"june\",\"0630\"))","v":"20241231"},{"$f":"+'Incoming Remittances (Volume)'!H224","v":0}]
["CMREM_11500","TR",{"$f":"+'Incoming Remittances (Volume)'!$H$5","v":"20241130"},{"$f":"+'COVER SHEET'!$D$12","v":0},11500,{"$f":"'COVER SHEET'!$D$16&IF(MID('COVER SHEET'!$I$18,6,10)=\"december\",\"1231\",IF(MID('COVER SHEET'!$I$18,6,10)=\"june\",\"0630\"))","v":"20241231"},{"$f":"+'Incoming Remittances (Volume)'!H225","v":0}]
["CMREM_11500","TM",{"$f":"+'Incoming Remittances (Volume)'!$H$5","v":"20241130"},{"$f":"+'COVER SHEET'!$D$12","v":0},11500,{"$f":"'COVER SHEET'!$D$16&IF(MID('COVER SHEET'!$I$18,6,10)=\"december\",\"1231\",IF(MID('COVER SHEET'!$I$18,6,10)=\"june\",\"0630\"))","v":"20241231"},{"$f":"+'Incoming Remittances (Volume)'!H226","v":0}]
["CMREM_11500","TC",{"$f":"+'Incoming Remittances (Volume)'!$H$5","v":"20241130"},{"$f":"+'COVER SHEET'!$D$12","v":0},11500,{"$f":"'COVER SHEET'!$D$16&IF(MID('COVER SHEET'!$I$18,6,10)=\"december\",\"1231\",IF(MID('COVER SHEET'!$I$18,6,10)=\"june\",\"0630\"))","v":"20241231"},{"$f":"+'Incoming Remittances (Volume)'!H227","v":0}]
["CMREM_11500","TV",{"$f":"+'Incoming Remittances (Volume)'!$H$5","v":"20241130"},{"$f":"+'COVER SHEET'!$D$12","v":0},11500,{"$f":"'COVER SHEET'!$D$16&IF(MID('COVER SHEET'!$I$18,6,10)=\"december\",\"1231\",IF(MID('COVER SHEET'!$I$18,6,10)=\"june\",\"0630\"))","v":"20241231"},{"$f":"+'Incoming Remittances (Volume)'!H228","v":0}]
["CMREM_11500","UG",{"$f":"+'Incoming Remittances (Volume)'!$H$5","v":"20241130"},{"$f":"+'COVER SHEET'!$D$12","v":0},11500,{"$f":"'COVER SHEET'!$D$16&IF(MID('COVER SHEET'!$I$18,6,10)=\"december\",\"1231\",IF(MID('COVER SHEET'!$I$18,6,10)=\"june\",\"0630\"))","v":"20241231"},{"$f":"+'Incoming Remittances (Volume)'!H229","v":0}]
["CMREM_11500","UA",{"$f":"+'Incoming Remittances (Volume)'!$H$5","v":"20241130"},{"$f":"+'COVER SHEET'!$D$12","v":0},11500,{"$f":"'COVER SHEET'!$D$16&IF(MID('COVER SHEET'!$I$18,6,10)=\"december\",\"1231\",IF(MID('COVER SHEET'!$I$18,6,10)=\"june\",\"0630\"))","v":"20241231"},{"$f":"+'Incoming Remittances (Volume)'!H230","v":0}]
["CMREM_11500","AE",{"$f":"+'Incoming Remittances (Volume)'!$H$5","v":"20241130"},{"$f":"+'COVER SHEET'!$D$12","v":0},11500,{"$f":"'COVER SHEET'!$D$16&IF(MID('COVER SHEET'!$I$18,6,10)=\"december\",\"1231\",IF(MID('COVER SHEET'!$I$18,6,10)=\"june\",\"0630\"))","v":"20241231"},{"$f":"+'Incoming Remittances (Volume)'!H231","v":0}]
["CMREM_11500","GB",{"$f":"+'Incoming Remittances (Volume)'!$H$5","v":"20241130"},{"$f":"+'COVER SHEET'!$D$12","v":0},11500,{"$f":"'COVER SHEET'!$D$16&IF(MID('COVER SHEET'!$I$18,6,10)=\"december\",\"1231\",IF(MID('COVER SHEET'!$I$18,6,10)=\"june\",\"0630\"))","v":"20241231"},{"$f":"+'Incoming Remittances (Volume)'!H232","v":0}]
["CMREM_11500","US",{"$f":"+'Incoming Remittances (Volume)'!$H$5","v":"20241130"},{"$f":"+'COVER SHEET'!$D$12","v":0},11500,{"$f":"'COVER SHEET'!$D$16&IF(MID('COVER SHEET'!$I$18,6,10)=\"december\",\"1231\",IF(MID('COVER SHEET'!$I$18,6,10)=\"june\",\"0630\"))","v":"20241231"},{"$f":"+'Incoming Remittances (Volume)'!H233","v":0}]
["CMREM_11500","UY",{"$f":"+'Incoming Remittances (Volume)'!$H$5","v":"20241130"},{"$f":"+'COVER SHEET'!$D$12","v":0},11500,{"$f":"'COVER SHEET'!$D$16&IF(MID('COVER SHEET'!$I$18,6,10)=\"december\",\"1231\",IF(MID('COVER SHEET'!$I$18,6,10)=\"june\",\"0630\"))","v":"20241231"},{"$f":"+'Incoming Remittances (Volume)'!H234","v":0}]
["CMREM_11500","UM",{"$f":"+'Incoming Remittances (Volume)'!$H$5","v":"20241130"},{"$f":"+'COVER SHEET'!$D$12","v":0},11500,{"$f":"'COVER SHEET'!$D$16&IF(MID('COVER SHEET'!$I$18,6,10)=\"december\",\"1231\",IF(MID('COVER SHEET'!$I$18,6,10)=\"june\",\"0630\"))","v":"20241231"},{"$f":"+'Incoming Remittances (Volume)'!H235","v":0}]
["CMREM_11500","UZ",{"$f":"+'Incoming Remittances (Volume)'!$H$5","v":"20241130"},{"$f":"+'COVER SHEET'!$D$12","v":0},11500,{"$f":"'COVER SHEET'!$D$16&IF(MID('COVER SHEET'!$I$18,6,10)=\"december\",\"1231\",IF(MID('COVER SHEET'!$I$18,6,10)=\"june\",\"0630\"))","v":"20241231"},{"$f":"+'Incoming Remittances (Volume)'!H236","v":0}]
["CMREM_11500","VU",{"$f":"+'Incoming Remittances (Volume)'!$H$5","v":"20241130"},{"$f":"+'COVER SHEET'!$D$12","v":0},11500,{"$f":"'COVER SHEET'!$D$16&IF(MID('COVER SHEET'!$I$18,6,10)=\"december\",\"1231\",IF(MID('COVER SHEET'!$I$18,6,10)=\"june\",\"0630\"))","v":"20241231"},{"$f":"+'Incoming Remittances (Volume)'!H237","v":0}]
["CMREM_11500","VE",{"$f":"+'Incoming Remittances (Volume)'!$H$5","v":"20241130"},{"$f":"+'COVER SHEET'!$D$12","v":0},11500,{"$f":"'COVER SHEET'!$D$16&IF(MID('COVER SHEET'!$I$18,6,10)=\"december\",\"1231\",IF(MID('COVER SHEET'!$I$18,6,10)=\"june\",\"0630\"))","v":"20241231"},{"$f":"+'Incoming Remittances (Volume)'!H238","v":0}]
["CMREM_11500","VN",{"$f":"+'Incoming Remittances (Volume)'!$H$5","v":"20241130"},{"$f":"+'COVER SHEET'!$D$12","v":0},11500,{"$f":"'COVER SHEET'!$D$16&IF(MID('COVER SHEET'!$I$18,6,10)=\"december\",\"1231\",IF(MID('COVER SHEET'!$I$18,6,10)=\"june\",\"0630\"))","v":"20241231"},{"$f":"+'Incoming Remittances (Volume)'!H239","v":0}]
["CMREM_11500","VI",{"$f":"+'Incoming Remittances (Volume)'!$H$5","v":"20241130"},{"$f":"+'COVER SHEET'!$D$12","v":0},11500,{"$f":"'COVER SHEET'!$D$16&IF(MID('COVER SHEET'!$I$18,6,10)=\"december\",\"1231\",IF(MID('COVER SHEET'!$I$18,6,10)=\"june\",\"0630\"))","v":"20241231"},{"$f":"+'Incoming Remittances (Volume)'!H240","v":0}]
["CMREM_11500","WF",{"$f":"+'Incoming Remittances (Volume)'!$H$5","v":"20241130"},{"$f":"+'COVER SHEET'!$D$12","v":0},11500,{"$f":"'COVER SHEET'!$D$16&IF(MID('COVER SHEET'!$I$18,6,10)=\"december\",\"1231\",IF(MID('COVER SHEET'!$I$18,6,10)=\"june\",\"0630\"))","v":"20241231"},{"$f":"+'Incoming Remittances (Volume)'!H241","v":0}]
["CMREM_11500","YE",{"$f":"+'Incoming Remittances (Volume)'!$H$5","v":"20241130"},{"$f":"+'COVER SHEET'!$D$12","v":0},11500,{"$f":"'COVER SHEET'!$D$16&IF(MID('COVER SHEET'!$I$18,6,10)=\"december\",\"1231\",IF(MID('COVER SHEET'!$I$18,6,10)=\"june\",\"0630\"))","v":"20241231"},{"$f":"+'Incoming Remittances (Volume)'!H242","v":0}]
["CMREM_11500","ZM",{"$f":"+'Incoming Remittances (Volume)'!$H$5","v":"20241130"},{"$f":"+'COVER SHEET'!$D$12","v":0},11500,{"$f":"'COVER SHEET'!$D$16&IF(MID('COVER SHEET'!$I$18,6,10)=\"december\",\"1231\",IF(MID('COVER SHEET'!$I$18,6,10)=\"june\",\"0630\"))","v":"20241231"},{"$f":"+'Incoming Remittances (Volume)'!H243","v":0}]
["CMREM_11500","ZW",{"$f":"+'Incoming Remittances (Volume)'!$H$5","v":"20241130"},{"$f":"+'COVER SHEET'!$D$12","v":0},11500,{"$f":"'COVER SHEET'!$D$16&IF(MID('COVER SHEET'!$I$18,6,10)=\"december\",\"1231\",IF(MID('COVER SHEET'!$I$18,6,10)=\"june\",\"0630\"))","v":"20241231"},{"$f":"+'Incoming Remittances (Volume)'!H244","v":0}]
["CMREM_11510","AF",{"$f":"+'Outgoing Remittances (Volume)'!$G$5","v":"20241130"},{"$f":"+'COVER SHEET'!$D$12","v":0},11510,{"$f":"'COVER SHEET'!$D$16&IF(MID('COVER SHEET'!$I$18,6,10)=\"december\",\"1231\",IF(MID('COVER SHEET'!$I$18,6,10)=\"june\",\"0630\"))","v":"20241231"},{"$f":"+'Outgoing Remittances (Volume)'!G9","v":0}]
["CMREM_11510","AL",{"$f":"+'Outgoing Remittances (Volume)'!$G$5","v":"20241130"},{"$f":"+'COVER SHEET'!$D$12","v":0},11510,{"$f":"'COVER SHEET'!$D$16&IF(MID('COVER SHEET'!$I$18,6,10)=\"december\",\"1231\",IF(MID('COVER SHEET'!$I$18,6,10)=\"june\",\"0630\"))","v":"20241231"},{"$f":"+'Outgoing Remittances (Volume)'!G10","v":0}]
["CMREM_11510","DZ",{"$f":"+'Outgoing Remittances (Volume)'!$G$5","v":"20241130"},{"$f":"+'COVER SHEET'!$D$12","v":0},11510,{"$f":"'COVER SHEET'!$D$16&IF(MID('COVER SHEET'!$I$18,6,10)=\"december\",\"1231\",IF(MID('COVER SHEET'!$I$18,6,10)=\"june\",\"0630\"))","v":"20241231"},{"$f":"+'Outgoing Remittances (Volume)'!G11","v":0}]
["CMREM_11510","AS",{"$f":"+'Outgoing Remittances (Volume)'!$G$5","v":"20241130"},{"$f":"+'COVER SHEET'!$D$12","v":0},11510,{"$f":"'COVER SHEET'!$D$16&IF(MID('COVER SHEET'!$I$18,6,10)=\"december\",\"1231\",IF(MID('COVER SHEET'!$I$18,6,10)=\"june\",\"0630\"))","v":"20241231"},{"$f":"+'Outgoing Remittances (Volume)'!G12","v":0}]
["CMREM_11510","AD",{"$f":"+'Outgoing Remittances (Volume)'!$G$5","v":"20241130"},{"$f":"+'COVER SHEET'!$D$12","v":0},11510,{"$f":"'COVER SHEET'!$D$16&IF(MID('COVER SHEET'!$I$18,6,10)=\"december\",\"1231\",IF(MID('COVER SHEET'!$I$18,6,10)=\"june\",\"0630\"))","v":"20241231"},{"$f":"+'Outgoing Remittances (Volume)'!G13","v":0}]
["CMREM_11510","AO",{"$f":"+'Outgoing Remittances (Volume)'!$G$5","v":"20241130"},{"$f":"+'COVER SHEET'!$D$12","v":0},11510,{"$f":"'COVER SHEET'!$D$16&IF(MID('COVER SHEET'!$I$18,6,10)=\"december\",\"1231\",IF(MID('COVER SHEET'!$I$18,6,10)=\"june\",\"0630\"))","v":"20241231"},{"$f":"+'Outgoing Remittances (Volume)'!G14","v":0}]
["CMREM_11510","AI",{"$f":"+'Outgoing Remittances (Volume)'!$G$5","v":"20241130"},{"$f":"+'COVER SHEET'!$D$12","v":0},11510,{"$f":"'COVER SHEET'!$D$16&IF(MID('COVER SHEET'!$I$18,6,10)=\"december\",\"1231\",IF(MID('COVER SHEET'!$I$18,6,10)=\"june\",\"0630\"))","v":"20241231"},{"$f":"+'Outgoing Remittances (Volume)'!G15","v":0}]
["CMREM_11510","AQ",{"$f":"+'Outgoing Remittances (Volume)'!$G$5","v":"20241130"},{"$f":"+'COVER SHEET'!$D$12","v":0},11510,{"$f":"'COVER SHEET'!$D$16&IF(MID('COVER SHEET'!$I$18,6,10)=\"december\",\"1231\",IF(MID('COVER SHEET'!$I$18,6,10)=\"june\",\"0630\"))","v":"20241231"},{"$f":"+'Outgoing Remittances (Volume)'!G16","v":0}]
["CMREM_11510","AG",{"$f":"+'Outgoing Remittances (Volume)'!$G$5","v":"20241130"},{"$f":"+'COVER SHEET'!$D$12","v":0},11510,{"$f":"'COVER SHEET'!$D$16&IF(MID('COVER SHEET'!$I$18,6,10)=\"december\",\"1231\",IF(MID('COVER SHEET'!$I$18,6,10)=\"june\",\"0630\"))","v":"20241231"},{"$f":"+'Outgoing Remittances (Volume)'!G17","v":0}]
["CMREM_11510","AR",{"$f":"+'Outgoing Remittances (Volume)'!$G$5","v":"20241130"},{"$f":"+'COVER SHEET'!$D$12","v":0},11510,{"$f":"'COVER SHEET'!$D$16&IF(MID('COVER SHEET'!$I$18,6,10)=\"december\",\"1231\",IF(MID('COVER SHEET'!$I$18,6,10)=\"june\",\"0630\"))","v":"20241231"},{"$f":"+'Outgoing Remittances (Volume)'!G18","v":0}]
["CMREM_11510","AM",{"$f":"+'Outgoing Remittances (Volume)'!$G$5","v":"20241130"},{"$f":"+'COVER SHEET'!$D$12","v":0},11510,{"$f":"'COVER SHEET'!$D$16&IF(MID('COVER SHEET'!$I$18,6,10)=\"december\",\"1231\",IF(MID('COVER SHEET'!$I$18,6,10)=\"june\",\"0630\"))","v":"20241231"},{"$f":"+'Outgoing Remittances (Volume)'!G19","v":0}]
["CMREM_11510","AW",{"$f":"+'Outgoing Remittances (Volume)'!$G$5","v":"20241130"},{"$f":"+'COVER SHEET'!$D$12","v":0},11510,{"$f":"'COVER SHEET'!$D$16&IF(MID('COVER SHEET'!$I$18,6,10)=\"december\",\"1231\",IF(MID('COVER SHEET'!$I$18,6,10)=\"june\",\"0630\"))","v":"20241231"},{"$f":"+'Outgoing Remittances (Volume)'!G20","v":0}]
["CMREM_11510","AU",{"$f":"+'Outgoing Remittances (Volume)'!$G$5","v":"20241130"},{"$f":"+'COVER SHEET'!$D$12","v":0},11510,{"$f":"'COVER SHEET'!$D$16&IF(MID('COVER SHEET'!$I$18,6,10)=\"december\",\"1231\",IF(MID('COVER SHEET'!$I$18,6,10)=\"june\",\"0630\"))","v":"20241231"},{"$f":"+'Outgoing Remittances (Volume)'!G21","v":0}]
["CMREM_11510","AT",{"$f":"+'Outgoing Remittances (Volume)'!$G$5","v":"20241130"},{"$f":"+'COVER SHEET'!$D$12","v":0},11510,{"$f":"'COVER SHEET'!$D$16&IF(MID('COVER SHEET'!$I$18,6,10)=\"december\",\"1231\",IF(MID('COVER SHEET'!$I$18,6,10)=\"june\",\"0630\"))","v":"20241231"},{"$f":"+'Outgoing Remittances (Volume)'!G22","v":0}]
["CMREM_11510","AZ",{"$f":"+'Outgoing Remittances (Volume)'!$G$5","v":"20241130"},{"$f":"+'COVER SHEET'!$D$12","v":0},11510,{"$f":"'COVER SHEET'!$D$16&IF(MID('COVER SHEET'!$I$18,6,10)=\"december\",\"1231\",IF(MID('COVER SHEET'!$I$18,6,10)=\"june\",\"0630\"))","v":"20241231"},{"$f":"+'Outgoing Remittances (Volume)'!G23","v":0}]
["CMREM_11510","BS",{"$f":"+'Outgoing Remittances (Volume)'!$G$5","v":"20241130"},{"$f":"+'COVER SHEET'!$D$12","v":0},11510,{"$f":"'COVER SHEET'!$D$16&IF(MID('COVER SHEET'!$I$18,6,10)=\"december\",\"1231\",IF(MID('COVER SHEET'!$I$18,6,10)=\"june\",\"0630\"))","v":"20241231"},{"$f":"+'Outgoing Remittances (Volume)'!G24","v":0}]
["CMREM_11510","BH",{"$f":"+'Outgoing Remittances (Volume)'!$G$5","v":"20241130"},{"$f":"+'COVER SHEET'!$D$12","v":0},11510,{"$f":"'COVER SHEET'!$D$16&IF(MID('COVER SHEET'!$I$18,6,10)=\"december\",\"1231\",IF(MID('COVER SHEET'!$I$18,6,10)=\"june\",\"0630\"))","v":"20241231"},{"$f":"+'Outgoing Remittances (Volume)'!G25","v":0}]
["CMREM_11510","BD",{"$f":"+'Outgoing Remittances (Volume)'!$G$5","v":"20241130"},{"$f":"+'COVER SHEET'!$D$12","v":0},11510,{"$f":"'COVER SHEET'!$D$16&IF(MID('COVER SHEET'!$I$18,6,10)=\"december\",\"1231\",IF(MID('COVER SHEET'!$I$18,6,10)=\"june\",\"0630\"))","v":"20241231"},{"$f":"+'Outgoing Remittances (Volume)'!G26","v":0}]
["CMREM_11510","BB",{"$f":"+'Outgoing Remittances (Volume)'!$G$5","v":"20241130"},{"$f":"+'COVER SHEET'!$D$12","v":0},11510,{"$f":"'COVER SHEET'!$D$16&IF(MID('COVER SHEET'!$I$18,6,10)=\"december\",\"1231\",IF(MID('COVER SHEET'!$I$18,6,10)=\"june\",\"0630\"))","v":"20241231"},{"$f":"+'Outgoing Remittances (Volume)'!G27","v":0}]
["CMREM_11510","BY",{"$f":"+'Outgoing Remittances (Volume)'!$G$5","v":"20241130"},{"$f":"+'COVER SHEET'!$D$12","v":0},11510,{"$f":"'COVER SHEET'!$D$16&IF(MID('COVER SHEET'!$I$18,6,10)=\"december\",\"1231\",IF(MID('COVER SHEET'!$I$18,6,10)=\"june\",\"0630\"))","v":"20241231"},{"$f":"+'Outgoing Remittances (Volume)'!G28","v":0}]
["CMREM_11510","BE",{"$f":"+'Outgoing Remittances (Volume)'!$G$5","v":"20241130"},{"$f":"+'COVER SHEET'!$D$12","v":0},11510,{"$f":"'COVER SHEET'!$D$16&IF(MID('COVER SHEET'!$I$18,6,10)=\"december\",\"1231\",IF(MID('COVER SHEET'!$I$18,6,10)=\"june\",\"0630\"))","v":"20241231"},{"$f":"+'Outgoing Remittances (Volume)'!G29","v":0}]
["CMREM_11510","BZ",{"$f":"+'Outgoing Remittances (Volume)'!$G$5","v":"20241130"},{"$f":"+'COVER SHEET'!$D$12","v":0},11510,{"$f":"'COVER SHEET'!$D$16&IF(MID('COVER SHEET'!$I$18,6,10)=\"december\",\"1231\",IF(MID('COVER SHEET'!$I$18,6,10)=\"june\",\"0630\"))","v":"20241231"},{"$f":"+'Outgoing Remittances (Volume)'!G30","v":0}]
["CMREM_11510","BJ",{"$f":"+'Outgoing Remittances (Volume)'!$G$5","v":"20241130"},{"$f":"+'COVER SHEET'!$D$12","v":0},11510,{"$f":"'COVER SHEET'!$D$16&IF(MID('COVER SHEET'!$I$18,6,10)=\"december\",\"1231\",IF(MID('COVER SHEET'!$I$18,6,10)=\"june\",\"0630\"))","v":"20241231"},{"$f":"+'Outgoing Remittances (Volume)'!G31","v":0}]
["CMREM_11510","BM",{"$f":"+'Outgoing Remittances (Volume)'!$G$5","v":"20241130"},{"$f":"+'COVER SHEET'!$D$12","v":0},11510,{"$f":"'COVER SHEET'!$D$16&IF(MID('COVER SHEET'!$I$18,6,10)=\"december\",\"1231\",IF(MID('COVER SHEET'!$I$18,6,10)=\"june\",\"0630\"))","v":"20241231"},{"$f":"+'Outgoing Remittances (Volume)'!G32","v":0}]
["CMREM_11510","BQ",{"$f":"+'Outgoing Remittances (Volume)'!$G$5","v":"20241130"},{"$f":"+'COVER SHEET'!$D$12","v":0},11510,{"$f":"'COVER SHEET'!$D$16&IF(MID('COVER SHEET'!$I$18,6,10)=\"december\",\"1231\",IF(MID('COVER SHEET'!$I$18,6,10)=\"june\",\"0630\"))","v":"20241231"},{"$f":"+'Outgoing Remittances (Volume)'!G33","v":0}]
["CMREM_11510","BT",{"$f":"+'Outgoing Remittances (Volume)'!$G$5","v":"20241130"},{"$f":"+'COVER SHEET'!$D$12","v":0},11510,{"$f":"'COVER SHEET'!$D$16&IF(MID('COVER SHEET'!$I$18,6,10)=\"december\",\"1231\",IF(MID('COVER SHEET'!$I$18,6,10)=\"june\",\"0630\"))","v":"20241231"},{"$f":"+'Outgoing Remittances (Volume)'!G34","v":0}]
["CMREM_11510","BO",{"$f":"+'Outgoing Remittances (Volume)'!$G$5","v":"20241130"},{"$f":"+'COVER SHEET'!$D$12","v":0},11510,{"$f":"'COVER SHEET'!$D$16&IF(MID('COVER SHEET'!$I$18,6,10)=\"december\",\"1231\",IF(MID('COVER SHEET'!$I$18,6,10)=\"june\",\"0630\"))","v":"20241231"},{"$f":"+'Outgoing Remittances (Volume)'!G35","v":0}]
["CMREM_11510","BA",{"$f":"+'Outgoing Remittances (Volume)'!$G$5","v":"20241130"},{"$f":"+'COVER SHEET'!$D$12","v":0},11510,{"$f":"'COVER SHEET'!$D$16&IF(MID('COVER SHEET'!$I$18,6,10)=\"december\",\"1231\",IF(MID('COVER SHEET'!$I$18,6,10)=\"june\",\"0630\"))","v":"20241231"},{"$f":"+'Outgoing Remittances (Volume)'!G36","v":0}]
["CMREM_11510","BW",{"$f":"+'Outgoing Remittances (Volume)'!$G$5","v":"20241130"},{"$f":"+'COVER SHEET'!$D$12","v":0},11510,{"$f":"'COVER SHEET'!$D$16&IF(MID('COVER SHEET'!$I$18,6,10)=\"december\",\"1231\",IF(MID('COVER SHEET'!$I$18,6,10)=\"june\",\"0630\"))","v":"20241231"},{"$f":"+'Outgoing Remittances (Volume)'!G37","v":0}]
["CMREM_11510","BV",{"$f":"+'Outgoing Remittances (Volume)'!$G$5","v":"20241130"},{"$f":"+'COVER SHEET'!$D$12","v":0},11510,{"$f":"'COVER SHEET'!$D$16&IF(MID('COVER SHEET'!$I$18,6,10)=\"december\",\"1231\",IF(MID('COVER SHEET'!$I$18,6,10)=\"june\",\"0630\"))","v":"20241231"},{"$f":"+'Outgoing Remittances (Volume)'!G38","v":0}]
["CMREM_11510","BR",{"$f":"+'Outgoing Remittances (Volume)'!$G$5","v":"20241130"},{"$f":"+'COVER SHEET'!$D$12","v":0},11510,{"$f":"'COVER SHEET'!$D$16&IF(MID('COVER SHEET'!$I$18,6,10)=\"december\",\"1231\",IF(MID('COVER SHEET'!$I$18,6,10)=\"june\",\"0630\"))","v":"20241231"},{"$f":"+'Outgoing Remittances (Volume)'!G39","v":0}]
["CMREM_11510","IO",{"$f":"+'Outgoing Remittances (Volume)'!$G$5","v":"20241130"},{"$f":"+'COVER SHEET'!$D$12","v":0},11510,{"$f":"'COVER SHEET'!$D$16&IF(MID('COVER SHEET'!$I$18,6,10)=\"december\",\"1231\",IF(MID('COVER SHEET'!$I$18,6,10)=\"june\",\"0630\"))","v":"20241231"},{"$f":"+'Outgoing Remittances (Volume)'!G40","v":0}]
["CMREM_11510","VG",{"$f":"+'Outgoing Remittances (Volume)'!$G$5","v":"20241130"},{"$f":"+'COVER SHEET'!$D$12","v":0},11510,{"$f":"'COVER SHEET'!$D$16&IF(MID('COVER SHEET'!$I$18,6,10)=\"december\",\"1231\",IF(MID('COVER SHEET'!$I$18,6,10)=\"june\",\"0630\"))","v":"20241231"},{"$f":"+'Outgoing Remittances (Volume)'!G41","v":0}]
["CMREM_11510","BN",{"$f":"+'Outgoing Remittances (Volume)'!$G$5","v":"20241130"},{"$f":"+'COVER SHEET'!$D$12","v":0},11510,{"$f":"'COVER SHEET'!$D$16&IF(MID('COVER SHEET'!$I$18,6,10)=\"december\",\"1231\",IF(MID('COVER SHEET'!$I$18,6,10)=\"june\",\"0630\"))","v":"20241231"},{"$f":"+'Outgoing Remittances (Volume)'!G42","v":0}]
["CMREM_11510","BG",{"$f":"+'Outgoing Remittances (Volume)'!$G$5","v":"20241130"},{"$f":"+'COVER SHEET'!$D$12","v":0},11510,{"$f":"'COVER SHEET'!$D$16&IF(MID('COVER SHEET'!$I$18,6,10)=\"december\",\"1231\",IF(MID('COVER SHEET'!$I$18,6,10)=\"june\",\"0630\"))","v":"20241231"},{"$f":"+'Outgoing Remittances (Volume)'!G43","v":0}]
["CMREM_11510","BF",{"$f":"+'Outgoing Remittances (Volume)'!$G$5","v":"20241130"},{"$f":"+'COVER SHEET'!$D$12","v":0},11510,{"$f":"'COVER SHEET'!$D$16&IF(MID('COVER SHEET'!$I$18,6,10)=\"december\",\"1231\",IF(MID('COVER SHEET'!$I$18,6,10)=\"june\",\"0630\"))","v":"20241231"},{"$f":"+'Outgoing Remittances (Volume)'!G44","v":0}]
["CMREM_11510","BI",{"$f":"+'Outgoing Remittances (Volume)'!$G$5","v":"20241130"},{"$f":"+'COVER SHEET'!$D$12","v":0},11510,{"$f":"'COVER SHEET'!$D$16&IF(MID('COVER SHEET'!$I$18,6,10)=\"december\",\"1231\",IF(MID('COVER SHEET'!$I$18,6,10)=\"june\",\"0630\"))","v":"20241231"},{"$f":"+'Outgoing Remittances (Volume)'!G45","v":0}]
["CMREM_11510","KH",{"$f":"+'Outgoing Remittances (Volume)'!$G$5","v":"20241130"},{"$f":"+'COVER SHEET'!$D$12","v":0},11510,{"$f":"'COVER SHEET'!$D$16&IF(MID('COVER SHEET'!$I$18,6,10)=\"december\",\"1231\",IF(MID('COVER SHEET'!$I$18,6,10)=\"june\",\"0630\"))","v":"20241231"},{"$f":"+'Outgoing Remittances (Volume)'!G46","v":0}]
["CMREM_11510","CM",{"$f":"+'Outgoing Remittances (Volume)'!$G$5","v":"20241130"},{"$f":"+'COVER SHEET'!$D$12","v":0},11510,{"$f":"'COVER SHEET'!$D$16&IF(MID('COVER SHEET'!$I$18,6,10)=\"december\",\"1231\",IF(MID('COVER SHEET'!$I$18,6,10)=\"june\",\"0630\"))","v":"20241231"},{"$f":"+'Outgoing Remittances (Volume)'!G47","v":0}]
["CMREM_11510","CA",{"$f":"+'Outgoing Remittances (Volume)'!$G$5","v":"20241130"},{"$f":"+'COVER SHEET'!$D$12","v":0},11510,{"$f":"'COVER SHEET'!$D$16&IF(MID('COVER SHEET'!$I$18,6,10)=\"december\",\"1231\",IF(MID('COVER SHEET'!$I$18,6,10)=\"june\",\"0630\"))","v":"20241231"},{"$f":"+'Outgoing Remittances (Volume)'!G48","v":0}]
["CMREM_11510","CV",{"$f":"+'Outgoing Remittances (Volume)'!$G$5","v":"20241130"},{"$f":"+'COVER SHEET'!$D$12","v":0},11510,{"$f":"'COVER SHEET'!$D$16&IF(MID('COVER SHEET'!$I$18,6,10)=\"december\",\"1231\",IF(MID('COVER SHEET'!$I$18,6,10)=\"june\",\"0630\"))","v":"20241231"},{"$f":"+'Outgoing Remittances (Volume)'!G49","v":0}]
["CMREM_11510","KY",{"$f":"+'Outgoing Remittances (Volume)'!$G$5","v":"20241130"},{"$f":"+'COVER SHEET'!$D$12","v":0},11510,{"$f":"'COVER SHEET'!$D$16&IF(MID('COVER SHEET'!$I$18,6,10)=\"december\",\"1231\",IF(MID('COVER SHEET'!$I$18,6,10)=\"june\",\"0630\"))","v":"20241231"},{"$f":"+'Outgoing Remittances (Volume)'!G50","v":0}]
["CMREM_11510","CF",{"$f":"+'Outgoing Remittances (Volume)'!$G$5","v":"20241130"},{"$f":"+'COVER SHEET'!$D$12","v":0},11510,{"$f":"'COVER SHEET'!$D$16&IF(MID('COVER SHEET'!$I$18,6,10)=\"december\",\"1231\",IF(MID('COVER SHEET'!$I$18,6,10)=\"june\",\"0630\"))","v":"20241231"},{"$f":"+'Outgoing Remittances (Volume)'!G51","v":0}]
["CMREM_11510","TD",{"$f":"+'Outgoing Remittances (Volume)'!$G$5","v":"20241130"},{"$f":"+'COVER SHEET'!$D$12","v":0},11510,{"$f":"'COVER SHEET'!$D$16&IF(MID('COVER SHEET'!$I$18,6,10)=\"december\",\"1231\",IF(MID('COVER SHEET'!$I$18,6,10)=\"june\",\"0630\"))","v":"20241231"},{"$f":"+'Outgoing Remittances (Volume)'!G52","v":0}]
["CMREM_11510","CL",{"$f":"+'Outgoing Remittances (Volume)'!$G$5","v":"20241130"},{"$f":"+'COVER SHEET'!$D$12","v":0},11510,{"$f":"'COVER SHEET'!$D$16&IF(MID('COVER SHEET'!$I$18,6,10)=\"december\",\"1231\",IF(MID('COVER SHEET'!$I$18,6,10)=\"june\",\"0630\"))","v":"20241231"},{"$f":"+'Outgoing Remittances (Volume)'!G53","v":0}]
["CMREM_11510","CN",{"$f":"+'Outgoing Remittances (Volume)'!$G$5","v":"20241130"},{"$f":"+'COVER SHEET'!$D$12","v":0},11510,{"$f":"'COVER SHEET'!$D$16&IF(MID('COVER SHEET'!$I$18,6,10)=\"december\",\"1231\",IF(MID('COVER SHEET'!$I$18,6,10)=\"june\",\"0630\"))","v":"20241231"},{"$f":"+'Outgoing Remittances (Volume)'!G54","v":0}]
["CMREM_11510","CX",{"$f":"+'Outgoing Remittances (Volume)'!$G$5","v":"20241130"},{"$f":"+'COVER SHEET'!$D$12","v":0},11510,{"$f":"'COVER SHEET'!$D$16&IF(MID('COVER SHEET'!$I$18,6,10)=\"december\",\"1231\",IF(MID('COVER SHEET'!$I$18,6,10)=\"june\",\"0630\"))","v":"20241231"},{"$f":"+'Outgoing Remittances (Volume)'!G55","v":0}]
["CMREM_11510","CC",{"$f":"+'Outgoing Remittances (Volume)'!$G$5","v":"20241130"},{"$f":"+'COVER SHEET'!$D$12","v":0},11510,{"$f":"'COVER SHEET'!$D$16&IF(MID('COVER SHEET'!$I$18,6,10)=\"december\",\"1231\",IF(MID('COVER SHEET'!$I$18,6,10)=\"june\",\"0630\"))","v":"20241231"},{"$f":"+'Outgoing Remittances (Volume)'!G56","v":0}]
["CMREM_11510","CO",{"$f":"+'Outgoing Remittances (Volume)'!$G$5","v":"20241130"},{"$f":"+'COVER SHEET'!$D$12","v":0},11510,{"$f":"'COVER SHEET'!$D$16&IF(MID('COVER SHEET'!$I$18,6,10)=\"december\",\"1231\",IF(MID('COVER SHEET'!$I$18,6,10)=\"june\",\"0630\"))","v":"20241231"},{"$f":"+'Outgoing Remittances (Volume)'!G57","v":0}]
["CMREM_11510","KM",{"$f":"+'Outgoing Remittances (Volume)'!$G$5","v":"20241130"},{"$f":"+'COVER SHEET'!$D$12","v":0},11510,{"$f":"'COVER SHEET'!$D$16&IF(MID('COVER SHEET'!$I$18,6,10)=\"december\",\"1231\",IF(MID('COVER SHEET'!$I$18,6,10)=\"june\",\"0630\"))","v":"20241231"},{"$f":"+'Outgoing Remittances (Volume)'!G58","v":0}]
["CMREM_11510","CG",{"$f":"+'Outgoing Remittances (Volume)'!$G$5","v":"20241130"},{"$f":"+'COVER SHEET'!$D$12","v":0},11510,{"$f":"'COVER SHEET'!$D$16&IF(MID('COVER SHEET'!$I$18,6,10)=\"december\",\"1231\",IF(MID('COVER SHEET'!$I$18,6,10)=\"june\",\"0630\"))","v":"20241231"},{"$f":"+'Outgoing Remittances (Volume)'!G59","v":0}]
["CMREM_11510","CD",{"$f":"+'Outgoing Remittances (Volume)'!$G$5","v":"20241130"},{"$f":"+'COVER SHEET'!$D$12","v":0},11510,{"$f":"'COVER SHEET'!$D$16&IF(MID('COVER SHEET'!$I$18,6,10)=\"december\",\"1231\",IF(MID('COVER SHEET'!$I$18,6,10)=\"june\",\"0630\"))","v":"20241231"},{"$f":"+'Outgoing Remittances (Volume)'!G60","v":0}]
["CMREM_11510","CK",{"$f":"+'Outgoing Remittances (Volume)'!$G$5","v":"20241130"},{"$f":"+'COVER SHEET'!$D$12","v":0},11510,{"$f":"'COVER SHEET'!$D$16&IF(MID('COVER SHEET'!$I$18,6,10)=\"december\",\"1231\",IF(MID('COVER SHEET'!$I$18,6,10)=\"june\",\"0630\"))","v":"20241231"},{"$f":"+'Outgoing Remittances (Volume)'!G61","v":0}]
["CMREM_11510","CR",{"$f":"+'Outgoing Remittances (Volume)'!$G$5","v":"20241130"},{"$f":"+'COVER SHEET'!$D$12","v":0},11510,{"$f":"'COVER SHEET'!$D$16&IF(MID('COVER SHEET'!$I$18,6,10)=\"december\",\"1231\",IF(MID('COVER SHEET'!$I$18,6,10)=\"june\",\"0630\"))","v":"20241231"},{"$f":"+'Outgoing Remittances (Volume)'!G62","v":0}]
["CMREM_11510","HR",{"$f":"+'Outgoing Remittances (Volume)'!$G$5","v":"20241130"},{"$f":"+'COVER SHEET'!$D$12","v":0},11510,{"$f":"'COVER SHEET'!$D$16&IF(MID('COVER SHEET'!$I$18,6,10)=\"december\",\"1231\",IF(MID('COVER SHEET'!$I$18,6,10)=\"june\",\"0630\"))","v":"20241231"},{"$f":"+'Outgoing Remittances (Volume)'!G63","v":0}]
["CMREM_11510","CU",{"$f":"+'Outgoing Remittances (Volume)'!$G$5","v":"20241130"},{"$f":"+'COVER SHEET'!$D$12","v":0},11510,{"$f":"'COVER SHEET'!$D$16&IF(MID('COVER SHEET'!$I$18,6,10)=\"december\",\"1231\",IF(MID('COVER SHEET'!$I$18,6,10)=\"june\",\"0630\"))","v":"20241231"},{"$f":"+'Outgoing Remittances (Volume)'!G64","v":0}]
["CMREM_11510","CW",{"$f":"+'Outgoing Remittances (Volume)'!$G$5","v":"20241130"},{"$f":"+'COVER SHEET'!$D$12","v":0},11510,{"$f":"'COVER SHEET'!$D$16&IF(MID('COVER SHEET'!$I$18,6,10)=\"december\",\"1231\",IF(MID('COVER SHEET'!$I$18,6,10)=\"june\",\"0630\"))","v":"20241231"},{"$f":"+'Outgoing Remittances (Volume)'!G65","v":0}]
["CMREM_11510","CY",{"$f":"+'Outgoing Remittances (Volume)'!$G$5","v":"20241130"},{"$f":"+'COVER SHEET'!$D$12","v":0},11510,{"$f":"'COVER SHEET'!$D$16&IF(MID('COVER SHEET'!$I$18,6,10)=\"december\",\"1231\",IF(MID('COVER SHEET'!$I$18,6,10)=\"june\",\"0630\"))","v":"20241231"},{"$f":"+'Outgoing Remittances (Volume)'!G66","v":0}]
["CMREM_11510","CZ",{"$f":"+'Outgoing Remittances (Volume)'!$G$5","v":"20241130"},{"$f":"+'COVER SHEET'!$D$12","v":0},11510,{"$f":"'COVER SHEET'!$D$16&IF(MID('COVER SHEET'!$I$18,6,10)=\"december\",\"1231\",IF(MID('COVER SHEET'!$I$18,6,10)=\"june\",\"0630\"))","v":"20241231"},{"$f":"+'Outgoing Remittances (Volume)'!G67","v":0}]
["CMREM_11510","DK",{"$f":"+'Outgoing Remittances (Volume)'!$G$5","v":"20241130"},{"$f":"+'COVER SHEET'!$D$12","v":0},11510,{"$f":"'COVER SHEET'!$D$16&IF(MID('COVER SHEET'!$I$18,6,10)=\"december\",\"1231\",IF(MID('COVER SHEET'!$I$18,6,10)=\"june\",\"0630\"))","v":"20241231"},{"$f":"+'Outgoing Remittances (Volume)'!G68","v":0}]
["CMREM_11510","DJ",{"$f":"+'Outgoing Remittances (Volume)'!$G$5","v":"20241130"},{"$f":"+'COVER SHEET'!$D$12","v":0},11510,{"$f":"'COVER SHEET'!$D$16&IF(MID('COVER SHEET'!$I$18,6,10)=\"december\",\"1231\",IF(MID('COVER SHEET'!$I$18,6,10)=\"june\",\"0630\"))","v":"20241231"},{"$f":"+'Outgoing Remittances (Volume)'!G69","v":0}]
["CMREM_11510","DM",{"$f":"+'Outgoing Remittances (Volume)'!$G$5","v":"20241130"},{"$f":"+'COVER SHEET'!$D$12","v":0},11510,{"$f":"'COVER SHEET'!$D$16&IF(MID('COVER SHEET'!$I$18,6,10)=\"december\",\"1231\",IF(MID('COVER SHEET'!$I$18,6,10)=\"june\",\"0630\"))","v":"20241231"},{"$f":"+'Outgoing Remittances (Volume)'!G70","v":0}]
["CMREM_11510","DO",{"$f":"+'Outgoing Remittances (Volume)'!$G$5","v":"20241130"},{"$f":"+'COVER SHEET'!$D$12","v":0},11510,{"$f":"'COVER SHEET'!$D$16&IF(MID('COVER SHEET'!$I$18,6,10)=\"december\",\"1231\",IF(MID('COVER SHEET'!$I$18,6,10)=\"june\",\"0630\"))","v":"20241231"},{"$f":"+'Outgoing Remittances (Volume)'!G71","v":0}]
["CMREM_11510","TL",{"$f":"+'Outgoing Remittances (Volume)'!$G$5","v":"20241130"},{"$f":"+'COVER SHEET'!$D$12","v":0},11510,{"$f":"'COVER SHEET'!$D$16&IF(MID('COVER SHEET'!$I$18,6,10)=\"december\",\"1231\",IF(MID('COVER SHEET'!$I$18,6,10)=\"june\",\"0630\"))","v":"20241231"},{"$f":"+'Outgoing Remittances (Volume)'!G72","v":0}]
["CMREM_11510","EC",{"$f":"+'Outgoing Remittances (Volume)'!$G$5","v":"20241130"},{"$f":"+'COVER SHEET'!$D$12","v":0},11510,{"$f":"'COVER SHEET'!$D$16&IF(MID('COVER SHEET'!$I$18,6,10)=\"december\",\"1231\",IF(MID('COVER SHEET'!$I$18,6,10)=\"june\",\"0630\"))","v":"20241231"},{"$f":"+'Outgoing Remittances (Volume)'!G73","v":0}]
["CMREM_11510","EG",{"$f":"+'Outgoing Remittances (Volume)'!$G$5","v":"20241130"},{"$f":"+'COVER SHEET'!$D$12","v":0},11510,{"$f":"'COVER SHEET'!$D$16&IF(MID('COVER SHEET'!$I$18,6,10)=\"december\",\"1231\",IF(MID('COVER SHEET'!$I$18,6,10)=\"june\",\"0630\"))","v":"20241231"},{"$f":"+'Outgoing Remittances (Volume)'!G74","v":0}]
["CMREM_11510","SV",{"$f":"+'Outgoing Remittances (Volume)'!$G$5","v":"20241130"},{"$f":"+'COVER SHEET'!$D$12","v":0},11510,{"$f":"'COVER SHEET'!$D$16&IF(MID('COVER SHEET'!$I$18,6,10)=\"december\",\"1231\",IF(MID('COVER SHEET'!$I$18,6,10)=\"june\",\"0630\"))","v":"20241231"},{"$f":"+'Outgoing Remittances (Volume)'!G75","v":0}]
["CMREM_11510","GQ",{"$f":"+'Outgoing Remittances (Volume)'!$G$5","v":"20241130"},{"$f":"+'COVER SHEET'!$D$12","v":0},11510,{"$f":"'COVER SHEET'!$D$16&IF(MID('COVER SHEET'!$I$18,6,10)=\"december\",\"1231\",IF(MID('COVER SHEET'!$I$18,6,10)=\"june\",\"0630\"))","v":"20241231"},{"$f":"+'Outgoing Remittances (Volume)'!G76","v":0}]
["CMREM_11510","ER",{"$f":"+'Outgoing Remittances (Volume)'!$G$5","v":"20241130"},{"$f":"+'COVER SHEET'!$D$12","v":0},11510,{"$f":"'COVER SHEET'!$D$16&IF(MID('COVER SHEET'!$I$18,6,10)=\"december\",\"1231\",IF(MID('COVER SHEET'!$I$18,6,10)=\"june\",\"0630\"))","v":"20241231"},{"$f":"+'Outgoing Remittances (Volume)'!G77","v":0}]
["CMREM_11510","EE",{"$f":"+'Outgoing Remittances (Volume)'!$G$5","v":"20241130"},{"$f":"+'COVER SHEET'!$D$12","v":0},11510,{"$f":"'COVER SHEET'!$D$16&IF(MID('COVER SHEET'!$I$18,6,10)=\"december\",\"1231\",IF(MID('COVER SHEET'!$I$18,6,10)=\"june\",\"0630\"))","v":"20241231"},{"$f":"+'Outgoing Remittances (Volume)'!G78","v":0}]
["CMREM_11510","ET",{"$f":"+'Outgoing Remittances (Volume)'!$G$5","v":"20241130"},{"$f":"+'COVER SHEET'!$D$12","v":0},11510,{"$f":"'COVER SHEET'!$D$16&IF(MID('COVER SHEET'!$I$18,6,10)=\"december\",\"1231\",IF(MID('COVER SHEET'!$I$18,6,10)=\"june\",\"0630\"))","v":"20241231"},{"$f":"+'Outgoing Remittances (Volume)'!G79","v":0}]
["CMREM_11510","FK",{"$f":"+'Outgoing Remittances (Volume)'!$G$5","v":"20241130"},{"$f":"+'COVER SHEET'!$D$12","v":0},11510,{"$f":"'COVER SHEET'!$D$16&IF(MID('COVER SHEET'!$I$18,6,10)=\"december\",\"1231\",IF(MID('COVER SHEET'!$I$18,6,10)=\"june\",\"0630\"))","v":"20241231"},{"$f":"+'Outgoing Remittances (Volume)'!G80","v":0}]
["CMREM_11510","FO",{"$f":"+'Outgoing Remittances (Volume)'!$G$5","v":"20241130"},{"$f":"+'COVER SHEET'!$D$12","v":0},11510,{"$f":"'COVER SHEET'!$D$16&IF(MID('COVER SHEET'!$I$18,6,10)=\"december\",\"1231\",IF(MID('COVER SHEET'!$I$18,6,10)=\"june\",\"0630\"))","v":"20241231"},{"$f":"+'Outgoing Remittances (Volume)'!G81","v":0}]
["CMREM_11510","FJ",{"$f":"+'Outgoing Remittances (Volume)'!$G$5","v":"20241130"},{"$f":"+'COVER SHEET'!$D$12","v":0},11510,{"$f":"'COVER SHEET'!$D$16&IF(MID('COVER SHEET'!$I$18,6,10)=\"december\",\"1231\",IF(MID('COVER SHEET'!$I$18,6,10)=\"june\",\"0630\"))","v":"20241231"},{"$f":"+'Outgoing Remittances (Volume)'!G82","v":0}]
["CMREM_11510","FI",{"$f":"+'Outgoing Remittances (Volume)'!$G$5","v":"20241130"},{"$f":"+'COVER SHEET'!$D$12","v":0},11510,{"$f":"'COVER SHEET'!$D$16&IF(MID('COVER SHEET'!$I$18,6,10)=\"december\",\"1231\",IF(MID('COVER SHEET'!$I$18,6,10)=\"june\",\"0630\"))","v":"20241231"},{"$f":"+'Outgoing Remittances (Volume)'!G83","v":0}]
["CMREM_11510","FR",{"$f":"+'Outgoing Remittances (Volume)'!$G$5","v":"20241130"},{"$f":"+'COVER SHEET'!$D$12","v":0},11510,{"$f":"'COVER SHEET'!$D$16&IF(MID('COVER SHEET'!$I$18,6,10)=\"december\",\"1231\",IF(MID('COVER SHEET'!$I$18,6,10)=\"june\",\"0630\"))","v":"20241231"},{"$f":"+'Outgoing Remittances (Volume)'!G84","v":0}]
["CMREM_11510","PF",{"$f":"+'Outgoing Remittances (Volume)'!$G$5","v":"20241130"},{"$f":"+'COVER SHEET'!$D$12","v":0},11510,{"$f":"'COVER SHEET'!$D$16&IF(MID('COVER SHEET'!$I$18,6,10)=\"december\",\"1231\",IF(MID('COVER SHEET'!$I$18,6,10)=\"june\",\"0630\"))","v":"20241231"},{"$f":"+'Outgoing Remittances (Volume)'!G85","v":0}]
["CMREM_11510","TF",{"$f":"+'Outgoing Remittances (Volume)'!$G$5","v":"20241130"},{"$f":"+'COVER SHEET'!$D$12","v":0},11510,{"$f":"'COVER SHEET'!$D$16&IF(MID('COVER SHEET'!$I$18,6,10)=\"december\",\"1231\",IF(MID('COVER SHEET'!$I$18,6,10)=\"june\",\"0630\"))","v":"20241231"},{"$f":"+'Outgoing Remittances (Volume)'!G86","v":0}]
["CMREM_11510","GA",{"$f":"+'Outgoing Remittances (Volume)'!$G$5","v":"20241130"},{"$f":"+'COVER SHEET'!$D$12","v":0},11510,{"$f":"'COVER SHEET'!$D$16&IF(MID('COVER SHEET'!$I$18,6,10)=\"december\",\"1231\",IF(MID('COVER SHEET'!$I$18,6,10)=\"june\",\"0630\"))","v":"20241231"},{"$f":"+'Outgoing Remittances (Volume)'!G87","v":0}]
["CMREM_11510","GM",{"$f":"+'Outgoing Remittances (Volume)'!$G$5","v":"20241130"},{"$f":"+'COVER SHEET'!$D$12","v":0},11510,{"$f":"'COVER SHEET'!$D$16&IF(MID('COVER SHEET'!$I$18,6,10)=\"december\",\"1231\",IF(MID('COVER SHEET'!$I$18,6,10)=\"june\",\"0630\"))","v":"20241231"},{"$f":"+'Outgoing Remittances (Volume)'!G88","v":0}]
["CMREM_11510","GE",{"$f":"+'Outgoing Remittances (Volume)'!$G$5","v":"20241130"},{"$f":"+'COVER SHEET'!$D$12","v":0},11510,{"$f":"'COVER SHEET'!$D$16&IF(MID('COVER SHEET'!$I$18,6,10)=\"december\",\"1231\",IF(MID('COVER SHEET'!$I$18,6,10)=\"june\",\"0630\"))","v":"20241231"},{"$f":"+'Outgoing Remittances (Volume)'!G89","v":0}]
["CMREM_11510","DE",{"$f":"+'Outgoing Remittances (Volume)'!$G$5","v":"20241130"},{"$f":"+'COVER SHEET'!$D$12","v":0},11510,{"$f":"'COVER SHEET'!$D$16&IF(MID('COVER SHEET'!$I$18,6,10)=\"december\",\"1231\",IF(MID('COVER SHEET'!$I$18,6,10)=\"june\",\"0630\"))","v":"20241231"},{"$f":"+'Outgoing Remittances (Volume)'!G90","v":0}]
["CMREM_11510","GH",{"$f":"+'Outgoing Remittances (Volume)'!$G$5","v":"20241130"},{"$f":"+'COVER SHEET'!$D$12","v":0},11510,{"$f":"'COVER SHEET'!$D$16&IF(MID('COVER SHEET'!$I$18,6,10)=\"december\",\"1231\",IF(MID('COVER SHEET'!$I$18,6,10)=\"june\",\"0630\"))","v":"20241231"},{"$f":"+'Outgoing Remittances (Volume)'!G91","v":0}]
["CMREM_11510","GI",{"$f":"+'Outgoing Remittances (Volume)'!$G$5","v":"20241130"},{"$f":"+'COVER SHEET'!$D$12","v":0},11510,{"$f":"'COVER SHEET'!$D$16&IF(MID('COVER SHEET'!$I$18,6,10)=\"december\",\"1231\",IF(MID('COVER SHEET'!$I$18,6,10)=\"june\",\"0630\"))","v":"20241231"},{"$f":"+'Outgoing Remittances (Volume)'!G92","v":0}]
["CMREM_11510","GR",{"$f":"+'Outgoing Remittances (Volume)'!$G$5","v":"20241130"},{"$f":"+'COVER SHEET'!$D$12","v":0},11510,{"$f":"'COVER SHEET'!$D$16&IF(MID('COVER SHEET'!$I$18,6,10)=\"december\",\"1231\",IF(MID('COVER SHEET'!$I$18,6,10)=\"june\",\"0630\"))","v":"20241231"},{"$f":"+'Outgoing Remittances (Volume)'!G93","v":0}]
["CMREM_11510","GL",{"$f":"+'Outgoing Remittances (Volume)'!$G$5","v":"20241130"},{"$f":"+'COVER SHEET'!$D$12","v":0},11510,{"$f":"'COVER SHEET'!$D$16&IF(MID('COVER SHEET'!$I$18,6,10)=\"december\",\"1231\",IF(MID('COVER SHEET'!$I$18,6,10)=\"june\",\"0630\"))","v":"20241231"},{"$f":"+'Outgoing Remittances (Volume)'!G94","v":0}]
["CMREM_11510","GD",{"$f":"+'Outgoing Remittances (Volume)'!$G$5","v":"20241130"},{"$f":"+'COVER SHEET'!$D$12","v":0},11510,{"$f":"'COVER SHEET'!$D$16&IF(MID('COVER SHEET'!$I$18,6,10)=\"december\",\"1231\",IF(MID('COVER SHEET'!$I$18,6,10)=\"june\",\"0630\"))","v":"20241231"},{"$f":"+'Outgoing Remittances (Volume)'!G95","v":0}]
["CMREM_11510","GU",{"$f":"+'Outgoing Remittances (Volume)'!$G$5","v":"20241130"},{"$f":"+'COVER SHEET'!$D$12","v":0},11510,{"$f":"'COVER SHEET'!$D$16&IF(MID('COVER SHEET'!$I$18,6,10)=\"december\",\"1231\",IF(MID('COVER SHEET'!$I$18,6,10)=\"june\",\"0630\"))","v":"20241231"},{"$f":"+'Outgoing Remittances (Volume)'!G96","v":0}]
["CMREM_11510","GT",{"$f":"+'Outgoing Remittances (Volume)'!$G$5","v":"20241130"},{"$f":"+'COVER SHEET'!$D$12","v":0},11510,{"$f":"'COVER SHEET'!$D$16&IF(MID('COVER SHEET'!$I$18,6,10)=\"december\",\"1231\",IF(MID('COVER SHEET'!$I$18,6,10)=\"june\",\"0630\"))","v":"20241231"},{"$f":"+'Outgoing Remittances (Volume)'!G97","v":0}]
["CMREM_11510","GG",{"$f":"+'Outgoing Remittances (Volume)'!$G$5","v":"20241130"},{"$f":"+'COVER SHEET'!$D$12","v":0},11510,{"$f":"'COVER SHEET'!$D$16&IF(MID('COVER SHEET'!$I$18,6,10)=\"december\",\"1231\",IF(MID('COVER SHEET'!$I$18,6,10)=\"june\",\"0630\"))","v":"20241231"},{"$f":"+'Outgoing Remittances (Volume)'!G98","v":0}]
["CMREM_11510","GN",{"$f":"+'Outgoing Remittances (Volume)'!$G$5","v":"20241130"},{"$f":"+'COVER SHEET'!$D$12","v":0},11510,{"$f":"'COVER SHEET'!$D$16&IF(MID('COVER SHEET'!$I$18,6,10)=\"december\",\"1231\",IF(MID('COVER SHEET'!$I$18,6,10)=\"june\",\"0630\"))","v":"20241231"},{"$f":"+'Outgoing Remittances (Volume)'!G99","v":0}]
["CMREM_11510","GW",{"$f":"+'Outgoing Remittances (Volume)'!$G$5","v":"20241130"},{"$f":"+'COVER SHEET'!$D$12","v":0},11510,{"$f":"'COVER SHEET'!$D$16&IF(MID('COVER SHEET'!$I$18,6,10)=\"december\",\"1231\",IF(MID('COVER SHEET'!$I$18,6,10)=\"june\",\"0630\"))","v":"20241231"},{"$f":"+'Outgoing Remittances (Volume)'!G100","v":0}]
["CMREM_11510","GY",{"$f":"+'Outgoing Remittances (Volume)'!$G$5","v":"20241130"},{"$f":"+'COVER SHEET'!$D$12","v":0},11510,{"$f":"'COVER SHEET'!$D$16&IF(MID('COVER SHEET'!$I$18,6,10)=\"december\",\"1231\",IF(MID('COVER SHEET'!$I$18,6,10)=\"june\",\"0630\"))","v":"20241231"},{"$f":"+'Outgoing Remittances (Volume)'!G101","v":0}]
["CMREM_11510","HT",{"$f":"+'Outgoing Remittances (Volume)'!$G$5","v":"20241130"},{"$f":"+'COVER SHEET'!$D$12","v":0},11510,{"$f":"'COVER SHEET'!$D$16&IF(MID('COVER SHEET'!$I$18,6,10)=\"december\",\"1231\",IF(MID('COVER SHEET'!$I$18,6,10)=\"june\",\"0630\"))","v":"20241231"},{"$f":"+'Outgoing Remittances (Volume)'!G102","v":0}]
["CMREM_11510","HM",{"$f":"+'Outgoing Remittances (Volume)'!$G$5","v":"20241130"},{"$f":"+'COVER SHEET'!$D$12","v":0},11510,{"$f":"'COVER SHEET'!$D$16&IF(MID('COVER SHEET'!$I$18,6,10)=\"december\",\"1231\",IF(MID('COVER SHEET'!$I$18,6,10)=\"june\",\"0630\"))","v":"20241231"},{"$f":"+'Outgoing Remittances (Volume)'!G103","v":0}]
["CMREM_11510","VA",{"$f":"+'Outgoing Remittances (Volume)'!$G$5","v":"20241130"},{"$f":"+'COVER SHEET'!$D$12","v":0},11510,{"$f":"'COVER SHEET'!$D$16&IF(MID('COVER SHEET'!$I$18,6,10)=\"december\",\"1231\",IF(MID('COVER SHEET'!$I$18,6,10)=\"june\",\"0630\"))","v":"20241231"},{"$f":"+'Outgoing Remittances (Volume)'!G104","v":0}]
["CMREM_11510","HN",{"$f":"+'Outgoing Remittances (Volume)'!$G$5","v":"20241130"},{"$f":"+'COVER SHEET'!$D$12","v":0},11510,{"$f":"'COVER SHEET'!$D$16&IF(MID('COVER SHEET'!$I$18,6,10)=\"december\",\"1231\",IF(MID('COVER SHEET'!$I$18,6,10)=\"june\",\"0630\"))","v":"20241231"},{"$f":"+'Outgoing Remittances (Volume)'!G105","v":0}]
["CMREM_11510","HK",{"$f":"+'Outgoing Remittances (Volume)'!$G$5","v":"20241130"},{"$f":"+'COVER SHEET'!$D$12","v":0},11510,{"$f":"'COVER SHEET'!$D$16&IF(MID('COVER SHEET'!$I$18,6,10)=\"december\",\"1231\",IF(MID('COVER SHEET'!$I$18,6,10)=\"june\",\"0630\"))","v":"20241231"},{"$f":"+'Outgoing Remittances (Volume)'!G106","v":0}]
["CMREM_11510","HU",{"$f":"+'Outgoing Remittances (Volume)'!$G$5","v":"20241130"},{"$f":"+'COVER SHEET'!$D$12","v":0},11510,{"$f":"'COVER SHEET'!$D$16&IF(MID('COVER SHEET'!$I$18,6,10)=\"december\",\"1231\",IF(MID('COVER SHEET'!$I$18,6,10)=\"june\",\"0630\"))","v":"20241231"},{"$f":"+'Outgoing Remittances (Volume)'!G107","v":0}]
["CMREM_11510","IS",{"$f":"+'Outgoing Remittances (Volume)'!$G$5","v":"20241130"},{"$f":"+'COVER SHEET'!$D$12","v":0},11510,{"$f":"'COVER SHEET'!$D$16&IF(MID('COVER SHEET'!$I$18,6,10)=\"december\",\"1231\",IF(MID('COVER SHEET'!$I$18,6,10)=\"june\",\"0630\"))","v":"20241231"},{"$f":"+'Outgoing Remittances (Volume)'!G108","v":0}]
["CMREM_11510","IN",{"$f":"+'Outgoing Remittances (Volume)'!$G$5","v":"20241130"},{"$f":"+'COVER SHEET'!$D$12","v":0},11510,{"$f":"'COVER SHEET'!$D$16&IF(MID('COVER SHEET'!$I$18,6,10)=\"december\",\"1231\",IF(MID('COVER SHEET'!$I$18,6,10)=\"june\",\"0630\"))","v":"20241231"},{"$f":"+'Outgoing Remittances (Volume)'!G109","v":0}]
["CMREM_11510","ID",{"$f":"+'Outgoing Remittances (Volume)'!$G$5","v":"20241130"},{"$f":"+'COVER SHEET'!$D$12","v":0},11510,{"$f":"'COVER SHEET'!$D$16&IF(MID('COVER SHEET'!$I$18,6,10)=\"december\",\"1231\",IF(MID('COVER SHEET'!$I$18,6,10)=\"june\",\"0630\"))","v":"20241231"},{"$f":"+'Outgoing Remittances (Volume)'!G110","v":0}]
["CMREM_11510","IR",{"$f":"+'Outgoing Remittances (Volume)'!$G$5","v":"20241130"},{"$f":"+'COVER SHEET'!$D$12","v":0},11510,{"$f":"'COVER SHEET'!$D$16&IF(MID('COVER SHEET'!$I$18,6,10)=\"december\",\"1231\",IF(MID('COVER SHEET'!$I$18,6,10)=\"june\",\"0630\"))","v":"20241231"},{"$f":"+'Outgoing Remittances (Volume)'!G111","v":0}]
["CMREM_11510","IQ",{"$f":"+'Outgoing Remittances (Volume)'!$G$5","v":"20241130"},{"$f":"+'COVER SHEET'!$D$12","v":0},11510,{"$f":"'COVER SHEET'!$D$16&IF(MID('COVER SHEET'!$I$18,6,10)=\"december\",\"1231\",IF(MID('COVER SHEET'!$I$18,6,10)=\"june\",\"0630\"))","v":"20241231"},{"$f":"+'Outgoing Remittances (Volume)'!G112","v":0}]
["CMREM_11510","IE",{"$f":"+'Outgoing Remittances (Volume)'!$G$5","v":"20241130"},{"$f":"+'COVER SHEET'!$D$12","v":0},11510,{"$f":"'COVER SHEET'!$D$16&IF(MID('COVER SHEET'!$I$18,6,10)=\"december\",\"1231\",IF(MID('COVER SHEET'!$I$18,6,10)=\"june\",\"0630\"))","v":"20241231"},{"$f":"+'Outgoing Remittances (Volume)'!G113","v":0}]
["CMREM_11510","IM",{"$f":"+'Outgoing Remittances (Volume)'!$G$5","v":"20241130"},{"$f":"+'COVER SHEET'!$D$12","v":0},11510,{"$f":"'COVER SHEET'!$D$16&IF(MID('COVER SHEET'!$I$18,6,10)=\"december\",\"1231\",IF(MID('COVER SHEET'!$I$18,6,10)=\"june\",\"0630\"))","v":"20241231"},{"$f":"+'Outgoing Remittances (Volume)'!G114","v":0}]
["CMREM_11510","IL",{"$f":"+'Outgoing Remittances (Volume)'!$G$5","v":"20241130"},{"$f":"+'COVER SHEET'!$D$12","v":0},11510,{"$f":"'COVER SHEET'!$D$16&IF(MID('COVER SHEET'!$I$18,6,10)=\"december\",\"1231\",IF(MID('COVER SHEET'!$I$18,6,10)=\"june\",\"0630\"))","v":"20241231"},{"$f":"+'Outgoing Remittances (Volume)'!G115","v":0}]
["CMREM_11510","IT",{"$f":"+'Outgoing Remittances (Volume)'!$G$5","v":"20241130"},{"$f":"+'COVER SHEET'!$D$12","v":0},11510,{"$f":"'COVER SHEET'!$D$16&IF(MID('COVER SHEET'!$I$18,6,10)=\"december\",\"1231\",IF(MID('COVER SHEET'!$I$18,6,10)=\"june\",\"0630\"))","v":"20241231"},{"$f":"+'Outgoing Remittances (Volume)'!G116","v":0}]
["CMREM_11510","CI",{"$f":"+'Outgoing Remittances (Volume)'!$G$5","v":"20241130"},{"$f":"+'COVER SHEET'!$D$12","v":0},11510,{"$f":"'COVER SHEET'!$D$16&IF(MID('COVER SHEET'!$I$18,6,10)=\"december\",\"1231\",IF(MID('COVER SHEET'!$I$18,6,10)=\"june\",\"0630\"))","v":"20241231"},{"$f":"+'Outgoing Remittances (Volume)'!G117","v":0}]
["CMREM_11510","JM",{"$f":"+'Outgoing Remittances (Volume)'!$G$5","v":"20241130"},{"$f":"+'COVER SHEET'!$D$12","v":0},11510,{"$f":"'COVER SHEET'!$D$16&IF(MID('COVER SHEET'!$I$18,6,10)=\"december\",\"1231\",IF(MID('COVER SHEET'!$I$18,6,10)=\"june\",\"0630\"))","v":"20241231"},{"$f":"+'Outgoing Remittances (Volume)'!G118","v":0}]
["CMREM_11510","JP",{"$f":"+'Outgoing Remittances (Volume)'!$G$5","v":"20241130"},{"$f":"+'COVER SHEET'!$D$12","v":0},11510,{"$f":"'COVER SHEET'!$D$16&IF(MID('COVER SHEET'!$I$18,6,10)=\"december\",\"1231\",IF(MID('COVER SHEET'!$I$18,6,10)=\"june\",\"0630\"))","v":"20241231"},{"$f":"+'Outgoing Remittances (Volume)'!G119","v":0}]
["CMREM_11510","JE",{"$f":"+'Outgoing Remittances (Volume)'!$G$5","v":"20241130"},{"$f":"+'COVER SHEET'!$D$12","v":0},11510,{"$f":"'COVER SHEET'!$D$16&IF(MID('COVER SHEET'!$I$18,6,10)=\"december\",\"1231\",IF(MID('COVER SHEET'!$I$18,6,10)=\"june\",\"0630\"))","v":"20241231"},{"$f":"+'Outgoing Remittances (Volume)'!G120","v":0}]
["CMREM_11510","JO",{"$f":"+'Outgoing Remittances (Volume)'!$G$5","v":"20241130"},{"$f":"+'COVER SHEET'!$D$12","v":0},11510,{"$f":"'COVER SHEET'!$D$16&IF(MID('COVER SHEET'!$I$18,6,10)=\"december\",\"1231\",IF(MID('COVER SHEET'!$I$18,6,10)=\"june\",\"0630\"))","v":"20241231"},{"$f":"+'Outgoing Remittances (Volume)'!G121","v":0}]
["CMREM_11510","KZ",{"$f":"+'Outgoing Remittances (Volume)'!$G$5","v":"20241130"},{"$f":"+'COVER SHEET'!$D$12","v":0},11510,{"$f":"'COVER SHEET'!$D$16&IF(MID('COVER SHEET'!$I$18,6,10)=\"december\",\"1231\",IF(MID('COVER SHEET'!$I$18,6,10)=\"june\",\"0630\"))","v":"20241231"},{"$f":"+'Outgoing Remittances (Volume)'!G122","v":0}]
["CMREM_11510","KE",{"$f":"+'Outgoing Remittances (Volume)'!$G$5","v":"20241130"},{"$f":"+'COVER SHEET'!$D$12","v":0},11510,{"$f":"'COVER SHEET'!$D$16&IF(MID('COVER SHEET'!$I$18,6,10)=\"december\",\"1231\",IF(MID('COVER SHEET'!$I$18,6,10)=\"june\",\"0630\"))","v":"20241231"},{"$f":"+'Outgoing Remittances (Volume)'!G123","v":0}]
["CMREM_11510","KI",{"$f":"+'Outgoing Remittances (Volume)'!$G$5","v":"20241130"},{"$f":"+'COVER SHEET'!$D$12","v":0},11510,{"$f":"'COVER SHEET'!$D$16&IF(MID('COVER SHEET'!$I$18,6,10)=\"december\",\"1231\",IF(MID('COVER SHEET'!$I$18,6,10)=\"june\",\"0630\"))","v":"20241231"},{"$f":"+'Outgoing Remittances (Volume)'!G124","v":0}]
["CMREM_11510","KP",{"$f":"+'Outgoing Remittances (Volume)'!$G$5","v":"20241130"},{"$f":"+'COVER SHEET'!$D$12","v":0},11510,{"$f":"'COVER SHEET'!$D$16&IF(MID('COVER SHEET'!$I$18,6,10)=\"december\",\"1231\",IF(MID('COVER SHEET'!$I$18,6,10)=\"june\",\"0630\"))","v":"20241231"},{"$f":"+'Outgoing Remittances (Volume)'!G125","v":0}]
["CMREM_11510","KR",{"$f":"+'Outgoing Remittances (Volume)'!$G$5","v":"20241130"},{"$f":"+'COVER SHEET'!$D$12","v":0},11510,{"$f":"'COVER SHEET'!$D$16&IF(MID('COVER SHEET'!$I$18,6,10)=\"december\",\"1231\",IF(MID('COVER SHEET'!$I$18,6,10)=\"june\",\"0630\"))","v":"20241231"},{"$f":"+'Outgoing Remittances (Volume)'!G126","v":0}]
["CMREM_11510","XK",{"$f":"+'Outgoing Remittances (Volume)'!$G$5","v":"20241130"},{"$f":"+'COVER SHEET'!$D$12","v":0},11510,{"$f":"'COVER SHEET'!$D$16&IF(MID('COVER SHEET'!$I$18,6,10)=\"december\",\"1231\",IF(MID('COVER SHEET'!$I$18,6,10)=\"june\",\"0630\"))","v":"20241231"},{"$f":"+'Outgoing Remittances (Volume)'!G127","v":0}]
["CMREM_11510","KW",{"$f":"+'Outgoing Remittances (Volume)'!$G$5","v":"20241130"},{"$f":"+'COVER SHEET'!$D$12","v":0},11510,{"$f":"'COVER SHEET'!$D$16&IF(MID('COVER SHEET'!$I$18,6,10)=\"december\",\"1231\",IF(MID('COVER SHEET'!$I$18,6,10)=\"june\",\"0630\"))","v":"20241231"},{"$f":"+'Outgoing Remittances (Volume)'!G128","v":0}]
["CMREM_11510","KG",{"$f":"+'Outgoing Remittances (Volume)'!$G$5","v":"20241130"},{"$f":"+'COVER SHEET'!$D$12","v":0},11510,{"$f":"'COVER SHEET'!$D$16&IF(MID('COVER SHEET'!$I$18,6,10)=\"december\",\"1231\",IF(MID('COVER SHEET'!$I$18,6,10)=\"june\",\"0630\"))","v":"20241231"},{"$f":"+'Outgoing Remittances (Volume)'!G129","v":0}]
["CMREM_11510","LA",{"$f":"+'Outgoing Remittances (Volume)'!$G$5","v":"20241130"},{"$f":"+'COVER SHEET'!$D$12","v":0},11510,{"$f":"'COVER SHEET'!$D$16&IF(MID('COVER SHEET'!$I$18,6,10)=\"december\",\"1231\",IF(MID('COVER SHEET'!$I$18,6,10)=\"june\",\"0630\"))","v":"20241231"},{"$f":"+'Outgoing Remittances (Volume)'!G130","v":0}]
["CMREM_11510","LV",{"$f":"+'Outgoing Remittances (Volume)'!$G$5","v":"20241130"},{"$f":"+'COVER SHEET'!$D$12","v":0},11510,{"$f":"'COVER SHEET'!$D$16&IF(MID('COVER SHEET'!$I$18,6,10)=\"december\",\"1231\",IF(MID('COVER SHEET'!$I$18,6,10)=\"june\",\"0630\"))","v":"20241231"},{"$f":"+'Outgoing Remittances (Volume)'!G131","v":0}]
["CMREM_11510","LB",{"$f":"+'Outgoing Remittances (Volume)'!$G$5","v":"20241130"},{"$f":"+'COVER SHEET'!$D$12","v":0},11510,{"$f":"'COVER SHEET'!$D$16&IF(MID('COVER SHEET'!$I$18,6,10)=\"december\",\"1231\",IF(MID('COVER SHEET'!$I$18,6,10)=\"june\",\"0630\"))","v":"20241231"},{"$f":"+'Outgoing Remittances (Volume)'!G132","v":0}]
["CMREM_11510","LS",{"$f":"+'Outgoing Remittances (Volume)'!$G$5","v":"20241130"},{"$f":"+'COVER SHEET'!$D$12","v":0},11510,{"$f":"'COVER SHEET'!$D$16&IF(MID('COVER SHEET'!$I$18,6,10)=\"december\",\"1231\",IF(MID('COVER SHEET'!$I$18,6,10)=\"june\",\"0630\"))","v":"20241231"},{"$f":"+'Outgoing Remittances (Volume)'!G133","v":0}]
["CMREM_11510","LR",{"$f":"+'Outgoing Remittances (Volume)'!$G$5","v":"20241130"},{"$f":"+'COVER SHEET'!$D$12","v":0},11510,{"$f":"'COVER SHEET'!$D$16&IF(MID('COVER SHEET'!$I$18,6,10)=\"december\",\"1231\",IF(MID('COVER SHEET'!$I$18,6,10)=\"june\",\"0630\"))","v":"20241231"},{"$f":"+'Outgoing Remittances (Volume)'!G134","v":0}]
["CMREM_11510","LY",{"$f":"+'Outgoing Remittances (Volume)'!$G$5","v":"20241130"},{"$f":"+'COVER SHEET'!$D$12","v":0},11510,{"$f":"'COVER SHEET'!$D$16&IF(MID('COVER SHEET'!$I$18,6,10)=\"december\",\"1231\",IF(MID('COVER SHEET'!$I$18,6,10)=\"june\",\"0630\"))","v":"20241231"},{"$f":"+'Outgoing Remittances (Volume)'!G135","v":0}]
["CMREM_11510","LI",{"$f":"+'Outgoing Remittances (Volume)'!$G$5","v":"20241130"},{"$f":"+'COVER SHEET'!$D$12","v":0},11510,{"$f":"'COVER SHEET'!$D$16&IF(MID('COVER SHEET'!$I$18,6,10)=\"december\",\"1231\",IF(MID('COVER SHEET'!$I$18,6,10)=\"june\",\"0630\"))","v":"20241231"},{"$f":"+'Outgoing Remittances (Volume)'!G136","v":0}]
["CMREM_11510","LT",{"$f":"+'Outgoing Remittances (Volume)'!$G$5","v":"20241130"},{"$f":"+'COVER SHEET'!$D$12","v":0},11510,{"$f":"'COVER SHEET'!$D$16&IF(MID('COVER SHEET'!$I$18,6,10)=\"december\",\"1231\",IF(MID('COVER SHEET'!$I$18,6,10)=\"june\",\"0630\"))","v":"20241231"},{"$f":"+'Outgoing Remittances (Volume)'!G137","v":0}]
["CMREM_11510","LU",{"$f":"+'Outgoing Remittances (Volume)'!$G$5","v":"20241130"},{"$f":"+'COVER SHEET'!$D$12","v":0},11510,{"$f":"'COVER SHEET'!$D$16&IF(MID('COVER SHEET'!$I$18,6,10)=\"december\",\"1231\",IF(MID('COVER SHEET'!$I$18,6,10)=\"june\",\"0630\"))","v":"20241231"},{"$f":"+'Outgoing Remittances (Volume)'!G138","v":0}]
["CMREM_11510","MO",{"$f":"+'Outgoing Remittances (Volume)'!$G$5","v":"20241130"},{"$f":"+'COVER SHEET'!$D$12","v":0},11510,{"$f":"'COVER SHEET'!$D$16&IF(MID('COVER SHEET'!$I$18,6,10)=\"december\",\"1231\",IF(MID('COVER SHEET'!$I$18,6,10)=\"june\",\"0630\"))","v":"20241231"},{"$f":"+'Outgoing Remittances (Volume)'!G139","v":0}]
["CMREM_11510","MK",{"$f":"+'Outgoing Remittances (Volume)'!$G$5","v":"20241130"},{"$f":"+'COVER SHEET'!$D$12","v":0},11510,{"$f":"'COVER SHEET'!$D$16&IF(MID('COVER SHEET'!$I$18,6,10)=\"december\",\"1231\",IF(MID('COVER SHEET'!$I$18,6,10)=\"june\",\"0630\"))","v":"20241231"},{"$f":"+'Outgoing Remittances (Volume)'!G140","v":0}]
["CMREM_11510","MG",{"$f":"+'Outgoing Remittances (Volume)'!$G$5","v":"20241130"},{"$f":"+'COVER SHEET'!$D$12","v":0},11510,{"$f":"'COVER SHEET'!$D$16&IF(MID('COVER SHEET'!$I$18,6,10)=\"december\",\"1231\",IF(MID('COVER SHEET'!$I$18,6,10)=\"june\",\"0630\"))","v":"20241231"},{"$f":"+'Outgoing Remittances (Volume)'!G141","v":0}]
["CMREM_11510","MW",{"$f":"+'Outgoing Remittances (Volume)'!$G$5","v":"20241130"},{"$f":"+'COVER SHEET'!$D$12","v":0},11510,{"$f":"'COVER SHEET'!$D$16&IF(MID('COVER SHEET'!$I$18,6,10)=\"december\",\"1231\",IF(MID('COVER SHEET'!$I$18,6,10)=\"june\",\"0630\"))","v":"20241231"},{"$f":"+'Outgoing Remittances (Volume)'!G142","v":0}]
["CMREM_11510","MY",{"$f":"+'Outgoing Remittances (Volume)'!$G$5","v":"20241130"},{"$f":"+'COVER SHEET'!$D$12","v":0},11510,{"$f":"'COVER SHEET'!$D$16&IF(MID('COVER SHEET'!$I$18,6,10)=\"december\",\"1231\",IF(MID('COVER SHEET'!$I$18,6,10)=\"june\",\"0630\"))","v":"20241231"},{"$f":"+'Outgoing Remittances (Volume)'!G143","v":0}]
["CMREM_11510","MV",{"$f":"+'Outgoing Remittances (Volume)'!$G$5","v":"20241130"},{"$f":"+'COVER SHEET'!$D$12","v":0},11510,{"$f":"'COVER SHEET'!$D$16&IF(MID('COVER SHEET'!$I$18,6,10)=\"december\",\"1231\",IF(MID('COVER SHEET'!$I$18,6,10)=\"june\",\"0630\"))","v":"20241231"},{"$f":"+'Outgoing Remittances (Volume)'!G144","v":0}]
["CMREM_11510","ML",{"$f":"+'Outgoing Remittances (Volume)'!$G$5","v":"20241130"},{"$f":"+'COVER SHEET'!$D$12","v":0},11510,{"$f":"'COVER SHEET'!$D$16&IF(MID('COVER SHEET'!$I$18,6,10)=\"december\",\"1231\",IF(MID('COVER SHEET'!$I$18,6,10)=\"june\",\"0630\"))","v":"20241231"},{"$f":"+'Outgoing Remittances (Volume)'!G145","v":0}]
["CMREM_11510","MH",{"$f":"+'Outgoing Remittances (Volume)'!$G$5","v":"20241130"},{"$f":"+'COVER SHEET'!$D$12","v":0},11510,{"$f":"'COVER SHEET'!$D$16&IF(MID('COVER SHEET'!$I$18,6,10)=\"december\",\"1231\",IF(MID('COVER SHEET'!$I$18,6,10)=\"june\",\"0630\"))","v":"20241231"},{"$f":"+'Outgoing Remittances (Volume)'!G146","v":0}]
["CMREM_11510","MR",{"$f":"+'Outgoing Remittances (Volume)'!$G$5","v":"20241130"},{"$f":"+'COVER SHEET'!$D$12","v":0},11510,{"$f":"'COVER SHEET'!$D$16&IF(MID('COVER SHEET'!$I$18,6,10)=\"december\",\"1231\",IF(MID('COVER SHEET'!$I$18,6,10)=\"june\",\"0630\"))","v":"20241231"},{"$f":"+'Outgoing Remittances (Volume)'!G147","v":0}]
["CMREM_11510","MU",{"$f":"+'Outgoing Remittances (Volume)'!$G$5","v":"20241130"},{"$f":"+'COVER SHEET'!$D$12","v":0},11510,{"$f":"'COVER SHEET'!$D$16&IF(MID('COVER SHEET'!$I$18,6,10)=\"december\",\"1231\",IF(MID('COVER SHEET'!$I$18,6,10)=\"june\",\"0630\"))","v":"20241231"},{"$f":"+'Outgoing Remittances (Volume)'!G148","v":0}]
["CMREM_11510","MX",{"$f":"+'Outgoing Remittances (Volume)'!$G$5","v":"20241130"},{"$f":"+'COVER SHEET'!$D$12","v":0},11510,{"$f":"'COVER SHEET'!$D$16&IF(MID('COVER SHEET'!$I$18,6,10)=\"december\",\"1231\",IF(MID('COVER SHEET'!$I$18,6,10)=\"june\",\"0630\"))","v":"20241231"},{"$f":"+'Outgoing Remittances (Volume)'!G149","v":0}]
["CMREM_11510","FM",{"$f":"+'Outgoing Remittances (Volume)'!$G$5","v":"20241130"},{"$f":"+'COVER SHEET'!$D$12","v":0},11510,{"$f":"'COVER SHEET'!$D$16&IF(MID('COVER SHEET'!$I$18,6,10)=\"december\",\"1231\",IF(MID('COVER SHEET'!$I$18,6,10)=\"june\",\"0630\"))","v":"20241231"},{"$f":"+'Outgoing Remittances (Volume)'!G150","v":0}]
["CMREM_11510","MD",{"$f":"+'Outgoing Remittances (Volume)'!$G$5","v":"20241130"},{"$f":"+'COVER SHEET'!$D$12","v":0},11510,{"$f":"'COVER SHEET'!$D$16&IF(MID('COVER SHEET'!$I$18,6,10)=\"december\",\"1231\",IF(MID('COVER SHEET'!$I$18,6,10)=\"june\",\"0630\"))","v":"20241231"},{"$f":"+'Outgoing Remittances (Volume)'!G151","v":0}]
["CMREM_11510","MN",{"$f":"+'Outgoing Remittances (Volume)'!$G$5","v":"20241130"},{"$f":"+'COVER SHEET'!$D$12","v":0},11510,{"$f":"'COVER SHEET'!$D$16&IF(MID('COVER SHEET'!$I$18,6,10)=\"december\",\"1231\",IF(MID('COVER SHEET'!$I$18,6,10)=\"june\",\"0630\"))","v":"20241231"},{"$f":"+'Outgoing Remittances (Volume)'!G152","v":0}]
["CMREM_11510","ME",{"$f":"+'Outgoing Remittances (Volume)'!$G$5","v":"20241130"},{"$f":"+'COVER SHEET'!$D$12","v":0},11510,{"$f":"'COVER SHEET'!$D$16&IF(MID('COVER SHEET'!$I$18,6,10)=\"december\",\"1231\",IF(MID('COVER SHEET'!$I$18,6,10)=\"june\",\"0630\"))","v":"20241231"},{"$f":"+'Outgoing Remittances (Volume)'!G153","v":0}]
["CMREM_11510","MS",{"$f":"+'Outgoing Remittances (Volume)'!$G$5","v":"20241130"},{"$f":"+'COVER SHEET'!$D$12","v":0},11510,{"$f":"'COVER SHEET'!$D$16&IF(MID('COVER SHEET'!$I$18,6,10)=\"december\",\"1231\",IF(MID('COVER SHEET'!$I$18,6,10)=\"june\",\"0630\"))","v":"20241231"},{"$f":"+'Outgoing Remittances (Volume)'!G154","v":0}]
["CMREM_11510","MA",{"$f":"+'Outgoing Remittances (Volume)'!$G$5","v":"20241130"},{"$f":"+'COVER SHEET'!$D$12","v":0},11510,{"$f":"'COVER SHEET'!$D$16&IF(MID('COVER SHEET'!$I$18,6,10)=\"december\",\"1231\",IF(MID('COVER SHEET'!$I$18,6,10)=\"june\",\"0630\"))","v":"20241231"},{"$f":"+'Outgoing Remittances (Volume)'!G155","v":0}]
["CMREM_11510","MZ",{"$f":"+'Outgoing Remittances (Volume)'!$G$5","v":"20241130"},{"$f":"+'COVER SHEET'!$D$12","v":0},11510,{"$f":"'COVER SHEET'!$D$16&IF(MID('COVER SHEET'!$I$18,6,10)=\"december\",\"1231\",IF(MID('COVER SHEET'!$I$18,6,10)=\"june\",\"0630\"))","v":"20241231"},{"$f":"+'Outgoing Remittances (Volume)'!G156","v":0}]
["CMREM_11510","MM",{"$f":"+'Outgoing Remittances (Volume)'!$G$5","v":"20241130"},{"$f":"+'COVER SHEET'!$D$12","v":0},11510,{"$f":"'COVER SHEET'!$D$16&IF(MID('COVER SHEET'!$I$18,6,10)=\"december\",\"1231\",IF(MID('COVER SHEET'!$I$18,6,10)=\"june\",\"0630\"))","v":"20241231"},{"$f":"+'Outgoing Remittances (Volume)'!G157","v":0}]
["CMREM_11510","NA",{"$f":"+'Outgoing Remittances (Volume)'!$G$5","v":"20241130"},{"$f":"+'COVER SHEET'!$D$12","v":0},11510,{"$f":"'COVER SHEET'!$D$16&IF(MID('COVER SHEET'!$I$18,6,10)=\"december\",\"1231\",IF(MID('COVER SHEET'!$I$18,6,10)=\"june\",\"0630\"))","v":"20241231"},{"$f":"+'Outgoing Remittances (Volume)'!G158","v":0}]
["CMREM_11510","NR",{"$f":"+'Outgoing Remittances (Volume)'!$G$5","v":"20241130"},{"$f":"+'COVER SHEET'!$D$12","v":0},11510,{"$f":"'COVER SHEET'!$D$16&IF(MID('COVER SHEET'!$I$18,6,10)=\"december\",\"1231\",IF(MID('COVER SHEET'!$I$18,6,10)=\"june\",\"0630\"))","v":"20241231"},{"$f":"+'Outgoing Remittances (Volume)'!G159","v":0}]
["CMREM_11510","NP",{"$f":"+'Outgoing Remittances (Volume)'!$G$5","v":"20241130"},{"$f":"+'COVER SHEET'!$D$12","v":0},11510,{"$f":"'COVER SHEET'!$D$16&IF(MID('COVER SHEET'!$I$18,6,10)=\"december\",\"1231\",IF(MID('COVER SHEET'!$I$18,6,10)=\"june\",\"0630\"))","v":"20241231"},{"$f":"+'Outgoing Remittances (Volume)'!G160","v":0}]
["CMREM_11510","NL",{"$f":"+'Outgoing Remittances (Volume)'!$G$5","v":"20241130"},{"$f":"+'COVER SHEET'!$D$12","v":0},11510,{"$f":"'COVER SHEET'!$D$16&IF(MID('COVER SHEET'!$I$18,6,10)=\"december\",\"1231\",IF(MID('COVER SHEET'!$I$18,6,10)=\"june\",\"0630\"))","v":"20241231"},{"$f":"+'Outgoing Remittances (Volume)'!G161","v":0}]
["CMREM_11510","NC",{"$f":"+'Outgoing Remittances (Volume)'!$G$5","v":"20241130"},{"$f":"+'COVER SHEET'!$D$12","v":0},11510,{"$f":"'COVER SHEET'!$D$16&IF(MID('COVER SHEET'!$I$18,6,10)=\"december\",\"1231\",IF(MID('COVER SHEET'!$I$18,6,10)=\"june\",\"0630\"))","v":"20241231"},{"$f":"+'Outgoing Remittances (Volume)'!G162","v":0}]
["CMREM_11510","NZ",{"$f":"+'Outgoing Remittances (Volume)'!$G$5","v":"20241130"},{"$f":"+'COVER SHEET'!$D$12","v":0},11510,{"$f":"'COVER SHEET'!$D$16&IF(MID('COVER SHEET'!$I$18,6,10)=\"december\",\"1231\",IF(MID('COVER SHEET'!$I$18,6,10)=\"june\",\"0630\"))","v":"20241231"},{"$f":"+'Outgoing Remittances (Volume)'!G163","v":0}]
["CMREM_11510","NI",{"$f":"+'Outgoing Remittances (Volume)'!$G$5","v":"20241130"},{"$f":"+'COVER SHEET'!$D$12","v":0},11510,{"$f":"'COVER SHEET'!$D$16&IF(MID('COVER SHEET'!$I$18,6,10)=\"december\",\"1231\",IF(MID('COVER SHEET'!$I$18,6,10)=\"june\",\"0630\"))","v":"20241231"},{"$f":"+'Outgoing Remittances (Volume)'!G164","v":0}]
["CMREM_11510","NE",{"$f":"+'Outgoing Remittances (Volume)'!$G$5","v":"20241130"},{"$f":"+'COVER SHEET'!$D$12","v":0},11510,{"$f":"'COVER SHEET'!$D$16&IF(MID('COVER SHEET'!$I$18,6,10)=\"december\",\"1231\",IF(MID('COVER SHEET'!$I$18,6,10)=\"june\",\"0630\"))","v":"20241231"},{"$f":"+'Outgoing Remittances (Volume)'!G165","v":0}]
["CMREM_11510","NG",{"$f":"+'Outgoing Remittances (Volume)'!$G$5","v":"20241130"},{"$f":"+'COVER SHEET'!$D$12","v":0},11510,{"$f":"'COVER SHEET'!$D$16&IF(MID('COVER SHEET'!$I$18,6,10)=\"december\",\"1231\",IF(MID('COVER SHEET'!$I$18,6,10)=\"june\",\"0630\"))","v":"20241231"},{"$f":"+'Outgoing Remittances (Volume)'!G166","v":0}]
["CMREM_11510","NU",{"$f":"+'Outgoing Remittances (Volume)'!$G$5","v":"20241130"},{"$f":"+'COVER SHEET'!$D$12","v":0},11510,{"$f":"'COVER SHEET'!$D$16&IF(MID('COVER SHEET'!$I$18,6,10)=\"december\",\"1231\",IF(MID('COVER SHEET'!$I$18,6,10)=\"june\",\"0630\"))","v":"20241231"},{"$f":"+'Outgoing Remittances (Volume)'!G167","v":0}]
["CMREM_11510","NF",{"$f":"+'Outgoing Remittances (Volume)'!$G$5","v":"20241130"},{"$f":"+'COVER SHEET'!$D$12","v":0},11510,{"$f":"'COVER SHEET'!$D$16&IF(MID('COVER SHEET'!$I$18,6,10)=\"december\",\"1231\",IF(MID('COVER SHEET'!$I$18,6,10)=\"june\",\"0630\"))","v":"20241231"},{"$f":"+'Outgoing Remittances (Volume)'!G168","v":0}]
["CMREM_11510","MP",{"$f":"+'Outgoing Remittances (Volume)'!$G$5","v":"20241130"},{"$f":"+'COVER SHEET'!$D$12","v":0},11510,{"$f":"'COVER SHEET'!$D$16&IF(MID('COVER SHEET'!$I$18,6,10)=\"december\",\"1231\",IF(MID('COVER SHEET'!$I$18,6,10)=\"june\",\"0630\"))","v":"20241231"},{"$f":"+'Outgoing Remittances (Volume)'!G169","v":0}]
["CMREM_11510","NO",{"$f":"+'Outgoing Remittances (Volume)'!$G$5","v":"20241130"},{"$f":"+'COVER SHEET'!$D$12","v":0},11510,{"$f":"'COVER SHEET'!$D$16&IF(MID('COVER SHEET'!$I$18,6,10)=\"december\",\"1231\",IF(MID('COVER SHEET'!$I$18,6,10)=\"june\",\"0630\"))","v":"20241231"},{"$f":"+'Outgoing Remittances (Volume)'!G170","v":0}]
["CMREM_11510","OM",{"$f":"+'Outgoing Remittances (Volume)'!$G$5","v":"20241130"},{"$f":"+'COVER SHEET'!$D$12","v":0},11510,{"$f":"'COVER SHEET'!$D$16&IF(MID('COVER SHEET'!$I$18,6,10)=\"december\",\"1231\",IF(MID('COVER SHEET'!$I$18,6,10)=\"june\",\"0630\"))","v":"20241231"},{"$f":"+'Outgoing Remittances (Volume)'!G171","v":0}]
["CMREM_11510","PK",{"$f":"+'Outgoing Remittances (Volume)'!$G$5","v":"20241130"},{"$f":"+'COVER SHEET'!$D$12","v":0},11510,{"$f":"'COVER SHEET'!$D$16&IF(MID('COVER SHEET'!$I$18,6,10)=\"december\",\"1231\",IF(MID('COVER SHEET'!$I$18,6,10)=\"june\",\"0630\"))","v":"20241231"},{"$f":"+'Outgoing Remittances (Volume)'!G172","v":0}]
["CMREM_11510","PW",{"$f":"+'Outgoing Remittances (Volume)'!$G$5","v":"20241130"},{"$f":"+'COVER SHEET'!$D$12","v":0},11510,{"$f":"'COVER SHEET'!$D$16&IF(MID('COVER SHEET'!$I$18,6,10)=\"december\",\"1231\",IF(MID('COVER SHEET'!$I$18,6,10)=\"june\",\"0630\"))","v":"20241231"},{"$f":"+'Outgoing Remittances (Volume)'!G173","v":0}]
["CMREM_11510","PS",{"$f":"+'Outgoing Remittances (Volume)'!$G$5","v":"20241130"},{"$f":"+'COVER SHEET'!$D$12","v":0},11510,{"$f":"'COVER SHEET'!$D$16&IF(MID('COVER SHEET'!$I$18,6,10)=\"december\",\"1231\",IF(MID('COVER SHEET'!$I$18,6,10)=\"june\",\"0630\"))","v":"20241231"},{"$f":"+'Outgoing Remittances (Volume)'!G174","v":0}]
["CMREM_11510","PA",{"$f":"+'Outgoing Remittances (Volume)'!$G$5","v":"20241130"},{"$f":"+'COVER SHEET'!$D$12","v":0},11510,{"$f":"'COVER SHEET'!$D$16&IF(MID('COVER SHEET'!$I$18,6,10)=\"december\",\"1231\",IF(MID('COVER SHEET'!$I$18,6,10)=\"june\",\"0630\"))","v":"20241231"},{"$f":"+'Outgoing Remittances (Volume)'!G175","v":0}]
["CMREM_11510","PG",{"$f":"+'Outgoing Remittances (Volume)'!$G$5","v":"20241130"},{"$f":"+'COVER SHEET'!$D$12","v":0},11510,{"$f":"'COVER SHEET'!$D$16&IF(MID('COVER SHEET'!$I$18,6,10)=\"december\",\"1231\",IF(MID('COVER SHEET'!$I$18,6,10)=\"june\",\"0630\"))","v":"20241231"},{"$f":"+'Outgoing Remittances (Volume)'!G176","v":0}]
["CMREM_11510","PY",{"$f":"+'Outgoing Remittances (Volume)'!$G$5","v":"20241130"},{"$f":"+'COVER SHEET'!$D$12","v":0},11510,{"$f":"'COVER SHEET'!$D$16&IF(MID('COVER SHEET'!$I$18,6,10)=\"december\",\"1231\",IF(MID('COVER SHEET'!$I$18,6,10)=\"june\",\"0630\"))","v":"20241231"},{"$f":"+'Outgoing Remittances (Volume)'!G177","v":0}]
["CMREM_11510","PE",{"$f":"+'Outgoing Remittances (Volume)'!$G$5","v":"20241130"},{"$f":"+'COVER SHEET'!$D$12","v":0},11510,{"$f":"'COVER SHEET'!$D$16&IF(MID('COVER SHEET'!$I$18,6,10)=\"december\",\"1231\",IF(MID('COVER SHEET'!$I$18,6,10)=\"june\",\"0630\"))","v":"20241231"},{"$f":"+'Outgoing Remittances (Volume)'!G178","v":0}]
["CMREM_11510","PH",{"$f":"+'Outgoing Remittances (Volume)'!$G$5","v":"20241130"},{"$f":"+'COVER SHEET'!$D$12","v":0},11510,{"$f":"'COVER SHEET'!$D$16&IF(MID('COVER SHEET'!$I$18,6,10)=\"december\",\"1231\",IF(MID('COVER SHEET'!$I$18,6,10)=\"june\",\"0630\"))","v":"20241231"},{"$f":"+'Outgoing Remittances (Volume)'!G179","v":0}]
["CMREM_11510","PN",{"$f":"+'Outgoing Remittances (Volume)'!$G$5","v":"20241130"},{"$f":"+'COVER SHEET'!$D$12","v":0},11510,{"$f":"'COVER SHEET'!$D$16&IF(MID('COVER SHEET'!$I$18,6,10)=\"december\",\"1231\",IF(MID('COVER SHEET'!$I$18,6,10)=\"june\",\"0630\"))","v":"20241231"},{"$f":"+'Outgoing Remittances (Volume)'!G180","v":0}]
["CMREM_11510","PL",{"$f":"+'Outgoing Remittances (Volume)'!$G$5","v":"20241130"},{"$f":"+'COVER SHEET'!$D$12","v":0},11510,{"$f":"'COVER SHEET'!$D$16&IF(MID('COVER SHEET'!$I$18,6,10)=\"december\",\"1231\",IF(MID('COVER SHEET'!$I$18,6,10)=\"june\",\"0630\"))","v":"20241231"},{"$f":"+'Outgoing Remittances (Volume)'!G181","v":0}]
["CMREM_11510","PT",{"$f":"+'Outgoing Remittances (Volume)'!$G$5","v":"20241130"},{"$f":"+'COVER SHEET'!$D$12","v":0},11510,{"$f":"'COVER SHEET'!$D$16&IF(MID('COVER SHEET'!$I$18,6,10)=\"december\",\"1231\",IF(MID('COVER SHEET'!$I$18,6,10)=\"june\",\"0630\"))","v":"20241231"},{"$f":"+'Outgoing Remittances (Volume)'!G182","v":0}]
["CMREM_11510","QA",{"$f":"+'Outgoing Remittances (Volume)'!$G$5","v":"20241130"},{"$f":"+'COVER SHEET'!$D$12","v":0},11510,{"$f":"'COVER SHEET'!$D$16&IF(MID('COVER SHEET'!$I$18,6,10)=\"december\",\"1231\",IF(MID('COVER SHEET'!$I$18,6,10)=\"june\",\"0630\"))","v":"20241231"},{"$f":"+'Outgoing Remittances (Volume)'!G183","v":0}]
["CMREM_11510","RO",{"$f":"+'Outgoing Remittances (Volume)'!$G$5","v":"20241130"},{"$f":"+'COVER SHEET'!$D$12","v":0},11510,{"$f":"'COVER SHEET'!$D$16&IF(MID('COVER SHEET'!$I$18,6,10)=\"december\",\"1231\",IF(MID('COVER SHEET'!$I$18,6,10)=\"june\",\"0630\"))","v":"20241231"},{"$f":"+'Outgoing Remittances (Volume)'!G184","v":0}]
["CMREM_11510","RU",{"$f":"+'Outgoing Remittances (Volume)'!$G$5","v":"20241130"},{"$f":"+'COVER SHEET'!$D$12","v":0},11510,{"$f":"'COVER SHEET'!$D$16&IF(MID('COVER SHEET'!$I$18,6,10)=\"december\",\"1231\",IF(MID('COVER SHEET'!$I$18,6,10)=\"june\",\"0630\"))","v":"20241231"},{"$f":"+'Outgoing Remittances (Volume)'!G185","v":0}]
["CMREM_11510","RW",{"$f":"+'Outgoing Remittances (Volume)'!$G$5","v":"20241130"},{"$f":"+'COVER SHEET'!$D$12","v":0},11510,{"$f":"'COVER SHEET'!$D$16&IF(MID('COVER SHEET'!$I$18,6,10)=\"december\",\"1231\",IF(MID('COVER SHEET'!$I$18,6,10)=\"june\",\"0630\"))","v":"20241231"},{"$f":"+'Outgoing Remittances (Volume)'!G186","v":0}]
["CMREM_11510","SH",{"$f":"+'Outgoing Remittances (Volume)'!$G$5","v":"20241130"},{"$f":"+'COVER SHEET'!$D$12","v":0},11510,{"$f":"'COVER SHEET'!$D$16&IF(MID('COVER SHEET'!$I$18,6,10)=\"december\",\"1231\",IF(MID('COVER SHEET'!$I$18,6,10)=\"june\",\"0630\"))","v":"20241231"},{"$f":"+'Outgoing Remittances (Volume)'!G187","v":0}]
["CMREM_11510","KN",{"$f":"+'Outgoing Remittances (Volume)'!$G$5","v":"20241130"},{"$f":"+'COVER SHEET'!$D$12","v":0},11510,{"$f":"'COVER SHEET'!$D$16&IF(MID('COVER SHEET'!$I$18,6,10)=\"december\",\"1231\",IF(MID('COVER SHEET'!$I$18,6,10)=\"june\",\"0630\"))","v":"20241231"},{"$f":"+'Outgoing Remittances (Volume)'!G188","v":0}]
["CMREM_11510","LC",{"$f":"+'Outgoing Remittances (Volume)'!$G$5","v":"20241130"},{"$f":"+'COVER SHEET'!$D$12","v":0},11510,{"$f":"'COVER SHEET'!$D$16&IF(MID('COVER SHEET'!$I$18,6,10)=\"december\",\"1231\",IF(MID('COVER SHEET'!$I$18,6,10)=\"june\",\"0630\"))","v":"20241231"},{"$f":"+'Outgoing Remittances (Volume)'!G189","v":0}]
["CMREM_11510","VC",{"$f":"+'Outgoing Remittances (Volume)'!$G$5","v":"20241130"},{"$f":"+'COVER SHEET'!$D$12","v":0},11510,{"$f":"'COVER SHEET'!$D$16&IF(MID('COVER SHEET'!$I$18,6,10)=\"december\",\"1231\",IF(MID('COVER SHEET'!$I$18,6,10)=\"june\",\"0630\"))","v":"20241231"},{"$f":"+'Outgoing Remittances (Volume)'!G190","v":0}]
["CMREM_11510","WS",{"$f":"+'Outgoing Remittances (Volume)'!$G$5","v":"20241130"},{"$f":"+'COVER SHEET'!$D$12","v":0},11510,{"$f":"'COVER SHEET'!$D$16&IF(MID('COVER SHEET'!$I$18,6,10)=\"december\",\"1231\",IF(MID('COVER SHEET'!$I$18,6,10)=\"june\",\"0630\"))","v":"20241231"},{"$f":"+'Outgoing Remittances (Volume)'!G191","v":0}]
["CMREM_11510","SM",{"$f":"+'Outgoing Remittances (Volume)'!$G$5","v":"20241130"},{"$f":"+'COVER SHEET'!$D$12","v":0},11510,{"$f":"'COVER SHEET'!$D$16&IF(MID('COVER SHEET'!$I$18,6,10)=\"december\",\"1231\",IF(MID('COVER SHEET'!$I$18,6,10)=\"june\",\"0630\"))","v":"20241231"},{"$f":"+'Outgoing Remittances (Volume)'!G192","v":0}]
["CMREM_11510","ST",{"$f":"+'Outgoing Remittances (Volume)'!$G$5","v":"20241130"},{"$f":"+'COVER SHEET'!$D$12","v":0},11510,{"$f":"'COVER SHEET'!$D$16&IF(MID('COVER SHEET'!$I$18,6,10)=\"december\",\"1231\",IF(MID('COVER SHEET'!$I$18,6,10)=\"june\",\"0630\"))","v":"20241231"},{"$f":"+'Outgoing Remittances (Volume)'!G193","v":0}]
["CMREM_11510","SA",{"$f":"+'Outgoing Remittances (Volume)'!$G$5","v":"20241130"},{"$f":"+'COVER SHEET'!$D$12","v":0},11510,{"$f":"'COVER SHEET'!$D$16&IF(MID('COVER SHEET'!$I$18,6,10)=\"december\",\"1231\",IF(MID('COVER SHEET'!$I$18,6,10)=\"june\",\"0630\"))","v":"20241231"},{"$f":"+'Outgoing Remittances (Volume)'!G194","v":0}]
["CMREM_11510","SN",{"$f":"+'Outgoing Remittances (Volume)'!$G$5","v":"20241130"},{"$f":"+'COVER SHEET'!$D$12","v":0},11510,{"$f":"'COVER SHEET'!$D$16&IF(MID('COVER SHEET'!$I$18,6,10)=\"december\",\"1231\",IF(MID('COVER SHEET'!$I$18,6,10)=\"june\",\"0630\"))","v":"20241231"},{"$f":"+'Outgoing Remittances (Volume)'!G195","v":0}]
["CMREM_11510","RS",{"$f":"+'Outgoing Remittances (Volume)'!$G$5","v":"20241130"},{"$f":"+'COVER SHEET'!$D$12","v":0},11510,{"$f":"'COVER SHEET'!$D$16&IF(MID('COVER SHEET'!$I$18,6,10)=\"december\",\"1231\",IF(MID('COVER SHEET'!$I$18,6,10)=\"june\",\"0630\"))","v":"20241231"},{"$f":"+'Outgoing Remittances (Volume)'!G196","v":0}]
["CMREM_11510","SC",{"$f":"+'Outgoing Remittances (Volume)'!$G$5","v":"20241130"},{"$f":"+'COVER SHEET'!$D$12","v":0},11510,{"$f":"'COVER SHEET'!$D$16&IF(MID('COVER SHEET'!$I$18,6,10)=\"december\",\"1231\",IF(MID('COVER SHEET'!$I$18,6,10)=\"june\",\"0630\"))","v":"20241231"},{"$f":"+'Outgoing Remittances (Volume)'!G197","v":0}]
["CMREM_11510","SL",{"$f":"+'Outgoing Remittances (Volume)'!$G$5","v":"20241130"},{"$f":"+'COVER SHEET'!$D$12","v":0},11510,{"$f":"'COVER SHEET'!$D$16&IF(MID('COVER SHEET'!$I$18,6,10)=\"december\",\"1231\",IF(MID('COVER SHEET'!$I$18,6,10)=\"june\",\"0630\"))","v":"20241231"},{"$f":"+'Outgoing Remittances (Volume)'!G198","v":0}]
["CMREM_11510","SG",{"$f":"+'Outgoing Remittances (Volume)'!$G$5","v":"20241130"},{"$f":"+'COVER SHEET'!$D$12","v":0},11510,{"$f":"'COVER SHEET'!$D$16&IF(MID('COVER SHEET'!$I$18,6,10)=\"december\",\"1231\",IF(MID('COVER SHEET'!$I$18,6,10)=\"june\",\"0630\"))","v":"20241231"},{"$f":"+'Outgoing Remittances (Volume)'!G199","v":0}]
["CMREM_11510","SX",{"$f":"+'Outgoing Remittances (Volume)'!$G$5","v":"20241130"},{"$f":"+'COVER SHEET'!$D$12","v":0},11510,{"$f":"'COVER SHEET'!$D$16&IF(MID('COVER SHEET'!$I$18,6,10)=\"december\",\"1231\",IF(MID('COVER SHEET'!$I$18,6,10)=\"june\",\"0630\"))","v":"20241231"},{"$f":"+'Outgoing Remittances (Volume)'!G200","v":0}]
["CMREM_11510","SK",{"$f":"+'Outgoing Remittances (Volume)'!$G$5","v":"20241130"},{"$f":"+'COVER SHEET'!$D$12","v":0},11510,{"$f":"'COVER SHEET'!$D$16&IF(MID('COVER SHEET'!$I$18,6,10)=\"december\",\"1231\",IF(MID('COVER SHEET'!$I$18,6,10)=\"june\",\"0630\"))","v":"20241231"},{"$f":"+'Outgoing Remittances (Volume)'!G201","v":0}]
["CMREM_11510","SI",{"$f":"+'Outgoing Remittances (Volume)'!$G$5","v":"20241130"},{"$f":"+'COVER SHEET'!$D$12","v":0},11510,{"$f":"'COVER SHEET'!$D$16&IF(MID('COVER SHEET'!$I$18,6,10)=\"december\",\"1231\",IF(MID('COVER SHEET'!$I$18,6,10)=\"june\",\"0630\"))","v":"20241231"},{"$f":"+'Outgoing Remittances (Volume)'!G202","v":0}]
["CMREM_11510","SB",{"$f":"+'Outgoing Remittances (Volume)'!$G$5","v":"20241130"},{"$f":"+'COVER SHEET'!$D$12","v":0},11510,{"$f":"'COVER SHEET'!$D$16&IF(MID('COVER SHEET'!$I$18,6,10)=\"december\",\"1231\",IF(MID('COVER SHEET'!$I$18,6,10)=\"june\",\"0630\"))","v":"20241231"},{"$f":"+'Outgoing Remittances (Volume)'!G203","v":0}]
["CMREM_11510","SO",{"$f":"+'Outgoing Remittances (Volume)'!$G$5","v":"20241130"},{"$f":"+'COVER SHEET'!$D$12","v":0},11510,{"$f":"'COVER SHEET'!$D$16&IF(MID('COVER SHEET'!$I$18,6,10)=\"december\",\"1231\",IF(MID('COVER SHEET'!$I$18,6,10)=\"june\",\"0630\"))","v":"20241231"},{"$f":"+'Outgoing Remittances (Volume)'!G204","v":0}]
["CMREM_11510","ZA",{"$f":"+'Outgoing Remittances (Volume)'!$G$5","v":"20241130"},{"$f":"+'COVER SHEET'!$D$12","v":0},11510,{"$f":"'COVER SHEET'!$D$16&IF(MID('COVER SHEET'!$I$18,6,10)=\"december\",\"1231\",IF(MID('COVER SHEET'!$I$18,6,10)=\"june\",\"0630\"))","v":"20241231"},{"$f":"+'Outgoing Remittances (Volume)'!G205","v":0}]
["CMREM_11510","GS",{"$f":"+'Outgoing Remittances (Volume)'!$G$5","v":"20241130"},{"$f":"+'COVER SHEET'!$D$12","v":0},11510,{"$f":"'COVER SHEET'!$D$16&IF(MID('COVER SHEET'!$I$18,6,10)=\"december\",\"1231\",IF(MID('COVER SHEET'!$I$18,6,10)=\"june\",\"0630\"))","v":"20241231"},{"$f":"+'Outgoing Remittances (Volume)'!G206","v":0}]
["CMREM_11510","SS",{"$f":"+'Outgoing Remittances (Volume)'!$G$5","v":"20241130"},{"$f":"+'COVER SHEET'!$D$12","v":0},11510,{"$f":"'COVER SHEET'!$D$16&IF(MID('COVER SHEET'!$I$18,6,10)=\"december\",\"1231\",IF(MID('COVER SHEET'!$I$18,6,10)=\"june\",\"0630\"))","v":"20241231"},{"$f":"+'Outgoing Remittances (Volume)'!G207","v":0}]
["CMREM_11510","ES",{"$f":"+'Outgoing Remittances (Volume)'!$G$5","v":"20241130"},{"$f":"+'COVER SHEET'!$D$12","v":0},11510,{"$f":"'COVER SHEET'!$D$16&IF(MID('COVER SHEET'!$I$18,6,10)=\"december\",\"1231\",IF(MID('COVER SHEET'!$I$18,6,10)=\"june\",\"0630\"))","v":"20241231"},{"$f":"+'Outgoing Remittances (Volume)'!G208","v":0}]
["CMREM_11510","LK",{"$f":"+'Outgoing Remittances (Volume)'!$G$5","v":"20241130"},{"$f":"+'COVER SHEET'!$D$12","v":0},11510,{"$f":"'COVER SHEET'!$D$16&IF(MID('COVER SHEET'!$I$18,6,10)=\"december\",\"1231\",IF(MID('COVER SHEET'!$I$18,6,10)=\"june\",\"0630\"))","v":"20241231"},{"$f":"+'Outgoing Remittances (Volume)'!G209","v":0}]
["CMREM_11510","SD",{"$f":"+'Outgoing Remittances (Volume)'!$G$5","v":"20241130"},{"$f":"+'COVER SHEET'!$D$12","v":0},11510,{"$f":"'COVER SHEET'!$D$16&IF(MID('COVER SHEET'!$I$18,6,10)=\"december\",\"1231\",IF(MID('COVER SHEET'!$I$18,6,10)=\"june\",\"0630\"))","v":"20241231"},{"$f":"+'Outgoing Remittances (Volume)'!G210","v":0}]
["CMREM_11510","SR",{"$f":"+'Outgoing Remittances (Volume)'!$G$5","v":"20241130"},{"$f":"+'COVER SHEET'!$D$12","v":0},11510,{"$f":"'COVER SHEET'!$D$16&IF(MID('COVER SHEET'!$I$18,6,10)=\"december\",\"1231\",IF(MID('COVER SHEET'!$I$18,6,10)=\"june\",\"0630\"))","v":"20241231"},{"$f":"+'Outgoing Remittances (Volume)'!G211","v":0}]
["CMREM_11510","SZ",{"$f":"+'Outgoing Remittances (Volume)'!$G$5","v":"20241130"},{"$f":"+'COVER SHEET'!$D$12","v":0},11510,{"$f":"'COVER SHEET'!$D$16&IF(MID('COVER SHEET'!$I$18,6,10)=\"december\",\"1231\",IF(MID('COVER SHEET'!$I$18,6,10)=\"june\",\"0630\"))","v":"20241231"},{"$f":"+'Outgoing Remittances (Volume)'!G212","v":0}]
["CMREM_11510","SE",{"$f":"+'Outgoing Remittances (Volume)'!$G$5","v":"20241130"},{"$f":"+'COVER SHEET'!$D$12","v":0},11510,{"$f":"'COVER SHEET'!$D$16&IF(MID('COVER SHEET'!$I$18,6,10)=\"december\",\"1231\",IF(MID('COVER SHEET'!$I$18,6,10)=\"june\",\"0630\"))","v":"20241231"},{"$f":"+'Outgoing Remittances (Volume)'!G213","v":0}]
["CMREM_11510","CH",{"$f":"+'Outgoing Remittances (Volume)'!$G$5","v":"20241130"},{"$f":"+'COVER SHEET'!$D$12","v":0},11510,{"$f":"'COVER SHEET'!$D$16&IF(MID('COVER SHEET'!$I$18,6,10)=\"december\",\"1231\",IF(MID('COVER SHEET'!$I$18,6,10)=\"june\",\"0630\"))","v":"20241231"},{"$f":"+'Outgoing Remittances (Volume)'!G214","v":0}]
["CMREM_11510","SY",{"$f":"+'Outgoing Remittances (Volume)'!$G$5","v":"20241130"},{"$f":"+'COVER SHEET'!$D$12","v":0},11510,{"$f":"'COVER SHEET'!$D$16&IF(MID('COVER SHEET'!$I$18,6,10)=\"december\",\"1231\",IF(MID('COVER SHEET'!$I$18,6,10)=\"june\",\"0630\"))","v":"20241231"},{"$f":"+'Outgoing Remittances (Volume)'!G215","v":0}]
["CMREM_11510","TW",{"$f":"+'Outgoing Remittances (Volume)'!$G$5","v":"20241130"},{"$f":"+'COVER SHEET'!$D$12","v":0},11510,{"$f":"'COVER SHEET'!$D$16&IF(MID('COVER SHEET'!$I$18,6,10)=\"december\",\"1231\",IF(MID('COVER SHEET'!$I$18,6,10)=\"june\",\"0630\"))","v":"20241231"},{"$f":"+'Outgoing Remittances (Volume)'!G216","v":0}]
["CMREM_11510","TJ",{"$f":"+'Outgoing Remittances (Volume)'!$G$5","v":"20241130"},{"$f":"+'COVER SHEET'!$D$12","v":0},11510,{"$f":"'COVER SHEET'!$D$16&IF(MID('COVER SHEET'!$I$18,6,10)=\"december\",\"1231\",IF(MID('COVER SHEET'!$I$18,6,10)=\"june\",\"0630\"))","v":"20241231"},{"$f":"+'Outgoing Remittances (Volume)'!G217","v":0}]
["CMREM_11510","TZ",{"$f":"+'Outgoing Remittances (Volume)'!$G$5","v":"20241130"},{"$f":"+'COVER SHEET'!$D$12","v":0},11510,{"$f":"'COVER SHEET'!$D$16&IF(MID('COVER SHEET'!$I$18,6,10)=\"december\",\"1231\",IF(MID('COVER SHEET'!$I$18,6,10)=\"june\",\"0630\"))","v":"20241231"},{"$f":"+'Outgoing Remittances (Volume)'!G218","v":0}]
["CMREM_11510","TH",{"$f":"+'Outgoing Remittances (Volume)'!$G$5","v":"20241130"},{"$f":"+'COVER SHEET'!$D$12","v":0},11510,{"$f":"'COVER SHEET'!$D$16&IF(MID('COVER SHEET'!$I$18,6,10)=\"december\",\"1231\",IF(MID('COVER SHEET'!$I$18,6,10)=\"june\",\"0630\"))","v":"20241231"},{"$f":"+'Outgoing Remittances (Volume)'!G219","v":0}]
["CMREM_11510","TG",{"$f":"+'Outgoing Remittances (Volume)'!$G$5","v":"20241130"},{"$f":"+'COVER SHEET'!$D$12","v":0},11510,{"$f":"'COVER SHEET'!$D$16&IF(MID('COVER SHEET'!$I$18,6,10)=\"december\",\"1231\",IF(MID('COVER SHEET'!$I$18,6,10)=\"june\",\"0630\"))","v":"20241231"},{"$f":"+'Outgoing Remittances (Volume)'!G220","v":0}]
["CMREM_11510","TK",{"$f":"+'Outgoing Remittances (Volume)'!$G$5","v":"20241130"},{"$f":"+'COVER SHEET'!$D$12","v":0},11510,{"$f":"'COVER SHEET'!$D$16&IF(MID('COVER SHEET'!$I$18,6,10)=\"december\",\"1231\",IF(MID('COVER SHEET'!$I$18,6,10)=\"june\",\"0630\"))","v":"20241231"},{"$f":"+'Outgoing Remittances (Volume)'!G221","v":0}]
["CMREM_11510","TO",{"$f":"+'Outgoing Remittances (Volume)'!$G$5","v":"20241130"},{"$f":"+'COVER SHEET'!$D$12","v":0},11510,{"$f":"'COVER SHEET'!$D$16&IF(MID('COVER SHEET'!$I$18,6,10)=\"december\",\"1231\",IF(MID('COVER SHEET'!$I$18,6,10)=\"june\",\"0630\"))","v":"20241231"},{"$f":"+'Outgoing Remittances (Volume)'!G222","v":0}]
["CMREM_11510","TT",{"$f":"+'Outgoing Remittances (Volume)'!$G$5","v":"20241130"},{"$f":"+'COVER SHEET'!$D$12","v":0},11510,{"$f":"'COVER SHEET'!$D$16&IF(MID('COVER SHEET'!$I$18,6,10)=\"december\",\"1231\",IF(MID('COVER SHEET'!$I$18,6,10)=\"june\",\"0630\"))","v":"20241231"},{"$f":"+'Outgoing Remittances (Volume)'!G223","v":0}]
["CMREM_11510","TN",{"$f":"+'Outgoing Remittances (Volume)'!$G$5","v":"20241130"},{"$f":"+'COVER SHEET'!$D$12","v":0},11510,{"$f":"'COVER SHEET'!$D$16&IF(MID('COVER SHEET'!$I$18,6,10)=\"december\",\"1231\",IF(MID('COVER SHEET'!$I$18,6,10)=\"june\",\"0630\"))","v":"20241231"},{"$f":"+'Outgoing Remittances (Volume)'!G224","v":0}]
["CMREM_11510","TR",{"$f":"+'Outgoing Remittances (Volume)'!$G$5","v":"20241130"},{"$f":"+'COVER SHEET'!$D$12","v":0},11510,{"$f":"'COVER SHEET'!$D$16&IF(MID('COVER SHEET'!$I$18,6,10)=\"december\",\"1231\",IF(MID('COVER SHEET'!$I$18,6,10)=\"june\",\"0630\"))","v":"20241231"},{"$f":"+'Outgoing Remittances (Volume)'!G225","v":0}]
["CMREM_11510","TM",{"$f":"+'Outgoing Remittances (Volume)'!$G$5","v":"20241130"},{"$f":"+'COVER SHEET'!$D$12","v":0},11510,{"$f":"'COVER SHEET'!$D$16&IF(MID('COVER SHEET'!$I$18,6,10)=\"december\",\"1231\",IF(MID('COVER SHEET'!$I$18,6,10)=\"june\",\"0630\"))","v":"20241231"},{"$f":"+'Outgoing Remittances (Volume)'!G226","v":0}]
["CMREM_11510","TC",{"$f":"+'Outgoing Remittances (Volume)'!$G$5","v":"20241130"},{"$f":"+'COVER SHEET'!$D$12","v":0},11510,{"$f":"'COVER SHEET'!$D$16&IF(MID('COVER SHEET'!$I$18,6,10)=\"december\",\"1231\",IF(MID('COVER SHEET'!$I$18,6,10)=\"june\",\"0630\"))","v":"20241231"},{"$f":"+'Outgoing Remittances (Volume)'!G227","v":0}]
["CMREM_11510","TV",{"$f":"+'Outgoing Remittances (Volume)'!$G$5","v":"20241130"},{"$f":"+'COVER SHEET'!$D$12","v":0},11510,{"$f":"'COVER SHEET'!$D$16&IF(MID('COVER SHEET'!$I$18,6,10)=\"december\",\"1231\",IF(MID('COVER SHEET'!$I$18,6,10)=\"june\",\"0630\"))","v":"20241231"},{"$f":"+'Outgoing Remittances (Volume)'!G228","v":0}]
["CMREM_11510","UG",{"$f":"+'Outgoing Remittances (Volume)'!$G$5","v":"20241130"},{"$f":"+'COVER SHEET'!$D$12","v":0},11510,{"$f":"'COVER SHEET'!$D$16&IF(MID('COVER SHEET'!$I$18,6,10)=\"december\",\"1231\",IF(MID('COVER SHEET'!$I$18,6,10)=\"june\",\"0630\"))","v":"20241231"},{"$f":"+'Outgoing Remittances (Volume)'!G229","v":0}]
["CMREM_11510","UA",{"$f":"+'Outgoing Remittances (Volume)'!$G$5","v":"20241130"},{"$f":"+'COVER SHEET'!$D$12","v":0},11510,{"$f":"'COVER SHEET'!$D$16&IF(MID('COVER SHEET'!$I$18,6,10)=\"december\",\"1231\",IF(MID('COVER SHEET'!$I$18,6,10)=\"june\",\"0630\"))","v":"20241231"},{"$f":"+'Outgoing Remittances (Volume)'!G230","v":0}]
["CMREM_11510","AE",{"$f":"+'Outgoing Remittances (Volume)'!$G$5","v":"20241130"},{"$f":"+'COVER SHEET'!$D$12","v":0},11510,{"$f":"'COVER SHEET'!$D$16&IF(MID('COVER SHEET'!$I$18,6,10)=\"december\",\"1231\",IF(MID('COVER SHEET'!$I$18,6,10)=\"june\",\"0630\"))","v":"20241231"},{"$f":"+'Outgoing Remittances (Volume)'!G231","v":0}]
["CMREM_11510","GB",{"$f":"+'Outgoing Remittances (Volume)'!$G$5","v":"20241130"},{"$f":"+'COVER SHEET'!$D$12","v":0},11510,{"$f":"'COVER SHEET'!$D$16&IF(MID('COVER SHEET'!$I$18,6,10)=\"december\",\"1231\",IF(MID('COVER SHEET'!$I$18,6,10)=\"june\",\"0630\"))","v":"20241231"},{"$f":"+'Outgoing Remittances (Volume)'!G232","v":0}]
["CMREM_11510","US",{"$f":"+'Outgoing Remittances (Volume)'!$G$5","v":"20241130"},{"$f":"+'COVER SHEET'!$D$12","v":0},11510,{"$f":"'COVER SHEET'!$D$16&IF(MID('COVER SHEET'!$I$18,6,10)=\"december\",\"1231\",IF(MID('COVER SHEET'!$I$18,6,10)=\"june\",\"0630\"))","v":"20241231"},{"$f":"+'Outgoing Remittances (Volume)'!G233","v":0}]
["CMREM_11510","UY",{"$f":"+'Outgoing Remittances (Volume)'!$G$5","v":"20241130"},{"$f":"+'COVER SHEET'!$D$12","v":0},11510,{"$f":"'COVER SHEET'!$D$16&IF(MID('COVER SHEET'!$I$18,6,10)=\"december\",\"1231\",IF(MID('COVER SHEET'!$I$18,6,10)=\"june\",\"0630\"))","v":"20241231"},{"$f":"+'Outgoing Remittances (Volume)'!G234","v":0}]
["CMREM_11510","UM",{"$f":"+'Outgoing Remittances (Volume)'!$G$5","v":"20241130"},{"$f":"+'COVER SHEET'!$D$12","v":0},11510,{"$f":"'COVER SHEET'!$D$16&IF(MID('COVER SHEET'!$I$18,6,10)=\"december\",\"1231\",IF(MID('COVER SHEET'!$I$18,6,10)=\"june\",\"0630\"))","v":"20241231"},{"$f":"+'Outgoing Remittances (Volume)'!G235","v":0}]
["CMREM_11510","UZ",{"$f":"+'Outgoing Remittances (Volume)'!$G$5","v":"20241130"},{"$f":"+'COVER SHEET'!$D$12","v":0},11510,{"$f":"'COVER SHEET'!$D$16&IF(MID('COVER SHEET'!$I$18,6,10)=\"december\",\"1231\",IF(MID('COVER SHEET'!$I$18,6,10)=\"june\",\"0630\"))","v":"20241231"},{"$f":"+'Outgoing Remittances (Volume)'!G236","v":0}]
["CMREM_11510","VU",{"$f":"+'Outgoing Remittances (Volume)'!$G$5","v":"20241130"},{"$f":"+'COVER SHEET'!$D$12","v":0},11510,{"$f":"'COVER SHEET'!$D$16&IF(MID('COVER SHEET'!$I$18,6,10)=\"december\",\"1231\",IF(MID('COVER SHEET'!$I$18,6,10)=\"june\",\"0630\"))","v":"20241231"},{"$f":"+'Outgoing Remittances (Volume)'!G237","v":0}]
["CMREM_11510","VE",{"$f":"+'Outgoing Remittances (Volume)'!$G$5","v":"20241130"},{"$f":"+'COVER SHEET'!$D$12","v":0},11510,{"$f":"'COVER SHEET'!$D$16&IF(MID('COVER SHEET'!$I$18,6,10)=\"december\",\"1231\",IF(MID('COVER SHEET'!$I$18,6,10)=\"june\",\"0630\"))","v":"20241231"},{"$f":"+'Outgoing Remittances (Volume)'!G238","v":0}]
["CMREM_11510","VN",{"$f":"+'Outgoing Remittances (Volume)'!$G$5","v":"20241130"},{"$f":"+'COVER SHEET'!$D$12","v":0},11510,{"$f":"'COVER SHEET'!$D$16&IF(MID('COVER SHEET'!$I$18,6,10)=\"december\",\"1231\",IF(MID('COVER SHEET'!$I$18,6,10)=\"june\",\"0630\"))","v":"20241231"},{"$f":"+'Outgoing Remittances (Volume)'!G239","v":0}]
["CMREM_11510","VI",{"$f":"+'Outgoing Remittances (Volume)'!$G$5","v":"20241130"},{"$f":"+'COVER SHEET'!$D$12","v":0},11510,{"$f":"'COVER SHEET'!$D$16&IF(MID('COVER SHEET'!$I$18,6,10)=\"december\",\"1231\",IF(MID('COVER SHEET'!$I$18,6,10)=\"june\",\"0630\"))","v":"20241231"},{"$f":"+'Outgoing Remittances (Volume)'!G240","v":0}]
["CMREM_11510","WF",{"$f":"+'Outgoing Remittances (Volume)'!$G$5","v":"20241130"},{"$f":"+'COVER SHEET'!$D$12","v":0},11510,{"$f":"'COVER SHEET'!$D$16&IF(MID('COVER SHEET'!$I$18,6,10)=\"december\",\"1231\",IF(MID('COVER SHEET'!$I$18,6,10)=\"june\",\"0630\"))","v":"20241231"},{"$f":"+'Outgoing Remittances (Volume)'!G241","v":0}]
["CMREM_11510","YE",{"$f":"+'Outgoing Remittances (Volume)'!$G$5","v":"20241130"},{"$f":"+'COVER SHEET'!$D$12","v":0},11510,{"$f":"'COVER SHEET'!$D$16&IF(MID('COVER SHEET'!$I$18,6,10)=\"december\",\"1231\",IF(MID('COVER SHEET'!$I$18,6,10)=\"june\",\"0630\"))","v":"20241231"},{"$f":"+'Outgoing Remittances (Volume)'!G242","v":0}]
["CMREM_11510","ZM",{"$f":"+'Outgoing Remittances (Volume)'!$G$5","v":"20241130"},{"$f":"+'COVER SHEET'!$D$12","v":0},11510,{"$f":"'COVER SHEET'!$D$16&IF(MID('COVER SHEET'!$I$18,6,10)=\"december\",\"1231\",IF(MID('COVER SHEET'!$I$18,6,10)=\"june\",\"0630\"))","v":"20241231"},{"$f":"+'Outgoing Remittances (Volume)'!G243","v":0}]
["CMREM_11510","ZW",{"$f":"+'Outgoing Remittances (Volume)'!$G$5","v":"20241130"},{"$f":"+'COVER SHEET'!$D$12","v":0},11510,{"$f":"'COVER SHEET'!$D$16&IF(MID('COVER SHEET'!$I$18,6,10)=\"december\",\"1231\",IF(MID('COVER SHEET'!$I$18,6,10)=\"june\",\"0630\"))","v":"20241231"},{"$f":"+'Outgoing Remittances (Volume)'!G244","v":0}]
["CMREM_11520","AF",{"$f":"+'Incoming Remittances (Value)'!$G$5","v":"20241130"},{"$f":"+'COVER SHEET'!$D$12","v":0},11520,{"$f":"'COVER SHEET'!$D$16&IF(MID('COVER SHEET'!$I$18,6,10)=\"december\",\"1231\",IF(MID('COVER SHEET'!$I$18,6,10)=\"june\",\"0630\"))","v":"20241231"},{"$f":"+'Incoming Remittances (Value)'!G9","v":0}]
["CMREM_11520","AL",{"$f":"+'Incoming Remittances (Value)'!$G$5","v":"20241130"},{"$f":"+'COVER SHEET'!$D$12","v":0},11520,{"$f":"'COVER SHEET'!$D$16&IF(MID('COVER SHEET'!$I$18,6,10)=\"december\",\"1231\",IF(MID('COVER SHEET'!$I$18,6,10)=\"june\",\"0630\"))","v":"20241231"},{"$f":"+'Incoming Remittances (Value)'!G10","v":0}]
["CMREM_11520","DZ",{"$f":"+'Incoming Remittances (Value)'!$G$5","v":"20241130"},{"$f":"+'COVER SHEET'!$D$12","v":0},11520,{"$f":"'COVER SHEET'!$D$16&IF(MID('COVER SHEET'!$I$18,6,10)=\"december\",\"1231\",IF(MID('COVER SHEET'!$I$18,6,10)=\"june\",\"0630\"))","v":"20241231"},{"$f":"+'Incoming Remittances (Value)'!G11","v":0}]
["CMREM_11520","AS",{"$f":"+'Incoming Remittances (Value)'!$G$5","v":"20241130"},{"$f":"+'COVER SHEET'!$D$12","v":0},11520,{"$f":"'COVER SHEET'!$D$16&IF(MID('COVER SHEET'!$I$18,6,10)=\"december\",\"1231\",IF(MID('COVER SHEET'!$I$18,6,10)=\"june\",\"0630\"))","v":"20241231"},{"$f":"+'Incoming Remittances (Value)'!G12","v":0}]
["CMREM_11520","AD",{"$f":"+'Incoming Remittances (Value)'!$G$5","v":"20241130"},{"$f":"+'COVER SHEET'!$D$12","v":0},11520,{"$f":"'COVER SHEET'!$D$16&IF(MID('COVER SHEET'!$I$18,6,10)=\"december\",\"1231\",IF(MID('COVER SHEET'!$I$18,6,10)=\"june\",\"0630\"))","v":"20241231"},{"$f":"+'Incoming Remittances (Value)'!G13","v":0}]
["CMREM_11520","AO",{"$f":"+'Incoming Remittances (Value)'!$G$5","v":"20241130"},{"$f":"+'COVER SHEET'!$D$12","v":0},11520,{"$f":"'COVER SHEET'!$D$16&IF(MID('COVER SHEET'!$I$18,6,10)=\"december\",\"1231\",IF(MID('COVER SHEET'!$I$18,6,10)=\"june\",\"0630\"))","v":"20241231"},{"$f":"+'Incoming Remittances (Value)'!G14","v":0}]
["CMREM_11520","AI",{"$f":"+'Incoming Remittances (Value)'!$G$5","v":"20241130"},{"$f":"+'COVER SHEET'!$D$12","v":0},11520,{"$f":"'COVER SHEET'!$D$16&IF(MID('COVER SHEET'!$I$18,6,10)=\"december\",\"1231\",IF(MID('COVER SHEET'!$I$18,6,10)=\"june\",\"0630\"))","v":"20241231"},{"$f":"+'Incoming Remittances (Value)'!G15","v":0}]
["CMREM_11520","AQ",{"$f":"+'Incoming Remittances (Value)'!$G$5","v":"20241130"},{"$f":"+'COVER SHEET'!$D$12","v":0},11520,{"$f":"'COVER SHEET'!$D$16&IF(MID('COVER SHEET'!$I$18,6,10)=\"december\",\"1231\",IF(MID('COVER SHEET'!$I$18,6,10)=\"june\",\"0630\"))","v":"20241231"},{"$f":"+'Incoming Remittances (Value)'!G16","v":0}]
["CMREM_11520","AG",{"$f":"+'Incoming Remittances (Value)'!$G$5","v":"20241130"},{"$f":"+'COVER SHEET'!$D$12","v":0},11520,{"$f":"'COVER SHEET'!$D$16&IF(MID('COVER SHEET'!$I$18,6,10)=\"december\",\"1231\",IF(MID('COVER SHEET'!$I$18,6,10)=\"june\",\"0630\"))","v":"20241231"},{"$f":"+'Incoming Remittances (Value)'!G17","v":0}]
["CMREM_11520","AR",{"$f":"+'Incoming Remittances (Value)'!$G$5","v":"20241130"},{"$f":"+'COVER SHEET'!$D$12","v":0},11520,{"$f":"'COVER SHEET'!$D$16&IF(MID('COVER SHEET'!$I$18,6,10)=\"december\",\"1231\",IF(MID('COVER SHEET'!$I$18,6,10)=\"june\",\"0630\"))","v":"20241231"},{"$f":"+'Incoming Remittances (Value)'!G18","v":0}]
["CMREM_11520","AM",{"$f":"+'Incoming Remittances (Value)'!$G$5","v":"20241130"},{"$f":"+'COVER SHEET'!$D$12","v":0},11520,{"$f":"'COVER SHEET'!$D$16&IF(MID('COVER SHEET'!$I$18,6,10)=\"december\",\"1231\",IF(MID('COVER SHEET'!$I$18,6,10)=\"june\",\"0630\"))","v":"20241231"},{"$f":"+'Incoming Remittances (Value)'!G19","v":0}]
["CMREM_11520","AW",{"$f":"+'Incoming Remittances (Value)'!$G$5","v":"20241130"},{"$f":"+'COVER SHEET'!$D$12","v":0},11520,{"$f":"'COVER SHEET'!$D$16&IF(MID('COVER SHEET'!$I$18,6,10)=\"december\",\"1231\",IF(MID('COVER SHEET'!$I$18,6,10)=\"june\",\"0630\"))","v":"20241231"},{"$f":"+'Incoming Remittances (Value)'!G20","v":0}]
["CMREM_11520","AU",{"$f":"+'Incoming Remittances (Value)'!$G$5","v":"20241130"},{"$f":"+'COVER SHEET'!$D$12","v":0},11520,{"$f":"'COVER SHEET'!$D$16&IF(MID('COVER SHEET'!$I$18,6,10)=\"december\",\"1231\",IF(MID('COVER SHEET'!$I$18,6,10)=\"june\",\"0630\"))","v":"20241231"},{"$f":"+'Incoming Remittances (Value)'!G21","v":0}]
["CMREM_11520","AT",{"$f":"+'Incoming Remittances (Value)'!$G$5","v":"20241130"},{"$f":"+'COVER SHEET'!$D$12","v":0},11520,{"$f":"'COVER SHEET'!$D$16&IF(MID('COVER SHEET'!$I$18,6,10)=\"december\",\"1231\",IF(MID('COVER SHEET'!$I$18,6,10)=\"june\",\"0630\"))","v":"20241231"},{"$f":"+'Incoming Remittances (Value)'!G22","v":0}]
["CMREM_11520","AZ",{"$f":"+'Incoming Remittances (Value)'!$G$5","v":"20241130"},{"$f":"+'COVER SHEET'!$D$12","v":0},11520,{"$f":"'COVER SHEET'!$D$16&IF(MID('COVER SHEET'!$I$18,6,10)=\"december\",\"1231\",IF(MID('COVER SHEET'!$I$18,6,10)=\"june\",\"0630\"))","v":"20241231"},{"$f":"+'Incoming Remittances (Value)'!G23","v":0}]
["CMREM_11520","BS",{"$f":"+'Incoming Remittances (Value)'!$G$5","v":"20241130"},{"$f":"+'COVER SHEET'!$D$12","v":0},11520,{"$f":"'COVER SHEET'!$D$16&IF(MID('COVER SHEET'!$I$18,6,10)=\"december\",\"1231\",IF(MID('COVER SHEET'!$I$18,6,10)=\"june\",\"0630\"))","v":"20241231"},{"$f":"+'Incoming Remittances (Value)'!G24","v":0}]
["CMREM_11520","BH",{"$f":"+'Incoming Remittances (Value)'!$G$5","v":"20241130"},{"$f":"+'COVER SHEET'!$D$12","v":0},11520,{"$f":"'COVER SHEET'!$D$16&IF(MID('COVER SHEET'!$I$18,6,10)=\"december\",\"1231\",IF(MID('COVER SHEET'!$I$18,6,10)=\"june\",\"0630\"))","v":"20241231"},{"$f":"+'Incoming Remittances (Value)'!G25","v":0}]
["CMREM_11520","BD",{"$f":"+'Incoming Remittances (Value)'!$G$5","v":"20241130"},{"$f":"+'COVER SHEET'!$D$12","v":0},11520,{"$f":"'COVER SHEET'!$D$16&IF(MID('COVER SHEET'!$I$18,6,10)=\"december\",\"1231\",IF(MID('COVER SHEET'!$I$18,6,10)=\"june\",\"0630\"))","v":"20241231"},{"$f":"+'Incoming Remittances (Value)'!G26","v":0}]
["CMREM_11520","BB",{"$f":"+'Incoming Remittances (Value)'!$G$5","v":"20241130"},{"$f":"+'COVER SHEET'!$D$12","v":0},11520,{"$f":"'COVER SHEET'!$D$16&IF(MID('COVER SHEET'!$I$18,6,10)=\"december\",\"1231\",IF(MID('COVER SHEET'!$I$18,6,10)=\"june\",\"0630\"))","v":"20241231"},{"$f":"+'Incoming Remittances (Value)'!G27","v":0}]
["CMREM_11520","BY",{"$f":"+'Incoming Remittances (Value)'!$G$5","v":"20241130"},{"$f":"+'COVER SHEET'!$D$12","v":0},11520,{"$f":"'COVER SHEET'!$D$16&IF(MID('COVER SHEET'!$I$18,6,10)=\"december\",\"1231\",IF(MID('COVER SHEET'!$I$18,6,10)=\"june\",\"0630\"))","v":"20241231"},{"$f":"+'Incoming Remittances (Value)'!G28","v":0}]
["CMREM_11520","BE",{"$f":"+'Incoming Remittances (Value)'!$G$5","v":"20241130"},{"$f":"+'COVER SHEET'!$D$12","v":0},11520,{"$f":"'COVER SHEET'!$D$16&IF(MID('COVER SHEET'!$I$18,6,10)=\"december\",\"1231\",IF(MID('COVER SHEET'!$I$18,6,10)=\"june\",\"0630\"))","v":"20241231"},{"$f":"+'Incoming Remittances (Value)'!G29","v":0}]
["CMREM_11520","BZ",{"$f":"+'Incoming Remittances (Value)'!$G$5","v":"20241130"},{"$f":"+'COVER SHEET'!$D$12","v":0},11520,{"$f":"'COVER SHEET'!$D$16&IF(MID('COVER SHEET'!$I$18,6,10)=\"december\",\"1231\",IF(MID('COVER SHEET'!$I$18,6,10)=\"june\",\"0630\"))","v":"20241231"},{"$f":"+'Incoming Remittances (Value)'!G30","v":0}]
["CMREM_11520","BJ",{"$f":"+'Incoming Remittances (Value)'!$G$5","v":"20241130"},{"$f":"+'COVER SHEET'!$D$12","v":0},11520,{"$f":"'COVER SHEET'!$D$16&IF(MID('COVER SHEET'!$I$18,6,10)=\"december\",\"1231\",IF(MID('COVER SHEET'!$I$18,6,10)=\"june\",\"0630\"))","v":"20241231"},{"$f":"+'Incoming Remittances (Value)'!G31","v":0}]
["CMREM_11520","BM",{"$f":"+'Incoming Remittances (Value)'!$G$5","v":"20241130"},{"$f":"+'COVER SHEET'!$D$12","v":0},11520,{"$f":"'COVER SHEET'!$D$16&IF(MID('COVER SHEET'!$I$18,6,10)=\"december\",\"1231\",IF(MID('COVER SHEET'!$I$18,6,10)=\"june\",\"0630\"))","v":"20241231"},{"$f":"+'Incoming Remittances (Value)'!G32","v":0}]
["CMREM_11520","BQ",{"$f":"+'Incoming Remittances (Value)'!$G$5","v":"20241130"},{"$f":"+'COVER SHEET'!$D$12","v":0},11520,{"$f":"'COVER SHEET'!$D$16&IF(MID('COVER SHEET'!$I$18,6,10)=\"december\",\"1231\",IF(MID('COVER SHEET'!$I$18,6,10)=\"june\",\"0630\"))","v":"20241231"},{"$f":"+'Incoming Remittances (Value)'!G33","v":0}]
["CMREM_11520","BT",{"$f":"+'Incoming Remittances (Value)'!$G$5","v":"20241130"},{"$f":"+'COVER SHEET'!$D$12","v":0},11520,{"$f":"'COVER SHEET'!$D$16&IF(MID('COVER SHEET'!$I$18,6,10)=\"december\",\"1231\",IF(MID('COVER SHEET'!$I$18,6,10)=\"june\",\"0630\"))","v":"20241231"},{"$f":"+'Incoming Remittances (Value)'!G34","v":0}]
["CMREM_11520","BO",{"$f":"+'Incoming Remittances (Value)'!$G$5","v":"20241130"},{"$f":"+'COVER SHEET'!$D$12","v":0},11520,{"$f":"'COVER SHEET'!$D$16&IF(MID('COVER SHEET'!$I$18,6,10)=\"december\",\"1231\",IF(MID('COVER SHEET'!$I$18,6,10)=\"june\",\"0630\"))","v":"20241231"},{"$f":"+'Incoming Remittances (Value)'!G35","v":0}]
["CMREM_11520","BA",{"$f":"+'Incoming Remittances (Value)'!$G$5","v":"20241130"},{"$f":"+'COVER SHEET'!$D$12","v":0},11520,{"$f":"'COVER SHEET'!$D$16&IF(MID('COVER SHEET'!$I$18,6,10)=\"december\",\"1231\",IF(MID('COVER SHEET'!$I$18,6,10)=\"june\",\"0630\"))","v":"20241231"},{"$f":"+'Incoming Remittances (Value)'!G36","v":0}]
["CMREM_11520","BW",{"$f":"+'Incoming Remittances (Value)'!$G$5","v":"20241130"},{"$f":"+'COVER SHEET'!$D$12","v":0},11520,{"$f":"'COVER SHEET'!$D$16&IF(MID('COVER SHEET'!$I$18,6,10)=\"december\",\"1231\",IF(MID('COVER SHEET'!$I$18,6,10)=\"june\",\"0630\"))","v":"20241231"},{"$f":"+'Incoming Remittances (Value)'!G37","v":0}]
["CMREM_11520","BV",{"$f":"+'Incoming Remittances (Value)'!$G$5","v":"20241130"},{"$f":"+'COVER SHEET'!$D$12","v":0},11520,{"$f":"'COVER SHEET'!$D$16&IF(MID('COVER SHEET'!$I$18,6,10)=\"december\",\"1231\",IF(MID('COVER SHEET'!$I$18,6,10)=\"june\",\"0630\"))","v":"20241231"},{"$f":"+'Incoming Remittances (Value)'!G38","v":0}]
["CMREM_11520","BR",{"$f":"+'Incoming Remittances (Value)'!$G$5","v":"20241130"},{"$f":"+'COVER SHEET'!$D$12","v":0},11520,{"$f":"'COVER SHEET'!$D$16&IF(MID('COVER SHEET'!$I$18,6,10)=\"december\",\"1231\",IF(MID('COVER SHEET'!$I$18,6,10)=\"june\",\"0630\"))","v":"20241231"},{"$f":"+'Incoming Remittances (Value)'!G39","v":0}]
["CMREM_11520","IO",{"$f":"+'Incoming Remittances (Value)'!$G$5","v":"20241130"},{"$f":"+'COVER SHEET'!$D$12","v":0},11520,{"$f":"'COVER SHEET'!$D$16&IF(MID('COVER SHEET'!$I$18,6,10)=\"december\",\"1231\",IF(MID('COVER SHEET'!$I$18,6,10)=\"june\",\"0630\"))","v":"20241231"},{"$f":"+'Incoming Remittances (Value)'!G40","v":0}]
["CMREM_11520","VG",{"$f":"+'Incoming Remittances (Value)'!$G$5","v":"20241130"},{"$f":"+'COVER SHEET'!$D$12","v":0},11520,{"$f":"'COVER SHEET'!$D$16&IF(MID('COVER SHEET'!$I$18,6,10)=\"december\",\"1231\",IF(MID('COVER SHEET'!$I$18,6,10)=\"june\",\"0630\"))","v":"20241231"},{"$f":"+'Incoming Remittances (Value)'!G41","v":0}]
["CMREM_11520","BN",{"$f":"+'Incoming Remittances (Value)'!$G$5","v":"20241130"},{"$f":"+'COVER SHEET'!$D$12","v":0},11520,{"$f":"'COVER SHEET'!$D$16&IF(MID('COVER SHEET'!$I$18,6,10)=\"december\",\"1231\",IF(MID('COVER SHEET'!$I$18,6,10)=\"june\",\"0630\"))","v":"20241231"},{"$f":"+'Incoming Remittances (Value)'!G42","v":0}]
["CMREM_11520","BG",{"$f":"+'Incoming Remittances (Value)'!$G$5","v":"20241130"},{"$f":"+'COVER SHEET'!$D$12","v":0},11520,{"$f":"'COVER SHEET'!$D$16&IF(MID('COVER SHEET'!$I$18,6,10)=\"december\",\"1231\",IF(MID('COVER SHEET'!$I$18,6,10)=\"june\",\"0630\"))","v":"20241231"},{"$f":"+'Incoming Remittances (Value)'!G43","v":0}]
["CMREM_11520","BF",{"$f":"+'Incoming Remittances (Value)'!$G$5","v":"20241130"},{"$f":"+'COVER SHEET'!$D$12","v":0},11520,{"$f":"'COVER SHEET'!$D$16&IF(MID('COVER SHEET'!$I$18,6,10)=\"december\",\"1231\",IF(MID('COVER SHEET'!$I$18,6,10)=\"june\",\"0630\"))","v":"20241231"},{"$f":"+'Incoming Remittances (Value)'!G44","v":0}]
["CMREM_11520","BI",{"$f":"+'Incoming Remittances (Value)'!$G$5","v":"20241130"},{"$f":"+'COVER SHEET'!$D$12","v":0},11520,{"$f":"'COVER SHEET'!$D$16&IF(MID('COVER SHEET'!$I$18,6,10)=\"december\",\"1231\",IF(MID('COVER SHEET'!$I$18,6,10)=\"june\",\"0630\"))","v":"20241231"},{"$f":"+'Incoming Remittances (Value)'!G45","v":0}]
["CMREM_11520","KH",{"$f":"+'Incoming Remittances (Value)'!$G$5","v":"20241130"},{"$f":"+'COVER SHEET'!$D$12","v":0},11520,{"$f":"'COVER SHEET'!$D$16&IF(MID('COVER SHEET'!$I$18,6,10)=\"december\",\"1231\",IF(MID('COVER SHEET'!$I$18,6,10)=\"june\",\"0630\"))","v":"20241231"},{"$f":"+'Incoming Remittances (Value)'!G46","v":0}]
["CMREM_11520","CM",{"$f":"+'Incoming Remittances (Value)'!$G$5","v":"20241130"},{"$f":"+'COVER SHEET'!$D$12","v":0},11520,{"$f":"'COVER SHEET'!$D$16&IF(MID('COVER SHEET'!$I$18,6,10)=\"december\",\"1231\",IF(MID('COVER SHEET'!$I$18,6,10)=\"june\",\"0630\"))","v":"20241231"},{"$f":"+'Incoming Remittances (Value)'!G47","v":0}]
["CMREM_11520","CA",{"$f":"+'Incoming Remittances (Value)'!$G$5","v":"20241130"},{"$f":"+'COVER SHEET'!$D$12","v":0},11520,{"$f":"'COVER SHEET'!$D$16&IF(MID('COVER SHEET'!$I$18,6,10)=\"december\",\"1231\",IF(MID('COVER SHEET'!$I$18,6,10)=\"june\",\"0630\"))","v":"20241231"},{"$f":"+'Incoming Remittances (Value)'!G48","v":0}]
["CMREM_11520","CV",{"$f":"+'Incoming Remittances (Value)'!$G$5","v":"20241130"},{"$f":"+'COVER SHEET'!$D$12","v":0},11520,{"$f":"'COVER SHEET'!$D$16&IF(MID('COVER SHEET'!$I$18,6,10)=\"december\",\"1231\",IF(MID('COVER SHEET'!$I$18,6,10)=\"june\",\"0630\"))","v":"20241231"},{"$f":"+'Incoming Remittances (Value)'!G49","v":0}]
["CMREM_11520","KY",{"$f":"+'Incoming Remittances (Value)'!$G$5","v":"20241130"},{"$f":"+'COVER SHEET'!$D$12","v":0},11520,{"$f":"'COVER SHEET'!$D$16&IF(MID('COVER SHEET'!$I$18,6,10)=\"december\",\"1231\",IF(MID('COVER SHEET'!$I$18,6,10)=\"june\",\"0630\"))","v":"20241231"},{"$f":"+'Incoming Remittances (Value)'!G50","v":0}]
["CMREM_11520","CF",{"$f":"+'Incoming Remittances (Value)'!$G$5","v":"20241130"},{"$f":"+'COVER SHEET'!$D$12","v":0},11520,{"$f":"'COVER SHEET'!$D$16&IF(MID('COVER SHEET'!$I$18,6,10)=\"december\",\"1231\",IF(MID('COVER SHEET'!$I$18,6,10)=\"june\",\"0630\"))","v":"20241231"},{"$f":"+'Incoming Remittances (Value)'!G51","v":0}]
["CMREM_11520","TD",{"$f":"+'Incoming Remittances (Value)'!$G$5","v":"20241130"},{"$f":"+'COVER SHEET'!$D$12","v":0},11520,{"$f":"'COVER SHEET'!$D$16&IF(MID('COVER SHEET'!$I$18,6,10)=\"december\",\"1231\",IF(MID('COVER SHEET'!$I$18,6,10)=\"june\",\"0630\"))","v":"20241231"},{"$f":"+'Incoming Remittances (Value)'!G52","v":0}]
["CMREM_11520","CL",{"$f":"+'Incoming Remittances (Value)'!$G$5","v":"20241130"},{"$f":"+'COVER SHEET'!$D$12","v":0},11520,{"$f":"'COVER SHEET'!$D$16&IF(MID('COVER SHEET'!$I$18,6,10)=\"december\",\"1231\",IF(MID('COVER SHEET'!$I$18,6,10)=\"june\",\"0630\"))","v":"20241231"},{"$f":"+'Incoming Remittances (Value)'!G53","v":0}]
["CMREM_11520","CN",{"$f":"+'Incoming Remittances (Value)'!$G$5","v":"20241130"},{"$f":"+'COVER SHEET'!$D$12","v":0},11520,{"$f":"'COVER SHEET'!$D$16&IF(MID('COVER SHEET'!$I$18,6,10)=\"december\",\"1231\",IF(MID('COVER SHEET'!$I$18,6,10)=\"june\",\"0630\"))","v":"20241231"},{"$f":"+'Incoming Remittances (Value)'!G54","v":0}]
["CMREM_11520","CX",{"$f":"+'Incoming Remittances (Value)'!$G$5","v":"20241130"},{"$f":"+'COVER SHEET'!$D$12","v":0},11520,{"$f":"'COVER SHEET'!$D$16&IF(MID('COVER SHEET'!$I$18,6,10)=\"december\",\"1231\",IF(MID('COVER SHEET'!$I$18,6,10)=\"june\",\"0630\"))","v":"20241231"},{"$f":"+'Incoming Remittances (Value)'!G55","v":0}]
["CMREM_11520","CC",{"$f":"+'Incoming Remittances (Value)'!$G$5","v":"20241130"},{"$f":"+'COVER SHEET'!$D$12","v":0},11520,{"$f":"'COVER SHEET'!$D$16&IF(MID('COVER SHEET'!$I$18,6,10)=\"december\",\"1231\",IF(MID('COVER SHEET'!$I$18,6,10)=\"june\",\"0630\"))","v":"20241231"},{"$f":"+'Incoming Remittances (Value)'!G56","v":0}]
["CMREM_11520","CO",{"$f":"+'Incoming Remittances (Value)'!$G$5","v":"20241130"},{"$f":"+'COVER SHEET'!$D$12","v":0},11520,{"$f":"'COVER SHEET'!$D$16&IF(MID('COVER SHEET'!$I$18,6,10)=\"december\",\"1231\",IF(MID('COVER SHEET'!$I$18,6,10)=\"june\",\"0630\"))","v":"20241231"},{"$f":"+'Incoming Remittances (Value)'!G57","v":0}]
["CMREM_11520","KM",{"$f":"+'Incoming Remittances (Value)'!$G$5","v":"20241130"},{"$f":"+'COVER SHEET'!$D$12","v":0},11520,{"$f":"'COVER SHEET'!$D$16&IF(MID('COVER SHEET'!$I$18,6,10)=\"december\",\"1231\",IF(MID('COVER SHEET'!$I$18,6,10)=\"june\",\"0630\"))","v":"20241231"},{"$f":"+'Incoming Remittances (Value)'!G58","v":0}]
["CMREM_11520","CG",{"$f":"+'Incoming Remittances (Value)'!$G$5","v":"20241130"},{"$f":"+'COVER SHEET'!$D$12","v":0},11520,{"$f":"'COVER SHEET'!$D$16&IF(MID('COVER SHEET'!$I$18,6,10)=\"december\",\"1231\",IF(MID('COVER SHEET'!$I$18,6,10)=\"june\",\"0630\"))","v":"20241231"},{"$f":"+'Incoming Remittances (Value)'!G59","v":0}]
["CMREM_11520","CD",{"$f":"+'Incoming Remittances (Value)'!$G$5","v":"20241130"},{"$f":"+'COVER SHEET'!$D$12","v":0},11520,{"$f":"'COVER SHEET'!$D$16&IF(MID('COVER SHEET'!$I$18,6,10)=\"december\",\"1231\",IF(MID('COVER SHEET'!$I$18,6,10)=\"june\",\"0630\"))","v":"20241231"},{"$f":"+'Incoming Remittances (Value)'!G60","v":0}]
["CMREM_11520","CK",{"$f":"+'Incoming Remittances (Value)'!$G$5","v":"20241130"},{"$f":"+'COVER SHEET'!$D$12","v":0},11520,{"$f":"'COVER SHEET'!$D$16&IF(MID('COVER SHEET'!$I$18,6,10)=\"december\",\"1231\",IF(MID('COVER SHEET'!$I$18,6,10)=\"june\",\"0630\"))","v":"20241231"},{"$f":"+'Incoming Remittances (Value)'!G61","v":0}]
["CMREM_11520","CR",{"$f":"+'Incoming Remittances (Value)'!$G$5","v":"20241130"},{"$f":"+'COVER SHEET'!$D$12","v":0},11520,{"$f":"'COVER SHEET'!$D$16&IF(MID('COVER SHEET'!$I$18,6,10)=\"december\",\"1231\",IF(MID('COVER SHEET'!$I$18,6,10)=\"june\",\"0630\"))","v":"20241231"},{"$f":"+'Incoming Remittances (Value)'!G62","v":0}]
["CMREM_11520","HR",{"$f":"+'Incoming Remittances (Value)'!$G$5","v":"20241130"},{"$f":"+'COVER SHEET'!$D$12","v":0},11520,{"$f":"'COVER SHEET'!$D$16&IF(MID('COVER SHEET'!$I$18,6,10)=\"december\",\"1231\",IF(MID('COVER SHEET'!$I$18,6,10)=\"june\",\"0630\"))","v":"20241231"},{"$f":"+'Incoming Remittances (Value)'!G63","v":0}]
["CMREM_11520","CU",{"$f":"+'Incoming Remittances (Value)'!$G$5","v":"20241130"},{"$f":"+'COVER SHEET'!$D$12","v":0},11520,{"$f":"'COVER SHEET'!$D$16&IF(MID('COVER SHEET'!$I$18,6,10)=\"december\",\"1231\",IF(MID('COVER SHEET'!$I$18,6,10)=\"june\",\"0630\"))","v":"20241231"},{"$f":"+'Incoming Remittances (Value)'!G64","v":0}]
["CMREM_11520","CW",{"$f":"+'Incoming Remittances (Value)'!$G$5","v":"20241130"},{"$f":"+'COVER SHEET'!$D$12","v":0},11520,{"$f":"'COVER SHEET'!$D$16&IF(MID('COVER SHEET'!$I$18,6,10)=\"december\",\"1231\",IF(MID('COVER SHEET'!$I$18,6,10)=\"june\",\"0630\"))","v":"20241231"},{"$f":"+'Incoming Remittances (Value)'!G65","v":0}]
["CMREM_11520","CY",{"$f":"+'Incoming Remittances (Value)'!$G$5","v":"20241130"},{"$f":"+'COVER SHEET'!$D$12","v":0},11520,{"$f":"'COVER SHEET'!$D$16&IF(MID('COVER SHEET'!$I$18,6,10)=\"december\",\"1231\",IF(MID('COVER SHEET'!$I$18,6,10)=\"june\",\"0630\"))","v":"20241231"},{"$f":"+'Incoming Remittances (Value)'!G66","v":0}]
["CMREM_11520","CZ",{"$f":"+'Incoming Remittances (Value)'!$G$5","v":"20241130"},{"$f":"+'COVER SHEET'!$D$12","v":0},11520,{"$f":"'COVER SHEET'!$D$16&IF(MID('COVER SHEET'!$I$18,6,10)=\"december\",\"1231\",IF(MID('COVER SHEET'!$I$18,6,10)=\"june\",\"0630\"))","v":"20241231"},{"$f":"+'Incoming Remittances (Value)'!G67","v":0}]
["CMREM_11520","DK",{"$f":"+'Incoming Remittances (Value)'!$G$5","v":"20241130"},{"$f":"+'COVER SHEET'!$D$12","v":0},11520,{"$f":"'COVER SHEET'!$D$16&IF(MID('COVER SHEET'!$I$18,6,10)=\"december\",\"1231\",IF(MID('COVER SHEET'!$I$18,6,10)=\"june\",\"0630\"))","v":"20241231"},{"$f":"+'Incoming Remittances (Value)'!G68","v":0}]
["CMREM_11520","DJ",{"$f":"+'Incoming Remittances (Value)'!$G$5","v":"20241130"},{"$f":"+'COVER SHEET'!$D$12","v":0},11520,{"$f":"'COVER SHEET'!$D$16&IF(MID('COVER SHEET'!$I$18,6,10)=\"december\",\"1231\",IF(MID('COVER SHEET'!$I$18,6,10)=\"june\",\"0630\"))","v":"20241231"},{"$f":"+'Incoming Remittances (Value)'!G69","v":0}]
["CMREM_11520","DM",{"$f":"+'Incoming Remittances (Value)'!$G$5","v":"20241130"},{"$f":"+'COVER SHEET'!$D$12","v":0},11520,{"$f":"'COVER SHEET'!$D$16&IF(MID('COVER SHEET'!$I$18,6,10)=\"december\",\"1231\",IF(MID('COVER SHEET'!$I$18,6,10)=\"june\",\"0630\"))","v":"20241231"},{"$f":"+'Incoming Remittances (Value)'!G70","v":0}]
["CMREM_11520","DO",{"$f":"+'Incoming Remittances (Value)'!$G$5","v":"20241130"},{"$f":"+'COVER SHEET'!$D$12","v":0},11520,{"$f":"'COVER SHEET'!$D$16&IF(MID('COVER SHEET'!$I$18,6,10)=\"december\",\"1231\",IF(MID('COVER SHEET'!$I$18,6,10)=\"june\",\"0630\"))","v":"20241231"},{"$f":"+'Incoming Remittances (Value)'!G71","v":0}]
["CMREM_11520","TL",{"$f":"+'Incoming Remittances (Value)'!$G$5","v":"20241130"},{"$f":"+'COVER SHEET'!$D$12","v":0},11520,{"$f":"'COVER SHEET'!$D$16&IF(MID('COVER SHEET'!$I$18,6,10)=\"december\",\"1231\",IF(MID('COVER SHEET'!$I$18,6,10)=\"june\",\"0630\"))","v":"20241231"},{"$f":"+'Incoming Remittances (Value)'!G72","v":0}]
["CMREM_11520","EC",{"$f":"+'Incoming Remittances (Value)'!$G$5","v":"20241130"},{"$f":"+'COVER SHEET'!$D$12","v":0},11520,{"$f":"'COVER SHEET'!$D$16&IF(MID('COVER SHEET'!$I$18,6,10)=\"december\",\"1231\",IF(MID('COVER SHEET'!$I$18,6,10)=\"june\",\"0630\"))","v":"20241231"},{"$f":"+'Incoming Remittances (Value)'!G73","v":0}]
["CMREM_11520","EG",{"$f":"+'Incoming Remittances (Value)'!$G$5","v":"20241130"},{"$f":"+'COVER SHEET'!$D$12","v":0},11520,{"$f":"'COVER SHEET'!$D$16&IF(MID('COVER SHEET'!$I$18,6,10)=\"december\",\"1231\",IF(MID('COVER SHEET'!$I$18,6,10)=\"june\",\"0630\"))","v":"20241231"},{"$f":"+'Incoming Remittances (Value)'!G74","v":0}]
["CMREM_11520","SV",{"$f":"+'Incoming Remittances (Value)'!$G$5","v":"20241130"},{"$f":"+'COVER SHEET'!$D$12","v":0},11520,{"$f":"'COVER SHEET'!$D$16&IF(MID('COVER SHEET'!$I$18,6,10)=\"december\",\"1231\",IF(MID('COVER SHEET'!$I$18,6,10)=\"june\",\"0630\"))","v":"20241231"},{"$f":"+'Incoming Remittances (Value)'!G75","v":0}]
["CMREM_11520","GQ",{"$f":"+'Incoming Remittances (Value)'!$G$5","v":"20241130"},{"$f":"+'COVER SHEET'!$D$12","v":0},11520,{"$f":"'COVER SHEET'!$D$16&IF(MID('COVER SHEET'!$I$18,6,10)=\"december\",\"1231\",IF(MID('COVER SHEET'!$I$18,6,10)=\"june\",\"0630\"))","v":"20241231"},{"$f":"+'Incoming Remittances (Value)'!G76","v":0}]
["CMREM_11520","ER",{"$f":"+'Incoming Remittances (Value)'!$G$5","v":"20241130"},{"$f":"+'COVER SHEET'!$D$12","v":0},11520,{"$f":"'COVER SHEET'!$D$16&IF(MID('COVER SHEET'!$I$18,6,10)=\"december\",\"1231\",IF(MID('COVER SHEET'!$I$18,6,10)=\"june\",\"0630\"))","v":"20241231"},{"$f":"+'Incoming Remittances (Value)'!G77","v":0}]
["CMREM_11520","EE",{"$f":"+'Incoming Remittances (Value)'!$G$5","v":"20241130"},{"$f":"+'COVER SHEET'!$D$12","v":0},11520,{"$f":"'COVER SHEET'!$D$16&IF(MID('COVER SHEET'!$I$18,6,10)=\"december\",\"1231\",IF(MID('COVER SHEET'!$I$18,6,10)=\"june\",\"0630\"))","v":"20241231"},{"$f":"+'Incoming Remittances (Value)'!G78","v":0}]
["CMREM_11520","ET",{"$f":"+'Incoming Remittances (Value)'!$G$5","v":"20241130"},{"$f":"+'COVER SHEET'!$D$12","v":0},11520,{"$f":"'COVER SHEET'!$D$16&IF(MID('COVER SHEET'!$I$18,6,10)=\"december\",\"1231\",IF(MID('COVER SHEET'!$I$18,6,10)=\"june\",\"0630\"))","v":"20241231"},{"$f":"+'Incoming Remittances (Value)'!G79","v":0}]
["CMREM_11520","FK",{"$f":"+'Incoming Remittances (Value)'!$G$5","v":"20241130"},{"$f":"+'COVER SHEET'!$D$12","v":0},11520,{"$f":"'COVER SHEET'!$D$16&IF(MID('COVER SHEET'!$I$18,6,10)=\"december\",\"1231\",IF(MID('COVER SHEET'!$I$18,6,10)=\"june\",\"0630\"))","v":"20241231"},{"$f":"+'Incoming Remittances (Value)'!G80","v":0}]
["CMREM_11520","FO",{"$f":"+'Incoming Remittances (Value)'!$G$5","v":"20241130"},{"$f":"+'COVER SHEET'!$D$12","v":0},11520,{"$f":"'COVER SHEET'!$D$16&IF(MID('COVER SHEET'!$I$18,6,10)=\"december\",\"1231\",IF(MID('COVER SHEET'!$I$18,6,10)=\"june\",\"0630\"))","v":"20241231"},{"$f":"+'Incoming Remittances (Value)'!G81","v":0}]
["CMREM_11520","FJ",{"$f":"+'Incoming Remittances (Value)'!$G$5","v":"20241130"},{"$f":"+'COVER SHEET'!$D$12","v":0},11520,{"$f":"'COVER SHEET'!$D$16&IF(MID('COVER SHEET'!$I$18,6,10)=\"december\",\"1231\",IF(MID('COVER SHEET'!$I$18,6,10)=\"june\",\"0630\"))","v":"20241231"},{"$f":"+'Incoming Remittances (Value)'!G82","v":0}]
["CMREM_11520","FI",{"$f":"+'Incoming Remittances (Value)'!$G$5","v":"20241130"},{"$f":"+'COVER SHEET'!$D$12","v":0},11520,{"$f":"'COVER SHEET'!$D$16&IF(MID('COVER SHEET'!$I$18,6,10)=\"december\",\"1231\",IF(MID('COVER SHEET'!$I$18,6,10)=\"june\",\"0630\"))","v":"20241231"},{"$f":"+'Incoming Remittances (Value)'!G83","v":0}]
["CMREM_11520","FR",{"$f":"+'Incoming Remittances (Value)'!$G$5","v":"20241130"},{"$f":"+'COVER SHEET'!$D$12","v":0},11520,{"$f":"'COVER SHEET'!$D$16&IF(MID('COVER SHEET'!$I$18,6,10)=\"december\",\"1231\",IF(MID('COVER SHEET'!$I$18,6,10)=\"june\",\"0630\"))","v":"20241231"},{"$f":"+'Incoming Remittances (Value)'!G84","v":0}]
["CMREM_11520","PF",{"$f":"+'Incoming Remittances (Value)'!$G$5","v":"20241130"},{"$f":"+'COVER SHEET'!$D$12","v":0},11520,{"$f":"'COVER SHEET'!$D$16&IF(MID('COVER SHEET'!$I$18,6,10)=\"december\",\"1231\",IF(MID('COVER SHEET'!$I$18,6,10)=\"june\",\"0630\"))","v":"20241231"},{"$f":"+'Incoming Remittances (Value)'!G85","v":0}]
["CMREM_11520","TF",{"$f":"+'Incoming Remittances (Value)'!$G$5","v":"20241130"},{"$f":"+'COVER SHEET'!$D$12","v":0},11520,{"$f":"'COVER SHEET'!$D$16&IF(MID('COVER SHEET'!$I$18,6,10)=\"december\",\"1231\",IF(MID('COVER SHEET'!$I$18,6,10)=\"june\",\"0630\"))","v":"20241231"},{"$f":"+'Incoming Remittances (Value)'!G86","v":0}]
["CMREM_11520","GA",{"$f":"+'Incoming Remittances (Value)'!$G$5","v":"20241130"},{"$f":"+'COVER SHEET'!$D$12","v":0},11520,{"$f":"'COVER SHEET'!$D$16&IF(MID('COVER SHEET'!$I$18,6,10)=\"december\",\"1231\",IF(MID('COVER SHEET'!$I$18,6,10)=\"june\",\"0630\"))","v":"20241231"},{"$f":"+'Incoming Remittances (Value)'!G87","v":0}]
["CMREM_11520","GM",{"$f":"+'Incoming Remittances (Value)'!$G$5","v":"20241130"},{"$f":"+'COVER SHEET'!$D$12","v":0},11520,{"$f":"'COVER SHEET'!$D$16&IF(MID('COVER SHEET'!$I$18,6,10)=\"december\",\"1231\",IF(MID('COVER SHEET'!$I$18,6,10)=\"june\",\"0630\"))","v":"20241231"},{"$f":"+'Incoming Remittances (Value)'!G88","v":0}]
["CMREM_11520","GE",{"$f":"+'Incoming Remittances (Value)'!$G$5","v":"20241130"},{"$f":"+'COVER SHEET'!$D$12","v":0},11520,{"$f":"'COVER SHEET'!$D$16&IF(MID('COVER SHEET'!$I$18,6,10)=\"december\",\"1231\",IF(MID('COVER SHEET'!$I$18,6,10)=\"june\",\"0630\"))","v":"20241231"},{"$f":"+'Incoming Remittances (Value)'!G89","v":0}]
["CMREM_11520","DE",{"$f":"+'Incoming Remittances (Value)'!$G$5","v":"20241130"},{"$f":"+'COVER SHEET'!$D$12","v":0},11520,{"$f":"'COVER SHEET'!$D$16&IF(MID('COVER SHEET'!$I$18,6,10)=\"december\",\"1231\",IF(MID('COVER SHEET'!$I$18,6,10)=\"june\",\"0630\"))","v":"20241231"},{"$f":"+'Incoming Remittances (Value)'!G90","v":0}]
["CMREM_11520","GH",{"$f":"+'Incoming Remittances (Value)'!$G$5","v":"20241130"},{"$f":"+'COVER SHEET'!$D$12","v":0},11520,{"$f":"'COVER SHEET'!$D$16&IF(MID('COVER SHEET'!$I$18,6,10)=\"december\",\"1231\",IF(MID('COVER SHEET'!$I$18,6,10)=\"june\",\"0630\"))","v":"20241231"},{"$f":"+'Incoming Remittances (Value)'!G91","v":0}]
["CMREM_11520","GI",{"$f":"+'Incoming Remittances (Value)'!$G$5","v":"20241130"},{"$f":"+'COVER SHEET'!$D$12","v":0},11520,{"$f":"'COVER SHEET'!$D$16&IF(MID('COVER SHEET'!$I$18,6,10)=\"december\",\"1231\",IF(MID('COVER SHEET'!$I$18,6,10)=\"june\",\"0630\"))","v":"20241231"},{"$f":"+'Incoming Remittances (Value)'!G92","v":0}]
["CMREM_11520","GR",{"$f":"+'Incoming Remittances (Value)'!$G$5","v":"20241130"},{"$f":"+'COVER SHEET'!$D$12","v":0},11520,{"$f":"'COVER SHEET'!$D$16&IF(MID('COVER SHEET'!$I$18,6,10)=\"december\",\"1231\",IF(MID('COVER SHEET'!$I$18,6,10)=\"june\",\"0630\"))","v":"20241231"},{"$f":"+'Incoming Remittances (Value)'!G93","v":0}]
["CMREM_11520","GL",{"$f":"+'Incoming Remittances (Value)'!$G$5","v":"20241130"},{"$f":"+'COVER SHEET'!$D$12","v":0},11520,{"$f":"'COVER SHEET'!$D$16&IF(MID('COVER SHEET'!$I$18,6,10)=\"december\",\"1231\",IF(MID('COVER SHEET'!$I$18,6,10)=\"june\",\"0630\"))","v":"20241231"},{"$f":"+'Incoming Remittances (Value)'!G94","v":0}]
["CMREM_11520","GD",{"$f":"+'Incoming Remittances (Value)'!$G$5","v":"20241130"},{"$f":"+'COVER SHEET'!$D$12","v":0},11520,{"$f":"'COVER SHEET'!$D$16&IF(MID('COVER SHEET'!$I$18,6,10)=\"december\",\"1231\",IF(MID('COVER SHEET'!$I$18,6,10)=\"june\",\"0630\"))","v":"20241231"},{"$f":"+'Incoming Remittances (Value)'!G95","v":0}]
["CMREM_11520","GU",{"$f":"+'Incoming Remittances (Value)'!$G$5","v":"20241130"},{"$f":"+'COVER SHEET'!$D$12","v":0},11520,{"$f":"'COVER SHEET'!$D$16&IF(MID('COVER SHEET'!$I$18,6,10)=\"december\",\"1231\",IF(MID('COVER SHEET'!$I$18,6,10)=\"june\",\"0630\"))","v":"20241231"},{"$f":"+'Incoming Remittances (Value)'!G96","v":0}]
["CMREM_11520","GT",{"$f":"+'Incoming Remittances (Value)'!$G$5","v":"20241130"},{"$f":"+'COVER SHEET'!$D$12","v":0},11520,{"$f":"'COVER SHEET'!$D$16&IF(MID('COVER SHEET'!$I$18,6,10)=\"december\",\"1231\",IF(MID('COVER SHEET'!$I$18,6,10)=\"june\",\"0630\"))","v":"20241231"},{"$f":"+'Incoming Remittances (Value)'!G97","v":0}]
["CMREM_11520","GG",{"$f":"+'Incoming Remittances (Value)'!$G$5","v":"20241130"},{"$f":"+'COVER SHEET'!$D$12","v":0},11520,{"$f":"'COVER SHEET'!$D$16&IF(MID('COVER SHEET'!$I$18,6,10)=\"december\",\"1231\",IF(MID('COVER SHEET'!$I$18,6,10)=\"june\",\"0630\"))","v":"20241231"},{"$f":"+'Incoming Remittances (Value)'!G98","v":0}]
["CMREM_11520","GN",{"$f":"+'Incoming Remittances (Value)'!$G$5","v":"20241130"},{"$f":"+'COVER SHEET'!$D$12","v":0},11520,{"$f":"'COVER SHEET'!$D$16&IF(MID('COVER SHEET'!$I$18,6,10)=\"december\",\"1231\",IF(MID('COVER SHEET'!$I$18,6,10)=\"june\",\"0630\"))","v":"20241231"},{"$f":"+'Incoming Remittances (Value)'!G99","v":0}]
["CMREM_11520","GW",{"$f":"+'Incoming Remittances (Value)'!$G$5","v":"20241130"},{"$f":"+'COVER SHEET'!$D$12","v":0},11520,{"$f":"'COVER SHEET'!$D$16&IF(MID('COVER SHEET'!$I$18,6,10)=\"december\",\"1231\",IF(MID('COVER SHEET'!$I$18,6,10)=\"june\",\"0630\"))","v":"20241231"},{"$f":"+'Incoming Remittances (Value)'!G100","v":0}]
["CMREM_11520","GY",{"$f":"+'Incoming Remittances (Value)'!$G$5","v":"20241130"},{"$f":"+'COVER SHEET'!$D$12","v":0},11520,{"$f":"'COVER SHEET'!$D$16&IF(MID('COVER SHEET'!$I$18,6,10)=\"december\",\"1231\",IF(MID('COVER SHEET'!$I$18,6,10)=\"june\",\"0630\"))","v":"20241231"},{"$f":"+'Incoming Remittances (Value)'!G101","v":0}]
["CMREM_11520","HT",{"$f":"+'Incoming Remittances (Value)'!$G$5","v":"20241130"},{"$f":"+'COVER SHEET'!$D$12","v":0},11520,{"$f":"'COVER SHEET'!$D$16&IF(MID('COVER SHEET'!$I$18,6,10)=\"december\",\"1231\",IF(MID('COVER SHEET'!$I$18,6,10)=\"june\",\"0630\"))","v":"20241231"},{"$f":"+'Incoming Remittances (Value)'!G102","v":0}]
["CMREM_11520","HM",{"$f":"+'Incoming Remittances (Value)'!$G$5","v":"20241130"},{"$f":"+'COVER SHEET'!$D$12","v":0},11520,{"$f":"'COVER SHEET'!$D$16&IF(MID('COVER SHEET'!$I$18,6,10)=\"december\",\"1231\",IF(MID('COVER SHEET'!$I$18,6,10)=\"june\",\"0630\"))","v":"20241231"},{"$f":"+'Incoming Remittances (Value)'!G103","v":0}]
["CMREM_11520","VA",{"$f":"+'Incoming Remittances (Value)'!$G$5","v":"20241130"},{"$f":"+'COVER SHEET'!$D$12","v":0},11520,{"$f":"'COVER SHEET'!$D$16&IF(MID('COVER SHEET'!$I$18,6,10)=\"december\",\"1231\",IF(MID('COVER SHEET'!$I$18,6,10)=\"june\",\"0630\"))","v":"20241231"},{"$f":"+'Incoming Remittances (Value)'!G104","v":0}]
["CMREM_11520","HN",{"$f":"+'Incoming Remittances (Value)'!$G$5","v":"20241130"},{"$f":"+'COVER SHEET'!$D$12","v":0},11520,{"$f":"'COVER SHEET'!$D$16&IF(MID('COVER SHEET'!$I$18,6,10)=\"december\",\"1231\",IF(MID('COVER SHEET'!$I$18,6,10)=\"june\",\"0630\"))","v":"20241231"},{"$f":"+'Incoming Remittances (Value)'!G105","v":0}]
["CMREM_11520","HK",{"$f":"+'Incoming Remittances (Value)'!$G$5","v":"20241130"},{"$f":"+'COVER SHEET'!$D$12","v":0},11520,{"$f":"'COVER SHEET'!$D$16&IF(MID('COVER SHEET'!$I$18,6,10)=\"december\",\"1231\",IF(MID('COVER SHEET'!$I$18,6,10)=\"june\",\"0630\"))","v":"20241231"},{"$f":"+'Incoming Remittances (Value)'!G106","v":0}]
["CMREM_11520","HU",{"$f":"+'Incoming Remittances (Value)'!$G$5","v":"20241130"},{"$f":"+'COVER SHEET'!$D$12","v":0},11520,{"$f":"'COVER SHEET'!$D$16&IF(MID('COVER SHEET'!$I$18,6,10)=\"december\",\"1231\",IF(MID('COVER SHEET'!$I$18,6,10)=\"june\",\"0630\"))","v":"20241231"},{"$f":"+'Incoming Remittances (Value)'!G107","v":0}]
["CMREM_11520","IS",{"$f":"+'Incoming Remittances (Value)'!$G$5","v":"20241130"},{"$f":"+'COVER SHEET'!$D$12","v":0},11520,{"$f":"'COVER SHEET'!$D$16&IF(MID('COVER SHEET'!$I$18,6,10)=\"december\",\"1231\",IF(MID('COVER SHEET'!$I$18,6,10)=\"june\",\"0630\"))","v":"20241231"},{"$f":"+'Incoming Remittances (Value)'!G108","v":0}]
["CMREM_11520","IN",{"$f":"+'Incoming Remittances (Value)'!$G$5","v":"20241130"},{"$f":"+'COVER SHEET'!$D$12","v":0},11520,{"$f":"'COVER SHEET'!$D$16&IF(MID('COVER SHEET'!$I$18,6,10)=\"december\",\"1231\",IF(MID('COVER SHEET'!$I$18,6,10)=\"june\",\"0630\"))","v":"20241231"},{"$f":"+'Incoming Remittances (Value)'!G109","v":0}]
["CMREM_11520","ID",{"$f":"+'Incoming Remittances (Value)'!$G$5","v":"20241130"},{"$f":"+'COVER SHEET'!$D$12","v":0},11520,{"$f":"'COVER SHEET'!$D$16&IF(MID('COVER SHEET'!$I$18,6,10)=\"december\",\"1231\",IF(MID('COVER SHEET'!$I$18,6,10)=\"june\",\"0630\"))","v":"20241231"},{"$f":"+'Incoming Remittances (Value)'!G110","v":0}]
["CMREM_11520","IR",{"$f":"+'Incoming Remittances (Value)'!$G$5","v":"20241130"},{"$f":"+'COVER SHEET'!$D$12","v":0},11520,{"$f":"'COVER SHEET'!$D$16&IF(MID('COVER SHEET'!$I$18,6,10)=\"december\",\"1231\",IF(MID('COVER SHEET'!$I$18,6,10)=\"june\",\"0630\"))","v":"20241231"},{"$f":"+'Incoming Remittances (Value)'!G111","v":0}]
["CMREM_11520","IQ",{"$f":"+'Incoming Remittances (Value)'!$G$5","v":"20241130"},{"$f":"+'COVER SHEET'!$D$12","v":0},11520,{"$f":"'COVER SHEET'!$D$16&IF(MID('COVER SHEET'!$I$18,6,10)=\"december\",\"1231\",IF(MID('COVER SHEET'!$I$18,6,10)=\"june\",\"0630\"))","v":"20241231"},{"$f":"+'Incoming Remittances (Value)'!G112","v":0}]
["CMREM_11520","IE",{"$f":"+'Incoming Remittances (Value)'!$G$5","v":"20241130"},{"$f":"+'COVER SHEET'!$D$12","v":0},11520,{"$f":"'COVER SHEET'!$D$16&IF(MID('COVER SHEET'!$I$18,6,10)=\"december\",\"1231\",IF(MID('COVER SHEET'!$I$18,6,10)=\"june\",\"0630\"))","v":"20241231"},{"$f":"+'Incoming Remittances (Value)'!G113","v":0}]
["CMREM_11520","IM",{"$f":"+'Incoming Remittances (Value)'!$G$5","v":"20241130"},{"$f":"+'COVER SHEET'!$D$12","v":0},11520,{"$f":"'COVER SHEET'!$D$16&IF(MID('COVER SHEET'!$I$18,6,10)=\"december\",\"1231\",IF(MID('COVER SHEET'!$I$18,6,10)=\"june\",\"0630\"))","v":"20241231"},{"$f":"+'Incoming Remittances (Value)'!G114","v":0}]
["CMREM_11520","IL",{"$f":"+'Incoming Remittances (Value)'!$G$5","v":"20241130"},{"$f":"+'COVER SHEET'!$D$12","v":0},11520,{"$f":"'COVER SHEET'!$D$16&IF(MID('COVER SHEET'!$I$18,6,10)=\"december\",\"1231\",IF(MID('COVER SHEET'!$I$18,6,10)=\"june\",\"0630\"))","v":"20241231"},{"$f":"+'Incoming Remittances (Value)'!G115","v":0}]
["CMREM_11520","IT",{"$f":"+'Incoming Remittances (Value)'!$G$5","v":"20241130"},{"$f":"+'COVER SHEET'!$D$12","v":0},11520,{"$f":"'COVER SHEET'!$D$16&IF(MID('COVER SHEET'!$I$18,6,10)=\"december\",\"1231\",IF(MID('COVER SHEET'!$I$18,6,10)=\"june\",\"0630\"))","v":"20241231"},{"$f":"+'Incoming Remittances (Value)'!G116","v":0}]
["CMREM_11520","CI",{"$f":"+'Incoming Remittances (Value)'!$G$5","v":"20241130"},{"$f":"+'COVER SHEET'!$D$12","v":0},11520,{"$f":"'COVER SHEET'!$D$16&IF(MID('COVER SHEET'!$I$18,6,10)=\"december\",\"1231\",IF(MID('COVER SHEET'!$I$18,6,10)=\"june\",\"0630\"))","v":"20241231"},{"$f":"+'Incoming Remittances (Value)'!G117","v":0}]
["CMREM_11520","JM",{"$f":"+'Incoming Remittances (Value)'!$G$5","v":"20241130"},{"$f":"+'COVER SHEET'!$D$12","v":0},11520,{"$f":"'COVER SHEET'!$D$16&IF(MID('COVER SHEET'!$I$18,6,10)=\"december\",\"1231\",IF(MID('COVER SHEET'!$I$18,6,10)=\"june\",\"0630\"))","v":"20241231"},{"$f":"+'Incoming Remittances (Value)'!G118","v":0}]
["CMREM_11520","JP",{"$f":"+'Incoming Remittances (Value)'!$G$5","v":"20241130"},{"$f":"+'COVER SHEET'!$D$12","v":0},11520,{"$f":"'COVER SHEET'!$D$16&IF(MID('COVER SHEET'!$I$18,6,10)=\"december\",\"1231\",IF(MID('COVER SHEET'!$I$18,6,10)=\"june\",\"0630\"))","v":"20241231"},{"$f":"+'Incoming Remittances (Value)'!G119","v":0}]
["CMREM_11520","JE",{"$f":"+'Incoming Remittances (Value)'!$G$5","v":"20241130"},{"$f":"+'COVER SHEET'!$D$12","v":0},11520,{"$f":"'COVER SHEET'!$D$16&IF(MID('COVER SHEET'!$I$18,6,10)=\"december\",\"1231\",IF(MID('COVER SHEET'!$I$18,6,10)=\"june\",\"0630\"))","v":"20241231"},{"$f":"+'Incoming Remittances (Value)'!G120","v":0}]
["CMREM_11520","JO",{"$f":"+'Incoming Remittances (Value)'!$G$5","v":"20241130"},{"$f":"+'COVER SHEET'!$D$12","v":0},11520,{"$f":"'COVER SHEET'!$D$16&IF(MID('COVER SHEET'!$I$18,6,10)=\"december\",\"1231\",IF(MID('COVER SHEET'!$I$18,6,10)=\"june\",\"0630\"))","v":"20241231"},{"$f":"+'Incoming Remittances (Value)'!G121","v":0}]
["CMREM_11520","KZ",{"$f":"+'Incoming Remittances (Value)'!$G$5","v":"20241130"},{"$f":"+'COVER SHEET'!$D$12","v":0},11520,{"$f":"'COVER SHEET'!$D$16&IF(MID('COVER SHEET'!$I$18,6,10)=\"december\",\"1231\",IF(MID('COVER SHEET'!$I$18,6,10)=\"june\",\"0630\"))","v":"20241231"},{"$f":"+'Incoming Remittances (Value)'!G122","v":0}]
["CMREM_11520","KE",{"$f":"+'Incoming Remittances (Value)'!$G$5","v":"20241130"},{"$f":"+'COVER SHEET'!$D$12","v":0},11520,{"$f":"'COVER SHEET'!$D$16&IF(MID('COVER SHEET'!$I$18,6,10)=\"december\",\"1231\",IF(MID('COVER SHEET'!$I$18,6,10)=\"june\",\"0630\"))","v":"20241231"},{"$f":"+'Incoming Remittances (Value)'!G123","v":0}]
["CMREM_11520","KI",{"$f":"+'Incoming Remittances (Value)'!$G$5","v":"20241130"},{"$f":"+'COVER SHEET'!$D$12","v":0},11520,{"$f":"'COVER SHEET'!$D$16&IF(MID('COVER SHEET'!$I$18,6,10)=\"december\",\"1231\",IF(MID('COVER SHEET'!$I$18,6,10)=\"june\",\"0630\"))","v":"20241231"},{"$f":"+'Incoming Remittances (Value)'!G124","v":0}]
["CMREM_11520","KP",{"$f":"+'Incoming Remittances (Value)'!$G$5","v":"20241130"},{"$f":"+'COVER SHEET'!$D$12","v":0},11520,{"$f":"'COVER SHEET'!$D$16&IF(MID('COVER SHEET'!$I$18,6,10)=\"december\",\"1231\",IF(MID('COVER SHEET'!$I$18,6,10)=\"june\",\"0630\"))","v":"20241231"},{"$f":"+'Incoming Remittances (Value)'!G125","v":0}]
["CMREM_11520","KR",{"$f":"+'Incoming Remittances (Value)'!$G$5","v":"20241130"},{"$f":"+'COVER SHEET'!$D$12","v":0},11520,{"$f":"'COVER SHEET'!$D$16&IF(MID('COVER SHEET'!$I$18,6,10)=\"december\",\"1231\",IF(MID('COVER SHEET'!$I$18,6,10)=\"june\",\"0630\"))","v":"20241231"},{"$f":"+'Incoming Remittances (Value)'!G126","v":0}]
["CMREM_11520","XK",{"$f":"+'Incoming Remittances (Value)'!$G$5","v":"20241130"},{"$f":"+'COVER SHEET'!$D$12","v":0},11520,{"$f":"'COVER SHEET'!$D$16&IF(MID('COVER SHEET'!$I$18,6,10)=\"december\",\"1231\",IF(MID('COVER SHEET'!$I$18,6,10)=\"june\",\"0630\"))","v":"20241231"},{"$f":"+'Incoming Remittances (Value)'!G127","v":0}]
["CMREM_11520","KW",{"$f":"+'Incoming Remittances (Value)'!$G$5","v":"20241130"},{"$f":"+'COVER SHEET'!$D$12","v":0},11520,{"$f":"'COVER SHEET'!$D$16&IF(MID('COVER SHEET'!$I$18,6,10)=\"december\",\"1231\",IF(MID('COVER SHEET'!$I$18,6,10)=\"june\",\"0630\"))","v":"20241231"},{"$f":"+'Incoming Remittances (Value)'!G128","v":0}]
["CMREM_11520","KG",{"$f":"+'Incoming Remittances (Value)'!$G$5","v":"20241130"},{"$f":"+'COVER SHEET'!$D$12","v":0},11520,{"$f":"'COVER SHEET'!$D$16&IF(MID('COVER SHEET'!$I$18,6,10)=\"december\",\"1231\",IF(MID('COVER SHEET'!$I$18,6,10)=\"june\",\"0630\"))","v":"20241231"},{"$f":"+'Incoming Remittances (Value)'!G129","v":0}]
["CMREM_11520","LA",{"$f":"+'Incoming Remittances (Value)'!$G$5","v":"20241130"},{"$f":"+'COVER SHEET'!$D$12","v":0},11520,{"$f":"'COVER SHEET'!$D$16&IF(MID('COVER SHEET'!$I$18,6,10)=\"december\",\"1231\",IF(MID('COVER SHEET'!$I$18,6,10)=\"june\",\"0630\"))","v":"20241231"},{"$f":"+'Incoming Remittances (Value)'!G130","v":0}]
["CMREM_11520","LV",{"$f":"+'Incoming Remittances (Value)'!$G$5","v":"20241130"},{"$f":"+'COVER SHEET'!$D$12","v":0},11520,{"$f":"'COVER SHEET'!$D$16&IF(MID('COVER SHEET'!$I$18,6,10)=\"december\",\"1231\",IF(MID('COVER SHEET'!$I$18,6,10)=\"june\",\"0630\"))","v":"20241231"},{"$f":"+'Incoming Remittances (Value)'!G131","v":0}]
["CMREM_11520","LB",{"$f":"+'Incoming Remittances (Value)'!$G$5","v":"20241130"},{"$f":"+'COVER SHEET'!$D$12","v":0},11520,{"$f":"'COVER SHEET'!$D$16&IF(MID('COVER SHEET'!$I$18,6,10)=\"december\",\"1231\",IF(MID('COVER SHEET'!$I$18,6,10)=\"june\",\"0630\"))","v":"20241231"},{"$f":"+'Incoming Remittances (Value)'!G132","v":0}]
["CMREM_11520","LS",{"$f":"+'Incoming Remittances (Value)'!$G$5","v":"20241130"},{"$f":"+'COVER SHEET'!$D$12","v":0},11520,{"$f":"'COVER SHEET'!$D$16&IF(MID('COVER SHEET'!$I$18,6,10)=\"december\",\"1231\",IF(MID('COVER SHEET'!$I$18,6,10)=\"june\",\"0630\"))","v":"20241231"},{"$f":"+'Incoming Remittances (Value)'!G133","v":0}]
["CMREM_11520","LR",{"$f":"+'Incoming Remittances (Value)'!$G$5","v":"20241130"},{"$f":"+'COVER SHEET'!$D$12","v":0},11520,{"$f":"'COVER SHEET'!$D$16&IF(MID('COVER SHEET'!$I$18,6,10)=\"december\",\"1231\",IF(MID('COVER SHEET'!$I$18,6,10)=\"june\",\"0630\"))","v":"20241231"},{"$f":"+'Incoming Remittances (Value)'!G134","v":0}]
["CMREM_11520","LY",{"$f":"+'Incoming Remittances (Value)'!$G$5","v":"20241130"},{"$f":"+'COVER SHEET'!$D$12","v":0},11520,{"$f":"'COVER SHEET'!$D$16&IF(MID('COVER SHEET'!$I$18,6,10)=\"december\",\"1231\",IF(MID('COVER SHEET'!$I$18,6,10)=\"june\",\"0630\"))","v":"20241231"},{"$f":"+'Incoming Remittances (Value)'!G135","v":0}]
["CMREM_11520","LI",{"$f":"+'Incoming Remittances (Value)'!$G$5","v":"20241130"},{"$f":"+'COVER SHEET'!$D$12","v":0},11520,{"$f":"'COVER SHEET'!$D$16&IF(MID('COVER SHEET'!$I$18,6,10)=\"december\",\"1231\",IF(MID('COVER SHEET'!$I$18,6,10)=\"june\",\"0630\"))","v":"20241231"},{"$f":"+'Incoming Remittances (Value)'!G136","v":0}]
["CMREM_11520","LT",{"$f":"+'Incoming Remittances (Value)'!$G$5","v":"20241130"},{"$f":"+'COVER SHEET'!$D$12","v":0},11520,{"$f":"'COVER SHEET'!$D$16&IF(MID('COVER SHEET'!$I$18,6,10)=\"december\",\"1231\",IF(MID('COVER SHEET'!$I$18,6,10)=\"june\",\"0630\"))","v":"20241231"},{"$f":"+'Incoming Remittances (Value)'!G137","v":0}]
["CMREM_11520","LU",{"$f":"+'Incoming Remittances (Value)'!$G$5","v":"20241130"},{"$f":"+'COVER SHEET'!$D$12","v":0},11520,{"$f":"'COVER SHEET'!$D$16&IF(MID('COVER SHEET'!$I$18,6,10)=\"december\",\"1231\",IF(MID('COVER SHEET'!$I$18,6,10)=\"june\",\"0630\"))","v":"20241231"},{"$f":"+'Incoming Remittances (Value)'!G138","v":0}]
["CMREM_11520","MO",{"$f":"+'Incoming Remittances (Value)'!$G$5","v":"20241130"},{"$f":"+'COVER SHEET'!$D$12","v":0},11520,{"$f":"'COVER SHEET'!$D$16&IF(MID('COVER SHEET'!$I$18,6,10)=\"december\",\"1231\",IF(MID('COVER SHEET'!$I$18,6,10)=\"june\",\"0630\"))","v":"20241231"},{"$f":"+'Incoming Remittances (Value)'!G139","v":0}]
["CMREM_11520","MK",{"$f":"+'Incoming Remittances (Value)'!$G$5","v":"20241130"},{"$f":"+'COVER SHEET'!$D$12","v":0},11520,{"$f":"'COVER SHEET'!$D$16&IF(MID('COVER SHEET'!$I$18,6,10)=\"december\",\"1231\",IF(MID('COVER SHEET'!$I$18,6,10)=\"june\",\"0630\"))","v":"20241231"},{"$f":"+'Incoming Remittances (Value)'!G140","v":0}]
["CMREM_11520","MG",{"$f":"+'Incoming Remittances (Value)'!$G$5","v":"20241130"},{"$f":"+'COVER SHEET'!$D$12","v":0},11520,{"$f":"'COVER SHEET'!$D$16&IF(MID('COVER SHEET'!$I$18,6,10)=\"december\",\"1231\",IF(MID('COVER SHEET'!$I$18,6,10)=\"june\",\"0630\"))","v":"20241231"},{"$f":"+'Incoming Remittances (Value)'!G141","v":0}]
["CMREM_11520","MW",{"$f":"+'Incoming Remittances (Value)'!$G$5","v":"20241130"},{"$f":"+'COVER SHEET'!$D$12","v":0},11520,{"$f":"'COVER SHEET'!$D$16&IF(MID('COVER SHEET'!$I$18,6,10)=\"december\",\"1231\",IF(MID('COVER SHEET'!$I$18,6,10)=\"june\",\"0630\"))","v":"20241231"},{"$f":"+'Incoming Remittances (Value)'!G142","v":0}]
["CMREM_11520","MY",{"$f":"+'Incoming Remittances (Value)'!$G$5","v":"20241130"},{"$f":"+'COVER SHEET'!$D$12","v":0},11520,{"$f":"'COVER SHEET'!$D$16&IF(MID('COVER SHEET'!$I$18,6,10)=\"december\",\"1231\",IF(MID('COVER SHEET'!$I$18,6,10)=\"june\",\"0630\"))","v":"20241231"},{"$f":"+'Incoming Remittances (Value)'!G143","v":0}]
["CMREM_11520","MV",{"$f":"+'Incoming Remittances (Value)'!$G$5","v":"20241130"},{"$f":"+'COVER SHEET'!$D$12","v":0},11520,{"$f":"'COVER SHEET'!$D$16&IF(MID('COVER SHEET'!$I$18,6,10)=\"december\",\"1231\",IF(MID('COVER SHEET'!$I$18,6,10)=\"june\",\"0630\"))","v":"20241231"},{"$f":"+'Incoming Remittances (Value)'!G144","v":0}]
["CMREM_11520","ML",{"$f":"+'Incoming Remittances (Value)'!$G$5","v":"20241130"},{"$f":"+'COVER SHEET'!$D$12","v":0},11520,{"$f":"'COVER SHEET'!$D$16&IF(MID('COVER SHEET'!$I$18,6,10)=\"december\",\"1231\",IF(MID('COVER SHEET'!$I$18,6,10)=\"june\",\"0630\"))","v":"20241231"},{"$f":"+'Incoming Remittances (Value)'!G145","v":0}]
["CMREM_11520","MH",{"$f":"+'Incoming Remittances (Value)'!$G$5","v":"20241130"},{"$f":"+'COVER SHEET'!$D$12","v":0},11520,{"$f":"'COVER SHEET'!$D$16&IF(MID('COVER SHEET'!$I$18,6,10)=\"december\",\"1231\",IF(MID('COVER SHEET'!$I$18,6,10)=\"june\",\"0630\"))","v":"20241231"},{"$f":"+'Incoming Remittances (Value)'!G146","v":0}]
["CMREM_11520","MR",{"$f":"+'Incoming Remittances (Value)'!$G$5","v":"20241130"},{"$f":"+'COVER SHEET'!$D$12","v":0},11520,{"$f":"'COVER SHEET'!$D$16&IF(MID('COVER SHEET'!$I$18,6,10)=\"december\",\"1231\",IF(MID('COVER SHEET'!$I$18,6,10)=\"june\",\"0630\"))","v":"20241231"},{"$f":"+'Incoming Remittances (Value)'!G147","v":0}]
["CMREM_11520","MU",{"$f":"+'Incoming Remittances (Value)'!$G$5","v":"20241130"},{"$f":"+'COVER SHEET'!$D$12","v":0},11520,{"$f":"'COVER SHEET'!$D$16&IF(MID('COVER SHEET'!$I$18,6,10)=\"december\",\"1231\",IF(MID('COVER SHEET'!$I$18,6,10)=\"june\",\"0630\"))","v":"20241231"},{"$f":"+'Incoming Remittances (Value)'!G148","v":0}]
["CMREM_11520","MX",{"$f":"+'Incoming Remittances (Value)'!$G$5","v":"20241130"},{"$f":"+'COVER SHEET'!$D$12","v":0},11520,{"$f":"'COVER SHEET'!$D$16&IF(MID('COVER SHEET'!$I$18,6,10)=\"december\",\"1231\",IF(MID('COVER SHEET'!$I$18,6,10)=\"june\",\"0630\"))","v":"20241231"},{"$f":"+'Incoming Remittances (Value)'!G149","v":0}]
["CMREM_11520","FM",{"$f":"+'Incoming Remittances (Value)'!$G$5","v":"20241130"},{"$f":"+'COVER SHEET'!$D$12","v":0},11520,{"$f":"'COVER SHEET'!$D$16&IF(MID('COVER SHEET'!$I$18,6,10)=\"december\",\"1231\",IF(MID('COVER SHEET'!$I$18,6,10)=\"june\",\"0630\"))","v":"20241231"},{"$f":"+'Incoming Remittances (Value)'!G150","v":0}]
["CMREM_11520","MD",{"$f":"+'Incoming Remittances (Value)'!$G$5","v":"20241130"},{"$f":"+'COVER SHEET'!$D$12","v":0},11520,{"$f":"'COVER SHEET'!$D$16&IF(MID('COVER SHEET'!$I$18,6,10)=\"december\",\"1231\",IF(MID('COVER SHEET'!$I$18,6,10)=\"june\",\"0630\"))","v":"20241231"},{"$f":"+'Incoming Remittances (Value)'!G151","v":0}]
["CMREM_11520","MN",{"$f":"+'Incoming Remittances (Value)'!$G$5","v":"20241130"},{"$f":"+'COVER SHEET'!$D$12","v":0},11520,{"$f":"'COVER SHEET'!$D$16&IF(MID('COVER SHEET'!$I$18,6,10)=\"december\",\"1231\",IF(MID('COVER SHEET'!$I$18,6,10)=\"june\",\"0630\"))","v":"20241231"},{"$f":"+'Incoming Remittances (Value)'!G152","v":0}]
["CMREM_11520","ME",{"$f":"+'Incoming Remittances (Value)'!$G$5","v":"20241130"},{"$f":"+'COVER SHEET'!$D$12","v":0},11520,{"$f":"'COVER SHEET'!$D$16&IF(MID('COVER SHEET'!$I$18,6,10)=\"december\",\"1231\",IF(MID('COVER SHEET'!$I$18,6,10)=\"june\",\"0630\"))","v":"20241231"},{"$f":"+'Incoming Remittances (Value)'!G153","v":0}]
["CMREM_11520","MS",{"$f":"+'Incoming Remittances (Value)'!$G$5","v":"20241130"},{"$f":"+'COVER SHEET'!$D$12","v":0},11520,{"$f":"'COVER SHEET'!$D$16&IF(MID('COVER SHEET'!$I$18,6,10)=\"december\",\"1231\",IF(MID('COVER SHEET'!$I$18,6,10)=\"june\",\"0630\"))","v":"20241231"},{"$f":"+'Incoming Remittances (Value)'!G154","v":0}]
["CMREM_11520","MA",{"$f":"+'Incoming Remittances (Value)'!$G$5","v":"20241130"},{"$f":"+'COVER SHEET'!$D$12","v":0},11520,{"$f":"'COVER SHEET'!$D$16&IF(MID('COVER SHEET'!$I$18,6,10)=\"december\",\"1231\",IF(MID('COVER SHEET'!$I$18,6,10)=\"june\",\"0630\"))","v":"20241231"},{"$f":"+'Incoming Remittances (Value)'!G155","v":0}]
["CMREM_11520","MZ",{"$f":"+'Incoming Remittances (Value)'!$G$5","v":"20241130"},{"$f":"+'COVER SHEET'!$D$12","v":0},11520,{"$f":"'COVER SHEET'!$D$16&IF(MID('COVER SHEET'!$I$18,6,10)=\"december\",\"1231\",IF(MID('COVER SHEET'!$I$18,6,10)=\"june\",\"0630\"))","v":"20241231"},{"$f":"+'Incoming Remittances (Value)'!G156","v":0}]
["CMREM_11520","MM",{"$f":"+'Incoming Remittances (Value)'!$G$5","v":"20241130"},{"$f":"+'COVER SHEET'!$D$12","v":0},11520,{"$f":"'COVER SHEET'!$D$16&IF(MID('COVER SHEET'!$I$18,6,10)=\"december\",\"1231\",IF(MID('COVER SHEET'!$I$18,6,10)=\"june\",\"0630\"))","v":"20241231"},{"$f":"+'Incoming Remittances (Value)'!G157","v":0}]
["CMREM_11520","NA",{"$f":"+'Incoming Remittances (Value)'!$G$5","v":"20241130"},{"$f":"+'COVER SHEET'!$D$12","v":0},11520,{"$f":"'COVER SHEET'!$D$16&IF(MID('COVER SHEET'!$I$18,6,10)=\"december\",\"1231\",IF(MID('COVER SHEET'!$I$18,6,10)=\"june\",\"0630\"))","v":"20241231"},{"$f":"+'Incoming Remittances (Value)'!G158","v":0}]
["CMREM_11520","NR",{"$f":"+'Incoming Remittances (Value)'!$G$5","v":"20241130"},{"$f":"+'COVER SHEET'!$D$12","v":0},11520,{"$f":"'COVER SHEET'!$D$16&IF(MID('COVER SHEET'!$I$18,6,10)=\"december\",\"1231\",IF(MID('COVER SHEET'!$I$18,6,10)=\"june\",\"0630\"))","v":"20241231"},{"$f":"+'Incoming Remittances (Value)'!G159","v":0}]
["CMREM_11520","NP",{"$f":"+'Incoming Remittances (Value)'!$G$5","v":"20241130"},{"$f":"+'COVER SHEET'!$D$12","v":0},11520,{"$f":"'COVER SHEET'!$D$16&IF(MID('COVER SHEET'!$I$18,6,10)=\"december\",\"1231\",IF(MID('COVER SHEET'!$I$18,6,10)=\"june\",\"0630\"))","v":"20241231"},{"$f":"+'Incoming Remittances (Value)'!G160","v":0}]
["CMREM_11520","NL",{"$f":"+'Incoming Remittances (Value)'!$G$5","v":"20241130"},{"$f":"+'COVER SHEET'!$D$12","v":0},11520,{"$f":"'COVER SHEET'!$D$16&IF(MID('COVER SHEET'!$I$18,6,10)=\"december\",\"1231\",IF(MID('COVER SHEET'!$I$18,6,10)=\"june\",\"0630\"))","v":"20241231"},{"$f":"+'Incoming Remittances (Value)'!G161","v":0}]
["CMREM_11520","NC",{"$f":"+'Incoming Remittances (Value)'!$G$5","v":"20241130"},{"$f":"+'COVER SHEET'!$D$12","v":0},11520,{"$f":"'COVER SHEET'!$D$16&IF(MID('COVER SHEET'!$I$18,6,10)=\"december\",\"1231\",IF(MID('COVER SHEET'!$I$18,6,10)=\"june\",\"0630\"))","v":"20241231"},{"$f":"+'Incoming Remittances (Value)'!G162","v":0}]
["CMREM_11520","NZ",{"$f":"+'Incoming Remittances (Value)'!$G$5","v":"20241130"},{"$f":"+'COVER SHEET'!$D$12","v":0},11520,{"$f":"'COVER SHEET'!$D$16&IF(MID('COVER SHEET'!$I$18,6,10)=\"december\",\"1231\",IF(MID('COVER SHEET'!$I$18,6,10)=\"june\",\"0630\"))","v":"20241231"},{"$f":"+'Incoming Remittances (Value)'!G163","v":0}]
["CMREM_11520","NI",{"$f":"+'Incoming Remittances (Value)'!$G$5","v":"20241130"},{"$f":"+'COVER SHEET'!$D$12","v":0},11520,{"$f":"'COVER SHEET'!$D$16&IF(MID('COVER SHEET'!$I$18,6,10)=\"december\",\"1231\",IF(MID('COVER SHEET'!$I$18,6,10)=\"june\",\"0630\"))","v":"20241231"},{"$f":"+'Incoming Remittances (Value)'!G164","v":0}]
["CMREM_11520","NE",{"$f":"+'Incoming Remittances (Value)'!$G$5","v":"20241130"},{"$f":"+'COVER SHEET'!$D$12","v":0},11520,{"$f":"'COVER SHEET'!$D$16&IF(MID('COVER SHEET'!$I$18,6,10)=\"december\",\"1231\",IF(MID('COVER SHEET'!$I$18,6,10)=\"june\",\"0630\"))","v":"20241231"},{"$f":"+'Incoming Remittances (Value)'!G165","v":0}]
["CMREM_11520","NG",{"$f":"+'Incoming Remittances (Value)'!$G$5","v":"20241130"},{"$f":"+'COVER SHEET'!$D$12","v":0},11520,{"$f":"'COVER SHEET'!$D$16&IF(MID('COVER SHEET'!$I$18,6,10)=\"december\",\"1231\",IF(MID('COVER SHEET'!$I$18,6,10)=\"june\",\"0630\"))","v":"20241231"},{"$f":"+'Incoming Remittances (Value)'!G166","v":0}]
["CMREM_11520","NU",{"$f":"+'Incoming Remittances (Value)'!$G$5","v":"20241130"},{"$f":"+'COVER SHEET'!$D$12","v":0},11520,{"$f":"'COVER SHEET'!$D$16&IF(MID('COVER SHEET'!$I$18,6,10)=\"december\",\"1231\",IF(MID('COVER SHEET'!$I$18,6,10)=\"june\",\"0630\"))","v":"20241231"},{"$f":"+'Incoming Remittances (Value)'!G167","v":0}]
["CMREM_11520","NF",{"$f":"+'Incoming Remittances (Value)'!$G$5","v":"20241130"},{"$f":"+'COVER SHEET'!$D$12","v":0},11520,{"$f":"'COVER SHEET'!$D$16&IF(MID('COVER SHEET'!$I$18,6,10)=\"december\",\"1231\",IF(MID('COVER SHEET'!$I$18,6,10)=\"june\",\"0630\"))","v":"20241231"},{"$f":"+'Incoming Remittances (Value)'!G168","v":0}]
["CMREM_11520","MP",{"$f":"+'Incoming Remittances (Value)'!$G$5","v":"20241130"},{"$f":"+'COVER SHEET'!$D$12","v":0},11520,{"$f":"'COVER SHEET'!$D$16&IF(MID('COVER SHEET'!$I$18,6,10)=\"december\",\"1231\",IF(MID('COVER SHEET'!$I$18,6,10)=\"june\",\"0630\"))","v":"20241231"},{"$f":"+'Incoming Remittances (Value)'!G169","v":0}]
["CMREM_11520","NO",{"$f":"+'Incoming Remittances (Value)'!$G$5","v":"20241130"},{"$f":"+'COVER SHEET'!$D$12","v":0},11520,{"$f":"'COVER SHEET'!$D$16&IF(MID('COVER SHEET'!$I$18,6,10)=\"december\",\"1231\",IF(MID('COVER SHEET'!$I$18,6,10)=\"june\",\"0630\"))","v":"20241231"},{"$f":"+'Incoming Remittances (Value)'!G170","v":0}]
["CMREM_11520","OM",{"$f":"+'Incoming Remittances (Value)'!$G$5","v":"20241130"},{"$f":"+'COVER SHEET'!$D$12","v":0},11520,{"$f":"'COVER SHEET'!$D$16&IF(MID('COVER SHEET'!$I$18,6,10)=\"december\",\"1231\",IF(MID('COVER SHEET'!$I$18,6,10)=\"june\",\"0630\"))","v":"20241231"},{"$f":"+'Incoming Remittances (Value)'!G171","v":0}]
["CMREM_11520","PK",{"$f":"+'Incoming Remittances (Value)'!$G$5","v":"20241130"},{"$f":"+'COVER SHEET'!$D$12","v":0},11520,{"$f":"'COVER SHEET'!$D$16&IF(MID('COVER SHEET'!$I$18,6,10)=\"december\",\"1231\",IF(MID('COVER SHEET'!$I$18,6,10)=\"june\",\"0630\"))","v":"20241231"},{"$f":"+'Incoming Remittances (Value)'!G172","v":0}]
["CMREM_11520","PW",{"$f":"+'Incoming Remittances (Value)'!$G$5","v":"20241130"},{"$f":"+'COVER SHEET'!$D$12","v":0},11520,{"$f":"'COVER SHEET'!$D$16&IF(MID('COVER SHEET'!$I$18,6,10)=\"december\",\"1231\",IF(MID('COVER SHEET'!$I$18,6,10)=\"june\",\"0630\"))","v":"20241231"},{"$f":"+'Incoming Remittances (Value)'!G173","v":0}]
["CMREM_11520","PS",{"$f":"+'Incoming Remittances (Value)'!$G$5","v":"20241130"},{"$f":"+'COVER SHEET'!$D$12","v":0},11520,{"$f":"'COVER SHEET'!$D$16&IF(MID('COVER SHEET'!$I$18,6,10)=\"december\",\"1231\",IF(MID('COVER SHEET'!$I$18,6,10)=\"june\",\"0630\"))","v":"20241231"},{"$f":"+'Incoming Remittances (Value)'!G174","v":0}]
["CMREM_11520","PA",{"$f":"+'Incoming Remittances (Value)'!$G$5","v":"20241130"},{"$f":"+'COVER SHEET'!$D$12","v":0},11520,{"$f":"'COVER SHEET'!$D$16&IF(MID('COVER SHEET'!$I$18,6,10)=\"december\",\"1231\",IF(MID('COVER SHEET'!$I$18,6,10)=\"june\",\"0630\"))","v":"20241231"},{"$f":"+'Incoming Remittances (Value)'!G175","v":0}]
["CMREM_11520","PG",{"$f":"+'Incoming Remittances (Value)'!$G$5","v":"20241130"},{"$f":"+'COVER SHEET'!$D$12","v":0},11520,{"$f":"'COVER SHEET'!$D$16&IF(MID('COVER SHEET'!$I$18,6,10)=\"december\",\"1231\",IF(MID('COVER SHEET'!$I$18,6,10)=\"june\",\"0630\"))","v":"20241231"},{"$f":"+'Incoming Remittances (Value)'!G176","v":0}]
["CMREM_11520","PY",{"$f":"+'Incoming Remittances (Value)'!$G$5","v":"20241130"},{"$f":"+'COVER SHEET'!$D$12","v":0},11520,{"$f":"'COVER SHEET'!$D$16&IF(MID('COVER SHEET'!$I$18,6,10)=\"december\",\"1231\",IF(MID('COVER SHEET'!$I$18,6,10)=\"june\",\"0630\"))","v":"20241231"},{"$f":"+'Incoming Remittances (Value)'!G177","v":0}]
["CMREM_11520","PE",{"$f":"+'Incoming Remittances (Value)'!$G$5","v":"20241130"},{"$f":"+'COVER SHEET'!$D$12","v":0},11520,{"$f":"'COVER SHEET'!$D$16&IF(MID('COVER SHEET'!$I$18,6,10)=\"december\",\"1231\",IF(MID('COVER SHEET'!$I$18,6,10)=\"june\",\"0630\"))","v":"20241231"},{"$f":"+'Incoming Remittances (Value)'!G178","v":0}]
["CMREM_11520","PH",{"$f":"+'Incoming Remittances (Value)'!$G$5","v":"20241130"},{"$f":"+'COVER SHEET'!$D$12","v":0},11520,{"$f":"'COVER SHEET'!$D$16&IF(MID('COVER SHEET'!$I$18,6,10)=\"december\",\"1231\",IF(MID('COVER SHEET'!$I$18,6,10)=\"june\",\"0630\"))","v":"20241231"},{"$f":"+'Incoming Remittances (Value)'!G179","v":0}]
["CMREM_11520","PN",{"$f":"+'Incoming Remittances (Value)'!$G$5","v":"20241130"},{"$f":"+'COVER SHEET'!$D$12","v":0},11520,{"$f":"'COVER SHEET'!$D$16&IF(MID('COVER SHEET'!$I$18,6,10)=\"december\",\"1231\",IF(MID('COVER SHEET'!$I$18,6,10)=\"june\",\"0630\"))","v":"20241231"},{"$f":"+'Incoming Remittances (Value)'!G180","v":0}]
["CMREM_11520","PL",{"$f":"+'Incoming Remittances (Value)'!$G$5","v":"20241130"},{"$f":"+'COVER SHEET'!$D$12","v":0},11520,{"$f":"'COVER SHEET'!$D$16&IF(MID('COVER SHEET'!$I$18,6,10)=\"december\",\"1231\",IF(MID('COVER SHEET'!$I$18,6,10)=\"june\",\"0630\"))","v":"20241231"},{"$f":"+'Incoming Remittances (Value)'!G181","v":0}]
["CMREM_11520","PT",{"$f":"+'Incoming Remittances (Value)'!$G$5","v":"20241130"},{"$f":"+'COVER SHEET'!$D$12","v":0},11520,{"$f":"'COVER SHEET'!$D$16&IF(MID('COVER SHEET'!$I$18,6,10)=\"december\",\"1231\",IF(MID('COVER SHEET'!$I$18,6,10)=\"june\",\"0630\"))","v":"20241231"},{"$f":"+'Incoming Remittances (Value)'!G182","v":0}]
["CMREM_11520","QA",{"$f":"+'Incoming Remittances (Value)'!$G$5","v":"20241130"},{"$f":"+'COVER SHEET'!$D$12","v":0},11520,{"$f":"'COVER SHEET'!$D$16&IF(MID('COVER SHEET'!$I$18,6,10)=\"december\",\"1231\",IF(MID('COVER SHEET'!$I$18,6,10)=\"june\",\"0630\"))","v":"20241231"},{"$f":"+'Incoming Remittances (Value)'!G183","v":0}]
["CMREM_11520","RO",{"$f":"+'Incoming Remittances (Value)'!$G$5","v":"20241130"},{"$f":"+'COVER SHEET'!$D$12","v":0},11520,{"$f":"'COVER SHEET'!$D$16&IF(MID('COVER SHEET'!$I$18,6,10)=\"december\",\"1231\",IF(MID('COVER SHEET'!$I$18,6,10)=\"june\",\"0630\"))","v":"20241231"},{"$f":"+'Incoming Remittances (Value)'!G184","v":0}]
["CMREM_11520","RU",{"$f":"+'Incoming Remittances (Value)'!$G$5","v":"20241130"},{"$f":"+'COVER SHEET'!$D$12","v":0},11520,{"$f":"'COVER SHEET'!$D$16&IF(MID('COVER SHEET'!$I$18,6,10)=\"december\",\"1231\",IF(MID('COVER SHEET'!$I$18,6,10)=\"june\",\"0630\"))","v":"20241231"},{"$f":"+'Incoming Remittances (Value)'!G185","v":0}]
["CMREM_11520","RW",{"$f":"+'Incoming Remittances (Value)'!$G$5","v":"20241130"},{"$f":"+'COVER SHEET'!$D$12","v":0},11520,{"$f":"'COVER SHEET'!$D$16&IF(MID('COVER SHEET'!$I$18,6,10)=\"december\",\"1231\",IF(MID('COVER SHEET'!$I$18,6,10)=\"june\",\"0630\"))","v":"20241231"},{"$f":"+'Incoming Remittances (Value)'!G186","v":0}]
["CMREM_11520","SH",{"$f":"+'Incoming Remittances (Value)'!$G$5","v":"20241130"},{"$f":"+'COVER SHEET'!$D$12","v":0},11520,{"$f":"'COVER SHEET'!$D$16&IF(MID('COVER SHEET'!$I$18,6,10)=\"december\",\"1231\",IF(MID('COVER SHEET'!$I$18,6,10)=\"june\",\"0630\"))","v":"20241231"},{"$f":"+'Incoming Remittances (Value)'!G187","v":0}]
["CMREM_11520","KN",{"$f":"+'Incoming Remittances (Value)'!$G$5","v":"20241130"},{"$f":"+'COVER SHEET'!$D$12","v":0},11520,{"$f":"'COVER SHEET'!$D$16&IF(MID('COVER SHEET'!$I$18,6,10)=\"december\",\"1231\",IF(MID('COVER SHEET'!$I$18,6,10)=\"june\",\"0630\"))","v":"20241231"},{"$f":"+'Incoming Remittances (Value)'!G188","v":0}]
["CMREM_11520","LC",{"$f":"+'Incoming Remittances (Value)'!$G$5","v":"20241130"},{"$f":"+'COVER SHEET'!$D$12","v":0},11520,{"$f":"'COVER SHEET'!$D$16&IF(MID('COVER SHEET'!$I$18,6,10)=\"december\",\"1231\",IF(MID('COVER SHEET'!$I$18,6,10)=\"june\",\"0630\"))","v":"20241231"},{"$f":"+'Incoming Remittances (Value)'!G189","v":0}]
["CMREM_11520","VC",{"$f":"+'Incoming Remittances (Value)'!$G$5","v":"20241130"},{"$f":"+'COVER SHEET'!$D$12","v":0},11520,{"$f":"'COVER SHEET'!$D$16&IF(MID('COVER SHEET'!$I$18,6,10)=\"december\",\"1231\",IF(MID('COVER SHEET'!$I$18,6,10)=\"june\",\"0630\"))","v":"20241231"},{"$f":"+'Incoming Remittances (Value)'!G190","v":0}]
["CMREM_11520","WS",{"$f":"+'Incoming Remittances (Value)'!$G$5","v":"20241130"},{"$f":"+'COVER SHEET'!$D$12","v":0},11520,{"$f":"'COVER SHEET'!$D$16&IF(MID('COVER SHEET'!$I$18,6,10)=\"december\",\"1231\",IF(MID('COVER SHEET'!$I$18,6,10)=\"june\",\"0630\"))","v":"20241231"},{"$f":"+'Incoming Remittances (Value)'!G191","v":0}]
["CMREM_11520","SM",{"$f":"+'Incoming Remittances (Value)'!$G$5","v":"20241130"},{"$f":"+'COVER SHEET'!$D$12","v":0},11520,{"$f":"'COVER SHEET'!$D$16&IF(MID('COVER SHEET'!$I$18,6,10)=\"december\",\"1231\",IF(MID('COVER SHEET'!$I$18,6,10)=\"june\",\"0630\"))","v":"20241231"},{"$f":"+'Incoming Remittances (Value)'!G192","v":0}]
["CMREM_11520","ST",{"$f":"+'Incoming Remittances (Value)'!$G$5","v":"20241130"},{"$f":"+'COVER SHEET'!$D$12","v":0},11520,{"$f":"'COVER SHEET'!$D$16&IF(MID('COVER SHEET'!$I$18,6,10)=\"december\",\"1231\",IF(MID('COVER SHEET'!$I$18,6,10)=\"june\",\"0630\"))","v":"20241231"},{"$f":"+'Incoming Remittances (Value)'!G193","v":0}]
["CMREM_11520","SA",{"$f":"+'Incoming Remittances (Value)'!$G$5","v":"20241130"},{"$f":"+'COVER SHEET'!$D$12","v":0},11520,{"$f":"'COVER SHEET'!$D$16&IF(MID('COVER SHEET'!$I$18,6,10)=\"december\",\"1231\",IF(MID('COVER SHEET'!$I$18,6,10)=\"june\",\"0630\"))","v":"20241231"},{"$f":"+'Incoming Remittances (Value)'!G194","v":0}]
["CMREM_11520","SN",{"$f":"+'Incoming Remittances (Value)'!$G$5","v":"20241130"},{"$f":"+'COVER SHEET'!$D$12","v":0},11520,{"$f":"'COVER SHEET'!$D$16&IF(MID('COVER SHEET'!$I$18,6,10)=\"december\",\"1231\",IF(MID('COVER SHEET'!$I$18,6,10)=\"june\",\"0630\"))","v":"20241231"},{"$f":"+'Incoming Remittances (Value)'!G195","v":0}]
["CMREM_11520","RS",{"$f":"+'Incoming Remittances (Value)'!$G$5","v":"20241130"},{"$f":"+'COVER SHEET'!$D$12","v":0},11520,{"$f":"'COVER SHEET'!$D$16&IF(MID('COVER SHEET'!$I$18,6,10)=\"december\",\"1231\",IF(MID('COVER SHEET'!$I$18,6,10)=\"june\",\"0630\"))","v":"20241231"},{"$f":"+'Incoming Remittances (Value)'!G196","v":0}]
["CMREM_11520","SC",{"$f":"+'Incoming Remittances (Value)'!$G$5","v":"20241130"},{"$f":"+'COVER SHEET'!$D$12","v":0},11520,{"$f":"'COVER SHEET'!$D$16&IF(MID('COVER SHEET'!$I$18,6,10)=\"december\",\"1231\",IF(MID('COVER SHEET'!$I$18,6,10)=\"june\",\"0630\"))","v":"20241231"},{"$f":"+'Incoming Remittances (Value)'!G197","v":0}]
["CMREM_11520","SL",{"$f":"+'Incoming Remittances (Value)'!$G$5","v":"20241130"},{"$f":"+'COVER SHEET'!$D$12","v":0},11520,{"$f":"'COVER SHEET'!$D$16&IF(MID('COVER SHEET'!$I$18,6,10)=\"december\",\"1231\",IF(MID('COVER SHEET'!$I$18,6,10)=\"june\",\"0630\"))","v":"20241231"},{"$f":"+'Incoming Remittances (Value)'!G198","v":0}]
["CMREM_11520","SG",{"$f":"+'Incoming Remittances (Value)'!$G$5","v":"20241130"},{"$f":"+'COVER SHEET'!$D$12","v":0},11520,{"$f":"'COVER SHEET'!$D$16&IF(MID('COVER SHEET'!$I$18,6,10)=\"december\",\"1231\",IF(MID('COVER SHEET'!$I$18,6,10)=\"june\",\"0630\"))","v":"20241231"},{"$f":"+'Incoming Remittances (Value)'!G199","v":0}]
["CMREM_11520","SX",{"$f":"+'Incoming Remittances (Value)'!$G$5","v":"20241130"},{"$f":"+'COVER SHEET'!$D$12","v":0},11520,{"$f":"'COVER SHEET'!$D$16&IF(MID('COVER SHEET'!$I$18,6,10)=\"december\",\"1231\",IF(MID('COVER SHEET'!$I$18,6,10)=\"june\",\"0630\"))","v":"20241231"},{"$f":"+'Incoming Remittances (Value)'!G200","v":0}]
["CMREM_11520","SK",{"$f":"+'Incoming Remittances (Value)'!$G$5","v":"20241130"},{"$f":"+'COVER SHEET'!$D$12","v":0},11520,{"$f":"'COVER SHEET'!$D$16&IF(MID('COVER SHEET'!$I$18,6,10)=\"december\",\"1231\",IF(MID('COVER SHEET'!$I$18,6,10)=\"june\",\"0630\"))","v":"20241231"},{"$f":"+'Incoming Remittances (Value)'!G201","v":0}]
["CMREM_11520","SI",{"$f":"+'Incoming Remittances (Value)'!$G$5","v":"20241130"},{"$f":"+'COVER SHEET'!$D$12","v":0},11520,{"$f":"'COVER SHEET'!$D$16&IF(MID('COVER SHEET'!$I$18,6,10)=\"december\",\"1231\",IF(MID('COVER SHEET'!$I$18,6,10)=\"june\",\"0630\"))","v":"20241231"},{"$f":"+'Incoming Remittances (Value)'!G202","v":0}]
["CMREM_11520","SB",{"$f":"+'Incoming Remittances (Value)'!$G$5","v":"20241130"},{"$f":"+'COVER SHEET'!$D$12","v":0},11520,{"$f":"'COVER SHEET'!$D$16&IF(MID('COVER SHEET'!$I$18,6,10)=\"december\",\"1231\",IF(MID('COVER SHEET'!$I$18,6,10)=\"june\",\"0630\"))","v":"20241231"},{"$f":"+'Incoming Remittances (Value)'!G203","v":0}]
["CMREM_11520","SO",{"$f":"+'Incoming Remittances (Value)'!$G$5","v":"20241130"},{"$f":"+'COVER SHEET'!$D$12","v":0},11520,{"$f":"'COVER SHEET'!$D$16&IF(MID('COVER SHEET'!$I$18,6,10)=\"december\",\"1231\",IF(MID('COVER SHEET'!$I$18,6,10)=\"june\",\"0630\"))","v":"20241231"},{"$f":"+'Incoming Remittances (Value)'!G204","v":0}]
["CMREM_11520","ZA",{"$f":"+'Incoming Remittances (Value)'!$G$5","v":"20241130"},{"$f":"+'COVER SHEET'!$D$12","v":0},11520,{"$f":"'COVER SHEET'!$D$16&IF(MID('COVER SHEET'!$I$18,6,10)=\"december\",\"1231\",IF(MID('COVER SHEET'!$I$18,6,10)=\"june\",\"0630\"))","v":"20241231"},{"$f":"+'Incoming Remittances (Value)'!G205","v":0}]
["CMREM_11520","GS",{"$f":"+'Incoming Remittances (Value)'!$G$5","v":"20241130"},{"$f":"+'COVER SHEET'!$D$12","v":0},11520,{"$f":"'COVER SHEET'!$D$16&IF(MID('COVER SHEET'!$I$18,6,10)=\"december\",\"1231\",IF(MID('COVER SHEET'!$I$18,6,10)=\"june\",\"0630\"))","v":"20241231"},{"$f":"+'Incoming Remittances (Value)'!G206","v":0}]
["CMREM_11520","SS",{"$f":"+'Incoming Remittances (Value)'!$G$5","v":"20241130"},{"$f":"+'COVER SHEET'!$D$12","v":0},11520,{"$f":"'COVER SHEET'!$D$16&IF(MID('COVER SHEET'!$I$18,6,10)=\"december\",\"1231\",IF(MID('COVER SHEET'!$I$18,6,10)=\"june\",\"0630\"))","v":"20241231"},{"$f":"+'Incoming Remittances (Value)'!G207","v":0}]
["CMREM_11520","ES",{"$f":"+'Incoming Remittances (Value)'!$G$5","v":"20241130"},{"$f":"+'COVER SHEET'!$D$12","v":0},11520,{"$f":"'COVER SHEET'!$D$16&IF(MID('COVER SHEET'!$I$18,6,10)=\"december\",\"1231\",IF(MID('COVER SHEET'!$I$18,6,10)=\"june\",\"0630\"))","v":"20241231"},{"$f":"+'Incoming Remittances (Value)'!G208","v":0}]
["CMREM_11520","LK",{"$f":"+'Incoming Remittances (Value)'!$G$5","v":"20241130"},{"$f":"+'COVER SHEET'!$D$12","v":0},11520,{"$f":"'COVER SHEET'!$D$16&IF(MID('COVER SHEET'!$I$18,6,10)=\"december\",\"1231\",IF(MID('COVER SHEET'!$I$18,6,10)=\"june\",\"0630\"))","v":"20241231"},{"$f":"+'Incoming Remittances (Value)'!G209","v":0}]
["CMREM_11520","SD",{"$f":"+'Incoming Remittances (Value)'!$G$5","v":"20241130"},{"$f":"+'COVER SHEET'!$D$12","v":0},11520,{"$f":"'COVER SHEET'!$D$16&IF(MID('COVER SHEET'!$I$18,6,10)=\"december\",\"1231\",IF(MID('COVER SHEET'!$I$18,6,10)=\"june\",\"0630\"))","v":"20241231"},{"$f":"+'Incoming Remittances (Value)'!G210","v":0}]
["CMREM_11520","SR",{"$f":"+'Incoming Remittances (Value)'!$G$5","v":"20241130"},{"$f":"+'COVER SHEET'!$D$12","v":0},11520,{"$f":"'COVER SHEET'!$D$16&IF(MID('COVER SHEET'!$I$18,6,10)=\"december\",\"1231\",IF(MID('COVER SHEET'!$I$18,6,10)=\"june\",\"0630\"))","v":"20241231"},{"$f":"+'Incoming Remittances (Value)'!G211","v":0}]
["CMREM_11520","SZ",{"$f":"+'Incoming Remittances (Value)'!$G$5","v":"20241130"},{"$f":"+'COVER SHEET'!$D$12","v":0},11520,{"$f":"'COVER SHEET'!$D$16&IF(MID('COVER SHEET'!$I$18,6,10)=\"december\",\"1231\",IF(MID('COVER SHEET'!$I$18,6,10)=\"june\",\"0630\"))","v":"20241231"},{"$f":"+'Incoming Remittances (Value)'!G212","v":0}]
["CMREM_11520","SE",{"$f":"+'Incoming Remittances (Value)'!$G$5","v":"20241130"},{"$f":"+'COVER SHEET'!$D$12","v":0},11520,{"$f":"'COVER SHEET'!$D$16&IF(MID('COVER SHEET'!$I$18,6,10)=\"december\",\"1231\",IF(MID('COVER SHEET'!$I$18,6,10)=\"june\",\"0630\"))","v":"20241231"},{"$f":"+'Incoming Remittances (Value)'!G213","v":0}]
["CMREM_11520","CH",{"$f":"+'Incoming Remittances (Value)'!$G$5","v":"20241130"},{"$f":"+'COVER SHEET'!$D$12","v":0},11520,{"$f":"'COVER SHEET'!$D$16&IF(MID('COVER SHEET'!$I$18,6,10)=\"december\",\"1231\",IF(MID('COVER SHEET'!$I$18,6,10)=\"june\",\"0630\"))","v":"20241231"},{"$f":"+'Incoming Remittances (Value)'!G214","v":0}]
["CMREM_11520","SY",{"$f":"+'Incoming Remittances (Value)'!$G$5","v":"20241130"},{"$f":"+'COVER SHEET'!$D$12","v":0},11520,{"$f":"'COVER SHEET'!$D$16&IF(MID('COVER SHEET'!$I$18,6,10)=\"december\",\"1231\",IF(MID('COVER SHEET'!$I$18,6,10)=\"june\",\"0630\"))","v":"20241231"},{"$f":"+'Incoming Remittances (Value)'!G215","v":0}]
["CMREM_11520","TW",{"$f":"+'Incoming Remittances (Value)'!$G$5","v":"20241130"},{"$f":"+'COVER SHEET'!$D$12","v":0},11520,{"$f":"'COVER SHEET'!$D$16&IF(MID('COVER SHEET'!$I$18,6,10)=\"december\",\"1231\",IF(MID('COVER SHEET'!$I$18,6,10)=\"june\",\"0630\"))","v":"20241231"},{"$f":"+'Incoming Remittances (Value)'!G216","v":0}]
["CMREM_11520","TJ",{"$f":"+'Incoming Remittances (Value)'!$G$5","v":"20241130"},{"$f":"+'COVER SHEET'!$D$12","v":0},11520,{"$f":"'COVER SHEET'!$D$16&IF(MID('COVER SHEET'!$I$18,6,10)=\"december\",\"1231\",IF(MID('COVER SHEET'!$I$18,6,10)=\"june\",\"0630\"))","v":"20241231"},{"$f":"+'Incoming Remittances (Value)'!G217","v":0}]
["CMREM_11520","TZ",{"$f":"+'Incoming Remittances (Value)'!$G$5","v":"20241130"},{"$f":"+'COVER SHEET'!$D$12","v":0},11520,{"$f":"'COVER SHEET'!$D$16&IF(MID('COVER SHEET'!$I$18,6,10)=\"december\",\"1231\",IF(MID('COVER SHEET'!$I$18,6,10)=\"june\",\"0630\"))","v":"20241231"},{"$f":"+'Incoming Remittances (Value)'!G218","v":0}]
["CMREM_11520","TH",{"$f":"+'Incoming Remittances (Value)'!$G$5","v":"20241130"},{"$f":"+'COVER SHEET'!$D$12","v":0},11520,{"$f":"'COVER SHEET'!$D$16&IF(MID('COVER SHEET'!$I$18,6,10)=\"december\",\"1231\",IF(MID('COVER SHEET'!$I$18,6,10)=\"june\",\"0630\"))","v":"20241231"},{"$f":"+'Incoming Remittances (Value)'!G219","v":0}]
["CMREM_11520","TG",{"$f":"+'Incoming Remittances (Value)'!$G$5","v":"20241130"},{"$f":"+'COVER SHEET'!$D$12","v":0},11520,{"$f":"'COVER SHEET'!$D$16&IF(MID('COVER SHEET'!$I$18,6,10)=\"december\",\"1231\",IF(MID('COVER SHEET'!$I$18,6,10)=\"june\",\"0630\"))","v":"20241231"},{"$f":"+'Incoming Remittances (Value)'!G220","v":0}]
["CMREM_11520","TK",{"$f":"+'Incoming Remittances (Value)'!$G$5","v":"20241130"},{"$f":"+'COVER SHEET'!$D$12","v":0},11520,{"$f":"'COVER SHEET'!$D$16&IF(MID('COVER SHEET'!$I$18,6,10)=\"december\",\"1231\",IF(MID('COVER SHEET'!$I$18,6,10)=\"june\",\"0630\"))","v":"20241231"},{"$f":"+'Incoming Remittances (Value)'!G221","v":0}]
["CMREM_11520","TO",{"$f":"+'Incoming Remittances (Value)'!$G$5","v":"20241130"},{"$f":"+'COVER SHEET'!$D$12","v":0},11520,{"$f":"'COVER SHEET'!$D$16&IF(MID('COVER SHEET'!$I$18,6,10)=\"december\",\"1231\",IF(MID('COVER SHEET'!$I$18,6,10)=\"june\",\"0630\"))","v":"20241231"},{"$f":"+'Incoming Remittances (Value)'!G222","v":0}]
["CMREM_11520","TT",{"$f":"+'Incoming Remittances (Value)'!$G$5","v":"20241130"},{"$f":"+'COVER SHEET'!$D$12","v":0},11520,{"$f":"'COVER SHEET'!$D$16&IF(MID('COVER SHEET'!$I$18,6,10)=\"december\",\"1231\",IF(MID('COVER SHEET'!$I$18,6,10)=\"june\",\"0630\"))","v":"20241231"},{"$f":"+'Incoming Remittances (Value)'!G223","v":0}]
["CMREM_11520","TN",{"$f":"+'Incoming Remittances (Value)'!$G$5","v":"20241130"},{"$f":"+'COVER SHEET'!$D$12","v":0},11520,{"$f":"'COVER SHEET'!$D$16&IF(MID('COVER SHEET'!$I$18,6,10)=\"december\",\"1231\",IF(MID('COVER SHEET'!$I$18,6,10)=\"june\",\"0630\"))","v":"20241231"},{"$f":"+'Incoming Remittances (Value)'!G224","v":0}]
["CMREM_11520","TR",{"$f":"+'Incoming Remittances (Value)'!$G$5","v":"20241130"},{"$f":"+'COVER SHEET'!$D$12","v":0},11520,{"$f":"'COVER SHEET'!$D$16&IF(MID('COVER SHEET'!$I$18,6,10)=\"december\",\"1231\",IF(MID('COVER SHEET'!$I$18,6,10)=\"june\",\"0630\"))","v":"20241231"},{"$f":"+'Incoming Remittances (Value)'!G225","v":0}]
["CMREM_11520","TM",{"$f":"+'Incoming Remittances (Value)'!$G$5","v":"20241130"},{"$f":"+'COVER SHEET'!$D$12","v":0},11520,{"$f":"'COVER SHEET'!$D$16&IF(MID('COVER SHEET'!$I$18,6,10)=\"december\",\"1231\",IF(MID('COVER SHEET'!$I$18,6,10)=\"june\",\"0630\"))","v":"20241231"},{"$f":"+'Incoming Remittances (Value)'!G226","v":0}]
["CMREM_11520","TC",{"$f":"+'Incoming Remittances (Value)'!$G$5","v":"20241130"},{"$f":"+'COVER SHEET'!$D$12","v":0},11520,{"$f":"'COVER SHEET'!$D$16&IF(MID('COVER SHEET'!$I$18,6,10)=\"december\",\"1231\",IF(MID('COVER SHEET'!$I$18,6,10)=\"june\",\"0630\"))","v":"20241231"},{"$f":"+'Incoming Remittances (Value)'!G227","v":0}]
["CMREM_11520","TV",{"$f":"+'Incoming Remittances (Value)'!$G$5","v":"20241130"},{"$f":"+'COVER SHEET'!$D$12","v":0},11520,{"$f":"'COVER SHEET'!$D$16&IF(MID('COVER SHEET'!$I$18,6,10)=\"december\",\"1231\",IF(MID('COVER SHEET'!$I$18,6,10)=\"june\",\"0630\"))","v":"20241231"},{"$f":"+'Incoming Remittances (Value)'!G228","v":0}]
["CMREM_11520","UG",{"$f":"+'Incoming Remittances (Value)'!$G$5","v":"20241130"},{"$f":"+'COVER SHEET'!$D$12","v":0},11520,{"$f":"'COVER SHEET'!$D$16&IF(MID('COVER SHEET'!$I$18,6,10)=\"december\",\"1231\",IF(MID('COVER SHEET'!$I$18,6,10)=\"june\",\"0630\"))","v":"20241231"},{"$f":"+'Incoming Remittances (Value)'!G229","v":0}]
["CMREM_11520","UA",{"$f":"+'Incoming Remittances (Value)'!$G$5","v":"20241130"},{"$f":"+'COVER SHEET'!$D$12","v":0},11520,{"$f":"'COVER SHEET'!$D$16&IF(MID('COVER SHEET'!$I$18,6,10)=\"december\",\"1231\",IF(MID('COVER SHEET'!$I$18,6,10)=\"june\",\"0630\"))","v":"20241231"},{"$f":"+'Incoming Remittances (Value)'!G230","v":0}]
["CMREM_11520","AE",{"$f":"+'Incoming Remittances (Value)'!$G$5","v":"20241130"},{"$f":"+'COVER SHEET'!$D$12","v":0},11520,{"$f":"'COVER SHEET'!$D$16&IF(MID('COVER SHEET'!$I$18,6,10)=\"december\",\"1231\",IF(MID('COVER SHEET'!$I$18,6,10)=\"june\",\"0630\"))","v":"20241231"},{"$f":"+'Incoming Remittances (Value)'!G231","v":0}]
["CMREM_11520","GB",{"$f":"+'Incoming Remittances (Value)'!$G$5","v":"20241130"},{"$f":"+'COVER SHEET'!$D$12","v":0},11520,{"$f":"'COVER SHEET'!$D$16&IF(MID('COVER SHEET'!$I$18,6,10)=\"december\",\"1231\",IF(MID('COVER SHEET'!$I$18,6,10)=\"june\",\"0630\"))","v":"20241231"},{"$f":"+'Incoming Remittances (Value)'!G232","v":0}]
["CMREM_11520","US",{"$f":"+'Incoming Remittances (Value)'!$G$5","v":"20241130"},{"$f":"+'COVER SHEET'!$D$12","v":0},11520,{"$f":"'COVER SHEET'!$D$16&IF(MID('COVER SHEET'!$I$18,6,10)=\"december\",\"1231\",IF(MID('COVER SHEET'!$I$18,6,10)=\"june\",\"0630\"))","v":"20241231"},{"$f":"+'Incoming Remittances (Value)'!G233","v":0}]
["CMREM_11520","UY",{"$f":"+'Incoming Remittances (Value)'!$G$5","v":"20241130"},{"$f":"+'COVER SHEET'!$D$12","v":0},11520,{"$f":"'COVER SHEET'!$D$16&IF(MID('COVER SHEET'!$I$18,6,10)=\"december\",\"1231\",IF(MID('COVER SHEET'!$I$18,6,10)=\"june\",\"0630\"))","v":"20241231"},{"$f":"+'Incoming Remittances (Value)'!G234","v":0}]
["CMREM_11520","UM",{"$f":"+'Incoming Remittances (Value)'!$G$5","v":"20241130"},{"$f":"+'COVER SHEET'!$D$12","v":0},11520,{"$f":"'COVER SHEET'!$D$16&IF(MID('COVER SHEET'!$I$18,6,10)=\"december\",\"1231\",IF(MID('COVER SHEET'!$I$18,6,10)=\"june\",\"0630\"))","v":"20241231"},{"$f":"+'Incoming Remittances (Value)'!G235","v":0}]
["CMREM_11520","UZ",{"$f":"+'Incoming Remittances (Value)'!$G$5","v":"20241130"},{"$f":"+'COVER SHEET'!$D$12","v":0},11520,{"$f":"'COVER SHEET'!$D$16&IF(MID('COVER SHEET'!$I$18,6,10)=\"december\",\"1231\",IF(MID('COVER SHEET'!$I$18,6,10)=\"june\",\"0630\"))","v":"20241231"},{"$f":"+'Incoming Remittances (Value)'!G236","v":0}]
["CMREM_11520","VU",{"$f":"+'Incoming Remittances (Value)'!$G$5","v":"20241130"},{"$f":"+'COVER SHEET'!$D$12","v":0},11520,{"$f":"'COVER SHEET'!$D$16&IF(MID('COVER SHEET'!$I$18,6,10)=\"december\",\"1231\",IF(MID('COVER SHEET'!$I$18,6,10)=\"june\",\"0630\"))","v":"20241231"},{"$f":"+'Incoming Remittances (Value)'!G237","v":0}]
["CMREM_11520","VE",{"$f":"+'Incoming Remittances (Value)'!$G$5","v":"20241130"},{"$f":"+'COVER SHEET'!$D$12","v":0},11520,{"$f":"'COVER SHEET'!$D$16&IF(MID('COVER SHEET'!$I$18,6,10)=\"december\",\"1231\",IF(MID('COVER SHEET'!$I$18,6,10)=\"june\",\"0630\"))","v":"20241231"},{"$f":"+'Incoming Remittances (Value)'!G238","v":0}]
["CMREM_11520","VN",{"$f":"+'Incoming Remittances (Value)'!$G$5","v":"20241130"},{"$f":"+'COVER SHEET'!$D$12","v":0},11520,{"$f":"'COVER SHEET'!$D$16&IF(MID('COVER SHEET'!$I$18,6,10)=\"december\",\"1231\",IF(MID('COVER SHEET'!$I$18,6,10)=\"june\",\"0630\"))","v":"20241231"},{"$f":"+'Incoming Remittances (Value)'!G239","v":0}]
["CMREM_11520","VI",{"$f":"+'Incoming Remittances (Value)'!$G$5","v":"20241130"},{"$f":"+'COVER SHEET'!$D$12","v":0},11520,{"$f":"'COVER SHEET'!$D$16&IF(MID('COVER SHEET'!$I$18,6,10)=\"december\",\"1231\",IF(MID('COVER SHEET'!$I$18,6,10)=\"june\",\"0630\"))","v":"20241231"},{"$f":"+'Incoming Remittances (Value)'!G240","v":0}]
["CMREM_11520","WF",{"$f":"+'Incoming Remittances (Value)'!$G$5","v":"20241130"},{"$f":"+'COVER SHEET'!$D$12","v":0},11520,{"$f":"'COVER SHEET'!$D$16&IF(MID('COVER SHEET'!$I$18,6,10)=\"december\",\"1231\",IF(MID('COVER SHEET'!$I$18,6,10)=\"june\",\"0630\"))","v":"20241231"},{"$f":"+'Incoming Remittances (Value)'!G241","v":0}]
["CMREM_11520","YE",{"$f":"+'Incoming Remittances (Value)'!$G$5","v":"20241130"},{"$f":"+'COVER SHEET'!$D$12","v":0},11520,{"$f":"'COVER SHEET'!$D$16&IF(MID('COVER SHEET'!$I$18,6,10)=\"december\",\"1231\",IF(MID('COVER SHEET'!$I$18,6,10)=\"june\",\"0630\"))","v":"20241231"},{"$f":"+'Incoming Remittances (Value)'!G242","v":0}]
["CMREM_11520","ZM",{"$f":"+'Incoming Remittances (Value)'!$G$5","v":"20241130"},{"$f":"+'COVER SHEET'!$D$12","v":0},11520,{"$f":"'COVER SHEET'!$D$16&IF(MID('COVER SHEET'!$I$18,6,10)=\"december\",\"1231\",IF(MID('COVER SHEET'!$I$18,6,10)=\"june\",\"0630\"))","v":"20241231"},{"$f":"+'Incoming Remittances (Value)'!G243","v":0}]
["CMREM_11520","ZW",{"$f":"+'Incoming Remittances (Value)'!$G$5","v":"20241130"},{"$f":"+'COVER SHEET'!$D$12","v":0},11520,{"$f":"'COVER SHEET'!$D$16&IF(MID('COVER SHEET'!$I$18,6,10)=\"december\",\"1231\",IF(MID('COVER SHEET'!$I$18,6,10)=\"june\",\"0630\"))","v":"20241231"},{"$f":"+'Incoming Remittances (Value)'!G244","v":0}]
["CMREM_11530","AF",{"$f":"+'Outgoing Remittances (Value)'!$G$5","v":"20241130"},{"$f":"+'COVER SHEET'!$D$12","v":0},11530,{"$f":"'COVER SHEET'!$D$16&IF(MID('COVER SHEET'!$I$18,6,10)=\"december\",\"1231\",IF(MID('COVER SHEET'!$I$18,6,10)=\"june\",\"0630\"))","v":"20241231"},{"$f":"+'Outgoing Remittances (Value)'!G9","v":0}]
["CMREM_11530","AL",{"$f":"+'Outgoing Remittances (Value)'!$G$5","v":"20241130"},{"$f":"+'COVER SHEET'!$D$12","v":0},11530,{"$f":"'COVER SHEET'!$D$16&IF(MID('COVER SHEET'!$I$18,6,10)=\"december\",\"1231\",IF(MID('COVER SHEET'!$I$18,6,10)=\"june\",\"0630\"))","v":"20241231"},{"$f":"+'Outgoing Remittances (Value)'!G10","v":0}]
["CMREM_11530","DZ",{"$f":"+'Outgoing Remittances (Value)'!$G$5","v":"20241130"},{"$f":"+'COVER SHEET'!$D$12","v":0},11530,{"$f":"'COVER SHEET'!$D$16&IF(MID('COVER SHEET'!$I$18,6,10)=\"december\",\"1231\",IF(MID('COVER SHEET'!$I$18,6,10)=\"june\",\"0630\"))","v":"20241231"},{"$f":"+'Outgoing Remittances (Value)'!G11","v":0}]
["CMREM_11530","AS",{"$f":"+'Outgoing Remittances (Value)'!$G$5","v":"20241130"},{"$f":"+'COVER SHEET'!$D$12","v":0},11530,{"$f":"'COVER SHEET'!$D$16&IF(MID('COVER SHEET'!$I$18,6,10)=\"december\",\"1231\",IF(MID('COVER SHEET'!$I$18,6,10)=\"june\",\"0630\"))","v":"20241231"},{"$f":"+'Outgoing Remittances (Value)'!G12","v":0}]
["CMREM_11530","AD",{"$f":"+'Outgoing Remittances (Value)'!$G$5","v":"20241130"},{"$f":"+'COVER SHEET'!$D$12","v":0},11530,{"$f":"'COVER SHEET'!$D$16&IF(MID('COVER SHEET'!$I$18,6,10)=\"december\",\"1231\",IF(MID('COVER SHEET'!$I$18,6,10)=\"june\",\"0630\"))","v":"20241231"},{"$f":"+'Outgoing Remittances (Value)'!G13","v":0}]
["CMREM_11530","AO",{"$f":"+'Outgoing Remittances (Value)'!$G$5","v":"20241130"},{"$f":"+'COVER SHEET'!$D$12","v":0},11530,{"$f":"'COVER SHEET'!$D$16&IF(MID('COVER SHEET'!$I$18,6,10)=\"december\",\"1231\",IF(MID('COVER SHEET'!$I$18,6,10)=\"june\",\"0630\"))","v":"20241231"},{"$f":"+'Outgoing Remittances (Value)'!G14","v":0}]
["CMREM_11530","AI",{"$f":"+'Outgoing Remittances (Value)'!$G$5","v":"20241130"},{"$f":"+'COVER SHEET'!$D$12","v":0},11530,{"$f":"'COVER SHEET'!$D$16&IF(MID('COVER SHEET'!$I$18,6,10)=\"december\",\"1231\",IF(MID('COVER SHEET'!$I$18,6,10)=\"june\",\"0630\"))","v":"20241231"},{"$f":"+'Outgoing Remittances (Value)'!G15","v":0}]
["CMREM_11530","AQ",{"$f":"+'Outgoing Remittances (Value)'!$G$5","v":"20241130"},{"$f":"+'COVER SHEET'!$D$12","v":0},11530,{"$f":"'COVER SHEET'!$D$16&IF(MID('COVER SHEET'!$I$18,6,10)=\"december\",\"1231\",IF(MID('COVER SHEET'!$I$18,6,10)=\"june\",\"0630\"))","v":"20241231"},{"$f":"+'Outgoing Remittances (Value)'!G16","v":0}]
["CMREM_11530","AG",{"$f":"+'Outgoing Remittances (Value)'!$G$5","v":"20241130"},{"$f":"+'COVER SHEET'!$D$12","v":0},11530,{"$f":"'COVER SHEET'!$D$16&IF(MID('COVER SHEET'!$I$18,6,10)=\"december\",\"1231\",IF(MID('COVER SHEET'!$I$18,6,10)=\"june\",\"0630\"))","v":"20241231"},{"$f":"+'Outgoing Remittances (Value)'!G17","v":0}]
["CMREM_11530","AR",{"$f":"+'Outgoing Remittances (Value)'!$G$5","v":"20241130"},{"$f":"+'COVER SHEET'!$D$12","v":0},11530,{"$f":"'COVER SHEET'!$D$16&IF(MID('COVER SHEET'!$I$18,6,10)=\"december\",\"1231\",IF(MID('COVER SHEET'!$I$18,6,10)=\"june\",\"0630\"))","v":"20241231"},{"$f":"+'Outgoing Remittances (Value)'!G18","v":0}]
["CMREM_11530","AM",{"$f":"+'Outgoing Remittances (Value)'!$G$5","v":"20241130"},{"$f":"+'COVER SHEET'!$D$12","v":0},11530,{"$f":"'COVER SHEET'!$D$16&IF(MID('COVER SHEET'!$I$18,6,10)=\"december\",\"1231\",IF(MID('COVER SHEET'!$I$18,6,10)=\"june\",\"0630\"))","v":"20241231"},{"$f":"+'Outgoing Remittances (Value)'!G19","v":0}]
["CMREM_11530","AW",{"$f":"+'Outgoing Remittances (Value)'!$G$5","v":"20241130"},{"$f":"+'COVER SHEET'!$D$12","v":0},11530,{"$f":"'COVER SHEET'!$D$16&IF(MID('COVER SHEET'!$I$18,6,10)=\"december\",\"1231\",IF(MID('COVER SHEET'!$I$18,6,10)=\"june\",\"0630\"))","v":"20241231"},{"$f":"+'Outgoing Remittances (Value)'!G20","v":0}]
["CMREM_11530","AU",{"$f":"+'Outgoing Remittances (Value)'!$G$5","v":"20241130"},{"$f":"+'COVER SHEET'!$D$12","v":0},11530,{"$f":"'COVER SHEET'!$D$16&IF(MID('COVER SHEET'!$I$18,6,10)=\"december\",\"1231\",IF(MID('COVER SHEET'!$I$18,6,10)=\"june\",\"0630\"))","v":"20241231"},{"$f":"+'Outgoing Remittances (Value)'!G21","v":0}]
["CMREM_11530","AT",{"$f":"+'Outgoing Remittances (Value)'!$G$5","v":"20241130"},{"$f":"+'COVER SHEET'!$D$12","v":0},11530,{"$f":"'COVER SHEET'!$D$16&IF(MID('COVER SHEET'!$I$18,6,10)=\"december\",\"1231\",IF(MID('COVER SHEET'!$I$18,6,10)=\"june\",\"0630\"))","v":"20241231"},{"$f":"+'Outgoing Remittances (Value)'!G22","v":0}]
["CMREM_11530","AZ",{"$f":"+'Outgoing Remittances (Value)'!$G$5","v":"20241130"},{"$f":"+'COVER SHEET'!$D$12","v":0},11530,{"$f":"'COVER SHEET'!$D$16&IF(MID('COVER SHEET'!$I$18,6,10)=\"december\",\"1231\",IF(MID('COVER SHEET'!$I$18,6,10)=\"june\",\"0630\"))","v":"20241231"},{"$f":"+'Outgoing Remittances (Value)'!G23","v":0}]
["CMREM_11530","BS",{"$f":"+'Outgoing Remittances (Value)'!$G$5","v":"20241130"},{"$f":"+'COVER SHEET'!$D$12","v":0},11530,{"$f":"'COVER SHEET'!$D$16&IF(MID('COVER SHEET'!$I$18,6,10)=\"december\",\"1231\",IF(MID('COVER SHEET'!$I$18,6,10)=\"june\",\"0630\"))","v":"20241231"},{"$f":"+'Outgoing Remittances (Value)'!G24","v":0}]
["CMREM_11530","BH",{"$f":"+'Outgoing Remittances (Value)'!$G$5","v":"20241130"},{"$f":"+'COVER SHEET'!$D$12","v":0},11530,{"$f":"'COVER SHEET'!$D$16&IF(MID('COVER SHEET'!$I$18,6,10)=\"december\",\"1231\",IF(MID('COVER SHEET'!$I$18,6,10)=\"june\",\"0630\"))","v":"20241231"},{"$f":"+'Outgoing Remittances (Value)'!G25","v":0}]
["CMREM_11530","BD",{"$f":"+'Outgoing Remittances (Value)'!$G$5","v":"20241130"},{"$f":"+'COVER SHEET'!$D$12","v":0},11530,{"$f":"'COVER SHEET'!$D$16&IF(MID('COVER SHEET'!$I$18,6,10)=\"december\",\"1231\",IF(MID('COVER SHEET'!$I$18,6,10)=\"june\",\"0630\"))","v":"20241231"},{"$f":"+'Outgoing Remittances (Value)'!G26","v":0}]
["CMREM_11530","BB",{"$f":"+'Outgoing Remittances (Value)'!$G$5","v":"20241130"},{"$f":"+'COVER SHEET'!$D$12","v":0},11530,{"$f":"'COVER SHEET'!$D$16&IF(MID('COVER SHEET'!$I$18,6,10)=\"december\",\"1231\",IF(MID('COVER SHEET'!$I$18,6,10)=\"june\",\"0630\"))","v":"20241231"},{"$f":"+'Outgoing Remittances (Value)'!G27","v":0}]
["CMREM_11530","BY",{"$f":"+'Outgoing Remittances (Value)'!$G$5","v":"20241130"},{"$f":"+'COVER SHEET'!$D$12","v":0},11530,{"$f":"'COVER SHEET'!$D$16&IF(MID('COVER SHEET'!$I$18,6,10)=\"december\",\"1231\",IF(MID('COVER SHEET'!$I$18,6,10)=\"june\",\"0630\"))","v":"20241231"},{"$f":"+'Outgoing Remittances (Value)'!G28","v":0}]
["CMREM_11530","BE",{"$f":"+'Outgoing Remittances (Value)'!$G$5","v":"20241130"},{"$f":"+'COVER SHEET'!$D$12","v":0},11530,{"$f":"'COVER SHEET'!$D$16&IF(MID('COVER SHEET'!$I$18,6,10)=\"december\",\"1231\",IF(MID('COVER SHEET'!$I$18,6,10)=\"june\",\"0630\"))","v":"20241231"},{"$f":"+'Outgoing Remittances (Value)'!G29","v":0}]
["CMREM_11530","BZ",{"$f":"+'Outgoing Remittances (Value)'!$G$5","v":"20241130"},{"$f":"+'COVER SHEET'!$D$12","v":0},11530,{"$f":"'COVER SHEET'!$D$16&IF(MID('COVER SHEET'!$I$18,6,10)=\"december\",\"1231\",IF(MID('COVER SHEET'!$I$18,6,10)=\"june\",\"0630\"))","v":"20241231"},{"$f":"+'Outgoing Remittances (Value)'!G30","v":0}]
["CMREM_11530","BJ",{"$f":"+'Outgoing Remittances (Value)'!$G$5","v":"20241130"},{"$f":"+'COVER SHEET'!$D$12","v":0},11530,{"$f":"'COVER SHEET'!$D$16&IF(MID('COVER SHEET'!$I$18,6,10)=\"december\",\"1231\",IF(MID('COVER SHEET'!$I$18,6,10)=\"june\",\"0630\"))","v":"20241231"},{"$f":"+'Outgoing Remittances (Value)'!G31","v":0}]
["CMREM_11530","BM",{"$f":"+'Outgoing Remittances (Value)'!$G$5","v":"20241130"},{"$f":"+'COVER SHEET'!$D$12","v":0},11530,{"$f":"'COVER SHEET'!$D$16&IF(MID('COVER SHEET'!$I$18,6,10)=\"december\",\"1231\",IF(MID('COVER SHEET'!$I$18,6,10)=\"june\",\"0630\"))","v":"20241231"},{"$f":"+'Outgoing Remittances (Value)'!G32","v":0}]
["CMREM_11530","BQ",{"$f":"+'Outgoing Remittances (Value)'!$G$5","v":"20241130"},{"$f":"+'COVER SHEET'!$D$12","v":0},11530,{"$f":"'COVER SHEET'!$D$16&IF(MID('COVER SHEET'!$I$18,6,10)=\"december\",\"1231\",IF(MID('COVER SHEET'!$I$18,6,10)=\"june\",\"0630\"))","v":"20241231"},{"$f":"+'Outgoing Remittances (Value)'!G33","v":0}]
["CMREM_11530","BT",{"$f":"+'Outgoing Remittances (Value)'!$G$5","v":"20241130"},{"$f":"+'COVER SHEET'!$D$12","v":0},11530,{"$f":"'COVER SHEET'!$D$16&IF(MID('COVER SHEET'!$I$18,6,10)=\"december\",\"1231\",IF(MID('COVER SHEET'!$I$18,6,10)=\"june\",\"0630\"))","v":"20241231"},{"$f":"+'Outgoing Remittances (Value)'!G34","v":0}]
["CMREM_11530","BO",{"$f":"+'Outgoing Remittances (Value)'!$G$5","v":"20241130"},{"$f":"+'COVER SHEET'!$D$12","v":0},11530,{"$f":"'COVER SHEET'!$D$16&IF(MID('COVER SHEET'!$I$18,6,10)=\"december\",\"1231\",IF(MID('COVER SHEET'!$I$18,6,10)=\"june\",\"0630\"))","v":"20241231"},{"$f":"+'Outgoing Remittances (Value)'!G35","v":0}]
["CMREM_11530","BA",{"$f":"+'Outgoing Remittances (Value)'!$G$5","v":"20241130"},{"$f":"+'COVER SHEET'!$D$12","v":0},11530,{"$f":"'COVER SHEET'!$D$16&IF(MID('COVER SHEET'!$I$18,6,10)=\"december\",\"1231\",IF(MID('COVER SHEET'!$I$18,6,10)=\"june\",\"0630\"))","v":"20241231"},{"$f":"+'Outgoing Remittances (Value)'!G36","v":0}]
["CMREM_11530","BW",{"$f":"+'Outgoing Remittances (Value)'!$G$5","v":"20241130"},{"$f":"+'COVER SHEET'!$D$12","v":0},11530,{"$f":"'COVER SHEET'!$D$16&IF(MID('COVER SHEET'!$I$18,6,10)=\"december\",\"1231\",IF(MID('COVER SHEET'!$I$18,6,10)=\"june\",\"0630\"))","v":"20241231"},{"$f":"+'Outgoing Remittances (Value)'!G37","v":0}]
["CMREM_11530","BV",{"$f":"+'Outgoing Remittances (Value)'!$G$5","v":"20241130"},{"$f":"+'COVER SHEET'!$D$12","v":0},11530,{"$f":"'COVER SHEET'!$D$16&IF(MID('COVER SHEET'!$I$18,6,10)=\"december\",\"1231\",IF(MID('COVER SHEET'!$I$18,6,10)=\"june\",\"0630\"))","v":"20241231"},{"$f":"+'Outgoing Remittances (Value)'!G38","v":0}]
["CMREM_11530","BR",{"$f":"+'Outgoing Remittances (Value)'!$G$5","v":"20241130"},{"$f":"+'COVER SHEET'!$D$12","v":0},11530,{"$f":"'COVER SHEET'!$D$16&IF(MID('COVER SHEET'!$I$18,6,10)=\"december\",\"1231\",IF(MID('COVER SHEET'!$I$18,6,10)=\"june\",\"0630\"))","v":"20241231"},{"$f":"+'Outgoing Remittances (Value)'!G39","v":0}]
["CMREM_11530","IO",{"$f":"+'Outgoing Remittances (Value)'!$G$5","v":"20241130"},{"$f":"+'COVER SHEET'!$D$12","v":0},11530,{"$f":"'COVER SHEET'!$D$16&IF(MID('COVER SHEET'!$I$18,6,10)=\"december\",\"1231\",IF(MID('COVER SHEET'!$I$18,6,10)=\"june\",\"0630\"))","v":"20241231"},{"$f":"+'Outgoing Remittances (Value)'!G40","v":0}]
["CMREM_11530","VG",{"$f":"+'Outgoing Remittances (Value)'!$G$5","v":"20241130"},{"$f":"+'COVER SHEET'!$D$12","v":0},11530,{"$f":"'COVER SHEET'!$D$16&IF(MID('COVER SHEET'!$I$18,6,10)=\"december\",\"1231\",IF(MID('COVER SHEET'!$I$18,6,10)=\"june\",\"0630\"))","v":"20241231"},{"$f":"+'Outgoing Remittances (Value)'!G41","v":0}]
["CMREM_11530","BN",{"$f":"+'Outgoing Remittances (Value)'!$G$5","v":"20241130"},{"$f":"+'COVER SHEET'!$D$12","v":0},11530,{"$f":"'COVER SHEET'!$D$16&IF(MID('COVER SHEET'!$I$18,6,10)=\"december\",\"1231\",IF(MID('COVER SHEET'!$I$18,6,10)=\"june\",\"0630\"))","v":"20241231"},{"$f":"+'Outgoing Remittances (Value)'!G42","v":0}]
["CMREM_11530","BG",{"$f":"+'Outgoing Remittances (Value)'!$G$5","v":"20241130"},{"$f":"+'COVER SHEET'!$D$12","v":0},11530,{"$f":"'COVER SHEET'!$D$16&IF(MID('COVER SHEET'!$I$18,6,10)=\"december\",\"1231\",IF(MID('COVER SHEET'!$I$18,6,10)=\"june\",\"0630\"))","v":"20241231"},{"$f":"+'Outgoing Remittances (Value)'!G43","v":0}]
["CMREM_11530","BF",{"$f":"+'Outgoing Remittances (Value)'!$G$5","v":"20241130"},{"$f":"+'COVER SHEET'!$D$12","v":0},11530,{"$f":"'COVER SHEET'!$D$16&IF(MID('COVER SHEET'!$I$18,6,10)=\"december\",\"1231\",IF(MID('COVER SHEET'!$I$18,6,10)=\"june\",\"0630\"))","v":"20241231"},{"$f":"+'Outgoing Remittances (Value)'!G44","v":0}]
["CMREM_11530","BI",{"$f":"+'Outgoing Remittances (Value)'!$G$5","v":"20241130"},{"$f":"+'COVER SHEET'!$D$12","v":0},11530,{"$f":"'COVER SHEET'!$D$16&IF(MID('COVER SHEET'!$I$18,6,10)=\"december\",\"1231\",IF(MID('COVER SHEET'!$I$18,6,10)=\"june\",\"0630\"))","v":"20241231"},{"$f":"+'Outgoing Remittances (Value)'!G45","v":0}]
["CMREM_11530","KH",{"$f":"+'Outgoing Remittances (Value)'!$G$5","v":"20241130"},{"$f":"+'COVER SHEET'!$D$12","v":0},11530,{"$f":"'COVER SHEET'!$D$16&IF(MID('COVER SHEET'!$I$18,6,10)=\"december\",\"1231\",IF(MID('COVER SHEET'!$I$18,6,10)=\"june\",\"0630\"))","v":"20241231"},{"$f":"+'Outgoing Remittances (Value)'!G46","v":0}]
["CMREM_11530","CM",{"$f":"+'Outgoing Remittances (Value)'!$G$5","v":"20241130"},{"$f":"+'COVER SHEET'!$D$12","v":0},11530,{"$f":"'COVER SHEET'!$D$16&IF(MID('COVER SHEET'!$I$18,6,10)=\"december\",\"1231\",IF(MID('COVER SHEET'!$I$18,6,10)=\"june\",\"0630\"))","v":"20241231"},{"$f":"+'Outgoing Remittances (Value)'!G47","v":0}]
["CMREM_11530","CA",{"$f":"+'Outgoing Remittances (Value)'!$G$5","v":"20241130"},{"$f":"+'COVER SHEET'!$D$12","v":0},11530,{"$f":"'COVER SHEET'!$D$16&IF(MID('COVER SHEET'!$I$18,6,10)=\"december\",\"1231\",IF(MID('COVER SHEET'!$I$18,6,10)=\"june\",\"0630\"))","v":"20241231"},{"$f":"+'Outgoing Remittances (Value)'!G48","v":0}]
["CMREM_11530","CV",{"$f":"+'Outgoing Remittances (Value)'!$G$5","v":"20241130"},{"$f":"+'COVER SHEET'!$D$12","v":0},11530,{"$f":"'COVER SHEET'!$D$16&IF(MID('COVER SHEET'!$I$18,6,10)=\"december\",\"1231\",IF(MID('COVER SHEET'!$I$18,6,10)=\"june\",\"0630\"))","v":"20241231"},{"$f":"+'Outgoing Remittances (Value)'!G49","v":0}]
["CMREM_11530","KY",{"$f":"+'Outgoing Remittances (Value)'!$G$5","v":"20241130"},{"$f":"+'COVER SHEET'!$D$12","v":0},11530,{"$f":"'COVER SHEET'!$D$16&IF(MID('COVER SHEET'!$I$18,6,10)=\"december\",\"1231\",IF(MID('COVER SHEET'!$I$18,6,10)=\"june\",\"0630\"))","v":"20241231"},{"$f":"+'Outgoing Remittances (Value)'!G50","v":0}]
["CMREM_11530","CF",{"$f":"+'Outgoing Remittances (Value)'!$G$5","v":"20241130"},{"$f":"+'COVER SHEET'!$D$12","v":0},11530,{"$f":"'COVER SHEET'!$D$16&IF(MID('COVER SHEET'!$I$18,6,10)=\"december\",\"1231\",IF(MID('COVER SHEET'!$I$18,6,10)=\"june\",\"0630\"))","v":"20241231"},{"$f":"+'Outgoing Remittances (Value)'!G51","v":0}]
["CMREM_11530","TD",{"$f":"+'Outgoing Remittances (Value)'!$G$5","v":"20241130"},{"$f":"+'COVER SHEET'!$D$12","v":0},11530,{"$f":"'COVER SHEET'!$D$16&IF(MID('COVER SHEET'!$I$18,6,10)=\"december\",\"1231\",IF(MID('COVER SHEET'!$I$18,6,10)=\"june\",\"0630\"))","v":"20241231"},{"$f":"+'Outgoing Remittances (Value)'!G52","v":0}]
["CMREM_11530","CL",{"$f":"+'Outgoing Remittances (Value)'!$G$5","v":"20241130"},{"$f":"+'COVER SHEET'!$D$12","v":0},11530,{"$f":"'COVER SHEET'!$D$16&IF(MID('COVER SHEET'!$I$18,6,10)=\"december\",\"1231\",IF(MID('COVER SHEET'!$I$18,6,10)=\"june\",\"0630\"))","v":"20241231"},{"$f":"+'Outgoing Remittances (Value)'!G53","v":0}]
["CMREM_11530","CN",{"$f":"+'Outgoing Remittances (Value)'!$G$5","v":"20241130"},{"$f":"+'COVER SHEET'!$D$12","v":0},11530,{"$f":"'COVER SHEET'!$D$16&IF(MID('COVER SHEET'!$I$18,6,10)=\"december\",\"1231\",IF(MID('COVER SHEET'!$I$18,6,10)=\"june\",\"0630\"))","v":"20241231"},{"$f":"+'Outgoing Remittances (Value)'!G54","v":0}]
["CMREM_11530","CX",{"$f":"+'Outgoing Remittances (Value)'!$G$5","v":"20241130"},{"$f":"+'COVER SHEET'!$D$12","v":0},11530,{"$f":"'COVER SHEET'!$D$16&IF(MID('COVER SHEET'!$I$18,6,10)=\"december\",\"1231\",IF(MID('COVER SHEET'!$I$18,6,10)=\"june\",\"0630\"))","v":"20241231"},{"$f":"+'Outgoing Remittances (Value)'!G55","v":0}]
["CMREM_11530","CC",{"$f":"+'Outgoing Remittances (Value)'!$G$5","v":"20241130"},{"$f":"+'COVER SHEET'!$D$12","v":0},11530,{"$f":"'COVER SHEET'!$D$16&IF(MID('COVER SHEET'!$I$18,6,10)=\"december\",\"1231\",IF(MID('COVER SHEET'!$I$18,6,10)=\"june\",\"0630\"))","v":"20241231"},{"$f":"+'Outgoing Remittances (Value)'!G56","v":0}]
["CMREM_11530","CO",{"$f":"+'Outgoing Remittances (Value)'!$G$5","v":"20241130"},{"$f":"+'COVER SHEET'!$D$12","v":0},11530,{"$f":"'COVER SHEET'!$D$16&IF(MID('COVER SHEET'!$I$18,6,10)=\"december\",\"1231\",IF(MID('COVER SHEET'!$I$18,6,10)=\"june\",\"0630\"))","v":"20241231"},{"$f":"+'Outgoing Remittances (Value)'!G57","v":0}]
["CMREM_11530","KM",{"$f":"+'Outgoing Remittances (Value)'!$G$5","v":"20241130"},{"$f":"+'COVER SHEET'!$D$12","v":0},11530,{"$f":"'COVER SHEET'!$D$16&IF(MID('COVER SHEET'!$I$18,6,10)=\"december\",\"1231\",IF(MID('COVER SHEET'!$I$18,6,10)=\"june\",\"0630\"))","v":"20241231"},{"$f":"+'Outgoing Remittances (Value)'!G58","v":0}]
["CMREM_11530","CG",{"$f":"+'Outgoing Remittances (Value)'!$G$5","v":"20241130"},{"$f":"+'COVER SHEET'!$D$12","v":0},11530,{"$f":"'COVER SHEET'!$D$16&IF(MID('COVER SHEET'!$I$18,6,10)=\"december\",\"1231\",IF(MID('COVER SHEET'!$I$18,6,10)=\"june\",\"0630\"))","v":"20241231"},{"$f":"+'Outgoing Remittances (Value)'!G59","v":0}]
["CMREM_11530","CD",{"$f":"+'Outgoing Remittances (Value)'!$G$5","v":"20241130"},{"$f":"+'COVER SHEET'!$D$12","v":0},11530,{"$f":"'COVER SHEET'!$D$16&IF(MID('COVER SHEET'!$I$18,6,10)=\"december\",\"1231\",IF(MID('COVER SHEET'!$I$18,6,10)=\"june\",\"0630\"))","v":"20241231"},{"$f":"+'Outgoing Remittances (Value)'!G60","v":0}]
["CMREM_11530","CK",{"$f":"+'Outgoing Remittances (Value)'!$G$5","v":"20241130"},{"$f":"+'COVER SHEET'!$D$12","v":0},11530,{"$f":"'COVER SHEET'!$D$16&IF(MID('COVER SHEET'!$I$18,6,10)=\"december\",\"1231\",IF(MID('COVER SHEET'!$I$18,6,10)=\"june\",\"0630\"))","v":"20241231"},{"$f":"+'Outgoing Remittances (Value)'!G61","v":0}]
["CMREM_11530","CR",{"$f":"+'Outgoing Remittances (Value)'!$G$5","v":"20241130"},{"$f":"+'COVER SHEET'!$D$12","v":0},11530,{"$f":"'COVER SHEET'!$D$16&IF(MID('COVER SHEET'!$I$18,6,10)=\"december\",\"1231\",IF(MID('COVER SHEET'!$I$18,6,10)=\"june\",\"0630\"))","v":"20241231"},{"$f":"+'Outgoing Remittances (Value)'!G62","v":0}]
["CMREM_11530","HR",{"$f":"+'Outgoing Remittances (Value)'!$G$5","v":"20241130"},{"$f":"+'COVER SHEET'!$D$12","v":0},11530,{"$f":"'COVER SHEET'!$D$16&IF(MID('COVER SHEET'!$I$18,6,10)=\"december\",\"1231\",IF(MID('COVER SHEET'!$I$18,6,10)=\"june\",\"0630\"))","v":"20241231"},{"$f":"+'Outgoing Remittances (Value)'!G63","v":0}]
["CMREM_11530","CU",{"$f":"+'Outgoing Remittances (Value)'!$G$5","v":"20241130"},{"$f":"+'COVER SHEET'!$D$12","v":0},11530,{"$f":"'COVER SHEET'!$D$16&IF(MID('COVER SHEET'!$I$18,6,10)=\"december\",\"1231\",IF(MID('COVER SHEET'!$I$18,6,10)=\"june\",\"0630\"))","v":"20241231"},{"$f":"+'Outgoing Remittances (Value)'!G64","v":0}]
["CMREM_11530","CW",{"$f":"+'Outgoing Remittances (Value)'!$G$5","v":"20241130"},{"$f":"+'COVER SHEET'!$D$12","v":0},11530,{"$f":"'COVER SHEET'!$D$16&IF(MID('COVER SHEET'!$I$18,6,10)=\"december\",\"1231\",IF(MID('COVER SHEET'!$I$18,6,10)=\"june\",\"0630\"))","v":"20241231"},{"$f":"+'Outgoing Remittances (Value)'!G65","v":0}]
["CMREM_11530","CY",{"$f":"+'Outgoing Remittances (Value)'!$G$5","v":"20241130"},{"$f":"+'COVER SHEET'!$D$12","v":0},11530,{"$f":"'COVER SHEET'!$D$16&IF(MID('COVER SHEET'!$I$18,6,10)=\"december\",\"1231\",IF(MID('COVER SHEET'!$I$18,6,10)=\"june\",\"0630\"))","v":"20241231"},{"$f":"+'Outgoing Remittances (Value)'!G66","v":0}]
["CMREM_11530","CZ",{"$f":"+'Outgoing Remittances (Value)'!$G$5","v":"20241130"},{"$f":"+'COVER SHEET'!$D$12","v":0},11530,{"$f":"'COVER SHEET'!$D$16&IF(MID('COVER SHEET'!$I$18,6,10)=\"december\",\"1231\",IF(MID('COVER SHEET'!$I$18,6,10)=\"june\",\"0630\"))","v":"20241231"},{"$f":"+'Outgoing Remittances (Value)'!G67","v":0}]
["CMREM_11530","DK",{"$f":"+'Outgoing Remittances (Value)'!$G$5","v":"20241130"},{"$f":"+'COVER SHEET'!$D$12","v":0},11530,{"$f":"'COVER SHEET'!$D$16&IF(MID('COVER SHEET'!$I$18,6,10)=\"december\",\"1231\",IF(MID('COVER SHEET'!$I$18,6,10)=\"june\",\"0630\"))","v":"20241231"},{"$f":"+'Outgoing Remittances (Value)'!G68","v":0}]
["CMREM_11530","DJ",{"$f":"+'Outgoing Remittances (Value)'!$G$5","v":"20241130"},{"$f":"+'COVER SHEET'!$D$12","v":0},11530,{"$f":"'COVER SHEET'!$D$16&IF(MID('COVER SHEET'!$I$18,6,10)=\"december\",\"1231\",IF(MID('COVER SHEET'!$I$18,6,10)=\"june\",\"0630\"))","v":"20241231"},{"$f":"+'Outgoing Remittances (Value)'!G69","v":0}]
["CMREM_11530","DM",{"$f":"+'Outgoing Remittances (Value)'!$G$5","v":"20241130"},{"$f":"+'COVER SHEET'!$D$12","v":0},11530,{"$f":"'COVER SHEET'!$D$16&IF(MID('COVER SHEET'!$I$18,6,10)=\"december\",\"1231\",IF(MID('COVER SHEET'!$I$18,6,10)=\"june\",\"0630\"))","v":"20241231"},{"$f":"+'Outgoing Remittances (Value)'!G70","v":0}]
["CMREM_11530","DO",{"$f":"+'Outgoing Remittances (Value)'!$G$5","v":"20241130"},{"$f":"+'COVER SHEET'!$D$12","v":0},11530,{"$f":"'COVER SHEET'!$D$16&IF(MID('COVER SHEET'!$I$18,6,10)=\"december\",\"1231\",IF(MID('COVER SHEET'!$I$18,6,10)=\"june\",\"0630\"))","v":"20241231"},{"$f":"+'Outgoing Remittances (Value)'!G71","v":0}]
["CMREM_11530","TL",{"$f":"+'Outgoing Remittances (Value)'!$G$5","v":"20241130"},{"$f":"+'COVER SHEET'!$D$12","v":0},11530,{"$f":"'COVER SHEET'!$D$16&IF(MID('COVER SHEET'!$I$18,6,10)=\"december\",\"1231\",IF(MID('COVER SHEET'!$I$18,6,10)=\"june\",\"0630\"))","v":"20241231"},{"$f":"+'Outgoing Remittances (Value)'!G72","v":0}]
["CMREM_11530","EC",{"$f":"+'Outgoing Remittances (Value)'!$G$5","v":"20241130"},{"$f":"+'COVER SHEET'!$D$12","v":0},11530,{"$f":"'COVER SHEET'!$D$16&IF(MID('COVER SHEET'!$I$18,6,10)=\"december\",\"1231\",IF(MID('COVER SHEET'!$I$18,6,10)=\"june\",\"0630\"))","v":"20241231"},{"$f":"+'Outgoing Remittances (Value)'!G73","v":0}]
["CMREM_11530","EG",{"$f":"+'Outgoing Remittances (Value)'!$G$5","v":"20241130"},{"$f":"+'COVER SHEET'!$D$12","v":0},11530,{"$f":"'COVER SHEET'!$D$16&IF(MID('COVER SHEET'!$I$18,6,10)=\"december\",\"1231\",IF(MID('COVER SHEET'!$I$18,6,10)=\"june\",\"0630\"))","v":"20241231"},{"$f":"+'Outgoing Remittances (Value)'!G74","v":0}]
["CMREM_11530","SV",{"$f":"+'Outgoing Remittances (Value)'!$G$5","v":"20241130"},{"$f":"+'COVER SHEET'!$D$12","v":0},11530,{"$f":"'COVER SHEET'!$D$16&IF(MID('COVER SHEET'!$I$18,6,10)=\"december\",\"1231\",IF(MID('COVER SHEET'!$I$18,6,10)=\"june\",\"0630\"))","v":"20241231"},{"$f":"+'Outgoing Remittances (Value)'!G75","v":0}]
["CMREM_11530","GQ",{"$f":"+'Outgoing Remittances (Value)'!$G$5","v":"20241130"},{"$f":"+'COVER SHEET'!$D$12","v":0},11530,{"$f":"'COVER SHEET'!$D$16&IF(MID('COVER SHEET'!$I$18,6,10)=\"december\",\"1231\",IF(MID('COVER SHEET'!$I$18,6,10)=\"june\",\"0630\"))","v":"20241231"},{"$f":"+'Outgoing Remittances (Value)'!G76","v":0}]
["CMREM_11530","ER",{"$f":"+'Outgoing Remittances (Value)'!$G$5","v":"20241130"},{"$f":"+'COVER SHEET'!$D$12","v":0},11530,{"$f":"'COVER SHEET'!$D$16&IF(MID('COVER SHEET'!$I$18,6,10)=\"december\",\"1231\",IF(MID('COVER SHEET'!$I$18,6,10)=\"june\",\"0630\"))","v":"20241231"},{"$f":"+'Outgoing Remittances (Value)'!G77","v":0}]
["CMREM_11530","EE",{"$f":"+'Outgoing Remittances (Value)'!$G$5","v":"20241130"},{"$f":"+'COVER SHEET'!$D$12","v":0},11530,{"$f":"'COVER SHEET'!$D$16&IF(MID('COVER SHEET'!$I$18,6,10)=\"december\",\"1231\",IF(MID('COVER SHEET'!$I$18,6,10)=\"june\",\"0630\"))","v":"20241231"},{"$f":"+'Outgoing Remittances (Value)'!G78","v":0}]
["CMREM_11530","ET",{"$f":"+'Outgoing Remittances (Value)'!$G$5","v":"20241130"},{"$f":"+'COVER SHEET'!$D$12","v":0},11530,{"$f":"'COVER SHEET'!$D$16&IF(MID('COVER SHEET'!$I$18,6,10)=\"december\",\"1231\",IF(MID('COVER SHEET'!$I$18,6,10)=\"june\",\"0630\"))","v":"20241231"},{"$f":"+'Outgoing Remittances (Value)'!G79","v":0}]
["CMREM_11530","FK",{"$f":"+'Outgoing Remittances (Value)'!$G$5","v":"20241130"},{"$f":"+'COVER SHEET'!$D$12","v":0},11530,{"$f":"'COVER SHEET'!$D$16&IF(MID('COVER SHEET'!$I$18,6,10)=\"december\",\"1231\",IF(MID('COVER SHEET'!$I$18,6,10)=\"june\",\"0630\"))","v":"20241231"},{"$f":"+'Outgoing Remittances (Value)'!G80","v":0}]
["CMREM_11530","FO",{"$f":"+'Outgoing Remittances (Value)'!$G$5","v":"20241130"},{"$f":"+'COVER SHEET'!$D$12","v":0},11530,{"$f":"'COVER SHEET'!$D$16&IF(MID('COVER SHEET'!$I$18,6,10)=\"december\",\"1231\",IF(MID('COVER SHEET'!$I$18,6,10)=\"june\",\"0630\"))","v":"20241231"},{"$f":"+'Outgoing Remittances (Value)'!G81","v":0}]
["CMREM_11530","FJ",{"$f":"+'Outgoing Remittances (Value)'!$G$5","v":"20241130"},{"$f":"+'COVER SHEET'!$D$12","v":0},11530,{"$f":"'COVER SHEET'!$D$16&IF(MID('COVER SHEET'!$I$18,6,10)=\"december\",\"1231\",IF(MID('COVER SHEET'!$I$18,6,10)=\"june\",\"0630\"))","v":"20241231"},{"$f":"+'Outgoing Remittances (Value)'!G82","v":0}]
["CMREM_11530","FI",{"$f":"+'Outgoing Remittances (Value)'!$G$5","v":"20241130"},{"$f":"+'COVER SHEET'!$D$12","v":0},11530,{"$f":"'COVER SHEET'!$D$16&IF(MID('COVER SHEET'!$I$18,6,10)=\"december\",\"1231\",IF(MID('COVER SHEET'!$I$18,6,10)=\"june\",\"0630\"))","v":"20241231"},{"$f":"+'Outgoing Remittances (Value)'!G83","v":0}]
["CMREM_11530","FR",{"$f":"+'Outgoing Remittances (Value)'!$G$5","v":"20241130"},{"$f":"+'COVER SHEET'!$D$12","v":0},11530,{"$f":"'COVER SHEET'!$D$16&IF(MID('COVER SHEET'!$I$18,6,10)=\"december\",\"1231\",IF(MID('COVER SHEET'!$I$18,6,10)=\"june\",\"0630\"))","v":"20241231"},{"$f":"+'Outgoing Remittances (Value)'!G84","v":0}]
["CMREM_11530","PF",{"$f":"+'Outgoing Remittances (Value)'!$G$5","v":"20241130"},{"$f":"+'COVER SHEET'!$D$12","v":0},11530,{"$f":"'COVER SHEET'!$D$16&IF(MID('COVER SHEET'!$I$18,6,10)=\"december\",\"1231\",IF(MID('COVER SHEET'!$I$18,6,10)=\"june\",\"0630\"))","v":"20241231"},{"$f":"+'Outgoing Remittances (Value)'!G85","v":0}]
["CMREM_11530","TF",{"$f":"+'Outgoing Remittances (Value)'!$G$5","v":"20241130"},{"$f":"+'COVER SHEET'!$D$12","v":0},11530,{"$f":"'COVER SHEET'!$D$16&IF(MID('COVER SHEET'!$I$18,6,10)=\"december\",\"1231\",IF(MID('COVER SHEET'!$I$18,6,10)=\"june\",\"0630\"))","v":"20241231"},{"$f":"+'Outgoing Remittances (Value)'!G86","v":0}]
["CMREM_11530","GA",{"$f":"+'Outgoing Remittances (Value)'!$G$5","v":"20241130"},{"$f":"+'COVER SHEET'!$D$12","v":0},11530,{"$f":"'COVER SHEET'!$D$16&IF(MID('COVER SHEET'!$I$18,6,10)=\"december\",\"1231\",IF(MID('COVER SHEET'!$I$18,6,10)=\"june\",\"0630\"))","v":"20241231"},{"$f":"+'Outgoing Remittances (Value)'!G87","v":0}]
["CMREM_11530","GM",{"$f":"+'Outgoing Remittances (Value)'!$G$5","v":"20241130"},{"$f":"+'COVER SHEET'!$D$12","v":0},11530,{"$f":"'COVER SHEET'!$D$16&IF(MID('COVER SHEET'!$I$18,6,10)=\"december\",\"1231\",IF(MID('COVER SHEET'!$I$18,6,10)=\"june\",\"0630\"))","v":"20241231"},{"$f":"+'Outgoing Remittances (Value)'!G88","v":0}]
["CMREM_11530","GE",{"$f":"+'Outgoing Remittances (Value)'!$G$5","v":"20241130"},{"$f":"+'COVER SHEET'!$D$12","v":0},11530,{"$f":"'COVER SHEET'!$D$16&IF(MID('COVER SHEET'!$I$18,6,10)=\"december\",\"1231\",IF(MID('COVER SHEET'!$I$18,6,10)=\"june\",\"0630\"))","v":"20241231"},{"$f":"+'Outgoing Remittances (Value)'!G89","v":0}]
["CMREM_11530","DE",{"$f":"+'Outgoing Remittances (Value)'!$G$5","v":"20241130"},{"$f":"+'COVER SHEET'!$D$12","v":0},11530,{"$f":"'COVER SHEET'!$D$16&IF(MID('COVER SHEET'!$I$18,6,10)=\"december\",\"1231\",IF(MID('COVER SHEET'!$I$18,6,10)=\"june\",\"0630\"))","v":"20241231"},{"$f":"+'Outgoing Remittances (Value)'!G90","v":0}]
["CMREM_11530","GH",{"$f":"+'Outgoing Remittances (Value)'!$G$5","v":"20241130"},{"$f":"+'COVER SHEET'!$D$12","v":0},11530,{"$f":"'COVER SHEET'!$D$16&IF(MID('COVER SHEET'!$I$18,6,10)=\"december\",\"1231\",IF(MID('COVER SHEET'!$I$18,6,10)=\"june\",\"0630\"))","v":"20241231"},{"$f":"+'Outgoing Remittances (Value)'!G91","v":0}]
["CMREM_11530","GI",{"$f":"+'Outgoing Remittances (Value)'!$G$5","v":"20241130"},{"$f":"+'COVER SHEET'!$D$12","v":0},11530,{"$f":"'COVER SHEET'!$D$16&IF(MID('COVER SHEET'!$I$18,6,10)=\"december\",\"1231\",IF(MID('COVER SHEET'!$I$18,6,10)=\"june\",\"0630\"))","v":"20241231"},{"$f":"+'Outgoing Remittances (Value)'!G92","v":0}]
["CMREM_11530","GR",{"$f":"+'Outgoing Remittances (Value)'!$G$5","v":"20241130"},{"$f":"+'COVER SHEET'!$D$12","v":0},11530,{"$f":"'COVER SHEET'!$D$16&IF(MID('COVER SHEET'!$I$18,6,10)=\"december\",\"1231\",IF(MID('COVER SHEET'!$I$18,6,10)=\"june\",\"0630\"))","v":"20241231"},{"$f":"+'Outgoing Remittances (Value)'!G93","v":0}]
["CMREM_11530","GL",{"$f":"+'Outgoing Remittances (Value)'!$G$5","v":"20241130"},{"$f":"+'COVER SHEET'!$D$12","v":0},11530,{"$f":"'COVER SHEET'!$D$16&IF(MID('COVER SHEET'!$I$18,6,10)=\"december\",\"1231\",IF(MID('COVER SHEET'!$I$18,6,10)=\"june\",\"0630\"))","v":"20241231"},{"$f":"+'Outgoing Remittances (Value)'!G94","v":0}]
["CMREM_11530","GD",{"$f":"+'Outgoing Remittances (Value)'!$G$5","v":"20241130"},{"$f":"+'COVER SHEET'!$D$12","v":0},11530,{"$f":"'COVER SHEET'!$D$16&IF(MID('COVER SHEET'!$I$18,6,10)=\"december\",\"1231\",IF(MID('COVER SHEET'!$I$18,6,10)=\"june\",\"0630\"))","v":"20241231"},{"$f":"+'Outgoing Remittances (Value)'!G95","v":0}]
["CMREM_11530","GU",{"$f":"+'Outgoing Remittances (Value)'!$G$5","v":"20241130"},{"$f":"+'COVER SHEET'!$D$12","v":0},11530,{"$f":"'COVER SHEET'!$D$16&IF(MID('COVER SHEET'!$I$18,6,10)=\"december\",\"1231\",IF(MID('COVER SHEET'!$I$18,6,10)=\"june\",\"0630\"))","v":"20241231"},{"$f":"+'Outgoing Remittances (Value)'!G96","v":0}]
["CMREM_11530","GT",{"$f":"+'Outgoing Remittances (Value)'!$G$5","v":"20241130"},{"$f":"+'COVER SHEET'!$D$12","v":0},11530,{"$f":"'COVER SHEET'!$D$16&IF(MID('COVER SHEET'!$I$18,6,10)=\"december\",\"1231\",IF(MID('COVER SHEET'!$I$18,6,10)=\"june\",\"0630\"))","v":"20241231"},{"$f":"+'Outgoing Remittances (Value)'!G97","v":0}]
["CMREM_11530","GG",{"$f":"+'Outgoing Remittances (Value)'!$G$5","v":"20241130"},{"$f":"+'COVER SHEET'!$D$12","v":0},11530,{"$f":"'COVER SHEET'!$D$16&IF(MID('COVER SHEET'!$I$18,6,10)=\"december\",\"1231\",IF(MID('COVER SHEET'!$I$18,6,10)=\"june\",\"0630\"))","v":"20241231"},{"$f":"+'Outgoing Remittances (Value)'!G98","v":0}]
["CMREM_11530","GN",{"$f":"+'Outgoing Remittances (Value)'!$G$5","v":"20241130"},{"$f":"+'COVER SHEET'!$D$12","v":0},11530,{"$f":"'COVER SHEET'!$D$16&IF(MID('COVER SHEET'!$I$18,6,10)=\"december\",\"1231\",IF(MID('COVER SHEET'!$I$18,6,10)=\"june\",\"0630\"))","v":"20241231"},{"$f":"+'Outgoing Remittances (Value)'!G99","v":0}]
["CMREM_11530","GW",{"$f":"+'Outgoing Remittances (Value)'!$G$5","v":"20241130"},{"$f":"+'COVER SHEET'!$D$12","v":0},11530,{"$f":"'COVER SHEET'!$D$16&IF(MID('COVER SHEET'!$I$18,6,10)=\"december\",\"1231\",IF(MID('COVER SHEET'!$I$18,6,10)=\"june\",\"0630\"))","v":"20241231"},{"$f":"+'Outgoing Remittances (Value)'!G100","v":0}]
["CMREM_11530","GY",{"$f":"+'Outgoing Remittances (Value)'!$G$5","v":"20241130"},{"$f":"+'COVER SHEET'!$D$12","v":0},11530,{"$f":"'COVER SHEET'!$D$16&IF(MID('COVER SHEET'!$I$18,6,10)=\"december\",\"1231\",IF(MID('COVER SHEET'!$I$18,6,10)=\"june\",\"0630\"))","v":"20241231"},{"$f":"+'Outgoing Remittances (Value)'!G101","v":0}]
["CMREM_11530","HT",{"$f":"+'Outgoing Remittances (Value)'!$G$5","v":"20241130"},{"$f":"+'COVER SHEET'!$D$12","v":0},11530,{"$f":"'COVER SHEET'!$D$16&IF(MID('COVER SHEET'!$I$18,6,10)=\"december\",\"1231\",IF(MID('COVER SHEET'!$I$18,6,10)=\"june\",\"0630\"))","v":"20241231"},{"$f":"+'Outgoing Remittances (Value)'!G102","v":0}]
["CMREM_11530","HM",{"$f":"+'Outgoing Remittances (Value)'!$G$5","v":"20241130"},{"$f":"+'COVER SHEET'!$D$12","v":0},11530,{"$f":"'COVER SHEET'!$D$16&IF(MID('COVER SHEET'!$I$18,6,10)=\"december\",\"1231\",IF(MID('COVER SHEET'!$I$18,6,10)=\"june\",\"0630\"))","v":"20241231"},{"$f":"+'Outgoing Remittances (Value)'!G103","v":0}]
["CMREM_11530","VA",{"$f":"+'Outgoing Remittances (Value)'!$G$5","v":"20241130"},{"$f":"+'COVER SHEET'!$D$12","v":0},11530,{"$f":"'COVER SHEET'!$D$16&IF(MID('COVER SHEET'!$I$18,6,10)=\"december\",\"1231\",IF(MID('COVER SHEET'!$I$18,6,10)=\"june\",\"0630\"))","v":"20241231"},{"$f":"+'Outgoing Remittances (Value)'!G104","v":0}]
["CMREM_11530","HN",{"$f":"+'Outgoing Remittances (Value)'!$G$5","v":"20241130"},{"$f":"+'COVER SHEET'!$D$12","v":0},11530,{"$f":"'COVER SHEET'!$D$16&IF(MID('COVER SHEET'!$I$18,6,10)=\"december\",\"1231\",IF(MID('COVER SHEET'!$I$18,6,10)=\"june\",\"0630\"))","v":"20241231"},{"$f":"+'Outgoing Remittances (Value)'!G105","v":0}]
["CMREM_11530","HK",{"$f":"+'Outgoing Remittances (Value)'!$G$5","v":"20241130"},{"$f":"+'COVER SHEET'!$D$12","v":0},11530,{"$f":"'COVER SHEET'!$D$16&IF(MID('COVER SHEET'!$I$18,6,10)=\"december\",\"1231\",IF(MID('COVER SHEET'!$I$18,6,10)=\"june\",\"0630\"))","v":"20241231"},{"$f":"+'Outgoing Remittances (Value)'!G106","v":0}]
["CMREM_11530","HU",{"$f":"+'Outgoing Remittances (Value)'!$G$5","v":"20241130"},{"$f":"+'COVER SHEET'!$D$12","v":0},11530,{"$f":"'COVER SHEET'!$D$16&IF(MID('COVER SHEET'!$I$18,6,10)=\"december\",\"1231\",IF(MID('COVER SHEET'!$I$18,6,10)=\"june\",\"0630\"))","v":"20241231"},{"$f":"+'Outgoing Remittances (Value)'!G107","v":0}]
["CMREM_11530","IS",{"$f":"+'Outgoing Remittances (Value)'!$G$5","v":"20241130"},{"$f":"+'COVER SHEET'!$D$12","v":0},11530,{"$f":"'COVER SHEET'!$D$16&IF(MID('COVER SHEET'!$I$18,6,10)=\"december\",\"1231\",IF(MID('COVER SHEET'!$I$18,6,10)=\"june\",\"0630\"))","v":"20241231"},{"$f":"+'Outgoing Remittances (Value)'!G108","v":0}]
["CMREM_11530","IN",{"$f":"+'Outgoing Remittances (Value)'!$G$5","v":"20241130"},{"$f":"+'COVER SHEET'!$D$12","v":0},11530,{"$f":"'COVER SHEET'!$D$16&IF(MID('COVER SHEET'!$I$18,6,10)=\"december\",\"1231\",IF(MID('COVER SHEET'!$I$18,6,10)=\"june\",\"0630\"))","v":"20241231"},{"$f":"+'Outgoing Remittances (Value)'!G109","v":0}]
["CMREM_11530","ID",{"$f":"+'Outgoing Remittances (Value)'!$G$5","v":"20241130"},{"$f":"+'COVER SHEET'!$D$12","v":0},11530,{"$f":"'COVER SHEET'!$D$16&IF(MID('COVER SHEET'!$I$18,6,10)=\"december\",\"1231\",IF(MID('COVER SHEET'!$I$18,6,10)=\"june\",\"0630\"))","v":"20241231"},{"$f":"+'Outgoing Remittances (Value)'!G110","v":0}]
["CMREM_11530","IR",{"$f":"+'Outgoing Remittances (Value)'!$G$5","v":"20241130"},{"$f":"+'COVER SHEET'!$D$12","v":0},11530,{"$f":"'COVER SHEET'!$D$16&IF(MID('COVER SHEET'!$I$18,6,10)=\"december\",\"1231\",IF(MID('COVER SHEET'!$I$18,6,10)=\"june\",\"0630\"))","v":"20241231"},{"$f":"+'Outgoing Remittances (Value)'!G111","v":0}]
["CMREM_11530","IQ",{"$f":"+'Outgoing Remittances (Value)'!$G$5","v":"20241130"},{"$f":"+'COVER SHEET'!$D$12","v":0},11530,{"$f":"'COVER SHEET'!$D$16&IF(MID('COVER SHEET'!$I$18,6,10)=\"december\",\"1231\",IF(MID('COVER SHEET'!$I$18,6,10)=\"june\",\"0630\"))","v":"20241231"},{"$f":"+'Outgoing Remittances (Value)'!G112","v":0}]
["CMREM_11530","IE",{"$f":"+'Outgoing Remittances (Value)'!$G$5","v":"20241130"},{"$f":"+'COVER SHEET'!$D$12","v":0},11530,{"$f":"'COVER SHEET'!$D$16&IF(MID('COVER SHEET'!$I$18,6,10)=\"december\",\"1231\",IF(MID('COVER SHEET'!$I$18,6,10)=\"june\",\"0630\"))","v":"20241231"},{"$f":"+'Outgoing Remittances (Value)'!G113","v":0}]
["CMREM_11530","IM",{"$f":"+'Outgoing Remittances (Value)'!$G$5","v":"20241130"},{"$f":"+'COVER SHEET'!$D$12","v":0},11530,{"$f":"'COVER SHEET'!$D$16&IF(MID('COVER SHEET'!$I$18,6,10)=\"december\",\"1231\",IF(MID('COVER SHEET'!$I$18,6,10)=\"june\",\"0630\"))","v":"20241231"},{"$f":"+'Outgoing Remittances (Value)'!G114","v":0}]
["CMREM_11530","IL",{"$f":"+'Outgoing Remittances (Value)'!$G$5","v":"20241130"},{"$f":"+'COVER SHEET'!$D$12","v":0},11530,{"$f":"'COVER SHEET'!$D$16&IF(MID('COVER SHEET'!$I$18,6,10)=\"december\",\"1231\",IF(MID('COVER SHEET'!$I$18,6,10)=\"june\",\"0630\"))","v":"20241231"},{"$f":"+'Outgoing Remittances (Value)'!G115","v":0}]
["CMREM_11530","IT",{"$f":"+'Outgoing Remittances (Value)'!$G$5","v":"20241130"},{"$f":"+'COVER SHEET'!$D$12","v":0},11530,{"$f":"'COVER SHEET'!$D$16&IF(MID('COVER SHEET'!$I$18,6,10)=\"december\",\"1231\",IF(MID('COVER SHEET'!$I$18,6,10)=\"june\",\"0630\"))","v":"20241231"},{"$f":"+'Outgoing Remittances (Value)'!G116","v":0}]
["CMREM_11530","CI",{"$f":"+'Outgoing Remittances (Value)'!$G$5","v":"20241130"},{"$f":"+'COVER SHEET'!$D$12","v":0},11530,{"$f":"'COVER SHEET'!$D$16&IF(MID('COVER SHEET'!$I$18,6,10)=\"december\",\"1231\",IF(MID('COVER SHEET'!$I$18,6,10)=\"june\",\"0630\"))","v":"20241231"},{"$f":"+'Outgoing Remittances (Value)'!G117","v":0}]
["CMREM_11530","JM",{"$f":"+'Outgoing Remittances (Value)'!$G$5","v":"20241130"},{"$f":"+'COVER SHEET'!$D$12","v":0},11530,{"$f":"'COVER SHEET'!$D$16&IF(MID('COVER SHEET'!$I$18,6,10)=\"december\",\"1231\",IF(MID('COVER SHEET'!$I$18,6,10)=\"june\",\"0630\"))","v":"20241231"},{"$f":"+'Outgoing Remittances (Value)'!G118","v":0}]
["CMREM_11530","JP",{"$f":"+'Outgoing Remittances (Value)'!$G$5","v":"20241130"},{"$f":"+'COVER SHEET'!$D$12","v":0},11530,{"$f":"'COVER SHEET'!$D$16&IF(MID('COVER SHEET'!$I$18,6,10)=\"december\",\"1231\",IF(MID('COVER SHEET'!$I$18,6,10)=\"june\",\"0630\"))","v":"20241231"},{"$f":"+'Outgoing Remittances (Value)'!G119","v":0}]
["CMREM_11530","JE",{"$f":"+'Outgoing Remittances (Value)'!$G$5","v":"20241130"},{"$f":"+'COVER SHEET'!$D$12","v":0},11530,{"$f":"'COVER SHEET'!$D$16&IF(MID('COVER SHEET'!$I$18,6,10)=\"december\",\"1231\",IF(MID('COVER SHEET'!$I$18,6,10)=\"june\",\"0630\"))","v":"20241231"},{"$f":"+'Outgoing Remittances (Value)'!G120","v":0}]
["CMREM_11530","JO",{"$f":"+'Outgoing Remittances (Value)'!$G$5","v":"20241130"},{"$f":"+'COVER SHEET'!$D$12","v":0},11530,{"$f":"'COVER SHEET'!$D$16&IF(MID('COVER SHEET'!$I$18,6,10)=\"december\",\"1231\",IF(MID('COVER SHEET'!$I$18,6,10)=\"june\",\"0630\"))","v":"20241231"},{"$f":"+'Outgoing Remittances (Value)'!G121","v":0}]
["CMREM_11530","KZ",{"$f":"+'Outgoing Remittances (Value)'!$G$5","v":"20241130"},{"$f":"+'COVER SHEET'!$D$12","v":0},11530,{"$f":"'COVER SHEET'!$D$16&IF(MID('COVER SHEET'!$I$18,6,10)=\"december\",\"1231\",IF(MID('COVER SHEET'!$I$18,6,10)=\"june\",\"0630\"))","v":"20241231"},{"$f":"+'Outgoing Remittances (Value)'!G122","v":0}]
["CMREM_11530","KE",{"$f":"+'Outgoing Remittances (Value)'!$G$5","v":"20241130"},{"$f":"+'COVER SHEET'!$D$12","v":0},11530,{"$f":"'COVER SHEET'!$D$16&IF(MID('COVER SHEET'!$I$18,6,10)=\"december\",\"1231\",IF(MID('COVER SHEET'!$I$18,6,10)=\"june\",\"0630\"))","v":"20241231"},{"$f":"+'Outgoing Remittances (Value)'!G123","v":0}]
["CMREM_11530","KI",{"$f":"+'Outgoing Remittances (Value)'!$G$5","v":"20241130"},{"$f":"+'COVER SHEET'!$D$12","v":0},11530,{"$f":"'COVER SHEET'!$D$16&IF(MID('COVER SHEET'!$I$18,6,10)=\"december\",\"1231\",IF(MID('COVER SHEET'!$I$18,6,10)=\"june\",\"0630\"))","v":"20241231"},{"$f":"+'Outgoing Remittances (Value)'!G124","v":0}]
["CMREM_11530","KP",{"$f":"+'Outgoing Remittances (Value)'!$G$5","v":"20241130"},{"$f":"+'COVER SHEET'!$D$12","v":0},11530,{"$f":"'COVER SHEET'!$D$16&IF(MID('COVER SHEET'!$I$18,6,10)=\"december\",\"1231\",IF(MID('COVER SHEET'!$I$18,6,10)=\"june\",\"0630\"))","v":"20241231"},{"$f":"+'Outgoing Remittances (Value)'!G125","v":0}]
["CMREM_11530","KR",{"$f":"+'Outgoing Remittances (Value)'!$G$5","v":"20241130"},{"$f":"+'COVER SHEET'!$D$12","v":0},11530,{"$f":"'COVER SHEET'!$D$16&IF(MID('COVER SHEET'!$I$18,6,10)=\"december\",\"1231\",IF(MID('COVER SHEET'!$I$18,6,10)=\"june\",\"0630\"))","v":"20241231"},{"$f":"+'Outgoing Remittances (Value)'!G126","v":0}]
["CMREM_11530","XK",{"$f":"+'Outgoing Remittances (Value)'!$G$5","v":"20241130"},{"$f":"+'COVER SHEET'!$D$12","v":0},11530,{"$f":"'COVER SHEET'!$D$16&IF(MID('COVER SHEET'!$I$18,6,10)=\"december\",\"1231\",IF(MID('COVER SHEET'!$I$18,6,10)=\"june\",\"0630\"))","v":"20241231"},{"$f":"+'Outgoing Remittances (Value)'!G127","v":0}]
["CMREM_11530","KW",{"$f":"+'Outgoing Remittances (Value)'!$G$5","v":"20241130"},{"$f":"+'COVER SHEET'!$D$12","v":0},11530,{"$f":"'COVER SHEET'!$D$16&IF(MID('COVER SHEET'!$I$18,6,10)=\"december\",\"1231\",IF(MID('COVER SHEET'!$I$18,6,10)=\"june\",\"0630\"))","v":"20241231"},{"$f":"+'Outgoing Remittances (Value)'!G128","v":0}]
["CMREM_11530","KG",{"$f":"+'Outgoing Remittances (Value)'!$G$5","v":"20241130"},{"$f":"+'COVER SHEET'!$D$12","v":0},11530,{"$f":"'COVER SHEET'!$D$16&IF(MID('COVER SHEET'!$I$18,6,10)=\"december\",\"1231\",IF(MID('COVER SHEET'!$I$18,6,10)=\"june\",\"0630\"))","v":"20241231"},{"$f":"+'Outgoing Remittances (Value)'!G129","v":0}]
["CMREM_11530","LA",{"$f":"+'Outgoing Remittances (Value)'!$G$5","v":"20241130"},{"$f":"+'COVER SHEET'!$D$12","v":0},11530,{"$f":"'COVER SHEET'!$D$16&IF(MID('COVER SHEET'!$I$18,6,10)=\"december\",\"1231\",IF(MID('COVER SHEET'!$I$18,6,10)=\"june\",\"0630\"))","v":"20241231"},{"$f":"+'Outgoing Remittances (Value)'!G130","v":0}]
["CMREM_11530","LV",{"$f":"+'Outgoing Remittances (Value)'!$G$5","v":"20241130"},{"$f":"+'COVER SHEET'!$D$12","v":0},11530,{"$f":"'COVER SHEET'!$D$16&IF(MID('COVER SHEET'!$I$18,6,10)=\"december\",\"1231\",IF(MID('COVER SHEET'!$I$18,6,10)=\"june\",\"0630\"))","v":"20241231"},{"$f":"+'Outgoing Remittances (Value)'!G131","v":0}]
["CMREM_11530","LB",{"$f":"+'Outgoing Remittances (Value)'!$G$5","v":"20241130"},{"$f":"+'COVER SHEET'!$D$12","v":0},11530,{"$f":"'COVER SHEET'!$D$16&IF(MID('COVER SHEET'!$I$18,6,10)=\"december\",\"1231\",IF(MID('COVER SHEET'!$I$18,6,10)=\"june\",\"0630\"))","v":"20241231"},{"$f":"+'Outgoing Remittances (Value)'!G132","v":0}]
["CMREM_11530","LS",{"$f":"+'Outgoing Remittances (Value)'!$G$5","v":"20241130"},{"$f":"+'COVER SHEET'!$D$12","v":0},11530,{"$f":"'COVER SHEET'!$D$16&IF(MID('COVER SHEET'!$I$18,6,10)=\"december\",\"1231\",IF(MID('COVER SHEET'!$I$18,6,10)=\"june\",\"0630\"))","v":"20241231"},{"$f":"+'Outgoing Remittances (Value)'!G133","v":0}]
["CMREM_11530","LR",{"$f":"+'Outgoing Remittances (Value)'!$G$5","v":"20241130"},{"$f":"+'COVER SHEET'!$D$12","v":0},11530,{"$f":"'COVER SHEET'!$D$16&IF(MID('COVER SHEET'!$I$18,6,10)=\"december\",\"1231\",IF(MID('COVER SHEET'!$I$18,6,10)=\"june\",\"0630\"))","v":"20241231"},{"$f":"+'Outgoing Remittances (Value)'!G134","v":0}]
["CMREM_11530","LY",{"$f":"+'Outgoing Remittances (Value)'!$G$5","v":"20241130"},{"$f":"+'COVER SHEET'!$D$12","v":0},11530,{"$f":"'COVER SHEET'!$D$16&IF(MID('COVER SHEET'!$I$18,6,10)=\"december\",\"1231\",IF(MID('COVER SHEET'!$I$18,6,10)=\"june\",\"0630\"))","v":"20241231"},{"$f":"+'Outgoing Remittances (Value)'!G135","v":0}]
["CMREM_11530","LI",{"$f":"+'Outgoing Remittances (Value)'!$G$5","v":"20241130"},{"$f":"+'COVER SHEET'!$D$12","v":0},11530,{"$f":"'COVER SHEET'!$D$16&IF(MID('COVER SHEET'!$I$18,6,10)=\"december\",\"1231\",IF(MID('COVER SHEET'!$I$18,6,10)=\"june\",\"0630\"))","v":"20241231"},{"$f":"+'Outgoing Remittances (Value)'!G136","v":0}]
["CMREM_11530","LT",{"$f":"+'Outgoing Remittances (Value)'!$G$5","v":"20241130"},{"$f":"+'COVER SHEET'!$D$12","v":0},11530,{"$f":"'COVER SHEET'!$D$16&IF(MID('COVER SHEET'!$I$18,6,10)=\"december\",\"1231\",IF(MID('COVER SHEET'!$I$18,6,10)=\"june\",\"0630\"))","v":"20241231"},{"$f":"+'Outgoing Remittances (Value)'!G137","v":0}]
["CMREM_11530","LU",{"$f":"+'Outgoing Remittances (Value)'!$G$5","v":"20241130"},{"$f":"+'COVER SHEET'!$D$12","v":0},11530,{"$f":"'COVER SHEET'!$D$16&IF(MID('COVER SHEET'!$I$18,6,10)=\"december\",\"1231\",IF(MID('COVER SHEET'!$I$18,6,10)=\"june\",\"0630\"))","v":"20241231"},{"$f":"+'Outgoing Remittances (Value)'!G138","v":0}]
["CMREM_11530","MO",{"$f":"+'Outgoing Remittances (Value)'!$G$5","v":"20241130"},{"$f":"+'COVER SHEET'!$D$12","v":0},11530,{"$f":"'COVER SHEET'!$D$16&IF(MID('COVER SHEET'!$I$18,6,10)=\"december\",\"1231\",IF(MID('COVER SHEET'!$I$18,6,10)=\"june\",\"0630\"))","v":"20241231"},{"$f":"+'Outgoing Remittances (Value)'!G139","v":0}]
["CMREM_11530","MK",{"$f":"+'Outgoing Remittances (Value)'!$G$5","v":"20241130"},{"$f":"+'COVER SHEET'!$D$12","v":0},11530,{"$f":"'COVER SHEET'!$D$16&IF(MID('COVER SHEET'!$I$18,6,10)=\"december\",\"1231\",IF(MID('COVER SHEET'!$I$18,6,10)=\"june\",\"0630\"))","v":"20241231"},{"$f":"+'Outgoing Remittances (Value)'!G140","v":0}]
["CMREM_11530","MG",{"$f":"+'Outgoing Remittances (Value)'!$G$5","v":"20241130"},{"$f":"+'COVER SHEET'!$D$12","v":0},11530,{"$f":"'COVER SHEET'!$D$16&IF(MID('COVER SHEET'!$I$18,6,10)=\"december\",\"1231\",IF(MID('COVER SHEET'!$I$18,6,10)=\"june\",\"0630\"))","v":"20241231"},{"$f":"+'Outgoing Remittances (Value)'!G141","v":0}]
["CMREM_11530","MW",{"$f":"+'Outgoing Remittances (Value)'!$G$5","v":"20241130"},{"$f":"+'COVER SHEET'!$D$12","v":0},11530,{"$f":"'COVER SHEET'!$D$16&IF(MID('COVER SHEET'!$I$18,6,10)=\"december\",\"1231\",IF(MID('COVER SHEET'!$I$18,6,10)=\"june\",\"0630\"))","v":"20241231"},{"$f":"+'Outgoing Remittances (Value)'!G142","v":0}]
["CMREM_11530","MY",{"$f":"+'Outgoing Remittances (Value)'!$G$5","v":"20241130"},{"$f":"+'COVER SHEET'!$D$12","v":0},11530,{"$f":"'COVER SHEET'!$D$16&IF(MID('COVER SHEET'!$I$18,6,10)=\"december\",\"1231\",IF(MID('COVER SHEET'!$I$18,6,10)=\"june\",\"0630\"))","v":"20241231"},{"$f":"+'Outgoing Remittances (Value)'!G143","v":0}]
["CMREM_11530","MV",{"$f":"+'Outgoing Remittances (Value)'!$G$5","v":"20241130"},{"$f":"+'COVER SHEET'!$D$12","v":0},11530,{"$f":"'COVER SHEET'!$D$16&IF(MID('COVER SHEET'!$I$18,6,10)=\"december\",\"1231\",IF(MID('COVER SHEET'!$I$18,6,10)=\"june\",\"0630\"))","v":"20241231"},{"$f":"+'Outgoing Remittances (Value)'!G144","v":0}]
["CMREM_11530","ML",{"$f":"+'Outgoing Remittances (Value)'!$G$5","v":"20241130"},{"$f":"+'COVER SHEET'!$D$12","v":0},11530,{"$f":"'COVER SHEET'!$D$16&IF(MID('COVER SHEET'!$I$18,6,10)=\"december\",\"1231\",IF(MID('COVER SHEET'!$I$18,6,10)=\"june\",\"0630\"))","v":"20241231"},{"$f":"+'Outgoing Remittances (Value)'!G145","v":0}]
["CMREM_11530","MH",{"$f":"+'Outgoing Remittances (Value)'!$G$5","v":"20241130"},{"$f":"+'COVER SHEET'!$D$12","v":0},11530,{"$f":"'COVER SHEET'!$D$16&IF(MID('COVER SHEET'!$I$18,6,10)=\"december\",\"1231\",IF(MID('COVER SHEET'!$I$18,6,10)=\"june\",\"0630\"))","v":"20241231"},{"$f":"+'Outgoing Remittances (Value)'!G146","v":0}]
["CMREM_11530","MR",{"$f":"+'Outgoing Remittances (Value)'!$G$5","v":"20241130"},{"$f":"+'COVER SHEET'!$D$12","v":0},11530,{"$f":"'COVER SHEET'!$D$16&IF(MID('COVER SHEET'!$I$18,6,10)=\"december\",\"1231\",IF(MID('COVER SHEET'!$I$18,6,10)=\"june\",\"0630\"))","v":"20241231"},{"$f":"+'Outgoing Remittances (Value)'!G147","v":0}]
["CMREM_11530","MU",{"$f":"+'Outgoing Remittances (Value)'!$G$5","v":"20241130"},{"$f":"+'COVER SHEET'!$D$12","v":0},11530,{"$f":"'COVER SHEET'!$D$16&IF(MID('COVER SHEET'!$I$18,6,10)=\"december\",\"1231\",IF(MID('COVER SHEET'!$I$18,6,10)=\"june\",\"0630\"))","v":"20241231"},{"$f":"+'Outgoing Remittances (Value)'!G148","v":0}]
["CMREM_11530","MX",{"$f":"+'Outgoing Remittances (Value)'!$G$5","v":"20241130"},{"$f":"+'COVER SHEET'!$D$12","v":0},11530,{"$f":"'COVER SHEET'!$D$16&IF(MID('COVER SHEET'!$I$18,6,10)=\"december\",\"1231\",IF(MID('COVER SHEET'!$I$18,6,10)=\"june\",\"0630\"))","v":"20241231"},{"$f":"+'Outgoing Remittances (Value)'!G149","v":0}]
["CMREM_11530","FM",{"$f":"+'Outgoing Remittances (Value)'!$G$5","v":"20241130"},{"$f":"+'COVER SHEET'!$D$12","v":0},11530,{"$f":"'COVER SHEET'!$D$16&IF(MID('COVER SHEET'!$I$18,6,10)=\"december\",\"1231\",IF(MID('COVER SHEET'!$I$18,6,10)=\"june\",\"0630\"))","v":"20241231"},{"$f":"+'Outgoing Remittances (Value)'!G150","v":0}]
["CMREM_11530","MD",{"$f":"+'Outgoing Remittances (Value)'!$G$5","v":"20241130"},{"$f":"+'COVER SHEET'!$D$12","v":0},11530,{"$f":"'COVER SHEET'!$D$16&IF(MID('COVER SHEET'!$I$18,6,10)=\"december\",\"1231\",IF(MID('COVER SHEET'!$I$18,6,10)=\"june\",\"0630\"))","v":"20241231"},{"$f":"+'Outgoing Remittances (Value)'!G151","v":0}]
["CMREM_11530","MN",{"$f":"+'Outgoing Remittances (Value)'!$G$5","v":"20241130"},{"$f":"+'COVER SHEET'!$D$12","v":0},11530,{"$f":"'COVER SHEET'!$D$16&IF(MID('COVER SHEET'!$I$18,6,10)=\"december\",\"1231\",IF(MID('COVER SHEET'!$I$18,6,10)=\"june\",\"0630\"))","v":"20241231"},{"$f":"+'Outgoing Remittances (Value)'!G152","v":0}]
["CMREM_11530","ME",{"$f":"+'Outgoing Remittances (Value)'!$G$5","v":"20241130"},{"$f":"+'COVER SHEET'!$D$12","v":0},11530,{"$f":"'COVER SHEET'!$D$16&IF(MID('COVER SHEET'!$I$18,6,10)=\"december\",\"1231\",IF(MID('COVER SHEET'!$I$18,6,10)=\"june\",\"0630\"))","v":"20241231"},{"$f":"+'Outgoing Remittances (Value)'!G153","v":0}]
["CMREM_11530","MS",{"$f":"+'Outgoing Remittances (Value)'!$G$5","v":"20241130"},{"$f":"+'COVER SHEET'!$D$12","v":0},11530,{"$f":"'COVER SHEET'!$D$16&IF(MID('COVER SHEET'!$I$18,6,10)=\"december\",\"1231\",IF(MID('COVER SHEET'!$I$18,6,10)=\"june\",\"0630\"))","v":"20241231"},{"$f":"+'Outgoing Remittances (Value)'!G154","v":0}]
["CMREM_11530","MA",{"$f":"+'Outgoing Remittances (Value)'!$G$5","v":"20241130"},{"$f":"+'COVER SHEET'!$D$12","v":0},11530,{"$f":"'COVER SHEET'!$D$16&IF(MID('COVER SHEET'!$I$18,6,10)=\"december\",\"1231\",IF(MID('COVER SHEET'!$I$18,6,10)=\"june\",\"0630\"))","v":"20241231"},{"$f":"+'Outgoing Remittances (Value)'!G155","v":0}]
["CMREM_11530","MZ",{"$f":"+'Outgoing Remittances (Value)'!$G$5","v":"20241130"},{"$f":"+'COVER SHEET'!$D$12","v":0},11530,{"$f":"'COVER SHEET'!$D$16&IF(MID('COVER SHEET'!$I$18,6,10)=\"december\",\"1231\",IF(MID('COVER SHEET'!$I$18,6,10)=\"june\",\"0630\"))","v":"20241231"},{"$f":"+'Outgoing Remittances (Value)'!G156","v":0}]
["CMREM_11530","MM",{"$f":"+'Outgoing Remittances (Value)'!$G$5","v":"20241130"},{"$f":"+'COVER SHEET'!$D$12","v":0},11530,{"$f":"'COVER SHEET'!$D$16&IF(MID('COVER SHEET'!$I$18,6,10)=\"december\",\"1231\",IF(MID('COVER SHEET'!$I$18,6,10)=\"june\",\"0630\"))","v":"20241231"},{"$f":"+'Outgoing Remittances (Value)'!G157","v":0}]
["CMREM_11530","NA",{"$f":"+'Outgoing Remittances (Value)'!$G$5","v":"20241130"},{"$f":"+'COVER SHEET'!$D$12","v":0},11530,{"$f":"'COVER SHEET'!$D$16&IF(MID('COVER SHEET'!$I$18,6,10)=\"december\",\"1231\",IF(MID('COVER SHEET'!$I$18,6,10)=\"june\",\"0630\"))","v":"20241231"},{"$f":"+'Outgoing Remittances (Value)'!G158","v":0}]
["CMREM_11530","NR",{"$f":"+'Outgoing Remittances (Value)'!$G$5","v":"20241130"},{"$f":"+'COVER SHEET'!$D$12","v":0},11530,{"$f":"'COVER SHEET'!$D$16&IF(MID('COVER SHEET'!$I$18,6,10)=\"december\",\"1231\",IF(MID('COVER SHEET'!$I$18,6,10)=\"june\",\"0630\"))","v":"20241231"},{"$f":"+'Outgoing Remittances (Value)'!G159","v":0}]
["CMREM_11530","NP",{"$f":"+'Outgoing Remittances (Value)'!$G$5","v":"20241130"},{"$f":"+'COVER SHEET'!$D$12","v":0},11530,{"$f":"'COVER SHEET'!$D$16&IF(MID('COVER SHEET'!$I$18,6,10)=\"december\",\"1231\",IF(MID('COVER SHEET'!$I$18,6,10)=\"june\",\"0630\"))","v":"20241231"},{"$f":"+'Outgoing Remittances (Value)'!G160","v":0}]
["CMREM_11530","NL",{"$f":"+'Outgoing Remittances (Value)'!$G$5","v":"20241130"},{"$f":"+'COVER SHEET'!$D$12","v":0},11530,{"$f":"'COVER SHEET'!$D$16&IF(MID('COVER SHEET'!$I$18,6,10)=\"december\",\"1231\",IF(MID('COVER SHEET'!$I$18,6,10)=\"june\",\"0630\"))","v":"20241231"},{"$f":"+'Outgoing Remittances (Value)'!G161","v":0}]
["CMREM_11530","NC",{"$f":"+'Outgoing Remittances (Value)'!$G$5","v":"20241130"},{"$f":"+'COVER SHEET'!$D$12","v":0},11530,{"$f":"'COVER SHEET'!$D$16&IF(MID('COVER SHEET'!$I$18,6,10)=\"december\",\"1231\",IF(MID('COVER SHEET'!$I$18,6,10)=\"june\",\"0630\"))","v":"20241231"},{"$f":"+'Outgoing Remittances (Value)'!G162","v":0}]
["CMREM_11530","NZ",{"$f":"+'Outgoing Remittances (Value)'!$G$5","v":"20241130"},{"$f":"+'COVER SHEET'!$D$12","v":0},11530,{"$f":"'COVER SHEET'!$D$16&IF(MID('COVER SHEET'!$I$18,6,10)=\"december\",\"1231\",IF(MID('COVER SHEET'!$I$18,6,10)=\"june\",\"0630\"))","v":"20241231"},{"$f":"+'Outgoing Remittances (Value)'!G163","v":0}]
["CMREM_11530","NI",{"$f":"+'Outgoing Remittances (Value)'!$G$5","v":"20241130"},{"$f":"+'COVER SHEET'!$D$12","v":0},11530,{"$f":"'COVER SHEET'!$D$16&IF(MID('COVER SHEET'!$I$18,6,10)=\"december\",\"1231\",IF(MID('COVER SHEET'!$I$18,6,10)=\"june\",\"0630\"))","v":"20241231"},{"$f":"+'Outgoing Remittances (Value)'!G164","v":0}]
["CMREM_11530","NE",{"$f":"+'Outgoing Remittances (Value)'!$G$5","v":"20241130"},{"$f":"+'COVER SHEET'!$D$12","v":0},11530,{"$f":"'COVER SHEET'!$D$16&IF(MID('COVER SHEET'!$I$18,6,10)=\"december\",\"1231\",IF(MID('COVER SHEET'!$I$18,6,10)=\"june\",\"0630\"))","v":"20241231"},{"$f":"+'Outgoing Remittances (Value)'!G165","v":0}]
["CMREM_11530","NG",{"$f":"+'Outgoing Remittances (Value)'!$G$5","v":"20241130"},{"$f":"+'COVER SHEET'!$D$12","v":0},11530,{"$f":"'COVER SHEET'!$D$16&IF(MID('COVER SHEET'!$I$18,6,10)=\"december\",\"1231\",IF(MID('COVER SHEET'!$I$18,6,10)=\"june\",\"0630\"))","v":"20241231"},{"$f":"+'Outgoing Remittances (Value)'!G166","v":0}]
["CMREM_11530","NU",{"$f":"+'Outgoing Remittances (Value)'!$G$5","v":"20241130"},{"$f":"+'COVER SHEET'!$D$12","v":0},11530,{"$f":"'COVER SHEET'!$D$16&IF(MID('COVER SHEET'!$I$18,6,10)=\"december\",\"1231\",IF(MID('COVER SHEET'!$I$18,6,10)=\"june\",\"0630\"))","v":"20241231"},{"$f":"+'Outgoing Remittances (Value)'!G167","v":0}]
["CMREM_11530","NF",{"$f":"+'Outgoing Remittances (Value)'!$G$5","v":"20241130"},{"$f":"+'COVER SHEET'!$D$12","v":0},11530,{"$f":"'COVER SHEET'!$D$16&IF(MID('COVER SHEET'!$I$18,6,10)=\"december\",\"1231\",IF(MID('COVER SHEET'!$I$18,6,10)=\"june\",\"0630\"))","v":"20241231"},{"$f":"+'Outgoing Remittances (Value)'!G168","v":0}]
["CMREM_11530","MP",{"$f":"+'Outgoing Remittances (Value)'!$G$5","v":"20241130"},{"$f":"+'COVER SHEET'!$D$12","v":0},11530,{"$f":"'COVER SHEET'!$D$16&IF(MID('COVER SHEET'!$I$18,6,10)=\"december\",\"1231\",IF(MID('COVER SHEET'!$I$18,6,10)=\"june\",\"0630\"))","v":"20241231"},{"$f":"+'Outgoing Remittances (Value)'!G169","v":0}]
["CMREM_11530","NO",{"$f":"+'Outgoing Remittances (Value)'!$G$5","v":"20241130"},{"$f":"+'COVER SHEET'!$D$12","v":0},11530,{"$f":"'COVER SHEET'!$D$16&IF(MID('COVER SHEET'!$I$18,6,10)=\"december\",\"1231\",IF(MID('COVER SHEET'!$I$18,6,10)=\"june\",\"0630\"))","v":"20241231"},{"$f":"+'Outgoing Remittances (Value)'!G170","v":0}]
["CMREM_11530","OM",{"$f":"+'Outgoing Remittances (Value)'!$G$5","v":"20241130"},{"$f":"+'COVER SHEET'!$D$12","v":0},11530,{"$f":"'COVER SHEET'!$D$16&IF(MID('COVER SHEET'!$I$18,6,10)=\"december\",\"1231\",IF(MID('COVER SHEET'!$I$18,6,10)=\"june\",\"0630\"))","v":"20241231"},{"$f":"+'Outgoing Remittances (Value)'!G171","v":0}]
["CMREM_11530","PK",{"$f":"+'Outgoing Remittances (Value)'!$G$5","v":"20241130"},{"$f":"+'COVER SHEET'!$D$12","v":0},11530,{"$f":"'COVER SHEET'!$D$16&IF(MID('COVER SHEET'!$I$18,6,10)=\"december\",\"1231\",IF(MID('COVER SHEET'!$I$18,6,10)=\"june\",\"0630\"))","v":"20241231"},{"$f":"+'Outgoing Remittances (Value)'!G172","v":0}]
["CMREM_11530","PW",{"$f":"+'Outgoing Remittances (Value)'!$G$5","v":"20241130"},{"$f":"+'COVER SHEET'!$D$12","v":0},11530,{"$f":"'COVER SHEET'!$D$16&IF(MID('COVER SHEET'!$I$18,6,10)=\"december\",\"1231\",IF(MID('COVER SHEET'!$I$18,6,10)=\"june\",\"0630\"))","v":"20241231"},{"$f":"+'Outgoing Remittances (Value)'!G173","v":0}]
["CMREM_11530","PS",{"$f":"+'Outgoing Remittances (Value)'!$G$5","v":"20241130"},{"$f":"+'COVER SHEET'!$D$12","v":0},11530,{"$f":"'COVER SHEET'!$D$16&IF(MID('COVER SHEET'!$I$18,6,10)=\"december\",\"1231\",IF(MID('COVER SHEET'!$I$18,6,10)=\"june\",\"0630\"))","v":"20241231"},{"$f":"+'Outgoing Remittances (Value)'!G174","v":0}]
["CMREM_11530","PA",{"$f":"+'Outgoing Remittances (Value)'!$G$5","v":"20241130"},{"$f":"+'COVER SHEET'!$D$12","v":0},11530,{"$f":"'COVER SHEET'!$D$16&IF(MID('COVER SHEET'!$I$18,6,10)=\"december\",\"1231\",IF(MID('COVER SHEET'!$I$18,6,10)=\"june\",\"0630\"))","v":"20241231"},{"$f":"+'Outgoing Remittances (Value)'!G175","v":0}]
["CMREM_11530","PG",{"$f":"+'Outgoing Remittances (Value)'!$G$5","v":"20241130"},{"$f":"+'COVER SHEET'!$D$12","v":0},11530,{"$f":"'COVER SHEET'!$D$16&IF(MID('COVER SHEET'!$I$18,6,10)=\"december\",\"1231\",IF(MID('COVER SHEET'!$I$18,6,10)=\"june\",\"0630\"))","v":"20241231"},{"$f":"+'Outgoing Remittances (Value)'!G176","v":0}]
["CMREM_11530","PY",{"$f":"+'Outgoing Remittances (Value)'!$G$5","v":"20241130"},{"$f":"+'COVER SHEET'!$D$12","v":0},11530,{"$f":"'COVER SHEET'!$D$16&IF(MID('COVER SHEET'!$I$18,6,10)=\"december\",\"1231\",IF(MID('COVER SHEET'!$I$18,6,10)=\"june\",\"0630\"))","v":"20241231"},{"$f":"+'Outgoing Remittances (Value)'!G177","v":0}]
["CMREM_11530","PE",{"$f":"+'Outgoing Remittances (Value)'!$G$5","v":"20241130"},{"$f":"+'COVER SHEET'!$D$12","v":0},11530,{"$f":"'COVER SHEET'!$D$16&IF(MID('COVER SHEET'!$I$18,6,10)=\"december\",\"1231\",IF(MID('COVER SHEET'!$I$18,6,10)=\"june\",\"0630\"))","v":"20241231"},{"$f":"+'Outgoing Remittances (Value)'!G178","v":0}]
["CMREM_11530","PH",{"$f":"+'Outgoing Remittances (Value)'!$G$5","v":"20241130"},{"$f":"+'COVER SHEET'!$D$12","v":0},11530,{"$f":"'COVER SHEET'!$D$16&IF(MID('COVER SHEET'!$I$18,6,10)=\"december\",\"1231\",IF(MID('COVER SHEET'!$I$18,6,10)=\"june\",\"0630\"))","v":"20241231"},{"$f":"+'Outgoing Remittances (Value)'!G179","v":0}]
["CMREM_11530","PN",{"$f":"+'Outgoing Remittances (Value)'!$G$5","v":"20241130"},{"$f":"+'COVER SHEET'!$D$12","v":0},11530,{"$f":"'COVER SHEET'!$D$16&IF(MID('COVER SHEET'!$I$18,6,10)=\"december\",\"1231\",IF(MID('COVER SHEET'!$I$18,6,10)=\"june\",\"0630\"))","v":"20241231"},{"$f":"+'Outgoing Remittances (Value)'!G180","v":0}]
["CMREM_11530","PL",{"$f":"+'Outgoing Remittances (Value)'!$G$5","v":"20241130"},{"$f":"+'COVER SHEET'!$D$12","v":0},11530,{"$f":"'COVER SHEET'!$D$16&IF(MID('COVER SHEET'!$I$18,6,10)=\"december\",\"1231\",IF(MID('COVER SHEET'!$I$18,6,10)=\"june\",\"0630\"))","v":"20241231"},{"$f":"+'Outgoing Remittances (Value)'!G181","v":0}]
["CMREM_11530","PT",{"$f":"+'Outgoing Remittances (Value)'!$G$5","v":"20241130"},{"$f":"+'COVER SHEET'!$D$12","v":0},11530,{"$f":"'COVER SHEET'!$D$16&IF(MID('COVER SHEET'!$I$18,6,10)=\"december\",\"1231\",IF(MID('COVER SHEET'!$I$18,6,10)=\"june\",\"0630\"))","v":"20241231"},{"$f":"+'Outgoing Remittances (Value)'!G182","v":0}]
["CMREM_11530","QA",{"$f":"+'Outgoing Remittances (Value)'!$G$5","v":"20241130"},{"$f":"+'COVER SHEET'!$D$12","v":0},11530,{"$f":"'COVER SHEET'!$D$16&IF(MID('COVER SHEET'!$I$18,6,10)=\"december\",\"1231\",IF(MID('COVER SHEET'!$I$18,6,10)=\"june\",\"0630\"))","v":"20241231"},{"$f":"+'Outgoing Remittances (Value)'!G183","v":0}]
["CMREM_11530","RO",{"$f":"+'Outgoing Remittances (Value)'!$G$5","v":"20241130"},{"$f":"+'COVER SHEET'!$D$12","v":0},11530,{"$f":"'COVER SHEET'!$D$16&IF(MID('COVER SHEET'!$I$18,6,10)=\"december\",\"1231\",IF(MID('COVER SHEET'!$I$18,6,10)=\"june\",\"0630\"))","v":"20241231"},{"$f":"+'Outgoing Remittances (Value)'!G184","v":0}]
["CMREM_11530","RU",{"$f":"+'Outgoing Remittances (Value)'!$G$5","v":"20241130"},{"$f":"+'COVER SHEET'!$D$12","v":0},11530,{"$f":"'COVER SHEET'!$D$16&IF(MID('COVER SHEET'!$I$18,6,10)=\"december\",\"1231\",IF(MID('COVER SHEET'!$I$18,6,10)=\"june\",\"0630\"))","v":"20241231"},{"$f":"+'Outgoing Remittances (Value)'!G185","v":0}]
["CMREM_11530","RW",{"$f":"+'Outgoing Remittances (Value)'!$G$5","v":"20241130"},{"$f":"+'COVER SHEET'!$D$12","v":0},11530,{"$f":"'COVER SHEET'!$D$16&IF(MID('COVER SHEET'!$I$18,6,10)=\"december\",\"1231\",IF(MID('COVER SHEET'!$I$18,6,10)=\"june\",\"0630\"))","v":"20241231"},{"$f":"+'Outgoing Remittances (Value)'!G186","v":0}]
["CMREM_11530","SH",{"$f":"+'Outgoing Remittances (Value)'!$G$5","v":"20241130"},{"$f":"+'COVER SHEET'!$D$12","v":0},11530,{"$f":"'COVER SHEET'!$D$16&IF(MID('COVER SHEET'!$I$18,6,10)=\"december\",\"1231\",IF(MID('COVER SHEET'!$I$18,6,10)=\"june\",\"0630\"))","v":"20241231"},{"$f":"+'Outgoing Remittances (Value)'!G187","v":0}]
["CMREM_11530","KN",{"$f":"+'Outgoing Remittances (Value)'!$G$5","v":"20241130"},{"$f":"+'COVER SHEET'!$D$12","v":0},11530,{"$f":"'COVER SHEET'!$D$16&IF(MID('COVER SHEET'!$I$18,6,10)=\"december\",\"1231\",IF(MID('COVER SHEET'!$I$18,6,10)=\"june\",\"0630\"))","v":"20241231"},{"$f":"+'Outgoing Remittances (Value)'!G188","v":0}]
["CMREM_11530","LC",{"$f":"+'Outgoing Remittances (Value)'!$G$5","v":"20241130"},{"$f":"+'COVER SHEET'!$D$12","v":0},11530,{"$f":"'COVER SHEET'!$D$16&IF(MID('COVER SHEET'!$I$18,6,10)=\"december\",\"1231\",IF(MID('COVER SHEET'!$I$18,6,10)=\"june\",\"0630\"))","v":"20241231"},{"$f":"+'Outgoing Remittances (Value)'!G189","v":0}]
["CMREM_11530","VC",{"$f":"+'Outgoing Remittances (Value)'!$G$5","v":"20241130"},{"$f":"+'COVER SHEET'!$D$12","v":0},11530,{"$f":"'COVER SHEET'!$D$16&IF(MID('COVER SHEET'!$I$18,6,10)=\"december\",\"1231\",IF(MID('COVER SHEET'!$I$18,6,10)=\"june\",\"0630\"))","v":"20241231"},{"$f":"+'Outgoing Remittances (Value)'!G190","v":0}]
["CMREM_11530","WS",{"$f":"+'Outgoing Remittances (Value)'!$G$5","v":"20241130"},{"$f":"+'COVER SHEET'!$D$12","v":0},11530,{"$f":"'COVER SHEET'!$D$16&IF(MID('COVER SHEET'!$I$18,6,10)=\"december\",\"1231\",IF(MID('COVER SHEET'!$I$18,6,10)=\"june\",\"0630\"))","v":"20241231"},{"$f":"+'Outgoing Remittances (Value)'!G191","v":0}]
["CMREM_11530","SM",{"$f":"+'Outgoing Remittances (Value)'!$G$5","v":"20241130"},{"$f":"+'COVER SHEET'!$D$12","v":0},11530,{"$f":"'COVER SHEET'!$D$16&IF(MID('COVER SHEET'!$I$18,6,10)=\"december\",\"1231\",IF(MID('COVER SHEET'!$I$18,6,10)=\"june\",\"0630\"))","v":"20241231"},{"$f":"+'Outgoing Remittances (Value)'!G192","v":0}]
["CMREM_11530","ST",{"$f":"+'Outgoing Remittances (Value)'!$G$5","v":"20241130"},{"$f":"+'COVER SHEET'!$D$12","v":0},11530,{"$f":"'COVER SHEET'!$D$16&IF(MID('COVER SHEET'!$I$18,6,10)=\"december\",\"1231\",IF(MID('COVER SHEET'!$I$18,6,10)=\"june\",\"0630\"))","v":"20241231"},{"$f":"+'Outgoing Remittances (Value)'!G193","v":0}]
["CMREM_11530","SA",{"$f":"+'Outgoing Remittances (Value)'!$G$5","v":"20241130"},{"$f":"+'COVER SHEET'!$D$12","v":0},11530,{"$f":"'COVER SHEET'!$D$16&IF(MID('COVER SHEET'!$I$18,6,10)=\"december\",\"1231\",IF(MID('COVER SHEET'!$I$18,6,10)=\"june\",\"0630\"))","v":"20241231"},{"$f":"+'Outgoing Remittances (Value)'!G194","v":0}]
["CMREM_11530","SN",{"$f":"+'Outgoing Remittances (Value)'!$G$5","v":"20241130"},{"$f":"+'COVER SHEET'!$D$12","v":0},11530,{"$f":"'COVER SHEET'!$D$16&IF(MID('COVER SHEET'!$I$18,6,10)=\"december\",\"1231\",IF(MID('COVER SHEET'!$I$18,6,10)=\"june\",\"0630\"))","v":"20241231"},{"$f":"+'Outgoing Remittances (Value)'!G195","v":0}]
["CMREM_11530","RS",{"$f":"+'Outgoing Remittances (Value)'!$G$5","v":"20241130"},{"$f":"+'COVER SHEET'!$D$12","v":0},11530,{"$f":"'COVER SHEET'!$D$16&IF(MID('COVER SHEET'!$I$18,6,10)=\"december\",\"1231\",IF(MID('COVER SHEET'!$I$18,6,10)=\"june\",\"0630\"))","v":"20241231"},{"$f":"+'Outgoing Remittances (Value)'!G196","v":0}]
["CMREM_11530","SC",{"$f":"+'Outgoing Remittances (Value)'!$G$5","v":"20241130"},{"$f":"+'COVER SHEET'!$D$12","v":0},11530,{"$f":"'COVER SHEET'!$D$16&IF(MID('COVER SHEET'!$I$18,6,10)=\"december\",\"1231\",IF(MID('COVER SHEET'!$I$18,6,10)=\"june\",\"0630\"))","v":"20241231"},{"$f":"+'Outgoing Remittances (Value)'!G197","v":0}]
["CMREM_11530","SL",{"$f":"+'Outgoing Remittances (Value)'!$G$5","v":"20241130"},{"$f":"+'COVER SHEET'!$D$12","v":0},11530,{"$f":"'COVER SHEET'!$D$16&IF(MID('COVER SHEET'!$I$18,6,10)=\"december\",\"1231\",IF(MID('COVER SHEET'!$I$18,6,10)=\"june\",\"0630\"))","v":"20241231"},{"$f":"+'Outgoing Remittances (Value)'!G198","v":0}]
["CMREM_11530","SG",{"$f":"+'Outgoing Remittances (Value)'!$G$5","v":"20241130"},{"$f":"+'COVER SHEET'!$D$12","v":0},11530,{"$f":"'COVER SHEET'!$D$16&IF(MID('COVER SHEET'!$I$18,6,10)=\"december\",\"1231\",IF(MID('COVER SHEET'!$I$18,6,10)=\"june\",\"0630\"))","v":"20241231"},{"$f":"+'Outgoing Remittances (Value)'!G199","v":0}]
["CMREM_11530","SX",{"$f":"+'Outgoing Remittances (Value)'!$G$5","v":"20241130"},{"$f":"+'COVER SHEET'!$D$12","v":0},11530,{"$f":"'COVER SHEET'!$D$16&IF(MID('COVER SHEET'!$I$18,6,10)=\"december\",\"1231\",IF(MID('COVER SHEET'!$I$18,6,10)=\"june\",\"0630\"))","v":"20241231"},{"$f":"+'Outgoing Remittances (Value)'!G200","v":0}]
["CMREM_11530","SK",{"$f":"+'Outgoing Remittances (Value)'!$G$5","v":"20241130"},{"$f":"+'COVER SHEET'!$D$12","v":0},11530,{"$f":"'COVER SHEET'!$D$16&IF(MID('COVER SHEET'!$I$18,6,10)=\"december\",\"1231\",IF(MID('COVER SHEET'!$I$18,6,10)=\"june\",\"0630\"))","v":"20241231"},{"$f":"+'Outgoing Remittances (Value)'!G201","v":0}]
["CMREM_11530","SI",{"$f":"+'Outgoing Remittances (Value)'!$G$5","v":"20241130"},{"$f":"+'COVER SHEET'!$D$12","v":0},11530,{"$f":"'COVER SHEET'!$D$16&IF(MID('COVER SHEET'!$I$18,6,10)=\"december\",\"1231\",IF(MID('COVER SHEET'!$I$18,6,10)=\"june\",\"0630\"))","v":"20241231"},{"$f":"+'Outgoing Remittances (Value)'!G202","v":0}]
["CMREM_11530","SB",{"$f":"+'Outgoing Remittances (Value)'!$G$5","v":"20241130"},{"$f":"+'COVER SHEET'!$D$12","v":0},11530,{"$f":"'COVER SHEET'!$D$16&IF(MID('COVER SHEET'!$I$18,6,10)=\"december\",\"1231\",IF(MID('COVER SHEET'!$I$18,6,10)=\"june\",\"0630\"))","v":"20241231"},{"$f":"+'Outgoing Remittances (Value)'!G203","v":0}]
["CMREM_11530","SO",{"$f":"+'Outgoing Remittances (Value)'!$G$5","v":"20241130"},{"$f":"+'COVER SHEET'!$D$12","v":0},11530,{"$f":"'COVER SHEET'!$D$16&IF(MID('COVER SHEET'!$I$18,6,10)=\"december\",\"1231\",IF(MID('COVER SHEET'!$I$18,6,10)=\"june\",\"0630\"))","v":"20241231"},{"$f":"+'Outgoing Remittances (Value)'!G204","v":0}]
["CMREM_11530","ZA",{"$f":"+'Outgoing Remittances (Value)'!$G$5","v":"20241130"},{"$f":"+'COVER SHEET'!$D$12","v":0},11530,{"$f":"'COVER SHEET'!$D$16&IF(MID('COVER SHEET'!$I$18,6,10)=\"december\",\"1231\",IF(MID('COVER SHEET'!$I$18,6,10)=\"june\",\"0630\"))","v":"20241231"},{"$f":"+'Outgoing Remittances (Value)'!G205","v":0}]
["CMREM_11530","GS",{"$f":"+'Outgoing Remittances (Value)'!$G$5","v":"20241130"},{"$f":"+'COVER SHEET'!$D$12","v":0},11530,{"$f":"'COVER SHEET'!$D$16&IF(MID('COVER SHEET'!$I$18,6,10)=\"december\",\"1231\",IF(MID('COVER SHEET'!$I$18,6,10)=\"june\",\"0630\"))","v":"20241231"},{"$f":"+'Outgoing Remittances (Value)'!G206","v":0}]
["CMREM_11530","SS",{"$f":"+'Outgoing Remittances (Value)'!$G$5","v":"20241130"},{"$f":"+'COVER SHEET'!$D$12","v":0},11530,{"$f":"'COVER SHEET'!$D$16&IF(MID('COVER SHEET'!$I$18,6,10)=\"december\",\"1231\",IF(MID('COVER SHEET'!$I$18,6,10)=\"june\",\"0630\"))","v":"20241231"},{"$f":"+'Outgoing Remittances (Value)'!G207","v":0}]
["CMREM_11530","ES",{"$f":"+'Outgoing Remittances (Value)'!$G$5","v":"20241130"},{"$f":"+'COVER SHEET'!$D$12","v":0},11530,{"$f":"'COVER SHEET'!$D$16&IF(MID('COVER SHEET'!$I$18,6,10)=\"december\",\"1231\",IF(MID('COVER SHEET'!$I$18,6,10)=\"june\",\"0630\"))","v":"20241231"},{"$f":"+'Outgoing Remittances (Value)'!G208","v":0}]
["CMREM_11530","LK",{"$f":"+'Outgoing Remittances (Value)'!$G$5","v":"20241130"},{"$f":"+'COVER SHEET'!$D$12","v":0},11530,{"$f":"'COVER SHEET'!$D$16&IF(MID('COVER SHEET'!$I$18,6,10)=\"december\",\"1231\",IF(MID('COVER SHEET'!$I$18,6,10)=\"june\",\"0630\"))","v":"20241231"},{"$f":"+'Outgoing Remittances (Value)'!G209","v":0}]
["CMREM_11530","SD",{"$f":"+'Outgoing Remittances (Value)'!$G$5","v":"20241130"},{"$f":"+'COVER SHEET'!$D$12","v":0},11530,{"$f":"'COVER SHEET'!$D$16&IF(MID('COVER SHEET'!$I$18,6,10)=\"december\",\"1231\",IF(MID('COVER SHEET'!$I$18,6,10)=\"june\",\"0630\"))","v":"20241231"},{"$f":"+'Outgoing Remittances (Value)'!G210","v":0}]
["CMREM_11530","SR",{"$f":"+'Outgoing Remittances (Value)'!$G$5","v":"20241130"},{"$f":"+'COVER SHEET'!$D$12","v":0},11530,{"$f":"'COVER SHEET'!$D$16&IF(MID('COVER SHEET'!$I$18,6,10)=\"december\",\"1231\",IF(MID('COVER SHEET'!$I$18,6,10)=\"june\",\"0630\"))","v":"20241231"},{"$f":"+'Outgoing Remittances (Value)'!G211","v":0}]
["CMREM_11530","SZ",{"$f":"+'Outgoing Remittances (Value)'!$G$5","v":"20241130"},{"$f":"+'COVER SHEET'!$D$12","v":0},11530,{"$f":"'COVER SHEET'!$D$16&IF(MID('COVER SHEET'!$I$18,6,10)=\"december\",\"1231\",IF(MID('COVER SHEET'!$I$18,6,10)=\"june\",\"0630\"))","v":"20241231"},{"$f":"+'Outgoing Remittances (Value)'!G212","v":0}]
["CMREM_11530","SE",{"$f":"+'Outgoing Remittances (Value)'!$G$5","v":"20241130"},{"$f":"+'COVER SHEET'!$D$12","v":0},11530,{"$f":"'COVER SHEET'!$D$16&IF(MID('COVER SHEET'!$I$18,6,10)=\"december\",\"1231\",IF(MID('COVER SHEET'!$I$18,6,10)=\"june\",\"0630\"))","v":"20241231"},{"$f":"+'Outgoing Remittances (Value)'!G213","v":0}]
["CMREM_11530","CH",{"$f":"+'Outgoing Remittances (Value)'!$G$5","v":"20241130"},{"$f":"+'COVER SHEET'!$D$12","v":0},11530,{"$f":"'COVER SHEET'!$D$16&IF(MID('COVER SHEET'!$I$18,6,10)=\"december\",\"1231\",IF(MID('COVER SHEET'!$I$18,6,10)=\"june\",\"0630\"))","v":"20241231"},{"$f":"+'Outgoing Remittances (Value)'!G214","v":0}]
["CMREM_11530","SY",{"$f":"+'Outgoing Remittances (Value)'!$G$5","v":"20241130"},{"$f":"+'COVER SHEET'!$D$12","v":0},11530,{"$f":"'COVER SHEET'!$D$16&IF(MID('COVER SHEET'!$I$18,6,10)=\"december\",\"1231\",IF(MID('COVER SHEET'!$I$18,6,10)=\"june\",\"0630\"))","v":"20241231"},{"$f":"+'Outgoing Remittances (Value)'!G215","v":0}]
["CMREM_11530","TW",{"$f":"+'Outgoing Remittances (Value)'!$G$5","v":"20241130"},{"$f":"+'COVER SHEET'!$D$12","v":0},11530,{"$f":"'COVER SHEET'!$D$16&IF(MID('COVER SHEET'!$I$18,6,10)=\"december\",\"1231\",IF(MID('COVER SHEET'!$I$18,6,10)=\"june\",\"0630\"))","v":"20241231"},{"$f":"+'Outgoing Remittances (Value)'!G216","v":0}]
["CMREM_11530","TJ",{"$f":"+'Outgoing Remittances (Value)'!$G$5","v":"20241130"},{"$f":"+'COVER SHEET'!$D$12","v":0},11530,{"$f":"'COVER SHEET'!$D$16&IF(MID('COVER SHEET'!$I$18,6,10)=\"december\",\"1231\",IF(MID('COVER SHEET'!$I$18,6,10)=\"june\",\"0630\"))","v":"20241231"},{"$f":"+'Outgoing Remittances (Value)'!G217","v":0}]
["CMREM_11530","TZ",{"$f":"+'Outgoing Remittances (Value)'!$G$5","v":"20241130"},{"$f":"+'COVER SHEET'!$D$12","v":0},11530,{"$f":"'COVER SHEET'!$D$16&IF(MID('COVER SHEET'!$I$18,6,10)=\"december\",\"1231\",IF(MID('COVER SHEET'!$I$18,6,10)=\"june\",\"0630\"))","v":"20241231"},{"$f":"+'Outgoing Remittances (Value)'!G218","v":0}]
["CMREM_11530","TH",{"$f":"+'Outgoing Remittances (Value)'!$G$5","v":"20241130"},{"$f":"+'COVER SHEET'!$D$12","v":0},11530,{"$f":"'COVER SHEET'!$D$16&IF(MID('COVER SHEET'!$I$18,6,10)=\"december\",\"1231\",IF(MID('COVER SHEET'!$I$18,6,10)=\"june\",\"0630\"))","v":"20241231"},{"$f":"+'Outgoing Remittances (Value)'!G219","v":0}]
["CMREM_11530","TG",{"$f":"+'Outgoing Remittances (Value)'!$G$5","v":"20241130"},{"$f":"+'COVER SHEET'!$D$12","v":0},11530,{"$f":"'COVER SHEET'!$D$16&IF(MID('COVER SHEET'!$I$18,6,10)=\"december\",\"1231\",IF(MID('COVER SHEET'!$I$18,6,10)=\"june\",\"0630\"))","v":"20241231"},{"$f":"+'Outgoing Remittances (Value)'!G220","v":0}]
["CMREM_11530","TK",{"$f":"+'Outgoing Remittances (Value)'!$G$5","v":"20241130"},{"$f":"+'COVER SHEET'!$D$12","v":0},11530,{"$f":"'COVER SHEET'!$D$16&IF(MID('COVER SHEET'!$I$18,6,10)=\"december\",\"1231\",IF(MID('COVER SHEET'!$I$18,6,10)=\"june\",\"0630\"))","v":"20241231"},{"$f":"+'Outgoing Remittances (Value)'!G221","v":0}]
["CMREM_11530","TO",{"$f":"+'Outgoing Remittances (Value)'!$G$5","v":"20241130"},{"$f":"+'COVER SHEET'!$D$12","v":0},11530,{"$f":"'COVER SHEET'!$D$16&IF(MID('COVER SHEET'!$I$18,6,10)=\"december\",\"1231\",IF(MID('COVER SHEET'!$I$18,6,10)=\"june\",\"0630\"))","v":"20241231"},{"$f":"+'Outgoing Remittances (Value)'!G222","v":0}]
["CMREM_11530","TT",{"$f":"+'Outgoing Remittances (Value)'!$G$5","v":"20241130"},{"$f":"+'COVER SHEET'!$D$12","v":0},11530,{"$f":"'COVER SHEET'!$D$16&IF(MID('COVER SHEET'!$I$18,6,10)=\"december\",\"1231\",IF(MID('COVER SHEET'!$I$18,6,10)=\"june\",\"0630\"))","v":"20241231"},{"$f":"+'Outgoing Remittances (Value)'!G223","v":0}]
["CMREM_11530","TN",{"$f":"+'Outgoing Remittances (Value)'!$G$5","v":"20241130"},{"$f":"+'COVER SHEET'!$D$12","v":0},11530,{"$f":"'COVER SHEET'!$D$16&IF(MID('COVER SHEET'!$I$18,6,10)=\"december\",\"1231\",IF(MID('COVER SHEET'!$I$18,6,10)=\"june\",\"0630\"))","v":"20241231"},{"$f":"+'Outgoing Remittances (Value)'!G224","v":0}]
["CMREM_11530","TR",{"$f":"+'Outgoing Remittances (Value)'!$G$5","v":"20241130"},{"$f":"+'COVER SHEET'!$D$12","v":0},11530,{"$f":"'COVER SHEET'!$D$16&IF(MID('COVER SHEET'!$I$18,6,10)=\"december\",\"1231\",IF(MID('COVER SHEET'!$I$18,6,10)=\"june\",\"0630\"))","v":"20241231"},{"$f":"+'Outgoing Remittances (Value)'!G225","v":0}]
["CMREM_11530","TM",{"$f":"+'Outgoing Remittances (Value)'!$G$5","v":"20241130"},{"$f":"+'COVER SHEET'!$D$12","v":0},11530,{"$f":"'COVER SHEET'!$D$16&IF(MID('COVER SHEET'!$I$18,6,10)=\"december\",\"1231\",IF(MID('COVER SHEET'!$I$18,6,10)=\"june\",\"0630\"))","v":"20241231"},{"$f":"+'Outgoing Remittances (Value)'!G226","v":0}]
["CMREM_11530","TC",{"$f":"+'Outgoing Remittances (Value)'!$G$5","v":"20241130"},{"$f":"+'COVER SHEET'!$D$12","v":0},11530,{"$f":"'COVER SHEET'!$D$16&IF(MID('COVER SHEET'!$I$18,6,10)=\"december\",\"1231\",IF(MID('COVER SHEET'!$I$18,6,10)=\"june\",\"0630\"))","v":"20241231"},{"$f":"+'Outgoing Remittances (Value)'!G227","v":0}]
["CMREM_11530","TV",{"$f":"+'Outgoing Remittances (Value)'!$G$5","v":"20241130"},{"$f":"+'COVER SHEET'!$D$12","v":0},11530,{"$f":"'COVER SHEET'!$D$16&IF(MID('COVER SHEET'!$I$18,6,10)=\"december\",\"1231\",IF(MID('COVER SHEET'!$I$18,6,10)=\"june\",\"0630\"))","v":"20241231"},{"$f":"+'Outgoing Remittances (Value)'!G228","v":0}]
["CMREM_11530","UG",{"$f":"+'Outgoing Remittances (Value)'!$G$5","v":"20241130"},{"$f":"+'COVER SHEET'!$D$12","v":0},11530,{"$f":"'COVER SHEET'!$D$16&IF(MID('COVER SHEET'!$I$18,6,10)=\"december\",\"1231\",IF(MID('COVER SHEET'!$I$18,6,10)=\"june\",\"0630\"))","v":"20241231"},{"$f":"+'Outgoing Remittances (Value)'!G229","v":0}]
["CMREM_11530","UA",{"$f":"+'Outgoing Remittances (Value)'!$G$5","v":"20241130"},{"$f":"+'COVER SHEET'!$D$12","v":0},11530,{"$f":"'COVER SHEET'!$D$16&IF(MID('COVER SHEET'!$I$18,6,10)=\"december\",\"1231\",IF(MID('COVER SHEET'!$I$18,6,10)=\"june\",\"0630\"))","v":"20241231"},{"$f":"+'Outgoing Remittances (Value)'!G230","v":0}]
["CMREM_11530","AE",{"$f":"+'Outgoing Remittances (Value)'!$G$5","v":"20241130"},{"$f":"+'COVER SHEET'!$D$12","v":0},11530,{"$f":"'COVER SHEET'!$D$16&IF(MID('COVER SHEET'!$I$18,6,10)=\"december\",\"1231\",IF(MID('COVER SHEET'!$I$18,6,10)=\"june\",\"0630\"))","v":"20241231"},{"$f":"+'Outgoing Remittances (Value)'!G231","v":0}]
["CMREM_11530","GB",{"$f":"+'Outgoing Remittances (Value)'!$G$5","v":"20241130"},{"$f":"+'COVER SHEET'!$D$12","v":0},11530,{"$f":"'COVER SHEET'!$D$16&IF(MID('COVER SHEET'!$I$18,6,10)=\"december\",\"1231\",IF(MID('COVER SHEET'!$I$18,6,10)=\"june\",\"0630\"))","v":"20241231"},{"$f":"+'Outgoing Remittances (Value)'!G232","v":0}]
["CMREM_11530","US",{"$f":"+'Outgoing Remittances (Value)'!$G$5","v":"20241130"},{"$f":"+'COVER SHEET'!$D$12","v":0},11530,{"$f":"'COVER SHEET'!$D$16&IF(MID('COVER SHEET'!$I$18,6,10)=\"december\",\"1231\",IF(MID('COVER SHEET'!$I$18,6,10)=\"june\",\"0630\"))","v":"20241231"},{"$f":"+'Outgoing Remittances (Value)'!G233","v":0}]
["CMREM_11530","UY",{"$f":"+'Outgoing Remittances (Value)'!$G$5","v":"20241130"},{"$f":"+'COVER SHEET'!$D$12","v":0},11530,{"$f":"'COVER SHEET'!$D$16&IF(MID('COVER SHEET'!$I$18,6,10)=\"december\",\"1231\",IF(MID('COVER SHEET'!$I$18,6,10)=\"june\",\"0630\"))","v":"20241231"},{"$f":"+'Outgoing Remittances (Value)'!G234","v":0}]
["CMREM_11530","UM",{"$f":"+'Outgoing Remittances (Value)'!$G$5","v":"20241130"},{"$f":"+'COVER SHEET'!$D$12","v":0},11530,{"$f":"'COVER SHEET'!$D$16&IF(MID('COVER SHEET'!$I$18,6,10)=\"december\",\"1231\",IF(MID('COVER SHEET'!$I$18,6,10)=\"june\",\"0630\"))","v":"20241231"},{"$f":"+'Outgoing Remittances (Value)'!G235","v":0}]
["CMREM_11530","UZ",{"$f":"+'Outgoing Remittances (Value)'!$G$5","v":"20241130"},{"$f":"+'COVER SHEET'!$D$12","v":0},11530,{"$f":"'COVER SHEET'!$D$16&IF(MID('COVER SHEET'!$I$18,6,10)=\"december\",\"1231\",IF(MID('COVER SHEET'!$I$18,6,10)=\"june\",\"0630\"))","v":"20241231"},{"$f":"+'Outgoing Remittances (Value)'!G236","v":0}]
["CMREM_11530","VU",{"$f":"+'Outgoing Remittances (Value)'!$G$5","v":"20241130"},{"$f":"+'COVER SHEET'!$D$12","v":0},11530,{"$f":"'COVER SHEET'!$D$16&IF(MID('COVER SHEET'!$I$18,6,10)=\"december\",\"1231\",IF(MID('COVER SHEET'!$I$18,6,10)=\"june\",\"0630\"))","v":"20241231"},{"$f":"+'Outgoing Remittances (Value)'!G237","v":0}]
["CMREM_11530","VE",{"$f":"+'Outgoing Remittances (Value)'!$G$5","v":"20241130"},{"$f":"+'COVER SHEET'!$D$12","v":0},11530,{"$f":"'COVER SHEET'!$D$16&IF(MID('COVER SHEET'!$I$18,6,10)=\"december\",\"1231\",IF(MID('COVER SHEET'!$I$18,6,10)=\"june\",\"0630\"))","v":"20241231"},{"$f":"+'Outgoing Remittances (Value)'!G238","v":0}]
["CMREM_11530","VN",{"$f":"+'Outgoing Remittances (Value)'!$G$5","v":"20241130"},{"$f":"+'COVER SHEET'!$D$12","v":0},11530,{"$f":"'COVER SHEET'!$D$16&IF(MID('COVER SHEET'!$I$18,6,10)=\"december\",\"1231\",IF(MID('COVER SHEET'!$I$18,6,10)=\"june\",\"0630\"))","v":"20241231"},{"$f":"+'Outgoing Remittances (Value)'!G239","v":0}]
["CMREM_11530","VI",{"$f":"+'Outgoing Remittances (Value)'!$G$5","v":"20241130"},{"$f":"+'COVER SHEET'!$D$12","v":0},11530,{"$f":"'COVER SHEET'!$D$16&IF(MID('COVER SHEET'!$I$18,6,10)=\"december\",\"1231\",IF(MID('COVER SHEET'!$I$18,6,10)=\"june\",\"0630\"))","v":"20241231"},{"$f":"+'Outgoing Remittances (Value)'!G240","v":0}]
["CMREM_11530","WF",{"$f":"+'Outgoing Remittances (Value)'!$G$5","v":"20241130"},{"$f":"+'COVER SHEET'!$D$12","v":0},11530,{"$f":"'COVER SHEET'!$D$16&IF(MID('COVER SHEET'!$I$18,6,10)=\"december\",\"1231\",IF(MID('COVER SHEET'!$I$18,6,10)=\"june\",\"0630\"))","v":"20241231"},{"$f":"+'Outgoing Remittances (Value)'!G241","v":0}]
["CMREM_11530","YE",{"$f":"+'Outgoing Remittances (Value)'!$G$5","v":"20241130"},{"$f":"+'COVER SHEET'!$D$12","v":0},11530,{"$f":"'COVER SHEET'!$D$16&IF(MID('COVER SHEET'!$I$18,6,10)=\"december\",\"1231\",IF(MID('COVER SHEET'!$I$18,6,10)=\"june\",\"0630\"))","v":"20241231"},{"$f":"+'Outgoing Remittances (Value)'!G242","v":0}]
["CMREM_11530","ZM",{"$f":"+'Outgoing Remittances (Value)'!$G$5","v":"20241130"},{"$f":"+'COVER SHEET'!$D$12","v":0},11530,{"$f":"'COVER SHEET'!$D$16&IF(MID('COVER SHEET'!$I$18,6,10)=\"december\",\"1231\",IF(MID('COVER SHEET'!$I$18,6,10)=\"june\",\"0630\"))","v":"20241231"},{"$f":"+'Outgoing Remittances (Value)'!G243","v":0}]
["CMREM_11530","ZW",{"$f":"+'Outgoing Remittances (Value)'!$G$5","v":"20241130"},{"$f":"+'COVER SHEET'!$D$12","v":0},11530,{"$f":"'COVER SHEET'!$D$16&IF(MID('COVER SHEET'!$I$18,6,10)=\"december\",\"1231\",IF(MID('COVER SHEET'!$I$18,6,10)=\"june\",\"0630\"))","v":"20241231"},{"$f":"+'Outgoing Remittances (Value)'!G244","v":0}]
["CMREM_11500","AF",{"$f":"+'Incoming Remittances (Volume)'!$I$5","v":"20241231"},{"$f":"+'COVER SHEET'!$D$12","v":0},11500,{"$f":"'COVER SHEET'!$D$16&IF(MID('COVER SHEET'!$I$18,6,10)=\"december\",\"1231\",IF(MID('COVER SHEET'!$I$18,6,10)=\"june\",\"0630\"))","v":"20241231"},{"$f":"+'Incoming Remittances (Volume)'!I9","v":0}]
["CMREM_11500","AL",{"$f":"+'Incoming Remittances (Volume)'!$I$5","v":"20241231"},{"$f":"+'COVER SHEET'!$D$12","v":0},11500,{"$f":"'COVER SHEET'!$D$16&IF(MID('COVER SHEET'!$I$18,6,10)=\"december\",\"1231\",IF(MID('COVER SHEET'!$I$18,6,10)=\"june\",\"0630\"))","v":"20241231"},{"$f":"+'Incoming Remittances (Volume)'!I10","v":0}]
["CMREM_11500","DZ",{"$f":"+'Incoming Remittances (Volume)'!$I$5","v":"20241231"},{"$f":"+'COVER SHEET'!$D$12","v":0},11500,{"$f":"'COVER SHEET'!$D$16&IF(MID('COVER SHEET'!$I$18,6,10)=\"december\",\"1231\",IF(MID('COVER SHEET'!$I$18,6,10)=\"june\",\"0630\"))","v":"20241231"},{"$f":"+'Incoming Remittances (Volume)'!I11","v":0}]
["CMREM_11500","AS",{"$f":"+'Incoming Remittances (Volume)'!$I$5","v":"20241231"},{"$f":"+'COVER SHEET'!$D$12","v":0},11500,{"$f":"'COVER SHEET'!$D$16&IF(MID('COVER SHEET'!$I$18,6,10)=\"december\",\"1231\",IF(MID('COVER SHEET'!$I$18,6,10)=\"june\",\"0630\"))","v":"20241231"},{"$f":"+'Incoming Remittances (Volume)'!I12","v":0}]
["CMREM_11500","AD",{"$f":"+'Incoming Remittances (Volume)'!$I$5","v":"20241231"},{"$f":"+'COVER SHEET'!$D$12","v":0},11500,{"$f":"'COVER SHEET'!$D$16&IF(MID('COVER SHEET'!$I$18,6,10)=\"december\",\"1231\",IF(MID('COVER SHEET'!$I$18,6,10)=\"june\",\"0630\"))","v":"20241231"},{"$f":"+'Incoming Remittances (Volume)'!I13","v":0}]
["CMREM_11500","AO",{"$f":"+'Incoming Remittances (Volume)'!$I$5","v":"20241231"},{"$f":"+'COVER SHEET'!$D$12","v":0},11500,{"$f":"'COVER SHEET'!$D$16&IF(MID('COVER SHEET'!$I$18,6,10)=\"december\",\"1231\",IF(MID('COVER SHEET'!$I$18,6,10)=\"june\",\"0630\"))","v":"20241231"},{"$f":"+'Incoming Remittances (Volume)'!I14","v":0}]
["CMREM_11500","AI",{"$f":"+'Incoming Remittances (Volume)'!$I$5","v":"20241231"},{"$f":"+'COVER SHEET'!$D$12","v":0},11500,{"$f":"'COVER SHEET'!$D$16&IF(MID('COVER SHEET'!$I$18,6,10)=\"december\",\"1231\",IF(MID('COVER SHEET'!$I$18,6,10)=\"june\",\"0630\"))","v":"20241231"},{"$f":"+'Incoming Remittances (Volume)'!I15","v":0}]
["CMREM_11500","AQ",{"$f":"+'Incoming Remittances (Volume)'!$I$5","v":"20241231"},{"$f":"+'COVER SHEET'!$D$12","v":0},11500,{"$f":"'COVER SHEET'!$D$16&IF(MID('COVER SHEET'!$I$18,6,10)=\"december\",\"1231\",IF(MID('COVER SHEET'!$I$18,6,10)=\"june\",\"0630\"))","v":"20241231"},{"$f":"+'Incoming Remittances (Volume)'!I16","v":0}]
["CMREM_11500","AG",{"$f":"+'Incoming Remittances (Volume)'!$I$5","v":"20241231"},{"$f":"+'COVER SHEET'!$D$12","v":0},11500,{"$f":"'COVER SHEET'!$D$16&IF(MID('COVER SHEET'!$I$18,6,10)=\"december\",\"1231\",IF(MID('COVER SHEET'!$I$18,6,10)=\"june\",\"0630\"))","v":"20241231"},{"$f":"+'Incoming Remittances (Volume)'!I17","v":0}]
["CMREM_11500","AR",{"$f":"+'Incoming Remittances (Volume)'!$I$5","v":"20241231"},{"$f":"+'COVER SHEET'!$D$12","v":0},11500,{"$f":"'COVER SHEET'!$D$16&IF(MID('COVER SHEET'!$I$18,6,10)=\"december\",\"1231\",IF(MID('COVER SHEET'!$I$18,6,10)=\"june\",\"0630\"))","v":"20241231"},{"$f":"+'Incoming Remittances (Volume)'!I18","v":0}]
["CMREM_11500","AM",{"$f":"+'Incoming Remittances (Volume)'!$I$5","v":"20241231"},{"$f":"+'COVER SHEET'!$D$12","v":0},11500,{"$f":"'COVER SHEET'!$D$16&IF(MID('COVER SHEET'!$I$18,6,10)=\"december\",\"1231\",IF(MID('COVER SHEET'!$I$18,6,10)=\"june\",\"0630\"))","v":"20241231"},{"$f":"+'Incoming Remittances (Volume)'!I19","v":0}]
["CMREM_11500","AW",{"$f":"+'Incoming Remittances (Volume)'!$I$5","v":"20241231"},{"$f":"+'COVER SHEET'!$D$12","v":0},11500,{"$f":"'COVER SHEET'!$D$16&IF(MID('COVER SHEET'!$I$18,6,10)=\"december\",\"1231\",IF(MID('COVER SHEET'!$I$18,6,10)=\"june\",\"0630\"))","v":"20241231"},{"$f":"+'Incoming Remittances (Volume)'!I20","v":0}]
["CMREM_11500","AU",{"$f":"+'Incoming Remittances (Volume)'!$I$5","v":"20241231"},{"$f":"+'COVER SHEET'!$D$12","v":0},11500,{"$f":"'COVER SHEET'!$D$16&IF(MID('COVER SHEET'!$I$18,6,10)=\"december\",\"1231\",IF(MID('COVER SHEET'!$I$18,6,10)=\"june\",\"0630\"))","v":"20241231"},{"$f":"+'Incoming Remittances (Volume)'!I21","v":0}]
["CMREM_11500","AT",{"$f":"+'Incoming Remittances (Volume)'!$I$5","v":"20241231"},{"$f":"+'COVER SHEET'!$D$12","v":0},11500,{"$f":"'COVER SHEET'!$D$16&IF(MID('COVER SHEET'!$I$18,6,10)=\"december\",\"1231\",IF(MID('COVER SHEET'!$I$18,6,10)=\"june\",\"0630\"))","v":"20241231"},{"$f":"+'Incoming Remittances (Volume)'!I22","v":0}]
["CMREM_11500","AZ",{"$f":"+'Incoming Remittances (Volume)'!$I$5","v":"20241231"},{"$f":"+'COVER SHEET'!$D$12","v":0},11500,{"$f":"'COVER SHEET'!$D$16&IF(MID('COVER SHEET'!$I$18,6,10)=\"december\",\"1231\",IF(MID('COVER SHEET'!$I$18,6,10)=\"june\",\"0630\"))","v":"20241231"},{"$f":"+'Incoming Remittances (Volume)'!I23","v":0}]
["CMREM_11500","BS",{"$f":"+'Incoming Remittances (Volume)'!$I$5","v":"20241231"},{"$f":"+'COVER SHEET'!$D$12","v":0},11500,{"$f":"'COVER SHEET'!$D$16&IF(MID('COVER SHEET'!$I$18,6,10)=\"december\",\"1231\",IF(MID('COVER SHEET'!$I$18,6,10)=\"june\",\"0630\"))","v":"20241231"},{"$f":"+'Incoming Remittances (Volume)'!I24","v":0}]
["CMREM_11500","BH",{"$f":"+'Incoming Remittances (Volume)'!$I$5","v":"20241231"},{"$f":"+'COVER SHEET'!$D$12","v":0},11500,{"$f":"'COVER SHEET'!$D$16&IF(MID('COVER SHEET'!$I$18,6,10)=\"december\",\"1231\",IF(MID('COVER SHEET'!$I$18,6,10)=\"june\",\"0630\"))","v":"20241231"},{"$f":"+'Incoming Remittances (Volume)'!I25","v":0}]
["CMREM_11500","BD",{"$f":"+'Incoming Remittances (Volume)'!$I$5","v":"20241231"},{"$f":"+'COVER SHEET'!$D$12","v":0},11500,{"$f":"'COVER SHEET'!$D$16&IF(MID('COVER SHEET'!$I$18,6,10)=\"december\",\"1231\",IF(MID('COVER SHEET'!$I$18,6,10)=\"june\",\"0630\"))","v":"20241231"},{"$f":"+'Incoming Remittances (Volume)'!I26","v":0}]
["CMREM_11500","BB",{"$f":"+'Incoming Remittances (Volume)'!$I$5","v":"20241231"},{"$f":"+'COVER SHEET'!$D$12","v":0},11500,{"$f":"'COVER SHEET'!$D$16&IF(MID('COVER SHEET'!$I$18,6,10)=\"december\",\"1231\",IF(MID('COVER SHEET'!$I$18,6,10)=\"june\",\"0630\"))","v":"20241231"},{"$f":"+'Incoming Remittances (Volume)'!I27","v":0}]
["CMREM_11500","BY",{"$f":"+'Incoming Remittances (Volume)'!$I$5","v":"20241231"},{"$f":"+'COVER SHEET'!$D$12","v":0},11500,{"$f":"'COVER SHEET'!$D$16&IF(MID('COVER SHEET'!$I$18,6,10)=\"december\",\"1231\",IF(MID('COVER SHEET'!$I$18,6,10)=\"june\",\"0630\"))","v":"20241231"},{"$f":"+'Incoming Remittances (Volume)'!I28","v":0}]
["CMREM_11500","BE",{"$f":"+'Incoming Remittances (Volume)'!$I$5","v":"20241231"},{"$f":"+'COVER SHEET'!$D$12","v":0},11500,{"$f":"'COVER SHEET'!$D$16&IF(MID('COVER SHEET'!$I$18,6,10)=\"december\",\"1231\",IF(MID('COVER SHEET'!$I$18,6,10)=\"june\",\"0630\"))","v":"20241231"},{"$f":"+'Incoming Remittances (Volume)'!I29","v":0}]
["CMREM_11500","BZ",{"$f":"+'Incoming Remittances (Volume)'!$I$5","v":"20241231"},{"$f":"+'COVER SHEET'!$D$12","v":0},11500,{"$f":"'COVER SHEET'!$D$16&IF(MID('COVER SHEET'!$I$18,6,10)=\"december\",\"1231\",IF(MID('COVER SHEET'!$I$18,6,10)=\"june\",\"0630\"))","v":"20241231"},{"$f":"+'Incoming Remittances (Volume)'!I30","v":0}]
["CMREM_11500","BJ",{"$f":"+'Incoming Remittances (Volume)'!$I$5","v":"20241231"},{"$f":"+'COVER SHEET'!$D$12","v":0},11500,{"$f":"'COVER SHEET'!$D$16&IF(MID('COVER SHEET'!$I$18,6,10)=\"december\",\"1231\",IF(MID('COVER SHEET'!$I$18,6,10)=\"june\",\"0630\"))","v":"20241231"},{"$f":"+'Incoming Remittances (Volume)'!I31","v":0}]
["CMREM_11500","BM",{"$f":"+'Incoming Remittances (Volume)'!$I$5","v":"20241231"},{"$f":"+'COVER SHEET'!$D$12","v":0},11500,{"$f":"'COVER SHEET'!$D$16&IF(MID('COVER SHEET'!$I$18,6,10)=\"december\",\"1231\",IF(MID('COVER SHEET'!$I$18,6,10)=\"june\",\"0630\"))","v":"20241231"},{"$f":"+'Incoming Remittances (Volume)'!I32","v":0}]
["CMREM_11500","BQ",{"$f":"+'Incoming Remittances (Volume)'!$I$5","v":"20241231"},{"$f":"+'COVER SHEET'!$D$12","v":0},11500,{"$f":"'COVER SHEET'!$D$16&IF(MID('COVER SHEET'!$I$18,6,10)=\"december\",\"1231\",IF(MID('COVER SHEET'!$I$18,6,10)=\"june\",\"0630\"))","v":"20241231"},{"$f":"+'Incoming Remittances (Volume)'!I33","v":0}]
["CMREM_11500","BT",{"$f":"+'Incoming Remittances (Volume)'!$I$5","v":"20241231"},{"$f":"+'COVER SHEET'!$D$12","v":0},11500,{"$f":"'COVER SHEET'!$D$16&IF(MID('COVER SHEET'!$I$18,6,10)=\"december\",\"1231\",IF(MID('COVER SHEET'!$I$18,6,10)=\"june\",\"0630\"))","v":"20241231"},{"$f":"+'Incoming Remittances (Volume)'!I34","v":0}]
["CMREM_11500","BO",{"$f":"+'Incoming Remittances (Volume)'!$I$5","v":"20241231"},{"$f":"+'COVER SHEET'!$D$12","v":0},11500,{"$f":"'COVER SHEET'!$D$16&IF(MID('COVER SHEET'!$I$18,6,10)=\"december\",\"1231\",IF(MID('COVER SHEET'!$I$18,6,10)=\"june\",\"0630\"))","v":"20241231"},{"$f":"+'Incoming Remittances (Volume)'!I35","v":0}]
["CMREM_11500","BA",{"$f":"+'Incoming Remittances (Volume)'!$I$5","v":"20241231"},{"$f":"+'COVER SHEET'!$D$12","v":0},11500,{"$f":"'COVER SHEET'!$D$16&IF(MID('COVER SHEET'!$I$18,6,10)=\"december\",\"1231\",IF(MID('COVER SHEET'!$I$18,6,10)=\"june\",\"0630\"))","v":"20241231"},{"$f":"+'Incoming Remittances (Volume)'!I36","v":0}]
["CMREM_11500","BW",{"$f":"+'Incoming Remittances (Volume)'!$I$5","v":"20241231"},{"$f":"+'COVER SHEET'!$D$12","v":0},11500,{"$f":"'COVER SHEET'!$D$16&IF(MID('COVER SHEET'!$I$18,6,10)=\"december\",\"1231\",IF(MID('COVER SHEET'!$I$18,6,10)=\"june\",\"0630\"))","v":"20241231"},{"$f":"+'Incoming Remittances (Volume)'!I37","v":0}]
["CMREM_11500","BV",{"$f":"+'Incoming Remittances (Volume)'!$I$5","v":"20241231"},{"$f":"+'COVER SHEET'!$D$12","v":0},11500,{"$f":"'COVER SHEET'!$D$16&IF(MID('COVER SHEET'!$I$18,6,10)=\"december\",\"1231\",IF(MID('COVER SHEET'!$I$18,6,10)=\"june\",\"0630\"))","v":"20241231"},{"$f":"+'Incoming Remittances (Volume)'!I38","v":0}]
["CMREM_11500","BR",{"$f":"+'Incoming Remittances (Volume)'!$I$5","v":"20241231"},{"$f":"+'COVER SHEET'!$D$12","v":0},11500,{"$f":"'COVER SHEET'!$D$16&IF(MID('COVER SHEET'!$I$18,6,10)=\"december\",\"1231\",IF(MID('COVER SHEET'!$I$18,6,10)=\"june\",\"0630\"))","v":"20241231"},{"$f":"+'Incoming Remittances (Volume)'!I39","v":0}]
["CMREM_11500","IO",{"$f":"+'Incoming Remittances (Volume)'!$I$5","v":"20241231"},{"$f":"+'COVER SHEET'!$D$12","v":0},11500,{"$f":"'COVER SHEET'!$D$16&IF(MID('COVER SHEET'!$I$18,6,10)=\"december\",\"1231\",IF(MID('COVER SHEET'!$I$18,6,10)=\"june\",\"0630\"))","v":"20241231"},{"$f":"+'Incoming Remittances (Volume)'!I40","v":0}]
["CMREM_11500","VG",{"$f":"+'Incoming Remittances (Volume)'!$I$5","v":"20241231"},{"$f":"+'COVER SHEET'!$D$12","v":0},11500,{"$f":"'COVER SHEET'!$D$16&IF(MID('COVER SHEET'!$I$18,6,10)=\"december\",\"1231\",IF(MID('COVER SHEET'!$I$18,6,10)=\"june\",\"0630\"))","v":"20241231"},{"$f":"+'Incoming Remittances (Volume)'!I41","v":0}]
["CMREM_11500","BN",{"$f":"+'Incoming Remittances (Volume)'!$I$5","v":"20241231"},{"$f":"+'COVER SHEET'!$D$12","v":0},11500,{"$f":"'COVER SHEET'!$D$16&IF(MID('COVER SHEET'!$I$18,6,10)=\"december\",\"1231\",IF(MID('COVER SHEET'!$I$18,6,10)=\"june\",\"0630\"))","v":"20241231"},{"$f":"+'Incoming Remittances (Volume)'!I42","v":0}]
["CMREM_11500","BG",{"$f":"+'Incoming Remittances (Volume)'!$I$5","v":"20241231"},{"$f":"+'COVER SHEET'!$D$12","v":0},11500,{"$f":"'COVER SHEET'!$D$16&IF(MID('COVER SHEET'!$I$18,6,10)=\"december\",\"1231\",IF(MID('COVER SHEET'!$I$18,6,10)=\"june\",\"0630\"))","v":"20241231"},{"$f":"+'Incoming Remittances (Volume)'!I43","v":0}]
["CMREM_11500","BF",{"$f":"+'Incoming Remittances (Volume)'!$I$5","v":"20241231"},{"$f":"+'COVER SHEET'!$D$12","v":0},11500,{"$f":"'COVER SHEET'!$D$16&IF(MID('COVER SHEET'!$I$18,6,10)=\"december\",\"1231\",IF(MID('COVER SHEET'!$I$18,6,10)=\"june\",\"0630\"))","v":"20241231"},{"$f":"+'Incoming Remittances (Volume)'!I44","v":0}]
["CMREM_11500","BI",{"$f":"+'Incoming Remittances (Volume)'!$I$5","v":"20241231"},{"$f":"+'COVER SHEET'!$D$12","v":0},11500,{"$f":"'COVER SHEET'!$D$16&IF(MID('COVER SHEET'!$I$18,6,10)=\"december\",\"1231\",IF(MID('COVER SHEET'!$I$18,6,10)=\"june\",\"0630\"))","v":"20241231"},{"$f":"+'Incoming Remittances (Volume)'!I45","v":0}]
["CMREM_11500","KH",{"$f":"+'Incoming Remittances (Volume)'!$I$5","v":"20241231"},{"$f":"+'COVER SHEET'!$D$12","v":0},11500,{"$f":"'COVER SHEET'!$D$16&IF(MID('COVER SHEET'!$I$18,6,10)=\"december\",\"1231\",IF(MID('COVER SHEET'!$I$18,6,10)=\"june\",\"0630\"))","v":"20241231"},{"$f":"+'Incoming Remittances (Volume)'!I46","v":0}]
["CMREM_11500","CM",{"$f":"+'Incoming Remittances (Volume)'!$I$5","v":"20241231"},{"$f":"+'COVER SHEET'!$D$12","v":0},11500,{"$f":"'COVER SHEET'!$D$16&IF(MID('COVER SHEET'!$I$18,6,10)=\"december\",\"1231\",IF(MID('COVER SHEET'!$I$18,6,10)=\"june\",\"0630\"))","v":"20241231"},{"$f":"+'Incoming Remittances (Volume)'!I47","v":0}]
["CMREM_11500","CA",{"$f":"+'Incoming Remittances (Volume)'!$I$5","v":"20241231"},{"$f":"+'COVER SHEET'!$D$12","v":0},11500,{"$f":"'COVER SHEET'!$D$16&IF(MID('COVER SHEET'!$I$18,6,10)=\"december\",\"1231\",IF(MID('COVER SHEET'!$I$18,6,10)=\"june\",\"0630\"))","v":"20241231"},{"$f":"+'Incoming Remittances (Volume)'!I48","v":0}]
["CMREM_11500","CV",{"$f":"+'Incoming Remittances (Volume)'!$I$5","v":"20241231"},{"$f":"+'COVER SHEET'!$D$12","v":0},11500,{"$f":"'COVER SHEET'!$D$16&IF(MID('COVER SHEET'!$I$18,6,10)=\"december\",\"1231\",IF(MID('COVER SHEET'!$I$18,6,10)=\"june\",\"0630\"))","v":"20241231"},{"$f":"+'Incoming Remittances (Volume)'!I49","v":0}]
["CMREM_11500","KY",{"$f":"+'Incoming Remittances (Volume)'!$I$5","v":"20241231"},{"$f":"+'COVER SHEET'!$D$12","v":0},11500,{"$f":"'COVER SHEET'!$D$16&IF(MID('COVER SHEET'!$I$18,6,10)=\"december\",\"1231\",IF(MID('COVER SHEET'!$I$18,6,10)=\"june\",\"0630\"))","v":"20241231"},{"$f":"+'Incoming Remittances (Volume)'!I50","v":0}]
["CMREM_11500","CF",{"$f":"+'Incoming Remittances (Volume)'!$I$5","v":"20241231"},{"$f":"+'COVER SHEET'!$D$12","v":0},11500,{"$f":"'COVER SHEET'!$D$16&IF(MID('COVER SHEET'!$I$18,6,10)=\"december\",\"1231\",IF(MID('COVER SHEET'!$I$18,6,10)=\"june\",\"0630\"))","v":"20241231"},{"$f":"+'Incoming Remittances (Volume)'!I51","v":0}]
["CMREM_11500","TD",{"$f":"+'Incoming Remittances (Volume)'!$I$5","v":"20241231"},{"$f":"+'COVER SHEET'!$D$12","v":0},11500,{"$f":"'COVER SHEET'!$D$16&IF(MID('COVER SHEET'!$I$18,6,10)=\"december\",\"1231\",IF(MID('COVER SHEET'!$I$18,6,10)=\"june\",\"0630\"))","v":"20241231"},{"$f":"+'Incoming Remittances (Volume)'!I52","v":0}]
["CMREM_11500","CL",{"$f":"+'Incoming Remittances (Volume)'!$I$5","v":"20241231"},{"$f":"+'COVER SHEET'!$D$12","v":0},11500,{"$f":"'COVER SHEET'!$D$16&IF(MID('COVER SHEET'!$I$18,6,10)=\"december\",\"1231\",IF(MID('COVER SHEET'!$I$18,6,10)=\"june\",\"0630\"))","v":"20241231"},{"$f":"+'Incoming Remittances (Volume)'!I53","v":0}]
["CMREM_11500","CN",{"$f":"+'Incoming Remittances (Volume)'!$I$5","v":"20241231"},{"$f":"+'COVER SHEET'!$D$12","v":0},11500,{"$f":"'COVER SHEET'!$D$16&IF(MID('COVER SHEET'!$I$18,6,10)=\"december\",\"1231\",IF(MID('COVER SHEET'!$I$18,6,10)=\"june\",\"0630\"))","v":"20241231"},{"$f":"+'Incoming Remittances (Volume)'!I54","v":0}]
["CMREM_11500","CX",{"$f":"+'Incoming Remittances (Volume)'!$I$5","v":"20241231"},{"$f":"+'COVER SHEET'!$D$12","v":0},11500,{"$f":"'COVER SHEET'!$D$16&IF(MID('COVER SHEET'!$I$18,6,10)=\"december\",\"1231\",IF(MID('COVER SHEET'!$I$18,6,10)=\"june\",\"0630\"))","v":"20241231"},{"$f":"+'Incoming Remittances (Volume)'!I55","v":0}]
["CMREM_11500","CC",{"$f":"+'Incoming Remittances (Volume)'!$I$5","v":"20241231"},{"$f":"+'COVER SHEET'!$D$12","v":0},11500,{"$f":"'COVER SHEET'!$D$16&IF(MID('COVER SHEET'!$I$18,6,10)=\"december\",\"1231\",IF(MID('COVER SHEET'!$I$18,6,10)=\"june\",\"0630\"))","v":"20241231"},{"$f":"+'Incoming Remittances (Volume)'!I56","v":0}]
["CMREM_11500","CO",{"$f":"+'Incoming Remittances (Volume)'!$I$5","v":"20241231"},{"$f":"+'COVER SHEET'!$D$12","v":0},11500,{"$f":"'COVER SHEET'!$D$16&IF(MID('COVER SHEET'!$I$18,6,10)=\"december\",\"1231\",IF(MID('COVER SHEET'!$I$18,6,10)=\"june\",\"0630\"))","v":"20241231"},{"$f":"+'Incoming Remittances (Volume)'!I57","v":0}]
["CMREM_11500","KM",{"$f":"+'Incoming Remittances (Volume)'!$I$5","v":"20241231"},{"$f":"+'COVER SHEET'!$D$12","v":0},11500,{"$f":"'COVER SHEET'!$D$16&IF(MID('COVER SHEET'!$I$18,6,10)=\"december\",\"1231\",IF(MID('COVER SHEET'!$I$18,6,10)=\"june\",\"0630\"))","v":"20241231"},{"$f":"+'Incoming Remittances (Volume)'!I58","v":0}]
["CMREM_11500","CG",{"$f":"+'Incoming Remittances (Volume)'!$I$5","v":"20241231"},{"$f":"+'COVER SHEET'!$D$12","v":0},11500,{"$f":"'COVER SHEET'!$D$16&IF(MID('COVER SHEET'!$I$18,6,10)=\"december\",\"1231\",IF(MID('COVER SHEET'!$I$18,6,10)=\"june\",\"0630\"))","v":"20241231"},{"$f":"+'Incoming Remittances (Volume)'!I59","v":0}]
["CMREM_11500","CD",{"$f":"+'Incoming Remittances (Volume)'!$I$5","v":"20241231"},{"$f":"+'COVER SHEET'!$D$12","v":0},11500,{"$f":"'COVER SHEET'!$D$16&IF(MID('COVER SHEET'!$I$18,6,10)=\"december\",\"1231\",IF(MID('COVER SHEET'!$I$18,6,10)=\"june\",\"0630\"))","v":"20241231"},{"$f":"+'Incoming Remittances (Volume)'!I60","v":0}]
["CMREM_11500","CK",{"$f":"+'Incoming Remittances (Volume)'!$I$5","v":"20241231"},{"$f":"+'COVER SHEET'!$D$12","v":0},11500,{"$f":"'COVER SHEET'!$D$16&IF(MID('COVER SHEET'!$I$18,6,10)=\"december\",\"1231\",IF(MID('COVER SHEET'!$I$18,6,10)=\"june\",\"0630\"))","v":"20241231"},{"$f":"+'Incoming Remittances (Volume)'!I61","v":0}]
["CMREM_11500","CR",{"$f":"+'Incoming Remittances (Volume)'!$I$5","v":"20241231"},{"$f":"+'COVER SHEET'!$D$12","v":0},11500,{"$f":"'COVER SHEET'!$D$16&IF(MID('COVER SHEET'!$I$18,6,10)=\"december\",\"1231\",IF(MID('COVER SHEET'!$I$18,6,10)=\"june\",\"0630\"))","v":"20241231"},{"$f":"+'Incoming Remittances (Volume)'!I62","v":0}]
["CMREM_11500","HR",{"$f":"+'Incoming Remittances (Volume)'!$I$5","v":"20241231"},{"$f":"+'COVER SHEET'!$D$12","v":0},11500,{"$f":"'COVER SHEET'!$D$16&IF(MID('COVER SHEET'!$I$18,6,10)=\"december\",\"1231\",IF(MID('COVER SHEET'!$I$18,6,10)=\"june\",\"0630\"))","v":"20241231"},{"$f":"+'Incoming Remittances (Volume)'!I63","v":0}]
["CMREM_11500","CU",{"$f":"+'Incoming Remittances (Volume)'!$I$5","v":"20241231"},{"$f":"+'COVER SHEET'!$D$12","v":0},11500,{"$f":"'COVER SHEET'!$D$16&IF(MID('COVER SHEET'!$I$18,6,10)=\"december\",\"1231\",IF(MID('COVER SHEET'!$I$18,6,10)=\"june\",\"0630\"))","v":"20241231"},{"$f":"+'Incoming Remittances (Volume)'!I64","v":0}]
["CMREM_11500","CW",{"$f":"+'Incoming Remittances (Volume)'!$I$5","v":"20241231"},{"$f":"+'COVER SHEET'!$D$12","v":0},11500,{"$f":"'COVER SHEET'!$D$16&IF(MID('COVER SHEET'!$I$18,6,10)=\"december\",\"1231\",IF(MID('COVER SHEET'!$I$18,6,10)=\"june\",\"0630\"))","v":"20241231"},{"$f":"+'Incoming Remittances (Volume)'!I65","v":0}]
["CMREM_11500","CY",{"$f":"+'Incoming Remittances (Volume)'!$I$5","v":"20241231"},{"$f":"+'COVER SHEET'!$D$12","v":0},11500,{"$f":"'COVER SHEET'!$D$16&IF(MID('COVER SHEET'!$I$18,6,10)=\"december\",\"1231\",IF(MID('COVER SHEET'!$I$18,6,10)=\"june\",\"0630\"))","v":"20241231"},{"$f":"+'Incoming Remittances (Volume)'!I66","v":0}]
["CMREM_11500","CZ",{"$f":"+'Incoming Remittances (Volume)'!$I$5","v":"20241231"},{"$f":"+'COVER SHEET'!$D$12","v":0},11500,{"$f":"'COVER SHEET'!$D$16&IF(MID('COVER SHEET'!$I$18,6,10)=\"december\",\"1231\",IF(MID('COVER SHEET'!$I$18,6,10)=\"june\",\"0630\"))","v":"20241231"},{"$f":"+'Incoming Remittances (Volume)'!I67","v":0}]
["CMREM_11500","DK",{"$f":"+'Incoming Remittances (Volume)'!$I$5","v":"20241231"},{"$f":"+'COVER SHEET'!$D$12","v":0},11500,{"$f":"'COVER SHEET'!$D$16&IF(MID('COVER SHEET'!$I$18,6,10)=\"december\",\"1231\",IF(MID('COVER SHEET'!$I$18,6,10)=\"june\",\"0630\"))","v":"20241231"},{"$f":"+'Incoming Remittances (Volume)'!I68","v":0}]
["CMREM_11500","DJ",{"$f":"+'Incoming Remittances (Volume)'!$I$5","v":"20241231"},{"$f":"+'COVER SHEET'!$D$12","v":0},11500,{"$f":"'COVER SHEET'!$D$16&IF(MID('COVER SHEET'!$I$18,6,10)=\"december\",\"1231\",IF(MID('COVER SHEET'!$I$18,6,10)=\"june\",\"0630\"))","v":"20241231"},{"$f":"+'Incoming Remittances (Volume)'!I69","v":0}]
["CMREM_11500","DM",{"$f":"+'Incoming Remittances (Volume)'!$I$5","v":"20241231"},{"$f":"+'COVER SHEET'!$D$12","v":0},11500,{"$f":"'COVER SHEET'!$D$16&IF(MID('COVER SHEET'!$I$18,6,10)=\"december\",\"1231\",IF(MID('COVER SHEET'!$I$18,6,10)=\"june\",\"0630\"))","v":"20241231"},{"$f":"+'Incoming Remittances (Volume)'!I70","v":0}]
["CMREM_11500","DO",{"$f":"+'Incoming Remittances (Volume)'!$I$5","v":"20241231"},{"$f":"+'COVER SHEET'!$D$12","v":0},11500,{"$f":"'COVER SHEET'!$D$16&IF(MID('COVER SHEET'!$I$18,6,10)=\"december\",\"1231\",IF(MID('COVER SHEET'!$I$18,6,10)=\"june\",\"0630\"))","v":"20241231"},{"$f":"+'Incoming Remittances (Volume)'!I71","v":0}]
["CMREM_11500","TL",{"$f":"+'Incoming Remittances (Volume)'!$I$5","v":"20241231"},{"$f":"+'COVER SHEET'!$D$12","v":0},11500,{"$f":"'COVER SHEET'!$D$16&IF(MID('COVER SHEET'!$I$18,6,10)=\"december\",\"1231\",IF(MID('COVER SHEET'!$I$18,6,10)=\"june\",\"0630\"))","v":"20241231"},{"$f":"+'Incoming Remittances (Volume)'!I72","v":0}]
["CMREM_11500","EC",{"$f":"+'Incoming Remittances (Volume)'!$I$5","v":"20241231"},{"$f":"+'COVER SHEET'!$D$12","v":0},11500,{"$f":"'COVER SHEET'!$D$16&IF(MID('COVER SHEET'!$I$18,6,10)=\"december\",\"1231\",IF(MID('COVER SHEET'!$I$18,6,10)=\"june\",\"0630\"))","v":"20241231"},{"$f":"+'Incoming Remittances (Volume)'!I73","v":0}]
["CMREM_11500","EG",{"$f":"+'Incoming Remittances (Volume)'!$I$5","v":"20241231"},{"$f":"+'COVER SHEET'!$D$12","v":0},11500,{"$f":"'COVER SHEET'!$D$16&IF(MID('COVER SHEET'!$I$18,6,10)=\"december\",\"1231\",IF(MID('COVER SHEET'!$I$18,6,10)=\"june\",\"0630\"))","v":"20241231"},{"$f":"+'Incoming Remittances (Volume)'!I74","v":0}]
["CMREM_11500","SV",{"$f":"+'Incoming Remittances (Volume)'!$I$5","v":"20241231"},{"$f":"+'COVER SHEET'!$D$12","v":0},11500,{"$f":"'COVER SHEET'!$D$16&IF(MID('COVER SHEET'!$I$18,6,10)=\"december\",\"1231\",IF(MID('COVER SHEET'!$I$18,6,10)=\"june\",\"0630\"))","v":"20241231"},{"$f":"+'Incoming Remittances (Volume)'!I75","v":0}]
["CMREM_11500","GQ",{"$f":"+'Incoming Remittances (Volume)'!$I$5","v":"20241231"},{"$f":"+'COVER SHEET'!$D$12","v":0},11500,{"$f":"'COVER SHEET'!$D$16&IF(MID('COVER SHEET'!$I$18,6,10)=\"december\",\"1231\",IF(MID('COVER SHEET'!$I$18,6,10)=\"june\",\"0630\"))","v":"20241231"},{"$f":"+'Incoming Remittances (Volume)'!I76","v":0}]
["CMREM_11500","ER",{"$f":"+'Incoming Remittances (Volume)'!$I$5","v":"20241231"},{"$f":"+'COVER SHEET'!$D$12","v":0},11500,{"$f":"'COVER SHEET'!$D$16&IF(MID('COVER SHEET'!$I$18,6,10)=\"december\",\"1231\",IF(MID('COVER SHEET'!$I$18,6,10)=\"june\",\"0630\"))","v":"20241231"},{"$f":"+'Incoming Remittances (Volume)'!I77","v":0}]
["CMREM_11500","EE",{"$f":"+'Incoming Remittances (Volume)'!$I$5","v":"20241231"},{"$f":"+'COVER SHEET'!$D$12","v":0},11500,{"$f":"'COVER SHEET'!$D$16&IF(MID('COVER SHEET'!$I$18,6,10)=\"december\",\"1231\",IF(MID('COVER SHEET'!$I$18,6,10)=\"june\",\"0630\"))","v":"20241231"},{"$f":"+'Incoming Remittances (Volume)'!I78","v":0}]
["CMREM_11500","ET",{"$f":"+'Incoming Remittances (Volume)'!$I$5","v":"20241231"},{"$f":"+'COVER SHEET'!$D$12","v":0},11500,{"$f":"'COVER SHEET'!$D$16&IF(MID('COVER SHEET'!$I$18,6,10)=\"december\",\"1231\",IF(MID('COVER SHEET'!$I$18,6,10)=\"june\",\"0630\"))","v":"20241231"},{"$f":"+'Incoming Remittances (Volume)'!I79","v":0}]
["CMREM_11500","FK",{"$f":"+'Incoming Remittances (Volume)'!$I$5","v":"20241231"},{"$f":"+'COVER SHEET'!$D$12","v":0},11500,{"$f":"'COVER SHEET'!$D$16&IF(MID('COVER SHEET'!$I$18,6,10)=\"december\",\"1231\",IF(MID('COVER SHEET'!$I$18,6,10)=\"june\",\"0630\"))","v":"20241231"},{"$f":"+'Incoming Remittances (Volume)'!I80","v":0}]
["CMREM_11500","FO",{"$f":"+'Incoming Remittances (Volume)'!$I$5","v":"20241231"},{"$f":"+'COVER SHEET'!$D$12","v":0},11500,{"$f":"'COVER SHEET'!$D$16&IF(MID('COVER SHEET'!$I$18,6,10)=\"december\",\"1231\",IF(MID('COVER SHEET'!$I$18,6,10)=\"june\",\"0630\"))","v":"20241231"},{"$f":"+'Incoming Remittances (Volume)'!I81","v":0}]
["CMREM_11500","FJ",{"$f":"+'Incoming Remittances (Volume)'!$I$5","v":"20241231"},{"$f":"+'COVER SHEET'!$D$12","v":0},11500,{"$f":"'COVER SHEET'!$D$16&IF(MID('COVER SHEET'!$I$18,6,10)=\"december\",\"1231\",IF(MID('COVER SHEET'!$I$18,6,10)=\"june\",\"0630\"))","v":"20241231"},{"$f":"+'Incoming Remittances (Volume)'!I82","v":0}]
["CMREM_11500","FI",{"$f":"+'Incoming Remittances (Volume)'!$I$5","v":"20241231"},{"$f":"+'COVER SHEET'!$D$12","v":0},11500,{"$f":"'COVER SHEET'!$D$16&IF(MID('COVER SHEET'!$I$18,6,10)=\"december\",\"1231\",IF(MID('COVER SHEET'!$I$18,6,10)=\"june\",\"0630\"))","v":"20241231"},{"$f":"+'Incoming Remittances (Volume)'!I83","v":0}]
["CMREM_11500","FR",{"$f":"+'Incoming Remittances (Volume)'!$I$5","v":"20241231"},{"$f":"+'COVER SHEET'!$D$12","v":0},11500,{"$f":"'COVER SHEET'!$D$16&IF(MID('COVER SHEET'!$I$18,6,10)=\"december\",\"1231\",IF(MID('COVER SHEET'!$I$18,6,10)=\"june\",\"0630\"))","v":"20241231"},{"$f":"+'Incoming Remittances (Volume)'!I84","v":0}]
["CMREM_11500","PF",{"$f":"+'Incoming Remittances (Volume)'!$I$5","v":"20241231"},{"$f":"+'COVER SHEET'!$D$12","v":0},11500,{"$f":"'COVER SHEET'!$D$16&IF(MID('COVER SHEET'!$I$18,6,10)=\"december\",\"1231\",IF(MID('COVER SHEET'!$I$18,6,10)=\"june\",\"0630\"))","v":"20241231"},{"$f":"+'Incoming Remittances (Volume)'!I85","v":0}]
["CMREM_11500","TF",{"$f":"+'Incoming Remittances (Volume)'!$I$5","v":"20241231"},{"$f":"+'COVER SHEET'!$D$12","v":0},11500,{"$f":"'COVER SHEET'!$D$16&IF(MID('COVER SHEET'!$I$18,6,10)=\"december\",\"1231\",IF(MID('COVER SHEET'!$I$18,6,10)=\"june\",\"0630\"))","v":"20241231"},{"$f":"+'Incoming Remittances (Volume)'!I86","v":0}]
["CMREM_11500","GA",{"$f":"+'Incoming Remittances (Volume)'!$I$5","v":"20241231"},{"$f":"+'COVER SHEET'!$D$12","v":0},11500,{"$f":"'COVER SHEET'!$D$16&IF(MID('COVER SHEET'!$I$18,6,10)=\"december\",\"1231\",IF(MID('COVER SHEET'!$I$18,6,10)=\"june\",\"0630\"))","v":"20241231"},{"$f":"+'Incoming Remittances (Volume)'!I87","v":0}]
["CMREM_11500","GM",{"$f":"+'Incoming Remittances (Volume)'!$I$5","v":"20241231"},{"$f":"+'COVER SHEET'!$D$12","v":0},11500,{"$f":"'COVER SHEET'!$D$16&IF(MID('COVER SHEET'!$I$18,6,10)=\"december\",\"1231\",IF(MID('COVER SHEET'!$I$18,6,10)=\"june\",\"0630\"))","v":"20241231"},{"$f":"+'Incoming Remittances (Volume)'!I88","v":0}]
["CMREM_11500","GE",{"$f":"+'Incoming Remittances (Volume)'!$I$5","v":"20241231"},{"$f":"+'COVER SHEET'!$D$12","v":0},11500,{"$f":"'COVER SHEET'!$D$16&IF(MID('COVER SHEET'!$I$18,6,10)=\"december\",\"1231\",IF(MID('COVER SHEET'!$I$18,6,10)=\"june\",\"0630\"))","v":"20241231"},{"$f":"+'Incoming Remittances (Volume)'!I89","v":0}]
["CMREM_11500","DE",{"$f":"+'Incoming Remittances (Volume)'!$I$5","v":"20241231"},{"$f":"+'COVER SHEET'!$D$12","v":0},11500,{"$f":"'COVER SHEET'!$D$16&IF(MID('COVER SHEET'!$I$18,6,10)=\"december\",\"1231\",IF(MID('COVER SHEET'!$I$18,6,10)=\"june\",\"0630\"))","v":"20241231"},{"$f":"+'Incoming Remittances (Volume)'!I90","v":0}]
["CMREM_11500","GH",{"$f":"+'Incoming Remittances (Volume)'!$I$5","v":"20241231"},{"$f":"+'COVER SHEET'!$D$12","v":0},11500,{"$f":"'COVER SHEET'!$D$16&IF(MID('COVER SHEET'!$I$18,6,10)=\"december\",\"1231\",IF(MID('COVER SHEET'!$I$18,6,10)=\"june\",\"0630\"))","v":"20241231"},{"$f":"+'Incoming Remittances (Volume)'!I91","v":0}]
["CMREM_11500","GI",{"$f":"+'Incoming Remittances (Volume)'!$I$5","v":"20241231"},{"$f":"+'COVER SHEET'!$D$12","v":0},11500,{"$f":"'COVER SHEET'!$D$16&IF(MID('COVER SHEET'!$I$18,6,10)=\"december\",\"1231\",IF(MID('COVER SHEET'!$I$18,6,10)=\"june\",\"0630\"))","v":"20241231"},{"$f":"+'Incoming Remittances (Volume)'!I92","v":0}]
["CMREM_11500","GR",{"$f":"+'Incoming Remittances (Volume)'!$I$5","v":"20241231"},{"$f":"+'COVER SHEET'!$D$12","v":0},11500,{"$f":"'COVER SHEET'!$D$16&IF(MID('COVER SHEET'!$I$18,6,10)=\"december\",\"1231\",IF(MID('COVER SHEET'!$I$18,6,10)=\"june\",\"0630\"))","v":"20241231"},{"$f":"+'Incoming Remittances (Volume)'!I93","v":0}]
["CMREM_11500","GL",{"$f":"+'Incoming Remittances (Volume)'!$I$5","v":"20241231"},{"$f":"+'COVER SHEET'!$D$12","v":0},11500,{"$f":"'COVER SHEET'!$D$16&IF(MID('COVER SHEET'!$I$18,6,10)=\"december\",\"1231\",IF(MID('COVER SHEET'!$I$18,6,10)=\"june\",\"0630\"))","v":"20241231"},{"$f":"+'Incoming Remittances (Volume)'!I94","v":0}]
["CMREM_11500","GD",{"$f":"+'Incoming Remittances (Volume)'!$I$5","v":"20241231"},{"$f":"+'COVER SHEET'!$D$12","v":0},11500,{"$f":"'COVER SHEET'!$D$16&IF(MID('COVER SHEET'!$I$18,6,10)=\"december\",\"1231\",IF(MID('COVER SHEET'!$I$18,6,10)=\"june\",\"0630\"))","v":"20241231"},{"$f":"+'Incoming Remittances (Volume)'!I95","v":0}]
["CMREM_11500","GU",{"$f":"+'Incoming Remittances (Volume)'!$I$5","v":"20241231"},{"$f":"+'COVER SHEET'!$D$12","v":0},11500,{"$f":"'COVER SHEET'!$D$16&IF(MID('COVER SHEET'!$I$18,6,10)=\"december\",\"1231\",IF(MID('COVER SHEET'!$I$18,6,10)=\"june\",\"0630\"))","v":"20241231"},{"$f":"+'Incoming Remittances (Volume)'!I96","v":0}]
["CMREM_11500","GT",{"$f":"+'Incoming Remittances (Volume)'!$I$5","v":"20241231"},{"$f":"+'COVER SHEET'!$D$12","v":0},11500,{"$f":"'COVER SHEET'!$D$16&IF(MID('COVER SHEET'!$I$18,6,10)=\"december\",\"1231\",IF(MID('COVER SHEET'!$I$18,6,10)=\"june\",\"0630\"))","v":"20241231"},{"$f":"+'Incoming Remittances (Volume)'!I97","v":0}]
["CMREM_11500","GG",{"$f":"+'Incoming Remittances (Volume)'!$I$5","v":"20241231"},{"$f":"+'COVER SHEET'!$D$12","v":0},11500,{"$f":"'COVER SHEET'!$D$16&IF(MID('COVER SHEET'!$I$18,6,10)=\"december\",\"1231\",IF(MID('COVER SHEET'!$I$18,6,10)=\"june\",\"0630\"))","v":"20241231"},{"$f":"+'Incoming Remittances (Volume)'!I98","v":0}]
["CMREM_11500","GN",{"$f":"+'Incoming Remittances (Volume)'!$I$5","v":"20241231"},{"$f":"+'COVER SHEET'!$D$12","v":0},11500,{"$f":"'COVER SHEET'!$D$16&IF(MID('COVER SHEET'!$I$18,6,10)=\"december\",\"1231\",IF(MID('COVER SHEET'!$I$18,6,10)=\"june\",\"0630\"))","v":"20241231"},{"$f":"+'Incoming Remittances (Volume)'!I99","v":0}]
["CMREM_11500","GW",{"$f":"+'Incoming Remittances (Volume)'!$I$5","v":"20241231"},{"$f":"+'COVER SHEET'!$D$12","v":0},11500,{"$f":"'COVER SHEET'!$D$16&IF(MID('COVER SHEET'!$I$18,6,10)=\"december\",\"1231\",IF(MID('COVER SHEET'!$I$18,6,10)=\"june\",\"0630\"))","v":"20241231"},{"$f":"+'Incoming Remittances (Volume)'!I100","v":0}]
["CMREM_11500","GY",{"$f":"+'Incoming Remittances (Volume)'!$I$5","v":"20241231"},{"$f":"+'COVER SHEET'!$D$12","v":0},11500,{"$f":"'COVER SHEET'!$D$16&IF(MID('COVER SHEET'!$I$18,6,10)=\"december\",\"1231\",IF(MID('COVER SHEET'!$I$18,6,10)=\"june\",\"0630\"))","v":"20241231"},{"$f":"+'Incoming Remittances (Volume)'!I101","v":0}]
["CMREM_11500","HT",{"$f":"+'Incoming Remittances (Volume)'!$I$5","v":"20241231"},{"$f":"+'COVER SHEET'!$D$12","v":0},11500,{"$f":"'COVER SHEET'!$D$16&IF(MID('COVER SHEET'!$I$18,6,10)=\"december\",\"1231\",IF(MID('COVER SHEET'!$I$18,6,10)=\"june\",\"0630\"))","v":"20241231"},{"$f":"+'Incoming Remittances (Volume)'!I102","v":0}]
["CMREM_11500","HM",{"$f":"+'Incoming Remittances (Volume)'!$I$5","v":"20241231"},{"$f":"+'COVER SHEET'!$D$12","v":0},11500,{"$f":"'COVER SHEET'!$D$16&IF(MID('COVER SHEET'!$I$18,6,10)=\"december\",\"1231\",IF(MID('COVER SHEET'!$I$18,6,10)=\"june\",\"0630\"))","v":"20241231"},{"$f":"+'Incoming Remittances (Volume)'!I103","v":0}]
["CMREM_11500","VA",{"$f":"+'Incoming Remittances (Volume)'!$I$5","v":"20241231"},{"$f":"+'COVER SHEET'!$D$12","v":0},11500,{"$f":"'COVER SHEET'!$D$16&IF(MID('COVER SHEET'!$I$18,6,10)=\"december\",\"1231\",IF(MID('COVER SHEET'!$I$18,6,10)=\"june\",\"0630\"))","v":"20241231"},{"$f":"+'Incoming Remittances (Volume)'!I104","v":0}]
["CMREM_11500","HN",{"$f":"+'Incoming Remittances (Volume)'!$I$5","v":"20241231"},{"$f":"+'COVER SHEET'!$D$12","v":0},11500,{"$f":"'COVER SHEET'!$D$16&IF(MID('COVER SHEET'!$I$18,6,10)=\"december\",\"1231\",IF(MID('COVER SHEET'!$I$18,6,10)=\"june\",\"0630\"))","v":"20241231"},{"$f":"+'Incoming Remittances (Volume)'!I105","v":0}]
["CMREM_11500","HK",{"$f":"+'Incoming Remittances (Volume)'!$I$5","v":"20241231"},{"$f":"+'COVER SHEET'!$D$12","v":0},11500,{"$f":"'COVER SHEET'!$D$16&IF(MID('COVER SHEET'!$I$18,6,10)=\"december\",\"1231\",IF(MID('COVER SHEET'!$I$18,6,10)=\"june\",\"0630\"))","v":"20241231"},{"$f":"+'Incoming Remittances (Volume)'!I106","v":0}]
["CMREM_11500","HU",{"$f":"+'Incoming Remittances (Volume)'!$I$5","v":"20241231"},{"$f":"+'COVER SHEET'!$D$12","v":0},11500,{"$f":"'COVER SHEET'!$D$16&IF(MID('COVER SHEET'!$I$18,6,10)=\"december\",\"1231\",IF(MID('COVER SHEET'!$I$18,6,10)=\"june\",\"0630\"))","v":"20241231"},{"$f":"+'Incoming Remittances (Volume)'!I107","v":0}]
["CMREM_11500","IS",{"$f":"+'Incoming Remittances (Volume)'!$I$5","v":"20241231"},{"$f":"+'COVER SHEET'!$D$12","v":0},11500,{"$f":"'COVER SHEET'!$D$16&IF(MID('COVER SHEET'!$I$18,6,10)=\"december\",\"1231\",IF(MID('COVER SHEET'!$I$18,6,10)=\"june\",\"0630\"))","v":"20241231"},{"$f":"+'Incoming Remittances (Volume)'!I108","v":0}]
["CMREM_11500","IN",{"$f":"+'Incoming Remittances (Volume)'!$I$5","v":"20241231"},{"$f":"+'COVER SHEET'!$D$12","v":0},11500,{"$f":"'COVER SHEET'!$D$16&IF(MID('COVER SHEET'!$I$18,6,10)=\"december\",\"1231\",IF(MID('COVER SHEET'!$I$18,6,10)=\"june\",\"0630\"))","v":"20241231"},{"$f":"+'Incoming Remittances (Volume)'!I109","v":0}]
["CMREM_11500","ID",{"$f":"+'Incoming Remittances (Volume)'!$I$5","v":"20241231"},{"$f":"+'COVER SHEET'!$D$12","v":0},11500,{"$f":"'COVER SHEET'!$D$16&IF(MID('COVER SHEET'!$I$18,6,10)=\"december\",\"1231\",IF(MID('COVER SHEET'!$I$18,6,10)=\"june\",\"0630\"))","v":"20241231"},{"$f":"+'Incoming Remittances (Volume)'!I110","v":0}]
["CMREM_11500","IR",{"$f":"+'Incoming Remittances (Volume)'!$I$5","v":"20241231"},{"$f":"+'COVER SHEET'!$D$12","v":0},11500,{"$f":"'COVER SHEET'!$D$16&IF(MID('COVER SHEET'!$I$18,6,10)=\"december\",\"1231\",IF(MID('COVER SHEET'!$I$18,6,10)=\"june\",\"0630\"))","v":"20241231"},{"$f":"+'Incoming Remittances (Volume)'!I111","v":0}]
["CMREM_11500","IQ",{"$f":"+'Incoming Remittances (Volume)'!$I$5","v":"20241231"},{"$f":"+'COVER SHEET'!$D$12","v":0},11500,{"$f":"'COVER SHEET'!$D$16&IF(MID('COVER SHEET'!$I$18,6,10)=\"december\",\"1231\",IF(MID('COVER SHEET'!$I$18,6,10)=\"june\",\"0630\"))","v":"20241231"},{"$f":"+'Incoming Remittances (Volume)'!I112","v":0}]
["CMREM_11500","IE",{"$f":"+'Incoming Remittances (Volume)'!$I$5","v":"20241231"},{"$f":"+'COVER SHEET'!$D$12","v":0},11500,{"$f":"'COVER SHEET'!$D$16&IF(MID('COVER SHEET'!$I$18,6,10)=\"december\",\"1231\",IF(MID('COVER SHEET'!$I$18,6,10)=\"june\",\"0630\"))","v":"20241231"},{"$f":"+'Incoming Remittances (Volume)'!I113","v":0}]
["CMREM_11500","IM",{"$f":"+'Incoming Remittances (Volume)'!$I$5","v":"20241231"},{"$f":"+'COVER SHEET'!$D$12","v":0},11500,{"$f":"'COVER SHEET'!$D$16&IF(MID('COVER SHEET'!$I$18,6,10)=\"december\",\"1231\",IF(MID('COVER SHEET'!$I$18,6,10)=\"june\",\"0630\"))","v":"20241231"},{"$f":"+'Incoming Remittances (Volume)'!I114","v":0}]
["CMREM_11500","IL",{"$f":"+'Incoming Remittances (Volume)'!$I$5","v":"20241231"},{"$f":"+'COVER SHEET'!$D$12","v":0},11500,{"$f":"'COVER SHEET'!$D$16&IF(MID('COVER SHEET'!$I$18,6,10)=\"december\",\"1231\",IF(MID('COVER SHEET'!$I$18,6,10)=\"june\",\"0630\"))","v":"20241231"},{"$f":"+'Incoming Remittances (Volume)'!I115","v":0}]
["CMREM_11500","IT",{"$f":"+'Incoming Remittances (Volume)'!$I$5","v":"20241231"},{"$f":"+'COVER SHEET'!$D$12","v":0},11500,{"$f":"'COVER SHEET'!$D$16&IF(MID('COVER SHEET'!$I$18,6,10)=\"december\",\"1231\",IF(MID('COVER SHEET'!$I$18,6,10)=\"june\",\"0630\"))","v":"20241231"},{"$f":"+'Incoming Remittances (Volume)'!I116","v":0}]
["CMREM_11500","CI",{"$f":"+'Incoming Remittances (Volume)'!$I$5","v":"20241231"},{"$f":"+'COVER SHEET'!$D$12","v":0},11500,{"$f":"'COVER SHEET'!$D$16&IF(MID('COVER SHEET'!$I$18,6,10)=\"december\",\"1231\",IF(MID('COVER SHEET'!$I$18,6,10)=\"june\",\"0630\"))","v":"20241231"},{"$f":"+'Incoming Remittances (Volume)'!I117","v":0}]
["CMREM_11500","JM",{"$f":"+'Incoming Remittances (Volume)'!$I$5","v":"20241231"},{"$f":"+'COVER SHEET'!$D$12","v":0},11500,{"$f":"'COVER SHEET'!$D$16&IF(MID('COVER SHEET'!$I$18,6,10)=\"december\",\"1231\",IF(MID('COVER SHEET'!$I$18,6,10)=\"june\",\"0630\"))","v":"20241231"},{"$f":"+'Incoming Remittances (Volume)'!I118","v":0}]
["CMREM_11500","JP",{"$f":"+'Incoming Remittances (Volume)'!$I$5","v":"20241231"},{"$f":"+'COVER SHEET'!$D$12","v":0},11500,{"$f":"'COVER SHEET'!$D$16&IF(MID('COVER SHEET'!$I$18,6,10)=\"december\",\"1231\",IF(MID('COVER SHEET'!$I$18,6,10)=\"june\",\"0630\"))","v":"20241231"},{"$f":"+'Incoming Remittances (Volume)'!I119","v":0}]
["CMREM_11500","JE",{"$f":"+'Incoming Remittances (Volume)'!$I$5","v":"20241231"},{"$f":"+'COVER SHEET'!$D$12","v":0},11500,{"$f":"'COVER SHEET'!$D$16&IF(MID('COVER SHEET'!$I$18,6,10)=\"december\",\"1231\",IF(MID('COVER SHEET'!$I$18,6,10)=\"june\",\"0630\"))","v":"20241231"},{"$f":"+'Incoming Remittances (Volume)'!I120","v":0}]
["CMREM_11500","JO",{"$f":"+'Incoming Remittances (Volume)'!$I$5","v":"20241231"},{"$f":"+'COVER SHEET'!$D$12","v":0},11500,{"$f":"'COVER SHEET'!$D$16&IF(MID('COVER SHEET'!$I$18,6,10)=\"december\",\"1231\",IF(MID('COVER SHEET'!$I$18,6,10)=\"june\",\"0630\"))","v":"20241231"},{"$f":"+'Incoming Remittances (Volume)'!I121","v":0}]
["CMREM_11500","KZ",{"$f":"+'Incoming Remittances (Volume)'!$I$5","v":"20241231"},{"$f":"+'COVER SHEET'!$D$12","v":0},11500,{"$f":"'COVER SHEET'!$D$16&IF(MID('COVER SHEET'!$I$18,6,10)=\"december\",\"1231\",IF(MID('COVER SHEET'!$I$18,6,10)=\"june\",\"0630\"))","v":"20241231"},{"$f":"+'Incoming Remittances (Volume)'!I122","v":0}]
["CMREM_11500","KE",{"$f":"+'Incoming Remittances (Volume)'!$I$5","v":"20241231"},{"$f":"+'COVER SHEET'!$D$12","v":0},11500,{"$f":"'COVER SHEET'!$D$16&IF(MID('COVER SHEET'!$I$18,6,10)=\"december\",\"1231\",IF(MID('COVER SHEET'!$I$18,6,10)=\"june\",\"0630\"))","v":"20241231"},{"$f":"+'Incoming Remittances (Volume)'!I123","v":0}]
["CMREM_11500","KI",{"$f":"+'Incoming Remittances (Volume)'!$I$5","v":"20241231"},{"$f":"+'COVER SHEET'!$D$12","v":0},11500,{"$f":"'COVER SHEET'!$D$16&IF(MID('COVER SHEET'!$I$18,6,10)=\"december\",\"1231\",IF(MID('COVER SHEET'!$I$18,6,10)=\"june\",\"0630\"))","v":"20241231"},{"$f":"+'Incoming Remittances (Volume)'!I124","v":0}]
["CMREM_11500","KP",{"$f":"+'Incoming Remittances (Volume)'!$I$5","v":"20241231"},{"$f":"+'COVER SHEET'!$D$12","v":0},11500,{"$f":"'COVER SHEET'!$D$16&IF(MID('COVER SHEET'!$I$18,6,10)=\"december\",\"1231\",IF(MID('COVER SHEET'!$I$18,6,10)=\"june\",\"0630\"))","v":"20241231"},{"$f":"+'Incoming Remittances (Volume)'!I125","v":0}]
["CMREM_11500","KR",{"$f":"+'Incoming Remittances (Volume)'!$I$5","v":"20241231"},{"$f":"+'COVER SHEET'!$D$12","v":0},11500,{"$f":"'COVER SHEET'!$D$16&IF(MID('COVER SHEET'!$I$18,6,10)=\"december\",\"1231\",IF(MID('COVER SHEET'!$I$18,6,10)=\"june\",\"0630\"))","v":"20241231"},{"$f":"+'Incoming Remittances (Volume)'!I126","v":0}]
["CMREM_11500","XK",{"$f":"+'Incoming Remittances (Volume)'!$I$5","v":"20241231"},{"$f":"+'COVER SHEET'!$D$12","v":0},11500,{"$f":"'COVER SHEET'!$D$16&IF(MID('COVER SHEET'!$I$18,6,10)=\"december\",\"1231\",IF(MID('COVER SHEET'!$I$18,6,10)=\"june\",\"0630\"))","v":"20241231"},{"$f":"+'Incoming Remittances (Volume)'!I127","v":0}]
["CMREM_11500","KW",{"$f":"+'Incoming Remittances (Volume)'!$I$5","v":"20241231"},{"$f":"+'COVER SHEET'!$D$12","v":0},11500,{"$f":"'COVER SHEET'!$D$16&IF(MID('COVER SHEET'!$I$18,6,10)=\"december\",\"1231\",IF(MID('COVER SHEET'!$I$18,6,10)=\"june\",\"0630\"))","v":"20241231"},{"$f":"+'Incoming Remittances (Volume)'!I128","v":0}]
["CMREM_11500","KG",{"$f":"+'Incoming Remittances (Volume)'!$I$5","v":"20241231"},{"$f":"+'COVER SHEET'!$D$12","v":0},11500,{"$f":"'COVER SHEET'!$D$16&IF(MID('COVER SHEET'!$I$18,6,10)=\"december\",\"1231\",IF(MID('COVER SHEET'!$I$18,6,10)=\"june\",\"0630\"))","v":"20241231"},{"$f":"+'Incoming Remittances (Volume)'!I129","v":0}]
["CMREM_11500","LA",{"$f":"+'Incoming Remittances (Volume)'!$I$5","v":"20241231"},{"$f":"+'COVER SHEET'!$D$12","v":0},11500,{"$f":"'COVER SHEET'!$D$16&IF(MID('COVER SHEET'!$I$18,6,10)=\"december\",\"1231\",IF(MID('COVER SHEET'!$I$18,6,10)=\"june\",\"0630\"))","v":"20241231"},{"$f":"+'Incoming Remittances (Volume)'!I130","v":0}]
["CMREM_11500","LV",{"$f":"+'Incoming Remittances (Volume)'!$I$5","v":"20241231"},{"$f":"+'COVER SHEET'!$D$12","v":0},11500,{"$f":"'COVER SHEET'!$D$16&IF(MID('COVER SHEET'!$I$18,6,10)=\"december\",\"1231\",IF(MID('COVER SHEET'!$I$18,6,10)=\"june\",\"0630\"))","v":"20241231"},{"$f":"+'Incoming Remittances (Volume)'!I131","v":0}]
["CMREM_11500","LB",{"$f":"+'Incoming Remittances (Volume)'!$I$5","v":"20241231"},{"$f":"+'COVER SHEET'!$D$12","v":0},11500,{"$f":"'COVER SHEET'!$D$16&IF(MID('COVER SHEET'!$I$18,6,10)=\"december\",\"1231\",IF(MID('COVER SHEET'!$I$18,6,10)=\"june\",\"0630\"))","v":"20241231"},{"$f":"+'Incoming Remittances (Volume)'!I132","v":0}]
["CMREM_11500","LS",{"$f":"+'Incoming Remittances (Volume)'!$I$5","v":"20241231"},{"$f":"+'COVER SHEET'!$D$12","v":0},11500,{"$f":"'COVER SHEET'!$D$16&IF(MID('COVER SHEET'!$I$18,6,10)=\"december\",\"1231\",IF(MID('COVER SHEET'!$I$18,6,10)=\"june\",\"0630\"))","v":"20241231"},{"$f":"+'Incoming Remittances (Volume)'!I133","v":0}]
["CMREM_11500","LR",{"$f":"+'Incoming Remittances (Volume)'!$I$5","v":"20241231"},{"$f":"+'COVER SHEET'!$D$12","v":0},11500,{"$f":"'COVER SHEET'!$D$16&IF(MID('COVER SHEET'!$I$18,6,10)=\"december\",\"1231\",IF(MID('COVER SHEET'!$I$18,6,10)=\"june\",\"0630\"))","v":"20241231"},{"$f":"+'Incoming Remittances (Volume)'!I134","v":0}]
["CMREM_11500","LY",{"$f":"+'Incoming Remittances (Volume)'!$I$5","v":"20241231"},{"$f":"+'COVER SHEET'!$D$12","v":0},11500,{"$f":"'COVER SHEET'!$D$16&IF(MID('COVER SHEET'!$I$18,6,10)=\"december\",\"1231\",IF(MID('COVER SHEET'!$I$18,6,10)=\"june\",\"0630\"))","v":"20241231"},{"$f":"+'Incoming Remittances (Volume)'!I135","v":0}]
["CMREM_11500","LI",{"$f":"+'Incoming Remittances (Volume)'!$I$5","v":"20241231"},{"$f":"+'COVER SHEET'!$D$12","v":0},11500,{"$f":"'COVER SHEET'!$D$16&IF(MID('COVER SHEET'!$I$18,6,10)=\"december\",\"1231\",IF(MID('COVER SHEET'!$I$18,6,10)=\"june\",\"0630\"))","v":"20241231"},{"$f":"+'Incoming Remittances (Volume)'!I136","v":0}]
["CMREM_11500","LT",{"$f":"+'Incoming Remittances (Volume)'!$I$5","v":"20241231"},{"$f":"+'COVER SHEET'!$D$12","v":0},11500,{"$f":"'COVER SHEET'!$D$16&IF(MID('COVER SHEET'!$I$18,6,10)=\"december\",\"1231\",IF(MID('COVER SHEET'!$I$18,6,10)=\"june\",\"0630\"))","v":"20241231"},{"$f":"+'Incoming Remittances (Volume)'!I137","v":0}]
["CMREM_11500","LU",{"$f":"+'Incoming Remittances (Volume)'!$I$5","v":"20241231"},{"$f":"+'COVER SHEET'!$D$12","v":0},11500,{"$f":"'COVER SHEET'!$D$16&IF(MID('COVER SHEET'!$I$18,6,10)=\"december\",\"1231\",IF(MID('COVER SHEET'!$I$18,6,10)=\"june\",\"0630\"))","v":"20241231"},{"$f":"+'Incoming Remittances (Volume)'!I138","v":0}]
["CMREM_11500","MO",{"$f":"+'Incoming Remittances (Volume)'!$I$5","v":"20241231"},{"$f":"+'COVER SHEET'!$D$12","v":0},11500,{"$f":"'COVER SHEET'!$D$16&IF(MID('COVER SHEET'!$I$18,6,10)=\"december\",\"1231\",IF(MID('COVER SHEET'!$I$18,6,10)=\"june\",\"0630\"))","v":"20241231"},{"$f":"+'Incoming Remittances (Volume)'!I139","v":0}]
["CMREM_11500","MK",{"$f":"+'Incoming Remittances (Volume)'!$I$5","v":"20241231"},{"$f":"+'COVER SHEET'!$D$12","v":0},11500,{"$f":"'COVER SHEET'!$D$16&IF(MID('COVER SHEET'!$I$18,6,10)=\"december\",\"1231\",IF(MID('COVER SHEET'!$I$18,6,10)=\"june\",\"0630\"))","v":"20241231"},{"$f":"+'Incoming Remittances (Volume)'!I140","v":0}]
["CMREM_11500","MG",{"$f":"+'Incoming Remittances (Volume)'!$I$5","v":"20241231"},{"$f":"+'COVER SHEET'!$D$12","v":0},11500,{"$f":"'COVER SHEET'!$D$16&IF(MID('COVER SHEET'!$I$18,6,10)=\"december\",\"1231\",IF(MID('COVER SHEET'!$I$18,6,10)=\"june\",\"0630\"))","v":"20241231"},{"$f":"+'Incoming Remittances (Volume)'!I141","v":0}]
["CMREM_11500","MW",{"$f":"+'Incoming Remittances (Volume)'!$I$5","v":"20241231"},{"$f":"+'COVER SHEET'!$D$12","v":0},11500,{"$f":"'COVER SHEET'!$D$16&IF(MID('COVER SHEET'!$I$18,6,10)=\"december\",\"1231\",IF(MID('COVER SHEET'!$I$18,6,10)=\"june\",\"0630\"))","v":"20241231"},{"$f":"+'Incoming Remittances (Volume)'!I142","v":0}]
["CMREM_11500","MY",{"$f":"+'Incoming Remittances (Volume)'!$I$5","v":"20241231"},{"$f":"+'COVER SHEET'!$D$12","v":0},11500,{"$f":"'COVER SHEET'!$D$16&IF(MID('COVER SHEET'!$I$18,6,10)=\"december\",\"1231\",IF(MID('COVER SHEET'!$I$18,6,10)=\"june\",\"0630\"))","v":"20241231"},{"$f":"+'Incoming Remittances (Volume)'!I143","v":0}]
["CMREM_11500","MV",{"$f":"+'Incoming Remittances (Volume)'!$I$5","v":"20241231"},{"$f":"+'COVER SHEET'!$D$12","v":0},11500,{"$f":"'COVER SHEET'!$D$16&IF(MID('COVER SHEET'!$I$18,6,10)=\"december\",\"1231\",IF(MID('COVER SHEET'!$I$18,6,10)=\"june\",\"0630\"))","v":"20241231"},{"$f":"+'Incoming Remittances (Volume)'!I144","v":0}]
["CMREM_11500","ML",{"$f":"+'Incoming Remittances (Volume)'!$I$5","v":"20241231"},{"$f":"+'COVER SHEET'!$D$12","v":0},11500,{"$f":"'COVER SHEET'!$D$16&IF(MID('COVER SHEET'!$I$18,6,10)=\"december\",\"1231\",IF(MID('COVER SHEET'!$I$18,6,10)=\"june\",\"0630\"))","v":"20241231"},{"$f":"+'Incoming Remittances (Volume)'!I145","v":0}]
["CMREM_11500","MH",{"$f":"+'Incoming Remittances (Volume)'!$I$5","v":"20241231"},{"$f":"+'COVER SHEET'!$D$12","v":0},11500,{"$f":"'COVER SHEET'!$D$16&IF(MID('COVER SHEET'!$I$18,6,10)=\"december\",\"1231\",IF(MID('COVER SHEET'!$I$18,6,10)=\"june\",\"0630\"))","v":"20241231"},{"$f":"+'Incoming Remittances (Volume)'!I146","v":0}]
["CMREM_11500","MR",{"$f":"+'Incoming Remittances (Volume)'!$I$5","v":"20241231"},{"$f":"+'COVER SHEET'!$D$12","v":0},11500,{"$f":"'COVER SHEET'!$D$16&IF(MID('COVER SHEET'!$I$18,6,10)=\"december\",\"1231\",IF(MID('COVER SHEET'!$I$18,6,10)=\"june\",\"0630\"))","v":"20241231"},{"$f":"+'Incoming Remittances (Volume)'!I147","v":0}]
["CMREM_11500","MU",{"$f":"+'Incoming Remittances (Volume)'!$I$5","v":"20241231"},{"$f":"+'COVER SHEET'!$D$12","v":0},11500,{"$f":"'COVER SHEET'!$D$16&IF(MID('COVER SHEET'!$I$18,6,10)=\"december\",\"1231\",IF(MID('COVER SHEET'!$I$18,6,10)=\"june\",\"0630\"))","v":"20241231"},{"$f":"+'Incoming Remittances (Volume)'!I148","v":0}]
["CMREM_11500","MX",{"$f":"+'Incoming Remittances (Volume)'!$I$5","v":"20241231"},{"$f":"+'COVER SHEET'!$D$12","v":0},11500,{"$f":"'COVER SHEET'!$D$16&IF(MID('COVER SHEET'!$I$18,6,10)=\"december\",\"1231\",IF(MID('COVER SHEET'!$I$18,6,10)=\"june\",\"0630\"))","v":"20241231"},{"$f":"+'Incoming Remittances (Volume)'!I149","v":0}]
["CMREM_11500","FM",{"$f":"+'Incoming Remittances (Volume)'!$I$5","v":"20241231"},{"$f":"+'COVER SHEET'!$D$12","v":0},11500,{"$f":"'COVER SHEET'!$D$16&IF(MID('COVER SHEET'!$I$18,6,10)=\"december\",\"1231\",IF(MID('COVER SHEET'!$I$18,6,10)=\"june\",\"0630\"))","v":"20241231"},{"$f":"+'Incoming Remittances (Volume)'!I150","v":0}]
["CMREM_11500","MD",{"$f":"+'Incoming Remittances (Volume)'!$I$5","v":"20241231"},{"$f":"+'COVER SHEET'!$D$12","v":0},11500,{"$f":"'COVER SHEET'!$D$16&IF(MID('COVER SHEET'!$I$18,6,10)=\"december\",\"1231\",IF(MID('COVER SHEET'!$I$18,6,10)=\"june\",\"0630\"))","v":"20241231"},{"$f":"+'Incoming Remittances (Volume)'!I151","v":0}]
["CMREM_11500","MN",{"$f":"+'Incoming Remittances (Volume)'!$I$5","v":"20241231"},{"$f":"+'COVER SHEET'!$D$12","v":0},11500,{"$f":"'COVER SHEET'!$D$16&IF(MID('COVER SHEET'!$I$18,6,10)=\"december\",\"1231\",IF(MID('COVER SHEET'!$I$18,6,10)=\"june\",\"0630\"))","v":"20241231"},{"$f":"+'Incoming Remittances (Volume)'!I152","v":0}]
["CMREM_11500","ME",{"$f":"+'Incoming Remittances (Volume)'!$I$5","v":"20241231"},{"$f":"+'COVER SHEET'!$D$12","v":0},11500,{"$f":"'COVER SHEET'!$D$16&IF(MID('COVER SHEET'!$I$18,6,10)=\"december\",\"1231\",IF(MID('COVER SHEET'!$I$18,6,10)=\"june\",\"0630\"))","v":"20241231"},{"$f":"+'Incoming Remittances (Volume)'!I153","v":0}]
["CMREM_11500","MS",{"$f":"+'Incoming Remittances (Volume)'!$I$5","v":"20241231"},{"$f":"+'COVER SHEET'!$D$12","v":0},11500,{"$f":"'COVER SHEET'!$D$16&IF(MID('COVER SHEET'!$I$18,6,10)=\"december\",\"1231\",IF(MID('COVER SHEET'!$I$18,6,10)=\"june\",\"0630\"))","v":"20241231"},{"$f":"+'Incoming Remittances (Volume)'!I154","v":0}]
["CMREM_11500","MA",{"$f":"+'Incoming Remittances (Volume)'!$I$5","v":"20241231"},{"$f":"+'COVER SHEET'!$D$12","v":0},11500,{"$f":"'COVER SHEET'!$D$16&IF(MID('COVER SHEET'!$I$18,6,10)=\"december\",\"1231\",IF(MID('COVER SHEET'!$I$18,6,10)=\"june\",\"0630\"))","v":"20241231"},{"$f":"+'Incoming Remittances (Volume)'!I155","v":0}]
["CMREM_11500","MZ",{"$f":"+'Incoming Remittances (Volume)'!$I$5","v":"20241231"},{"$f":"+'COVER SHEET'!$D$12","v":0},11500,{"$f":"'COVER SHEET'!$D$16&IF(MID('COVER SHEET'!$I$18,6,10)=\"december\",\"1231\",IF(MID('COVER SHEET'!$I$18,6,10)=\"june\",\"0630\"))","v":"20241231"},{"$f":"+'Incoming Remittances (Volume)'!I156","v":0}]
["CMREM_11500","MM",{"$f":"+'Incoming Remittances (Volume)'!$I$5","v":"20241231"},{"$f":"+'COVER SHEET'!$D$12","v":0},11500,{"$f":"'COVER SHEET'!$D$16&IF(MID('COVER SHEET'!$I$18,6,10)=\"december\",\"1231\",IF(MID('COVER SHEET'!$I$18,6,10)=\"june\",\"0630\"))","v":"20241231"},{"$f":"+'Incoming Remittances (Volume)'!I157","v":0}]
["CMREM_11500","NA",{"$f":"+'Incoming Remittances (Volume)'!$I$5","v":"20241231"},{"$f":"+'COVER SHEET'!$D$12","v":0},11500,{"$f":"'COVER SHEET'!$D$16&IF(MID('COVER SHEET'!$I$18,6,10)=\"december\",\"1231\",IF(MID('COVER SHEET'!$I$18,6,10)=\"june\",\"0630\"))","v":"20241231"},{"$f":"+'Incoming Remittances (Volume)'!I158","v":0}]
["CMREM_11500","NR",{"$f":"+'Incoming Remittances (Volume)'!$I$5","v":"20241231"},{"$f":"+'COVER SHEET'!$D$12","v":0},11500,{"$f":"'COVER SHEET'!$D$16&IF(MID('COVER SHEET'!$I$18,6,10)=\"december\",\"1231\",IF(MID('COVER SHEET'!$I$18,6,10)=\"june\",\"0630\"))","v":"20241231"},{"$f":"+'Incoming Remittances (Volume)'!I159","v":0}]
["CMREM_11500","NP",{"$f":"+'Incoming Remittances (Volume)'!$I$5","v":"20241231"},{"$f":"+'COVER SHEET'!$D$12","v":0},11500,{"$f":"'COVER SHEET'!$D$16&IF(MID('COVER SHEET'!$I$18,6,10)=\"december\",\"1231\",IF(MID('COVER SHEET'!$I$18,6,10)=\"june\",\"0630\"))","v":"20241231"},{"$f":"+'Incoming Remittances (Volume)'!I160","v":0}]
["CMREM_11500","NL",{"$f":"+'Incoming Remittances (Volume)'!$I$5","v":"20241231"},{"$f":"+'COVER SHEET'!$D$12","v":0},11500,{"$f":"'COVER SHEET'!$D$16&IF(MID('COVER SHEET'!$I$18,6,10)=\"december\",\"1231\",IF(MID('COVER SHEET'!$I$18,6,10)=\"june\",\"0630\"))","v":"20241231"},{"$f":"+'Incoming Remittances (Volume)'!I161","v":0}]
["CMREM_11500","NC",{"$f":"+'Incoming Remittances (Volume)'!$I$5","v":"20241231"},{"$f":"+'COVER SHEET'!$D$12","v":0},11500,{"$f":"'COVER SHEET'!$D$16&IF(MID('COVER SHEET'!$I$18,6,10)=\"december\",\"1231\",IF(MID('COVER SHEET'!$I$18,6,10)=\"june\",\"0630\"))","v":"20241231"},{"$f":"+'Incoming Remittances (Volume)'!I162","v":0}]
["CMREM_11500","NZ",{"$f":"+'Incoming Remittances (Volume)'!$I$5","v":"20241231"},{"$f":"+'COVER SHEET'!$D$12","v":0},11500,{"$f":"'COVER SHEET'!$D$16&IF(MID('COVER SHEET'!$I$18,6,10)=\"december\",\"1231\",IF(MID('COVER SHEET'!$I$18,6,10)=\"june\",\"0630\"))","v":"20241231"},{"$f":"+'Incoming Remittances (Volume)'!I163","v":0}]
["CMREM_11500","NI",{"$f":"+'Incoming Remittances (Volume)'!$I$5","v":"20241231"},{"$f":"+'COVER SHEET'!$D$12","v":0},11500,{"$f":"'COVER SHEET'!$D$16&IF(MID('COVER SHEET'!$I$18,6,10)=\"december\",\"1231\",IF(MID('COVER SHEET'!$I$18,6,10)=\"june\",\"0630\"))","v":"20241231"},{"$f":"+'Incoming Remittances (Volume)'!I164","v":0}]
["CMREM_11500","NE",{"$f":"+'Incoming Remittances (Volume)'!$I$5","v":"20241231"},{"$f":"+'COVER SHEET'!$D$12","v":0},11500,{"$f":"'COVER SHEET'!$D$16&IF(MID('COVER SHEET'!$I$18,6,10)=\"december\",\"1231\",IF(MID('COVER SHEET'!$I$18,6,10)=\"june\",\"0630\"))","v":"20241231"},{"$f":"+'Incoming Remittances (Volume)'!I165","v":0}]
["CMREM_11500","NG",{"$f":"+'Incoming Remittances (Volume)'!$I$5","v":"20241231"},{"$f":"+'COVER SHEET'!$D$12","v":0},11500,{"$f":"'COVER SHEET'!$D$16&IF(MID('COVER SHEET'!$I$18,6,10)=\"december\",\"1231\",IF(MID('COVER SHEET'!$I$18,6,10)=\"june\",\"0630\"))","v":"20241231"},{"$f":"+'Incoming Remittances (Volume)'!I166","v":0}]
["CMREM_11500","NU",{"$f":"+'Incoming Remittances (Volume)'!$I$5","v":"20241231"},{"$f":"+'COVER SHEET'!$D$12","v":0},11500,{"$f":"'COVER SHEET'!$D$16&IF(MID('COVER SHEET'!$I$18,6,10)=\"december\",\"1231\",IF(MID('COVER SHEET'!$I$18,6,10)=\"june\",\"0630\"))","v":"20241231"},{"$f":"+'Incoming Remittances (Volume)'!I167","v":0}]
["CMREM_11500","NF",{"$f":"+'Incoming Remittances (Volume)'!$I$5","v":"20241231"},{"$f":"+'COVER SHEET'!$D$12","v":0},11500,{"$f":"'COVER SHEET'!$D$16&IF(MID('COVER SHEET'!$I$18,6,10)=\"december\",\"1231\",IF(MID('COVER SHEET'!$I$18,6,10)=\"june\",\"0630\"))","v":"20241231"},{"$f":"+'Incoming Remittances (Volume)'!I168","v":0}]
["CMREM_11500","MP",{"$f":"+'Incoming Remittances (Volume)'!$I$5","v":"20241231"},{"$f":"+'COVER SHEET'!$D$12","v":0},11500,{"$f":"'COVER SHEET'!$D$16&IF(MID('COVER SHEET'!$I$18,6,10)=\"december\",\"1231\",IF(MID('COVER SHEET'!$I$18,6,10)=\"june\",\"0630\"))","v":"20241231"},{"$f":"+'Incoming Remittances (Volume)'!I169","v":0}]
["CMREM_11500","NO",{"$f":"+'Incoming Remittances (Volume)'!$I$5","v":"20241231"},{"$f":"+'COVER SHEET'!$D$12","v":0},11500,{"$f":"'COVER SHEET'!$D$16&IF(MID('COVER SHEET'!$I$18,6,10)=\"december\",\"1231\",IF(MID('COVER SHEET'!$I$18,6,10)=\"june\",\"0630\"))","v":"20241231"},{"$f":"+'Incoming Remittances (Volume)'!I170","v":0}]
["CMREM_11500","OM",{"$f":"+'Incoming Remittances (Volume)'!$I$5","v":"20241231"},{"$f":"+'COVER SHEET'!$D$12","v":0},11500,{"$f":"'COVER SHEET'!$D$16&IF(MID('COVER SHEET'!$I$18,6,10)=\"december\",\"1231\",IF(MID('COVER SHEET'!$I$18,6,10)=\"june\",\"0630\"))","v":"20241231"},{"$f":"+'Incoming Remittances (Volume)'!I171","v":0}]
["CMREM_11500","PK",{"$f":"+'Incoming Remittances (Volume)'!$I$5","v":"20241231"},{"$f":"+'COVER SHEET'!$D$12","v":0},11500,{"$f":"'COVER SHEET'!$D$16&IF(MID('COVER SHEET'!$I$18,6,10)=\"december\",\"1231\",IF(MID('COVER SHEET'!$I$18,6,10)=\"june\",\"0630\"))","v":"20241231"},{"$f":"+'Incoming Remittances (Volume)'!I172","v":0}]
["CMREM_11500","PW",{"$f":"+'Incoming Remittances (Volume)'!$I$5","v":"20241231"},{"$f":"+'COVER SHEET'!$D$12","v":0},11500,{"$f":"'COVER SHEET'!$D$16&IF(MID('COVER SHEET'!$I$18,6,10)=\"december\",\"1231\",IF(MID('COVER SHEET'!$I$18,6,10)=\"june\",\"0630\"))","v":"20241231"},{"$f":"+'Incoming Remittances (Volume)'!I173","v":0}]
["CMREM_11500","PS",{"$f":"+'Incoming Remittances (Volume)'!$I$5","v":"20241231"},{"$f":"+'COVER SHEET'!$D$12","v":0},11500,{"$f":"'COVER SHEET'!$D$16&IF(MID('COVER SHEET'!$I$18,6,10)=\"december\",\"1231\",IF(MID('COVER SHEET'!$I$18,6,10)=\"june\",\"0630\"))","v":"20241231"},{"$f":"+'Incoming Remittances (Volume)'!I174","v":0}]
["CMREM_11500","PA",{"$f":"+'Incoming Remittances (Volume)'!$I$5","v":"20241231"},{"$f":"+'COVER SHEET'!$D$12","v":0},11500,{"$f":"'COVER SHEET'!$D$16&IF(MID('COVER SHEET'!$I$18,6,10)=\"december\",\"1231\",IF(MID('COVER SHEET'!$I$18,6,10)=\"june\",\"0630\"))","v":"20241231"},{"$f":"+'Incoming Remittances (Volume)'!I175","v":0}]
["CMREM_11500","PG",{"$f":"+'Incoming Remittances (Volume)'!$I$5","v":"20241231"},{"$f":"+'COVER SHEET'!$D$12","v":0},11500,{"$f":"'COVER SHEET'!$D$16&IF(MID('COVER SHEET'!$I$18,6,10)=\"december\",\"1231\",IF(MID('COVER SHEET'!$I$18,6,10)=\"june\",\"0630\"))","v":"20241231"},{"$f":"+'Incoming Remittances (Volume)'!I176","v":0}]
["CMREM_11500","PY",{"$f":"+'Incoming Remittances (Volume)'!$I$5","v":"20241231"},{"$f":"+'COVER SHEET'!$D$12","v":0},11500,{"$f":"'COVER SHEET'!$D$16&IF(MID('COVER SHEET'!$I$18,6,10)=\"december\",\"1231\",IF(MID('COVER SHEET'!$I$18,6,10)=\"june\",\"0630\"))","v":"20241231"},{"$f":"+'Incoming Remittances (Volume)'!I177","v":0}]
["CMREM_11500","PE",{"$f":"+'Incoming Remittances (Volume)'!$I$5","v":"20241231"},{"$f":"+'COVER SHEET'!$D$12","v":0},11500,{"$f":"'COVER SHEET'!$D$16&IF(MID('COVER SHEET'!$I$18,6,10)=\"december\",\"1231\",IF(MID('COVER SHEET'!$I$18,6,10)=\"june\",\"0630\"))","v":"20241231"},{"$f":"+'Incoming Remittances (Volume)'!I178","v":0}]
["CMREM_11500","PH",{"$f":"+'Incoming Remittances (Volume)'!$I$5","v":"20241231"},{"$f":"+'COVER SHEET'!$D$12","v":0},11500,{"$f":"'COVER SHEET'!$D$16&IF(MID('COVER SHEET'!$I$18,6,10)=\"december\",\"1231\",IF(MID('COVER SHEET'!$I$18,6,10)=\"june\",\"0630\"))","v":"20241231"},{"$f":"+'Incoming Remittances (Volume)'!I179","v":0}]
["CMREM_11500","PN",{"$f":"+'Incoming Remittances (Volume)'!$I$5","v":"20241231"},{"$f":"+'COVER SHEET'!$D$12","v":0},11500,{"$f":"'COVER SHEET'!$D$16&IF(MID('COVER SHEET'!$I$18,6,10)=\"december\",\"1231\",IF(MID('COVER SHEET'!$I$18,6,10)=\"june\",\"0630\"))","v":"20241231"},{"$f":"+'Incoming Remittances (Volume)'!I180","v":0}]
["CMREM_11500","PL",{"$f":"+'Incoming Remittances (Volume)'!$I$5","v":"20241231"},{"$f":"+'COVER SHEET'!$D$12","v":0},11500,{"$f":"'COVER SHEET'!$D$16&IF(MID('COVER SHEET'!$I$18,6,10)=\"december\",\"1231\",IF(MID('COVER SHEET'!$I$18,6,10)=\"june\",\"0630\"))","v":"20241231"},{"$f":"+'Incoming Remittances (Volume)'!I181","v":0}]
["CMREM_11500","PT",{"$f":"+'Incoming Remittances (Volume)'!$I$5","v":"20241231"},{"$f":"+'COVER SHEET'!$D$12","v":0},11500,{"$f":"'COVER SHEET'!$D$16&IF(MID('COVER SHEET'!$I$18,6,10)=\"december\",\"1231\",IF(MID('COVER SHEET'!$I$18,6,10)=\"june\",\"0630\"))","v":"20241231"},{"$f":"+'Incoming Remittances (Volume)'!I182","v":0}]
["CMREM_11500","QA",{"$f":"+'Incoming Remittances (Volume)'!$I$5","v":"20241231"},{"$f":"+'COVER SHEET'!$D$12","v":0},11500,{"$f":"'COVER SHEET'!$D$16&IF(MID('COVER SHEET'!$I$18,6,10)=\"december\",\"1231\",IF(MID('COVER SHEET'!$I$18,6,10)=\"june\",\"0630\"))","v":"20241231"},{"$f":"+'Incoming Remittances (Volume)'!I183","v":0}]
["CMREM_11500","RO",{"$f":"+'Incoming Remittances (Volume)'!$I$5","v":"20241231"},{"$f":"+'COVER SHEET'!$D$12","v":0},11500,{"$f":"'COVER SHEET'!$D$16&IF(MID('COVER SHEET'!$I$18,6,10)=\"december\",\"1231\",IF(MID('COVER SHEET'!$I$18,6,10)=\"june\",\"0630\"))","v":"20241231"},{"$f":"+'Incoming Remittances (Volume)'!I184","v":0}]
["CMREM_11500","RU",{"$f":"+'Incoming Remittances (Volume)'!$I$5","v":"20241231"},{"$f":"+'COVER SHEET'!$D$12","v":0},11500,{"$f":"'COVER SHEET'!$D$16&IF(MID('COVER SHEET'!$I$18,6,10)=\"december\",\"1231\",IF(MID('COVER SHEET'!$I$18,6,10)=\"june\",\"0630\"))","v":"20241231"},{"$f":"+'Incoming Remittances (Volume)'!I185","v":0}]
["CMREM_11500","RW",{"$f":"+'Incoming Remittances (Volume)'!$I$5","v":"20241231"},{"$f":"+'COVER SHEET'!$D$12","v":0},11500,{"$f":"'COVER SHEET'!$D$16&IF(MID('COVER SHEET'!$I$18,6,10)=\"december\",\"1231\",IF(MID('COVER SHEET'!$I$18,6,10)=\"june\",\"0630\"))","v":"20241231"},{"$f":"+'Incoming Remittances (Volume)'!I186","v":0}]
["CMREM_11500","SH",{"$f":"+'Incoming Remittances (Volume)'!$I$5","v":"20241231"},{"$f":"+'COVER SHEET'!$D$12","v":0},11500,{"$f":"'COVER SHEET'!$D$16&IF(MID('COVER SHEET'!$I$18,6,10)=\"december\",\"1231\",IF(MID('COVER SHEET'!$I$18,6,10)=\"june\",\"0630\"))","v":"20241231"},{"$f":"+'Incoming Remittances (Volume)'!I187","v":0}]
["CMREM_11500","KN",{"$f":"+'Incoming Remittances (Volume)'!$I$5","v":"20241231"},{"$f":"+'COVER SHEET'!$D$12","v":0},11500,{"$f":"'COVER SHEET'!$D$16&IF(MID('COVER SHEET'!$I$18,6,10)=\"december\",\"1231\",IF(MID('COVER SHEET'!$I$18,6,10)=\"june\",\"0630\"))","v":"20241231"},{"$f":"+'Incoming Remittances (Volume)'!I188","v":0}]
["CMREM_11500","LC",{"$f":"+'Incoming Remittances (Volume)'!$I$5","v":"20241231"},{"$f":"+'COVER SHEET'!$D$12","v":0},11500,{"$f":"'COVER SHEET'!$D$16&IF(MID('COVER SHEET'!$I$18,6,10)=\"december\",\"1231\",IF(MID('COVER SHEET'!$I$18,6,10)=\"june\",\"0630\"))","v":"20241231"},{"$f":"+'Incoming Remittances (Volume)'!I189","v":0}]
["CMREM_11500","VC",{"$f":"+'Incoming Remittances (Volume)'!$I$5","v":"20241231"},{"$f":"+'COVER SHEET'!$D$12","v":0},11500,{"$f":"'COVER SHEET'!$D$16&IF(MID('COVER SHEET'!$I$18,6,10)=\"december\",\"1231\",IF(MID('COVER SHEET'!$I$18,6,10)=\"june\",\"0630\"))","v":"20241231"},{"$f":"+'Incoming Remittances (Volume)'!I190","v":0}]
["CMREM_11500","WS",{"$f":"+'Incoming Remittances (Volume)'!$I$5","v":"20241231"},{"$f":"+'COVER SHEET'!$D$12","v":0},11500,{"$f":"'COVER SHEET'!$D$16&IF(MID('COVER SHEET'!$I$18,6,10)=\"december\",\"1231\",IF(MID('COVER SHEET'!$I$18,6,10)=\"june\",\"0630\"))","v":"20241231"},{"$f":"+'Incoming Remittances (Volume)'!I191","v":0}]
["CMREM_11500","SM",{"$f":"+'Incoming Remittances (Volume)'!$I$5","v":"20241231"},{"$f":"+'COVER SHEET'!$D$12","v":0},11500,{"$f":"'COVER SHEET'!$D$16&IF(MID('COVER SHEET'!$I$18,6,10)=\"december\",\"1231\",IF(MID('COVER SHEET'!$I$18,6,10)=\"june\",\"0630\"))","v":"20241231"},{"$f":"+'Incoming Remittances (Volume)'!I192","v":0}]
["CMREM_11500","ST",{"$f":"+'Incoming Remittances (Volume)'!$I$5","v":"20241231"},{"$f":"+'COVER SHEET'!$D$12","v":0},11500,{"$f":"'COVER SHEET'!$D$16&IF(MID('COVER SHEET'!$I$18,6,10)=\"december\",\"1231\",IF(MID('COVER SHEET'!$I$18,6,10)=\"june\",\"0630\"))","v":"20241231"},{"$f":"+'Incoming Remittances (Volume)'!I193","v":0}]
["CMREM_11500","SA",{"$f":"+'Incoming Remittances (Volume)'!$I$5","v":"20241231"},{"$f":"+'COVER SHEET'!$D$12","v":0},11500,{"$f":"'COVER SHEET'!$D$16&IF(MID('COVER SHEET'!$I$18,6,10)=\"december\",\"1231\",IF(MID('COVER SHEET'!$I$18,6,10)=\"june\",\"0630\"))","v":"20241231"},{"$f":"+'Incoming Remittances (Volume)'!I194","v":0}]
["CMREM_11500","SN",{"$f":"+'Incoming Remittances (Volume)'!$I$5","v":"20241231"},{"$f":"+'COVER SHEET'!$D$12","v":0},11500,{"$f":"'COVER SHEET'!$D$16&IF(MID('COVER SHEET'!$I$18,6,10)=\"december\",\"1231\",IF(MID('COVER SHEET'!$I$18,6,10)=\"june\",\"0630\"))","v":"20241231"},{"$f":"+'Incoming Remittances (Volume)'!I195","v":0}]
["CMREM_11500","RS",{"$f":"+'Incoming Remittances (Volume)'!$I$5","v":"20241231"},{"$f":"+'COVER SHEET'!$D$12","v":0},11500,{"$f":"'COVER SHEET'!$D$16&IF(MID('COVER SHEET'!$I$18,6,10)=\"december\",\"1231\",IF(MID('COVER SHEET'!$I$18,6,10)=\"june\",\"0630\"))","v":"20241231"},{"$f":"+'Incoming Remittances (Volume)'!I196","v":0}]
["CMREM_11500","SC",{"$f":"+'Incoming Remittances (Volume)'!$I$5","v":"20241231"},{"$f":"+'COVER SHEET'!$D$12","v":0},11500,{"$f":"'COVER SHEET'!$D$16&IF(MID('COVER SHEET'!$I$18,6,10)=\"december\",\"1231\",IF(MID('COVER SHEET'!$I$18,6,10)=\"june\",\"0630\"))","v":"20241231"},{"$f":"+'Incoming Remittances (Volume)'!I197","v":0}]
["CMREM_11500","SL",{"$f":"+'Incoming Remittances (Volume)'!$I$5","v":"20241231"},{"$f":"+'COVER SHEET'!$D$12","v":0},11500,{"$f":"'COVER SHEET'!$D$16&IF(MID('COVER SHEET'!$I$18,6,10)=\"december\",\"1231\",IF(MID('COVER SHEET'!$I$18,6,10)=\"june\",\"0630\"))","v":"20241231"},{"$f":"+'Incoming Remittances (Volume)'!I198","v":0}]
["CMREM_11500","SG",{"$f":"+'Incoming Remittances (Volume)'!$I$5","v":"20241231"},{"$f":"+'COVER SHEET'!$D$12","v":0},11500,{"$f":"'COVER SHEET'!$D$16&IF(MID('COVER SHEET'!$I$18,6,10)=\"december\",\"1231\",IF(MID('COVER SHEET'!$I$18,6,10)=\"june\",\"0630\"))","v":"20241231"},{"$f":"+'Incoming Remittances (Volume)'!I199","v":0}]
["CMREM_11500","SX",{"$f":"+'Incoming Remittances (Volume)'!$I$5","v":"20241231"},{"$f":"+'COVER SHEET'!$D$12","v":0},11500,{"$f":"'COVER SHEET'!$D$16&IF(MID('COVER SHEET'!$I$18,6,10)=\"december\",\"1231\",IF(MID('COVER SHEET'!$I$18,6,10)=\"june\",\"0630\"))","v":"20241231"},{"$f":"+'Incoming Remittances (Volume)'!I200","v":0}]
["CMREM_11500","SK",{"$f":"+'Incoming Remittances (Volume)'!$I$5","v":"20241231"},{"$f":"+'COVER SHEET'!$D$12","v":0},11500,{"$f":"'COVER SHEET'!$D$16&IF(MID('COVER SHEET'!$I$18,6,10)=\"december\",\"1231\",IF(MID('COVER SHEET'!$I$18,6,10)=\"june\",\"0630\"))","v":"20241231"},{"$f":"+'Incoming Remittances (Volume)'!I201","v":0}]
["CMREM_11500","SI",{"$f":"+'Incoming Remittances (Volume)'!$I$5","v":"20241231"},{"$f":"+'COVER SHEET'!$D$12","v":0},11500,{"$f":"'COVER SHEET'!$D$16&IF(MID('COVER SHEET'!$I$18,6,10)=\"december\",\"1231\",IF(MID('COVER SHEET'!$I$18,6,10)=\"june\",\"0630\"))","v":"20241231"},{"$f":"+'Incoming Remittances (Volume)'!I202","v":0}]
["CMREM_11500","SB",{"$f":"+'Incoming Remittances (Volume)'!$I$5","v":"20241231"},{"$f":"+'COVER SHEET'!$D$12","v":0},11500,{"$f":"'COVER SHEET'!$D$16&IF(MID('COVER SHEET'!$I$18,6,10)=\"december\",\"1231\",IF(MID('COVER SHEET'!$I$18,6,10)=\"june\",\"0630\"))","v":"20241231"},{"$f":"+'Incoming Remittances (Volume)'!I203","v":0}]
["CMREM_11500","SO",{"$f":"+'Incoming Remittances (Volume)'!$I$5","v":"20241231"},{"$f":"+'COVER SHEET'!$D$12","v":0},11500,{"$f":"'COVER SHEET'!$D$16&IF(MID('COVER SHEET'!$I$18,6,10)=\"december\",\"1231\",IF(MID('COVER SHEET'!$I$18,6,10)=\"june\",\"0630\"))","v":"20241231"},{"$f":"+'Incoming Remittances (Volume)'!I204","v":0}]
["CMREM_11500","ZA",{"$f":"+'Incoming Remittances (Volume)'!$I$5","v":"20241231"},{"$f":"+'COVER SHEET'!$D$12","v":0},11500,{"$f":"'COVER SHEET'!$D$16&IF(MID('COVER SHEET'!$I$18,6,10)=\"december\",\"1231\",IF(MID('COVER SHEET'!$I$18,6,10)=\"june\",\"0630\"))","v":"20241231"},{"$f":"+'Incoming Remittances (Volume)'!I205","v":0}]
["CMREM_11500","GS",{"$f":"+'Incoming Remittances (Volume)'!$I$5","v":"20241231"},{"$f":"+'COVER SHEET'!$D$12","v":0},11500,{"$f":"'COVER SHEET'!$D$16&IF(MID('COVER SHEET'!$I$18,6,10)=\"december\",\"1231\",IF(MID('COVER SHEET'!$I$18,6,10)=\"june\",\"0630\"))","v":"20241231"},{"$f":"+'Incoming Remittances (Volume)'!I206","v":0}]
["CMREM_11500","SS",{"$f":"+'Incoming Remittances (Volume)'!$I$5","v":"20241231"},{"$f":"+'COVER SHEET'!$D$12","v":0},11500,{"$f":"'COVER SHEET'!$D$16&IF(MID('COVER SHEET'!$I$18,6,10)=\"december\",\"1231\",IF(MID('COVER SHEET'!$I$18,6,10)=\"june\",\"0630\"))","v":"20241231"},{"$f":"+'Incoming Remittances (Volume)'!I207","v":0}]
["CMREM_11500","ES",{"$f":"+'Incoming Remittances (Volume)'!$I$5","v":"20241231"},{"$f":"+'COVER SHEET'!$D$12","v":0},11500,{"$f":"'COVER SHEET'!$D$16&IF(MID('COVER SHEET'!$I$18,6,10)=\"december\",\"1231\",IF(MID('COVER SHEET'!$I$18,6,10)=\"june\",\"0630\"))","v":"20241231"},{"$f":"+'Incoming Remittances (Volume)'!I208","v":0}]
["CMREM_11500","LK",{"$f":"+'Incoming Remittances (Volume)'!$I$5","v":"20241231"},{"$f":"+'COVER SHEET'!$D$12","v":0},11500,{"$f":"'COVER SHEET'!$D$16&IF(MID('COVER SHEET'!$I$18,6,10)=\"december\",\"1231\",IF(MID('COVER SHEET'!$I$18,6,10)=\"june\",\"0630\"))","v":"20241231"},{"$f":"+'Incoming Remittances (Volume)'!I209","v":0}]
["CMREM_11500","SD",{"$f":"+'Incoming Remittances (Volume)'!$I$5","v":"20241231"},{"$f":"+'COVER SHEET'!$D$12","v":0},11500,{"$f":"'COVER SHEET'!$D$16&IF(MID('COVER SHEET'!$I$18,6,10)=\"december\",\"1231\",IF(MID('COVER SHEET'!$I$18,6,10)=\"june\",\"0630\"))","v":"20241231"},{"$f":"+'Incoming Remittances (Volume)'!I210","v":0}]
["CMREM_11500","SR",{"$f":"+'Incoming Remittances (Volume)'!$I$5","v":"20241231"},{"$f":"+'COVER SHEET'!$D$12","v":0},11500,{"$f":"'COVER SHEET'!$D$16&IF(MID('COVER SHEET'!$I$18,6,10)=\"december\",\"1231\",IF(MID('COVER SHEET'!$I$18,6,10)=\"june\",\"0630\"))","v":"20241231"},{"$f":"+'Incoming Remittances (Volume)'!I211","v":0}]
["CMREM_11500","SZ",{"$f":"+'Incoming Remittances (Volume)'!$I$5","v":"20241231"},{"$f":"+'COVER SHEET'!$D$12","v":0},11500,{"$f":"'COVER SHEET'!$D$16&IF(MID('COVER SHEET'!$I$18,6,10)=\"december\",\"1231\",IF(MID('COVER SHEET'!$I$18,6,10)=\"june\",\"0630\"))","v":"20241231"},{"$f":"+'Incoming Remittances (Volume)'!I212","v":0}]
["CMREM_11500","SE",{"$f":"+'Incoming Remittances (Volume)'!$I$5","v":"20241231"},{"$f":"+'COVER SHEET'!$D$12","v":0},11500,{"$f":"'COVER SHEET'!$D$16&IF(MID('COVER SHEET'!$I$18,6,10)=\"december\",\"1231\",IF(MID('COVER SHEET'!$I$18,6,10)=\"june\",\"0630\"))","v":"20241231"},{"$f":"+'Incoming Remittances (Volume)'!I213","v":0}]
["CMREM_11500","CH",{"$f":"+'Incoming Remittances (Volume)'!$I$5","v":"20241231"},{"$f":"+'COVER SHEET'!$D$12","v":0},11500,{"$f":"'COVER SHEET'!$D$16&IF(MID('COVER SHEET'!$I$18,6,10)=\"december\",\"1231\",IF(MID('COVER SHEET'!$I$18,6,10)=\"june\",\"0630\"))","v":"20241231"},{"$f":"+'Incoming Remittances (Volume)'!I214","v":0}]
["CMREM_11500","SY",{"$f":"+'Incoming Remittances (Volume)'!$I$5","v":"20241231"},{"$f":"+'COVER SHEET'!$D$12","v":0},11500,{"$f":"'COVER SHEET'!$D$16&IF(MID('COVER SHEET'!$I$18,6,10)=\"december\",\"1231\",IF(MID('COVER SHEET'!$I$18,6,10)=\"june\",\"0630\"))","v":"20241231"},{"$f":"+'Incoming Remittances (Volume)'!I215","v":0}]
["CMREM_11500","TW",{"$f":"+'Incoming Remittances (Volume)'!$I$5","v":"20241231"},{"$f":"+'COVER SHEET'!$D$12","v":0},11500,{"$f":"'COVER SHEET'!$D$16&IF(MID('COVER SHEET'!$I$18,6,10)=\"december\",\"1231\",IF(MID('COVER SHEET'!$I$18,6,10)=\"june\",\"0630\"))","v":"20241231"},{"$f":"+'Incoming Remittances (Volume)'!I216","v":0}]
["CMREM_11500","TJ",{"$f":"+'Incoming Remittances (Volume)'!$I$5","v":"20241231"},{"$f":"+'COVER SHEET'!$D$12","v":0},11500,{"$f":"'COVER SHEET'!$D$16&IF(MID('COVER SHEET'!$I$18,6,10)=\"december\",\"1231\",IF(MID('COVER SHEET'!$I$18,6,10)=\"june\",\"0630\"))","v":"20241231"},{"$f":"+'Incoming Remittances (Volume)'!I217","v":0}]
["CMREM_11500","TZ",{"$f":"+'Incoming Remittances (Volume)'!$I$5","v":"20241231"},{"$f":"+'COVER SHEET'!$D$12","v":0},11500,{"$f":"'COVER SHEET'!$D$16&IF(MID('COVER SHEET'!$I$18,6,10)=\"december\",\"1231\",IF(MID('COVER SHEET'!$I$18,6,10)=\"june\",\"0630\"))","v":"20241231"},{"$f":"+'Incoming Remittances (Volume)'!I218","v":0}]
["CMREM_11500","TH",{"$f":"+'Incoming Remittances (Volume)'!$I$5","v":"20241231"},{"$f":"+'COVER SHEET'!$D$12","v":0},11500,{"$f":"'COVER SHEET'!$D$16&IF(MID('COVER SHEET'!$I$18,6,10)=\"december\",\"1231\",IF(MID('COVER SHEET'!$I$18,6,10)=\"june\",\"0630\"))","v":"20241231"},{"$f":"+'Incoming Remittances (Volume)'!I219","v":0}]
["CMREM_11500","TG",{"$f":"+'Incoming Remittances (Volume)'!$I$5","v":"20241231"},{"$f":"+'COVER SHEET'!$D$12","v":0},11500,{"$f":"'COVER SHEET'!$D$16&IF(MID('COVER SHEET'!$I$18,6,10)=\"december\",\"1231\",IF(MID('COVER SHEET'!$I$18,6,10)=\"june\",\"0630\"))","v":"20241231"},{"$f":"+'Incoming Remittances (Volume)'!I220","v":0}]
["CMREM_11500","TK",{"$f":"+'Incoming Remittances (Volume)'!$I$5","v":"20241231"},{"$f":"+'COVER SHEET'!$D$12","v":0},11500,{"$f":"'COVER SHEET'!$D$16&IF(MID('COVER SHEET'!$I$18,6,10)=\"december\",\"1231\",IF(MID('COVER SHEET'!$I$18,6,10)=\"june\",\"0630\"))","v":"20241231"},{"$f":"+'Incoming Remittances (Volume)'!I221","v":0}]
["CMREM_11500","TO",{"$f":"+'Incoming Remittances (Volume)'!$I$5","v":"20241231"},{"$f":"+'COVER SHEET'!$D$12","v":0},11500,{"$f":"'COVER SHEET'!$D$16&IF(MID('COVER SHEET'!$I$18,6,10)=\"december\",\"1231\",IF(MID('COVER SHEET'!$I$18,6,10)=\"june\",\"0630\"))","v":"20241231"},{"$f":"+'Incoming Remittances (Volume)'!I222","v":0}]
["CMREM_11500","TT",{"$f":"+'Incoming Remittances (Volume)'!$I$5","v":"20241231"},{"$f":"+'COVER SHEET'!$D$12","v":0},11500,{"$f":"'COVER SHEET'!$D$16&IF(MID('COVER SHEET'!$I$18,6,10)=\"december\",\"1231\",IF(MID('COVER SHEET'!$I$18,6,10)=\"june\",\"0630\"))","v":"20241231"},{"$f":"+'Incoming Remittances (Volume)'!I223","v":0}]
["CMREM_11500","TN",{"$f":"+'Incoming Remittances (Volume)'!$I$5","v":"20241231"},{"$f":"+'COVER SHEET'!$D$12","v":0},11500,{"$f":"'COVER SHEET'!$D$16&IF(MID('COVER SHEET'!$I$18,6,10)=\"december\",\"1231\",IF(MID('COVER SHEET'!$I$18,6,10)=\"june\",\"0630\"))","v":"20241231"},{"$f":"+'Incoming Remittances (Volume)'!I224","v":0}]
["CMREM_11500","TR",{"$f":"+'Incoming Remittances (Volume)'!$I$5","v":"20241231"},{"$f":"+'COVER SHEET'!$D$12","v":0},11500,{"$f":"'COVER SHEET'!$D$16&IF(MID('COVER SHEET'!$I$18,6,10)=\"december\",\"1231\",IF(MID('COVER SHEET'!$I$18,6,10)=\"june\",\"0630\"))","v":"20241231"},{"$f":"+'Incoming Remittances (Volume)'!I225","v":0}]
["CMREM_11500","TM",{"$f":"+'Incoming Remittances (Volume)'!$I$5","v":"20241231"},{"$f":"+'COVER SHEET'!$D$12","v":0},11500,{"$f":"'COVER SHEET'!$D$16&IF(MID('COVER SHEET'!$I$18,6,10)=\"december\",\"1231\",IF(MID('COVER SHEET'!$I$18,6,10)=\"june\",\"0630\"))","v":"20241231"},{"$f":"+'Incoming Remittances (Volume)'!I226","v":0}]
["CMREM_11500","TC",{"$f":"+'Incoming Remittances (Volume)'!$I$5","v":"20241231"},{"$f":"+'COVER SHEET'!$D$12","v":0},11500,{"$f":"'COVER SHEET'!$D$16&IF(MID('COVER SHEET'!$I$18,6,10)=\"december\",\"1231\",IF(MID('COVER SHEET'!$I$18,6,10)=\"june\",\"0630\"))","v":"20241231"},{"$f":"+'Incoming Remittances (Volume)'!I227","v":0}]
["CMREM_11500","TV",{"$f":"+'Incoming Remittances (Volume)'!$I$5","v":"20241231"},{"$f":"+'COVER SHEET'!$D$12","v":0},11500,{"$f":"'COVER SHEET'!$D$16&IF(MID('COVER SHEET'!$I$18,6,10)=\"december\",\"1231\",IF(MID('COVER SHEET'!$I$18,6,10)=\"june\",\"0630\"))","v":"20241231"},{"$f":"+'Incoming Remittances (Volume)'!I228","v":0}]
["CMREM_11500","UG",{"$f":"+'Incoming Remittances (Volume)'!$I$5","v":"20241231"},{"$f":"+'COVER SHEET'!$D$12","v":0},11500,{"$f":"'COVER SHEET'!$D$16&IF(MID('COVER SHEET'!$I$18,6,10)=\"december\",\"1231\",IF(MID('COVER SHEET'!$I$18,6,10)=\"june\",\"0630\"))","v":"20241231"},{"$f":"+'Incoming Remittances (Volume)'!I229","v":0}]
["CMREM_11500","UA",{"$f":"+'Incoming Remittances (Volume)'!$I$5","v":"20241231"},{"$f":"+'COVER SHEET'!$D$12","v":0},11500,{"$f":"'COVER SHEET'!$D$16&IF(MID('COVER SHEET'!$I$18,6,10)=\"december\",\"1231\",IF(MID('COVER SHEET'!$I$18,6,10)=\"june\",\"0630\"))","v":"20241231"},{"$f":"+'Incoming Remittances (Volume)'!I230","v":0}]
["CMREM_11500","AE",{"$f":"+'Incoming Remittances (Volume)'!$I$5","v":"20241231"},{"$f":"+'COVER SHEET'!$D$12","v":0},11500,{"$f":"'COVER SHEET'!$D$16&IF(MID('COVER SHEET'!$I$18,6,10)=\"december\",\"1231\",IF(MID('COVER SHEET'!$I$18,6,10)=\"june\",\"0630\"))","v":"20241231"},{"$f":"+'Incoming Remittances (Volume)'!I231","v":0}]
["CMREM_11500","GB",{"$f":"+'Incoming Remittances (Volume)'!$I$5","v":"20241231"},{"$f":"+'COVER SHEET'!$D$12","v":0},11500,{"$f":"'COVER SHEET'!$D$16&IF(MID('COVER SHEET'!$I$18,6,10)=\"december\",\"1231\",IF(MID('COVER SHEET'!$I$18,6,10)=\"june\",\"0630\"))","v":"20241231"},{"$f":"+'Incoming Remittances (Volume)'!I232","v":0}]
["CMREM_11500","US",{"$f":"+'Incoming Remittances (Volume)'!$I$5","v":"20241231"},{"$f":"+'COVER SHEET'!$D$12","v":0},11500,{"$f":"'COVER SHEET'!$D$16&IF(MID('COVER SHEET'!$I$18,6,10)=\"december\",\"1231\",IF(MID('COVER SHEET'!$I$18,6,10)=\"june\",\"0630\"))","v":"20241231"},{"$f":"+'Incoming Remittances (Volume)'!I233","v":0}]
["CMREM_11500","UY",{"$f":"+'Incoming Remittances (Volume)'!$I$5","v":"20241231"},{"$f":"+'COVER SHEET'!$D$12","v":0},11500,{"$f":"'COVER SHEET'!$D$16&IF(MID('COVER SHEET'!$I$18,6,10)=\"december\",\"1231\",IF(MID('COVER SHEET'!$I$18,6,10)=\"june\",\"0630\"))","v":"20241231"},{"$f":"+'Incoming Remittances (Volume)'!I234","v":0}]
["CMREM_11500","UM",{"$f":"+'Incoming Remittances (Volume)'!$I$5","v":"20241231"},{"$f":"+'COVER SHEET'!$D$12","v":0},11500,{"$f":"'COVER SHEET'!$D$16&IF(MID('COVER SHEET'!$I$18,6,10)=\"december\",\"1231\",IF(MID('COVER SHEET'!$I$18,6,10)=\"june\",\"0630\"))","v":"20241231"},{"$f":"+'Incoming Remittances (Volume)'!I235","v":0}]
["CMREM_11500","UZ",{"$f":"+'Incoming Remittances (Volume)'!$I$5","v":"20241231"},{"$f":"+'COVER SHEET'!$D$12","v":0},11500,{"$f":"'COVER SHEET'!$D$16&IF(MID('COVER SHEET'!$I$18,6,10)=\"december\",\"1231\",IF(MID('COVER SHEET'!$I$18,6,10)=\"june\",\"0630\"))","v":"20241231"},{"$f":"+'Incoming Remittances (Volume)'!I236","v":0}]
["CMREM_11500","VU",{"$f":"+'Incoming Remittances (Volume)'!$I$5","v":"20241231"},{"$f":"+'COVER SHEET'!$D$12","v":0},11500,{"$f":"'COVER SHEET'!$D$16&IF(MID('COVER SHEET'!$I$18,6,10)=\"december\",\"1231\",IF(MID('COVER SHEET'!$I$18,6,10)=\"june\",\"0630\"))","v":"20241231"},{"$f":"+'Incoming Remittances (Volume)'!I237","v":0}]
["CMREM_11500","VE",{"$f":"+'Incoming Remittances (Volume)'!$I$5","v":"20241231"},{"$f":"+'COVER SHEET'!$D$12","v":0},11500,{"$f":"'COVER SHEET'!$D$16&IF(MID('COVER SHEET'!$I$18,6,10)=\"december\",\"1231\",IF(MID('COVER SHEET'!$I$18,6,10)=\"june\",\"0630\"))","v":"20241231"},{"$f":"+'Incoming Remittances (Volume)'!I238","v":0}]
["CMREM_11500","VN",{"$f":"+'Incoming Remittances (Volume)'!$I$5","v":"20241231"},{"$f":"+'COVER SHEET'!$D$12","v":0},11500,{"$f":"'COVER SHEET'!$D$16&IF(MID('COVER SHEET'!$I$18,6,10)=\"december\",\"1231\",IF(MID('COVER SHEET'!$I$18,6,10)=\"june\",\"0630\"))","v":"20241231"},{"$f":"+'Incoming Remittances (Volume)'!I239","v":0}]
["CMREM_11500","VI",{"$f":"+'Incoming Remittances (Volume)'!$I$5","v":"20241231"},{"$f":"+'COVER SHEET'!$D$12","v":0},11500,{"$f":"'COVER SHEET'!$D$16&IF(MID('COVER SHEET'!$I$18,6,10)=\"december\",\"1231\",IF(MID('COVER SHEET'!$I$18,6,10)=\"june\",\"0630\"))","v":"20241231"},{"$f":"+'Incoming Remittances (Volume)'!I240","v":0}]
["CMREM_11500","WF",{"$f":"+'Incoming Remittances (Volume)'!$I$5","v":"20241231"},{"$f":"+'COVER SHEET'!$D$12","v":0},11500,{"$f":"'COVER SHEET'!$D$16&IF(MID('COVER SHEET'!$I$18,6,10)=\"december\",\"1231\",IF(MID('COVER SHEET'!$I$18,6,10)=\"june\",\"0630\"))","v":"20241231"},{"$f":"+'Incoming Remittances (Volume)'!I241","v":0}]
["CMREM_11500","YE",{"$f":"+'Incoming Remittances (Volume)'!$I$5","v":"20241231"},{"$f":"+'COVER SHEET'!$D$12","v":0},11500,{"$f":"'COVER SHEET'!$D$16&IF(MID('COVER SHEET'!$I$18,6,10)=\"december\",\"1231\",IF(MID('COVER SHEET'!$I$18,6,10)=\"june\",\"0630\"))","v":"20241231"},{"$f":"+'Incoming Remittances (Volume)'!I242","v":0}]
["CMREM_11500","ZM",{"$f":"+'Incoming Remittances (Volume)'!$I$5","v":"20241231"},{"$f":"+'COVER SHEET'!$D$12","v":0},11500,{"$f":"'COVER SHEET'!$D$16&IF(MID('COVER SHEET'!$I$18,6,10)=\"december\",\"1231\",IF(MID('COVER SHEET'!$I$18,6,10)=\"june\",\"0630\"))","v":"20241231"},{"$f":"+'Incoming Remittances (Volume)'!I243","v":0}]
["CMREM_11500","ZW",{"$f":"+'Incoming Remittances (Volume)'!$I$5","v":"20241231"},{"$f":"+'COVER SHEET'!$D$12","v":0},11500,{"$f":"'COVER SHEET'!$D$16&IF(MID('COVER SHEET'!$I$18,6,10)=\"december\",\"1231\",IF(MID('COVER SHEET'!$I$18,6,10)=\"june\",\"0630\"))","v":"20241231"},{"$f":"+'Incoming Remittances (Volume)'!I244","v":0}]
["CMREM_11510","AF",{"$f":"+'Outgoing Remittances (Volume)'!$H$5","v":"20241231"},{"$f":"+'COVER SHEET'!$D$12","v":0},11510,{"$f":"'COVER SHEET'!$D$16&IF(MID('COVER SHEET'!$I$18,6,10)=\"december\",\"1231\",IF(MID('COVER SHEET'!$I$18,6,10)=\"june\",\"0630\"))","v":"20241231"},{"$f":"+'Outgoing Remittances (Volume)'!H9","v":0}]
["CMREM_11510","AL",{"$f":"+'Outgoing Remittances (Volume)'!$H$5","v":"20241231"},{"$f":"+'COVER SHEET'!$D$12","v":0},11510,{"$f":"'COVER SHEET'!$D$16&IF(MID('COVER SHEET'!$I$18,6,10)=\"december\",\"1231\",IF(MID('COVER SHEET'!$I$18,6,10)=\"june\",\"0630\"))","v":"20241231"},{"$f":"+'Outgoing Remittances (Volume)'!H10","v":0}]
["CMREM_11510","DZ",{"$f":"+'Outgoing Remittances (Volume)'!$H$5","v":"20241231"},{"$f":"+'COVER SHEET'!$D$12","v":0},11510,{"$f":"'COVER SHEET'!$D$16&IF(MID('COVER SHEET'!$I$18,6,10)=\"december\",\"1231\",IF(MID('COVER SHEET'!$I$18,6,10)=\"june\",\"0630\"))","v":"20241231"},{"$f":"+'Outgoing Remittances (Volume)'!H11","v":0}]
["CMREM_11510","AS",{"$f":"+'Outgoing Remittances (Volume)'!$H$5","v":"20241231"},{"$f":"+'COVER SHEET'!$D$12","v":0},11510,{"$f":"'COVER SHEET'!$D$16&IF(MID('COVER SHEET'!$I$18,6,10)=\"december\",\"1231\",IF(MID('COVER SHEET'!$I$18,6,10)=\"june\",\"0630\"))","v":"20241231"},{"$f":"+'Outgoing Remittances (Volume)'!H12","v":0}]
["CMREM_11510","AD",{"$f":"+'Outgoing Remittances (Volume)'!$H$5","v":"20241231"},{"$f":"+'COVER SHEET'!$D$12","v":0},11510,{"$f":"'COVER SHEET'!$D$16&IF(MID('COVER SHEET'!$I$18,6,10)=\"december\",\"1231\",IF(MID('COVER SHEET'!$I$18,6,10)=\"june\",\"0630\"))","v":"20241231"},{"$f":"+'Outgoing Remittances (Volume)'!H13","v":0}]
["CMREM_11510","AO",{"$f":"+'Outgoing Remittances (Volume)'!$H$5","v":"20241231"},{"$f":"+'COVER SHEET'!$D$12","v":0},11510,{"$f":"'COVER SHEET'!$D$16&IF(MID('COVER SHEET'!$I$18,6,10)=\"december\",\"1231\",IF(MID('COVER SHEET'!$I$18,6,10)=\"june\",\"0630\"))","v":"20241231"},{"$f":"+'Outgoing Remittances (Volume)'!H14","v":0}]
["CMREM_11510","AI",{"$f":"+'Outgoing Remittances (Volume)'!$H$5","v":"20241231"},{"$f":"+'COVER SHEET'!$D$12","v":0},11510,{"$f":"'COVER SHEET'!$D$16&IF(MID('COVER SHEET'!$I$18,6,10)=\"december\",\"1231\",IF(MID('COVER SHEET'!$I$18,6,10)=\"june\",\"0630\"))","v":"20241231"},{"$f":"+'Outgoing Remittances (Volume)'!H15","v":0}]
["CMREM_11510","AQ",{"$f":"+'Outgoing Remittances (Volume)'!$H$5","v":"20241231"},{"$f":"+'COVER SHEET'!$D$12","v":0},11510,{"$f":"'COVER SHEET'!$D$16&IF(MID('COVER SHEET'!$I$18,6,10)=\"december\",\"1231\",IF(MID('COVER SHEET'!$I$18,6,10)=\"june\",\"0630\"))","v":"20241231"},{"$f":"+'Outgoing Remittances (Volume)'!H16","v":0}]
["CMREM_11510","AG",{"$f":"+'Outgoing Remittances (Volume)'!$H$5","v":"20241231"},{"$f":"+'COVER SHEET'!$D$12","v":0},11510,{"$f":"'COVER SHEET'!$D$16&IF(MID('COVER SHEET'!$I$18,6,10)=\"december\",\"1231\",IF(MID('COVER SHEET'!$I$18,6,10)=\"june\",\"0630\"))","v":"20241231"},{"$f":"+'Outgoing Remittances (Volume)'!H17","v":0}]
["CMREM_11510","AR",{"$f":"+'Outgoing Remittances (Volume)'!$H$5","v":"20241231"},{"$f":"+'COVER SHEET'!$D$12","v":0},11510,{"$f":"'COVER SHEET'!$D$16&IF(MID('COVER SHEET'!$I$18,6,10)=\"december\",\"1231\",IF(MID('COVER SHEET'!$I$18,6,10)=\"june\",\"0630\"))","v":"20241231"},{"$f":"+'Outgoing Remittances (Volume)'!H18","v":0}]
["CMREM_11510","AM",{"$f":"+'Outgoing Remittances (Volume)'!$H$5","v":"20241231"},{"$f":"+'COVER SHEET'!$D$12","v":0},11510,{"$f":"'COVER SHEET'!$D$16&IF(MID('COVER SHEET'!$I$18,6,10)=\"december\",\"1231\",IF(MID('COVER SHEET'!$I$18,6,10)=\"june\",\"0630\"))","v":"20241231"},{"$f":"+'Outgoing Remittances (Volume)'!H19","v":0}]
["CMREM_11510","AW",{"$f":"+'Outgoing Remittances (Volume)'!$H$5","v":"20241231"},{"$f":"+'COVER SHEET'!$D$12","v":0},11510,{"$f":"'COVER SHEET'!$D$16&IF(MID('COVER SHEET'!$I$18,6,10)=\"december\",\"1231\",IF(MID('COVER SHEET'!$I$18,6,10)=\"june\",\"0630\"))","v":"20241231"},{"$f":"+'Outgoing Remittances (Volume)'!H20","v":0}]
["CMREM_11510","AU",{"$f":"+'Outgoing Remittances (Volume)'!$H$5","v":"20241231"},{"$f":"+'COVER SHEET'!$D$12","v":0},11510,{"$f":"'COVER SHEET'!$D$16&IF(MID('COVER SHEET'!$I$18,6,10)=\"december\",\"1231\",IF(MID('COVER SHEET'!$I$18,6,10)=\"june\",\"0630\"))","v":"20241231"},{"$f":"+'Outgoing Remittances (Volume)'!H21","v":0}]
["CMREM_11510","AT",{"$f":"+'Outgoing Remittances (Volume)'!$H$5","v":"20241231"},{"$f":"+'COVER SHEET'!$D$12","v":0},11510,{"$f":"'COVER SHEET'!$D$16&IF(MID('COVER SHEET'!$I$18,6,10)=\"december\",\"1231\",IF(MID('COVER SHEET'!$I$18,6,10)=\"june\",\"0630\"))","v":"20241231"},{"$f":"+'Outgoing Remittances (Volume)'!H22","v":0}]
["CMREM_11510","AZ",{"$f":"+'Outgoing Remittances (Volume)'!$H$5","v":"20241231"},{"$f":"+'COVER SHEET'!$D$12","v":0},11510,{"$f":"'COVER SHEET'!$D$16&IF(MID('COVER SHEET'!$I$18,6,10)=\"december\",\"1231\",IF(MID('COVER SHEET'!$I$18,6,10)=\"june\",\"0630\"))","v":"20241231"},{"$f":"+'Outgoing Remittances (Volume)'!H23","v":0}]
["CMREM_11510","BS",{"$f":"+'Outgoing Remittances (Volume)'!$H$5","v":"20241231"},{"$f":"+'COVER SHEET'!$D$12","v":0},11510,{"$f":"'COVER SHEET'!$D$16&IF(MID('COVER SHEET'!$I$18,6,10)=\"december\",\"1231\",IF(MID('COVER SHEET'!$I$18,6,10)=\"june\",\"0630\"))","v":"20241231"},{"$f":"+'Outgoing Remittances (Volume)'!H24","v":0}]
["CMREM_11510","BH",{"$f":"+'Outgoing Remittances (Volume)'!$H$5","v":"20241231"},{"$f":"+'COVER SHEET'!$D$12","v":0},11510,{"$f":"'COVER SHEET'!$D$16&IF(MID('COVER SHEET'!$I$18,6,10)=\"december\",\"1231\",IF(MID('COVER SHEET'!$I$18,6,10)=\"june\",\"0630\"))","v":"20241231"},{"$f":"+'Outgoing Remittances (Volume)'!H25","v":0}]
["CMREM_11510","BD",{"$f":"+'Outgoing Remittances (Volume)'!$H$5","v":"20241231"},{"$f":"+'COVER SHEET'!$D$12","v":0},11510,{"$f":"'COVER SHEET'!$D$16&IF(MID('COVER SHEET'!$I$18,6,10)=\"december\",\"1231\",IF(MID('COVER SHEET'!$I$18,6,10)=\"june\",\"0630\"))","v":"20241231"},{"$f":"+'Outgoing Remittances (Volume)'!H26","v":0}]
["CMREM_11510","BB",{"$f":"+'Outgoing Remittances (Volume)'!$H$5","v":"20241231"},{"$f":"+'COVER SHEET'!$D$12","v":0},11510,{"$f":"'COVER SHEET'!$D$16&IF(MID('COVER SHEET'!$I$18,6,10)=\"december\",\"1231\",IF(MID('COVER SHEET'!$I$18,6,10)=\"june\",\"0630\"))","v":"20241231"},{"$f":"+'Outgoing Remittances (Volume)'!H27","v":0}]
["CMREM_11510","BY",{"$f":"+'Outgoing Remittances (Volume)'!$H$5","v":"20241231"},{"$f":"+'COVER SHEET'!$D$12","v":0},11510,{"$f":"'COVER SHEET'!$D$16&IF(MID('COVER SHEET'!$I$18,6,10)=\"december\",\"1231\",IF(MID('COVER SHEET'!$I$18,6,10)=\"june\",\"0630\"))","v":"20241231"},{"$f":"+'Outgoing Remittances (Volume)'!H28","v":0}]
["CMREM_11510","BE",{"$f":"+'Outgoing Remittances (Volume)'!$H$5","v":"20241231"},{"$f":"+'COVER SHEET'!$D$12","v":0},11510,{"$f":"'COVER SHEET'!$D$16&IF(MID('COVER SHEET'!$I$18,6,10)=\"december\",\"1231\",IF(MID('COVER SHEET'!$I$18,6,10)=\"june\",\"0630\"))","v":"20241231"},{"$f":"+'Outgoing Remittances (Volume)'!H29","v":0}]
["CMREM_11510","BZ",{"$f":"+'Outgoing Remittances (Volume)'!$H$5","v":"20241231"},{"$f":"+'COVER SHEET'!$D$12","v":0},11510,{"$f":"'COVER SHEET'!$D$16&IF(MID('COVER SHEET'!$I$18,6,10)=\"december\",\"1231\",IF(MID('COVER SHEET'!$I$18,6,10)=\"june\",\"0630\"))","v":"20241231"},{"$f":"+'Outgoing Remittances (Volume)'!H30","v":0}]
["CMREM_11510","BJ",{"$f":"+'Outgoing Remittances (Volume)'!$H$5","v":"20241231"},{"$f":"+'COVER SHEET'!$D$12","v":0},11510,{"$f":"'COVER SHEET'!$D$16&IF(MID('COVER SHEET'!$I$18,6,10)=\"december\",\"1231\",IF(MID('COVER SHEET'!$I$18,6,10)=\"june\",\"0630\"))","v":"20241231"},{"$f":"+'Outgoing Remittances (Volume)'!H31","v":0}]
["CMREM_11510","BM",{"$f":"+'Outgoing Remittances (Volume)'!$H$5","v":"20241231"},{"$f":"+'COVER SHEET'!$D$12","v":0},11510,{"$f":"'COVER SHEET'!$D$16&IF(MID('COVER SHEET'!$I$18,6,10)=\"december\",\"1231\",IF(MID('COVER SHEET'!$I$18,6,10)=\"june\",\"0630\"))","v":"20241231"},{"$f":"+'Outgoing Remittances (Volume)'!H32","v":0}]
["CMREM_11510","BQ",{"$f":"+'Outgoing Remittances (Volume)'!$H$5","v":"20241231"},{"$f":"+'COVER SHEET'!$D$12","v":0},11510,{"$f":"'COVER SHEET'!$D$16&IF(MID('COVER SHEET'!$I$18,6,10)=\"december\",\"1231\",IF(MID('COVER SHEET'!$I$18,6,10)=\"june\",\"0630\"))","v":"20241231"},{"$f":"+'Outgoing Remittances (Volume)'!H33","v":0}]
["CMREM_11510","BT",{"$f":"+'Outgoing Remittances (Volume)'!$H$5","v":"20241231"},{"$f":"+'COVER SHEET'!$D$12","v":0},11510,{"$f":"'COVER SHEET'!$D$16&IF(MID('COVER SHEET'!$I$18,6,10)=\"december\",\"1231\",IF(MID('COVER SHEET'!$I$18,6,10)=\"june\",\"0630\"))","v":"20241231"},{"$f":"+'Outgoing Remittances (Volume)'!H34","v":0}]
["CMREM_11510","BO",{"$f":"+'Outgoing Remittances (Volume)'!$H$5","v":"20241231"},{"$f":"+'COVER SHEET'!$D$12","v":0},11510,{"$f":"'COVER SHEET'!$D$16&IF(MID('COVER SHEET'!$I$18,6,10)=\"december\",\"1231\",IF(MID('COVER SHEET'!$I$18,6,10)=\"june\",\"0630\"))","v":"20241231"},{"$f":"+'Outgoing Remittances (Volume)'!H35","v":0}]
["CMREM_11510","BA",{"$f":"+'Outgoing Remittances (Volume)'!$H$5","v":"20241231"},{"$f":"+'COVER SHEET'!$D$12","v":0},11510,{"$f":"'COVER SHEET'!$D$16&IF(MID('COVER SHEET'!$I$18,6,10)=\"december\",\"1231\",IF(MID('COVER SHEET'!$I$18,6,10)=\"june\",\"0630\"))","v":"20241231"},{"$f":"+'Outgoing Remittances (Volume)'!H36","v":0}]
["CMREM_11510","BW",{"$f":"+'Outgoing Remittances (Volume)'!$H$5","v":"20241231"},{"$f":"+'COVER SHEET'!$D$12","v":0},11510,{"$f":"'COVER SHEET'!$D$16&IF(MID('COVER SHEET'!$I$18,6,10)=\"december\",\"1231\",IF(MID('COVER SHEET'!$I$18,6,10)=\"june\",\"0630\"))","v":"20241231"},{"$f":"+'Outgoing Remittances (Volume)'!H37","v":0}]
["CMREM_11510","BV",{"$f":"+'Outgoing Remittances (Volume)'!$H$5","v":"20241231"},{"$f":"+'COVER SHEET'!$D$12","v":0},11510,{"$f":"'COVER SHEET'!$D$16&IF(MID('COVER SHEET'!$I$18,6,10)=\"december\",\"1231\",IF(MID('COVER SHEET'!$I$18,6,10)=\"june\",\"0630\"))","v":"20241231"},{"$f":"+'Outgoing Remittances (Volume)'!H38","v":0}]
["CMREM_11510","BR",{"$f":"+'Outgoing Remittances (Volume)'!$H$5","v":"20241231"},{"$f":"+'COVER SHEET'!$D$12","v":0},11510,{"$f":"'COVER SHEET'!$D$16&IF(MID('COVER SHEET'!$I$18,6,10)=\"december\",\"1231\",IF(MID('COVER SHEET'!$I$18,6,10)=\"june\",\"0630\"))","v":"20241231"},{"$f":"+'Outgoing Remittances (Volume)'!H39","v":0}]
["CMREM_11510","IO",{"$f":"+'Outgoing Remittances (Volume)'!$H$5","v":"20241231"},{"$f":"+'COVER SHEET'!$D$12","v":0},11510,{"$f":"'COVER SHEET'!$D$16&IF(MID('COVER SHEET'!$I$18,6,10)=\"december\",\"1231\",IF(MID('COVER SHEET'!$I$18,6,10)=\"june\",\"0630\"))","v":"20241231"},{"$f":"+'Outgoing Remittances (Volume)'!H40","v":0}]
["CMREM_11510","VG",{"$f":"+'Outgoing Remittances (Volume)'!$H$5","v":"20241231"},{"$f":"+'COVER SHEET'!$D$12","v":0},11510,{"$f":"'COVER SHEET'!$D$16&IF(MID('COVER SHEET'!$I$18,6,10)=\"december\",\"1231\",IF(MID('COVER SHEET'!$I$18,6,10)=\"june\",\"0630\"))","v":"20241231"},{"$f":"+'Outgoing Remittances (Volume)'!H41","v":0}]
["CMREM_11510","BN",{"$f":"+'Outgoing Remittances (Volume)'!$H$5","v":"20241231"},{"$f":"+'COVER SHEET'!$D$12","v":0},11510,{"$f":"'COVER SHEET'!$D$16&IF(MID('COVER SHEET'!$I$18,6,10)=\"december\",\"1231\",IF(MID('COVER SHEET'!$I$18,6,10)=\"june\",\"0630\"))","v":"20241231"},{"$f":"+'Outgoing Remittances (Volume)'!H42","v":0}]
["CMREM_11510","BG",{"$f":"+'Outgoing Remittances (Volume)'!$H$5","v":"20241231"},{"$f":"+'COVER SHEET'!$D$12","v":0},11510,{"$f":"'COVER SHEET'!$D$16&IF(MID('COVER SHEET'!$I$18,6,10)=\"december\",\"1231\",IF(MID('COVER SHEET'!$I$18,6,10)=\"june\",\"0630\"))","v":"20241231"},{"$f":"+'Outgoing Remittances (Volume)'!H43","v":0}]
["CMREM_11510","BF",{"$f":"+'Outgoing Remittances (Volume)'!$H$5","v":"20241231"},{"$f":"+'COVER SHEET'!$D$12","v":0},11510,{"$f":"'COVER SHEET'!$D$16&IF(MID('COVER SHEET'!$I$18,6,10)=\"december\",\"1231\",IF(MID('COVER SHEET'!$I$18,6,10)=\"june\",\"0630\"))","v":"20241231"},{"$f":"+'Outgoing Remittances (Volume)'!H44","v":0}]
["CMREM_11510","BI",{"$f":"+'Outgoing Remittances (Volume)'!$H$5","v":"20241231"},{"$f":"+'COVER SHEET'!$D$12","v":0},11510,{"$f":"'COVER SHEET'!$D$16&IF(MID('COVER SHEET'!$I$18,6,10)=\"december\",\"1231\",IF(MID('COVER SHEET'!$I$18,6,10)=\"june\",\"0630\"))","v":"20241231"},{"$f":"+'Outgoing Remittances (Volume)'!H45","v":0}]
["CMREM_11510","KH",{"$f":"+'Outgoing Remittances (Volume)'!$H$5","v":"20241231"},{"$f":"+'COVER SHEET'!$D$12","v":0},11510,{"$f":"'COVER SHEET'!$D$16&IF(MID('COVER SHEET'!$I$18,6,10)=\"december\",\"1231\",IF(MID('COVER SHEET'!$I$18,6,10)=\"june\",\"0630\"))","v":"20241231"},{"$f":"+'Outgoing Remittances (Volume)'!H46","v":0}]
["CMREM_11510","CM",{"$f":"+'Outgoing Remittances (Volume)'!$H$5","v":"20241231"},{"$f":"+'COVER SHEET'!$D$12","v":0},11510,{"$f":"'COVER SHEET'!$D$16&IF(MID('COVER SHEET'!$I$18,6,10)=\"december\",\"1231\",IF(MID('COVER SHEET'!$I$18,6,10)=\"june\",\"0630\"))","v":"20241231"},{"$f":"+'Outgoing Remittances (Volume)'!H47","v":0}]
["CMREM_11510","CA",{"$f":"+'Outgoing Remittances (Volume)'!$H$5","v":"20241231"},{"$f":"+'COVER SHEET'!$D$12","v":0},11510,{"$f":"'COVER SHEET'!$D$16&IF(MID('COVER SHEET'!$I$18,6,10)=\"december\",\"1231\",IF(MID('COVER SHEET'!$I$18,6,10)=\"june\",\"0630\"))","v":"20241231"},{"$f":"+'Outgoing Remittances (Volume)'!H48","v":0}]
["CMREM_11510","CV",{"$f":"+'Outgoing Remittances (Volume)'!$H$5","v":"20241231"},{"$f":"+'COVER SHEET'!$D$12","v":0},11510,{"$f":"'COVER SHEET'!$D$16&IF(MID('COVER SHEET'!$I$18,6,10)=\"december\",\"1231\",IF(MID('COVER SHEET'!$I$18,6,10)=\"june\",\"0630\"))","v":"20241231"},{"$f":"+'Outgoing Remittances (Volume)'!H49","v":0}]
["CMREM_11510","KY",{"$f":"+'Outgoing Remittances (Volume)'!$H$5","v":"20241231"},{"$f":"+'COVER SHEET'!$D$12","v":0},11510,{"$f":"'COVER SHEET'!$D$16&IF(MID('COVER SHEET'!$I$18,6,10)=\"december\",\"1231\",IF(MID('COVER SHEET'!$I$18,6,10)=\"june\",\"0630\"))","v":"20241231"},{"$f":"+'Outgoing Remittances (Volume)'!H50","v":0}]
["CMREM_11510","CF",{"$f":"+'Outgoing Remittances (Volume)'!$H$5","v":"20241231"},{"$f":"+'COVER SHEET'!$D$12","v":0},11510,{"$f":"'COVER SHEET'!$D$16&IF(MID('COVER SHEET'!$I$18,6,10)=\"december\",\"1231\",IF(MID('COVER SHEET'!$I$18,6,10)=\"june\",\"0630\"))","v":"20241231"},{"$f":"+'Outgoing Remittances (Volume)'!H51","v":0}]
["CMREM_11510","TD",{"$f":"+'Outgoing Remittances (Volume)'!$H$5","v":"20241231"},{"$f":"+'COVER SHEET'!$D$12","v":0},11510,{"$f":"'COVER SHEET'!$D$16&IF(MID('COVER SHEET'!$I$18,6,10)=\"december\",\"1231\",IF(MID('COVER SHEET'!$I$18,6,10)=\"june\",\"0630\"))","v":"20241231"},{"$f":"+'Outgoing Remittances (Volume)'!H52","v":0}]
["CMREM_11510","CL",{"$f":"+'Outgoing Remittances (Volume)'!$H$5","v":"20241231"},{"$f":"+'COVER SHEET'!$D$12","v":0},11510,{"$f":"'COVER SHEET'!$D$16&IF(MID('COVER SHEET'!$I$18,6,10)=\"december\",\"1231\",IF(MID('COVER SHEET'!$I$18,6,10)=\"june\",\"0630\"))","v":"20241231"},{"$f":"+'Outgoing Remittances (Volume)'!H53","v":0}]
["CMREM_11510","CN",{"$f":"+'Outgoing Remittances (Volume)'!$H$5","v":"20241231"},{"$f":"+'COVER SHEET'!$D$12","v":0},11510,{"$f":"'COVER SHEET'!$D$16&IF(MID('COVER SHEET'!$I$18,6,10)=\"december\",\"1231\",IF(MID('COVER SHEET'!$I$18,6,10)=\"june\",\"0630\"))","v":"20241231"},{"$f":"+'Outgoing Remittances (Volume)'!H54","v":0}]
["CMREM_11510","CX",{"$f":"+'Outgoing Remittances (Volume)'!$H$5","v":"20241231"},{"$f":"+'COVER SHEET'!$D$12","v":0},11510,{"$f":"'COVER SHEET'!$D$16&IF(MID('COVER SHEET'!$I$18,6,10)=\"december\",\"1231\",IF(MID('COVER SHEET'!$I$18,6,10)=\"june\",\"0630\"))","v":"20241231"},{"$f":"+'Outgoing Remittances (Volume)'!H55","v":0}]
["CMREM_11510","CC",{"$f":"+'Outgoing Remittances (Volume)'!$H$5","v":"20241231"},{"$f":"+'COVER SHEET'!$D$12","v":0},11510,{"$f":"'COVER SHEET'!$D$16&IF(MID('COVER SHEET'!$I$18,6,10)=\"december\",\"1231\",IF(MID('COVER SHEET'!$I$18,6,10)=\"june\",\"0630\"))","v":"20241231"},{"$f":"+'Outgoing Remittances (Volume)'!H56","v":0}]
["CMREM_11510","CO",{"$f":"+'Outgoing Remittances (Volume)'!$H$5","v":"20241231"},{"$f":"+'COVER SHEET'!$D$12","v":0},11510,{"$f":"'COVER SHEET'!$D$16&IF(MID('COVER SHEET'!$I$18,6,10)=\"december\",\"1231\",IF(MID('COVER SHEET'!$I$18,6,10)=\"june\",\"0630\"))","v":"20241231"},{"$f":"+'Outgoing Remittances (Volume)'!H57","v":0}]
["CMREM_11510","KM",{"$f":"+'Outgoing Remittances (Volume)'!$H$5","v":"20241231"},{"$f":"+'COVER SHEET'!$D$12","v":0},11510,{"$f":"'COVER SHEET'!$D$16&IF(MID('COVER SHEET'!$I$18,6,10)=\"december\",\"1231\",IF(MID('COVER SHEET'!$I$18,6,10)=\"june\",\"0630\"))","v":"20241231"},{"$f":"+'Outgoing Remittances (Volume)'!H58","v":0}]
["CMREM_11510","CG",{"$f":"+'Outgoing Remittances (Volume)'!$H$5","v":"20241231"},{"$f":"+'COVER SHEET'!$D$12","v":0},11510,{"$f":"'COVER SHEET'!$D$16&IF(MID('COVER SHEET'!$I$18,6,10)=\"december\",\"1231\",IF(MID('COVER SHEET'!$I$18,6,10)=\"june\",\"0630\"))","v":"20241231"},{"$f":"+'Outgoing Remittances (Volume)'!H59","v":0}]
["CMREM_11510","CD",{"$f":"+'Outgoing Remittances (Volume)'!$H$5","v":"20241231"},{"$f":"+'COVER SHEET'!$D$12","v":0},11510,{"$f":"'COVER SHEET'!$D$16&IF(MID('COVER SHEET'!$I$18,6,10)=\"december\",\"1231\",IF(MID('COVER SHEET'!$I$18,6,10)=\"june\",\"0630\"))","v":"20241231"},{"$f":"+'Outgoing Remittances (Volume)'!H60","v":0}]
["CMREM_11510","CK",{"$f":"+'Outgoing Remittances (Volume)'!$H$5","v":"20241231"},{"$f":"+'COVER SHEET'!$D$12","v":0},11510,{"$f":"'COVER SHEET'!$D$16&IF(MID('COVER SHEET'!$I$18,6,10)=\"december\",\"1231\",IF(MID('COVER SHEET'!$I$18,6,10)=\"june\",\"0630\"))","v":"20241231"},{"$f":"+'Outgoing Remittances (Volume)'!H61","v":0}]
["CMREM_11510","CR",{"$f":"+'Outgoing Remittances (Volume)'!$H$5","v":"20241231"},{"$f":"+'COVER SHEET'!$D$12","v":0},11510,{"$f":"'COVER SHEET'!$D$16&IF(MID('COVER SHEET'!$I$18,6,10)=\"december\",\"1231\",IF(MID('COVER SHEET'!$I$18,6,10)=\"june\",\"0630\"))","v":"20241231"},{"$f":"+'Outgoing Remittances (Volume)'!H62","v":0}]
["CMREM_11510","HR",{"$f":"+'Outgoing Remittances (Volume)'!$H$5","v":"20241231"},{"$f":"+'COVER SHEET'!$D$12","v":0},11510,{"$f":"'COVER SHEET'!$D$16&IF(MID('COVER SHEET'!$I$18,6,10)=\"december\",\"1231\",IF(MID('COVER SHEET'!$I$18,6,10)=\"june\",\"0630\"))","v":"20241231"},{"$f":"+'Outgoing Remittances (Volume)'!H63","v":0}]
["CMREM_11510","CU",{"$f":"+'Outgoing Remittances (Volume)'!$H$5","v":"20241231"},{"$f":"+'COVER SHEET'!$D$12","v":0},11510,{"$f":"'COVER SHEET'!$D$16&IF(MID('COVER SHEET'!$I$18,6,10)=\"december\",\"1231\",IF(MID('COVER SHEET'!$I$18,6,10)=\"june\",\"0630\"))","v":"20241231"},{"$f":"+'Outgoing Remittances (Volume)'!H64","v":0}]
["CMREM_11510","CW",{"$f":"+'Outgoing Remittances (Volume)'!$H$5","v":"20241231"},{"$f":"+'COVER SHEET'!$D$12","v":0},11510,{"$f":"'COVER SHEET'!$D$16&IF(MID('COVER SHEET'!$I$18,6,10)=\"december\",\"1231\",IF(MID('COVER SHEET'!$I$18,6,10)=\"june\",\"0630\"))","v":"20241231"},{"$f":"+'Outgoing Remittances (Volume)'!H65","v":0}]
["CMREM_11510","CY",{"$f":"+'Outgoing Remittances (Volume)'!$H$5","v":"20241231"},{"$f":"+'COVER SHEET'!$D$12","v":0},11510,{"$f":"'COVER SHEET'!$D$16&IF(MID('COVER SHEET'!$I$18,6,10)=\"december\",\"1231\",IF(MID('COVER SHEET'!$I$18,6,10)=\"june\",\"0630\"))","v":"20241231"},{"$f":"+'Outgoing Remittances (Volume)'!H66","v":0}]
["CMREM_11510","CZ",{"$f":"+'Outgoing Remittances (Volume)'!$H$5","v":"20241231"},{"$f":"+'COVER SHEET'!$D$12","v":0},11510,{"$f":"'COVER SHEET'!$D$16&IF(MID('COVER SHEET'!$I$18,6,10)=\"december\",\"1231\",IF(MID('COVER SHEET'!$I$18,6,10)=\"june\",\"0630\"))","v":"20241231"},{"$f":"+'Outgoing Remittances (Volume)'!H67","v":0}]
["CMREM_11510","DK",{"$f":"+'Outgoing Remittances (Volume)'!$H$5","v":"20241231"},{"$f":"+'COVER SHEET'!$D$12","v":0},11510,{"$f":"'COVER SHEET'!$D$16&IF(MID('COVER SHEET'!$I$18,6,10)=\"december\",\"1231\",IF(MID('COVER SHEET'!$I$18,6,10)=\"june\",\"0630\"))","v":"20241231"},{"$f":"+'Outgoing Remittances (Volume)'!H68","v":0}]
["CMREM_11510","DJ",{"$f":"+'Outgoing Remittances (Volume)'!$H$5","v":"20241231"},{"$f":"+'COVER SHEET'!$D$12","v":0},11510,{"$f":"'COVER SHEET'!$D$16&IF(MID('COVER SHEET'!$I$18,6,10)=\"december\",\"1231\",IF(MID('COVER SHEET'!$I$18,6,10)=\"june\",\"0630\"))","v":"20241231"},{"$f":"+'Outgoing Remittances (Volume)'!H69","v":0}]
["CMREM_11510","DM",{"$f":"+'Outgoing Remittances (Volume)'!$H$5","v":"20241231"},{"$f":"+'COVER SHEET'!$D$12","v":0},11510,{"$f":"'COVER SHEET'!$D$16&IF(MID('COVER SHEET'!$I$18,6,10)=\"december\",\"1231\",IF(MID('COVER SHEET'!$I$18,6,10)=\"june\",\"0630\"))","v":"20241231"},{"$f":"+'Outgoing Remittances (Volume)'!H70","v":0}]
["CMREM_11510","DO",{"$f":"+'Outgoing Remittances (Volume)'!$H$5","v":"20241231"},{"$f":"+'COVER SHEET'!$D$12","v":0},11510,{"$f":"'COVER SHEET'!$D$16&IF(MID('COVER SHEET'!$I$18,6,10)=\"december\",\"1231\",IF(MID('COVER SHEET'!$I$18,6,10)=\"june\",\"0630\"))","v":"20241231"},{"$f":"+'Outgoing Remittances (Volume)'!H71","v":0}]
["CMREM_11510","TL",{"$f":"+'Outgoing Remittances (Volume)'!$H$5","v":"20241231"},{"$f":"+'COVER SHEET'!$D$12","v":0},11510,{"$f":"'COVER SHEET'!$D$16&IF(MID('COVER SHEET'!$I$18,6,10)=\"december\",\"1231\",IF(MID('COVER SHEET'!$I$18,6,10)=\"june\",\"0630\"))","v":"20241231"},{"$f":"+'Outgoing Remittances (Volume)'!H72","v":0}]
["CMREM_11510","EC",{"$f":"+'Outgoing Remittances (Volume)'!$H$5","v":"20241231"},{"$f":"+'COVER SHEET'!$D$12","v":0},11510,{"$f":"'COVER SHEET'!$D$16&IF(MID('COVER SHEET'!$I$18,6,10)=\"december\",\"1231\",IF(MID('COVER SHEET'!$I$18,6,10)=\"june\",\"0630\"))","v":"20241231"},{"$f":"+'Outgoing Remittances (Volume)'!H73","v":0}]
["CMREM_11510","EG",{"$f":"+'Outgoing Remittances (Volume)'!$H$5","v":"20241231"},{"$f":"+'COVER SHEET'!$D$12","v":0},11510,{"$f":"'COVER SHEET'!$D$16&IF(MID('COVER SHEET'!$I$18,6,10)=\"december\",\"1231\",IF(MID('COVER SHEET'!$I$18,6,10)=\"june\",\"0630\"))","v":"20241231"},{"$f":"+'Outgoing Remittances (Volume)'!H74","v":0}]
["CMREM_11510","SV",{"$f":"+'Outgoing Remittances (Volume)'!$H$5","v":"20241231"},{"$f":"+'COVER SHEET'!$D$12","v":0},11510,{"$f":"'COVER SHEET'!$D$16&IF(MID('COVER SHEET'!$I$18,6,10)=\"december\",\"1231\",IF(MID('COVER SHEET'!$I$18,6,10)=\"june\",\"0630\"))","v":"20241231"},{"$f":"+'Outgoing Remittances (Volume)'!H75","v":0}]
["CMREM_11510","GQ",{"$f":"+'Outgoing Remittances (Volume)'!$H$5","v":"20241231"},{"$f":"+'COVER SHEET'!$D$12","v":0},11510,{"$f":"'COVER SHEET'!$D$16&IF(MID('COVER SHEET'!$I$18,6,10)=\"december\",\"1231\",IF(MID('COVER SHEET'!$I$18,6,10)=\"june\",\"0630\"))","v":"20241231"},{"$f":"+'Outgoing Remittances (Volume)'!H76","v":0}]
["CMREM_11510","ER",{"$f":"+'Outgoing Remittances (Volume)'!$H$5","v":"20241231"},{"$f":"+'COVER SHEET'!$D$12","v":0},11510,{"$f":"'COVER SHEET'!$D$16&IF(MID('COVER SHEET'!$I$18,6,10)=\"december\",\"1231\",IF(MID('COVER SHEET'!$I$18,6,10)=\"june\",\"0630\"))","v":"20241231"},{"$f":"+'Outgoing Remittances (Volume)'!H77","v":0}]
["CMREM_11510","EE",{"$f":"+'Outgoing Remittances (Volume)'!$H$5","v":"20241231"},{"$f":"+'COVER SHEET'!$D$12","v":0},11510,{"$f":"'COVER SHEET'!$D$16&IF(MID('COVER SHEET'!$I$18,6,10)=\"december\",\"1231\",IF(MID('COVER SHEET'!$I$18,6,10)=\"june\",\"0630\"))","v":"20241231"},{"$f":"+'Outgoing Remittances (Volume)'!H78","v":0}]
["CMREM_11510","ET",{"$f":"+'Outgoing Remittances (Volume)'!$H$5","v":"20241231"},{"$f":"+'COVER SHEET'!$D$12","v":0},11510,{"$f":"'COVER SHEET'!$D$16&IF(MID('COVER SHEET'!$I$18,6,10)=\"december\",\"1231\",IF(MID('COVER SHEET'!$I$18,6,10)=\"june\",\"0630\"))","v":"20241231"},{"$f":"+'Outgoing Remittances (Volume)'!H79","v":0}]
["CMREM_11510","FK",{"$f":"+'Outgoing Remittances (Volume)'!$H$5","v":"20241231"},{"$f":"+'COVER SHEET'!$D$12","v":0},11510,{"$f":"'COVER SHEET'!$D$16&IF(MID('COVER SHEET'!$I$18,6,10)=\"december\",\"1231\",IF(MID('COVER SHEET'!$I$18,6,10)=\"june\",\"0630\"))","v":"20241231"},{"$f":"+'Outgoing Remittances (Volume)'!H80","v":0}]
["CMREM_11510","FO",{"$f":"+'Outgoing Remittances (Volume)'!$H$5","v":"20241231"},{"$f":"+'COVER SHEET'!$D$12","v":0},11510,{"$f":"'COVER SHEET'!$D$16&IF(MID('COVER SHEET'!$I$18,6,10)=\"december\",\"1231\",IF(MID('COVER SHEET'!$I$18,6,10)=\"june\",\"0630\"))","v":"20241231"},{"$f":"+'Outgoing Remittances (Volume)'!H81","v":0}]
["CMREM_11510","FJ",{"$f":"+'Outgoing Remittances (Volume)'!$H$5","v":"20241231"},{"$f":"+'COVER SHEET'!$D$12","v":0},11510,{"$f":"'COVER SHEET'!$D$16&IF(MID('COVER SHEET'!$I$18,6,10)=\"december\",\"1231\",IF(MID('COVER SHEET'!$I$18,6,10)=\"june\",\"0630\"))","v":"20241231"},{"$f":"+'Outgoing Remittances (Volume)'!H82","v":0}]
["CMREM_11510","FI",{"$f":"+'Outgoing Remittances (Volume)'!$H$5","v":"20241231"},{"$f":"+'COVER SHEET'!$D$12","v":0},11510,{"$f":"'COVER SHEET'!$D$16&IF(MID('COVER SHEET'!$I$18,6,10)=\"december\",\"1231\",IF(MID('COVER SHEET'!$I$18,6,10)=\"june\",\"0630\"))","v":"20241231"},{"$f":"+'Outgoing Remittances (Volume)'!H83","v":0}]
["CMREM_11510","FR",{"$f":"+'Outgoing Remittances (Volume)'!$H$5","v":"20241231"},{"$f":"+'COVER SHEET'!$D$12","v":0},11510,{"$f":"'COVER SHEET'!$D$16&IF(MID('COVER SHEET'!$I$18,6,10)=\"december\",\"1231\",IF(MID('COVER SHEET'!$I$18,6,10)=\"june\",\"0630\"))","v":"20241231"},{"$f":"+'Outgoing Remittances (Volume)'!H84","v":0}]
["CMREM_11510","PF",{"$f":"+'Outgoing Remittances (Volume)'!$H$5","v":"20241231"},{"$f":"+'COVER SHEET'!$D$12","v":0},11510,{"$f":"'COVER SHEET'!$D$16&IF(MID('COVER SHEET'!$I$18,6,10)=\"december\",\"1231\",IF(MID('COVER SHEET'!$I$18,6,10)=\"june\",\"0630\"))","v":"20241231"},{"$f":"+'Outgoing Remittances (Volume)'!H85","v":0}]
["CMREM_11510","TF",{"$f":"+'Outgoing Remittances (Volume)'!$H$5","v":"20241231"},{"$f":"+'COVER SHEET'!$D$12","v":0},11510,{"$f":"'COVER SHEET'!$D$16&IF(MID('COVER SHEET'!$I$18,6,10)=\"december\",\"1231\",IF(MID('COVER SHEET'!$I$18,6,10)=\"june\",\"0630\"))","v":"20241231"},{"$f":"+'Outgoing Remittances (Volume)'!H86","v":0}]
["CMREM_11510","GA",{"$f":"+'Outgoing Remittances (Volume)'!$H$5","v":"20241231"},{"$f":"+'COVER SHEET'!$D$12","v":0},11510,{"$f":"'COVER SHEET'!$D$16&IF(MID('COVER SHEET'!$I$18,6,10)=\"december\",\"1231\",IF(MID('COVER SHEET'!$I$18,6,10)=\"june\",\"0630\"))","v":"20241231"},{"$f":"+'Outgoing Remittances (Volume)'!H87","v":0}]
["CMREM_11510","GM",{"$f":"+'Outgoing Remittances (Volume)'!$H$5","v":"20241231"},{"$f":"+'COVER SHEET'!$D$12","v":0},11510,{"$f":"'COVER SHEET'!$D$16&IF(MID('COVER SHEET'!$I$18,6,10)=\"december\",\"1231\",IF(MID('COVER SHEET'!$I$18,6,10)=\"june\",\"0630\"))","v":"20241231"},{"$f":"+'Outgoing Remittances (Volume)'!H88","v":0}]
["CMREM_11510","GE",{"$f":"+'Outgoing Remittances (Volume)'!$H$5","v":"20241231"},{"$f":"+'COVER SHEET'!$D$12","v":0},11510,{"$f":"'COVER SHEET'!$D$16&IF(MID('COVER SHEET'!$I$18,6,10)=\"december\",\"1231\",IF(MID('COVER SHEET'!$I$18,6,10)=\"june\",\"0630\"))","v":"20241231"},{"$f":"+'Outgoing Remittances (Volume)'!H89","v":0}]
["CMREM_11510","DE",{"$f":"+'Outgoing Remittances (Volume)'!$H$5","v":"20241231"},{"$f":"+'COVER SHEET'!$D$12","v":0},11510,{"$f":"'COVER SHEET'!$D$16&IF(MID('COVER SHEET'!$I$18,6,10)=\"december\",\"1231\",IF(MID('COVER SHEET'!$I$18,6,10)=\"june\",\"0630\"))","v":"20241231"},{"$f":"+'Outgoing Remittances (Volume)'!H90","v":0}]
["CMREM_11510","GH",{"$f":"+'Outgoing Remittances (Volume)'!$H$5","v":"20241231"},{"$f":"+'COVER SHEET'!$D$12","v":0},11510,{"$f":"'COVER SHEET'!$D$16&IF(MID('COVER SHEET'!$I$18,6,10)=\"december\",\"1231\",IF(MID('COVER SHEET'!$I$18,6,10)=\"june\",\"0630\"))","v":"20241231"},{"$f":"+'Outgoing Remittances (Volume)'!H91","v":0}]
["CMREM_11510","GI",{"$f":"+'Outgoing Remittances (Volume)'!$H$5","v":"20241231"},{"$f":"+'COVER SHEET'!$D$12","v":0},11510,{"$f":"'COVER SHEET'!$D$16&IF(MID('COVER SHEET'!$I$18,6,10)=\"december\",\"1231\",IF(MID('COVER SHEET'!$I$18,6,10)=\"june\",\"0630\"))","v":"20241231"},{"$f":"+'Outgoing Remittances (Volume)'!H92","v":0}]
["CMREM_11510","GR",{"$f":"+'Outgoing Remittances (Volume)'!$H$5","v":"20241231"},{"$f":"+'COVER SHEET'!$D$12","v":0},11510,{"$f":"'COVER SHEET'!$D$16&IF(MID('COVER SHEET'!$I$18,6,10)=\"december\",\"1231\",IF(MID('COVER SHEET'!$I$18,6,10)=\"june\",\"0630\"))","v":"20241231"},{"$f":"+'Outgoing Remittances (Volume)'!H93","v":0}]
["CMREM_11510","GL",{"$f":"+'Outgoing Remittances (Volume)'!$H$5","v":"20241231"},{"$f":"+'COVER SHEET'!$D$12","v":0},11510,{"$f":"'COVER SHEET'!$D$16&IF(MID('COVER SHEET'!$I$18,6,10)=\"december\",\"1231\",IF(MID('COVER SHEET'!$I$18,6,10)=\"june\",\"0630\"))","v":"20241231"},{"$f":"+'Outgoing Remittances (Volume)'!H94","v":0}]
["CMREM_11510","GD",{"$f":"+'Outgoing Remittances (Volume)'!$H$5","v":"20241231"},{"$f":"+'COVER SHEET'!$D$12","v":0},11510,{"$f":"'COVER SHEET'!$D$16&IF(MID('COVER SHEET'!$I$18,6,10)=\"december\",\"1231\",IF(MID('COVER SHEET'!$I$18,6,10)=\"june\",\"0630\"))","v":"20241231"},{"$f":"+'Outgoing Remittances (Volume)'!H95","v":0}]
["CMREM_11510","GU",{"$f":"+'Outgoing Remittances (Volume)'!$H$5","v":"20241231"},{"$f":"+'COVER SHEET'!$D$12","v":0},11510,{"$f":"'COVER SHEET'!$D$16&IF(MID('COVER SHEET'!$I$18,6,10)=\"december\",\"1231\",IF(MID('COVER SHEET'!$I$18,6,10)=\"june\",\"0630\"))","v":"20241231"},{"$f":"+'Outgoing Remittances (Volume)'!H96","v":0}]
["CMREM_11510","GT",{"$f":"+'Outgoing Remittances (Volume)'!$H$5","v":"20241231"},{"$f":"+'COVER SHEET'!$D$12","v":0},11510,{"$f":"'COVER SHEET'!$D$16&IF(MID('COVER SHEET'!$I$18,6,10)=\"december\",\"1231\",IF(MID('COVER SHEET'!$I$18,6,10)=\"june\",\"0630\"))","v":"20241231"},{"$f":"+'Outgoing Remittances (Volume)'!H97","v":0}]
["CMREM_11510","GG",{"$f":"+'Outgoing Remittances (Volume)'!$H$5","v":"20241231"},{"$f":"+'COVER SHEET'!$D$12","v":0},11510,{"$f":"'COVER SHEET'!$D$16&IF(MID('COVER SHEET'!$I$18,6,10)=\"december\",\"1231\",IF(MID('COVER SHEET'!$I$18,6,10)=\"june\",\"0630\"))","v":"20241231"},{"$f":"+'Outgoing Remittances (Volume)'!H98","v":0}]
["CMREM_11510","GN",{"$f":"+'Outgoing Remittances (Volume)'!$H$5","v":"20241231"},{"$f":"+'COVER SHEET'!$D$12","v":0},11510,{"$f":"'COVER SHEET'!$D$16&IF(MID('COVER SHEET'!$I$18,6,10)=\"december\",\"1231\",IF(MID('COVER SHEET'!$I$18,6,10)=\"june\",\"0630\"))","v":"20241231"},{"$f":"+'Outgoing Remittances (Volume)'!H99","v":0}]
["CMREM_11510","GW",{"$f":"+'Outgoing Remittances (Volume)'!$H$5","v":"20241231"},{"$f":"+'COVER SHEET'!$D$12","v":0},11510,{"$f":"'COVER SHEET'!$D$16&IF(MID('COVER SHEET'!$I$18,6,10)=\"december\",\"1231\",IF(MID('COVER SHEET'!$I$18,6,10)=\"june\",\"0630\"))","v":"20241231"},{"$f":"+'Outgoing Remittances (Volume)'!H100","v":0}]
["CMREM_11510","GY",{"$f":"+'Outgoing Remittances (Volume)'!$H$5","v":"20241231"},{"$f":"+'COVER SHEET'!$D$12","v":0},11510,{"$f":"'COVER SHEET'!$D$16&IF(MID('COVER SHEET'!$I$18,6,10)=\"december\",\"1231\",IF(MID('COVER SHEET'!$I$18,6,10)=\"june\",\"0630\"))","v":"20241231"},{"$f":"+'Outgoing Remittances (Volume)'!H101","v":0}]
["CMREM_11510","HT",{"$f":"+'Outgoing Remittances (Volume)'!$H$5","v":"20241231"},{"$f":"+'COVER SHEET'!$D$12","v":0},11510,{"$f":"'COVER SHEET'!$D$16&IF(MID('COVER SHEET'!$I$18,6,10)=\"december\",\"1231\",IF(MID('COVER SHEET'!$I$18,6,10)=\"june\",\"0630\"))","v":"20241231"},{"$f":"+'Outgoing Remittances (Volume)'!H102","v":0}]
["CMREM_11510","HM",{"$f":"+'Outgoing Remittances (Volume)'!$H$5","v":"20241231"},{"$f":"+'COVER SHEET'!$D$12","v":0},11510,{"$f":"'COVER SHEET'!$D$16&IF(MID('COVER SHEET'!$I$18,6,10)=\"december\",\"1231\",IF(MID('COVER SHEET'!$I$18,6,10)=\"june\",\"0630\"))","v":"20241231"},{"$f":"+'Outgoing Remittances (Volume)'!H103","v":0}]
["CMREM_11510","VA",{"$f":"+'Outgoing Remittances (Volume)'!$H$5","v":"20241231"},{"$f":"+'COVER SHEET'!$D$12","v":0},11510,{"$f":"'COVER SHEET'!$D$16&IF(MID('COVER SHEET'!$I$18,6,10)=\"december\",\"1231\",IF(MID('COVER SHEET'!$I$18,6,10)=\"june\",\"0630\"))","v":"20241231"},{"$f":"+'Outgoing Remittances (Volume)'!H104","v":0}]
["CMREM_11510","HN",{"$f":"+'Outgoing Remittances (Volume)'!$H$5","v":"20241231"},{"$f":"+'COVER SHEET'!$D$12","v":0},11510,{"$f":"'COVER SHEET'!$D$16&IF(MID('COVER SHEET'!$I$18,6,10)=\"december\",\"1231\",IF(MID('COVER SHEET'!$I$18,6,10)=\"june\",\"0630\"))","v":"20241231"},{"$f":"+'Outgoing Remittances (Volume)'!H105","v":0}]
["CMREM_11510","HK",{"$f":"+'Outgoing Remittances (Volume)'!$H$5","v":"20241231"},{"$f":"+'COVER SHEET'!$D$12","v":0},11510,{"$f":"'COVER SHEET'!$D$16&IF(MID('COVER SHEET'!$I$18,6,10)=\"december\",\"1231\",IF(MID('COVER SHEET'!$I$18,6,10)=\"june\",\"0630\"))","v":"20241231"},{"$f":"+'Outgoing Remittances (Volume)'!H106","v":0}]
["CMREM_11510","HU",{"$f":"+'Outgoing Remittances (Volume)'!$H$5","v":"20241231"},{"$f":"+'COVER SHEET'!$D$12","v":0},11510,{"$f":"'COVER SHEET'!$D$16&IF(MID('COVER SHEET'!$I$18,6,10)=\"december\",\"1231\",IF(MID('COVER SHEET'!$I$18,6,10)=\"june\",\"0630\"))","v":"20241231"},{"$f":"+'Outgoing Remittances (Volume)'!H107","v":0}]
["CMREM_11510","IS",{"$f":"+'Outgoing Remittances (Volume)'!$H$5","v":"20241231"},{"$f":"+'COVER SHEET'!$D$12","v":0},11510,{"$f":"'COVER SHEET'!$D$16&IF(MID('COVER SHEET'!$I$18,6,10)=\"december\",\"1231\",IF(MID('COVER SHEET'!$I$18,6,10)=\"june\",\"0630\"))","v":"20241231"},{"$f":"+'Outgoing Remittances (Volume)'!H108","v":0}]
["CMREM_11510","IN",{"$f":"+'Outgoing Remittances (Volume)'!$H$5","v":"20241231"},{"$f":"+'COVER SHEET'!$D$12","v":0},11510,{"$f":"'COVER SHEET'!$D$16&IF(MID('COVER SHEET'!$I$18,6,10)=\"december\",\"1231\",IF(MID('COVER SHEET'!$I$18,6,10)=\"june\",\"0630\"))","v":"20241231"},{"$f":"+'Outgoing Remittances (Volume)'!H109","v":0}]
["CMREM_11510","ID",{"$f":"+'Outgoing Remittances (Volume)'!$H$5","v":"20241231"},{"$f":"+'COVER SHEET'!$D$12","v":0},11510,{"$f":"'COVER SHEET'!$D$16&IF(MID('COVER SHEET'!$I$18,6,10)=\"december\",\"1231\",IF(MID('COVER SHEET'!$I$18,6,10)=\"june\",\"0630\"))","v":"20241231"},{"$f":"+'Outgoing Remittances (Volume)'!H110","v":0}]
["CMREM_11510","IR",{"$f":"+'Outgoing Remittances (Volume)'!$H$5","v":"20241231"},{"$f":"+'COVER SHEET'!$D$12","v":0},11510,{"$f":"'COVER SHEET'!$D$16&IF(MID('COVER SHEET'!$I$18,6,10)=\"december\",\"1231\",IF(MID('COVER SHEET'!$I$18,6,10)=\"june\",\"0630\"))","v":"20241231"},{"$f":"+'Outgoing Remittances (Volume)'!H111","v":0}]
["CMREM_11510","IQ",{"$f":"+'Outgoing Remittances (Volume)'!$H$5","v":"20241231"},{"$f":"+'COVER SHEET'!$D$12","v":0},11510,{"$f":"'COVER SHEET'!$D$16&IF(MID('COVER SHEET'!$I$18,6,10)=\"december\",\"1231\",IF(MID('COVER SHEET'!$I$18,6,10)=\"june\",\"0630\"))","v":"20241231"},{"$f":"+'Outgoing Remittances (Volume)'!H112","v":0}]
["CMREM_11510","IE",{"$f":"+'Outgoing Remittances (Volume)'!$H$5","v":"20241231"},{"$f":"+'COVER SHEET'!$D$12","v":0},11510,{"$f":"'COVER SHEET'!$D$16&IF(MID('COVER SHEET'!$I$18,6,10)=\"december\",\"1231\",IF(MID('COVER SHEET'!$I$18,6,10)=\"june\",\"0630\"))","v":"20241231"},{"$f":"+'Outgoing Remittances (Volume)'!H113","v":0}]
["CMREM_11510","IM",{"$f":"+'Outgoing Remittances (Volume)'!$H$5","v":"20241231"},{"$f":"+'COVER SHEET'!$D$12","v":0},11510,{"$f":"'COVER SHEET'!$D$16&IF(MID('COVER SHEET'!$I$18,6,10)=\"december\",\"1231\",IF(MID('COVER SHEET'!$I$18,6,10)=\"june\",\"0630\"))","v":"20241231"},{"$f":"+'Outgoing Remittances (Volume)'!H114","v":0}]
["CMREM_11510","IL",{"$f":"+'Outgoing Remittances (Volume)'!$H$5","v":"20241231"},{"$f":"+'COVER SHEET'!$D$12","v":0},11510,{"$f":"'COVER SHEET'!$D$16&IF(MID('COVER SHEET'!$I$18,6,10)=\"december\",\"1231\",IF(MID('COVER SHEET'!$I$18,6,10)=\"june\",\"0630\"))","v":"20241231"},{"$f":"+'Outgoing Remittances (Volume)'!H115","v":0}]
["CMREM_11510","IT",{"$f":"+'Outgoing Remittances (Volume)'!$H$5","v":"20241231"},{"$f":"+'COVER SHEET'!$D$12","v":0},11510,{"$f":"'COVER SHEET'!$D$16&IF(MID('COVER SHEET'!$I$18,6,10)=\"december\",\"1231\",IF(MID('COVER SHEET'!$I$18,6,10)=\"june\",\"0630\"))","v":"20241231"},{"$f":"+'Outgoing Remittances (Volume)'!H116","v":0}]
["CMREM_11510","CI",{"$f":"+'Outgoing Remittances (Volume)'!$H$5","v":"20241231"},{"$f":"+'COVER SHEET'!$D$12","v":0},11510,{"$f":"'COVER SHEET'!$D$16&IF(MID('COVER SHEET'!$I$18,6,10)=\"december\",\"1231\",IF(MID('COVER SHEET'!$I$18,6,10)=\"june\",\"0630\"))","v":"20241231"},{"$f":"+'Outgoing Remittances (Volume)'!H117","v":0}]
["CMREM_11510","JM",{"$f":"+'Outgoing Remittances (Volume)'!$H$5","v":"20241231"},{"$f":"+'COVER SHEET'!$D$12","v":0},11510,{"$f":"'COVER SHEET'!$D$16&IF(MID('COVER SHEET'!$I$18,6,10)=\"december\",\"1231\",IF(MID('COVER SHEET'!$I$18,6,10)=\"june\",\"0630\"))","v":"20241231"},{"$f":"+'Outgoing Remittances (Volume)'!H118","v":0}]
["CMREM_11510","JP",{"$f":"+'Outgoing Remittances (Volume)'!$H$5","v":"20241231"},{"$f":"+'COVER SHEET'!$D$12","v":0},11510,{"$f":"'COVER SHEET'!$D$16&IF(MID('COVER SHEET'!$I$18,6,10)=\"december\",\"1231\",IF(MID('COVER SHEET'!$I$18,6,10)=\"june\",\"0630\"))","v":"20241231"},{"$f":"+'Outgoing Remittances (Volume)'!H119","v":0}]
["CMREM_11510","JE",{"$f":"+'Outgoing Remittances (Volume)'!$H$5","v":"20241231"},{"$f":"+'COVER SHEET'!$D$12","v":0},11510,{"$f":"'COVER SHEET'!$D$16&IF(MID('COVER SHEET'!$I$18,6,10)=\"december\",\"1231\",IF(MID('COVER SHEET'!$I$18,6,10)=\"june\",\"0630\"))","v":"20241231"},{"$f":"+'Outgoing Remittances (Volume)'!H120","v":0}]
["CMREM_11510","JO",{"$f":"+'Outgoing Remittances (Volume)'!$H$5","v":"20241231"},{"$f":"+'COVER SHEET'!$D$12","v":0},11510,{"$f":"'COVER SHEET'!$D$16&IF(MID('COVER SHEET'!$I$18,6,10)=\"december\",\"1231\",IF(MID('COVER SHEET'!$I$18,6,10)=\"june\",\"0630\"))","v":"20241231"},{"$f":"+'Outgoing Remittances (Volume)'!H121","v":0}]
["CMREM_11510","KZ",{"$f":"+'Outgoing Remittances (Volume)'!$H$5","v":"20241231"},{"$f":"+'COVER SHEET'!$D$12","v":0},11510,{"$f":"'COVER SHEET'!$D$16&IF(MID('COVER SHEET'!$I$18,6,10)=\"december\",\"1231\",IF(MID('COVER SHEET'!$I$18,6,10)=\"june\",\"0630\"))","v":"20241231"},{"$f":"+'Outgoing Remittances (Volume)'!H122","v":0}]
["CMREM_11510","KE",{"$f":"+'Outgoing Remittances (Volume)'!$H$5","v":"20241231"},{"$f":"+'COVER SHEET'!$D$12","v":0},11510,{"$f":"'COVER SHEET'!$D$16&IF(MID('COVER SHEET'!$I$18,6,10)=\"december\",\"1231\",IF(MID('COVER SHEET'!$I$18,6,10)=\"june\",\"0630\"))","v":"20241231"},{"$f":"+'Outgoing Remittances (Volume)'!H123","v":0}]
["CMREM_11510","KI",{"$f":"+'Outgoing Remittances (Volume)'!$H$5","v":"20241231"},{"$f":"+'COVER SHEET'!$D$12","v":0},11510,{"$f":"'COVER SHEET'!$D$16&IF(MID('COVER SHEET'!$I$18,6,10)=\"december\",\"1231\",IF(MID('COVER SHEET'!$I$18,6,10)=\"june\",\"0630\"))","v":"20241231"},{"$f":"+'Outgoing Remittances (Volume)'!H124","v":0}]
["CMREM_11510","KP",{"$f":"+'Outgoing Remittances (Volume)'!$H$5","v":"20241231"},{"$f":"+'COVER SHEET'!$D$12","v":0},11510,{"$f":"'COVER SHEET'!$D$16&IF(MID('COVER SHEET'!$I$18,6,10)=\"december\",\"1231\",IF(MID('COVER SHEET'!$I$18,6,10)=\"june\",\"0630\"))","v":"20241231"},{"$f":"+'Outgoing Remittances (Volume)'!H125","v":0}]
["CMREM_11510","KR",{"$f":"+'Outgoing Remittances (Volume)'!$H$5","v":"20241231"},{"$f":"+'COVER SHEET'!$D$12","v":0},11510,{"$f":"'COVER SHEET'!$D$16&IF(MID('COVER SHEET'!$I$18,6,10)=\"december\",\"1231\",IF(MID('COVER SHEET'!$I$18,6,10)=\"june\",\"0630\"))","v":"20241231"},{"$f":"+'Outgoing Remittances (Volume)'!H126","v":0}]
["CMREM_11510","XK",{"$f":"+'Outgoing Remittances (Volume)'!$H$5","v":"20241231"},{"$f":"+'COVER SHEET'!$D$12","v":0},11510,{"$f":"'COVER SHEET'!$D$16&IF(MID('COVER SHEET'!$I$18,6,10)=\"december\",\"1231\",IF(MID('COVER SHEET'!$I$18,6,10)=\"june\",\"0630\"))","v":"20241231"},{"$f":"+'Outgoing Remittances (Volume)'!H127","v":0}]
["CMREM_11510","KW",{"$f":"+'Outgoing Remittances (Volume)'!$H$5","v":"20241231"},{"$f":"+'COVER SHEET'!$D$12","v":0},11510,{"$f":"'COVER SHEET'!$D$16&IF(MID('COVER SHEET'!$I$18,6,10)=\"december\",\"1231\",IF(MID('COVER SHEET'!$I$18,6,10)=\"june\",\"0630\"))","v":"20241231"},{"$f":"+'Outgoing Remittances (Volume)'!H128","v":0}]
["CMREM_11510","KG",{"$f":"+'Outgoing Remittances (Volume)'!$H$5","v":"20241231"},{"$f":"+'COVER SHEET'!$D$12","v":0},11510,{"$f":"'COVER SHEET'!$D$16&IF(MID('COVER SHEET'!$I$18,6,10)=\"december\",\"1231\",IF(MID('COVER SHEET'!$I$18,6,10)=\"june\",\"0630\"))","v":"20241231"},{"$f":"+'Outgoing Remittances (Volume)'!H129","v":0}]
["CMREM_11510","LA",{"$f":"+'Outgoing Remittances (Volume)'!$H$5","v":"20241231"},{"$f":"+'COVER SHEET'!$D$12","v":0},11510,{"$f":"'COVER SHEET'!$D$16&IF(MID('COVER SHEET'!$I$18,6,10)=\"december\",\"1231\",IF(MID('COVER SHEET'!$I$18,6,10)=\"june\",\"0630\"))","v":"20241231"},{"$f":"+'Outgoing Remittances (Volume)'!H130","v":0}]
["CMREM_11510","LV",{"$f":"+'Outgoing Remittances (Volume)'!$H$5","v":"20241231"},{"$f":"+'COVER SHEET'!$D$12","v":0},11510,{"$f":"'COVER SHEET'!$D$16&IF(MID('COVER SHEET'!$I$18,6,10)=\"december\",\"1231\",IF(MID('COVER SHEET'!$I$18,6,10)=\"june\",\"0630\"))","v":"20241231"},{"$f":"+'Outgoing Remittances (Volume)'!H131","v":0}]
["CMREM_11510","LB",{"$f":"+'Outgoing Remittances (Volume)'!$H$5","v":"20241231"},{"$f":"+'COVER SHEET'!$D$12","v":0},11510,{"$f":"'COVER SHEET'!$D$16&IF(MID('COVER SHEET'!$I$18,6,10)=\"december\",\"1231\",IF(MID('COVER SHEET'!$I$18,6,10)=\"june\",\"0630\"))","v":"20241231"},{"$f":"+'Outgoing Remittances (Volume)'!H132","v":0}]
["CMREM_11510","LS",{"$f":"+'Outgoing Remittances (Volume)'!$H$5","v":"20241231"},{"$f":"+'COVER SHEET'!$D$12","v":0},11510,{"$f":"'COVER SHEET'!$D$16&IF(MID('COVER SHEET'!$I$18,6,10)=\"december\",\"1231\",IF(MID('COVER SHEET'!$I$18,6,10)=\"june\",\"0630\"))","v":"20241231"},{"$f":"+'Outgoing Remittances (Volume)'!H133","v":0}]
["CMREM_11510","LR",{"$f":"+'Outgoing Remittances (Volume)'!$H$5","v":"20241231"},{"$f":"+'COVER SHEET'!$D$12","v":0},11510,{"$f":"'COVER SHEET'!$D$16&IF(MID('COVER SHEET'!$I$18,6,10)=\"december\",\"1231\",IF(MID('COVER SHEET'!$I$18,6,10)=\"june\",\"0630\"))","v":"20241231"},{"$f":"+'Outgoing Remittances (Volume)'!H134","v":0}]
["CMREM_11510","LY",{"$f":"+'Outgoing Remittances (Volume)'!$H$5","v":"20241231"},{"$f":"+'COVER SHEET'!$D$12","v":0},11510,{"$f":"'COVER SHEET'!$D$16&IF(MID('COVER SHEET'!$I$18,6,10)=\"december\",\"1231\",IF(MID('COVER SHEET'!$I$18,6,10)=\"june\",\"0630\"))","v":"20241231"},{"$f":"+'Outgoing Remittances (Volume)'!H135","v":0}]
["CMREM_11510","LI",{"$f":"+'Outgoing Remittances (Volume)'!$H$5","v":"20241231"},{"$f":"+'COVER SHEET'!$D$12","v":0},11510,{"$f":"'COVER SHEET'!$D$16&IF(MID('COVER SHEET'!$I$18,6,10)=\"december\",\"1231\",IF(MID('COVER SHEET'!$I$18,6,10)=\"june\",\"0630\"))","v":"20241231"},{"$f":"+'Outgoing Remittances (Volume)'!H136","v":0}]
["CMREM_11510","LT",{"$f":"+'Outgoing Remittances (Volume)'!$H$5","v":"20241231"},{"$f":"+'COVER SHEET'!$D$12","v":0},11510,{"$f":"'COVER SHEET'!$D$16&IF(MID('COVER SHEET'!$I$18,6,10)=\"december\",\"1231\",IF(MID('COVER SHEET'!$I$18,6,10)=\"june\",\"0630\"))","v":"20241231"},{"$f":"+'Outgoing Remittances (Volume)'!H137","v":0}]
["CMREM_11510","LU",{"$f":"+'Outgoing Remittances (Volume)'!$H$5","v":"20241231"},{"$f":"+'COVER SHEET'!$D$12","v":0},11510,{"$f":"'COVER SHEET'!$D$16&IF(MID('COVER SHEET'!$I$18,6,10)=\"december\",\"1231\",IF(MID('COVER SHEET'!$I$18,6,10)=\"june\",\"0630\"))","v":"20241231"},{"$f":"+'Outgoing Remittances (Volume)'!H138","v":0}]
["CMREM_11510","MO",{"$f":"+'Outgoing Remittances (Volume)'!$H$5","v":"20241231"},{"$f":"+'COVER SHEET'!$D$12","v":0},11510,{"$f":"'COVER SHEET'!$D$16&IF(MID('COVER SHEET'!$I$18,6,10)=\"december\",\"1231\",IF(MID('COVER SHEET'!$I$18,6,10)=\"june\",\"0630\"))","v":"20241231"},{"$f":"+'Outgoing Remittances (Volume)'!H139","v":0}]
["CMREM_11510","MK",{"$f":"+'Outgoing Remittances (Volume)'!$H$5","v":"20241231"},{"$f":"+'COVER SHEET'!$D$12","v":0},11510,{"$f":"'COVER SHEET'!$D$16&IF(MID('COVER SHEET'!$I$18,6,10)=\"december\",\"1231\",IF(MID('COVER SHEET'!$I$18,6,10)=\"june\",\"0630\"))","v":"20241231"},{"$f":"+'Outgoing Remittances (Volume)'!H140","v":0}]
["CMREM_11510","MG",{"$f":"+'Outgoing Remittances (Volume)'!$H$5","v":"20241231"},{"$f":"+'COVER SHEET'!$D$12","v":0},11510,{"$f":"'COVER SHEET'!$D$16&IF(MID('COVER SHEET'!$I$18,6,10)=\"december\",\"1231\",IF(MID('COVER SHEET'!$I$18,6,10)=\"june\",\"0630\"))","v":"20241231"},{"$f":"+'Outgoing Remittances (Volume)'!H141","v":0}]
["CMREM_11510","MW",{"$f":"+'Outgoing Remittances (Volume)'!$H$5","v":"20241231"},{"$f":"+'COVER SHEET'!$D$12","v":0},11510,{"$f":"'COVER SHEET'!$D$16&IF(MID('COVER SHEET'!$I$18,6,10)=\"december\",\"1231\",IF(MID('COVER SHEET'!$I$18,6,10)=\"june\",\"0630\"))","v":"20241231"},{"$f":"+'Outgoing Remittances (Volume)'!H142","v":0}]
["CMREM_11510","MY",{"$f":"+'Outgoing Remittances (Volume)'!$H$5","v":"20241231"},{"$f":"+'COVER SHEET'!$D$12","v":0},11510,{"$f":"'COVER SHEET'!$D$16&IF(MID('COVER SHEET'!$I$18,6,10)=\"december\",\"1231\",IF(MID('COVER SHEET'!$I$18,6,10)=\"june\",\"0630\"))","v":"20241231"},{"$f":"+'Outgoing Remittances (Volume)'!H143","v":0}]
["CMREM_11510","MV",{"$f":"+'Outgoing Remittances (Volume)'!$H$5","v":"20241231"},{"$f":"+'COVER SHEET'!$D$12","v":0},11510,{"$f":"'COVER SHEET'!$D$16&IF(MID('COVER SHEET'!$I$18,6,10)=\"december\",\"1231\",IF(MID('COVER SHEET'!$I$18,6,10)=\"june\",\"0630\"))","v":"20241231"},{"$f":"+'Outgoing Remittances (Volume)'!H144","v":0}]
["CMREM_11510","ML",{"$f":"+'Outgoing Remittances (Volume)'!$H$5","v":"20241231"},{"$f":"+'COVER SHEET'!$D$12","v":0},11510,{"$f":"'COVER SHEET'!$D$16&IF(MID('COVER SHEET'!$I$18,6,10)=\"december\",\"1231\",IF(MID('COVER SHEET'!$I$18,6,10)=\"june\",\"0630\"))","v":"20241231"},{"$f":"+'Outgoing Remittances (Volume)'!H145","v":0}]
["CMREM_11510","MH",{"$f":"+'Outgoing Remittances (Volume)'!$H$5","v":"20241231"},{"$f":"+'COVER SHEET'!$D$12","v":0},11510,{"$f":"'COVER SHEET'!$D$16&IF(MID('COVER SHEET'!$I$18,6,10)=\"december\",\"1231\",IF(MID('COVER SHEET'!$I$18,6,10)=\"june\",\"0630\"))","v":"20241231"},{"$f":"+'Outgoing Remittances (Volume)'!H146","v":0}]
["CMREM_11510","MR",{"$f":"+'Outgoing Remittances (Volume)'!$H$5","v":"20241231"},{"$f":"+'COVER SHEET'!$D$12","v":0},11510,{"$f":"'COVER SHEET'!$D$16&IF(MID('COVER SHEET'!$I$18,6,10)=\"december\",\"1231\",IF(MID('COVER SHEET'!$I$18,6,10)=\"june\",\"0630\"))","v":"20241231"},{"$f":"+'Outgoing Remittances (Volume)'!H147","v":0}]
["CMREM_11510","MU",{"$f":"+'Outgoing Remittances (Volume)'!$H$5","v":"20241231"},{"$f":"+'COVER SHEET'!$D$12","v":0},11510,{"$f":"'COVER SHEET'!$D$16&IF(MID('COVER SHEET'!$I$18,6,10)=\"december\",\"1231\",IF(MID('COVER SHEET'!$I$18,6,10)=\"june\",\"0630\"))","v":"20241231"},{"$f":"+'Outgoing Remittances (Volume)'!H148","v":0}]
["CMREM_11510","MX",{"$f":"+'Outgoing Remittances (Volume)'!$H$5","v":"20241231"},{"$f":"+'COVER SHEET'!$D$12","v":0},11510,{"$f":"'COVER SHEET'!$D$16&IF(MID('COVER SHEET'!$I$18,6,10)=\"december\",\"1231\",IF(MID('COVER SHEET'!$I$18,6,10)=\"june\",\"0630\"))","v":"20241231"},{"$f":"+'Outgoing Remittances (Volume)'!H149","v":0}]
["CMREM_11510","FM",{"$f":"+'Outgoing Remittances (Volume)'!$H$5","v":"20241231"},{"$f":"+'COVER SHEET'!$D$12","v":0},11510,{"$f":"'COVER SHEET'!$D$16&IF(MID('COVER SHEET'!$I$18,6,10)=\"december\",\"1231\",IF(MID('COVER SHEET'!$I$18,6,10)=\"june\",\"0630\"))","v":"20241231"},{"$f":"+'Outgoing Remittances (Volume)'!H150","v":0}]
["CMREM_11510","MD",{"$f":"+'Outgoing Remittances (Volume)'!$H$5","v":"20241231"},{"$f":"+'COVER SHEET'!$D$12","v":0},11510,{"$f":"'COVER SHEET'!$D$16&IF(MID('COVER SHEET'!$I$18,6,10)=\"december\",\"1231\",IF(MID('COVER SHEET'!$I$18,6,10)=\"june\",\"0630\"))","v":"20241231"},{"$f":"+'Outgoing Remittances (Volume)'!H151","v":0}]
["CMREM_11510","MN",{"$f":"+'Outgoing Remittances (Volume)'!$H$5","v":"20241231"},{"$f":"+'COVER SHEET'!$D$12","v":0},11510,{"$f":"'COVER SHEET'!$D$16&IF(MID('COVER SHEET'!$I$18,6,10)=\"december\",\"1231\",IF(MID('COVER SHEET'!$I$18,6,10)=\"june\",\"0630\"))","v":"20241231"},{"$f":"+'Outgoing Remittances (Volume)'!H152","v":0}]
["CMREM_11510","ME",{"$f":"+'Outgoing Remittances (Volume)'!$H$5","v":"20241231"},{"$f":"+'COVER SHEET'!$D$12","v":0},11510,{"$f":"'COVER SHEET'!$D$16&IF(MID('COVER SHEET'!$I$18,6,10)=\"december\",\"1231\",IF(MID('COVER SHEET'!$I$18,6,10)=\"june\",\"0630\"))","v":"20241231"},{"$f":"+'Outgoing Remittances (Volume)'!H153","v":0}]
["CMREM_11510","MS",{"$f":"+'Outgoing Remittances (Volume)'!$H$5","v":"20241231"},{"$f":"+'COVER SHEET'!$D$12","v":0},11510,{"$f":"'COVER SHEET'!$D$16&IF(MID('COVER SHEET'!$I$18,6,10)=\"december\",\"1231\",IF(MID('COVER SHEET'!$I$18,6,10)=\"june\",\"0630\"))","v":"20241231"},{"$f":"+'Outgoing Remittances (Volume)'!H154","v":0}]
["CMREM_11510","MA",{"$f":"+'Outgoing Remittances (Volume)'!$H$5","v":"20241231"},{"$f":"+'COVER SHEET'!$D$12","v":0},11510,{"$f":"'COVER SHEET'!$D$16&IF(MID('COVER SHEET'!$I$18,6,10)=\"december\",\"1231\",IF(MID('COVER SHEET'!$I$18,6,10)=\"june\",\"0630\"))","v":"20241231"},{"$f":"+'Outgoing Remittances (Volume)'!H155","v":0}]
["CMREM_11510","MZ",{"$f":"+'Outgoing Remittances (Volume)'!$H$5","v":"20241231"},{"$f":"+'COVER SHEET'!$D$12","v":0},11510,{"$f":"'COVER SHEET'!$D$16&IF(MID('COVER SHEET'!$I$18,6,10)=\"december\",\"1231\",IF(MID('COVER SHEET'!$I$18,6,10)=\"june\",\"0630\"))","v":"20241231"},{"$f":"+'Outgoing Remittances (Volume)'!H156","v":0}]
["CMREM_11510","MM",{"$f":"+'Outgoing Remittances (Volume)'!$H$5","v":"20241231"},{"$f":"+'COVER SHEET'!$D$12","v":0},11510,{"$f":"'COVER SHEET'!$D$16&IF(MID('COVER SHEET'!$I$18,6,10)=\"december\",\"1231\",IF(MID('COVER SHEET'!$I$18,6,10)=\"june\",\"0630\"))","v":"20241231"},{"$f":"+'Outgoing Remittances (Volume)'!H157","v":0}]
["CMREM_11510","NA",{"$f":"+'Outgoing Remittances (Volume)'!$H$5","v":"20241231"},{"$f":"+'COVER SHEET'!$D$12","v":0},11510,{"$f":"'COVER SHEET'!$D$16&IF(MID('COVER SHEET'!$I$18,6,10)=\"december\",\"1231\",IF(MID('COVER SHEET'!$I$18,6,10)=\"june\",\"0630\"))","v":"20241231"},{"$f":"+'Outgoing Remittances (Volume)'!H158","v":0}]
["CMREM_11510","NR",{"$f":"+'Outgoing Remittances (Volume)'!$H$5","v":"20241231"},{"$f":"+'COVER SHEET'!$D$12","v":0},11510,{"$f":"'COVER SHEET'!$D$16&IF(MID('COVER SHEET'!$I$18,6,10)=\"december\",\"1231\",IF(MID('COVER SHEET'!$I$18,6,10)=\"june\",\"0630\"))","v":"20241231"},{"$f":"+'Outgoing Remittances (Volume)'!H159","v":0}]
["CMREM_11510","NP",{"$f":"+'Outgoing Remittances (Volume)'!$H$5","v":"20241231"},{"$f":"+'COVER SHEET'!$D$12","v":0},11510,{"$f":"'COVER SHEET'!$D$16&IF(MID('COVER SHEET'!$I$18,6,10)=\"december\",\"1231\",IF(MID('COVER SHEET'!$I$18,6,10)=\"june\",\"0630\"))","v":"20241231"},{"$f":"+'Outgoing Remittances (Volume)'!H160","v":0}]
["CMREM_11510","NL",{"$f":"+'Outgoing Remittances (Volume)'!$H$5","v":"20241231"},{"$f":"+'COVER SHEET'!$D$12","v":0},11510,{"$f":"'COVER SHEET'!$D$16&IF(MID('COVER SHEET'!$I$18,6,10)=\"december\",\"1231\",IF(MID('COVER SHEET'!$I$18,6,10)=\"june\",\"0630\"))","v":"20241231"},{"$f":"+'Outgoing Remittances (Volume)'!H161","v":0}]
["CMREM_11510","NC",{"$f":"+'Outgoing Remittances (Volume)'!$H$5","v":"20241231"},{"$f":"+'COVER SHEET'!$D$12","v":0},11510,{"$f":"'COVER SHEET'!$D$16&IF(MID('COVER SHEET'!$I$18,6,10)=\"december\",\"1231\",IF(MID('COVER SHEET'!$I$18,6,10)=\"june\",\"0630\"))","v":"20241231"},{"$f":"+'Outgoing Remittances (Volume)'!H162","v":0}]
["CMREM_11510","NZ",{"$f":"+'Outgoing Remittances (Volume)'!$H$5","v":"20241231"},{"$f":"+'COVER SHEET'!$D$12","v":0},11510,{"$f":"'COVER SHEET'!$D$16&IF(MID('COVER SHEET'!$I$18,6,10)=\"december\",\"1231\",IF(MID('COVER SHEET'!$I$18,6,10)=\"june\",\"0630\"))","v":"20241231"},{"$f":"+'Outgoing Remittances (Volume)'!H163","v":0}]
["CMREM_11510","NI",{"$f":"+'Outgoing Remittances (Volume)'!$H$5","v":"20241231"},{"$f":"+'COVER SHEET'!$D$12","v":0},11510,{"$f":"'COVER SHEET'!$D$16&IF(MID('COVER SHEET'!$I$18,6,10)=\"december\",\"1231\",IF(MID('COVER SHEET'!$I$18,6,10)=\"june\",\"0630\"))","v":"20241231"},{"$f":"+'Outgoing Remittances (Volume)'!H164","v":0}]
["CMREM_11510","NE",{"$f":"+'Outgoing Remittances (Volume)'!$H$5","v":"20241231"},{"$f":"+'COVER SHEET'!$D$12","v":0},11510,{"$f":"'COVER SHEET'!$D$16&IF(MID('COVER SHEET'!$I$18,6,10)=\"december\",\"1231\",IF(MID('COVER SHEET'!$I$18,6,10)=\"june\",\"0630\"))","v":"20241231"},{"$f":"+'Outgoing Remittances (Volume)'!H165","v":0}]
["CMREM_11510","NG",{"$f":"+'Outgoing Remittances (Volume)'!$H$5","v":"20241231"},{"$f":"+'COVER SHEET'!$D$12","v":0},11510,{"$f":"'COVER SHEET'!$D$16&IF(MID('COVER SHEET'!$I$18,6,10)=\"december\",\"1231\",IF(MID('COVER SHEET'!$I$18,6,10)=\"june\",\"0630\"))","v":"20241231"},{"$f":"+'Outgoing Remittances (Volume)'!H166","v":0}]
["CMREM_11510","NU",{"$f":"+'Outgoing Remittances (Volume)'!$H$5","v":"20241231"},{"$f":"+'COVER SHEET'!$D$12","v":0},11510,{"$f":"'COVER SHEET'!$D$16&IF(MID('COVER SHEET'!$I$18,6,10)=\"december\",\"1231\",IF(MID('COVER SHEET'!$I$18,6,10)=\"june\",\"0630\"))","v":"20241231"},{"$f":"+'Outgoing Remittances (Volume)'!H167","v":0}]
["CMREM_11510","NF",{"$f":"+'Outgoing Remittances (Volume)'!$H$5","v":"20241231"},{"$f":"+'COVER SHEET'!$D$12","v":0},11510,{"$f":"'COVER SHEET'!$D$16&IF(MID('COVER SHEET'!$I$18,6,10)=\"december\",\"1231\",IF(MID('COVER SHEET'!$I$18,6,10)=\"june\",\"0630\"))","v":"20241231"},{"$f":"+'Outgoing Remittances (Volume)'!H168","v":0}]
["CMREM_11510","MP",{"$f":"+'Outgoing Remittances (Volume)'!$H$5","v":"20241231"},{"$f":"+'COVER SHEET'!$D$12","v":0},11510,{"$f":"'COVER SHEET'!$D$16&IF(MID('COVER SHEET'!$I$18,6,10)=\"december\",\"1231\",IF(MID('COVER SHEET'!$I$18,6,10)=\"june\",\"0630\"))","v":"20241231"},{"$f":"+'Outgoing Remittances (Volume)'!H169","v":0}]
["CMREM_11510","NO",{"$f":"+'Outgoing Remittances (Volume)'!$H$5","v":"20241231"},{"$f":"+'COVER SHEET'!$D$12","v":0},11510,{"$f":"'COVER SHEET'!$D$16&IF(MID('COVER SHEET'!$I$18,6,10)=\"december\",\"1231\",IF(MID('COVER SHEET'!$I$18,6,10)=\"june\",\"0630\"))","v":"20241231"},{"$f":"+'Outgoing Remittances (Volume)'!H170","v":0}]
["CMREM_11510","OM",{"$f":"+'Outgoing Remittances (Volume)'!$H$5","v":"20241231"},{"$f":"+'COVER SHEET'!$D$12","v":0},11510,{"$f":"'COVER SHEET'!$D$16&IF(MID('COVER SHEET'!$I$18,6,10)=\"december\",\"1231\",IF(MID('COVER SHEET'!$I$18,6,10)=\"june\",\"0630\"))","v":"20241231"},{"$f":"+'Outgoing Remittances (Volume)'!H171","v":0}]
["CMREM_11510","PK",{"$f":"+'Outgoing Remittances (Volume)'!$H$5","v":"20241231"},{"$f":"+'COVER SHEET'!$D$12","v":0},11510,{"$f":"'COVER SHEET'!$D$16&IF(MID('COVER SHEET'!$I$18,6,10)=\"december\",\"1231\",IF(MID('COVER SHEET'!$I$18,6,10)=\"june\",\"0630\"))","v":"20241231"},{"$f":"+'Outgoing Remittances (Volume)'!H172","v":0}]
["CMREM_11510","PW",{"$f":"+'Outgoing Remittances (Volume)'!$H$5","v":"20241231"},{"$f":"+'COVER SHEET'!$D$12","v":0},11510,{"$f":"'COVER SHEET'!$D$16&IF(MID('COVER SHEET'!$I$18,6,10)=\"december\",\"1231\",IF(MID('COVER SHEET'!$I$18,6,10)=\"june\",\"0630\"))","v":"20241231"},{"$f":"+'Outgoing Remittances (Volume)'!H173","v":0}]
["CMREM_11510","PS",{"$f":"+'Outgoing Remittances (Volume)'!$H$5","v":"20241231"},{"$f":"+'COVER SHEET'!$D$12","v":0},11510,{"$f":"'COVER SHEET'!$D$16&IF(MID('COVER SHEET'!$I$18,6,10)=\"december\",\"1231\",IF(MID('COVER SHEET'!$I$18,6,10)=\"june\",\"0630\"))","v":"20241231"},{"$f":"+'Outgoing Remittances (Volume)'!H174","v":0}]
["CMREM_11510","PA",{"$f":"+'Outgoing Remittances (Volume)'!$H$5","v":"20241231"},{"$f":"+'COVER SHEET'!$D$12","v":0},11510,{"$f":"'COVER SHEET'!$D$16&IF(MID('COVER SHEET'!$I$18,6,10)=\"december\",\"1231\",IF(MID('COVER SHEET'!$I$18,6,10)=\"june\",\"0630\"))","v":"20241231"},{"$f":"+'Outgoing Remittances (Volume)'!H175","v":0}]
["CMREM_11510","PG",{"$f":"+'Outgoing Remittances (Volume)'!$H$5","v":"20241231"},{"$f":"+'COVER SHEET'!$D$12","v":0},11510,{"$f":"'COVER SHEET'!$D$16&IF(MID('COVER SHEET'!$I$18,6,10)=\"december\",\"1231\",IF(MID('COVER SHEET'!$I$18,6,10)=\"june\",\"0630\"))","v":"20241231"},{"$f":"+'Outgoing Remittances (Volume)'!H176","v":0}]
["CMREM_11510","PY",{"$f":"+'Outgoing Remittances (Volume)'!$H$5","v":"20241231"},{"$f":"+'COVER SHEET'!$D$12","v":0},11510,{"$f":"'COVER SHEET'!$D$16&IF(MID('COVER SHEET'!$I$18,6,10)=\"december\",\"1231\",IF(MID('COVER SHEET'!$I$18,6,10)=\"june\",\"0630\"))","v":"20241231"},{"$f":"+'Outgoing Remittances (Volume)'!H177","v":0}]
["CMREM_11510","PE",{"$f":"+'Outgoing Remittances (Volume)'!$H$5","v":"20241231"},{"$f":"+'COVER SHEET'!$D$12","v":0},11510,{"$f":"'COVER SHEET'!$D$16&IF(MID('COVER SHEET'!$I$18,6,10)=\"december\",\"1231\",IF(MID('COVER SHEET'!$I$18,6,10)=\"june\",\"0630\"))","v":"20241231"},{"$f":"+'Outgoing Remittances (Volume)'!H178","v":0}]
["CMREM_11510","PH",{"$f":"+'Outgoing Remittances (Volume)'!$H$5","v":"20241231"},{"$f":"+'COVER SHEET'!$D$12","v":0},11510,{"$f":"'COVER SHEET'!$D$16&IF(MID('COVER SHEET'!$I$18,6,10)=\"december\",\"1231\",IF(MID('COVER SHEET'!$I$18,6,10)=\"june\",\"0630\"))","v":"20241231"},{"$f":"+'Outgoing Remittances (Volume)'!H179","v":0}]
["CMREM_11510","PN",{"$f":"+'Outgoing Remittances (Volume)'!$H$5","v":"20241231"},{"$f":"+'COVER SHEET'!$D$12","v":0},11510,{"$f":"'COVER SHEET'!$D$16&IF(MID('COVER SHEET'!$I$18,6,10)=\"december\",\"1231\",IF(MID('COVER SHEET'!$I$18,6,10)=\"june\",\"0630\"))","v":"20241231"},{"$f":"+'Outgoing Remittances (Volume)'!H180","v":0}]
["CMREM_11510","PL",{"$f":"+'Outgoing Remittances (Volume)'!$H$5","v":"20241231"},{"$f":"+'COVER SHEET'!$D$12","v":0},11510,{"$f":"'COVER SHEET'!$D$16&IF(MID('COVER SHEET'!$I$18,6,10)=\"december\",\"1231\",IF(MID('COVER SHEET'!$I$18,6,10)=\"june\",\"0630\"))","v":"20241231"},{"$f":"+'Outgoing Remittances (Volume)'!H181","v":0}]
["CMREM_11510","PT",{"$f":"+'Outgoing Remittances (Volume)'!$H$5","v":"20241231"},{"$f":"+'COVER SHEET'!$D$12","v":0},11510,{"$f":"'COVER SHEET'!$D$16&IF(MID('COVER SHEET'!$I$18,6,10)=\"december\",\"1231\",IF(MID('COVER SHEET'!$I$18,6,10)=\"june\",\"0630\"))","v":"20241231"},{"$f":"+'Outgoing Remittances (Volume)'!H182","v":0}]
["CMREM_11510","QA",{"$f":"+'Outgoing Remittances (Volume)'!$H$5","v":"20241231"},{"$f":"+'COVER SHEET'!$D$12","v":0},11510,{"$f":"'COVER SHEET'!$D$16&IF(MID('COVER SHEET'!$I$18,6,10)=\"december\",\"1231\",IF(MID('COVER SHEET'!$I$18,6,10)=\"june\",\"0630\"))","v":"20241231"},{"$f":"+'Outgoing Remittances (Volume)'!H183","v":0}]
["CMREM_11510","RO",{"$f":"+'Outgoing Remittances (Volume)'!$H$5","v":"20241231"},{"$f":"+'COVER SHEET'!$D$12","v":0},11510,{"$f":"'COVER SHEET'!$D$16&IF(MID('COVER SHEET'!$I$18,6,10)=\"december\",\"1231\",IF(MID('COVER SHEET'!$I$18,6,10)=\"june\",\"0630\"))","v":"20241231"},{"$f":"+'Outgoing Remittances (Volume)'!H184","v":0}]
["CMREM_11510","RU",{"$f":"+'Outgoing Remittances (Volume)'!$H$5","v":"20241231"},{"$f":"+'COVER SHEET'!$D$12","v":0},11510,{"$f":"'COVER SHEET'!$D$16&IF(MID('COVER SHEET'!$I$18,6,10)=\"december\",\"1231\",IF(MID('COVER SHEET'!$I$18,6,10)=\"june\",\"0630\"))","v":"20241231"},{"$f":"+'Outgoing Remittances (Volume)'!H185","v":0}]
["CMREM_11510","RW",{"$f":"+'Outgoing Remittances (Volume)'!$H$5","v":"20241231"},{"$f":"+'COVER SHEET'!$D$12","v":0},11510,{"$f":"'COVER SHEET'!$D$16&IF(MID('COVER SHEET'!$I$18,6,10)=\"december\",\"1231\",IF(MID('COVER SHEET'!$I$18,6,10)=\"june\",\"0630\"))","v":"20241231"},{"$f":"+'Outgoing Remittances (Volume)'!H186","v":0}]
["CMREM_11510","SH",{"$f":"+'Outgoing Remittances (Volume)'!$H$5","v":"20241231"},{"$f":"+'COVER SHEET'!$D$12","v":0},11510,{"$f":"'COVER SHEET'!$D$16&IF(MID('COVER SHEET'!$I$18,6,10)=\"december\",\"1231\",IF(MID('COVER SHEET'!$I$18,6,10)=\"june\",\"0630\"))","v":"20241231"},{"$f":"+'Outgoing Remittances (Volume)'!H187","v":0}]
["CMREM_11510","KN",{"$f":"+'Outgoing Remittances (Volume)'!$H$5","v":"20241231"},{"$f":"+'COVER SHEET'!$D$12","v":0},11510,{"$f":"'COVER SHEET'!$D$16&IF(MID('COVER SHEET'!$I$18,6,10)=\"december\",\"1231\",IF(MID('COVER SHEET'!$I$18,6,10)=\"june\",\"0630\"))","v":"20241231"},{"$f":"+'Outgoing Remittances (Volume)'!H188","v":0}]
["CMREM_11510","LC",{"$f":"+'Outgoing Remittances (Volume)'!$H$5","v":"20241231"},{"$f":"+'COVER SHEET'!$D$12","v":0},11510,{"$f":"'COVER SHEET'!$D$16&IF(MID('COVER SHEET'!$I$18,6,10)=\"december\",\"1231\",IF(MID('COVER SHEET'!$I$18,6,10)=\"june\",\"0630\"))","v":"20241231"},{"$f":"+'Outgoing Remittances (Volume)'!H189","v":0}]
["CMREM_11510","VC",{"$f":"+'Outgoing Remittances (Volume)'!$H$5","v":"20241231"},{"$f":"+'COVER SHEET'!$D$12","v":0},11510,{"$f":"'COVER SHEET'!$D$16&IF(MID('COVER SHEET'!$I$18,6,10)=\"december\",\"1231\",IF(MID('COVER SHEET'!$I$18,6,10)=\"june\",\"0630\"))","v":"20241231"},{"$f":"+'Outgoing Remittances (Volume)'!H190","v":0}]
["CMREM_11510","WS",{"$f":"+'Outgoing Remittances (Volume)'!$H$5","v":"20241231"},{"$f":"+'COVER SHEET'!$D$12","v":0},11510,{"$f":"'COVER SHEET'!$D$16&IF(MID('COVER SHEET'!$I$18,6,10)=\"december\",\"1231\",IF(MID('COVER SHEET'!$I$18,6,10)=\"june\",\"0630\"))","v":"20241231"},{"$f":"+'Outgoing Remittances (Volume)'!H191","v":0}]
["CMREM_11510","SM",{"$f":"+'Outgoing Remittances (Volume)'!$H$5","v":"20241231"},{"$f":"+'COVER SHEET'!$D$12","v":0},11510,{"$f":"'COVER SHEET'!$D$16&IF(MID('COVER SHEET'!$I$18,6,10)=\"december\",\"1231\",IF(MID('COVER SHEET'!$I$18,6,10)=\"june\",\"0630\"))","v":"20241231"},{"$f":"+'Outgoing Remittances (Volume)'!H192","v":0}]
["CMREM_11510","ST",{"$f":"+'Outgoing Remittances (Volume)'!$H$5","v":"20241231"},{"$f":"+'COVER SHEET'!$D$12","v":0},11510,{"$f":"'COVER SHEET'!$D$16&IF(MID('COVER SHEET'!$I$18,6,10)=\"december\",\"1231\",IF(MID('COVER SHEET'!$I$18,6,10)=\"june\",\"0630\"))","v":"20241231"},{"$f":"+'Outgoing Remittances (Volume)'!H193","v":0}]
["CMREM_11510","SA",{"$f":"+'Outgoing Remittances (Volume)'!$H$5","v":"20241231"},{"$f":"+'COVER SHEET'!$D$12","v":0},11510,{"$f":"'COVER SHEET'!$D$16&IF(MID('COVER SHEET'!$I$18,6,10)=\"december\",\"1231\",IF(MID('COVER SHEET'!$I$18,6,10)=\"june\",\"0630\"))","v":"20241231"},{"$f":"+'Outgoing Remittances (Volume)'!H194","v":0}]
["CMREM_11510","SN",{"$f":"+'Outgoing Remittances (Volume)'!$H$5","v":"20241231"},{"$f":"+'COVER SHEET'!$D$12","v":0},11510,{"$f":"'COVER SHEET'!$D$16&IF(MID('COVER SHEET'!$I$18,6,10)=\"december\",\"1231\",IF(MID('COVER SHEET'!$I$18,6,10)=\"june\",\"0630\"))","v":"20241231"},{"$f":"+'Outgoing Remittances (Volume)'!H195","v":0}]
["CMREM_11510","RS",{"$f":"+'Outgoing Remittances (Volume)'!$H$5","v":"20241231"},{"$f":"+'COVER SHEET'!$D$12","v":0},11510,{"$f":"'COVER SHEET'!$D$16&IF(MID('COVER SHEET'!$I$18,6,10)=\"december\",\"1231\",IF(MID('COVER SHEET'!$I$18,6,10)=\"june\",\"0630\"))","v":"20241231"},{"$f":"+'Outgoing Remittances (Volume)'!H196","v":0}]
["CMREM_11510","SC",{"$f":"+'Outgoing Remittances (Volume)'!$H$5","v":"20241231"},{"$f":"+'COVER SHEET'!$D$12","v":0},11510,{"$f":"'COVER SHEET'!$D$16&IF(MID('COVER SHEET'!$I$18,6,10)=\"december\",\"1231\",IF(MID('COVER SHEET'!$I$18,6,10)=\"june\",\"0630\"))","v":"20241231"},{"$f":"+'Outgoing Remittances (Volume)'!H197","v":0}]
["CMREM_11510","SL",{"$f":"+'Outgoing Remittances (Volume)'!$H$5","v":"20241231"},{"$f":"+'COVER SHEET'!$D$12","v":0},11510,{"$f":"'COVER SHEET'!$D$16&IF(MID('COVER SHEET'!$I$18,6,10)=\"december\",\"1231\",IF(MID('COVER SHEET'!$I$18,6,10)=\"june\",\"0630\"))","v":"20241231"},{"$f":"+'Outgoing Remittances (Volume)'!H198","v":0}]
["CMREM_11510","SG",{"$f":"+'Outgoing Remittances (Volume)'!$H$5","v":"20241231"},{"$f":"+'COVER SHEET'!$D$12","v":0},11510,{"$f":"'COVER SHEET'!$D$16&IF(MID('COVER SHEET'!$I$18,6,10)=\"december\",\"1231\",IF(MID('COVER SHEET'!$I$18,6,10)=\"june\",\"0630\"))","v":"20241231"},{"$f":"+'Outgoing Remittances (Volume)'!H199","v":0}]
["CMREM_11510","SX",{"$f":"+'Outgoing Remittances (Volume)'!$H$5","v":"20241231"},{"$f":"+'COVER SHEET'!$D$12","v":0},11510,{"$f":"'COVER SHEET'!$D$16&IF(MID('COVER SHEET'!$I$18,6,10)=\"december\",\"1231\",IF(MID('COVER SHEET'!$I$18,6,10)=\"june\",\"0630\"))","v":"20241231"},{"$f":"+'Outgoing Remittances (Volume)'!H200","v":0}]
["CMREM_11510","SK",{"$f":"+'Outgoing Remittances (Volume)'!$H$5","v":"20241231"},{"$f":"+'COVER SHEET'!$D$12","v":0},11510,{"$f":"'COVER SHEET'!$D$16&IF(MID('COVER SHEET'!$I$18,6,10)=\"december\",\"1231\",IF(MID('COVER SHEET'!$I$18,6,10)=\"june\",\"0630\"))","v":"20241231"},{"$f":"+'Outgoing Remittances (Volume)'!H201","v":0}]
["CMREM_11510","SI",{"$f":"+'Outgoing Remittances (Volume)'!$H$5","v":"20241231"},{"$f":"+'COVER SHEET'!$D$12","v":0},11510,{"$f":"'COVER SHEET'!$D$16&IF(MID('COVER SHEET'!$I$18,6,10)=\"december\",\"1231\",IF(MID('COVER SHEET'!$I$18,6,10)=\"june\",\"0630\"))","v":"20241231"},{"$f":"+'Outgoing Remittances (Volume)'!H202","v":0}]
["CMREM_11510","SB",{"$f":"+'Outgoing Remittances (Volume)'!$H$5","v":"20241231"},{"$f":"+'COVER SHEET'!$D$12","v":0},11510,{"$f":"'COVER SHEET'!$D$16&IF(MID('COVER SHEET'!$I$18,6,10)=\"december\",\"1231\",IF(MID('COVER SHEET'!$I$18,6,10)=\"june\",\"0630\"))","v":"20241231"},{"$f":"+'Outgoing Remittances (Volume)'!H203","v":0}]
["CMREM_11510","SO",{"$f":"+'Outgoing Remittances (Volume)'!$H$5","v":"20241231"},{"$f":"+'COVER SHEET'!$D$12","v":0},11510,{"$f":"'COVER SHEET'!$D$16&IF(MID('COVER SHEET'!$I$18,6,10)=\"december\",\"1231\",IF(MID('COVER SHEET'!$I$18,6,10)=\"june\",\"0630\"))","v":"20241231"},{"$f":"+'Outgoing Remittances (Volume)'!H204","v":0}]
["CMREM_11510","ZA",{"$f":"+'Outgoing Remittances (Volume)'!$H$5","v":"20241231"},{"$f":"+'COVER SHEET'!$D$12","v":0},11510,{"$f":"'COVER SHEET'!$D$16&IF(MID('COVER SHEET'!$I$18,6,10)=\"december\",\"1231\",IF(MID('COVER SHEET'!$I$18,6,10)=\"june\",\"0630\"))","v":"20241231"},{"$f":"+'Outgoing Remittances (Volume)'!H205","v":0}]
["CMREM_11510","GS",{"$f":"+'Outgoing Remittances (Volume)'!$H$5","v":"20241231"},{"$f":"+'COVER SHEET'!$D$12","v":0},11510,{"$f":"'COVER SHEET'!$D$16&IF(MID('COVER SHEET'!$I$18,6,10)=\"december\",\"1231\",IF(MID('COVER SHEET'!$I$18,6,10)=\"june\",\"0630\"))","v":"20241231"},{"$f":"+'Outgoing Remittances (Volume)'!H206","v":0}]
["CMREM_11510","SS",{"$f":"+'Outgoing Remittances (Volume)'!$H$5","v":"20241231"},{"$f":"+'COVER SHEET'!$D$12","v":0},11510,{"$f":"'COVER SHEET'!$D$16&IF(MID('COVER SHEET'!$I$18,6,10)=\"december\",\"1231\",IF(MID('COVER SHEET'!$I$18,6,10)=\"june\",\"0630\"))","v":"20241231"},{"$f":"+'Outgoing Remittances (Volume)'!H207","v":0}]
["CMREM_11510","ES",{"$f":"+'Outgoing Remittances (Volume)'!$H$5","v":"20241231"},{"$f":"+'COVER SHEET'!$D$12","v":0},11510,{"$f":"'COVER SHEET'!$D$16&IF(MID('COVER SHEET'!$I$18,6,10)=\"december\",\"1231\",IF(MID('COVER SHEET'!$I$18,6,10)=\"june\",\"0630\"))","v":"20241231"},{"$f":"+'Outgoing Remittances (Volume)'!H208","v":0}]
["CMREM_11510","LK",{"$f":"+'Outgoing Remittances (Volume)'!$H$5","v":"20241231"},{"$f":"+'COVER SHEET'!$D$12","v":0},11510,{"$f":"'COVER SHEET'!$D$16&IF(MID('COVER SHEET'!$I$18,6,10)=\"december\",\"1231\",IF(MID('COVER SHEET'!$I$18,6,10)=\"june\",\"0630\"))","v":"20241231"},{"$f":"+'Outgoing Remittances (Volume)'!H209","v":0}]
["CMREM_11510","SD",{"$f":"+'Outgoing Remittances (Volume)'!$H$5","v":"20241231"},{"$f":"+'COVER SHEET'!$D$12","v":0},11510,{"$f":"'COVER SHEET'!$D$16&IF(MID('COVER SHEET'!$I$18,6,10)=\"december\",\"1231\",IF(MID('COVER SHEET'!$I$18,6,10)=\"june\",\"0630\"))","v":"20241231"},{"$f":"+'Outgoing Remittances (Volume)'!H210","v":0}]
["CMREM_11510","SR",{"$f":"+'Outgoing Remittances (Volume)'!$H$5","v":"20241231"},{"$f":"+'COVER SHEET'!$D$12","v":0},11510,{"$f":"'COVER SHEET'!$D$16&IF(MID('COVER SHEET'!$I$18,6,10)=\"december\",\"1231\",IF(MID('COVER SHEET'!$I$18,6,10)=\"june\",\"0630\"))","v":"20241231"},{"$f":"+'Outgoing Remittances (Volume)'!H211","v":0}]
["CMREM_11510","SZ",{"$f":"+'Outgoing Remittances (Volume)'!$H$5","v":"20241231"},{"$f":"+'COVER SHEET'!$D$12","v":0},11510,{"$f":"'COVER SHEET'!$D$16&IF(MID('COVER SHEET'!$I$18,6,10)=\"december\",\"1231\",IF(MID('COVER SHEET'!$I$18,6,10)=\"june\",\"0630\"))","v":"20241231"},{"$f":"+'Outgoing Remittances (Volume)'!H212","v":0}]
["CMREM_11510","SE",{"$f":"+'Outgoing Remittances (Volume)'!$H$5","v":"20241231"},{"$f":"+'COVER SHEET'!$D$12","v":0},11510,{"$f":"'COVER SHEET'!$D$16&IF(MID('COVER SHEET'!$I$18,6,10)=\"december\",\"1231\",IF(MID('COVER SHEET'!$I$18,6,10)=\"june\",\"0630\"))","v":"20241231"},{"$f":"+'Outgoing Remittances (Volume)'!H213","v":0}]
["CMREM_11510","CH",{"$f":"+'Outgoing Remittances (Volume)'!$H$5","v":"20241231"},{"$f":"+'COVER SHEET'!$D$12","v":0},11510,{"$f":"'COVER SHEET'!$D$16&IF(MID('COVER SHEET'!$I$18,6,10)=\"december\",\"1231\",IF(MID('COVER SHEET'!$I$18,6,10)=\"june\",\"0630\"))","v":"20241231"},{"$f":"+'Outgoing Remittances (Volume)'!H214","v":0}]
["CMREM_11510","SY",{"$f":"+'Outgoing Remittances (Volume)'!$H$5","v":"20241231"},{"$f":"+'COVER SHEET'!$D$12","v":0},11510,{"$f":"'COVER SHEET'!$D$16&IF(MID('COVER SHEET'!$I$18,6,10)=\"december\",\"1231\",IF(MID('COVER SHEET'!$I$18,6,10)=\"june\",\"0630\"))","v":"20241231"},{"$f":"+'Outgoing Remittances (Volume)'!H215","v":0}]
["CMREM_11510","TW",{"$f":"+'Outgoing Remittances (Volume)'!$H$5","v":"20241231"},{"$f":"+'COVER SHEET'!$D$12","v":0},11510,{"$f":"'COVER SHEET'!$D$16&IF(MID('COVER SHEET'!$I$18,6,10)=\"december\",\"1231\",IF(MID('COVER SHEET'!$I$18,6,10)=\"june\",\"0630\"))","v":"20241231"},{"$f":"+'Outgoing Remittances (Volume)'!H216","v":0}]
["CMREM_11510","TJ",{"$f":"+'Outgoing Remittances (Volume)'!$H$5","v":"20241231"},{"$f":"+'COVER SHEET'!$D$12","v":0},11510,{"$f":"'COVER SHEET'!$D$16&IF(MID('COVER SHEET'!$I$18,6,10)=\"december\",\"1231\",IF(MID('COVER SHEET'!$I$18,6,10)=\"june\",\"0630\"))","v":"20241231"},{"$f":"+'Outgoing Remittances (Volume)'!H217","v":0}]
["CMREM_11510","TZ",{"$f":"+'Outgoing Remittances (Volume)'!$H$5","v":"20241231"},{"$f":"+'COVER SHEET'!$D$12","v":0},11510,{"$f":"'COVER SHEET'!$D$16&IF(MID('COVER SHEET'!$I$18,6,10)=\"december\",\"1231\",IF(MID('COVER SHEET'!$I$18,6,10)=\"june\",\"0630\"))","v":"20241231"},{"$f":"+'Outgoing Remittances (Volume)'!H218","v":0}]
["CMREM_11510","TH",{"$f":"+'Outgoing Remittances (Volume)'!$H$5","v":"20241231"},{"$f":"+'COVER SHEET'!$D$12","v":0},11510,{"$f":"'COVER SHEET'!$D$16&IF(MID('COVER SHEET'!$I$18,6,10)=\"december\",\"1231\",IF(MID('COVER SHEET'!$I$18,6,10)=\"june\",\"0630\"))","v":"20241231"},{"$f":"+'Outgoing Remittances (Volume)'!H219","v":0}]
["CMREM_11510","TG",{"$f":"+'Outgoing Remittances (Volume)'!$H$5","v":"20241231"},{"$f":"+'COVER SHEET'!$D$12","v":0},11510,{"$f":"'COVER SHEET'!$D$16&IF(MID('COVER SHEET'!$I$18,6,10)=\"december\",\"1231\",IF(MID('COVER SHEET'!$I$18,6,10)=\"june\",\"0630\"))","v":"20241231"},{"$f":"+'Outgoing Remittances (Volume)'!H220","v":0}]
["CMREM_11510","TK",{"$f":"+'Outgoing Remittances (Volume)'!$H$5","v":"20241231"},{"$f":"+'COVER SHEET'!$D$12","v":0},11510,{"$f":"'COVER SHEET'!$D$16&IF(MID('COVER SHEET'!$I$18,6,10)=\"december\",\"1231\",IF(MID('COVER SHEET'!$I$18,6,10)=\"june\",\"0630\"))","v":"20241231"},{"$f":"+'Outgoing Remittances (Volume)'!H221","v":0}]
["CMREM_11510","TO",{"$f":"+'Outgoing Remittances (Volume)'!$H$5","v":"20241231"},{"$f":"+'COVER SHEET'!$D$12","v":0},11510,{"$f":"'COVER SHEET'!$D$16&IF(MID('COVER SHEET'!$I$18,6,10)=\"december\",\"1231\",IF(MID('COVER SHEET'!$I$18,6,10)=\"june\",\"0630\"))","v":"20241231"},{"$f":"+'Outgoing Remittances (Volume)'!H222","v":0}]
["CMREM_11510","TT",{"$f":"+'Outgoing Remittances (Volume)'!$H$5","v":"20241231"},{"$f":"+'COVER SHEET'!$D$12","v":0},11510,{"$f":"'COVER SHEET'!$D$16&IF(MID('COVER SHEET'!$I$18,6,10)=\"december\",\"1231\",IF(MID('COVER SHEET'!$I$18,6,10)=\"june\",\"0630\"))","v":"20241231"},{"$f":"+'Outgoing Remittances (Volume)'!H223","v":0}]
["CMREM_11510","TN",{"$f":"+'Outgoing Remittances (Volume)'!$H$5","v":"20241231"},{"$f":"+'COVER SHEET'!$D$12","v":0},11510,{"$f":"'COVER SHEET'!$D$16&IF(MID('COVER SHEET'!$I$18,6,10)=\"december\",\"1231\",IF(MID('COVER SHEET'!$I$18,6,10)=\"june\",\"0630\"))","v":"20241231"},{"$f":"+'Outgoing Remittances (Volume)'!H224","v":0}]
["CMREM_11510","TR",{"$f":"+'Outgoing Remittances (Volume)'!$H$5","v":"20241231"},{"$f":"+'COVER SHEET'!$D$12","v":0},11510,{"$f":"'COVER SHEET'!$D$16&IF(MID('COVER SHEET'!$I$18,6,10)=\"december\",\"1231\",IF(MID('COVER SHEET'!$I$18,6,10)=\"june\",\"0630\"))","v":"20241231"},{"$f":"+'Outgoing Remittances (Volume)'!H225","v":0}]
["CMREM_11510","TM",{"$f":"+'Outgoing Remittances (Volume)'!$H$5","v":"20241231"},{"$f":"+'COVER SHEET'!$D$12","v":0},11510,{"$f":"'COVER SHEET'!$D$16&IF(MID('COVER SHEET'!$I$18,6,10)=\"december\",\"1231\",IF(MID('COVER SHEET'!$I$18,6,10)=\"june\",\"0630\"))","v":"20241231"},{"$f":"+'Outgoing Remittances (Volume)'!H226","v":0}]
["CMREM_11510","TC",{"$f":"+'Outgoing Remittances (Volume)'!$H$5","v":"20241231"},{"$f":"+'COVER SHEET'!$D$12","v":0},11510,{"$f":"'COVER SHEET'!$D$16&IF(MID('COVER SHEET'!$I$18,6,10)=\"december\",\"1231\",IF(MID('COVER SHEET'!$I$18,6,10)=\"june\",\"0630\"))","v":"20241231"},{"$f":"+'Outgoing Remittances (Volume)'!H227","v":0}]
["CMREM_11510","TV",{"$f":"+'Outgoing Remittances (Volume)'!$H$5","v":"20241231"},{"$f":"+'COVER SHEET'!$D$12","v":0},11510,{"$f":"'COVER SHEET'!$D$16&IF(MID('COVER SHEET'!$I$18,6,10)=\"december\",\"1231\",IF(MID('COVER SHEET'!$I$18,6,10)=\"june\",\"0630\"))","v":"20241231"},{"$f":"+'Outgoing Remittances (Volume)'!H228","v":0}]
["CMREM_11510","UG",{"$f":"+'Outgoing Remittances (Volume)'!$H$5","v":"20241231"},{"$f":"+'COVER SHEET'!$D$12","v":0},11510,{"$f":"'COVER SHEET'!$D$16&IF(MID('COVER SHEET'!$I$18,6,10)=\"december\",\"1231\",IF(MID('COVER SHEET'!$I$18,6,10)=\"june\",\"0630\"))","v":"20241231"},{"$f":"+'Outgoing Remittances (Volume)'!H229","v":0}]
["CMREM_11510","UA",{"$f":"+'Outgoing Remittances (Volume)'!$H$5","v":"20241231"},{"$f":"+'COVER SHEET'!$D$12","v":0},11510,{"$f":"'COVER SHEET'!$D$16&IF(MID('COVER SHEET'!$I$18,6,10)=\"december\",\"1231\",IF(MID('COVER SHEET'!$I$18,6,10)=\"june\",\"0630\"))","v":"20241231"},{"$f":"+'Outgoing Remittances (Volume)'!H230","v":0}]
["CMREM_11510","AE",{"$f":"+'Outgoing Remittances (Volume)'!$H$5","v":"20241231"},{"$f":"+'COVER SHEET'!$D$12","v":0},11510,{"$f":"'COVER SHEET'!$D$16&IF(MID('COVER SHEET'!$I$18,6,10)=\"december\",\"1231\",IF(MID('COVER SHEET'!$I$18,6,10)=\"june\",\"0630\"))","v":"20241231"},{"$f":"+'Outgoing Remittances (Volume)'!H231","v":0}]
["CMREM_11510","GB",{"$f":"+'Outgoing Remittances (Volume)'!$H$5","v":"20241231"},{"$f":"+'COVER SHEET'!$D$12","v":0},11510,{"$f":"'COVER SHEET'!$D$16&IF(MID('COVER SHEET'!$I$18,6,10)=\"december\",\"1231\",IF(MID('COVER SHEET'!$I$18,6,10)=\"june\",\"0630\"))","v":"20241231"},{"$f":"+'Outgoing Remittances (Volume)'!H232","v":0}]
["CMREM_11510","US",{"$f":"+'Outgoing Remittances (Volume)'!$H$5","v":"20241231"},{"$f":"+'COVER SHEET'!$D$12","v":0},11510,{"$f":"'COVER SHEET'!$D$16&IF(MID('COVER SHEET'!$I$18,6,10)=\"december\",\"1231\",IF(MID('COVER SHEET'!$I$18,6,10)=\"june\",\"0630\"))","v":"20241231"},{"$f":"+'Outgoing Remittances (Volume)'!H233","v":0}]
["CMREM_11510","UY",{"$f":"+'Outgoing Remittances (Volume)'!$H$5","v":"20241231"},{"$f":"+'COVER SHEET'!$D$12","v":0},11510,{"$f":"'COVER SHEET'!$D$16&IF(MID('COVER SHEET'!$I$18,6,10)=\"december\",\"1231\",IF(MID('COVER SHEET'!$I$18,6,10)=\"june\",\"0630\"))","v":"20241231"},{"$f":"+'Outgoing Remittances (Volume)'!H234","v":0}]
["CMREM_11510","UM",{"$f":"+'Outgoing Remittances (Volume)'!$H$5","v":"20241231"},{"$f":"+'COVER SHEET'!$D$12","v":0},11510,{"$f":"'COVER SHEET'!$D$16&IF(MID('COVER SHEET'!$I$18,6,10)=\"december\",\"1231\",IF(MID('COVER SHEET'!$I$18,6,10)=\"june\",\"0630\"))","v":"20241231"},{"$f":"+'Outgoing Remittances (Volume)'!H235","v":0}]
["CMREM_11510","UZ",{"$f":"+'Outgoing Remittances (Volume)'!$H$5","v":"20241231"},{"$f":"+'COVER SHEET'!$D$12","v":0},11510,{"$f":"'COVER SHEET'!$D$16&IF(MID('COVER SHEET'!$I$18,6,10)=\"december\",\"1231\",IF(MID('COVER SHEET'!$I$18,6,10)=\"june\",\"0630\"))","v":"20241231"},{"$f":"+'Outgoing Remittances (Volume)'!H236","v":0}]
["CMREM_11510","VU",{"$f":"+'Outgoing Remittances (Volume)'!$H$5","v":"20241231"},{"$f":"+'COVER SHEET'!$D$12","v":0},11510,{"$f":"'COVER SHEET'!$D$16&IF(MID('COVER SHEET'!$I$18,6,10)=\"december\",\"1231\",IF(MID('COVER SHEET'!$I$18,6,10)=\"june\",\"0630\"))","v":"20241231"},{"$f":"+'Outgoing Remittances (Volume)'!H237","v":0}]
["CMREM_11510","VE",{"$f":"+'Outgoing Remittances (Volume)'!$H$5","v":"20241231"},{"$f":"+'COVER SHEET'!$D$12","v":0},11510,{"$f":"'COVER SHEET'!$D$16&IF(MID('COVER SHEET'!$I$18,6,10)=\"december\",\"1231\",IF(MID('COVER SHEET'!$I$18,6,10)=\"june\",\"0630\"))","v":"20241231"},{"$f":"+'Outgoing Remittances (Volume)'!H238","v":0}]
["CMREM_11510","VN",{"$f":"+'Outgoing Remittances (Volume)'!$H$5","v":"20241231"},{"$f":"+'COVER SHEET'!$D$12","v":0},11510,{"$f":"'COVER SHEET'!$D$16&IF(MID('COVER SHEET'!$I$18,6,10)=\"december\",\"1231\",IF(MID('COVER SHEET'!$I$18,6,10)=\"june\",\"0630\"))","v":"20241231"},{"$f":"+'Outgoing Remittances (Volume)'!H239","v":0}]
["CMREM_11510","VI",{"$f":"+'Outgoing Remittances (Volume)'!$H$5","v":"20241231"},{"$f":"+'COVER SHEET'!$D$12","v":0},11510,{"$f":"'COVER SHEET'!$D$16&IF(MID('COVER SHEET'!$I$18,6,10)=\"december\",\"1231\",IF(MID('COVER SHEET'!$I$18,6,10)=\"june\",\"0630\"))","v":"20241231"},{"$f":"+'Outgoing Remittances (Volume)'!H240","v":0}]
["CMREM_11510","WF",{"$f":"+'Outgoing Remittances (Volume)'!$H$5","v":"20241231"},{"$f":"+'COVER SHEET'!$D$12","v":0},11510,{"$f":"'COVER SHEET'!$D$16&IF(MID('COVER SHEET'!$I$18,6,10)=\"december\",\"1231\",IF(MID('COVER SHEET'!$I$18,6,10)=\"june\",\"0630\"))","v":"20241231"},{"$f":"+'Outgoing Remittances (Volume)'!H241","v":0}]
["CMREM_11510","YE",{"$f":"+'Outgoing Remittances (Volume)'!$H$5","v":"20241231"},{"$f":"+'COVER SHEET'!$D$12","v":0},11510,{"$f":"'COVER SHEET'!$D$16&IF(MID('COVER SHEET'!$I$18,6,10)=\"december\",\"1231\",IF(MID('COVER SHEET'!$I$18,6,10)=\"june\",\"0630\"))","v":"20241231"},{"$f":"+'Outgoing Remittances (Volume)'!H242","v":0}]
["CMREM_11510","ZM",{"$f":"+'Outgoing Remittances (Volume)'!$H$5","v":"20241231"},{"$f":"+'COVER SHEET'!$D$12","v":0},11510,{"$f":"'COVER SHEET'!$D$16&IF(MID('COVER SHEET'!$I$18,6,10)=\"december\",\"1231\",IF(MID('COVER SHEET'!$I$18,6,10)=\"june\",\"0630\"))","v":"20241231"},{"$f":"+'Outgoing Remittances (Volume)'!H243","v":0}]
["CMREM_11510","ZW",{"$f":"+'Outgoing Remittances (Volume)'!$H$5","v":"20241231"},{"$f":"+'COVER SHEET'!$D$12","v":0},11510,{"$f":"'COVER SHEET'!$D$16&IF(MID('COVER SHEET'!$I$18,6,10)=\"december\",\"1231\",IF(MID('COVER SHEET'!$I$18,6,10)=\"june\",\"0630\"))","v":"20241231"},{"$f":"+'Outgoing Remittances (Volume)'!H244","v":0}]
["CMREM_11520","AF",{"$f":"+'Incoming Remittances (Value)'!$H$5","v":"20241231"},{"$f":"+'COVER SHEET'!$D$12","v":0},11520,{"$f":"'COVER SHEET'!$D$16&IF(MID('COVER SHEET'!$I$18,6,10)=\"december\",\"1231\",IF(MID('COVER SHEET'!$I$18,6,10)=\"june\",\"0630\"))","v":"20241231"},{"$f":"+'Incoming Remittances (Value)'!H9","v":0}]
["CMREM_11520","AL",{"$f":"+'Incoming Remittances (Value)'!$H$5","v":"20241231"},{"$f":"+'COVER SHEET'!$D$12","v":0},11520,{"$f":"'COVER SHEET'!$D$16&IF(MID('COVER SHEET'!$I$18,6,10)=\"december\",\"1231\",IF(MID('COVER SHEET'!$I$18,6,10)=\"june\",\"0630\"))","v":"20241231"},{"$f":"+'Incoming Remittances (Value)'!H10","v":0}]
["CMREM_11520","DZ",{"$f":"+'Incoming Remittances (Value)'!$H$5","v":"20241231"},{"$f":"+'COVER SHEET'!$D$12","v":0},11520,{"$f":"'COVER SHEET'!$D$16&IF(MID('COVER SHEET'!$I$18,6,10)=\"december\",\"1231\",IF(MID('COVER SHEET'!$I$18,6,10)=\"june\",\"0630\"))","v":"20241231"},{"$f":"+'Incoming Remittances (Value)'!H11","v":0}]
["CMREM_11520","AS",{"$f":"+'Incoming Remittances (Value)'!$H$5","v":"20241231"},{"$f":"+'COVER SHEET'!$D$12","v":0},11520,{"$f":"'COVER SHEET'!$D$16&IF(MID('COVER SHEET'!$I$18,6,10)=\"december\",\"1231\",IF(MID('COVER SHEET'!$I$18,6,10)=\"june\",\"0630\"))","v":"20241231"},{"$f":"+'Incoming Remittances (Value)'!H12","v":0}]
["CMREM_11520","AD",{"$f":"+'Incoming Remittances (Value)'!$H$5","v":"20241231"},{"$f":"+'COVER SHEET'!$D$12","v":0},11520,{"$f":"'COVER SHEET'!$D$16&IF(MID('COVER SHEET'!$I$18,6,10)=\"december\",\"1231\",IF(MID('COVER SHEET'!$I$18,6,10)=\"june\",\"0630\"))","v":"20241231"},{"$f":"+'Incoming Remittances (Value)'!H13","v":0}]
["CMREM_11520","AO",{"$f":"+'Incoming Remittances (Value)'!$H$5","v":"20241231"},{"$f":"+'COVER SHEET'!$D$12","v":0},11520,{"$f":"'COVER SHEET'!$D$16&IF(MID('COVER SHEET'!$I$18,6,10)=\"december\",\"1231\",IF(MID('COVER SHEET'!$I$18,6,10)=\"june\",\"0630\"))","v":"20241231"},{"$f":"+'Incoming Remittances (Value)'!H14","v":0}]
["CMREM_11520","AI",{"$f":"+'Incoming Remittances (Value)'!$H$5","v":"20241231"},{"$f":"+'COVER SHEET'!$D$12","v":0},11520,{"$f":"'COVER SHEET'!$D$16&IF(MID('COVER SHEET'!$I$18,6,10)=\"december\",\"1231\",IF(MID('COVER SHEET'!$I$18,6,10)=\"june\",\"0630\"))","v":"20241231"},{"$f":"+'Incoming Remittances (Value)'!H15","v":0}]
["CMREM_11520","AQ",{"$f":"+'Incoming Remittances (Value)'!$H$5","v":"20241231"},{"$f":"+'COVER SHEET'!$D$12","v":0},11520,{"$f":"'COVER SHEET'!$D$16&IF(MID('COVER SHEET'!$I$18,6,10)=\"december\",\"1231\",IF(MID('COVER SHEET'!$I$18,6,10)=\"june\",\"0630\"))","v":"20241231"},{"$f":"+'Incoming Remittances (Value)'!H16","v":0}]
["CMREM_11520","AG",{"$f":"+'Incoming Remittances (Value)'!$H$5","v":"20241231"},{"$f":"+'COVER SHEET'!$D$12","v":0},11520,{"$f":"'COVER SHEET'!$D$16&IF(MID('COVER SHEET'!$I$18,6,10)=\"december\",\"1231\",IF(MID('COVER SHEET'!$I$18,6,10)=\"june\",\"0630\"))","v":"20241231"},{"$f":"+'Incoming Remittances (Value)'!H17","v":0}]
["CMREM_11520","AR",{"$f":"+'Incoming Remittances (Value)'!$H$5","v":"20241231"},{"$f":"+'COVER SHEET'!$D$12","v":0},11520,{"$f":"'COVER SHEET'!$D$16&IF(MID('COVER SHEET'!$I$18,6,10)=\"december\",\"1231\",IF(MID('COVER SHEET'!$I$18,6,10)=\"june\",\"0630\"))","v":"20241231"},{"$f":"+'Incoming Remittances (Value)'!H18","v":0}]
["CMREM_11520","AM",{"$f":"+'Incoming Remittances (Value)'!$H$5","v":"20241231"},{"$f":"+'COVER SHEET'!$D$12","v":0},11520,{"$f":"'COVER SHEET'!$D$16&IF(MID('COVER SHEET'!$I$18,6,10)=\"december\",\"1231\",IF(MID('COVER SHEET'!$I$18,6,10)=\"june\",\"0630\"))","v":"20241231"},{"$f":"+'Incoming Remittances (Value)'!H19","v":0}]
["CMREM_11520","AW",{"$f":"+'Incoming Remittances (Value)'!$H$5","v":"20241231"},{"$f":"+'COVER SHEET'!$D$12","v":0},11520,{"$f":"'COVER SHEET'!$D$16&IF(MID('COVER SHEET'!$I$18,6,10)=\"december\",\"1231\",IF(MID('COVER SHEET'!$I$18,6,10)=\"june\",\"0630\"))","v":"20241231"},{"$f":"+'Incoming Remittances (Value)'!H20","v":0}]
["CMREM_11520","AU",{"$f":"+'Incoming Remittances (Value)'!$H$5","v":"20241231"},{"$f":"+'COVER SHEET'!$D$12","v":0},11520,{"$f":"'COVER SHEET'!$D$16&IF(MID('COVER SHEET'!$I$18,6,10)=\"december\",\"1231\",IF(MID('COVER SHEET'!$I$18,6,10)=\"june\",\"0630\"))","v":"20241231"},{"$f":"+'Incoming Remittances (Value)'!H21","v":0}]
["CMREM_11520","AT",{"$f":"+'Incoming Remittances (Value)'!$H$5","v":"20241231"},{"$f":"+'COVER SHEET'!$D$12","v":0},11520,{"$f":"'COVER SHEET'!$D$16&IF(MID('COVER SHEET'!$I$18,6,10)=\"december\",\"1231\",IF(MID('COVER SHEET'!$I$18,6,10)=\"june\",\"0630\"))","v":"20241231"},{"$f":"+'Incoming Remittances (Value)'!H22","v":0}]
["CMREM_11520","AZ",{"$f":"+'Incoming Remittances (Value)'!$H$5","v":"20241231"},{"$f":"+'COVER SHEET'!$D$12","v":0},11520,{"$f":"'COVER SHEET'!$D$16&IF(MID('COVER SHEET'!$I$18,6,10)=\"december\",\"1231\",IF(MID('COVER SHEET'!$I$18,6,10)=\"june\",\"0630\"))","v":"20241231"},{"$f":"+'Incoming Remittances (Value)'!H23","v":0}]
["CMREM_11520","BS",{"$f":"+'Incoming Remittances (Value)'!$H$5","v":"20241231"},{"$f":"+'COVER SHEET'!$D$12","v":0},11520,{"$f":"'COVER SHEET'!$D$16&IF(MID('COVER SHEET'!$I$18,6,10)=\"december\",\"1231\",IF(MID('COVER SHEET'!$I$18,6,10)=\"june\",\"0630\"))","v":"20241231"},{"$f":"+'Incoming Remittances (Value)'!H24","v":0}]
["CMREM_11520","BH",{"$f":"+'Incoming Remittances (Value)'!$H$5","v":"20241231"},{"$f":"+'COVER SHEET'!$D$12","v":0},11520,{"$f":"'COVER SHEET'!$D$16&IF(MID('COVER SHEET'!$I$18,6,10)=\"december\",\"1231\",IF(MID('COVER SHEET'!$I$18,6,10)=\"june\",\"0630\"))","v":"20241231"},{"$f":"+'Incoming Remittances (Value)'!H25","v":0}]
["CMREM_11520","BD",{"$f":"+'Incoming Remittances (Value)'!$H$5","v":"20241231"},{"$f":"+'COVER SHEET'!$D$12","v":0},11520,{"$f":"'COVER SHEET'!$D$16&IF(MID('COVER SHEET'!$I$18,6,10)=\"december\",\"1231\",IF(MID('COVER SHEET'!$I$18,6,10)=\"june\",\"0630\"))","v":"20241231"},{"$f":"+'Incoming Remittances (Value)'!H26","v":0}]
["CMREM_11520","BB",{"$f":"+'Incoming Remittances (Value)'!$H$5","v":"20241231"},{"$f":"+'COVER SHEET'!$D$12","v":0},11520,{"$f":"'COVER SHEET'!$D$16&IF(MID('COVER SHEET'!$I$18,6,10)=\"december\",\"1231\",IF(MID('COVER SHEET'!$I$18,6,10)=\"june\",\"0630\"))","v":"20241231"},{"$f":"+'Incoming Remittances (Value)'!H27","v":0}]
["CMREM_11520","BY",{"$f":"+'Incoming Remittances (Value)'!$H$5","v":"20241231"},{"$f":"+'COVER SHEET'!$D$12","v":0},11520,{"$f":"'COVER SHEET'!$D$16&IF(MID('COVER SHEET'!$I$18,6,10)=\"december\",\"1231\",IF(MID('COVER SHEET'!$I$18,6,10)=\"june\",\"0630\"))","v":"20241231"},{"$f":"+'Incoming Remittances (Value)'!H28","v":0}]
["CMREM_11520","BE",{"$f":"+'Incoming Remittances (Value)'!$H$5","v":"20241231"},{"$f":"+'COVER SHEET'!$D$12","v":0},11520,{"$f":"'COVER SHEET'!$D$16&IF(MID('COVER SHEET'!$I$18,6,10)=\"december\",\"1231\",IF(MID('COVER SHEET'!$I$18,6,10)=\"june\",\"0630\"))","v":"20241231"},{"$f":"+'Incoming Remittances (Value)'!H29","v":0}]
["CMREM_11520","BZ",{"$f":"+'Incoming Remittances (Value)'!$H$5","v":"20241231"},{"$f":"+'COVER SHEET'!$D$12","v":0},11520,{"$f":"'COVER SHEET'!$D$16&IF(MID('COVER SHEET'!$I$18,6,10)=\"december\",\"1231\",IF(MID('COVER SHEET'!$I$18,6,10)=\"june\",\"0630\"))","v":"20241231"},{"$f":"+'Incoming Remittances (Value)'!H30","v":0}]
["CMREM_11520","BJ",{"$f":"+'Incoming Remittances (Value)'!$H$5","v":"20241231"},{"$f":"+'COVER SHEET'!$D$12","v":0},11520,{"$f":"'COVER SHEET'!$D$16&IF(MID('COVER SHEET'!$I$18,6,10)=\"december\",\"1231\",IF(MID('COVER SHEET'!$I$18,6,10)=\"june\",\"0630\"))","v":"20241231"},{"$f":"+'Incoming Remittances (Value)'!H31","v":0}]
["CMREM_11520","BM",{"$f":"+'Incoming Remittances (Value)'!$H$5","v":"20241231"},{"$f":"+'COVER SHEET'!$D$12","v":0},11520,{"$f":"'COVER SHEET'!$D$16&IF(MID('COVER SHEET'!$I$18,6,10)=\"december\",\"1231\",IF(MID('COVER SHEET'!$I$18,6,10)=\"june\",\"0630\"))","v":"20241231"},{"$f":"+'Incoming Remittances (Value)'!H32","v":0}]
["CMREM_11520","BQ",{"$f":"+'Incoming Remittances (Value)'!$H$5","v":"20241231"},{"$f":"+'COVER SHEET'!$D$12","v":0},11520,{"$f":"'COVER SHEET'!$D$16&IF(MID('COVER SHEET'!$I$18,6,10)=\"december\",\"1231\",IF(MID('COVER SHEET'!$I$18,6,10)=\"june\",\"0630\"))","v":"20241231"},{"$f":"+'Incoming Remittances (Value)'!H33","v":0}]
["CMREM_11520","BT",{"$f":"+'Incoming Remittances (Value)'!$H$5","v":"20241231"},{"$f":"+'COVER SHEET'!$D$12","v":0},11520,{"$f":"'COVER SHEET'!$D$16&IF(MID('COVER SHEET'!$I$18,6,10)=\"december\",\"1231\",IF(MID('COVER SHEET'!$I$18,6,10)=\"june\",\"0630\"))","v":"20241231"},{"$f":"+'Incoming Remittances (Value)'!H34","v":0}]
["CMREM_11520","BO",{"$f":"+'Incoming Remittances (Value)'!$H$5","v":"20241231"},{"$f":"+'COVER SHEET'!$D$12","v":0},11520,{"$f":"'COVER SHEET'!$D$16&IF(MID('COVER SHEET'!$I$18,6,10)=\"december\",\"1231\",IF(MID('COVER SHEET'!$I$18,6,10)=\"june\",\"0630\"))","v":"20241231"},{"$f":"+'Incoming Remittances (Value)'!H35","v":0}]
["CMREM_11520","BA",{"$f":"+'Incoming Remittances (Value)'!$H$5","v":"20241231"},{"$f":"+'COVER SHEET'!$D$12","v":0},11520,{"$f":"'COVER SHEET'!$D$16&IF(MID('COVER SHEET'!$I$18,6,10)=\"december\",\"1231\",IF(MID('COVER SHEET'!$I$18,6,10)=\"june\",\"0630\"))","v":"20241231"},{"$f":"+'Incoming Remittances (Value)'!H36","v":0}]
["CMREM_11520","BW",{"$f":"+'Incoming Remittances (Value)'!$H$5","v":"20241231"},{"$f":"+'COVER SHEET'!$D$12","v":0},11520,{"$f":"'COVER SHEET'!$D$16&IF(MID('COVER SHEET'!$I$18,6,10)=\"december\",\"1231\",IF(MID('COVER SHEET'!$I$18,6,10)=\"june\",\"0630\"))","v":"20241231"},{"$f":"+'Incoming Remittances (Value)'!H37","v":0}]
["CMREM_11520","BV",{"$f":"+'Incoming Remittances (Value)'!$H$5","v":"20241231"},{"$f":"+'COVER SHEET'!$D$12","v":0},11520,{"$f":"'COVER SHEET'!$D$16&IF(MID('COVER SHEET'!$I$18,6,10)=\"december\",\"1231\",IF(MID('COVER SHEET'!$I$18,6,10)=\"june\",\"0630\"))","v":"20241231"},{"$f":"+'Incoming Remittances (Value)'!H38","v":0}]
["CMREM_11520","BR",{"$f":"+'Incoming Remittances (Value)'!$H$5","v":"20241231"},{"$f":"+'COVER SHEET'!$D$12","v":0},11520,{"$f":"'COVER SHEET'!$D$16&IF(MID('COVER SHEET'!$I$18,6,10)=\"december\",\"1231\",IF(MID('COVER SHEET'!$I$18,6,10)=\"june\",\"0630\"))","v":"20241231"},{"$f":"+'Incoming Remittances (Value)'!H39","v":0}]
["CMREM_11520","IO",{"$f":"+'Incoming Remittances (Value)'!$H$5","v":"20241231"},{"$f":"+'COVER SHEET'!$D$12","v":0},11520,{"$f":"'COVER SHEET'!$D$16&IF(MID('COVER SHEET'!$I$18,6,10)=\"december\",\"1231\",IF(MID('COVER SHEET'!$I$18,6,10)=\"june\",\"0630\"))","v":"20241231"},{"$f":"+'Incoming Remittances (Value)'!H40","v":0}]
["CMREM_11520","VG",{"$f":"+'Incoming Remittances (Value)'!$H$5","v":"20241231"},{"$f":"+'COVER SHEET'!$D$12","v":0},11520,{"$f":"'COVER SHEET'!$D$16&IF(MID('COVER SHEET'!$I$18,6,10)=\"december\",\"1231\",IF(MID('COVER SHEET'!$I$18,6,10)=\"june\",\"0630\"))","v":"20241231"},{"$f":"+'Incoming Remittances (Value)'!H41","v":0}]
["CMREM_11520","BN",{"$f":"+'Incoming Remittances (Value)'!$H$5","v":"20241231"},{"$f":"+'COVER SHEET'!$D$12","v":0},11520,{"$f":"'COVER SHEET'!$D$16&IF(MID('COVER SHEET'!$I$18,6,10)=\"december\",\"1231\",IF(MID('COVER SHEET'!$I$18,6,10)=\"june\",\"0630\"))","v":"20241231"},{"$f":"+'Incoming Remittances (Value)'!H42","v":0}]
["CMREM_11520","BG",{"$f":"+'Incoming Remittances (Value)'!$H$5","v":"20241231"},{"$f":"+'COVER SHEET'!$D$12","v":0},11520,{"$f":"'COVER SHEET'!$D$16&IF(MID('COVER SHEET'!$I$18,6,10)=\"december\",\"1231\",IF(MID('COVER SHEET'!$I$18,6,10)=\"june\",\"0630\"))","v":"20241231"},{"$f":"+'Incoming Remittances (Value)'!H43","v":0}]
["CMREM_11520","BF",{"$f":"+'Incoming Remittances (Value)'!$H$5","v":"20241231"},{"$f":"+'COVER SHEET'!$D$12","v":0},11520,{"$f":"'COVER SHEET'!$D$16&IF(MID('COVER SHEET'!$I$18,6,10)=\"december\",\"1231\",IF(MID('COVER SHEET'!$I$18,6,10)=\"june\",\"0630\"))","v":"20241231"},{"$f":"+'Incoming Remittances (Value)'!H44","v":0}]
["CMREM_11520","BI",{"$f":"+'Incoming Remittances (Value)'!$H$5","v":"20241231"},{"$f":"+'COVER SHEET'!$D$12","v":0},11520,{"$f":"'COVER SHEET'!$D$16&IF(MID('COVER SHEET'!$I$18,6,10)=\"december\",\"1231\",IF(MID('COVER SHEET'!$I$18,6,10)=\"june\",\"0630\"))","v":"20241231"},{"$f":"+'Incoming Remittances (Value)'!H45","v":0}]
["CMREM_11520","KH",{"$f":"+'Incoming Remittances (Value)'!$H$5","v":"20241231"},{"$f":"+'COVER SHEET'!$D$12","v":0},11520,{"$f":"'COVER SHEET'!$D$16&IF(MID('COVER SHEET'!$I$18,6,10)=\"december\",\"1231\",IF(MID('COVER SHEET'!$I$18,6,10)=\"june\",\"0630\"))","v":"20241231"},{"$f":"+'Incoming Remittances (Value)'!H46","v":0}]
["CMREM_11520","CM",{"$f":"+'Incoming Remittances (Value)'!$H$5","v":"20241231"},{"$f":"+'COVER SHEET'!$D$12","v":0},11520,{"$f":"'COVER SHEET'!$D$16&IF(MID('COVER SHEET'!$I$18,6,10)=\"december\",\"1231\",IF(MID('COVER SHEET'!$I$18,6,10)=\"june\",\"0630\"))","v":"20241231"},{"$f":"+'Incoming Remittances (Value)'!H47","v":0}]
["CMREM_11520","CA",{"$f":"+'Incoming Remittances (Value)'!$H$5","v":"20241231"},{"$f":"+'COVER SHEET'!$D$12","v":0},11520,{"$f":"'COVER SHEET'!$D$16&IF(MID('COVER SHEET'!$I$18,6,10)=\"december\",\"1231\",IF(MID('COVER SHEET'!$I$18,6,10)=\"june\",\"0630\"))","v":"20241231"},{"$f":"+'Incoming Remittances (Value)'!H48","v":0}]
["CMREM_11520","CV",{"$f":"+'Incoming Remittances (Value)'!$H$5","v":"20241231"},{"$f":"+'COVER SHEET'!$D$12","v":0},11520,{"$f":"'COVER SHEET'!$D$16&IF(MID('COVER SHEET'!$I$18,6,10)=\"december\",\"1231\",IF(MID('COVER SHEET'!$I$18,6,10)=\"june\",\"0630\"))","v":"20241231"},{"$f":"+'Incoming Remittances (Value)'!H49","v":0}]
["CMREM_11520","KY",{"$f":"+'Incoming Remittances (Value)'!$H$5","v":"20241231"},{"$f":"+'COVER SHEET'!$D$12","v":0},11520,{"$f":"'COVER SHEET'!$D$16&IF(MID('COVER SHEET'!$I$18,6,10)=\"december\",\"1231\",IF(MID('COVER SHEET'!$I$18,6,10)=\"june\",\"0630\"))","v":"20241231"},{"$f":"+'Incoming Remittances (Value)'!H50","v":0}]
["CMREM_11520","CF",{"$f":"+'Incoming Remittances (Value)'!$H$5","v":"20241231"},{"$f":"+'COVER SHEET'!$D$12","v":0},11520,{"$f":"'COVER SHEET'!$D$16&IF(MID('COVER SHEET'!$I$18,6,10)=\"december\",\"1231\",IF(MID('COVER SHEET'!$I$18,6,10)=\"june\",\"0630\"))","v":"20241231"},{"$f":"+'Incoming Remittances (Value)'!H51","v":0}]
["CMREM_11520","TD",{"$f":"+'Incoming Remittances (Value)'!$H$5","v":"20241231"},{"$f":"+'COVER SHEET'!$D$12","v":0},11520,{"$f":"'COVER SHEET'!$D$16&IF(MID('COVER SHEET'!$I$18,6,10)=\"december\",\"1231\",IF(MID('COVER SHEET'!$I$18,6,10)=\"june\",\"0630\"))","v":"20241231"},{"$f":"+'Incoming Remittances (Value)'!H52","v":0}]
["CMREM_11520","CL",{"$f":"+'Incoming Remittances (Value)'!$H$5","v":"20241231"},{"$f":"+'COVER SHEET'!$D$12","v":0},11520,{"$f":"'COVER SHEET'!$D$16&IF(MID('COVER SHEET'!$I$18,6,10)=\"december\",\"1231\",IF(MID('COVER SHEET'!$I$18,6,10)=\"june\",\"0630\"))","v":"20241231"},{"$f":"+'Incoming Remittances (Value)'!H53","v":0}]
["CMREM_11520","CN",{"$f":"+'Incoming Remittances (Value)'!$H$5","v":"20241231"},{"$f":"+'COVER SHEET'!$D$12","v":0},11520,{"$f":"'COVER SHEET'!$D$16&IF(MID('COVER SHEET'!$I$18,6,10)=\"december\",\"1231\",IF(MID('COVER SHEET'!$I$18,6,10)=\"june\",\"0630\"))","v":"20241231"},{"$f":"+'Incoming Remittances (Value)'!H54","v":0}]
["CMREM_11520","CX",{"$f":"+'Incoming Remittances (Value)'!$H$5","v":"20241231"},{"$f":"+'COVER SHEET'!$D$12","v":0},11520,{"$f":"'COVER SHEET'!$D$16&IF(MID('COVER SHEET'!$I$18,6,10)=\"december\",\"1231\",IF(MID('COVER SHEET'!$I$18,6,10)=\"june\",\"0630\"))","v":"20241231"},{"$f":"+'Incoming Remittances (Value)'!H55","v":0}]
["CMREM_11520","CC",{"$f":"+'Incoming Remittances (Value)'!$H$5","v":"20241231"},{"$f":"+'COVER SHEET'!$D$12","v":0},11520,{"$f":"'COVER SHEET'!$D$16&IF(MID('COVER SHEET'!$I$18,6,10)=\"december\",\"1231\",IF(MID('COVER SHEET'!$I$18,6,10)=\"june\",\"0630\"))","v":"20241231"},{"$f":"+'Incoming Remittances (Value)'!H56","v":0}]
["CMREM_11520","CO",{"$f":"+'Incoming Remittances (Value)'!$H$5","v":"20241231"},{"$f":"+'COVER SHEET'!$D$12","v":0},11520,{"$f":"'COVER SHEET'!$D$16&IF(MID('COVER SHEET'!$I$18,6,10)=\"december\",\"1231\",IF(MID('COVER SHEET'!$I$18,6,10)=\"june\",\"0630\"))","v":"20241231"},{"$f":"+'Incoming Remittances (Value)'!H57","v":0}]
["CMREM_11520","KM",{"$f":"+'Incoming Remittances (Value)'!$H$5","v":"20241231"},{"$f":"+'COVER SHEET'!$D$12","v":0},11520,{"$f":"'COVER SHEET'!$D$16&IF(MID('COVER SHEET'!$I$18,6,10)=\"december\",\"1231\",IF(MID('COVER SHEET'!$I$18,6,10)=\"june\",\"0630\"))","v":"20241231"},{"$f":"+'Incoming Remittances (Value)'!H58","v":0}]
["CMREM_11520","CG",{"$f":"+'Incoming Remittances (Value)'!$H$5","v":"20241231"},{"$f":"+'COVER SHEET'!$D$12","v":0},11520,{"$f":"'COVER SHEET'!$D$16&IF(MID('COVER SHEET'!$I$18,6,10)=\"december\",\"1231\",IF(MID('COVER SHEET'!$I$18,6,10)=\"june\",\"0630\"))","v":"20241231"},{"$f":"+'Incoming Remittances (Value)'!H59","v":0}]
["CMREM_11520","CD",{"$f":"+'Incoming Remittances (Value)'!$H$5","v":"20241231"},{"$f":"+'COVER SHEET'!$D$12","v":0},11520,{"$f":"'COVER SHEET'!$D$16&IF(MID('COVER SHEET'!$I$18,6,10)=\"december\",\"1231\",IF(MID('COVER SHEET'!$I$18,6,10)=\"june\",\"0630\"))","v":"20241231"},{"$f":"+'Incoming Remittances (Value)'!H60","v":0}]
["CMREM_11520","CK",{"$f":"+'Incoming Remittances (Value)'!$H$5","v":"20241231"},{"$f":"+'COVER SHEET'!$D$12","v":0},11520,{"$f":"'COVER SHEET'!$D$16&IF(MID('COVER SHEET'!$I$18,6,10)=\"december\",\"1231\",IF(MID('COVER SHEET'!$I$18,6,10)=\"june\",\"0630\"))","v":"20241231"},{"$f":"+'Incoming Remittances (Value)'!H61","v":0}]
["CMREM_11520","CR",{"$f":"+'Incoming Remittances (Value)'!$H$5","v":"20241231"},{"$f":"+'COVER SHEET'!$D$12","v":0},11520,{"$f":"'COVER SHEET'!$D$16&IF(MID('COVER SHEET'!$I$18,6,10)=\"december\",\"1231\",IF(MID('COVER SHEET'!$I$18,6,10)=\"june\",\"0630\"))","v":"20241231"},{"$f":"+'Incoming Remittances (Value)'!H62","v":0}]
["CMREM_11520","HR",{"$f":"+'Incoming Remittances (Value)'!$H$5","v":"20241231"},{"$f":"+'COVER SHEET'!$D$12","v":0},11520,{"$f":"'COVER SHEET'!$D$16&IF(MID('COVER SHEET'!$I$18,6,10)=\"december\",\"1231\",IF(MID('COVER SHEET'!$I$18,6,10)=\"june\",\"0630\"))","v":"20241231"},{"$f":"+'Incoming Remittances (Value)'!H63","v":0}]
["CMREM_11520","CU",{"$f":"+'Incoming Remittances (Value)'!$H$5","v":"20241231"},{"$f":"+'COVER SHEET'!$D$12","v":0},11520,{"$f":"'COVER SHEET'!$D$16&IF(MID('COVER SHEET'!$I$18,6,10)=\"december\",\"1231\",IF(MID('COVER SHEET'!$I$18,6,10)=\"june\",\"0630\"))","v":"20241231"},{"$f":"+'Incoming Remittances (Value)'!H64","v":0}]
["CMREM_11520","CW",{"$f":"+'Incoming Remittances (Value)'!$H$5","v":"20241231"},{"$f":"+'COVER SHEET'!$D$12","v":0},11520,{"$f":"'COVER SHEET'!$D$16&IF(MID('COVER SHEET'!$I$18,6,10)=\"december\",\"1231\",IF(MID('COVER SHEET'!$I$18,6,10)=\"june\",\"0630\"))","v":"20241231"},{"$f":"+'Incoming Remittances (Value)'!H65","v":0}]
["CMREM_11520","CY",{"$f":"+'Incoming Remittances (Value)'!$H$5","v":"20241231"},{"$f":"+'COVER SHEET'!$D$12","v":0},11520,{"$f":"'COVER SHEET'!$D$16&IF(MID('COVER SHEET'!$I$18,6,10)=\"december\",\"1231\",IF(MID('COVER SHEET'!$I$18,6,10)=\"june\",\"0630\"))","v":"20241231"},{"$f":"+'Incoming Remittances (Value)'!H66","v":0}]
["CMREM_11520","CZ",{"$f":"+'Incoming Remittances (Value)'!$H$5","v":"20241231"},{"$f":"+'COVER SHEET'!$D$12","v":0},11520,{"$f":"'COVER SHEET'!$D$16&IF(MID('COVER SHEET'!$I$18,6,10)=\"december\",\"1231\",IF(MID('COVER SHEET'!$I$18,6,10)=\"june\",\"0630\"))","v":"20241231"},{"$f":"+'Incoming Remittances (Value)'!H67","v":0}]
["CMREM_11520","DK",{"$f":"+'Incoming Remittances (Value)'!$H$5","v":"20241231"},{"$f":"+'COVER SHEET'!$D$12","v":0},11520,{"$f":"'COVER SHEET'!$D$16&IF(MID('COVER SHEET'!$I$18,6,10)=\"december\",\"1231\",IF(MID('COVER SHEET'!$I$18,6,10)=\"june\",\"0630\"))","v":"20241231"},{"$f":"+'Incoming Remittances (Value)'!H68","v":0}]
["CMREM_11520","DJ",{"$f":"+'Incoming Remittances (Value)'!$H$5","v":"20241231"},{"$f":"+'COVER SHEET'!$D$12","v":0},11520,{"$f":"'COVER SHEET'!$D$16&IF(MID('COVER SHEET'!$I$18,6,10)=\"december\",\"1231\",IF(MID('COVER SHEET'!$I$18,6,10)=\"june\",\"0630\"))","v":"20241231"},{"$f":"+'Incoming Remittances (Value)'!H69","v":0}]
["CMREM_11520","DM",{"$f":"+'Incoming Remittances (Value)'!$H$5","v":"20241231"},{"$f":"+'COVER SHEET'!$D$12","v":0},11520,{"$f":"'COVER SHEET'!$D$16&IF(MID('COVER SHEET'!$I$18,6,10)=\"december\",\"1231\",IF(MID('COVER SHEET'!$I$18,6,10)=\"june\",\"0630\"))","v":"20241231"},{"$f":"+'Incoming Remittances (Value)'!H70","v":0}]
["CMREM_11520","DO",{"$f":"+'Incoming Remittances (Value)'!$H$5","v":"20241231"},{"$f":"+'COVER SHEET'!$D$12","v":0},11520,{"$f":"'COVER SHEET'!$D$16&IF(MID('COVER SHEET'!$I$18,6,10)=\"december\",\"1231\",IF(MID('COVER SHEET'!$I$18,6,10)=\"june\",\"0630\"))","v":"20241231"},{"$f":"+'Incoming Remittances (Value)'!H71","v":0}]
["CMREM_11520","TL",{"$f":"+'Incoming Remittances (Value)'!$H$5","v":"20241231"},{"$f":"+'COVER SHEET'!$D$12","v":0},11520,{"$f":"'COVER SHEET'!$D$16&IF(MID('COVER SHEET'!$I$18,6,10)=\"december\",\"1231\",IF(MID('COVER SHEET'!$I$18,6,10)=\"june\",\"0630\"))","v":"20241231"},{"$f":"+'Incoming Remittances (Value)'!H72","v":0}]
["CMREM_11520","EC",{"$f":"+'Incoming Remittances (Value)'!$H$5","v":"20241231"},{"$f":"+'COVER SHEET'!$D$12","v":0},11520,{"$f":"'COVER SHEET'!$D$16&IF(MID('COVER SHEET'!$I$18,6,10)=\"december\",\"1231\",IF(MID('COVER SHEET'!$I$18,6,10)=\"june\",\"0630\"))","v":"20241231"},{"$f":"+'Incoming Remittances (Value)'!H73","v":0}]
["CMREM_11520","EG",{"$f":"+'Incoming Remittances (Value)'!$H$5","v":"20241231"},{"$f":"+'COVER SHEET'!$D$12","v":0},11520,{"$f":"'COVER SHEET'!$D$16&IF(MID('COVER SHEET'!$I$18,6,10)=\"december\",\"1231\",IF(MID('COVER SHEET'!$I$18,6,10)=\"june\",\"0630\"))","v":"20241231"},{"$f":"+'Incoming Remittances (Value)'!H74","v":0}]
["CMREM_11520","SV",{"$f":"+'Incoming Remittances (Value)'!$H$5","v":"20241231"},{"$f":"+'COVER SHEET'!$D$12","v":0},11520,{"$f":"'COVER SHEET'!$D$16&IF(MID('COVER SHEET'!$I$18,6,10)=\"december\",\"1231\",IF(MID('COVER SHEET'!$I$18,6,10)=\"june\",\"0630\"))","v":"20241231"},{"$f":"+'Incoming Remittances (Value)'!H75","v":0}]
["CMREM_11520","GQ",{"$f":"+'Incoming Remittances (Value)'!$H$5","v":"20241231"},{"$f":"+'COVER SHEET'!$D$12","v":0},11520,{"$f":"'COVER SHEET'!$D$16&IF(MID('COVER SHEET'!$I$18,6,10)=\"december\",\"1231\",IF(MID('COVER SHEET'!$I$18,6,10)=\"june\",\"0630\"))","v":"20241231"},{"$f":"+'Incoming Remittances (Value)'!H76","v":0}]
["CMREM_11520","ER",{"$f":"+'Incoming Remittances (Value)'!$H$5","v":"20241231"},{"$f":"+'COVER SHEET'!$D$12","v":0},11520,{"$f":"'COVER SHEET'!$D$16&IF(MID('COVER SHEET'!$I$18,6,10)=\"december\",\"1231\",IF(MID('COVER SHEET'!$I$18,6,10)=\"june\",\"0630\"))","v":"20241231"},{"$f":"+'Incoming Remittances (Value)'!H77","v":0}]
["CMREM_11520","EE",{"$f":"+'Incoming Remittances (Value)'!$H$5","v":"20241231"},{"$f":"+'COVER SHEET'!$D$12","v":0},11520,{"$f":"'COVER SHEET'!$D$16&IF(MID('COVER SHEET'!$I$18,6,10)=\"december\",\"1231\",IF(MID('COVER SHEET'!$I$18,6,10)=\"june\",\"0630\"))","v":"20241231"},{"$f":"+'Incoming Remittances (Value)'!H78","v":0}]
["CMREM_11520","ET",{"$f":"+'Incoming Remittances (Value)'!$H$5","v":"20241231"},{"$f":"+'COVER SHEET'!$D$12","v":0},11520,{"$f":"'COVER SHEET'!$D$16&IF(MID('COVER SHEET'!$I$18,6,10)=\"december\",\"1231\",IF(MID('COVER SHEET'!$I$18,6,10)=\"june\",\"0630\"))","v":"20241231"},{"$f":"+'Incoming Remittances (Value)'!H79","v":0}]
["CMREM_11520","FK",{"$f":"+'Incoming Remittances (Value)'!$H$5","v":"20241231"},{"$f":"+'COVER SHEET'!$D$12","v":0},11520,{"$f":"'COVER SHEET'!$D$16&IF(MID('COVER SHEET'!$I$18,6,10)=\"december\",\"1231\",IF(MID('COVER SHEET'!$I$18,6,10)=\"june\",\"0630\"))","v":"20241231"},{"$f":"+'Incoming Remittances (Value)'!H80","v":0}]
["CMREM_11520","FO",{"$f":"+'Incoming Remittances (Value)'!$H$5","v":"20241231"},{"$f":"+'COVER SHEET'!$D$12","v":0},11520,{"$f":"'COVER SHEET'!$D$16&IF(MID('COVER SHEET'!$I$18,6,10)=\"december\",\"1231\",IF(MID('COVER SHEET'!$I$18,6,10)=\"june\",\"0630\"))","v":"20241231"},{"$f":"+'Incoming Remittances (Value)'!H81","v":0}]
["CMREM_11520","FJ",{"$f":"+'Incoming Remittances (Value)'!$H$5","v":"20241231"},{"$f":"+'COVER SHEET'!$D$12","v":0},11520,{"$f":"'COVER SHEET'!$D$16&IF(MID('COVER SHEET'!$I$18,6,10)=\"december\",\"1231\",IF(MID('COVER SHEET'!$I$18,6,10)=\"june\",\"0630\"))","v":"20241231"},{"$f":"+'Incoming Remittances (Value)'!H82","v":0}]
["CMREM_11520","FI",{"$f":"+'Incoming Remittances (Value)'!$H$5","v":"20241231"},{"$f":"+'COVER SHEET'!$D$12","v":0},11520,{"$f":"'COVER SHEET'!$D$16&IF(MID('COVER SHEET'!$I$18,6,10)=\"december\",\"1231\",IF(MID('COVER SHEET'!$I$18,6,10)=\"june\",\"0630\"))","v":"20241231"},{"$f":"+'Incoming Remittances (Value)'!H83","v":0}]
["CMREM_11520","FR",{"$f":"+'Incoming Remittances (Value)'!$H$5","v":"20241231"},{"$f":"+'COVER SHEET'!$D$12","v":0},11520,{"$f":"'COVER SHEET'!$D$16&IF(MID('COVER SHEET'!$I$18,6,10)=\"december\",\"1231\",IF(MID('COVER SHEET'!$I$18,6,10)=\"june\",\"0630\"))","v":"20241231"},{"$f":"+'Incoming Remittances (Value)'!H84","v":0}]
["CMREM_11520","PF",{"$f":"+'Incoming Remittances (Value)'!$H$5","v":"20241231"},{"$f":"+'COVER SHEET'!$D$12","v":0},11520,{"$f":"'COVER SHEET'!$D$16&IF(MID('COVER SHEET'!$I$18,6,10)=\"december\",\"1231\",IF(MID('COVER SHEET'!$I$18,6,10)=\"june\",\"0630\"))","v":"20241231"},{"$f":"+'Incoming Remittances (Value)'!H85","v":0}]
["CMREM_11520","TF",{"$f":"+'Incoming Remittances (Value)'!$H$5","v":"20241231"},{"$f":"+'COVER SHEET'!$D$12","v":0},11520,{"$f":"'COVER SHEET'!$D$16&IF(MID('COVER SHEET'!$I$18,6,10)=\"december\",\"1231\",IF(MID('COVER SHEET'!$I$18,6,10)=\"june\",\"0630\"))","v":"20241231"},{"$f":"+'Incoming Remittances (Value)'!H86","v":0}]
["CMREM_11520","GA",{"$f":"+'Incoming Remittances (Value)'!$H$5","v":"20241231"},{"$f":"+'COVER SHEET'!$D$12","v":0},11520,{"$f":"'COVER SHEET'!$D$16&IF(MID('COVER SHEET'!$I$18,6,10)=\"december\",\"1231\",IF(MID('COVER SHEET'!$I$18,6,10)=\"june\",\"0630\"))","v":"20241231"},{"$f":"+'Incoming Remittances (Value)'!H87","v":0}]
["CMREM_11520","GM",{"$f":"+'Incoming Remittances (Value)'!$H$5","v":"20241231"},{"$f":"+'COVER SHEET'!$D$12","v":0},11520,{"$f":"'COVER SHEET'!$D$16&IF(MID('COVER SHEET'!$I$18,6,10)=\"december\",\"1231\",IF(MID('COVER SHEET'!$I$18,6,10)=\"june\",\"0630\"))","v":"20241231"},{"$f":"+'Incoming Remittances (Value)'!H88","v":0}]
["CMREM_11520","GE",{"$f":"+'Incoming Remittances (Value)'!$H$5","v":"20241231"},{"$f":"+'COVER SHEET'!$D$12","v":0},11520,{"$f":"'COVER SHEET'!$D$16&IF(MID('COVER SHEET'!$I$18,6,10)=\"december\",\"1231\",IF(MID('COVER SHEET'!$I$18,6,10)=\"june\",\"0630\"))","v":"20241231"},{"$f":"+'Incoming Remittances (Value)'!H89","v":0}]
["CMREM_11520","DE",{"$f":"+'Incoming Remittances (Value)'!$H$5","v":"20241231"},{"$f":"+'COVER SHEET'!$D$12","v":0},11520,{"$f":"'COVER SHEET'!$D$16&IF(MID('COVER SHEET'!$I$18,6,10)=\"december\",\"1231\",IF(MID('COVER SHEET'!$I$18,6,10)=\"june\",\"0630\"))","v":"20241231"},{"$f":"+'Incoming Remittances (Value)'!H90","v":0}]
["CMREM_11520","GH",{"$f":"+'Incoming Remittances (Value)'!$H$5","v":"20241231"},{"$f":"+'COVER SHEET'!$D$12","v":0},11520,{"$f":"'COVER SHEET'!$D$16&IF(MID('COVER SHEET'!$I$18,6,10)=\"december\",\"1231\",IF(MID('COVER SHEET'!$I$18,6,10)=\"june\",\"0630\"))","v":"20241231"},{"$f":"+'Incoming Remittances (Value)'!H91","v":0}]
["CMREM_11520","GI",{"$f":"+'Incoming Remittances (Value)'!$H$5","v":"20241231"},{"$f":"+'COVER SHEET'!$D$12","v":0},11520,{"$f":"'COVER SHEET'!$D$16&IF(MID('COVER SHEET'!$I$18,6,10)=\"december\",\"1231\",IF(MID('COVER SHEET'!$I$18,6,10)=\"june\",\"0630\"))","v":"20241231"},{"$f":"+'Incoming Remittances (Value)'!H92","v":0}]
["CMREM_11520","GR",{"$f":"+'Incoming Remittances (Value)'!$H$5","v":"20241231"},{"$f":"+'COVER SHEET'!$D$12","v":0},11520,{"$f":"'COVER SHEET'!$D$16&IF(MID('COVER SHEET'!$I$18,6,10)=\"december\",\"1231\",IF(MID('COVER SHEET'!$I$18,6,10)=\"june\",\"0630\"))","v":"20241231"},{"$f":"+'Incoming Remittances (Value)'!H93","v":0}]
["CMREM_11520","GL",{"$f":"+'Incoming Remittances (Value)'!$H$5","v":"20241231"},{"$f":"+'COVER SHEET'!$D$12","v":0},11520,{"$f":"'COVER SHEET'!$D$16&IF(MID('COVER SHEET'!$I$18,6,10)=\"december\",\"1231\",IF(MID('COVER SHEET'!$I$18,6,10)=\"june\",\"0630\"))","v":"20241231"},{"$f":"+'Incoming Remittances (Value)'!H94","v":0}]
["CMREM_11520","GD",{"$f":"+'Incoming Remittances (Value)'!$H$5","v":"20241231"},{"$f":"+'COVER SHEET'!$D$12","v":0},11520,{"$f":"'COVER SHEET'!$D$16&IF(MID('COVER SHEET'!$I$18,6,10)=\"december\",\"1231\",IF(MID('COVER SHEET'!$I$18,6,10)=\"june\",\"0630\"))","v":"20241231"},{"$f":"+'Incoming Remittances (Value)'!H95","v":0}]
["CMREM_11520","GU",{"$f":"+'Incoming Remittances (Value)'!$H$5","v":"20241231"},{"$f":"+'COVER SHEET'!$D$12","v":0},11520,{"$f":"'COVER SHEET'!$D$16&IF(MID('COVER SHEET'!$I$18,6,10)=\"december\",\"1231\",IF(MID('COVER SHEET'!$I$18,6,10)=\"june\",\"0630\"))","v":"20241231"},{"$f":"+'Incoming Remittances (Value)'!H96","v":0}]
["CMREM_11520","GT",{"$f":"+'Incoming Remittances (Value)'!$H$5","v":"20241231"},{"$f":"+'COVER SHEET'!$D$12","v":0},11520,{"$f":"'COVER SHEET'!$D$16&IF(MID('COVER SHEET'!$I$18,6,10)=\"december\",\"1231\",IF(MID('COVER SHEET'!$I$18,6,10)=\"june\",\"0630\"))","v":"20241231"},{"$f":"+'Incoming Remittances (Value)'!H97","v":0}]
["CMREM_11520","GG",{"$f":"+'Incoming Remittances (Value)'!$H$5","v":"20241231"},{"$f":"+'COVER SHEET'!$D$12","v":0},11520,{"$f":"'COVER SHEET'!$D$16&IF(MID('COVER SHEET'!$I$18,6,10)=\"december\",\"1231\",IF(MID('COVER SHEET'!$I$18,6,10)=\"june\",\"0630\"))","v":"20241231"},{"$f":"+'Incoming Remittances (Value)'!H98","v":0}]
["CMREM_11520","GN",{"$f":"+'Incoming Remittances (Value)'!$H$5","v":"20241231"},{"$f":"+'COVER SHEET'!$D$12","v":0},11520,{"$f":"'COVER SHEET'!$D$16&IF(MID('COVER SHEET'!$I$18,6,10)=\"december\",\"1231\",IF(MID('COVER SHEET'!$I$18,6,10)=\"june\",\"0630\"))","v":"20241231"},{"$f":"+'Incoming Remittances (Value)'!H99","v":0}]
["CMREM_11520","GW",{"$f":"+'Incoming Remittances (Value)'!$H$5","v":"20241231"},{"$f":"+'COVER SHEET'!$D$12","v":0},11520,{"$f":"'COVER SHEET'!$D$16&IF(MID('COVER SHEET'!$I$18,6,10)=\"december\",\"1231\",IF(MID('COVER SHEET'!$I$18,6,10)=\"june\",\"0630\"))","v":"20241231"},{"$f":"+'Incoming Remittances (Value)'!H100","v":0}]
["CMREM_11520","GY",{"$f":"+'Incoming Remittances (Value)'!$H$5","v":"20241231"},{"$f":"+'COVER SHEET'!$D$12","v":0},11520,{"$f":"'COVER SHEET'!$D$16&IF(MID('COVER SHEET'!$I$18,6,10)=\"december\",\"1231\",IF(MID('COVER SHEET'!$I$18,6,10)=\"june\",\"0630\"))","v":"20241231"},{"$f":"+'Incoming Remittances (Value)'!H101","v":0}]
["CMREM_11520","HT",{"$f":"+'Incoming Remittances (Value)'!$H$5","v":"20241231"},{"$f":"+'COVER SHEET'!$D$12","v":0},11520,{"$f":"'COVER SHEET'!$D$16&IF(MID('COVER SHEET'!$I$18,6,10)=\"december\",\"1231\",IF(MID('COVER SHEET'!$I$18,6,10)=\"june\",\"0630\"))","v":"20241231"},{"$f":"+'Incoming Remittances (Value)'!H102","v":0}]
["CMREM_11520","HM",{"$f":"+'Incoming Remittances (Value)'!$H$5","v":"20241231"},{"$f":"+'COVER SHEET'!$D$12","v":0},11520,{"$f":"'COVER SHEET'!$D$16&IF(MID('COVER SHEET'!$I$18,6,10)=\"december\",\"1231\",IF(MID('COVER SHEET'!$I$18,6,10)=\"june\",\"0630\"))","v":"20241231"},{"$f":"+'Incoming Remittances (Value)'!H103","v":0}]
["CMREM_11520","VA",{"$f":"+'Incoming Remittances (Value)'!$H$5","v":"20241231"},{"$f":"+'COVER SHEET'!$D$12","v":0},11520,{"$f":"'COVER SHEET'!$D$16&IF(MID('COVER SHEET'!$I$18,6,10)=\"december\",\"1231\",IF(MID('COVER SHEET'!$I$18,6,10)=\"june\",\"0630\"))","v":"20241231"},{"$f":"+'Incoming Remittances (Value)'!H104","v":0}]
["CMREM_11520","HN",{"$f":"+'Incoming Remittances (Value)'!$H$5","v":"20241231"},{"$f":"+'COVER SHEET'!$D$12","v":0},11520,{"$f":"'COVER SHEET'!$D$16&IF(MID('COVER SHEET'!$I$18,6,10)=\"december\",\"1231\",IF(MID('COVER SHEET'!$I$18,6,10)=\"june\",\"0630\"))","v":"20241231"},{"$f":"+'Incoming Remittances (Value)'!H105","v":0}]
["CMREM_11520","HK",{"$f":"+'Incoming Remittances (Value)'!$H$5","v":"20241231"},{"$f":"+'COVER SHEET'!$D$12","v":0},11520,{"$f":"'COVER SHEET'!$D$16&IF(MID('COVER SHEET'!$I$18,6,10)=\"december\",\"1231\",IF(MID('COVER SHEET'!$I$18,6,10)=\"june\",\"0630\"))","v":"20241231"},{"$f":"+'Incoming Remittances (Value)'!H106","v":0}]
["CMREM_11520","HU",{"$f":"+'Incoming Remittances (Value)'!$H$5","v":"20241231"},{"$f":"+'COVER SHEET'!$D$12","v":0},11520,{"$f":"'COVER SHEET'!$D$16&IF(MID('COVER SHEET'!$I$18,6,10)=\"december\",\"1231\",IF(MID('COVER SHEET'!$I$18,6,10)=\"june\",\"0630\"))","v":"20241231"},{"$f":"+'Incoming Remittances (Value)'!H107","v":0}]
["CMREM_11520","IS",{"$f":"+'Incoming Remittances (Value)'!$H$5","v":"20241231"},{"$f":"+'COVER SHEET'!$D$12","v":0},11520,{"$f":"'COVER SHEET'!$D$16&IF(MID('COVER SHEET'!$I$18,6,10)=\"december\",\"1231\",IF(MID('COVER SHEET'!$I$18,6,10)=\"june\",\"0630\"))","v":"20241231"},{"$f":"+'Incoming Remittances (Value)'!H108","v":0}]
["CMREM_11520","IN",{"$f":"+'Incoming Remittances (Value)'!$H$5","v":"20241231"},{"$f":"+'COVER SHEET'!$D$12","v":0},11520,{"$f":"'COVER SHEET'!$D$16&IF(MID('COVER SHEET'!$I$18,6,10)=\"december\",\"1231\",IF(MID('COVER SHEET'!$I$18,6,10)=\"june\",\"0630\"))","v":"20241231"},{"$f":"+'Incoming Remittances (Value)'!H109","v":0}]
["CMREM_11520","ID",{"$f":"+'Incoming Remittances (Value)'!$H$5","v":"20241231"},{"$f":"+'COVER SHEET'!$D$12","v":0},11520,{"$f":"'COVER SHEET'!$D$16&IF(MID('COVER SHEET'!$I$18,6,10)=\"december\",\"1231\",IF(MID('COVER SHEET'!$I$18,6,10)=\"june\",\"0630\"))","v":"20241231"},{"$f":"+'Incoming Remittances (Value)'!H110","v":0}]
["CMREM_11520","IR",{"$f":"+'Incoming Remittances (Value)'!$H$5","v":"20241231"},{"$f":"+'COVER SHEET'!$D$12","v":0},11520,{"$f":"'COVER SHEET'!$D$16&IF(MID('COVER SHEET'!$I$18,6,10)=\"december\",\"1231\",IF(MID('COVER SHEET'!$I$18,6,10)=\"june\",\"0630\"))","v":"20241231"},{"$f":"+'Incoming Remittances (Value)'!H111","v":0}]
["CMREM_11520","IQ",{"$f":"+'Incoming Remittances (Value)'!$H$5","v":"20241231"},{"$f":"+'COVER SHEET'!$D$12","v":0},11520,{"$f":"'COVER SHEET'!$D$16&IF(MID('COVER SHEET'!$I$18,6,10)=\"december\",\"1231\",IF(MID('COVER SHEET'!$I$18,6,10)=\"june\",\"0630\"))","v":"20241231"},{"$f":"+'Incoming Remittances (Value)'!H112","v":0}]
["CMREM_11520","IE",{"$f":"+'Incoming Remittances (Value)'!$H$5","v":"20241231"},{"$f":"+'COVER SHEET'!$D$12","v":0},11520,{"$f":"'COVER SHEET'!$D$16&IF(MID('COVER SHEET'!$I$18,6,10)=\"december\",\"1231\",IF(MID('COVER SHEET'!$I$18,6,10)=\"june\",\"0630\"))","v":"20241231"},{"$f":"+'Incoming Remittances (Value)'!H113","v":0}]
["CMREM_11520","IM",{"$f":"+'Incoming Remittances (Value)'!$H$5","v":"20241231"},{"$f":"+'COVER SHEET'!$D$12","v":0},11520,{"$f":"'COVER SHEET'!$D$16&IF(MID('COVER SHEET'!$I$18,6,10)=\"december\",\"1231\",IF(MID('COVER SHEET'!$I$18,6,10)=\"june\",\"0630\"))","v":"20241231"},{"$f":"+'Incoming Remittances (Value)'!H114","v":0}]
["CMREM_11520","IL",{"$f":"+'Incoming Remittances (Value)'!$H$5","v":"20241231"},{"$f":"+'COVER SHEET'!$D$12","v":0},11520,{"$f":"'COVER SHEET'!$D$16&IF(MID('COVER SHEET'!$I$18,6,10)=\"december\",\"1231\",IF(MID('COVER SHEET'!$I$18,6,10)=\"june\",\"0630\"))","v":"20241231"},{"$f":"+'Incoming Remittances (Value)'!H115","v":0}]
["CMREM_11520","IT",{"$f":"+'Incoming Remittances (Value)'!$H$5","v":"20241231"},{"$f":"+'COVER SHEET'!$D$12","v":0},11520,{"$f":"'COVER SHEET'!$D$16&IF(MID('COVER SHEET'!$I$18,6,10)=\"december\",\"1231\",IF(MID('COVER SHEET'!$I$18,6,10)=\"june\",\"0630\"))","v":"20241231"},{"$f":"+'Incoming Remittances (Value)'!H116","v":0}]
["CMREM_11520","CI",{"$f":"+'Incoming Remittances (Value)'!$H$5","v":"20241231"},{"$f":"+'COVER SHEET'!$D$12","v":0},11520,{"$f":"'COVER SHEET'!$D$16&IF(MID('COVER SHEET'!$I$18,6,10)=\"december\",\"1231\",IF(MID('COVER SHEET'!$I$18,6,10)=\"june\",\"0630\"))","v":"20241231"},{"$f":"+'Incoming Remittances (Value)'!H117","v":0}]
["CMREM_11520","JM",{"$f":"+'Incoming Remittances (Value)'!$H$5","v":"20241231"},{"$f":"+'COVER SHEET'!$D$12","v":0},11520,{"$f":"'COVER SHEET'!$D$16&IF(MID('COVER SHEET'!$I$18,6,10)=\"december\",\"1231\",IF(MID('COVER SHEET'!$I$18,6,10)=\"june\",\"0630\"))","v":"20241231"},{"$f":"+'Incoming Remittances (Value)'!H118","v":0}]
["CMREM_11520","JP",{"$f":"+'Incoming Remittances (Value)'!$H$5","v":"20241231"},{"$f":"+'COVER SHEET'!$D$12","v":0},11520,{"$f":"'COVER SHEET'!$D$16&IF(MID('COVER SHEET'!$I$18,6,10)=\"december\",\"1231\",IF(MID('COVER SHEET'!$I$18,6,10)=\"june\",\"0630\"))","v":"20241231"},{"$f":"+'Incoming Remittances (Value)'!H119","v":0}]
["CMREM_11520","JE",{"$f":"+'Incoming Remittances (Value)'!$H$5","v":"20241231"},{"$f":"+'COVER SHEET'!$D$12","v":0},11520,{"$f":"'COVER SHEET'!$D$16&IF(MID('COVER SHEET'!$I$18,6,10)=\"december\",\"1231\",IF(MID('COVER SHEET'!$I$18,6,10)=\"june\",\"0630\"))","v":"20241231"},{"$f":"+'Incoming Remittances (Value)'!H120","v":0}]
["CMREM_11520","JO",{"$f":"+'Incoming Remittances (Value)'!$H$5","v":"20241231"},{"$f":"+'COVER SHEET'!$D$12","v":0},11520,{"$f":"'COVER SHEET'!$D$16&IF(MID('COVER SHEET'!$I$18,6,10)=\"december\",\"1231\",IF(MID('COVER SHEET'!$I$18,6,10)=\"june\",\"0630\"))","v":"20241231"},{"$f":"+'Incoming Remittances (Value)'!H121","v":0}]
["CMREM_11520","KZ",{"$f":"+'Incoming Remittances (Value)'!$H$5","v":"20241231"},{"$f":"+'COVER SHEET'!$D$12","v":0},11520,{"$f":"'COVER SHEET'!$D$16&IF(MID('COVER SHEET'!$I$18,6,10)=\"december\",\"1231\",IF(MID('COVER SHEET'!$I$18,6,10)=\"june\",\"0630\"))","v":"20241231"},{"$f":"+'Incoming Remittances (Value)'!H122","v":0}]
["CMREM_11520","KE",{"$f":"+'Incoming Remittances (Value)'!$H$5","v":"20241231"},{"$f":"+'COVER SHEET'!$D$12","v":0},11520,{"$f":"'COVER SHEET'!$D$16&IF(MID('COVER SHEET'!$I$18,6,10)=\"december\",\"1231\",IF(MID('COVER SHEET'!$I$18,6,10)=\"june\",\"0630\"))","v":"20241231"},{"$f":"+'Incoming Remittances (Value)'!H123","v":0}]
["CMREM_11520","KI",{"$f":"+'Incoming Remittances (Value)'!$H$5","v":"20241231"},{"$f":"+'COVER SHEET'!$D$12","v":0},11520,{"$f":"'COVER SHEET'!$D$16&IF(MID('COVER SHEET'!$I$18,6,10)=\"december\",\"1231\",IF(MID('COVER SHEET'!$I$18,6,10)=\"june\",\"0630\"))","v":"20241231"},{"$f":"+'Incoming Remittances (Value)'!H124","v":0}]
["CMREM_11520","KP",{"$f":"+'Incoming Remittances (Value)'!$H$5","v":"20241231"},{"$f":"+'COVER SHEET'!$D$12","v":0},11520,{"$f":"'COVER SHEET'!$D$16&IF(MID('COVER SHEET'!$I$18,6,10)=\"december\",\"1231\",IF(MID('COVER SHEET'!$I$18,6,10)=\"june\",\"0630\"))","v":"20241231"},{"$f":"+'Incoming Remittances (Value)'!H125","v":0}]
["CMREM_11520","KR",{"$f":"+'Incoming Remittances (Value)'!$H$5","v":"20241231"},{"$f":"+'COVER SHEET'!$D$12","v":0},11520,{"$f":"'COVER SHEET'!$D$16&IF(MID('COVER SHEET'!$I$18,6,10)=\"december\",\"1231\",IF(MID('COVER SHEET'!$I$18,6,10)=\"june\",\"0630\"))","v":"20241231"},{"$f":"+'Incoming Remittances (Value)'!H126","v":0}]
["CMREM_11520","XK",{"$f":"+'Incoming Remittances (Value)'!$H$5","v":"20241231"},{"$f":"+'COVER SHEET'!$D$12","v":0},11520,{"$f":"'COVER SHEET'!$D$16&IF(MID('COVER SHEET'!$I$18,6,10)=\"december\",\"1231\",IF(MID('COVER SHEET'!$I$18,6,10)=\"june\",\"0630\"))","v":"20241231"},{"$f":"+'Incoming Remittances (Value)'!H127","v":0}]
["CMREM_11520","KW",{"$f":"+'Incoming Remittances (Value)'!$H$5","v":"20241231"},{"$f":"+'COVER SHEET'!$D$12","v":0},11520,{"$f":"'COVER SHEET'!$D$16&IF(MID('COVER SHEET'!$I$18,6,10)=\"december\",\"1231\",IF(MID('COVER SHEET'!$I$18,6,10)=\"june\",\"0630\"))","v":"20241231"},{"$f":"+'Incoming Remittances (Value)'!H128","v":0}]
["CMREM_11520","KG",{"$f":"+'Incoming Remittances (Value)'!$H$5","v":"20241231"},{"$f":"+'COVER SHEET'!$D$12","v":0},11520,{"$f":"'COVER SHEET'!$D$16&IF(MID('COVER SHEET'!$I$18,6,10)=\"december\",\"1231\",IF(MID('COVER SHEET'!$I$18,6,10)=\"june\",\"0630\"))","v":"20241231"},{"$f":"+'Incoming Remittances (Value)'!H129","v":0}]
["CMREM_11520","LA",{"$f":"+'Incoming Remittances (Value)'!$H$5","v":"20241231"},{"$f":"+'COVER SHEET'!$D$12","v":0},11520,{"$f":"'COVER SHEET'!$D$16&IF(MID('COVER SHEET'!$I$18,6,10)=\"december\",\"1231\",IF(MID('COVER SHEET'!$I$18,6,10)=\"june\",\"0630\"))","v":"20241231"},{"$f":"+'Incoming Remittances (Value)'!H130","v":0}]
["CMREM_11520","LV",{"$f":"+'Incoming Remittances (Value)'!$H$5","v":"20241231"},{"$f":"+'COVER SHEET'!$D$12","v":0},11520,{"$f":"'COVER SHEET'!$D$16&IF(MID('COVER SHEET'!$I$18,6,10)=\"december\",\"1231\",IF(MID('COVER SHEET'!$I$18,6,10)=\"june\",\"0630\"))","v":"20241231"},{"$f":"+'Incoming Remittances (Value)'!H131","v":0}]
["CMREM_11520","LB",{"$f":"+'Incoming Remittances (Value)'!$H$5","v":"20241231"},{"$f":"+'COVER SHEET'!$D$12","v":0},11520,{"$f":"'COVER SHEET'!$D$16&IF(MID('COVER SHEET'!$I$18,6,10)=\"december\",\"1231\",IF(MID('COVER SHEET'!$I$18,6,10)=\"june\",\"0630\"))","v":"20241231"},{"$f":"+'Incoming Remittances (Value)'!H132","v":0}]
["CMREM_11520","LS",{"$f":"+'Incoming Remittances (Value)'!$H$5","v":"20241231"},{"$f":"+'COVER SHEET'!$D$12","v":0},11520,{"$f":"'COVER SHEET'!$D$16&IF(MID('COVER SHEET'!$I$18,6,10)=\"december\",\"1231\",IF(MID('COVER SHEET'!$I$18,6,10)=\"june\",\"0630\"))","v":"20241231"},{"$f":"+'Incoming Remittances (Value)'!H133","v":0}]
["CMREM_11520","LR",{"$f":"+'Incoming Remittances (Value)'!$H$5","v":"20241231"},{"$f":"+'COVER SHEET'!$D$12","v":0},11520,{"$f":"'COVER SHEET'!$D$16&IF(MID('COVER SHEET'!$I$18,6,10)=\"december\",\"1231\",IF(MID('COVER SHEET'!$I$18,6,10)=\"june\",\"0630\"))","v":"20241231"},{"$f":"+'Incoming Remittances (Value)'!H134","v":0}]
["CMREM_11520","LY",{"$f":"+'Incoming Remittances (Value)'!$H$5","v":"20241231"},{"$f":"+'COVER SHEET'!$D$12","v":0},11520,{"$f":"'COVER SHEET'!$D$16&IF(MID('COVER SHEET'!$I$18,6,10)=\"december\",\"1231\",IF(MID('COVER SHEET'!$I$18,6,10)=\"june\",\"0630\"))","v":"20241231"},{"$f":"+'Incoming Remittances (Value)'!H135","v":0}]
["CMREM_11520","LI",{"$f":"+'Incoming Remittances (Value)'!$H$5","v":"20241231"},{"$f":"+'COVER SHEET'!$D$12","v":0},11520,{"$f":"'COVER SHEET'!$D$16&IF(MID('COVER SHEET'!$I$18,6,10)=\"december\",\"1231\",IF(MID('COVER SHEET'!$I$18,6,10)=\"june\",\"0630\"))","v":"20241231"},{"$f":"+'Incoming Remittances (Value)'!H136","v":0}]
["CMREM_11520","LT",{"$f":"+'Incoming Remittances (Value)'!$H$5","v":"20241231"},{"$f":"+'COVER SHEET'!$D$12","v":0},11520,{"$f":"'COVER SHEET'!$D$16&IF(MID('COVER SHEET'!$I$18,6,10)=\"december\",\"1231\",IF(MID('COVER SHEET'!$I$18,6,10)=\"june\",\"0630\"))","v":"20241231"},{"$f":"+'Incoming Remittances (Value)'!H137","v":0}]
["CMREM_11520","LU",{"$f":"+'Incoming Remittances (Value)'!$H$5","v":"20241231"},{"$f":"+'COVER SHEET'!$D$12","v":0},11520,{"$f":"'COVER SHEET'!$D$16&IF(MID('COVER SHEET'!$I$18,6,10)=\"december\",\"1231\",IF(MID('COVER SHEET'!$I$18,6,10)=\"june\",\"0630\"))","v":"20241231"},{"$f":"+'Incoming Remittances (Value)'!H138","v":0}]
["CMREM_11520","MO",{"$f":"+'Incoming Remittances (Value)'!$H$5","v":"20241231"},{"$f":"+'COVER SHEET'!$D$12","v":0},11520,{"$f":"'COVER SHEET'!$D$16&IF(MID('COVER SHEET'!$I$18,6,10)=\"december\",\"1231\",IF(MID('COVER SHEET'!$I$18,6,10)=\"june\",\"0630\"))","v":"20241231"},{"$f":"+'Incoming Remittances (Value)'!H139","v":0}]
["CMREM_11520","MK",{"$f":"+'Incoming Remittances (Value)'!$H$5","v":"20241231"},{"$f":"+'COVER SHEET'!$D$12","v":0},11520,{"$f":"'COVER SHEET'!$D$16&IF(MID('COVER SHEET'!$I$18,6,10)=\"december\",\"1231\",IF(MID('COVER SHEET'!$I$18,6,10)=\"june\",\"0630\"))","v":"20241231"},{"$f":"+'Incoming Remittances (Value)'!H140","v":0}]
["CMREM_11520","MG",{"$f":"+'Incoming Remittances (Value)'!$H$5","v":"20241231"},{"$f":"+'COVER SHEET'!$D$12","v":0},11520,{"$f":"'COVER SHEET'!$D$16&IF(MID('COVER SHEET'!$I$18,6,10)=\"december\",\"1231\",IF(MID('COVER SHEET'!$I$18,6,10)=\"june\",\"0630\"))","v":"20241231"},{"$f":"+'Incoming Remittances (Value)'!H141","v":0}]
["CMREM_11520","MW",{"$f":"+'Incoming Remittances (Value)'!$H$5","v":"20241231"},{"$f":"+'COVER SHEET'!$D$12","v":0},11520,{"$f":"'COVER SHEET'!$D$16&IF(MID('COVER SHEET'!$I$18,6,10)=\"december\",\"1231\",IF(MID('COVER SHEET'!$I$18,6,10)=\"june\",\"0630\"))","v":"20241231"},{"$f":"+'Incoming Remittances (Value)'!H142","v":0}]
["CMREM_11520","MY",{"$f":"+'Incoming Remittances (Value)'!$H$5","v":"20241231"},{"$f":"+'COVER SHEET'!$D$12","v":0},11520,{"$f":"'COVER SHEET'!$D$16&IF(MID('COVER SHEET'!$I$18,6,10)=\"december\",\"1231\",IF(MID('COVER SHEET'!$I$18,6,10)=\"june\",\"0630\"))","v":"20241231"},{"$f":"+'Incoming Remittances (Value)'!H143","v":0}]
["CMREM_11520","MV",{"$f":"+'Incoming Remittances (Value)'!$H$5","v":"20241231"},{"$f":"+'COVER SHEET'!$D$12","v":0},11520,{"$f":"'COVER SHEET'!$D$16&IF(MID('COVER SHEET'!$I$18,6,10)=\"december\",\"1231\",IF(MID('COVER SHEET'!$I$18,6,10)=\"june\",\"0630\"))","v":"20241231"},{"$f":"+'Incoming Remittances (Value)'!H144","v":0}]
["CMREM_11520","ML",{"$f":"+'Incoming Remittances (Value)'!$H$5","v":"20241231"},{"$f":"+'COVER SHEET'!$D$12","v":0},11520,{"$f":"'COVER SHEET'!$D$16&IF(MID('COVER SHEET'!$I$18,6,10)=\"december\",\"1231\",IF(MID('COVER SHEET'!$I$18,6,10)=\"june\",\"0630\"))","v":"20241231"},{"$f":"+'Incoming Remittances (Value)'!H145","v":0}]
["CMREM_11520","MH",{"$f":"+'Incoming Remittances (Value)'!$H$5","v":"20241231"},{"$f":"+'COVER SHEET'!$D$12","v":0},11520,{"$f":"'COVER SHEET'!$D$16&IF(MID('COVER SHEET'!$I$18,6,10)=\"december\",\"1231\",IF(MID('COVER SHEET'!$I$18,6,10)=\"june\",\"0630\"))","v":"20241231"},{"$f":"+'Incoming Remittances (Value)'!H146","v":0}]
["CMREM_11520","MR",{"$f":"+'Incoming Remittances (Value)'!$H$5","v":"20241231"},{"$f":"+'COVER SHEET'!$D$12","v":0},11520,{"$f":"'COVER SHEET'!$D$16&IF(MID('COVER SHEET'!$I$18,6,10)=\"december\",\"1231\",IF(MID('COVER SHEET'!$I$18,6,10)=\"june\",\"0630\"))","v":"20241231"},{"$f":"+'Incoming Remittances (Value)'!H147","v":0}]
["CMREM_11520","MU",{"$f":"+'Incoming Remittances (Value)'!$H$5","v":"20241231"},{"$f":"+'COVER SHEET'!$D$12","v":0},11520,{"$f":"'COVER SHEET'!$D$16&IF(MID('COVER SHEET'!$I$18,6,10)=\"december\",\"1231\",IF(MID('COVER SHEET'!$I$18,6,10)=\"june\",\"0630\"))","v":"20241231"},{"$f":"+'Incoming Remittances (Value)'!H148","v":0}]
["CMREM_11520","MX",{"$f":"+'Incoming Remittances (Value)'!$H$5","v":"20241231"},{"$f":"+'COVER SHEET'!$D$12","v":0},11520,{"$f":"'COVER SHEET'!$D$16&IF(MID('COVER SHEET'!$I$18,6,10)=\"december\",\"1231\",IF(MID('COVER SHEET'!$I$18,6,10)=\"june\",\"0630\"))","v":"20241231"},{"$f":"+'Incoming Remittances (Value)'!H149","v":0}]
["CMREM_11520","FM",{"$f":"+'Incoming Remittances (Value)'!$H$5","v":"20241231"},{"$f":"+'COVER SHEET'!$D$12","v":0},11520,{"$f":"'COVER SHEET'!$D$16&IF(MID('COVER SHEET'!$I$18,6,10)=\"december\",\"1231\",IF(MID('COVER SHEET'!$I$18,6,10)=\"june\",\"0630\"))","v":"20241231"},{"$f":"+'Incoming Remittances (Value)'!H150","v":0}]
["CMREM_11520","MD",{"$f":"+'Incoming Remittances (Value)'!$H$5","v":"20241231"},{"$f":"+'COVER SHEET'!$D$12","v":0},11520,{"$f":"'COVER SHEET'!$D$16&IF(MID('COVER SHEET'!$I$18,6,10)=\"december\",\"1231\",IF(MID('COVER SHEET'!$I$18,6,10)=\"june\",\"0630\"))","v":"20241231"},{"$f":"+'Incoming Remittances (Value)'!H151","v":0}]
["CMREM_11520","MN",{"$f":"+'Incoming Remittances (Value)'!$H$5","v":"20241231"},{"$f":"+'COVER SHEET'!$D$12","v":0},11520,{"$f":"'COVER SHEET'!$D$16&IF(MID('COVER SHEET'!$I$18,6,10)=\"december\",\"1231\",IF(MID('COVER SHEET'!$I$18,6,10)=\"june\",\"0630\"))","v":"20241231"},{"$f":"+'Incoming Remittances (Value)'!H152","v":0}]
["CMREM_11520","ME",{"$f":"+'Incoming Remittances (Value)'!$H$5","v":"20241231"},{"$f":"+'COVER SHEET'!$D$12","v":0},11520,{"$f":"'COVER SHEET'!$D$16&IF(MID('COVER SHEET'!$I$18,6,10)=\"december\",\"1231\",IF(MID('COVER SHEET'!$I$18,6,10)=\"june\",\"0630\"))","v":"20241231"},{"$f":"+'Incoming Remittances (Value)'!H153","v":0}]
["CMREM_11520","MS",{"$f":"+'Incoming Remittances (Value)'!$H$5","v":"20241231"},{"$f":"+'COVER SHEET'!$D$12","v":0},11520,{"$f":"'COVER SHEET'!$D$16&IF(MID('COVER SHEET'!$I$18,6,10)=\"december\",\"1231\",IF(MID('COVER SHEET'!$I$18,6,10)=\"june\",\"0630\"))","v":"20241231"},{"$f":"+'Incoming Remittances (Value)'!H154","v":0}]
["CMREM_11520","MA",{"$f":"+'Incoming Remittances (Value)'!$H$5","v":"20241231"},{"$f":"+'COVER SHEET'!$D$12","v":0},11520,{"$f":"'COVER SHEET'!$D$16&IF(MID('COVER SHEET'!$I$18,6,10)=\"december\",\"1231\",IF(MID('COVER SHEET'!$I$18,6,10)=\"june\",\"0630\"))","v":"20241231"},{"$f":"+'Incoming Remittances (Value)'!H155","v":0}]
["CMREM_11520","MZ",{"$f":"+'Incoming Remittances (Value)'!$H$5","v":"20241231"},{"$f":"+'COVER SHEET'!$D$12","v":0},11520,{"$f":"'COVER SHEET'!$D$16&IF(MID('COVER SHEET'!$I$18,6,10)=\"december\",\"1231\",IF(MID('COVER SHEET'!$I$18,6,10)=\"june\",\"0630\"))","v":"20241231"},{"$f":"+'Incoming Remittances (Value)'!H156","v":0}]
["CMREM_11520","MM",{"$f":"+'Incoming Remittances (Value)'!$H$5","v":"20241231"},{"$f":"+'COVER SHEET'!$D$12","v":0},11520,{"$f":"'COVER SHEET'!$D$16&IF(MID('COVER SHEET'!$I$18,6,10)=\"december\",\"1231\",IF(MID('COVER SHEET'!$I$18,6,10)=\"june\",\"0630\"))","v":"20241231"},{"$f":"+'Incoming Remittances (Value)'!H157","v":0}]
["CMREM_11520","NA",{"$f":"+'Incoming Remittances (Value)'!$H$5","v":"20241231"},{"$f":"+'COVER SHEET'!$D$12","v":0},11520,{"$f":"'COVER SHEET'!$D$16&IF(MID('COVER SHEET'!$I$18,6,10)=\"december\",\"1231\",IF(MID('COVER SHEET'!$I$18,6,10)=\"june\",\"0630\"))","v":"20241231"},{"$f":"+'Incoming Remittances (Value)'!H158","v":0}]
["CMREM_11520","NR",{"$f":"+'Incoming Remittances (Value)'!$H$5","v":"20241231"},{"$f":"+'COVER SHEET'!$D$12","v":0},11520,{"$f":"'COVER SHEET'!$D$16&IF(MID('COVER SHEET'!$I$18,6,10)=\"december\",\"1231\",IF(MID('COVER SHEET'!$I$18,6,10)=\"june\",\"0630\"))","v":"20241231"},{"$f":"+'Incoming Remittances (Value)'!H159","v":0}]
["CMREM_11520","NP",{"$f":"+'Incoming Remittances (Value)'!$H$5","v":"20241231"},{"$f":"+'COVER SHEET'!$D$12","v":0},11520,{"$f":"'COVER SHEET'!$D$16&IF(MID('COVER SHEET'!$I$18,6,10)=\"december\",\"1231\",IF(MID('COVER SHEET'!$I$18,6,10)=\"june\",\"0630\"))","v":"20241231"},{"$f":"+'Incoming Remittances (Value)'!H160","v":0}]
["CMREM_11520","NL",{"$f":"+'Incoming Remittances (Value)'!$H$5","v":"20241231"},{"$f":"+'COVER SHEET'!$D$12","v":0},11520,{"$f":"'COVER SHEET'!$D$16&IF(MID('COVER SHEET'!$I$18,6,10)=\"december\",\"1231\",IF(MID('COVER SHEET'!$I$18,6,10)=\"june\",\"0630\"))","v":"20241231"},{"$f":"+'Incoming Remittances (Value)'!H161","v":0}]
["CMREM_11520","NC",{"$f":"+'Incoming Remittances (Value)'!$H$5","v":"20241231"},{"$f":"+'COVER SHEET'!$D$12","v":0},11520,{"$f":"'COVER SHEET'!$D$16&IF(MID('COVER SHEET'!$I$18,6,10)=\"december\",\"1231\",IF(MID('COVER SHEET'!$I$18,6,10)=\"june\",\"0630\"))","v":"20241231"},{"$f":"+'Incoming Remittances (Value)'!H162","v":0}]
["CMREM_11520","NZ",{"$f":"+'Incoming Remittances (Value)'!$H$5","v":"20241231"},{"$f":"+'COVER SHEET'!$D$12","v":0},11520,{"$f":"'COVER SHEET'!$D$16&IF(MID('COVER SHEET'!$I$18,6,10)=\"december\",\"1231\",IF(MID('COVER SHEET'!$I$18,6,10)=\"june\",\"0630\"))","v":"20241231"},{"$f":"+'Incoming Remittances (Value)'!H163","v":0}]
["CMREM_11520","NI",{"$f":"+'Incoming Remittances (Value)'!$H$5","v":"20241231"},{"$f":"+'COVER SHEET'!$D$12","v":0},11520,{"$f":"'COVER SHEET'!$D$16&IF(MID('COVER SHEET'!$I$18,6,10)=\"december\",\"1231\",IF(MID('COVER SHEET'!$I$18,6,10)=\"june\",\"0630\"))","v":"20241231"},{"$f":"+'Incoming Remittances (Value)'!H164","v":0}]
["CMREM_11520","NE",{"$f":"+'Incoming Remittances (Value)'!$H$5","v":"20241231"},{"$f":"+'COVER SHEET'!$D$12","v":0},11520,{"$f":"'COVER SHEET'!$D$16&IF(MID('COVER SHEET'!$I$18,6,10)=\"december\",\"1231\",IF(MID('COVER SHEET'!$I$18,6,10)=\"june\",\"0630\"))","v":"20241231"},{"$f":"+'Incoming Remittances (Value)'!H165","v":0}]
["CMREM_11520","NG",{"$f":"+'Incoming Remittances (Value)'!$H$5","v":"20241231"},{"$f":"+'COVER SHEET'!$D$12","v":0},11520,{"$f":"'COVER SHEET'!$D$16&IF(MID('COVER SHEET'!$I$18,6,10)=\"december\",\"1231\",IF(MID('COVER SHEET'!$I$18,6,10)=\"june\",\"0630\"))","v":"20241231"},{"$f":"+'Incoming Remittances (Value)'!H166","v":0}]
["CMREM_11520","NU",{"$f":"+'Incoming Remittances (Value)'!$H$5","v":"20241231"},{"$f":"+'COVER SHEET'!$D$12","v":0},11520,{"$f":"'COVER SHEET'!$D$16&IF(MID('COVER SHEET'!$I$18,6,10)=\"december\",\"1231\",IF(MID('COVER SHEET'!$I$18,6,10)=\"june\",\"0630\"))","v":"20241231"},{"$f":"+'Incoming Remittances (Value)'!H167","v":0}]
["CMREM_11520","NF",{"$f":"+'Incoming Remittances (Value)'!$H$5","v":"20241231"},{"$f":"+'COVER SHEET'!$D$12","v":0},11520,{"$f":"'COVER SHEET'!$D$16&IF(MID('COVER SHEET'!$I$18,6,10)=\"december\",\"1231\",IF(MID('COVER SHEET'!$I$18,6,10)=\"june\",\"0630\"))","v":"20241231"},{"$f":"+'Incoming Remittances (Value)'!H168","v":0}]
["CMREM_11520","MP",{"$f":"+'Incoming Remittances (Value)'!$H$5","v":"20241231"},{"$f":"+'COVER SHEET'!$D$12","v":0},11520,{"$f":"'COVER SHEET'!$D$16&IF(MID('COVER SHEET'!$I$18,6,10)=\"december\",\"1231\",IF(MID('COVER SHEET'!$I$18,6,10)=\"june\",\"0630\"))","v":"20241231"},{"$f":"+'Incoming Remittances (Value)'!H169","v":0}]
["CMREM_11520","NO",{"$f":"+'Incoming Remittances (Value)'!$H$5","v":"20241231"},{"$f":"+'COVER SHEET'!$D$12","v":0},11520,{"$f":"'COVER SHEET'!$D$16&IF(MID('COVER SHEET'!$I$18,6,10)=\"december\",\"1231\",IF(MID('COVER SHEET'!$I$18,6,10)=\"june\",\"0630\"))","v":"20241231"},{"$f":"+'Incoming Remittances (Value)'!H170","v":0}]
["CMREM_11520","OM",{"$f":"+'Incoming Remittances (Value)'!$H$5","v":"20241231"},{"$f":"+'COVER SHEET'!$D$12","v":0},11520,{"$f":"'COVER SHEET'!$D$16&IF(MID('COVER SHEET'!$I$18,6,10)=\"december\",\"1231\",IF(MID('COVER SHEET'!$I$18,6,10)=\"june\",\"0630\"))","v":"20241231"},{"$f":"+'Incoming Remittances (Value)'!H171","v":0}]
["CMREM_11520","PK",{"$f":"+'Incoming Remittances (Value)'!$H$5","v":"20241231"},{"$f":"+'COVER SHEET'!$D$12","v":0},11520,{"$f":"'COVER SHEET'!$D$16&IF(MID('COVER SHEET'!$I$18,6,10)=\"december\",\"1231\",IF(MID('COVER SHEET'!$I$18,6,10)=\"june\",\"0630\"))","v":"20241231"},{"$f":"+'Incoming Remittances (Value)'!H172","v":0}]
["CMREM_11520","PW",{"$f":"+'Incoming Remittances (Value)'!$H$5","v":"20241231"},{"$f":"+'COVER SHEET'!$D$12","v":0},11520,{"$f":"'COVER SHEET'!$D$16&IF(MID('COVER SHEET'!$I$18,6,10)=\"december\",\"1231\",IF(MID('COVER SHEET'!$I$18,6,10)=\"june\",\"0630\"))","v":"20241231"},{"$f":"+'Incoming Remittances (Value)'!H173","v":0}]
["CMREM_11520","PS",{"$f":"+'Incoming Remittances (Value)'!$H$5","v":"20241231"},{"$f":"+'COVER SHEET'!$D$12","v":0},11520,{"$f":"'COVER SHEET'!$D$16&IF(MID('COVER SHEET'!$I$18,6,10)=\"december\",\"1231\",IF(MID('COVER SHEET'!$I$18,6,10)=\"june\",\"0630\"))","v":"20241231"},{"$f":"+'Incoming Remittances (Value)'!H174","v":0}]
["CMREM_11520","PA",{"$f":"+'Incoming Remittances (Value)'!$H$5","v":"20241231"},{"$f":"+'COVER SHEET'!$D$12","v":0},11520,{"$f":"'COVER SHEET'!$D$16&IF(MID('COVER SHEET'!$I$18,6,10)=\"december\",\"1231\",IF(MID('COVER SHEET'!$I$18,6,10)=\"june\",\"0630\"))","v":"20241231"},{"$f":"+'Incoming Remittances (Value)'!H175","v":0}]
["CMREM_11520","PG",{"$f":"+'Incoming Remittances (Value)'!$H$5","v":"20241231"},{"$f":"+'COVER SHEET'!$D$12","v":0},11520,{"$f":"'COVER SHEET'!$D$16&IF(MID('COVER SHEET'!$I$18,6,10)=\"december\",\"1231\",IF(MID('COVER SHEET'!$I$18,6,10)=\"june\",\"0630\"))","v":"20241231"},{"$f":"+'Incoming Remittances (Value)'!H176","v":0}]
["CMREM_11520","PY",{"$f":"+'Incoming Remittances (Value)'!$H$5","v":"20241231"},{"$f":"+'COVER SHEET'!$D$12","v":0},11520,{"$f":"'COVER SHEET'!$D$16&IF(MID('COVER SHEET'!$I$18,6,10)=\"december\",\"1231\",IF(MID('COVER SHEET'!$I$18,6,10)=\"june\",\"0630\"))","v":"20241231"},{"$f":"+'Incoming Remittances (Value)'!H177","v":0}]
["CMREM_11520","PE",{"$f":"+'Incoming Remittances (Value)'!$H$5","v":"20241231"},{"$f":"+'COVER SHEET'!$D$12","v":0},11520,{"$f":"'COVER SHEET'!$D$16&IF(MID('COVER SHEET'!$I$18,6,10)=\"december\",\"1231\",IF(MID('COVER SHEET'!$I$18,6,10)=\"june\",\"0630\"))","v":"20241231"},{"$f":"+'Incoming Remittances (Value)'!H178","v":0}]
["CMREM_11520","PH",{"$f":"+'Incoming Remittances (Value)'!$H$5","v":"20241231"},{"$f":"+'COVER SHEET'!$D$12","v":0},11520,{"$f":"'COVER SHEET'!$D$16&IF(MID('COVER SHEET'!$I$18,6,10)=\"december\",\"1231\",IF(MID('COVER SHEET'!$I$18,6,10)=\"june\",\"0630\"))","v":"20241231"},{"$f":"+'Incoming Remittances (Value)'!H179","v":0}]
["CMREM_11520","PN",{"$f":"+'Incoming Remittances (Value)'!$H$5","v":"20241231"},{"$f":"+'COVER SHEET'!$D$12","v":0},11520,{"$f":"'COVER SHEET'!$D$16&IF(MID('COVER SHEET'!$I$18,6,10)=\"december\",\"1231\",IF(MID('COVER SHEET'!$I$18,6,10)=\"june\",\"0630\"))","v":"20241231"},{"$f":"+'Incoming Remittances (Value)'!H180","v":0}]
["CMREM_11520","PL",{"$f":"+'Incoming Remittances (Value)'!$H$5","v":"20241231"},{"$f":"+'COVER SHEET'!$D$12","v":0},11520,{"$f":"'COVER SHEET'!$D$16&IF(MID('COVER SHEET'!$I$18,6,10)=\"december\",\"1231\",IF(MID('COVER SHEET'!$I$18,6,10)=\"june\",\"0630\"))","v":"20241231"},{"$f":"+'Incoming Remittances (Value)'!H181","v":0}]
["CMREM_11520","PT",{"$f":"+'Incoming Remittances (Value)'!$H$5","v":"20241231"},{"$f":"+'COVER SHEET'!$D$12","v":0},11520,{"$f":"'COVER SHEET'!$D$16&IF(MID('COVER SHEET'!$I$18,6,10)=\"december\",\"1231\",IF(MID('COVER SHEET'!$I$18,6,10)=\"june\",\"0630\"))","v":"20241231"},{"$f":"+'Incoming Remittances (Value)'!H182","v":0}]
["CMREM_11520","QA",{"$f":"+'Incoming Remittances (Value)'!$H$5","v":"20241231"},{"$f":"+'COVER SHEET'!$D$12","v":0},11520,{"$f":"'COVER SHEET'!$D$16&IF(MID('COVER SHEET'!$I$18,6,10)=\"december\",\"1231\",IF(MID('COVER SHEET'!$I$18,6,10)=\"june\",\"0630\"))","v":"20241231"},{"$f":"+'Incoming Remittances (Value)'!H183","v":0}]
["CMREM_11520","RO",{"$f":"+'Incoming Remittances (Value)'!$H$5","v":"20241231"},{"$f":"+'COVER SHEET'!$D$12","v":0},11520,{"$f":"'COVER SHEET'!$D$16&IF(MID('COVER SHEET'!$I$18,6,10)=\"december\",\"1231\",IF(MID('COVER SHEET'!$I$18,6,10)=\"june\",\"0630\"))","v":"20241231"},{"$f":"+'Incoming Remittances (Value)'!H184","v":0}]
["CMREM_11520","RU",{"$f":"+'Incoming Remittances (Value)'!$H$5","v":"20241231"},{"$f":"+'COVER SHEET'!$D$12","v":0},11520,{"$f":"'COVER SHEET'!$D$16&IF(MID('COVER SHEET'!$I$18,6,10)=\"december\",\"1231\",IF(MID('COVER SHEET'!$I$18,6,10)=\"june\",\"0630\"))","v":"20241231"},{"$f":"+'Incoming Remittances (Value)'!H185","v":0}]
["CMREM_11520","RW",{"$f":"+'Incoming Remittances (Value)'!$H$5","v":"20241231"},{"$f":"+'COVER SHEET'!$D$12","v":0},11520,{"$f":"'COVER SHEET'!$D$16&IF(MID('COVER SHEET'!$I$18,6,10)=\"december\",\"1231\",IF(MID('COVER SHEET'!$I$18,6,10)=\"june\",\"0630\"))","v":"20241231"},{"$f":"+'Incoming Remittances (Value)'!H186","v":0}]
["CMREM_11520","SH",{"$f":"+'Incoming Remittances (Value)'!$H$5","v":"20241231"},{"$f":"+'COVER SHEET'!$D$12","v":0},11520,{"$f":"'COVER SHEET'!$D$16&IF(MID('COVER SHEET'!$I$18,6,10)=\"december\",\"1231\",IF(MID('COVER SHEET'!$I$18,6,10)=\"june\",\"0630\"))","v":"20241231"},{"$f":"+'Incoming Remittances (Value)'!H187","v":0}]
["CMREM_11520","KN",{"$f":"+'Incoming Remittances (Value)'!$H$5","v":"20241231"},{"$f":"+'COVER SHEET'!$D$12","v":0},11520,{"$f":"'COVER SHEET'!$D$16&IF(MID('COVER SHEET'!$I$18,6,10)=\"december\",\"1231\",IF(MID('COVER SHEET'!$I$18,6,10)=\"june\",\"0630\"))","v":"20241231"},{"$f":"+'Incoming Remittances (Value)'!H188","v":0}]
["CMREM_11520","LC",{"$f":"+'Incoming Remittances (Value)'!$H$5","v":"20241231"},{"$f":"+'COVER SHEET'!$D$12","v":0},11520,{"$f":"'COVER SHEET'!$D$16&IF(MID('COVER SHEET'!$I$18,6,10)=\"december\",\"1231\",IF(MID('COVER SHEET'!$I$18,6,10)=\"june\",\"0630\"))","v":"20241231"},{"$f":"+'Incoming Remittances (Value)'!H189","v":0}]
["CMREM_11520","VC",{"$f":"+'Incoming Remittances (Value)'!$H$5","v":"20241231"},{"$f":"+'COVER SHEET'!$D$12","v":0},11520,{"$f":"'COVER SHEET'!$D$16&IF(MID('COVER SHEET'!$I$18,6,10)=\"december\",\"1231\",IF(MID('COVER SHEET'!$I$18,6,10)=\"june\",\"0630\"))","v":"20241231"},{"$f":"+'Incoming Remittances (Value)'!H190","v":0}]
["CMREM_11520","WS",{"$f":"+'Incoming Remittances (Value)'!$H$5","v":"20241231"},{"$f":"+'COVER SHEET'!$D$12","v":0},11520,{"$f":"'COVER SHEET'!$D$16&IF(MID('COVER SHEET'!$I$18,6,10)=\"december\",\"1231\",IF(MID('COVER SHEET'!$I$18,6,10)=\"june\",\"0630\"))","v":"20241231"},{"$f":"+'Incoming Remittances (Value)'!H191","v":0}]
["CMREM_11520","SM",{"$f":"+'Incoming Remittances (Value)'!$H$5","v":"20241231"},{"$f":"+'COVER SHEET'!$D$12","v":0},11520,{"$f":"'COVER SHEET'!$D$16&IF(MID('COVER SHEET'!$I$18,6,10)=\"december\",\"1231\",IF(MID('COVER SHEET'!$I$18,6,10)=\"june\",\"0630\"))","v":"20241231"},{"$f":"+'Incoming Remittances (Value)'!H192","v":0}]
["CMREM_11520","ST",{"$f":"+'Incoming Remittances (Value)'!$H$5","v":"20241231"},{"$f":"+'COVER SHEET'!$D$12","v":0},11520,{"$f":"'COVER SHEET'!$D$16&IF(MID('COVER SHEET'!$I$18,6,10)=\"december\",\"1231\",IF(MID('COVER SHEET'!$I$18,6,10)=\"june\",\"0630\"))","v":"20241231"},{"$f":"+'Incoming Remittances (Value)'!H193","v":0}]
["CMREM_11520","SA",{"$f":"+'Incoming Remittances (Value)'!$H$5","v":"20241231"},{"$f":"+'COVER SHEET'!$D$12","v":0},11520,{"$f":"'COVER SHEET'!$D$16&IF(MID('COVER SHEET'!$I$18,6,10)=\"december\",\"1231\",IF(MID('COVER SHEET'!$I$18,6,10)=\"june\",\"0630\"))","v":"20241231"},{"$f":"+'Incoming Remittances (Value)'!H194","v":0}]
["CMREM_11520","SN",{"$f":"+'Incoming Remittances (Value)'!$H$5","v":"20241231"},{"$f":"+'COVER SHEET'!$D$12","v":0},11520,{"$f":"'COVER SHEET'!$D$16&IF(MID('COVER SHEET'!$I$18,6,10)=\"december\",\"1231\",IF(MID('COVER SHEET'!$I$18,6,10)=\"june\",\"0630\"))","v":"20241231"},{"$f":"+'Incoming Remittances (Value)'!H195","v":0}]
["CMREM_11520","RS",{"$f":"+'Incoming Remittances (Value)'!$H$5","v":"20241231"},{"$f":"+'COVER SHEET'!$D$12","v":0},11520,{"$f":"'COVER SHEET'!$D$16&IF(MID('COVER SHEET'!$I$18,6,10)=\"december\",\"1231\",IF(MID('COVER SHEET'!$I$18,6,10)=\"june\",\"0630\"))","v":"20241231"},{"$f":"+'Incoming Remittances (Value)'!H196","v":0}]
["CMREM_11520","SC",{"$f":"+'Incoming Remittances (Value)'!$H$5","v":"20241231"},{"$f":"+'COVER SHEET'!$D$12","v":0},11520,{"$f":"'COVER SHEET'!$D$16&IF(MID('COVER SHEET'!$I$18,6,10)=\"december\",\"1231\",IF(MID('COVER SHEET'!$I$18,6,10)=\"june\",\"0630\"))","v":"20241231"},{"$f":"+'Incoming Remittances (Value)'!H197","v":0}]
["CMREM_11520","SL",{"$f":"+'Incoming Remittances (Value)'!$H$5","v":"20241231"},{"$f":"+'COVER SHEET'!$D$12","v":0},11520,{"$f":"'COVER SHEET'!$D$16&IF(MID('COVER SHEET'!$I$18,6,10)=\"december\",\"1231\",IF(MID('COVER SHEET'!$I$18,6,10)=\"june\",\"0630\"))","v":"20241231"},{"$f":"+'Incoming Remittances (Value)'!H198","v":0}]
["CMREM_11520","SG",{"$f":"+'Incoming Remittances (Value)'!$H$5","v":"20241231"},{"$f":"+'COVER SHEET'!$D$12","v":0},11520,{"$f":"'COVER SHEET'!$D$16&IF(MID('COVER SHEET'!$I$18,6,10)=\"december\",\"1231\",IF(MID('COVER SHEET'!$I$18,6,10)=\"june\",\"0630\"))","v":"20241231"},{"$f":"+'Incoming Remittances (Value)'!H199","v":0}]
["CMREM_11520","SX",{"$f":"+'Incoming Remittances (Value)'!$H$5","v":"20241231"},{"$f":"+'COVER SHEET'!$D$12","v":0},11520,{"$f":"'COVER SHEET'!$D$16&IF(MID('COVER SHEET'!$I$18,6,10)=\"december\",\"1231\",IF(MID('COVER SHEET'!$I$18,6,10)=\"june\",\"0630\"))","v":"20241231"},{"$f":"+'Incoming Remittances (Value)'!H200","v":0}]
["CMREM_11520","SK",{"$f":"+'Incoming Remittances (Value)'!$H$5","v":"20241231"},{"$f":"+'COVER SHEET'!$D$12","v":0},11520,{"$f":"'COVER SHEET'!$D$16&IF(MID('COVER SHEET'!$I$18,6,10)=\"december\",\"1231\",IF(MID('COVER SHEET'!$I$18,6,10)=\"june\",\"0630\"))","v":"20241231"},{"$f":"+'Incoming Remittances (Value)'!H201","v":0}]
["CMREM_11520","SI",{"$f":"+'Incoming Remittances (Value)'!$H$5","v":"20241231"},{"$f":"+'COVER SHEET'!$D$12","v":0},11520,{"$f":"'COVER SHEET'!$D$16&IF(MID('COVER SHEET'!$I$18,6,10)=\"december\",\"1231\",IF(MID('COVER SHEET'!$I$18,6,10)=\"june\",\"0630\"))","v":"20241231"},{"$f":"+'Incoming Remittances (Value)'!H202","v":0}]
["CMREM_11520","SB",{"$f":"+'Incoming Remittances (Value)'!$H$5","v":"20241231"},{"$f":"+'COVER SHEET'!$D$12","v":0},11520,{"$f":"'COVER SHEET'!$D$16&IF(MID('COVER SHEET'!$I$18,6,10)=\"december\",\"1231\",IF(MID('COVER SHEET'!$I$18,6,10)=\"june\",\"0630\"))","v":"20241231"},{"$f":"+'Incoming Remittances (Value)'!H203","v":0}]
["CMREM_11520","SO",{"$f":"+'Incoming Remittances (Value)'!$H$5","v":"20241231"},{"$f":"+'COVER SHEET'!$D$12","v":0},11520,{"$f":"'COVER SHEET'!$D$16&IF(MID('COVER SHEET'!$I$18,6,10)=\"december\",\"1231\",IF(MID('COVER SHEET'!$I$18,6,10)=\"june\",\"0630\"))","v":"20241231"},{"$f":"+'Incoming Remittances (Value)'!H204","v":0}]
["CMREM_11520","ZA",{"$f":"+'Incoming Remittances (Value)'!$H$5","v":"20241231"},{"$f":"+'COVER SHEET'!$D$12","v":0},11520,{"$f":"'COVER SHEET'!$D$16&IF(MID('COVER SHEET'!$I$18,6,10)=\"december\",\"1231\",IF(MID('COVER SHEET'!$I$18,6,10)=\"june\",\"0630\"))","v":"20241231"},{"$f":"+'Incoming Remittances (Value)'!H205","v":0}]
["CMREM_11520","GS",{"$f":"+'Incoming Remittances (Value)'!$H$5","v":"20241231"},{"$f":"+'COVER SHEET'!$D$12","v":0},11520,{"$f":"'COVER SHEET'!$D$16&IF(MID('COVER SHEET'!$I$18,6,10)=\"december\",\"1231\",IF(MID('COVER SHEET'!$I$18,6,10)=\"june\",\"0630\"))","v":"20241231"},{"$f":"+'Incoming Remittances (Value)'!H206","v":0}]
["CMREM_11520","SS",{"$f":"+'Incoming Remittances (Value)'!$H$5","v":"20241231"},{"$f":"+'COVER SHEET'!$D$12","v":0},11520,{"$f":"'COVER SHEET'!$D$16&IF(MID('COVER SHEET'!$I$18,6,10)=\"december\",\"1231\",IF(MID('COVER SHEET'!$I$18,6,10)=\"june\",\"0630\"))","v":"20241231"},{"$f":"+'Incoming Remittances (Value)'!H207","v":0}]
["CMREM_11520","ES",{"$f":"+'Incoming Remittances (Value)'!$H$5","v":"20241231"},{"$f":"+'COVER SHEET'!$D$12","v":0},11520,{"$f":"'COVER SHEET'!$D$16&IF(MID('COVER SHEET'!$I$18,6,10)=\"december\",\"1231\",IF(MID('COVER SHEET'!$I$18,6,10)=\"june\",\"0630\"))","v":"20241231"},{"$f":"+'Incoming Remittances (Value)'!H208","v":0}]
["CMREM_11520","LK",{"$f":"+'Incoming Remittances (Value)'!$H$5","v":"20241231"},{"$f":"+'COVER SHEET'!$D$12","v":0},11520,{"$f":"'COVER SHEET'!$D$16&IF(MID('COVER SHEET'!$I$18,6,10)=\"december\",\"1231\",IF(MID('COVER SHEET'!$I$18,6,10)=\"june\",\"0630\"))","v":"20241231"},{"$f":"+'Incoming Remittances (Value)'!H209","v":0}]
["CMREM_11520","SD",{"$f":"+'Incoming Remittances (Value)'!$H$5","v":"20241231"},{"$f":"+'COVER SHEET'!$D$12","v":0},11520,{"$f":"'COVER SHEET'!$D$16&IF(MID('COVER SHEET'!$I$18,6,10)=\"december\",\"1231\",IF(MID('COVER SHEET'!$I$18,6,10)=\"june\",\"0630\"))","v":"20241231"},{"$f":"+'Incoming Remittances (Value)'!H210","v":0}]
["CMREM_11520","SR",{"$f":"+'Incoming Remittances (Value)'!$H$5","v":"20241231"},{"$f":"+'COVER SHEET'!$D$12","v":0},11520,{"$f":"'COVER SHEET'!$D$16&IF(MID('COVER SHEET'!$I$18,6,10)=\"december\",\"1231\",IF(MID('COVER SHEET'!$I$18,6,10)=\"june\",\"0630\"))","v":"20241231"},{"$f":"+'Incoming Remittances (Value)'!H211","v":0}]
["CMREM_11520","SZ",{"$f":"+'Incoming Remittances (Value)'!$H$5","v":"20241231"},{"$f":"+'COVER SHEET'!$D$12","v":0},11520,{"$f":"'COVER SHEET'!$D$16&IF(MID('COVER SHEET'!$I$18,6,10)=\"december\",\"1231\",IF(MID('COVER SHEET'!$I$18,6,10)=\"june\",\"0630\"))","v":"20241231"},{"$f":"+'Incoming Remittances (Value)'!H212","v":0}]
["CMREM_11520","SE",{"$f":"+'Incoming Remittances (Value)'!$H$5","v":"20241231"},{"$f":"+'COVER SHEET'!$D$12","v":0},11520,{"$f":"'COVER SHEET'!$D$16&IF(MID('COVER SHEET'!$I$18,6,10)=\"december\",\"1231\",IF(MID('COVER SHEET'!$I$18,6,10)=\"june\",\"0630\"))","v":"20241231"},{"$f":"+'Incoming Remittances (Value)'!H213","v":0}]
["CMREM_11520","CH",{"$f":"+'Incoming Remittances (Value)'!$H$5","v":"20241231"},{"$f":"+'COVER SHEET'!$D$12","v":0},11520,{"$f":"'COVER SHEET'!$D$16&IF(MID('COVER SHEET'!$I$18,6,10)=\"december\",\"1231\",IF(MID('COVER SHEET'!$I$18,6,10)=\"june\",\"0630\"))","v":"20241231"},{"$f":"+'Incoming Remittances (Value)'!H214","v":0}]
["CMREM_11520","SY",{"$f":"+'Incoming Remittances (Value)'!$H$5","v":"20241231"},{"$f":"+'COVER SHEET'!$D$12","v":0},11520,{"$f":"'COVER SHEET'!$D$16&IF(MID('COVER SHEET'!$I$18,6,10)=\"december\",\"1231\",IF(MID('COVER SHEET'!$I$18,6,10)=\"june\",\"0630\"))","v":"20241231"},{"$f":"+'Incoming Remittances (Value)'!H215","v":0}]
["CMREM_11520","TW",{"$f":"+'Incoming Remittances (Value)'!$H$5","v":"20241231"},{"$f":"+'COVER SHEET'!$D$12","v":0},11520,{"$f":"'COVER SHEET'!$D$16&IF(MID('COVER SHEET'!$I$18,6,10)=\"december\",\"1231\",IF(MID('COVER SHEET'!$I$18,6,10)=\"june\",\"0630\"))","v":"20241231"},{"$f":"+'Incoming Remittances (Value)'!H216","v":0}]
["CMREM_11520","TJ",{"$f":"+'Incoming Remittances (Value)'!$H$5","v":"20241231"},{"$f":"+'COVER SHEET'!$D$12","v":0},11520,{"$f":"'COVER SHEET'!$D$16&IF(MID('COVER SHEET'!$I$18,6,10)=\"december\",\"1231\",IF(MID('COVER SHEET'!$I$18,6,10)=\"june\",\"0630\"))","v":"20241231"},{"$f":"+'Incoming Remittances (Value)'!H217","v":0}]
["CMREM_11520","TZ",{"$f":"+'Incoming Remittances (Value)'!$H$5","v":"20241231"},{"$f":"+'COVER SHEET'!$D$12","v":0},11520,{"$f":"'COVER SHEET'!$D$16&IF(MID('COVER SHEET'!$I$18,6,10)=\"december\",\"1231\",IF(MID('COVER SHEET'!$I$18,6,10)=\"june\",\"0630\"))","v":"20241231"},{"$f":"+'Incoming Remittances (Value)'!H218","v":0}]
["CMREM_11520","TH",{"$f":"+'Incoming Remittances (Value)'!$H$5","v":"20241231"},{"$f":"+'COVER SHEET'!$D$12","v":0},11520,{"$f":"'COVER SHEET'!$D$16&IF(MID('COVER SHEET'!$I$18,6,10)=\"december\",\"1231\",IF(MID('COVER SHEET'!$I$18,6,10)=\"june\",\"0630\"))","v":"20241231"},{"$f":"+'Incoming Remittances (Value)'!H219","v":0}]
["CMREM_11520","TG",{"$f":"+'Incoming Remittances (Value)'!$H$5","v":"20241231"},{"$f":"+'COVER SHEET'!$D$12","v":0},11520,{"$f":"'COVER SHEET'!$D$16&IF(MID('COVER SHEET'!$I$18,6,10)=\"december\",\"1231\",IF(MID('COVER SHEET'!$I$18,6,10)=\"june\",\"0630\"))","v":"20241231"},{"$f":"+'Incoming Remittances (Value)'!H220","v":0}]
["CMREM_11520","TK",{"$f":"+'Incoming Remittances (Value)'!$H$5","v":"20241231"},{"$f":"+'COVER SHEET'!$D$12","v":0},11520,{"$f":"'COVER SHEET'!$D$16&IF(MID('COVER SHEET'!$I$18,6,10)=\"december\",\"1231\",IF(MID('COVER SHEET'!$I$18,6,10)=\"june\",\"0630\"))","v":"20241231"},{"$f":"+'Incoming Remittances (Value)'!H221","v":0}]
["CMREM_11520","TO",{"$f":"+'Incoming Remittances (Value)'!$H$5","v":"20241231"},{"$f":"+'COVER SHEET'!$D$12","v":0},11520,{"$f":"'COVER SHEET'!$D$16&IF(MID('COVER SHEET'!$I$18,6,10)=\"december\",\"1231\",IF(MID('COVER SHEET'!$I$18,6,10)=\"june\",\"0630\"))","v":"20241231"},{"$f":"+'Incoming Remittances (Value)'!H222","v":0}]
["CMREM_11520","TT",{"$f":"+'Incoming Remittances (Value)'!$H$5","v":"20241231"},{"$f":"+'COVER SHEET'!$D$12","v":0},11520,{"$f":"'COVER SHEET'!$D$16&IF(MID('COVER SHEET'!$I$18,6,10)=\"december\",\"1231\",IF(MID('COVER SHEET'!$I$18,6,10)=\"june\",\"0630\"))","v":"20241231"},{"$f":"+'Incoming Remittances (Value)'!H223","v":0}]
["CMREM_11520","TN",{"$f":"+'Incoming Remittances (Value)'!$H$5","v":"20241231"},{"$f":"+'COVER SHEET'!$D$12","v":0},11520,{"$f":"'COVER SHEET'!$D$16&IF(MID('COVER SHEET'!$I$18,6,10)=\"december\",\"1231\",IF(MID('COVER SHEET'!$I$18,6,10)=\"june\",\"0630\"))","v":"20241231"},{"$f":"+'Incoming Remittances (Value)'!H224","v":0}]
["CMREM_11520","TR",{"$f":"+'Incoming Remittances (Value)'!$H$5","v":"20241231"},{"$f":"+'COVER SHEET'!$D$12","v":0},11520,{"$f":"'COVER SHEET'!$D$16&IF(MID('COVER SHEET'!$I$18,6,10)=\"december\",\"1231\",IF(MID('COVER SHEET'!$I$18,6,10)=\"june\",\"0630\"))","v":"20241231"},{"$f":"+'Incoming Remittances (Value)'!H225","v":0}]
["CMREM_11520","TM",{"$f":"+'Incoming Remittances (Value)'!$H$5","v":"20241231"},{"$f":"+'COVER SHEET'!$D$12","v":0},11520,{"$f":"'COVER SHEET'!$D$16&IF(MID('COVER SHEET'!$I$18,6,10)=\"december\",\"1231\",IF(MID('COVER SHEET'!$I$18,6,10)=\"june\",\"0630\"))","v":"20241231"},{"$f":"+'Incoming Remittances (Value)'!H226","v":0}]
["CMREM_11520","TC",{"$f":"+'Incoming Remittances (Value)'!$H$5","v":"20241231"},{"$f":"+'COVER SHEET'!$D$12","v":0},11520,{"$f":"'COVER SHEET'!$D$16&IF(MID('COVER SHEET'!$I$18,6,10)=\"december\",\"1231\",IF(MID('COVER SHEET'!$I$18,6,10)=\"june\",\"0630\"))","v":"20241231"},{"$f":"+'Incoming Remittances (Value)'!H227","v":0}]
["CMREM_11520","TV",{"$f":"+'Incoming Remittances (Value)'!$H$5","v":"20241231"},{"$f":"+'COVER SHEET'!$D$12","v":0},11520,{"$f":"'COVER SHEET'!$D$16&IF(MID('COVER SHEET'!$I$18,6,10)=\"december\",\"1231\",IF(MID('COVER SHEET'!$I$18,6,10)=\"june\",\"0630\"))","v":"20241231"},{"$f":"+'Incoming Remittances (Value)'!H228","v":0}]
["CMREM_11520","UG",{"$f":"+'Incoming Remittances (Value)'!$H$5","v":"20241231"},{"$f":"+'COVER SHEET'!$D$12","v":0},11520,{"$f":"'COVER SHEET'!$D$16&IF(MID('COVER SHEET'!$I$18,6,10)=\"december\",\"1231\",IF(MID('COVER SHEET'!$I$18,6,10)=\"june\",\"0630\"))","v":"20241231"},{"$f":"+'Incoming Remittances (Value)'!H229","v":0}]
["CMREM_11520","UA",{"$f":"+'Incoming Remittances (Value)'!$H$5","v":"20241231"},{"$f":"+'COVER SHEET'!$D$12","v":0},11520,{"$f":"'COVER SHEET'!$D$16&IF(MID('COVER SHEET'!$I$18,6,10)=\"december\",\"1231\",IF(MID('COVER SHEET'!$I$18,6,10)=\"june\",\"0630\"))","v":"20241231"},{"$f":"+'Incoming Remittances (Value)'!H230","v":0}]
["CMREM_11520","AE",{"$f":"+'Incoming Remittances (Value)'!$H$5","v":"20241231"},{"$f":"+'COVER SHEET'!$D$12","v":0},11520,{"$f":"'COVER SHEET'!$D$16&IF(MID('COVER SHEET'!$I$18,6,10)=\"december\",\"1231\",IF(MID('COVER SHEET'!$I$18,6,10)=\"june\",\"0630\"))","v":"20241231"},{"$f":"+'Incoming Remittances (Value)'!H231","v":0}]
["CMREM_11520","GB",{"$f":"+'Incoming Remittances (Value)'!$H$5","v":"20241231"},{"$f":"+'COVER SHEET'!$D$12","v":0},11520,{"$f":"'COVER SHEET'!$D$16&IF(MID('COVER SHEET'!$I$18,6,10)=\"december\",\"1231\",IF(MID('COVER SHEET'!$I$18,6,10)=\"june\",\"0630\"))","v":"20241231"},{"$f":"+'Incoming Remittances (Value)'!H232","v":0}]
["CMREM_11520","US",{"$f":"+'Incoming Remittances (Value)'!$H$5","v":"20241231"},{"$f":"+'COVER SHEET'!$D$12","v":0},11520,{"$f":"'COVER SHEET'!$D$16&IF(MID('COVER SHEET'!$I$18,6,10)=\"december\",\"1231\",IF(MID('COVER SHEET'!$I$18,6,10)=\"june\",\"0630\"))","v":"20241231"},{"$f":"+'Incoming Remittances (Value)'!H233","v":0}]
["CMREM_11520","UY",{"$f":"+'Incoming Remittances (Value)'!$H$5","v":"20241231"},{"$f":"+'COVER SHEET'!$D$12","v":0},11520,{"$f":"'COVER SHEET'!$D$16&IF(MID('COVER SHEET'!$I$18,6,10)=\"december\",\"1231\",IF(MID('COVER SHEET'!$I$18,6,10)=\"june\",\"0630\"))","v":"20241231"},{"$f":"+'Incoming Remittances (Value)'!H234","v":0}]
["CMREM_11520","UM",{"$f":"+'Incoming Remittances (Value)'!$H$5","v":"20241231"},{"$f":"+'COVER SHEET'!$D$12","v":0},11520,{"$f":"'COVER SHEET'!$D$16&IF(MID('COVER SHEET'!$I$18,6,10)=\"december\",\"1231\",IF(MID('COVER SHEET'!$I$18,6,10)=\"june\",\"0630\"))","v":"20241231"},{"$f":"+'Incoming Remittances (Value)'!H235","v":0}]
["CMREM_11520","UZ",{"$f":"+'Incoming Remittances (Value)'!$H$5","v":"20241231"},{"$f":"+'COVER SHEET'!$D$12","v":0},11520,{"$f":"'COVER SHEET'!$D$16&IF(MID('COVER SHEET'!$I$18,6,10)=\"december\",\"1231\",IF(MID('COVER SHEET'!$I$18,6,10)=\"june\",\"0630\"))","v":"20241231"},{"$f":"+'Incoming Remittances (Value)'!H236","v":0}]
["CMREM_11520","VU",{"$f":"+'Incoming Remittances (Value)'!$H$5","v":"20241231"},{"$f":"+'COVER SHEET'!$D$12","v":0},11520,{"$f":"'COVER SHEET'!$D$16&IF(MID('COVER SHEET'!$I$18,6,10)=\"december\",\"1231\",IF(MID('COVER SHEET'!$I$18,6,10)=\"june\",\"0630\"))","v":"20241231"},{"$f":"+'Incoming Remittances (Value)'!H237","v":0}]
["CMREM_11520","VE",{"$f":"+'Incoming Remittances (Value)'!$H$5","v":"20241231"},{"$f":"+'COVER SHEET'!$D$12","v":0},11520,{"$f":"'COVER SHEET'!$D$16&IF(MID('COVER SHEET'!$I$18,6,10)=\"december\",\"1231\",IF(MID('COVER SHEET'!$I$18,6,10)=\"june\",\"0630\"))","v":"20241231"},{"$f":"+'Incoming Remittances (Value)'!H238","v":0}]
["CMREM_11520","VN",{"$f":"+'Incoming Remittances (Value)'!$H$5","v":"20241231"},{"$f":"+'COVER SHEET'!$D$12","v":0},11520,{"$f":"'COVER SHEET'!$D$16&IF(MID('COVER SHEET'!$I$18,6,10)=\"december\",\"1231\",IF(MID('COVER SHEET'!$I$18,6,10)=\"june\",\"0630\"))","v":"20241231"},{"$f":"+'Incoming Remittances (Value)'!H239","v":0}]
["CMREM_11520","VI",{"$f":"+'Incoming Remittances (Value)'!$H$5","v":"20241231"},{"$f":"+'COVER SHEET'!$D$12","v":0},11520,{"$f":"'COVER SHEET'!$D$16&IF(MID('COVER SHEET'!$I$18,6,10)=\"december\",\"1231\",IF(MID('COVER SHEET'!$I$18,6,10)=\"june\",\"0630\"))","v":"20241231"},{"$f":"+'Incoming Remittances (Value)'!H240","v":0}]
["CMREM_11520","WF",{"$f":"+'Incoming Remittances (Value)'!$H$5","v":"20241231"},{"$f":"+'COVER SHEET'!$D$12","v":0},11520,{"$f":"'COVER SHEET'!$D$16&IF(MID('COVER SHEET'!$I$18,6,10)=\"december\",\"1231\",IF(MID('COVER SHEET'!$I$18,6,10)=\"june\",\"0630\"))","v":"20241231"},{"$f":"+'Incoming Remittances (Value)'!H241","v":0}]
["CMREM_11520","YE",{"$f":"+'Incoming Remittances (Value)'!$H$5","v":"20241231"},{"$f":"+'COVER SHEET'!$D$12","v":0},11520,{"$f":"'COVER SHEET'!$D$16&IF(MID('COVER SHEET'!$I$18,6,10)=\"december\",\"1231\",IF(MID('COVER SHEET'!$I$18,6,10)=\"june\",\"0630\"))","v":"20241231"},{"$f":"+'Incoming Remittances (Value)'!H242","v":0}]
["CMREM_11520","ZM",{"$f":"+'Incoming Remittances (Value)'!$H$5","v":"20241231"},{"$f":"+'COVER SHEET'!$D$12","v":0},11520,{"$f":"'COVER SHEET'!$D$16&IF(MID('COVER SHEET'!$I$18,6,10)=\"december\",\"1231\",IF(MID('COVER SHEET'!$I$18,6,10)=\"june\",\"0630\"))","v":"20241231"},{"$f":"+'Incoming Remittances (Value)'!H243","v":0}]
["CMREM_11520","ZW",{"$f":"+'Incoming Remittances (Value)'!$H$5","v":"20241231"},{"$f":"+'COVER SHEET'!$D$12","v":0},11520,{"$f":"'COVER SHEET'!$D$16&IF(MID('COVER SHEET'!$I$18,6,10)=\"december\",\"1231\",IF(MID('COVER SHEET'!$I$18,6,10)=\"june\",\"0630\"))","v":"20241231"},{"$f":"+'Incoming Remittances (Value)'!H244","v":0}]
["CMREM_11530","AF",{"$f":"+'Outgoing Remittances (Value)'!$H$5","v":"20241231"},{"$f":"+'COVER SHEET'!$D$12","v":0},11530,{"$f":"'COVER SHEET'!$D$16&IF(MID('COVER SHEET'!$I$18,6,10)=\"december\",\"1231\",IF(MID('COVER SHEET'!$I$18,6,10)=\"june\",\"0630\"))","v":"20241231"},{"$f":"+'Outgoing Remittances (Value)'!H9","v":0}]
["CMREM_11530","AL",{"$f":"+'Outgoing Remittances (Value)'!$H$5","v":"20241231"},{"$f":"+'COVER SHEET'!$D$12","v":0},11530,{"$f":"'COVER SHEET'!$D$16&IF(MID('COVER SHEET'!$I$18,6,10)=\"december\",\"1231\",IF(MID('COVER SHEET'!$I$18,6,10)=\"june\",\"0630\"))","v":"20241231"},{"$f":"+'Outgoing Remittances (Value)'!H10","v":0}]
["CMREM_11530","DZ",{"$f":"+'Outgoing Remittances (Value)'!$H$5","v":"20241231"},{"$f":"+'COVER SHEET'!$D$12","v":0},11530,{"$f":"'COVER SHEET'!$D$16&IF(MID('COVER SHEET'!$I$18,6,10)=\"december\",\"1231\",IF(MID('COVER SHEET'!$I$18,6,10)=\"june\",\"0630\"))","v":"20241231"},{"$f":"+'Outgoing Remittances (Value)'!H11","v":0}]
["CMREM_11530","AS",{"$f":"+'Outgoing Remittances (Value)'!$H$5","v":"20241231"},{"$f":"+'COVER SHEET'!$D$12","v":0},11530,{"$f":"'COVER SHEET'!$D$16&IF(MID('COVER SHEET'!$I$18,6,10)=\"december\",\"1231\",IF(MID('COVER SHEET'!$I$18,6,10)=\"june\",\"0630\"))","v":"20241231"},{"$f":"+'Outgoing Remittances (Value)'!H12","v":0}]
["CMREM_11530","AD",{"$f":"+'Outgoing Remittances (Value)'!$H$5","v":"20241231"},{"$f":"+'COVER SHEET'!$D$12","v":0},11530,{"$f":"'COVER SHEET'!$D$16&IF(MID('COVER SHEET'!$I$18,6,10)=\"december\",\"1231\",IF(MID('COVER SHEET'!$I$18,6,10)=\"june\",\"0630\"))","v":"20241231"},{"$f":"+'Outgoing Remittances (Value)'!H13","v":0}]
["CMREM_11530","AO",{"$f":"+'Outgoing Remittances (Value)'!$H$5","v":"20241231"},{"$f":"+'COVER SHEET'!$D$12","v":0},11530,{"$f":"'COVER SHEET'!$D$16&IF(MID('COVER SHEET'!$I$18,6,10)=\"december\",\"1231\",IF(MID('COVER SHEET'!$I$18,6,10)=\"june\",\"0630\"))","v":"20241231"},{"$f":"+'Outgoing Remittances (Value)'!H14","v":0}]
["CMREM_11530","AI",{"$f":"+'Outgoing Remittances (Value)'!$H$5","v":"20241231"},{"$f":"+'COVER SHEET'!$D$12","v":0},11530,{"$f":"'COVER SHEET'!$D$16&IF(MID('COVER SHEET'!$I$18,6,10)=\"december\",\"1231\",IF(MID('COVER SHEET'!$I$18,6,10)=\"june\",\"0630\"))","v":"20241231"},{"$f":"+'Outgoing Remittances (Value)'!H15","v":0}]
["CMREM_11530","AQ",{"$f":"+'Outgoing Remittances (Value)'!$H$5","v":"20241231"},{"$f":"+'COVER SHEET'!$D$12","v":0},11530,{"$f":"'COVER SHEET'!$D$16&IF(MID('COVER SHEET'!$I$18,6,10)=\"december\",\"1231\",IF(MID('COVER SHEET'!$I$18,6,10)=\"june\",\"0630\"))","v":"20241231"},{"$f":"+'Outgoing Remittances (Value)'!H16","v":0}]
["CMREM_11530","AG",{"$f":"+'Outgoing Remittances (Value)'!$H$5","v":"20241231"},{"$f":"+'COVER SHEET'!$D$12","v":0},11530,{"$f":"'COVER SHEET'!$D$16&IF(MID('COVER SHEET'!$I$18,6,10)=\"december\",\"1231\",IF(MID('COVER SHEET'!$I$18,6,10)=\"june\",\"0630\"))","v":"20241231"},{"$f":"+'Outgoing Remittances (Value)'!H17","v":0}]
["CMREM_11530","AR",{"$f":"+'Outgoing Remittances (Value)'!$H$5","v":"20241231"},{"$f":"+'COVER SHEET'!$D$12","v":0},11530,{"$f":"'COVER SHEET'!$D$16&IF(MID('COVER SHEET'!$I$18,6,10)=\"december\",\"1231\",IF(MID('COVER SHEET'!$I$18,6,10)=\"june\",\"0630\"))","v":"20241231"},{"$f":"+'Outgoing Remittances (Value)'!H18","v":0}]
["CMREM_11530","AM",{"$f":"+'Outgoing Remittances (Value)'!$H$5","v":"20241231"},{"$f":"+'COVER SHEET'!$D$12","v":0},11530,{"$f":"'COVER SHEET'!$D$16&IF(MID('COVER SHEET'!$I$18,6,10)=\"december\",\"1231\",IF(MID('COVER SHEET'!$I$18,6,10)=\"june\",\"0630\"))","v":"20241231"},{"$f":"+'Outgoing Remittances (Value)'!H19","v":0}]
["CMREM_11530","AW",{"$f":"+'Outgoing Remittances (Value)'!$H$5","v":"20241231"},{"$f":"+'COVER SHEET'!$D$12","v":0},11530,{"$f":"'COVER SHEET'!$D$16&IF(MID('COVER SHEET'!$I$18,6,10)=\"december\",\"1231\",IF(MID('COVER SHEET'!$I$18,6,10)=\"june\",\"0630\"))","v":"20241231"},{"$f":"+'Outgoing Remittances (Value)'!H20","v":0}]
["CMREM_11530","AU",{"$f":"+'Outgoing Remittances (Value)'!$H$5","v":"20241231"},{"$f":"+'COVER SHEET'!$D$12","v":0},11530,{"$f":"'COVER SHEET'!$D$16&IF(MID('COVER SHEET'!$I$18,6,10)=\"december\",\"1231\",IF(MID('COVER SHEET'!$I$18,6,10)=\"june\",\"0630\"))","v":"20241231"},{"$f":"+'Outgoing Remittances (Value)'!H21","v":0}]
["CMREM_11530","AT",{"$f":"+'Outgoing Remittances (Value)'!$H$5","v":"20241231"},{"$f":"+'COVER SHEET'!$D$12","v":0},11530,{"$f":"'COVER SHEET'!$D$16&IF(MID('COVER SHEET'!$I$18,6,10)=\"december\",\"1231\",IF(MID('COVER SHEET'!$I$18,6,10)=\"june\",\"0630\"))","v":"20241231"},{"$f":"+'Outgoing Remittances (Value)'!H22","v":0}]
["CMREM_11530","AZ",{"$f":"+'Outgoing Remittances (Value)'!$H$5","v":"20241231"},{"$f":"+'COVER SHEET'!$D$12","v":0},11530,{"$f":"'COVER SHEET'!$D$16&IF(MID('COVER SHEET'!$I$18,6,10)=\"december\",\"1231\",IF(MID('COVER SHEET'!$I$18,6,10)=\"june\",\"0630\"))","v":"20241231"},{"$f":"+'Outgoing Remittances (Value)'!H23","v":0}]
["CMREM_11530","BS",{"$f":"+'Outgoing Remittances (Value)'!$H$5","v":"20241231"},{"$f":"+'COVER SHEET'!$D$12","v":0},11530,{"$f":"'COVER SHEET'!$D$16&IF(MID('COVER SHEET'!$I$18,6,10)=\"december\",\"1231\",IF(MID('COVER SHEET'!$I$18,6,10)=\"june\",\"0630\"))","v":"20241231"},{"$f":"+'Outgoing Remittances (Value)'!H24","v":0}]
["CMREM_11530","BH",{"$f":"+'Outgoing Remittances (Value)'!$H$5","v":"20241231"},{"$f":"+'COVER SHEET'!$D$12","v":0},11530,{"$f":"'COVER SHEET'!$D$16&IF(MID('COVER SHEET'!$I$18,6,10)=\"december\",\"1231\",IF(MID('COVER SHEET'!$I$18,6,10)=\"june\",\"0630\"))","v":"20241231"},{"$f":"+'Outgoing Remittances (Value)'!H25","v":0}]
["CMREM_11530","BD",{"$f":"+'Outgoing Remittances (Value)'!$H$5","v":"20241231"},{"$f":"+'COVER SHEET'!$D$12","v":0},11530,{"$f":"'COVER SHEET'!$D$16&IF(MID('COVER SHEET'!$I$18,6,10)=\"december\",\"1231\",IF(MID('COVER SHEET'!$I$18,6,10)=\"june\",\"0630\"))","v":"20241231"},{"$f":"+'Outgoing Remittances (Value)'!H26","v":0}]
["CMREM_11530","BB",{"$f":"+'Outgoing Remittances (Value)'!$H$5","v":"20241231"},{"$f":"+'COVER SHEET'!$D$12","v":0},11530,{"$f":"'COVER SHEET'!$D$16&IF(MID('COVER SHEET'!$I$18,6,10)=\"december\",\"1231\",IF(MID('COVER SHEET'!$I$18,6,10)=\"june\",\"0630\"))","v":"20241231"},{"$f":"+'Outgoing Remittances (Value)'!H27","v":0}]
["CMREM_11530","BY",{"$f":"+'Outgoing Remittances (Value)'!$H$5","v":"20241231"},{"$f":"+'COVER SHEET'!$D$12","v":0},11530,{"$f":"'COVER SHEET'!$D$16&IF(MID('COVER SHEET'!$I$18,6,10)=\"december\",\"1231\",IF(MID('COVER SHEET'!$I$18,6,10)=\"june\",\"0630\"))","v":"20241231"},{"$f":"+'Outgoing Remittances (Value)'!H28","v":0}]
["CMREM_11530","BE",{"$f":"+'Outgoing Remittances (Value)'!$H$5","v":"20241231"},{"$f":"+'COVER SHEET'!$D$12","v":0},11530,{"$f":"'COVER SHEET'!$D$16&IF(MID('COVER SHEET'!$I$18,6,10)=\"december\",\"1231\",IF(MID('COVER SHEET'!$I$18,6,10)=\"june\",\"0630\"))","v":"20241231"},{"$f":"+'Outgoing Remittances (Value)'!H29","v":0}]
["CMREM_11530","BZ",{"$f":"+'Outgoing Remittances (Value)'!$H$5","v":"20241231"},{"$f":"+'COVER SHEET'!$D$12","v":0},11530,{"$f":"'COVER SHEET'!$D$16&IF(MID('COVER SHEET'!$I$18,6,10)=\"december\",\"1231\",IF(MID('COVER SHEET'!$I$18,6,10)=\"june\",\"0630\"))","v":"20241231"},{"$f":"+'Outgoing Remittances (Value)'!H30","v":0}]
["CMREM_11530","BJ",{"$f":"+'Outgoing Remittances (Value)'!$H$5","v":"20241231"},{"$f":"+'COVER SHEET'!$D$12","v":0},11530,{"$f":"'COVER SHEET'!$D$16&IF(MID('COVER SHEET'!$I$18,6,10)=\"december\",\"1231\",IF(MID('COVER SHEET'!$I$18,6,10)=\"june\",\"0630\"))","v":"20241231"},{"$f":"+'Outgoing Remittances (Value)'!H31","v":0}]
["CMREM_11530","BM",{"$f":"+'Outgoing Remittances (Value)'!$H$5","v":"20241231"},{"$f":"+'COVER SHEET'!$D$12","v":0},11530,{"$f":"'COVER SHEET'!$D$16&IF(MID('COVER SHEET'!$I$18,6,10)=\"december\",\"1231\",IF(MID('COVER SHEET'!$I$18,6,10)=\"june\",\"0630\"))","v":"20241231"},{"$f":"+'Outgoing Remittances (Value)'!H32","v":0}]
["CMREM_11530","BQ",{"$f":"+'Outgoing Remittances (Value)'!$H$5","v":"20241231"},{"$f":"+'COVER SHEET'!$D$12","v":0},11530,{"$f":"'COVER SHEET'!$D$16&IF(MID('COVER SHEET'!$I$18,6,10)=\"december\",\"1231\",IF(MID('COVER SHEET'!$I$18,6,10)=\"june\",\"0630\"))","v":"20241231"},{"$f":"+'Outgoing Remittances (Value)'!H33","v":0}]
["CMREM_11530","BT",{"$f":"+'Outgoing Remittances (Value)'!$H$5","v":"20241231"},{"$f":"+'COVER SHEET'!$D$12","v":0},11530,{"$f":"'COVER SHEET'!$D$16&IF(MID('COVER SHEET'!$I$18,6,10)=\"december\",\"1231\",IF(MID('COVER SHEET'!$I$18,6,10)=\"june\",\"0630\"))","v":"20241231"},{"$f":"+'Outgoing Remittances (Value)'!H34","v":0}]
["CMREM_11530","BO",{"$f":"+'Outgoing Remittances (Value)'!$H$5","v":"20241231"},{"$f":"+'COVER SHEET'!$D$12","v":0},11530,{"$f":"'COVER SHEET'!$D$16&IF(MID('COVER SHEET'!$I$18,6,10)=\"december\",\"1231\",IF(MID('COVER SHEET'!$I$18,6,10)=\"june\",\"0630\"))","v":"20241231"},{"$f":"+'Outgoing Remittances (Value)'!H35","v":0}]
["CMREM_11530","BA",{"$f":"+'Outgoing Remittances (Value)'!$H$5","v":"20241231"},{"$f":"+'COVER SHEET'!$D$12","v":0},11530,{"$f":"'COVER SHEET'!$D$16&IF(MID('COVER SHEET'!$I$18,6,10)=\"december\",\"1231\",IF(MID('COVER SHEET'!$I$18,6,10)=\"june\",\"0630\"))","v":"20241231"},{"$f":"+'Outgoing Remittances (Value)'!H36","v":0}]
["CMREM_11530","BW",{"$f":"+'Outgoing Remittances (Value)'!$H$5","v":"20241231"},{"$f":"+'COVER SHEET'!$D$12","v":0},11530,{"$f":"'COVER SHEET'!$D$16&IF(MID('COVER SHEET'!$I$18,6,10)=\"december\",\"1231\",IF(MID('COVER SHEET'!$I$18,6,10)=\"june\",\"0630\"))","v":"20241231"},{"$f":"+'Outgoing Remittances (Value)'!H37","v":0}]
["CMREM_11530","BV",{"$f":"+'Outgoing Remittances (Value)'!$H$5","v":"20241231"},{"$f":"+'COVER SHEET'!$D$12","v":0},11530,{"$f":"'COVER SHEET'!$D$16&IF(MID('COVER SHEET'!$I$18,6,10)=\"december\",\"1231\",IF(MID('COVER SHEET'!$I$18,6,10)=\"june\",\"0630\"))","v":"20241231"},{"$f":"+'Outgoing Remittances (Value)'!H38","v":0}]
["CMREM_11530","BR",{"$f":"+'Outgoing Remittances (Value)'!$H$5","v":"20241231"},{"$f":"+'COVER SHEET'!$D$12","v":0},11530,{"$f":"'COVER SHEET'!$D$16&IF(MID('COVER SHEET'!$I$18,6,10)=\"december\",\"1231\",IF(MID('COVER SHEET'!$I$18,6,10)=\"june\",\"0630\"))","v":"20241231"},{"$f":"+'Outgoing Remittances (Value)'!H39","v":0}]
["CMREM_11530","IO",{"$f":"+'Outgoing Remittances (Value)'!$H$5","v":"20241231"},{"$f":"+'COVER SHEET'!$D$12","v":0},11530,{"$f":"'COVER SHEET'!$D$16&IF(MID('COVER SHEET'!$I$18,6,10)=\"december\",\"1231\",IF(MID('COVER SHEET'!$I$18,6,10)=\"june\",\"0630\"))","v":"20241231"},{"$f":"+'Outgoing Remittances (Value)'!H40","v":0}]
["CMREM_11530","VG",{"$f":"+'Outgoing Remittances (Value)'!$H$5","v":"20241231"},{"$f":"+'COVER SHEET'!$D$12","v":0},11530,{"$f":"'COVER SHEET'!$D$16&IF(MID('COVER SHEET'!$I$18,6,10)=\"december\",\"1231\",IF(MID('COVER SHEET'!$I$18,6,10)=\"june\",\"0630\"))","v":"20241231"},{"$f":"+'Outgoing Remittances (Value)'!H41","v":0}]
["CMREM_11530","BN",{"$f":"+'Outgoing Remittances (Value)'!$H$5","v":"20241231"},{"$f":"+'COVER SHEET'!$D$12","v":0},11530,{"$f":"'COVER SHEET'!$D$16&IF(MID('COVER SHEET'!$I$18,6,10)=\"december\",\"1231\",IF(MID('COVER SHEET'!$I$18,6,10)=\"june\",\"0630\"))","v":"20241231"},{"$f":"+'Outgoing Remittances (Value)'!H42","v":0}]
["CMREM_11530","BG",{"$f":"+'Outgoing Remittances (Value)'!$H$5","v":"20241231"},{"$f":"+'COVER SHEET'!$D$12","v":0},11530,{"$f":"'COVER SHEET'!$D$16&IF(MID('COVER SHEET'!$I$18,6,10)=\"december\",\"1231\",IF(MID('COVER SHEET'!$I$18,6,10)=\"june\",\"0630\"))","v":"20241231"},{"$f":"+'Outgoing Remittances (Value)'!H43","v":0}]
["CMREM_11530","BF",{"$f":"+'Outgoing Remittances (Value)'!$H$5","v":"20241231"},{"$f":"+'COVER SHEET'!$D$12","v":0},11530,{"$f":"'COVER SHEET'!$D$16&IF(MID('COVER SHEET'!$I$18,6,10)=\"december\",\"1231\",IF(MID('COVER SHEET'!$I$18,6,10)=\"june\",\"0630\"))","v":"20241231"},{"$f":"+'Outgoing Remittances (Value)'!H44","v":0}]
["CMREM_11530","BI",{"$f":"+'Outgoing Remittances (Value)'!$H$5","v":"20241231"},{"$f":"+'COVER SHEET'!$D$12","v":0},11530,{"$f":"'COVER SHEET'!$D$16&IF(MID('COVER SHEET'!$I$18,6,10)=\"december\",\"1231\",IF(MID('COVER SHEET'!$I$18,6,10)=\"june\",\"0630\"))","v":"20241231"},{"$f":"+'Outgoing Remittances (Value)'!H45","v":0}]
["CMREM_11530","KH",{"$f":"+'Outgoing Remittances (Value)'!$H$5","v":"20241231"},{"$f":"+'COVER SHEET'!$D$12","v":0},11530,{"$f":"'COVER SHEET'!$D$16&IF(MID('COVER SHEET'!$I$18,6,10)=\"december\",\"1231\",IF(MID('COVER SHEET'!$I$18,6,10)=\"june\",\"0630\"))","v":"20241231"},{"$f":"+'Outgoing Remittances (Value)'!H46","v":0}]
["CMREM_11530","CM",{"$f":"+'Outgoing Remittances (Value)'!$H$5","v":"20241231"},{"$f":"+'COVER SHEET'!$D$12","v":0},11530,{"$f":"'COVER SHEET'!$D$16&IF(MID('COVER SHEET'!$I$18,6,10)=\"december\",\"1231\",IF(MID('COVER SHEET'!$I$18,6,10)=\"june\",\"0630\"))","v":"20241231"},{"$f":"+'Outgoing Remittances (Value)'!H47","v":0}]
["CMREM_11530","CA",{"$f":"+'Outgoing Remittances (Value)'!$H$5","v":"20241231"},{"$f":"+'COVER SHEET'!$D$12","v":0},11530,{"$f":"'COVER SHEET'!$D$16&IF(MID('COVER SHEET'!$I$18,6,10)=\"december\",\"1231\",IF(MID('COVER SHEET'!$I$18,6,10)=\"june\",\"0630\"))","v":"20241231"},{"$f":"+'Outgoing Remittances (Value)'!H48","v":0}]
["CMREM_11530","CV",{"$f":"+'Outgoing Remittances (Value)'!$H$5","v":"20241231"},{"$f":"+'COVER SHEET'!$D$12","v":0},11530,{"$f":"'COVER SHEET'!$D$16&IF(MID('COVER SHEET'!$I$18,6,10)=\"december\",\"1231\",IF(MID('COVER SHEET'!$I$18,6,10)=\"june\",\"0630\"))","v":"20241231"},{"$f":"+'Outgoing Remittances (Value)'!H49","v":0}]
["CMREM_11530","KY",{"$f":"+'Outgoing Remittances (Value)'!$H$5","v":"20241231"},{"$f":"+'COVER SHEET'!$D$12","v":0},11530,{"$f":"'COVER SHEET'!$D$16&IF(MID('COVER SHEET'!$I$18,6,10)=\"december\",\"1231\",IF(MID('COVER SHEET'!$I$18,6,10)=\"june\",\"0630\"))","v":"20241231"},{"$f":"+'Outgoing Remittances (Value)'!H50","v":0}]
["CMREM_11530","CF",{"$f":"+'Outgoing Remittances (Value)'!$H$5","v":"20241231"},{"$f":"+'COVER SHEET'!$D$12","v":0},11530,{"$f":"'COVER SHEET'!$D$16&IF(MID('COVER SHEET'!$I$18,6,10)=\"december\",\"1231\",IF(MID('COVER SHEET'!$I$18,6,10)=\"june\",\"0630\"))","v":"20241231"},{"$f":"+'Outgoing Remittances (Value)'!H51","v":0}]
["CMREM_11530","TD",{"$f":"+'Outgoing Remittances (Value)'!$H$5","v":"20241231"},{"$f":"+'COVER SHEET'!$D$12","v":0},11530,{"$f":"'COVER SHEET'!$D$16&IF(MID('COVER SHEET'!$I$18,6,10)=\"december\",\"1231\",IF(MID('COVER SHEET'!$I$18,6,10)=\"june\",\"0630\"))","v":"20241231"},{"$f":"+'Outgoing Remittances (Value)'!H52","v":0}]
["CMREM_11530","CL",{"$f":"+'Outgoing Remittances (Value)'!$H$5","v":"20241231"},{"$f":"+'COVER SHEET'!$D$12","v":0},11530,{"$f":"'COVER SHEET'!$D$16&IF(MID('COVER SHEET'!$I$18,6,10)=\"december\",\"1231\",IF(MID('COVER SHEET'!$I$18,6,10)=\"june\",\"0630\"))","v":"20241231"},{"$f":"+'Outgoing Remittances (Value)'!H53","v":0}]
["CMREM_11530","CN",{"$f":"+'Outgoing Remittances (Value)'!$H$5","v":"20241231"},{"$f":"+'COVER SHEET'!$D$12","v":0},11530,{"$f":"'COVER SHEET'!$D$16&IF(MID('COVER SHEET'!$I$18,6,10)=\"december\",\"1231\",IF(MID('COVER SHEET'!$I$18,6,10)=\"june\",\"0630\"))","v":"20241231"},{"$f":"+'Outgoing Remittances (Value)'!H54","v":0}]
["CMREM_11530","CX",{"$f":"+'Outgoing Remittances (Value)'!$H$5","v":"20241231"},{"$f":"+'COVER SHEET'!$D$12","v":0},11530,{"$f":"'COVER SHEET'!$D$16&IF(MID('COVER SHEET'!$I$18,6,10)=\"december\",\"1231\",IF(MID('COVER SHEET'!$I$18,6,10)=\"june\",\"0630\"))","v":"20241231"},{"$f":"+'Outgoing Remittances (Value)'!H55","v":0}]
["CMREM_11530","CC",{"$f":"+'Outgoing Remittances (Value)'!$H$5","v":"20241231"},{"$f":"+'COVER SHEET'!$D$12","v":0},11530,{"$f":"'COVER SHEET'!$D$16&IF(MID('COVER SHEET'!$I$18,6,10)=\"december\",\"1231\",IF(MID('COVER SHEET'!$I$18,6,10)=\"june\",\"0630\"))","v":"20241231"},{"$f":"+'Outgoing Remittances (Value)'!H56","v":0}]
["CMREM_11530","CO",{"$f":"+'Outgoing Remittances (Value)'!$H$5","v":"20241231"},{"$f":"+'COVER SHEET'!$D$12","v":0},11530,{"$f":"'COVER SHEET'!$D$16&IF(MID('COVER SHEET'!$I$18,6,10)=\"december\",\"1231\",IF(MID('COVER SHEET'!$I$18,6,10)=\"june\",\"0630\"))","v":"20241231"},{"$f":"+'Outgoing Remittances (Value)'!H57","v":0}]
["CMREM_11530","KM",{"$f":"+'Outgoing Remittances (Value)'!$H$5","v":"20241231"},{"$f":"+'COVER SHEET'!$D$12","v":0},11530,{"$f":"'COVER SHEET'!$D$16&IF(MID('COVER SHEET'!$I$18,6,10)=\"december\",\"1231\",IF(MID('COVER SHEET'!$I$18,6,10)=\"june\",\"0630\"))","v":"20241231"},{"$f":"+'Outgoing Remittances (Value)'!H58","v":0}]
["CMREM_11530","CG",{"$f":"+'Outgoing Remittances (Value)'!$H$5","v":"20241231"},{"$f":"+'COVER SHEET'!$D$12","v":0},11530,{"$f":"'COVER SHEET'!$D$16&IF(MID('COVER SHEET'!$I$18,6,10)=\"december\",\"1231\",IF(MID('COVER SHEET'!$I$18,6,10)=\"june\",\"0630\"))","v":"20241231"},{"$f":"+'Outgoing Remittances (Value)'!H59","v":0}]
["CMREM_11530","CD",{"$f":"+'Outgoing Remittances (Value)'!$H$5","v":"20241231"},{"$f":"+'COVER SHEET'!$D$12","v":0},11530,{"$f":"'COVER SHEET'!$D$16&IF(MID('COVER SHEET'!$I$18,6,10)=\"december\",\"1231\",IF(MID('COVER SHEET'!$I$18,6,10)=\"june\",\"0630\"))","v":"20241231"},{"$f":"+'Outgoing Remittances (Value)'!H60","v":0}]
["CMREM_11530","CK",{"$f":"+'Outgoing Remittances (Value)'!$H$5","v":"20241231"},{"$f":"+'COVER SHEET'!$D$12","v":0},11530,{"$f":"'COVER SHEET'!$D$16&IF(MID('COVER SHEET'!$I$18,6,10)=\"december\",\"1231\",IF(MID('COVER SHEET'!$I$18,6,10)=\"june\",\"0630\"))","v":"20241231"},{"$f":"+'Outgoing Remittances (Value)'!H61","v":0}]
["CMREM_11530","CR",{"$f":"+'Outgoing Remittances (Value)'!$H$5","v":"20241231"},{"$f":"+'COVER SHEET'!$D$12","v":0},11530,{"$f":"'COVER SHEET'!$D$16&IF(MID('COVER SHEET'!$I$18,6,10)=\"december\",\"1231\",IF(MID('COVER SHEET'!$I$18,6,10)=\"june\",\"0630\"))","v":"20241231"},{"$f":"+'Outgoing Remittances (Value)'!H62","v":0}]
["CMREM_11530","HR",{"$f":"+'Outgoing Remittances (Value)'!$H$5","v":"20241231"},{"$f":"+'COVER SHEET'!$D$12","v":0},11530,{"$f":"'COVER SHEET'!$D$16&IF(MID('COVER SHEET'!$I$18,6,10)=\"december\",\"1231\",IF(MID('COVER SHEET'!$I$18,6,10)=\"june\",\"0630\"))","v":"20241231"},{"$f":"+'Outgoing Remittances (Value)'!H63","v":0}]
["CMREM_11530","CU",{"$f":"+'Outgoing Remittances (Value)'!$H$5","v":"20241231"},{"$f":"+'COVER SHEET'!$D$12","v":0},11530,{"$f":"'COVER SHEET'!$D$16&IF(MID('COVER SHEET'!$I$18,6,10)=\"december\",\"1231\",IF(MID('COVER SHEET'!$I$18,6,10)=\"june\",\"0630\"))","v":"20241231"},{"$f":"+'Outgoing Remittances (Value)'!H64","v":0}]
["CMREM_11530","CW",{"$f":"+'Outgoing Remittances (Value)'!$H$5","v":"20241231"},{"$f":"+'COVER SHEET'!$D$12","v":0},11530,{"$f":"'COVER SHEET'!$D$16&IF(MID('COVER SHEET'!$I$18,6,10)=\"december\",\"1231\",IF(MID('COVER SHEET'!$I$18,6,10)=\"june\",\"0630\"))","v":"20241231"},{"$f":"+'Outgoing Remittances (Value)'!H65","v":0}]
["CMREM_11530","CY",{"$f":"+'Outgoing Remittances (Value)'!$H$5","v":"20241231"},{"$f":"+'COVER SHEET'!$D$12","v":0},11530,{"$f":"'COVER SHEET'!$D$16&IF(MID('COVER SHEET'!$I$18,6,10)=\"december\",\"1231\",IF(MID('COVER SHEET'!$I$18,6,10)=\"june\",\"0630\"))","v":"20241231"},{"$f":"+'Outgoing Remittances (Value)'!H66","v":0}]
["CMREM_11530","CZ",{"$f":"+'Outgoing Remittances (Value)'!$H$5","v":"20241231"},{"$f":"+'COVER SHEET'!$D$12","v":0},11530,{"$f":"'COVER SHEET'!$D$16&IF(MID('COVER SHEET'!$I$18,6,10)=\"december\",\"1231\",IF(MID('COVER SHEET'!$I$18,6,10)=\"june\",\"0630\"))","v":"20241231"},{"$f":"+'Outgoing Remittances (Value)'!H67","v":0}]
["CMREM_11530","DK",{"$f":"+'Outgoing Remittances (Value)'!$H$5","v":"20241231"},{"$f":"+'COVER SHEET'!$D$12","v":0},11530,{"$f":"'COVER SHEET'!$D$16&IF(MID('COVER SHEET'!$I$18,6,10)=\"december\",\"1231\",IF(MID('COVER SHEET'!$I$18,6,10)=\"june\",\"0630\"))","v":"20241231"},{"$f":"+'Outgoing Remittances (Value)'!H68","v":0}]
["CMREM_11530","DJ",{"$f":"+'Outgoing Remittances (Value)'!$H$5","v":"20241231"},{"$f":"+'COVER SHEET'!$D$12","v":0},11530,{"$f":"'COVER SHEET'!$D$16&IF(MID('COVER SHEET'!$I$18,6,10)=\"december\",\"1231\",IF(MID('COVER SHEET'!$I$18,6,10)=\"june\",\"0630\"))","v":"20241231"},{"$f":"+'Outgoing Remittances (Value)'!H69","v":0}]
["CMREM_11530","DM",{"$f":"+'Outgoing Remittances (Value)'!$H$5","v":"20241231"},{"$f":"+'COVER SHEET'!$D$12","v":0},11530,{"$f":"'COVER SHEET'!$D$16&IF(MID('COVER SHEET'!$I$18,6,10)=\"december\",\"1231\",IF(MID('COVER SHEET'!$I$18,6,10)=\"june\",\"0630\"))","v":"20241231"},{"$f":"+'Outgoing Remittances (Value)'!H70","v":0}]
["CMREM_11530","DO",{"$f":"+'Outgoing Remittances (Value)'!$H$5","v":"20241231"},{"$f":"+'COVER SHEET'!$D$12","v":0},11530,{"$f":"'COVER SHEET'!$D$16&IF(MID('COVER SHEET'!$I$18,6,10)=\"december\",\"1231\",IF(MID('COVER SHEET'!$I$18,6,10)=\"june\",\"0630\"))","v":"20241231"},{"$f":"+'Outgoing Remittances (Value)'!H71","v":0}]
["CMREM_11530","TL",{"$f":"+'Outgoing Remittances (Value)'!$H$5","v":"20241231"},{"$f":"+'COVER SHEET'!$D$12","v":0},11530,{"$f":"'COVER SHEET'!$D$16&IF(MID('COVER SHEET'!$I$18,6,10)=\"december\",\"1231\",IF(MID('COVER SHEET'!$I$18,6,10)=\"june\",\"0630\"))","v":"20241231"},{"$f":"+'Outgoing Remittances (Value)'!H72","v":0}]
["CMREM_11530","EC",{"$f":"+'Outgoing Remittances (Value)'!$H$5","v":"20241231"},{"$f":"+'COVER SHEET'!$D$12","v":0},11530,{"$f":"'COVER SHEET'!$D$16&IF(MID('COVER SHEET'!$I$18,6,10)=\"december\",\"1231\",IF(MID('COVER SHEET'!$I$18,6,10)=\"june\",\"0630\"))","v":"20241231"},{"$f":"+'Outgoing Remittances (Value)'!H73","v":0}]
["CMREM_11530","EG",{"$f":"+'Outgoing Remittances (Value)'!$H$5","v":"20241231"},{"$f":"+'COVER SHEET'!$D$12","v":0},11530,{"$f":"'COVER SHEET'!$D$16&IF(MID('COVER SHEET'!$I$18,6,10)=\"december\",\"1231\",IF(MID('COVER SHEET'!$I$18,6,10)=\"june\",\"0630\"))","v":"20241231"},{"$f":"+'Outgoing Remittances (Value)'!H74","v":0}]
["CMREM_11530","SV",{"$f":"+'Outgoing Remittances (Value)'!$H$5","v":"20241231"},{"$f":"+'COVER SHEET'!$D$12","v":0},11530,{"$f":"'COVER SHEET'!$D$16&IF(MID('COVER SHEET'!$I$18,6,10)=\"december\",\"1231\",IF(MID('COVER SHEET'!$I$18,6,10)=\"june\",\"0630\"))","v":"20241231"},{"$f":"+'Outgoing Remittances (Value)'!H75","v":0}]
["CMREM_11530","GQ",{"$f":"+'Outgoing Remittances (Value)'!$H$5","v":"20241231"},{"$f":"+'COVER SHEET'!$D$12","v":0},11530,{"$f":"'COVER SHEET'!$D$16&IF(MID('COVER SHEET'!$I$18,6,10)=\"december\",\"1231\",IF(MID('COVER SHEET'!$I$18,6,10)=\"june\",\"0630\"))","v":"20241231"},{"$f":"+'Outgoing Remittances (Value)'!H76","v":0}]
["CMREM_11530","ER",{"$f":"+'Outgoing Remittances (Value)'!$H$5","v":"20241231"},{"$f":"+'COVER SHEET'!$D$12","v":0},11530,{"$f":"'COVER SHEET'!$D$16&IF(MID('COVER SHEET'!$I$18,6,10)=\"december\",\"1231\",IF(MID('COVER SHEET'!$I$18,6,10)=\"june\",\"0630\"))","v":"20241231"},{"$f":"+'Outgoing Remittances (Value)'!H77","v":0}]
["CMREM_11530","EE",{"$f":"+'Outgoing Remittances (Value)'!$H$5","v":"20241231"},{"$f":"+'COVER SHEET'!$D$12","v":0},11530,{"$f":"'COVER SHEET'!$D$16&IF(MID('COVER SHEET'!$I$18,6,10)=\"december\",\"1231\",IF(MID('COVER SHEET'!$I$18,6,10)=\"june\",\"0630\"))","v":"20241231"},{"$f":"+'Outgoing Remittances (Value)'!H78","v":0}]
["CMREM_11530","ET",{"$f":"+'Outgoing Remittances (Value)'!$H$5","v":"20241231"},{"$f":"+'COVER SHEET'!$D$12","v":0},11530,{"$f":"'COVER SHEET'!$D$16&IF(MID('COVER SHEET'!$I$18,6,10)=\"december\",\"1231\",IF(MID('COVER SHEET'!$I$18,6,10)=\"june\",\"0630\"))","v":"20241231"},{"$f":"+'Outgoing Remittances (Value)'!H79","v":0}]
["CMREM_11530","FK",{"$f":"+'Outgoing Remittances (Value)'!$H$5","v":"20241231"},{"$f":"+'COVER SHEET'!$D$12","v":0},11530,{"$f":"'COVER SHEET'!$D$16&IF(MID('COVER SHEET'!$I$18,6,10)=\"december\",\"1231\",IF(MID('COVER SHEET'!$I$18,6,10)=\"june\",\"0630\"))","v":"20241231"},{"$f":"+'Outgoing Remittances (Value)'!H80","v":0}]
["CMREM_11530","FO",{"$f":"+'Outgoing Remittances (Value)'!$H$5","v":"20241231"},{"$f":"+'COVER SHEET'!$D$12","v":0},11530,{"$f":"'COVER SHEET'!$D$16&IF(MID('COVER SHEET'!$I$18,6,10)=\"december\",\"1231\",IF(MID('COVER SHEET'!$I$18,6,10)=\"june\",\"0630\"))","v":"20241231"},{"$f":"+'Outgoing Remittances (Value)'!H81","v":0}]
["CMREM_11530","FJ",{"$f":"+'Outgoing Remittances (Value)'!$H$5","v":"20241231"},{"$f":"+'COVER SHEET'!$D$12","v":0},11530,{"$f":"'COVER SHEET'!$D$16&IF(MID('COVER SHEET'!$I$18,6,10)=\"december\",\"1231\",IF(MID('COVER SHEET'!$I$18,6,10)=\"june\",\"0630\"))","v":"20241231"},{"$f":"+'Outgoing Remittances (Value)'!H82","v":0}]
["CMREM_11530","FI",{"$f":"+'Outgoing Remittances (Value)'!$H$5","v":"20241231"},{"$f":"+'COVER SHEET'!$D$12","v":0},11530,{"$f":"'COVER SHEET'!$D$16&IF(MID('COVER SHEET'!$I$18,6,10)=\"december\",\"1231\",IF(MID('COVER SHEET'!$I$18,6,10)=\"june\",\"0630\"))","v":"20241231"},{"$f":"+'Outgoing Remittances (Value)'!H83","v":0}]
["CMREM_11530","FR",{"$f":"+'Outgoing Remittances (Value)'!$H$5","v":"20241231"},{"$f":"+'COVER SHEET'!$D$12","v":0},11530,{"$f":"'COVER SHEET'!$D$16&IF(MID('COVER SHEET'!$I$18,6,10)=\"december\",\"1231\",IF(MID('COVER SHEET'!$I$18,6,10)=\"june\",\"0630\"))","v":"20241231"},{"$f":"+'Outgoing Remittances (Value)'!H84","v":0}]
["CMREM_11530","PF",{"$f":"+'Outgoing Remittances (Value)'!$H$5","v":"20241231"},{"$f":"+'COVER SHEET'!$D$12","v":0},11530,{"$f":"'COVER SHEET'!$D$16&IF(MID('COVER SHEET'!$I$18,6,10)=\"december\",\"1231\",IF(MID('COVER SHEET'!$I$18,6,10)=\"june\",\"0630\"))","v":"20241231"},{"$f":"+'Outgoing Remittances (Value)'!H85","v":0}]
["CMREM_11530","TF",{"$f":"+'Outgoing Remittances (Value)'!$H$5","v":"20241231"},{"$f":"+'COVER SHEET'!$D$12","v":0},11530,{"$f":"'COVER SHEET'!$D$16&IF(MID('COVER SHEET'!$I$18,6,10)=\"december\",\"1231\",IF(MID('COVER SHEET'!$I$18,6,10)=\"june\",\"0630\"))","v":"20241231"},{"$f":"+'Outgoing Remittances (Value)'!H86","v":0}]
["CMREM_11530","GA",{"$f":"+'Outgoing Remittances (Value)'!$H$5","v":"20241231"},{"$f":"+'COVER SHEET'!$D$12","v":0},11530,{"$f":"'COVER SHEET'!$D$16&IF(MID('COVER SHEET'!$I$18,6,10)=\"december\",\"1231\",IF(MID('COVER SHEET'!$I$18,6,10)=\"june\",\"0630\"))","v":"20241231"},{"$f":"+'Outgoing Remittances (Value)'!H87","v":0}]
["CMREM_11530","GM",{"$f":"+'Outgoing Remittances (Value)'!$H$5","v":"20241231"},{"$f":"+'COVER SHEET'!$D$12","v":0},11530,{"$f":"'COVER SHEET'!$D$16&IF(MID('COVER SHEET'!$I$18,6,10)=\"december\",\"1231\",IF(MID('COVER SHEET'!$I$18,6,10)=\"june\",\"0630\"))","v":"20241231"},{"$f":"+'Outgoing Remittances (Value)'!H88","v":0}]
["CMREM_11530","GE",{"$f":"+'Outgoing Remittances (Value)'!$H$5","v":"20241231"},{"$f":"+'COVER SHEET'!$D$12","v":0},11530,{"$f":"'COVER SHEET'!$D$16&IF(MID('COVER SHEET'!$I$18,6,10)=\"december\",\"1231\",IF(MID('COVER SHEET'!$I$18,6,10)=\"june\",\"0630\"))","v":"20241231"},{"$f":"+'Outgoing Remittances (Value)'!H89","v":0}]
["CMREM_11530","DE",{"$f":"+'Outgoing Remittances (Value)'!$H$5","v":"20241231"},{"$f":"+'COVER SHEET'!$D$12","v":0},11530,{"$f":"'COVER SHEET'!$D$16&IF(MID('COVER SHEET'!$I$18,6,10)=\"december\",\"1231\",IF(MID('COVER SHEET'!$I$18,6,10)=\"june\",\"0630\"))","v":"20241231"},{"$f":"+'Outgoing Remittances (Value)'!H90","v":0}]
["CMREM_11530","GH",{"$f":"+'Outgoing Remittances (Value)'!$H$5","v":"20241231"},{"$f":"+'COVER SHEET'!$D$12","v":0},11530,{"$f":"'COVER SHEET'!$D$16&IF(MID('COVER SHEET'!$I$18,6,10)=\"december\",\"1231\",IF(MID('COVER SHEET'!$I$18,6,10)=\"june\",\"0630\"))","v":"20241231"},{"$f":"+'Outgoing Remittances (Value)'!H91","v":0}]
["CMREM_11530","GI",{"$f":"+'Outgoing Remittances (Value)'!$H$5","v":"20241231"},{"$f":"+'COVER SHEET'!$D$12","v":0},11530,{"$f":"'COVER SHEET'!$D$16&IF(MID('COVER SHEET'!$I$18,6,10)=\"december\",\"1231\",IF(MID('COVER SHEET'!$I$18,6,10)=\"june\",\"0630\"))","v":"20241231"},{"$f":"+'Outgoing Remittances (Value)'!H92","v":0}]
["CMREM_11530","GR",{"$f":"+'Outgoing Remittances (Value)'!$H$5","v":"20241231"},{"$f":"+'COVER SHEET'!$D$12","v":0},11530,{"$f":"'COVER SHEET'!$D$16&IF(MID('COVER SHEET'!$I$18,6,10)=\"december\",\"1231\",IF(MID('COVER SHEET'!$I$18,6,10)=\"june\",\"0630\"))","v":"20241231"},{"$f":"+'Outgoing Remittances (Value)'!H93","v":0}]
["CMREM_11530","GL",{"$f":"+'Outgoing Remittances (Value)'!$H$5","v":"20241231"},{"$f":"+'COVER SHEET'!$D$12","v":0},11530,{"$f":"'COVER SHEET'!$D$16&IF(MID('COVER SHEET'!$I$18,6,10)=\"december\",\"1231\",IF(MID('COVER SHEET'!$I$18,6,10)=\"june\",\"0630\"))","v":"20241231"},{"$f":"+'Outgoing Remittances (Value)'!H94","v":0}]
["CMREM_11530","GD",{"$f":"+'Outgoing Remittances (Value)'!$H$5","v":"20241231"},{"$f":"+'COVER SHEET'!$D$12","v":0},11530,{"$f":"'COVER SHEET'!$D$16&IF(MID('COVER SHEET'!$I$18,6,10)=\"december\",\"1231\",IF(MID('COVER SHEET'!$I$18,6,10)=\"june\",\"0630\"))","v":"20241231"},{"$f":"+'Outgoing Remittances (Value)'!H95","v":0}]
["CMREM_11530","GU",{"$f":"+'Outgoing Remittances (Value)'!$H$5","v":"20241231"},{"$f":"+'COVER SHEET'!$D$12","v":0},11530,{"$f":"'COVER SHEET'!$D$16&IF(MID('COVER SHEET'!$I$18,6,10)=\"december\",\"1231\",IF(MID('COVER SHEET'!$I$18,6,10)=\"june\",\"0630\"))","v":"20241231"},{"$f":"+'Outgoing Remittances (Value)'!H96","v":0}]
["CMREM_11530","GT",{"$f":"+'Outgoing Remittances (Value)'!$H$5","v":"20241231"},{"$f":"+'COVER SHEET'!$D$12","v":0},11530,{"$f":"'COVER SHEET'!$D$16&IF(MID('COVER SHEET'!$I$18,6,10)=\"december\",\"1231\",IF(MID('COVER SHEET'!$I$18,6,10)=\"june\",\"0630\"))","v":"20241231"},{"$f":"+'Outgoing Remittances (Value)'!H97","v":0}]
["CMREM_11530","GG",{"$f":"+'Outgoing Remittances (Value)'!$H$5","v":"20241231"},{"$f":"+'COVER SHEET'!$D$12","v":0},11530,{"$f":"'COVER SHEET'!$D$16&IF(MID('COVER SHEET'!$I$18,6,10)=\"december\",\"1231\",IF(MID('COVER SHEET'!$I$18,6,10)=\"june\",\"0630\"))","v":"20241231"},{"$f":"+'Outgoing Remittances (Value)'!H98","v":0}]
["CMREM_11530","GN",{"$f":"+'Outgoing Remittances (Value)'!$H$5","v":"20241231"},{"$f":"+'COVER SHEET'!$D$12","v":0},11530,{"$f":"'COVER SHEET'!$D$16&IF(MID('COVER SHEET'!$I$18,6,10)=\"december\",\"1231\",IF(MID('COVER SHEET'!$I$18,6,10)=\"june\",\"0630\"))","v":"20241231"},{"$f":"+'Outgoing Remittances (Value)'!H99","v":0}]
["CMREM_11530","GW",{"$f":"+'Outgoing Remittances (Value)'!$H$5","v":"20241231"},{"$f":"+'COVER SHEET'!$D$12","v":0},11530,{"$f":"'COVER SHEET'!$D$16&IF(MID('COVER SHEET'!$I$18,6,10)=\"december\",\"1231\",IF(MID('COVER SHEET'!$I$18,6,10)=\"june\",\"0630\"))","v":"20241231"},{"$f":"+'Outgoing Remittances (Value)'!H100","v":0}]
["CMREM_11530","GY",{"$f":"+'Outgoing Remittances (Value)'!$H$5","v":"20241231"},{"$f":"+'COVER SHEET'!$D$12","v":0},11530,{"$f":"'COVER SHEET'!$D$16&IF(MID('COVER SHEET'!$I$18,6,10)=\"december\",\"1231\",IF(MID('COVER SHEET'!$I$18,6,10)=\"june\",\"0630\"))","v":"20241231"},{"$f":"+'Outgoing Remittances (Value)'!H101","v":0}]
["CMREM_11530","HT",{"$f":"+'Outgoing Remittances (Value)'!$H$5","v":"20241231"},{"$f":"+'COVER SHEET'!$D$12","v":0},11530,{"$f":"'COVER SHEET'!$D$16&IF(MID('COVER SHEET'!$I$18,6,10)=\"december\",\"1231\",IF(MID('COVER SHEET'!$I$18,6,10)=\"june\",\"0630\"))","v":"20241231"},{"$f":"+'Outgoing Remittances (Value)'!H102","v":0}]
["CMREM_11530","HM",{"$f":"+'Outgoing Remittances (Value)'!$H$5","v":"20241231"},{"$f":"+'COVER SHEET'!$D$12","v":0},11530,{"$f":"'COVER SHEET'!$D$16&IF(MID('COVER SHEET'!$I$18,6,10)=\"december\",\"1231\",IF(MID('COVER SHEET'!$I$18,6,10)=\"june\",\"0630\"))","v":"20241231"},{"$f":"+'Outgoing Remittances (Value)'!H103","v":0}]
["CMREM_11530","VA",{"$f":"+'Outgoing Remittances (Value)'!$H$5","v":"20241231"},{"$f":"+'COVER SHEET'!$D$12","v":0},11530,{"$f":"'COVER SHEET'!$D$16&IF(MID('COVER SHEET'!$I$18,6,10)=\"december\",\"1231\",IF(MID('COVER SHEET'!$I$18,6,10)=\"june\",\"0630\"))","v":"20241231"},{"$f":"+'Outgoing Remittances (Value)'!H104","v":0}]
["CMREM_11530","HN",{"$f":"+'Outgoing Remittances (Value)'!$H$5","v":"20241231"},{"$f":"+'COVER SHEET'!$D$12","v":0},11530,{"$f":"'COVER SHEET'!$D$16&IF(MID('COVER SHEET'!$I$18,6,10)=\"december\",\"1231\",IF(MID('COVER SHEET'!$I$18,6,10)=\"june\",\"0630\"))","v":"20241231"},{"$f":"+'Outgoing Remittances (Value)'!H105","v":0}]
["CMREM_11530","HK",{"$f":"+'Outgoing Remittances (Value)'!$H$5","v":"20241231"},{"$f":"+'COVER SHEET'!$D$12","v":0},11530,{"$f":"'COVER SHEET'!$D$16&IF(MID('COVER SHEET'!$I$18,6,10)=\"december\",\"1231\",IF(MID('COVER SHEET'!$I$18,6,10)=\"june\",\"0630\"))","v":"20241231"},{"$f":"+'Outgoing Remittances (Value)'!H106","v":0}]
["CMREM_11530","HU",{"$f":"+'Outgoing Remittances (Value)'!$H$5","v":"20241231"},{"$f":"+'COVER SHEET'!$D$12","v":0},11530,{"$f":"'COVER SHEET'!$D$16&IF(MID('COVER SHEET'!$I$18,6,10)=\"december\",\"1231\",IF(MID('COVER SHEET'!$I$18,6,10)=\"june\",\"0630\"))","v":"20241231"},{"$f":"+'Outgoing Remittances (Value)'!H107","v":0}]
["CMREM_11530","IS",{"$f":"+'Outgoing Remittances (Value)'!$H$5","v":"20241231"},{"$f":"+'COVER SHEET'!$D$12","v":0},11530,{"$f":"'COVER SHEET'!$D$16&IF(MID('COVER SHEET'!$I$18,6,10)=\"december\",\"1231\",IF(MID('COVER SHEET'!$I$18,6,10)=\"june\",\"0630\"))","v":"20241231"},{"$f":"+'Outgoing Remittances (Value)'!H108","v":0}]
["CMREM_11530","IN",{"$f":"+'Outgoing Remittances (Value)'!$H$5","v":"20241231"},{"$f":"+'COVER SHEET'!$D$12","v":0},11530,{"$f":"'COVER SHEET'!$D$16&IF(MID('COVER SHEET'!$I$18,6,10)=\"december\",\"1231\",IF(MID('COVER SHEET'!$I$18,6,10)=\"june\",\"0630\"))","v":"20241231"},{"$f":"+'Outgoing Remittances (Value)'!H109","v":0}]
["CMREM_11530","ID",{"$f":"+'Outgoing Remittances (Value)'!$H$5","v":"20241231"},{"$f":"+'COVER SHEET'!$D$12","v":0},11530,{"$f":"'COVER SHEET'!$D$16&IF(MID('COVER SHEET'!$I$18,6,10)=\"december\",\"1231\",IF(MID('COVER SHEET'!$I$18,6,10)=\"june\",\"0630\"))","v":"20241231"},{"$f":"+'Outgoing Remittances (Value)'!H110","v":0}]
["CMREM_11530","IR",{"$f":"+'Outgoing Remittances (Value)'!$H$5","v":"20241231"},{"$f":"+'COVER SHEET'!$D$12","v":0},11530,{"$f":"'COVER SHEET'!$D$16&IF(MID('COVER SHEET'!$I$18,6,10)=\"december\",\"1231\",IF(MID('COVER SHEET'!$I$18,6,10)=\"june\",\"0630\"))","v":"20241231"},{"$f":"+'Outgoing Remittances (Value)'!H111","v":0}]
["CMREM_11530","IQ",{"$f":"+'Outgoing Remittances (Value)'!$H$5","v":"20241231"},{"$f":"+'COVER SHEET'!$D$12","v":0},11530,{"$f":"'COVER SHEET'!$D$16&IF(MID('COVER SHEET'!$I$18,6,10)=\"december\",\"1231\",IF(MID('COVER SHEET'!$I$18,6,10)=\"june\",\"0630\"))","v":"20241231"},{"$f":"+'Outgoing Remittances (Value)'!H112","v":0}]
["CMREM_11530","IE",{"$f":"+'Outgoing Remittances (Value)'!$H$5","v":"20241231"},{"$f":"+'COVER SHEET'!$D$12","v":0},11530,{"$f":"'COVER SHEET'!$D$16&IF(MID('COVER SHEET'!$I$18,6,10)=\"december\",\"1231\",IF(MID('COVER SHEET'!$I$18,6,10)=\"june\",\"0630\"))","v":"20241231"},{"$f":"+'Outgoing Remittances (Value)'!H113","v":0}]
["CMREM_11530","IM",{"$f":"+'Outgoing Remittances (Value)'!$H$5","v":"20241231"},{"$f":"+'COVER SHEET'!$D$12","v":0},11530,{"$f":"'COVER SHEET'!$D$16&IF(MID('COVER SHEET'!$I$18,6,10)=\"december\",\"1231\",IF(MID('COVER SHEET'!$I$18,6,10)=\"june\",\"0630\"))","v":"20241231"},{"$f":"+'Outgoing Remittances (Value)'!H114","v":0}]
["CMREM_11530","IL",{"$f":"+'Outgoing Remittances (Value)'!$H$5","v":"20241231"},{"$f":"+'COVER SHEET'!$D$12","v":0},11530,{"$f":"'COVER SHEET'!$D$16&IF(MID('COVER SHEET'!$I$18,6,10)=\"december\",\"1231\",IF(MID('COVER SHEET'!$I$18,6,10)=\"june\",\"0630\"))","v":"20241231"},{"$f":"+'Outgoing Remittances (Value)'!H115","v":0}]
["CMREM_11530","IT",{"$f":"+'Outgoing Remittances (Value)'!$H$5","v":"20241231"},{"$f":"+'COVER SHEET'!$D$12","v":0},11530,{"$f":"'COVER SHEET'!$D$16&IF(MID('COVER SHEET'!$I$18,6,10)=\"december\",\"1231\",IF(MID('COVER SHEET'!$I$18,6,10)=\"june\",\"0630\"))","v":"20241231"},{"$f":"+'Outgoing Remittances (Value)'!H116","v":0}]
["CMREM_11530","CI",{"$f":"+'Outgoing Remittances (Value)'!$H$5","v":"20241231"},{"$f":"+'COVER SHEET'!$D$12","v":0},11530,{"$f":"'COVER SHEET'!$D$16&IF(MID('COVER SHEET'!$I$18,6,10)=\"december\",\"1231\",IF(MID('COVER SHEET'!$I$18,6,10)=\"june\",\"0630\"))","v":"20241231"},{"$f":"+'Outgoing Remittances (Value)'!H117","v":0}]
["CMREM_11530","JM",{"$f":"+'Outgoing Remittances (Value)'!$H$5","v":"20241231"},{"$f":"+'COVER SHEET'!$D$12","v":0},11530,{"$f":"'COVER SHEET'!$D$16&IF(MID('COVER SHEET'!$I$18,6,10)=\"december\",\"1231\",IF(MID('COVER SHEET'!$I$18,6,10)=\"june\",\"0630\"))","v":"20241231"},{"$f":"+'Outgoing Remittances (Value)'!H118","v":0}]
["CMREM_11530","JP",{"$f":"+'Outgoing Remittances (Value)'!$H$5","v":"20241231"},{"$f":"+'COVER SHEET'!$D$12","v":0},11530,{"$f":"'COVER SHEET'!$D$16&IF(MID('COVER SHEET'!$I$18,6,10)=\"december\",\"1231\",IF(MID('COVER SHEET'!$I$18,6,10)=\"june\",\"0630\"))","v":"20241231"},{"$f":"+'Outgoing Remittances (Value)'!H119","v":0}]
["CMREM_11530","JE",{"$f":"+'Outgoing Remittances (Value)'!$H$5","v":"20241231"},{"$f":"+'COVER SHEET'!$D$12","v":0},11530,{"$f":"'COVER SHEET'!$D$16&IF(MID('COVER SHEET'!$I$18,6,10)=\"december\",\"1231\",IF(MID('COVER SHEET'!$I$18,6,10)=\"june\",\"0630\"))","v":"20241231"},{"$f":"+'Outgoing Remittances (Value)'!H120","v":0}]
["CMREM_11530","JO",{"$f":"+'Outgoing Remittances (Value)'!$H$5","v":"20241231"},{"$f":"+'COVER SHEET'!$D$12","v":0},11530,{"$f":"'COVER SHEET'!$D$16&IF(MID('COVER SHEET'!$I$18,6,10)=\"december\",\"1231\",IF(MID('COVER SHEET'!$I$18,6,10)=\"june\",\"0630\"))","v":"20241231"},{"$f":"+'Outgoing Remittances (Value)'!H121","v":0}]
["CMREM_11530","KZ",{"$f":"+'Outgoing Remittances (Value)'!$H$5","v":"20241231"},{"$f":"+'COVER SHEET'!$D$12","v":0},11530,{"$f":"'COVER SHEET'!$D$16&IF(MID('COVER SHEET'!$I$18,6,10)=\"december\",\"1231\",IF(MID('COVER SHEET'!$I$18,6,10)=\"june\",\"0630\"))","v":"20241231"},{"$f":"+'Outgoing Remittances (Value)'!H122","v":0}]
["CMREM_11530","KE",{"$f":"+'Outgoing Remittances (Value)'!$H$5","v":"20241231"},{"$f":"+'COVER SHEET'!$D$12","v":0},11530,{"$f":"'COVER SHEET'!$D$16&IF(MID('COVER SHEET'!$I$18,6,10)=\"december\",\"1231\",IF(MID('COVER SHEET'!$I$18,6,10)=\"june\",\"0630\"))","v":"20241231"},{"$f":"+'Outgoing Remittances (Value)'!H123","v":0}]
["CMREM_11530","KI",{"$f":"+'Outgoing Remittances (Value)'!$H$5","v":"20241231"},{"$f":"+'COVER SHEET'!$D$12","v":0},11530,{"$f":"'COVER SHEET'!$D$16&IF(MID('COVER SHEET'!$I$18,6,10)=\"december\",\"1231\",IF(MID('COVER SHEET'!$I$18,6,10)=\"june\",\"0630\"))","v":"20241231"},{"$f":"+'Outgoing Remittances (Value)'!H124","v":0}]
["CMREM_11530","KP",{"$f":"+'Outgoing Remittances (Value)'!$H$5","v":"20241231"},{"$f":"+'COVER SHEET'!$D$12","v":0},11530,{"$f":"'COVER SHEET'!$D$16&IF(MID('COVER SHEET'!$I$18,6,10)=\"december\",\"1231\",IF(MID('COVER SHEET'!$I$18,6,10)=\"june\",\"0630\"))","v":"20241231"},{"$f":"+'Outgoing Remittances (Value)'!H125","v":0}]
["CMREM_11530","KR",{"$f":"+'Outgoing Remittances (Value)'!$H$5","v":"20241231"},{"$f":"+'COVER SHEET'!$D$12","v":0},11530,{"$f":"'COVER SHEET'!$D$16&IF(MID('COVER SHEET'!$I$18,6,10)=\"december\",\"1231\",IF(MID('COVER SHEET'!$I$18,6,10)=\"june\",\"0630\"))","v":"20241231"},{"$f":"+'Outgoing Remittances (Value)'!H126","v":0}]
["CMREM_11530","XK",{"$f":"+'Outgoing Remittances (Value)'!$H$5","v":"20241231"},{"$f":"+'COVER SHEET'!$D$12","v":0},11530,{"$f":"'COVER SHEET'!$D$16&IF(MID('COVER SHEET'!$I$18,6,10)=\"december\",\"1231\",IF(MID('COVER SHEET'!$I$18,6,10)=\"june\",\"0630\"))","v":"20241231"},{"$f":"+'Outgoing Remittances (Value)'!H127","v":0}]
["CMREM_11530","KW",{"$f":"+'Outgoing Remittances (Value)'!$H$5","v":"20241231"},{"$f":"+'COVER SHEET'!$D$12","v":0},11530,{"$f":"'COVER SHEET'!$D$16&IF(MID('COVER SHEET'!$I$18,6,10)=\"december\",\"1231\",IF(MID('COVER SHEET'!$I$18,6,10)=\"june\",\"0630\"))","v":"20241231"},{"$f":"+'Outgoing Remittances (Value)'!H128","v":0}]
["CMREM_11530","KG",{"$f":"+'Outgoing Remittances (Value)'!$H$5","v":"20241231"},{"$f":"+'COVER SHEET'!$D$12","v":0},11530,{"$f":"'COVER SHEET'!$D$16&IF(MID('COVER SHEET'!$I$18,6,10)=\"december\",\"1231\",IF(MID('COVER SHEET'!$I$18,6,10)=\"june\",\"0630\"))","v":"20241231"},{"$f":"+'Outgoing Remittances (Value)'!H129","v":0}]
["CMREM_11530","LA",{"$f":"+'Outgoing Remittances (Value)'!$H$5","v":"20241231"},{"$f":"+'COVER SHEET'!$D$12","v":0},11530,{"$f":"'COVER SHEET'!$D$16&IF(MID('COVER SHEET'!$I$18,6,10)=\"december\",\"1231\",IF(MID('COVER SHEET'!$I$18,6,10)=\"june\",\"0630\"))","v":"20241231"},{"$f":"+'Outgoing Remittances (Value)'!H130","v":0}]
["CMREM_11530","LV",{"$f":"+'Outgoing Remittances (Value)'!$H$5","v":"20241231"},{"$f":"+'COVER SHEET'!$D$12","v":0},11530,{"$f":"'COVER SHEET'!$D$16&IF(MID('COVER SHEET'!$I$18,6,10)=\"december\",\"1231\",IF(MID('COVER SHEET'!$I$18,6,10)=\"june\",\"0630\"))","v":"20241231"},{"$f":"+'Outgoing Remittances (Value)'!H131","v":0}]
["CMREM_11530","LB",{"$f":"+'Outgoing Remittances (Value)'!$H$5","v":"20241231"},{"$f":"+'COVER SHEET'!$D$12","v":0},11530,{"$f":"'COVER SHEET'!$D$16&IF(MID('COVER SHEET'!$I$18,6,10)=\"december\",\"1231\",IF(MID('COVER SHEET'!$I$18,6,10)=\"june\",\"0630\"))","v":"20241231"},{"$f":"+'Outgoing Remittances (Value)'!H132","v":0}]
["CMREM_11530","LS",{"$f":"+'Outgoing Remittances (Value)'!$H$5","v":"20241231"},{"$f":"+'COVER SHEET'!$D$12","v":0},11530,{"$f":"'COVER SHEET'!$D$16&IF(MID('COVER SHEET'!$I$18,6,10)=\"december\",\"1231\",IF(MID('COVER SHEET'!$I$18,6,10)=\"june\",\"0630\"))","v":"20241231"},{"$f":"+'Outgoing Remittances (Value)'!H133","v":0}]
["CMREM_11530","LR",{"$f":"+'Outgoing Remittances (Value)'!$H$5","v":"20241231"},{"$f":"+'COVER SHEET'!$D$12","v":0},11530,{"$f":"'COVER SHEET'!$D$16&IF(MID('COVER SHEET'!$I$18,6,10)=\"december\",\"1231\",IF(MID('COVER SHEET'!$I$18,6,10)=\"june\",\"0630\"))","v":"20241231"},{"$f":"+'Outgoing Remittances (Value)'!H134","v":0}]
["CMREM_11530","LY",{"$f":"+'Outgoing Remittances (Value)'!$H$5","v":"20241231"},{"$f":"+'COVER SHEET'!$D$12","v":0},11530,{"$f":"'COVER SHEET'!$D$16&IF(MID('COVER SHEET'!$I$18,6,10)=\"december\",\"1231\",IF(MID('COVER SHEET'!$I$18,6,10)=\"june\",\"0630\"))","v":"20241231"},{"$f":"+'Outgoing Remittances (Value)'!H135","v":0}]
["CMREM_11530","LI",{"$f":"+'Outgoing Remittances (Value)'!$H$5","v":"20241231"},{"$f":"+'COVER SHEET'!$D$12","v":0},11530,{"$f":"'COVER SHEET'!$D$16&IF(MID('COVER SHEET'!$I$18,6,10)=\"december\",\"1231\",IF(MID('COVER SHEET'!$I$18,6,10)=\"june\",\"0630\"))","v":"20241231"},{"$f":"+'Outgoing Remittances (Value)'!H136","v":0}]
["CMREM_11530","LT",{"$f":"+'Outgoing Remittances (Value)'!$H$5","v":"20241231"},{"$f":"+'COVER SHEET'!$D$12","v":0},11530,{"$f":"'COVER SHEET'!$D$16&IF(MID('COVER SHEET'!$I$18,6,10)=\"december\",\"1231\",IF(MID('COVER SHEET'!$I$18,6,10)=\"june\",\"0630\"))","v":"20241231"},{"$f":"+'Outgoing Remittances (Value)'!H137","v":0}]
["CMREM_11530","LU",{"$f":"+'Outgoing Remittances (Value)'!$H$5","v":"20241231"},{"$f":"+'COVER SHEET'!$D$12","v":0},11530,{"$f":"'COVER SHEET'!$D$16&IF(MID('COVER SHEET'!$I$18,6,10)=\"december\",\"1231\",IF(MID('COVER SHEET'!$I$18,6,10)=\"june\",\"0630\"))","v":"20241231"},{"$f":"+'Outgoing Remittances (Value)'!H138","v":0}]
["CMREM_11530","MO",{"$f":"+'Outgoing Remittances (Value)'!$H$5","v":"20241231"},{"$f":"+'COVER SHEET'!$D$12","v":0},11530,{"$f":"'COVER SHEET'!$D$16&IF(MID('COVER SHEET'!$I$18,6,10)=\"december\",\"1231\",IF(MID('COVER SHEET'!$I$18,6,10)=\"june\",\"0630\"))","v":"20241231"},{"$f":"+'Outgoing Remittances (Value)'!H139","v":0}]
["CMREM_11530","MK",{"$f":"+'Outgoing Remittances (Value)'!$H$5","v":"20241231"},{"$f":"+'COVER SHEET'!$D$12","v":0},11530,{"$f":"'COVER SHEET'!$D$16&IF(MID('COVER SHEET'!$I$18,6,10)=\"december\",\"1231\",IF(MID('COVER SHEET'!$I$18,6,10)=\"june\",\"0630\"))","v":"20241231"},{"$f":"+'Outgoing Remittances (Value)'!H140","v":0}]
["CMREM_11530","MG",{"$f":"+'Outgoing Remittances (Value)'!$H$5","v":"20241231"},{"$f":"+'COVER SHEET'!$D$12","v":0},11530,{"$f":"'COVER SHEET'!$D$16&IF(MID('COVER SHEET'!$I$18,6,10)=\"december\",\"1231\",IF(MID('COVER SHEET'!$I$18,6,10)=\"june\",\"0630\"))","v":"20241231"},{"$f":"+'Outgoing Remittances (Value)'!H141","v":0}]
["CMREM_11530","MW",{"$f":"+'Outgoing Remittances (Value)'!$H$5","v":"20241231"},{"$f":"+'COVER SHEET'!$D$12","v":0},11530,{"$f":"'COVER SHEET'!$D$16&IF(MID('COVER SHEET'!$I$18,6,10)=\"december\",\"1231\",IF(MID('COVER SHEET'!$I$18,6,10)=\"june\",\"0630\"))","v":"20241231"},{"$f":"+'Outgoing Remittances (Value)'!H142","v":0}]
["CMREM_11530","MY",{"$f":"+'Outgoing Remittances (Value)'!$H$5","v":"20241231"},{"$f":"+'COVER SHEET'!$D$12","v":0},11530,{"$f":"'COVER SHEET'!$D$16&IF(MID('COVER SHEET'!$I$18,6,10)=\"december\",\"1231\",IF(MID('COVER SHEET'!$I$18,6,10)=\"june\",\"0630\"))","v":"20241231"},{"$f":"+'Outgoing Remittances (Value)'!H143","v":0}]
["CMREM_11530","MV",{"$f":"+'Outgoing Remittances (Value)'!$H$5","v":"20241231"},{"$f":"+'COVER SHEET'!$D$12","v":0},11530,{"$f":"'COVER SHEET'!$D$16&IF(MID('COVER SHEET'!$I$18,6,10)=\"december\",\"1231\",IF(MID('COVER SHEET'!$I$18,6,10)=\"june\",\"0630\"))","v":"20241231"},{"$f":"+'Outgoing Remittances (Value)'!H144","v":0}]
["CMREM_11530","ML",{"$f":"+'Outgoing Remittances (Value)'!$H$5","v":"20241231"},{"$f":"+'COVER SHEET'!$D$12","v":0},11530,{"$f":"'COVER SHEET'!$D$16&IF(MID('COVER SHEET'!$I$18,6,10)=\"december\",\"1231\",IF(MID('COVER SHEET'!$I$18,6,10)=\"june\",\"0630\"))","v":"20241231"},{"$f":"+'Outgoing Remittances (Value)'!H145","v":0}]
["CMREM_11530","MH",{"$f":"+'Outgoing Remittances (Value)'!$H$5","v":"20241231"},{"$f":"+'COVER SHEET'!$D$12","v":0},11530,{"$f":"'COVER SHEET'!$D$16&IF(MID('COVER SHEET'!$I$18,6,10)=\"december\",\"1231\",IF(MID('COVER SHEET'!$I$18,6,10)=\"june\",\"0630\"))","v":"20241231"},{"$f":"+'Outgoing Remittances (Value)'!H146","v":0}]
["CMREM_11530","MR",{"$f":"+'Outgoing Remittances (Value)'!$H$5","v":"20241231"},{"$f":"+'COVER SHEET'!$D$12","v":0},11530,{"$f":"'COVER SHEET'!$D$16&IF(MID('COVER SHEET'!$I$18,6,10)=\"december\",\"1231\",IF(MID('COVER SHEET'!$I$18,6,10)=\"june\",\"0630\"))","v":"20241231"},{"$f":"+'Outgoing Remittances (Value)'!H147","v":0}]
["CMREM_11530","MU",{"$f":"+'Outgoing Remittances (Value)'!$H$5","v":"20241231"},{"$f":"+'COVER SHEET'!$D$12","v":0},11530,{"$f":"'COVER SHEET'!$D$16&IF(MID('COVER SHEET'!$I$18,6,10)=\"december\",\"1231\",IF(MID('COVER SHEET'!$I$18,6,10)=\"june\",\"0630\"))","v":"20241231"},{"$f":"+'Outgoing Remittances (Value)'!H148","v":0}]
["CMREM_11530","MX",{"$f":"+'Outgoing Remittances (Value)'!$H$5","v":"20241231"},{"$f":"+'COVER SHEET'!$D$12","v":0},11530,{"$f":"'COVER SHEET'!$D$16&IF(MID('COVER SHEET'!$I$18,6,10)=\"december\",\"1231\",IF(MID('COVER SHEET'!$I$18,6,10)=\"june\",\"0630\"))","v":"20241231"},{"$f":"+'Outgoing Remittances (Value)'!H149","v":0}]
["CMREM_11530","FM",{"$f":"+'Outgoing Remittances (Value)'!$H$5","v":"20241231"},{"$f":"+'COVER SHEET'!$D$12","v":0},11530,{"$f":"'COVER SHEET'!$D$16&IF(MID('COVER SHEET'!$I$18,6,10)=\"december\",\"1231\",IF(MID('COVER SHEET'!$I$18,6,10)=\"june\",\"0630\"))","v":"20241231"},{"$f":"+'Outgoing Remittances (Value)'!H150","v":0}]
["CMREM_11530","MD",{"$f":"+'Outgoing Remittances (Value)'!$H$5","v":"20241231"},{"$f":"+'COVER SHEET'!$D$12","v":0},11530,{"$f":"'COVER SHEET'!$D$16&IF(MID('COVER SHEET'!$I$18,6,10)=\"december\",\"1231\",IF(MID('COVER SHEET'!$I$18,6,10)=\"june\",\"0630\"))","v":"20241231"},{"$f":"+'Outgoing Remittances (Value)'!H151","v":0}]
["CMREM_11530","MN",{"$f":"+'Outgoing Remittances (Value)'!$H$5","v":"20241231"},{"$f":"+'COVER SHEET'!$D$12","v":0},11530,{"$f":"'COVER SHEET'!$D$16&IF(MID('COVER SHEET'!$I$18,6,10)=\"december\",\"1231\",IF(MID('COVER SHEET'!$I$18,6,10)=\"june\",\"0630\"))","v":"20241231"},{"$f":"+'Outgoing Remittances (Value)'!H152","v":0}]
["CMREM_11530","ME",{"$f":"+'Outgoing Remittances (Value)'!$H$5","v":"20241231"},{"$f":"+'COVER SHEET'!$D$12","v":0},11530,{"$f":"'COVER SHEET'!$D$16&IF(MID('COVER SHEET'!$I$18,6,10)=\"december\",\"1231\",IF(MID('COVER SHEET'!$I$18,6,10)=\"june\",\"0630\"))","v":"20241231"},{"$f":"+'Outgoing Remittances (Value)'!H153","v":0}]
["CMREM_11530","MS",{"$f":"+'Outgoing Remittances (Value)'!$H$5","v":"20241231"},{"$f":"+'COVER SHEET'!$D$12","v":0},11530,{"$f":"'COVER SHEET'!$D$16&IF(MID('COVER SHEET'!$I$18,6,10)=\"december\",\"1231\",IF(MID('COVER SHEET'!$I$18,6,10)=\"june\",\"0630\"))","v":"20241231"},{"$f":"+'Outgoing Remittances (Value)'!H154","v":0}]
["CMREM_11530","MA",{"$f":"+'Outgoing Remittances (Value)'!$H$5","v":"20241231"},{"$f":"+'COVER SHEET'!$D$12","v":0},11530,{"$f":"'COVER SHEET'!$D$16&IF(MID('COVER SHEET'!$I$18,6,10)=\"december\",\"1231\",IF(MID('COVER SHEET'!$I$18,6,10)=\"june\",\"0630\"))","v":"20241231"},{"$f":"+'Outgoing Remittances (Value)'!H155","v":0}]
["CMREM_11530","MZ",{"$f":"+'Outgoing Remittances (Value)'!$H$5","v":"20241231"},{"$f":"+'COVER SHEET'!$D$12","v":0},11530,{"$f":"'COVER SHEET'!$D$16&IF(MID('COVER SHEET'!$I$18,6,10)=\"december\",\"1231\",IF(MID('COVER SHEET'!$I$18,6,10)=\"june\",\"0630\"))","v":"20241231"},{"$f":"+'Outgoing Remittances (Value)'!H156","v":0}]
["CMREM_11530","MM",{"$f":"+'Outgoing Remittances (Value)'!$H$5","v":"20241231"},{"$f":"+'COVER SHEET'!$D$12","v":0},11530,{"$f":"'COVER SHEET'!$D$16&IF(MID('COVER SHEET'!$I$18,6,10)=\"december\",\"1231\",IF(MID('COVER SHEET'!$I$18,6,10)=\"june\",\"0630\"))","v":"20241231"},{"$f":"+'Outgoing Remittances (Value)'!H157","v":0}]
["CMREM_11530","NA",{"$f":"+'Outgoing Remittances (Value)'!$H$5","v":"20241231"},{"$f":"+'COVER SHEET'!$D$12","v":0},11530,{"$f":"'COVER SHEET'!$D$16&IF(MID('COVER SHEET'!$I$18,6,10)=\"december\",\"1231\",IF(MID('COVER SHEET'!$I$18,6,10)=\"june\",\"0630\"))","v":"20241231"},{"$f":"+'Outgoing Remittances (Value)'!H158","v":0}]
["CMREM_11530","NR",{"$f":"+'Outgoing Remittances (Value)'!$H$5","v":"20241231"},{"$f":"+'COVER SHEET'!$D$12","v":0},11530,{"$f":"'COVER SHEET'!$D$16&IF(MID('COVER SHEET'!$I$18,6,10)=\"december\",\"1231\",IF(MID('COVER SHEET'!$I$18,6,10)=\"june\",\"0630\"))","v":"20241231"},{"$f":"+'Outgoing Remittances (Value)'!H159","v":0}]
["CMREM_11530","NP",{"$f":"+'Outgoing Remittances (Value)'!$H$5","v":"20241231"},{"$f":"+'COVER SHEET'!$D$12","v":0},11530,{"$f":"'COVER SHEET'!$D$16&IF(MID('COVER SHEET'!$I$18,6,10)=\"december\",\"1231\",IF(MID('COVER SHEET'!$I$18,6,10)=\"june\",\"0630\"))","v":"20241231"},{"$f":"+'Outgoing Remittances (Value)'!H160","v":0}]
["CMREM_11530","NL",{"$f":"+'Outgoing Remittances (Value)'!$H$5","v":"20241231"},{"$f":"+'COVER SHEET'!$D$12","v":0},11530,{"$f":"'COVER SHEET'!$D$16&IF(MID('COVER SHEET'!$I$18,6,10)=\"december\",\"1231\",IF(MID('COVER SHEET'!$I$18,6,10)=\"june\",\"0630\"))","v":"20241231"},{"$f":"+'Outgoing Remittances (Value)'!H161","v":0}]
["CMREM_11530","NC",{"$f":"+'Outgoing Remittances (Value)'!$H$5","v":"20241231"},{"$f":"+'COVER SHEET'!$D$12","v":0},11530,{"$f":"'COVER SHEET'!$D$16&IF(MID('COVER SHEET'!$I$18,6,10)=\"december\",\"1231\",IF(MID('COVER SHEET'!$I$18,6,10)=\"june\",\"0630\"))","v":"20241231"},{"$f":"+'Outgoing Remittances (Value)'!H162","v":0}]
["CMREM_11530","NZ",{"$f":"+'Outgoing Remittances (Value)'!$H$5","v":"20241231"},{"$f":"+'COVER SHEET'!$D$12","v":0},11530,{"$f":"'COVER SHEET'!$D$16&IF(MID('COVER SHEET'!$I$18,6,10)=\"december\",\"1231\",IF(MID('COVER SHEET'!$I$18,6,10)=\"june\",\"0630\"))","v":"20241231"},{"$f":"+'Outgoing Remittances (Value)'!H163","v":0}]
["CMREM_11530","NI",{"$f":"+'Outgoing Remittances (Value)'!$H$5","v":"20241231"},{"$f":"+'COVER SHEET'!$D$12","v":0},11530,{"$f":"'COVER SHEET'!$D$16&IF(MID('COVER SHEET'!$I$18,6,10)=\"december\",\"1231\",IF(MID('COVER SHEET'!$I$18,6,10)=\"june\",\"0630\"))","v":"20241231"},{"$f":"+'Outgoing Remittances (Value)'!H164","v":0}]
["CMREM_11530","NE",{"$f":"+'Outgoing Remittances (Value)'!$H$5","v":"20241231"},{"$f":"+'COVER SHEET'!$D$12","v":0},11530,{"$f":"'COVER SHEET'!$D$16&IF(MID('COVER SHEET'!$I$18,6,10)=\"december\",\"1231\",IF(MID('COVER SHEET'!$I$18,6,10)=\"june\",\"0630\"))","v":"20241231"},{"$f":"+'Outgoing Remittances (Value)'!H165","v":0}]
["CMREM_11530","NG",{"$f":"+'Outgoing Remittances (Value)'!$H$5","v":"20241231"},{"$f":"+'COVER SHEET'!$D$12","v":0},11530,{"$f":"'COVER SHEET'!$D$16&IF(MID('COVER SHEET'!$I$18,6,10)=\"december\",\"1231\",IF(MID('COVER SHEET'!$I$18,6,10)=\"june\",\"0630\"))","v":"20241231"},{"$f":"+'Outgoing Remittances (Value)'!H166","v":0}]
["CMREM_11530","NU",{"$f":"+'Outgoing Remittances (Value)'!$H$5","v":"20241231"},{"$f":"+'COVER SHEET'!$D$12","v":0},11530,{"$f":"'COVER SHEET'!$D$16&IF(MID('COVER SHEET'!$I$18,6,10)=\"december\",\"1231\",IF(MID('COVER SHEET'!$I$18,6,10)=\"june\",\"0630\"))","v":"20241231"},{"$f":"+'Outgoing Remittances (Value)'!H167","v":0}]
["CMREM_11530","NF",{"$f":"+'Outgoing Remittances (Value)'!$H$5","v":"20241231"},{"$f":"+'COVER SHEET'!$D$12","v":0},11530,{"$f":"'COVER SHEET'!$D$16&IF(MID('COVER SHEET'!$I$18,6,10)=\"december\",\"1231\",IF(MID('COVER SHEET'!$I$18,6,10)=\"june\",\"0630\"))","v":"20241231"},{"$f":"+'Outgoing Remittances (Value)'!H168","v":0}]
["CMREM_11530","MP",{"$f":"+'Outgoing Remittances (Value)'!$H$5","v":"20241231"},{"$f":"+'COVER SHEET'!$D$12","v":0},11530,{"$f":"'COVER SHEET'!$D$16&IF(MID('COVER SHEET'!$I$18,6,10)=\"december\",\"1231\",IF(MID('COVER SHEET'!$I$18,6,10)=\"june\",\"0630\"))","v":"20241231"},{"$f":"+'Outgoing Remittances (Value)'!H169","v":0}]
["CMREM_11530","NO",{"$f":"+'Outgoing Remittances (Value)'!$H$5","v":"20241231"},{"$f":"+'COVER SHEET'!$D$12","v":0},11530,{"$f":"'COVER SHEET'!$D$16&IF(MID('COVER SHEET'!$I$18,6,10)=\"december\",\"1231\",IF(MID('COVER SHEET'!$I$18,6,10)=\"june\",\"0630\"))","v":"20241231"},{"$f":"+'Outgoing Remittances (Value)'!H170","v":0}]
["CMREM_11530","OM",{"$f":"+'Outgoing Remittances (Value)'!$H$5","v":"20241231"},{"$f":"+'COVER SHEET'!$D$12","v":0},11530,{"$f":"'COVER SHEET'!$D$16&IF(MID('COVER SHEET'!$I$18,6,10)=\"december\",\"1231\",IF(MID('COVER SHEET'!$I$18,6,10)=\"june\",\"0630\"))","v":"20241231"},{"$f":"+'Outgoing Remittances (Value)'!H171","v":0}]
["CMREM_11530","PK",{"$f":"+'Outgoing Remittances (Value)'!$H$5","v":"20241231"},{"$f":"+'COVER SHEET'!$D$12","v":0},11530,{"$f":"'COVER SHEET'!$D$16&IF(MID('COVER SHEET'!$I$18,6,10)=\"december\",\"1231\",IF(MID('COVER SHEET'!$I$18,6,10)=\"june\",\"0630\"))","v":"20241231"},{"$f":"+'Outgoing Remittances (Value)'!H172","v":0}]
["CMREM_11530","PW",{"$f":"+'Outgoing Remittances (Value)'!$H$5","v":"20241231"},{"$f":"+'COVER SHEET'!$D$12","v":0},11530,{"$f":"'COVER SHEET'!$D$16&IF(MID('COVER SHEET'!$I$18,6,10)=\"december\",\"1231\",IF(MID('COVER SHEET'!$I$18,6,10)=\"june\",\"0630\"))","v":"20241231"},{"$f":"+'Outgoing Remittances (Value)'!H173","v":0}]
["CMREM_11530","PS",{"$f":"+'Outgoing Remittances (Value)'!$H$5","v":"20241231"},{"$f":"+'COVER SHEET'!$D$12","v":0},11530,{"$f":"'COVER SHEET'!$D$16&IF(MID('COVER SHEET'!$I$18,6,10)=\"december\",\"1231\",IF(MID('COVER SHEET'!$I$18,6,10)=\"june\",\"0630\"))","v":"20241231"},{"$f":"+'Outgoing Remittances (Value)'!H174","v":0}]
["CMREM_11530","PA",{"$f":"+'Outgoing Remittances (Value)'!$H$5","v":"20241231"},{"$f":"+'COVER SHEET'!$D$12","v":0},11530,{"$f":"'COVER SHEET'!$D$16&IF(MID('COVER SHEET'!$I$18,6,10)=\"december\",\"1231\",IF(MID('COVER SHEET'!$I$18,6,10)=\"june\",\"0630\"))","v":"20241231"},{"$f":"+'Outgoing Remittances (Value)'!H175","v":0}]
["CMREM_11530","PG",{"$f":"+'Outgoing Remittances (Value)'!$H$5","v":"20241231"},{"$f":"+'COVER SHEET'!$D$12","v":0},11530,{"$f":"'COVER SHEET'!$D$16&IF(MID('COVER SHEET'!$I$18,6,10)=\"december\",\"1231\",IF(MID('COVER SHEET'!$I$18,6,10)=\"june\",\"0630\"))","v":"20241231"},{"$f":"+'Outgoing Remittances (Value)'!H176","v":0}]
["CMREM_11530","PY",{"$f":"+'Outgoing Remittances (Value)'!$H$5","v":"20241231"},{"$f":"+'COVER SHEET'!$D$12","v":0},11530,{"$f":"'COVER SHEET'!$D$16&IF(MID('COVER SHEET'!$I$18,6,10)=\"december\",\"1231\",IF(MID('COVER SHEET'!$I$18,6,10)=\"june\",\"0630\"))","v":"20241231"},{"$f":"+'Outgoing Remittances (Value)'!H177","v":0}]
["CMREM_11530","PE",{"$f":"+'Outgoing Remittances (Value)'!$H$5","v":"20241231"},{"$f":"+'COVER SHEET'!$D$12","v":0},11530,{"$f":"'COVER SHEET'!$D$16&IF(MID('COVER SHEET'!$I$18,6,10)=\"december\",\"1231\",IF(MID('COVER SHEET'!$I$18,6,10)=\"june\",\"0630\"))","v":"20241231"},{"$f":"+'Outgoing Remittances (Value)'!H178","v":0}]
["CMREM_11530","PH",{"$f":"+'Outgoing Remittances (Value)'!$H$5","v":"20241231"},{"$f":"+'COVER SHEET'!$D$12","v":0},11530,{"$f":"'COVER SHEET'!$D$16&IF(MID('COVER SHEET'!$I$18,6,10)=\"december\",\"1231\",IF(MID('COVER SHEET'!$I$18,6,10)=\"june\",\"0630\"))","v":"20241231"},{"$f":"+'Outgoing Remittances (Value)'!H179","v":0}]
["CMREM_11530","PN",{"$f":"+'Outgoing Remittances (Value)'!$H$5","v":"20241231"},{"$f":"+'COVER SHEET'!$D$12","v":0},11530,{"$f":"'COVER SHEET'!$D$16&IF(MID('COVER SHEET'!$I$18,6,10)=\"december\",\"1231\",IF(MID('COVER SHEET'!$I$18,6,10)=\"june\",\"0630\"))","v":"20241231"},{"$f":"+'Outgoing Remittances (Value)'!H180","v":0}]
["CMREM_11530","PL",{"$f":"+'Outgoing Remittances (Value)'!$H$5","v":"20241231"},{"$f":"+'COVER SHEET'!$D$12","v":0},11530,{"$f":"'COVER SHEET'!$D$16&IF(MID('COVER SHEET'!$I$18,6,10)=\"december\",\"1231\",IF(MID('COVER SHEET'!$I$18,6,10)=\"june\",\"0630\"))","v":"20241231"},{"$f":"+'Outgoing Remittances (Value)'!H181","v":0}]
["CMREM_11530","PT",{"$f":"+'Outgoing Remittances (Value)'!$H$5","v":"20241231"},{"$f":"+'COVER SHEET'!$D$12","v":0},11530,{"$f":"'COVER SHEET'!$D$16&IF(MID('COVER SHEET'!$I$18,6,10)=\"december\",\"1231\",IF(MID('COVER SHEET'!$I$18,6,10)=\"june\",\"0630\"))","v":"20241231"},{"$f":"+'Outgoing Remittances (Value)'!H182","v":0}]
["CMREM_11530","QA",{"$f":"+'Outgoing Remittances (Value)'!$H$5","v":"20241231"},{"$f":"+'COVER SHEET'!$D$12","v":0},11530,{"$f":"'COVER SHEET'!$D$16&IF(MID('COVER SHEET'!$I$18,6,10)=\"december\",\"1231\",IF(MID('COVER SHEET'!$I$18,6,10)=\"june\",\"0630\"))","v":"20241231"},{"$f":"+'Outgoing Remittances (Value)'!H183","v":0}]
["CMREM_11530","RO",{"$f":"+'Outgoing Remittances (Value)'!$H$5","v":"20241231"},{"$f":"+'COVER SHEET'!$D$12","v":0},11530,{"$f":"'COVER SHEET'!$D$16&IF(MID('COVER SHEET'!$I$18,6,10)=\"december\",\"1231\",IF(MID('COVER SHEET'!$I$18,6,10)=\"june\",\"0630\"))","v":"20241231"},{"$f":"+'Outgoing Remittances (Value)'!H184","v":0}]
["CMREM_11530","RU",{"$f":"+'Outgoing Remittances (Value)'!$H$5","v":"20241231"},{"$f":"+'COVER SHEET'!$D$12","v":0},11530,{"$f":"'COVER SHEET'!$D$16&IF(MID('COVER SHEET'!$I$18,6,10)=\"december\",\"1231\",IF(MID('COVER SHEET'!$I$18,6,10)=\"june\",\"0630\"))","v":"20241231"},{"$f":"+'Outgoing Remittances (Value)'!H185","v":0}]
["CMREM_11530","RW",{"$f":"+'Outgoing Remittances (Value)'!$H$5","v":"20241231"},{"$f":"+'COVER SHEET'!$D$12","v":0},11530,{"$f":"'COVER SHEET'!$D$16&IF(MID('COVER SHEET'!$I$18,6,10)=\"december\",\"1231\",IF(MID('COVER SHEET'!$I$18,6,10)=\"june\",\"0630\"))","v":"20241231"},{"$f":"+'Outgoing Remittances (Value)'!H186","v":0}]
["CMREM_11530","SH",{"$f":"+'Outgoing Remittances (Value)'!$H$5","v":"20241231"},{"$f":"+'COVER SHEET'!$D$12","v":0},11530,{"$f":"'COVER SHEET'!$D$16&IF(MID('COVER SHEET'!$I$18,6,10)=\"december\",\"1231\",IF(MID('COVER SHEET'!$I$18,6,10)=\"june\",\"0630\"))","v":"20241231"},{"$f":"+'Outgoing Remittances (Value)'!H187","v":0}]
["CMREM_11530","KN",{"$f":"+'Outgoing Remittances (Value)'!$H$5","v":"20241231"},{"$f":"+'COVER SHEET'!$D$12","v":0},11530,{"$f":"'COVER SHEET'!$D$16&IF(MID('COVER SHEET'!$I$18,6,10)=\"december\",\"1231\",IF(MID('COVER SHEET'!$I$18,6,10)=\"june\",\"0630\"))","v":"20241231"},{"$f":"+'Outgoing Remittances (Value)'!H188","v":0}]
["CMREM_11530","LC",{"$f":"+'Outgoing Remittances (Value)'!$H$5","v":"20241231"},{"$f":"+'COVER SHEET'!$D$12","v":0},11530,{"$f":"'COVER SHEET'!$D$16&IF(MID('COVER SHEET'!$I$18,6,10)=\"december\",\"1231\",IF(MID('COVER SHEET'!$I$18,6,10)=\"june\",\"0630\"))","v":"20241231"},{"$f":"+'Outgoing Remittances (Value)'!H189","v":0}]
["CMREM_11530","VC",{"$f":"+'Outgoing Remittances (Value)'!$H$5","v":"20241231"},{"$f":"+'COVER SHEET'!$D$12","v":0},11530,{"$f":"'COVER SHEET'!$D$16&IF(MID('COVER SHEET'!$I$18,6,10)=\"december\",\"1231\",IF(MID('COVER SHEET'!$I$18,6,10)=\"june\",\"0630\"))","v":"20241231"},{"$f":"+'Outgoing Remittances (Value)'!H190","v":0}]
["CMREM_11530","WS",{"$f":"+'Outgoing Remittances (Value)'!$H$5","v":"20241231"},{"$f":"+'COVER SHEET'!$D$12","v":0},11530,{"$f":"'COVER SHEET'!$D$16&IF(MID('COVER SHEET'!$I$18,6,10)=\"december\",\"1231\",IF(MID('COVER SHEET'!$I$18,6,10)=\"june\",\"0630\"))","v":"20241231"},{"$f":"+'Outgoing Remittances (Value)'!H191","v":0}]
["CMREM_11530","SM",{"$f":"+'Outgoing Remittances (Value)'!$H$5","v":"20241231"},{"$f":"+'COVER SHEET'!$D$12","v":0},11530,{"$f":"'COVER SHEET'!$D$16&IF(MID('COVER SHEET'!$I$18,6,10)=\"december\",\"1231\",IF(MID('COVER SHEET'!$I$18,6,10)=\"june\",\"0630\"))","v":"20241231"},{"$f":"+'Outgoing Remittances (Value)'!H192","v":0}]
["CMREM_11530","ST",{"$f":"+'Outgoing Remittances (Value)'!$H$5","v":"20241231"},{"$f":"+'COVER SHEET'!$D$12","v":0},11530,{"$f":"'COVER SHEET'!$D$16&IF(MID('COVER SHEET'!$I$18,6,10)=\"december\",\"1231\",IF(MID('COVER SHEET'!$I$18,6,10)=\"june\",\"0630\"))","v":"20241231"},{"$f":"+'Outgoing Remittances (Value)'!H193","v":0}]
["CMREM_11530","SA",{"$f":"+'Outgoing Remittances (Value)'!$H$5","v":"20241231"},{"$f":"+'COVER SHEET'!$D$12","v":0},11530,{"$f":"'COVER SHEET'!$D$16&IF(MID('COVER SHEET'!$I$18,6,10)=\"december\",\"1231\",IF(MID('COVER SHEET'!$I$18,6,10)=\"june\",\"0630\"))","v":"20241231"},{"$f":"+'Outgoing Remittances (Value)'!H194","v":0}]
["CMREM_11530","SN",{"$f":"+'Outgoing Remittances (Value)'!$H$5","v":"20241231"},{"$f":"+'COVER SHEET'!$D$12","v":0},11530,{"$f":"'COVER SHEET'!$D$16&IF(MID('COVER SHEET'!$I$18,6,10)=\"december\",\"1231\",IF(MID('COVER SHEET'!$I$18,6,10)=\"june\",\"0630\"))","v":"20241231"},{"$f":"+'Outgoing Remittances (Value)'!H195","v":0}]
["CMREM_11530","RS",{"$f":"+'Outgoing Remittances (Value)'!$H$5","v":"20241231"},{"$f":"+'COVER SHEET'!$D$12","v":0},11530,{"$f":"'COVER SHEET'!$D$16&IF(MID('COVER SHEET'!$I$18,6,10)=\"december\",\"1231\",IF(MID('COVER SHEET'!$I$18,6,10)=\"june\",\"0630\"))","v":"20241231"},{"$f":"+'Outgoing Remittances (Value)'!H196","v":0}]
["CMREM_11530","SC",{"$f":"+'Outgoing Remittances (Value)'!$H$5","v":"20241231"},{"$f":"+'COVER SHEET'!$D$12","v":0},11530,{"$f":"'COVER SHEET'!$D$16&IF(MID('COVER SHEET'!$I$18,6,10)=\"december\",\"1231\",IF(MID('COVER SHEET'!$I$18,6,10)=\"june\",\"0630\"))","v":"20241231"},{"$f":"+'Outgoing Remittances (Value)'!H197","v":0}]
["CMREM_11530","SL",{"$f":"+'Outgoing Remittances (Value)'!$H$5","v":"20241231"},{"$f":"+'COVER SHEET'!$D$12","v":0},11530,{"$f":"'COVER SHEET'!$D$16&IF(MID('COVER SHEET'!$I$18,6,10)=\"december\",\"1231\",IF(MID('COVER SHEET'!$I$18,6,10)=\"june\",\"0630\"))","v":"20241231"},{"$f":"+'Outgoing Remittances (Value)'!H198","v":0}]
["CMREM_11530","SG",{"$f":"+'Outgoing Remittances (Value)'!$H$5","v":"20241231"},{"$f":"+'COVER SHEET'!$D$12","v":0},11530,{"$f":"'COVER SHEET'!$D$16&IF(MID('COVER SHEET'!$I$18,6,10)=\"december\",\"1231\",IF(MID('COVER SHEET'!$I$18,6,10)=\"june\",\"0630\"))","v":"20241231"},{"$f":"+'Outgoing Remittances (Value)'!H199","v":0}]
["CMREM_11530","SX",{"$f":"+'Outgoing Remittances (Value)'!$H$5","v":"20241231"},{"$f":"+'COVER SHEET'!$D$12","v":0},11530,{"$f":"'COVER SHEET'!$D$16&IF(MID('COVER SHEET'!$I$18,6,10)=\"december\",\"1231\",IF(MID('COVER SHEET'!$I$18,6,10)=\"june\",\"0630\"))","v":"20241231"},{"$f":"+'Outgoing Remittances (Value)'!H200","v":0}]
["CMREM_11530","SK",{"$f":"+'Outgoing Remittances (Value)'!$H$5","v":"20241231"},{"$f":"+'COVER SHEET'!$D$12","v":0},11530,{"$f":"'COVER SHEET'!$D$16&IF(MID('COVER SHEET'!$I$18,6,10)=\"december\",\"1231\",IF(MID('COVER SHEET'!$I$18,6,10)=\"june\",\"0630\"))","v":"20241231"},{"$f":"+'Outgoing Remittances (Value)'!H201","v":0}]
["CMREM_11530","SI",{"$f":"+'Outgoing Remittances (Value)'!$H$5","v":"20241231"},{"$f":"+'COVER SHEET'!$D$12","v":0},11530,{"$f":"'COVER SHEET'!$D$16&IF(MID('COVER SHEET'!$I$18,6,10)=\"december\",\"1231\",IF(MID('COVER SHEET'!$I$18,6,10)=\"june\",\"0630\"))","v":"20241231"},{"$f":"+'Outgoing Remittances (Value)'!H202","v":0}]
["CMREM_11530","SB",{"$f":"+'Outgoing Remittances (Value)'!$H$5","v":"20241231"},{"$f":"+'COVER SHEET'!$D$12","v":0},11530,{"$f":"'COVER SHEET'!$D$16&IF(MID('COVER SHEET'!$I$18,6,10)=\"december\",\"1231\",IF(MID('COVER SHEET'!$I$18,6,10)=\"june\",\"0630\"))","v":"20241231"},{"$f":"+'Outgoing Remittances (Value)'!H203","v":0}]
["CMREM_11530","SO",{"$f":"+'Outgoing Remittances (Value)'!$H$5","v":"20241231"},{"$f":"+'COVER SHEET'!$D$12","v":0},11530,{"$f":"'COVER SHEET'!$D$16&IF(MID('COVER SHEET'!$I$18,6,10)=\"december\",\"1231\",IF(MID('COVER SHEET'!$I$18,6,10)=\"june\",\"0630\"))","v":"20241231"},{"$f":"+'Outgoing Remittances (Value)'!H204","v":0}]
["CMREM_11530","ZA",{"$f":"+'Outgoing Remittances (Value)'!$H$5","v":"20241231"},{"$f":"+'COVER SHEET'!$D$12","v":0},11530,{"$f":"'COVER SHEET'!$D$16&IF(MID('COVER SHEET'!$I$18,6,10)=\"december\",\"1231\",IF(MID('COVER SHEET'!$I$18,6,10)=\"june\",\"0630\"))","v":"20241231"},{"$f":"+'Outgoing Remittances (Value)'!H205","v":0}]
["CMREM_11530","GS",{"$f":"+'Outgoing Remittances (Value)'!$H$5","v":"20241231"},{"$f":"+'COVER SHEET'!$D$12","v":0},11530,{"$f":"'COVER SHEET'!$D$16&IF(MID('COVER SHEET'!$I$18,6,10)=\"december\",\"1231\",IF(MID('COVER SHEET'!$I$18,6,10)=\"june\",\"0630\"))","v":"20241231"},{"$f":"+'Outgoing Remittances (Value)'!H206","v":0}]
["CMREM_11530","SS",{"$f":"+'Outgoing Remittances (Value)'!$H$5","v":"20241231"},{"$f":"+'COVER SHEET'!$D$12","v":0},11530,{"$f":"'COVER SHEET'!$D$16&IF(MID('COVER SHEET'!$I$18,6,10)=\"december\",\"1231\",IF(MID('COVER SHEET'!$I$18,6,10)=\"june\",\"0630\"))","v":"20241231"},{"$f":"+'Outgoing Remittances (Value)'!H207","v":0}]
["CMREM_11530","ES",{"$f":"+'Outgoing Remittances (Value)'!$H$5","v":"20241231"},{"$f":"+'COVER SHEET'!$D$12","v":0},11530,{"$f":"'COVER SHEET'!$D$16&IF(MID('COVER SHEET'!$I$18,6,10)=\"december\",\"1231\",IF(MID('COVER SHEET'!$I$18,6,10)=\"june\",\"0630\"))","v":"20241231"},{"$f":"+'Outgoing Remittances (Value)'!H208","v":0}]
["CMREM_11530","LK",{"$f":"+'Outgoing Remittances (Value)'!$H$5","v":"20241231"},{"$f":"+'COVER SHEET'!$D$12","v":0},11530,{"$f":"'COVER SHEET'!$D$16&IF(MID('COVER SHEET'!$I$18,6,10)=\"december\",\"1231\",IF(MID('COVER SHEET'!$I$18,6,10)=\"june\",\"0630\"))","v":"20241231"},{"$f":"+'Outgoing Remittances (Value)'!H209","v":0}]
["CMREM_11530","SD",{"$f":"+'Outgoing Remittances (Value)'!$H$5","v":"20241231"},{"$f":"+'COVER SHEET'!$D$12","v":0},11530,{"$f":"'COVER SHEET'!$D$16&IF(MID('COVER SHEET'!$I$18,6,10)=\"december\",\"1231\",IF(MID('COVER SHEET'!$I$18,6,10)=\"june\",\"0630\"))","v":"20241231"},{"$f":"+'Outgoing Remittances (Value)'!H210","v":0}]
["CMREM_11530","SR",{"$f":"+'Outgoing Remittances (Value)'!$H$5","v":"20241231"},{"$f":"+'COVER SHEET'!$D$12","v":0},11530,{"$f":"'COVER SHEET'!$D$16&IF(MID('COVER SHEET'!$I$18,6,10)=\"december\",\"1231\",IF(MID('COVER SHEET'!$I$18,6,10)=\"june\",\"0630\"))","v":"20241231"},{"$f":"+'Outgoing Remittances (Value)'!H211","v":0}]
["CMREM_11530","SZ",{"$f":"+'Outgoing Remittances (Value)'!$H$5","v":"20241231"},{"$f":"+'COVER SHEET'!$D$12","v":0},11530,{"$f":"'COVER SHEET'!$D$16&IF(MID('COVER SHEET'!$I$18,6,10)=\"december\",\"1231\",IF(MID('COVER SHEET'!$I$18,6,10)=\"june\",\"0630\"))","v":"20241231"},{"$f":"+'Outgoing Remittances (Value)'!H212","v":0}]
["CMREM_11530","SE",{"$f":"+'Outgoing Remittances (Value)'!$H$5","v":"20241231"},{"$f":"+'COVER SHEET'!$D$12","v":0},11530,{"$f":"'COVER SHEET'!$D$16&IF(MID('COVER SHEET'!$I$18,6,10)=\"december\",\"1231\",IF(MID('COVER SHEET'!$I$18,6,10)=\"june\",\"0630\"))","v":"20241231"},{"$f":"+'Outgoing Remittances (Value)'!H213","v":0}]
["CMREM_11530","CH",{"$f":"+'Outgoing Remittances (Value)'!$H$5","v":"20241231"},{"$f":"+'COVER SHEET'!$D$12","v":0},11530,{"$f":"'COVER SHEET'!$D$16&IF(MID('COVER SHEET'!$I$18,6,10)=\"december\",\"1231\",IF(MID('COVER SHEET'!$I$18,6,10)=\"june\",\"0630\"))","v":"20241231"},{"$f":"+'Outgoing Remittances (Value)'!H214","v":0}]
["CMREM_11530","SY",{"$f":"+'Outgoing Remittances (Value)'!$H$5","v":"20241231"},{"$f":"+'COVER SHEET'!$D$12","v":0},11530,{"$f":"'COVER SHEET'!$D$16&IF(MID('COVER SHEET'!$I$18,6,10)=\"december\",\"1231\",IF(MID('COVER SHEET'!$I$18,6,10)=\"june\",\"0630\"))","v":"20241231"},{"$f":"+'Outgoing Remittances (Value)'!H215","v":0}]
["CMREM_11530","TW",{"$f":"+'Outgoing Remittances (Value)'!$H$5","v":"20241231"},{"$f":"+'COVER SHEET'!$D$12","v":0},11530,{"$f":"'COVER SHEET'!$D$16&IF(MID('COVER SHEET'!$I$18,6,10)=\"december\",\"1231\",IF(MID('COVER SHEET'!$I$18,6,10)=\"june\",\"0630\"))","v":"20241231"},{"$f":"+'Outgoing Remittances (Value)'!H216","v":0}]
["CMREM_11530","TJ",{"$f":"+'Outgoing Remittances (Value)'!$H$5","v":"20241231"},{"$f":"+'COVER SHEET'!$D$12","v":0},11530,{"$f":"'COVER SHEET'!$D$16&IF(MID('COVER SHEET'!$I$18,6,10)=\"december\",\"1231\",IF(MID('COVER SHEET'!$I$18,6,10)=\"june\",\"0630\"))","v":"20241231"},{"$f":"+'Outgoing Remittances (Value)'!H217","v":0}]
["CMREM_11530","TZ",{"$f":"+'Outgoing Remittances (Value)'!$H$5","v":"20241231"},{"$f":"+'COVER SHEET'!$D$12","v":0},11530,{"$f":"'COVER SHEET'!$D$16&IF(MID('COVER SHEET'!$I$18,6,10)=\"december\",\"1231\",IF(MID('COVER SHEET'!$I$18,6,10)=\"june\",\"0630\"))","v":"20241231"},{"$f":"+'Outgoing Remittances (Value)'!H218","v":0}]
["CMREM_11530","TH",{"$f":"+'Outgoing Remittances (Value)'!$H$5","v":"20241231"},{"$f":"+'COVER SHEET'!$D$12","v":0},11530,{"$f":"'COVER SHEET'!$D$16&IF(MID('COVER SHEET'!$I$18,6,10)=\"december\",\"1231\",IF(MID('COVER SHEET'!$I$18,6,10)=\"june\",\"0630\"))","v":"20241231"},{"$f":"+'Outgoing Remittances (Value)'!H219","v":0}]
["CMREM_11530","TG",{"$f":"+'Outgoing Remittances (Value)'!$H$5","v":"20241231"},{"$f":"+'COVER SHEET'!$D$12","v":0},11530,{"$f":"'COVER SHEET'!$D$16&IF(MID('COVER SHEET'!$I$18,6,10)=\"december\",\"1231\",IF(MID('COVER SHEET'!$I$18,6,10)=\"june\",\"0630\"))","v":"20241231"},{"$f":"+'Outgoing Remittances (Value)'!H220","v":0}]
["CMREM_11530","TK",{"$f":"+'Outgoing Remittances (Value)'!$H$5","v":"20241231"},{"$f":"+'COVER SHEET'!$D$12","v":0},11530,{"$f":"'COVER SHEET'!$D$16&IF(MID('COVER SHEET'!$I$18,6,10)=\"december\",\"1231\",IF(MID('COVER SHEET'!$I$18,6,10)=\"june\",\"0630\"))","v":"20241231"},{"$f":"+'Outgoing Remittances (Value)'!H221","v":0}]
["CMREM_11530","TO",{"$f":"+'Outgoing Remittances (Value)'!$H$5","v":"20241231"},{"$f":"+'COVER SHEET'!$D$12","v":0},11530,{"$f":"'COVER SHEET'!$D$16&IF(MID('COVER SHEET'!$I$18,6,10)=\"december\",\"1231\",IF(MID('COVER SHEET'!$I$18,6,10)=\"june\",\"0630\"))","v":"20241231"},{"$f":"+'Outgoing Remittances (Value)'!H222","v":0}]
["CMREM_11530","TT",{"$f":"+'Outgoing Remittances (Value)'!$H$5","v":"20241231"},{"$f":"+'COVER SHEET'!$D$12","v":0},11530,{"$f":"'COVER SHEET'!$D$16&IF(MID('COVER SHEET'!$I$18,6,10)=\"december\",\"1231\",IF(MID('COVER SHEET'!$I$18,6,10)=\"june\",\"0630\"))","v":"20241231"},{"$f":"+'Outgoing Remittances (Value)'!H223","v":0}]
["CMREM_11530","TN",{"$f":"+'Outgoing Remittances (Value)'!$H$5","v":"20241231"},{"$f":"+'COVER SHEET'!$D$12","v":0},11530,{"$f":"'COVER SHEET'!$D$16&IF(MID('COVER SHEET'!$I$18,6,10)=\"december\",\"1231\",IF(MID('COVER SHEET'!$I$18,6,10)=\"june\",\"0630\"))","v":"20241231"},{"$f":"+'Outgoing Remittances (Value)'!H224","v":0}]
["CMREM_11530","TR",{"$f":"+'Outgoing Remittances (Value)'!$H$5","v":"20241231"},{"$f":"+'COVER SHEET'!$D$12","v":0},11530,{"$f":"'COVER SHEET'!$D$16&IF(MID('COVER SHEET'!$I$18,6,10)=\"december\",\"1231\",IF(MID('COVER SHEET'!$I$18,6,10)=\"june\",\"0630\"))","v":"20241231"},{"$f":"+'Outgoing Remittances (Value)'!H225","v":0}]
["CMREM_11530","TM",{"$f":"+'Outgoing Remittances (Value)'!$H$5","v":"20241231"},{"$f":"+'COVER SHEET'!$D$12","v":0},11530,{"$f":"'COVER SHEET'!$D$16&IF(MID('COVER SHEET'!$I$18,6,10)=\"december\",\"1231\",IF(MID('COVER SHEET'!$I$18,6,10)=\"june\",\"0630\"))","v":"20241231"},{"$f":"+'Outgoing Remittances (Value)'!H226","v":0}]
["CMREM_11530","TC",{"$f":"+'Outgoing Remittances (Value)'!$H$5","v":"20241231"},{"$f":"+'COVER SHEET'!$D$12","v":0},11530,{"$f":"'COVER SHEET'!$D$16&IF(MID('COVER SHEET'!$I$18,6,10)=\"december\",\"1231\",IF(MID('COVER SHEET'!$I$18,6,10)=\"june\",\"0630\"))","v":"20241231"},{"$f":"+'Outgoing Remittances (Value)'!H227","v":0}]
["CMREM_11530","TV",{"$f":"+'Outgoing Remittances (Value)'!$H$5","v":"20241231"},{"$f":"+'COVER SHEET'!$D$12","v":0},11530,{"$f":"'COVER SHEET'!$D$16&IF(MID('COVER SHEET'!$I$18,6,10)=\"december\",\"1231\",IF(MID('COVER SHEET'!$I$18,6,10)=\"june\",\"0630\"))","v":"20241231"},{"$f":"+'Outgoing Remittances (Value)'!H228","v":0}]
["CMREM_11530","UG",{"$f":"+'Outgoing Remittances (Value)'!$H$5","v":"20241231"},{"$f":"+'COVER SHEET'!$D$12","v":0},11530,{"$f":"'COVER SHEET'!$D$16&IF(MID('COVER SHEET'!$I$18,6,10)=\"december\",\"1231\",IF(MID('COVER SHEET'!$I$18,6,10)=\"june\",\"0630\"))","v":"20241231"},{"$f":"+'Outgoing Remittances (Value)'!H229","v":0}]
["CMREM_11530","UA",{"$f":"+'Outgoing Remittances (Value)'!$H$5","v":"20241231"},{"$f":"+'COVER SHEET'!$D$12","v":0},11530,{"$f":"'COVER SHEET'!$D$16&IF(MID('COVER SHEET'!$I$18,6,10)=\"december\",\"1231\",IF(MID('COVER SHEET'!$I$18,6,10)=\"june\",\"0630\"))","v":"20241231"},{"$f":"+'Outgoing Remittances (Value)'!H230","v":0}]
["CMREM_11530","AE",{"$f":"+'Outgoing Remittances (Value)'!$H$5","v":"20241231"},{"$f":"+'COVER SHEET'!$D$12","v":0},11530,{"$f":"'COVER SHEET'!$D$16&IF(MID('COVER SHEET'!$I$18,6,10)=\"december\",\"1231\",IF(MID('COVER SHEET'!$I$18,6,10)=\"june\",\"0630\"))","v":"20241231"},{"$f":"+'Outgoing Remittances (Value)'!H231","v":0}]
["CMREM_11530","GB",{"$f":"+'Outgoing Remittances (Value)'!$H$5","v":"20241231"},{"$f":"+'COVER SHEET'!$D$12","v":0},11530,{"$f":"'COVER SHEET'!$D$16&IF(MID('COVER SHEET'!$I$18,6,10)=\"december\",\"1231\",IF(MID('COVER SHEET'!$I$18,6,10)=\"june\",\"0630\"))","v":"20241231"},{"$f":"+'Outgoing Remittances (Value)'!H232","v":0}]
["CMREM_11530","US",{"$f":"+'Outgoing Remittances (Value)'!$H$5","v":"20241231"},{"$f":"+'COVER SHEET'!$D$12","v":0},11530,{"$f":"'COVER SHEET'!$D$16&IF(MID('COVER SHEET'!$I$18,6,10)=\"december\",\"1231\",IF(MID('COVER SHEET'!$I$18,6,10)=\"june\",\"0630\"))","v":"20241231"},{"$f":"+'Outgoing Remittances (Value)'!H233","v":0}]
["CMREM_11530","UY",{"$f":"+'Outgoing Remittances (Value)'!$H$5","v":"20241231"},{"$f":"+'COVER SHEET'!$D$12","v":0},11530,{"$f":"'COVER SHEET'!$D$16&IF(MID('COVER SHEET'!$I$18,6,10)=\"december\",\"1231\",IF(MID('COVER SHEET'!$I$18,6,10)=\"june\",\"0630\"))","v":"20241231"},{"$f":"+'Outgoing Remittances (Value)'!H234","v":0}]
["CMREM_11530","UM",{"$f":"+'Outgoing Remittances (Value)'!$H$5","v":"20241231"},{"$f":"+'COVER SHEET'!$D$12","v":0},11530,{"$f":"'COVER SHEET'!$D$16&IF(MID('COVER SHEET'!$I$18,6,10)=\"december\",\"1231\",IF(MID('COVER SHEET'!$I$18,6,10)=\"june\",\"0630\"))","v":"20241231"},{"$f":"+'Outgoing Remittances (Value)'!H235","v":0}]
["CMREM_11530","UZ",{"$f":"+'Outgoing Remittances (Value)'!$H$5","v":"20241231"},{"$f":"+'COVER SHEET'!$D$12","v":0},11530,{"$f":"'COVER SHEET'!$D$16&IF(MID('COVER SHEET'!$I$18,6,10)=\"december\",\"1231\",IF(MID('COVER SHEET'!$I$18,6,10)=\"june\",\"0630\"))","v":"20241231"},{"$f":"+'Outgoing Remittances (Value)'!H236","v":0}]
["CMREM_11530","VU",{"$f":"+'Outgoing Remittances (Value)'!$H$5","v":"20241231"},{"$f":"+'COVER SHEET'!$D$12","v":0},11530,{"$f":"'COVER SHEET'!$D$16&IF(MID('COVER SHEET'!$I$18,6,10)=\"december\",\"1231\",IF(MID('COVER SHEET'!$I$18,6,10)=\"june\",\"0630\"))","v":"20241231"},{"$f":"+'Outgoing Remittances (Value)'!H237","v":0}]
["CMREM_11530","VE",{"$f":"+'Outgoing Remittances (Value)'!$H$5","v":"20241231"},{"$f":"+'COVER SHEET'!$D$12","v":0},11530,{"$f":"'COVER SHEET'!$D$16&IF(MID('COVER SHEET'!$I$18,6,10)=\"december\",\"1231\",IF(MID('COVER SHEET'!$I$18,6,10)=\"june\",\"0630\"))","v":"20241231"},{"$f":"+'Outgoing Remittances (Value)'!H238","v":0}]
["CMREM_11530","VN",{"$f":"+'Outgoing Remittances (Value)'!$H$5","v":"20241231"},{"$f":"+'COVER SHEET'!$D$12","v":0},11530,{"$f":"'COVER SHEET'!$D$16&IF(MID('COVER SHEET'!$I$18,6,10)=\"december\",\"1231\",IF(MID('COVER SHEET'!$I$18,6,10)=\"june\",\"0630\"))","v":"20241231"},{"$f":"+'Outgoing Remittances (Value)'!H239","v":0}]
["CMREM_11530","VI",{"$f":"+'Outgoing Remittances (Value)'!$H$5","v":"20241231"},{"$f":"+'COVER SHEET'!$D$12","v":0},11530,{"$f":"'COVER SHEET'!$D$16&IF(MID('COVER SHEET'!$I$18,6,10)=\"december\",\"1231\",IF(MID('COVER SHEET'!$I$18,6,10)=\"june\",\"0630\"))","v":"20241231"},{"$f":"+'Outgoing Remittances (Value)'!H240","v":0}]
["CMREM_11530","WF",{"$f":"+'Outgoing Remittances (Value)'!$H$5","v":"20241231"},{"$f":"+'COVER SHEET'!$D$12","v":0},11530,{"$f":"'COVER SHEET'!$D$16&IF(MID('COVER SHEET'!$I$18,6,10)=\"december\",\"1231\",IF(MID('COVER SHEET'!$I$18,6,10)=\"june\",\"0630\"))","v":"20241231"},{"$f":"+'Outgoing Remittances (Value)'!H241","v":0}]
["CMREM_11530","YE",{"$f":"+'Outgoing Remittances (Value)'!$H$5","v":"20241231"},{"$f":"+'COVER SHEET'!$D$12","v":0},11530,{"$f":"'COVER SHEET'!$D$16&IF(MID('COVER SHEET'!$I$18,6,10)=\"december\",\"1231\",IF(MID('COVER SHEET'!$I$18,6,10)=\"june\",\"0630\"))","v":"20241231"},{"$f":"+'Outgoing Remittances (Value)'!H242","v":0}]
["CMREM_11530","ZM",{"$f":"+'Outgoing Remittances (Value)'!$H$5","v":"20241231"},{"$f":"+'COVER SHEET'!$D$12","v":0},11530,{"$f":"'COVER SHEET'!$D$16&IF(MID('COVER SHEET'!$I$18,6,10)=\"december\",\"1231\",IF(MID('COVER SHEET'!$I$18,6,10)=\"june\",\"0630\"))","v":"20241231"},{"$f":"+'Outgoing Remittances (Value)'!H243","v":0}]
["CMREM_11530","ZW",{"$f":"+'Outgoing Remittances (Value)'!$H$5","v":"20241231"},{"$f":"+'COVER SHEET'!$D$12","v":0},11530,{"$f":"'COVER SHEET'!$D$16&IF(MID('COVER SHEET'!$I$18,6,10)=\"december\",\"1231\",IF(MID('COVER SHEET'!$I$18,6,10)=\"june\",\"0630\"))","v":"20241231"},{"$f":"+'Outgoing Remittances (Value)'!H244","v":0}]